{"text_format":"1","workbook":"xlsx","n_sheets":13,"sheets":["Notes","Control Sheet","MIS - Pharmacy","MIS - Appliance","MIS - Abated","MIS - Cross Boundary","Workings","OOPE","NMS","Staff Hours","MUR","Glossary","Sheet1"],"not_rendered":{"charts":8,"images":2,"macros":1,"external_links":0,"defined_names":8,"comments":0,"pivot_tables":8},"unopened":[],"bounds":{"document_bytes":16777216,"sheet_cells":100000,"rows_first":2000,"rows_last":500,"rows_between":2000,"halvings":0,"cell_chars":16384,"cell_head_chars":4096},"cells_cut":0,"cells_raw":0,"read":"whole","date_system":"1900"}

{"sheet":"Notes","index":0,"n_rows":24,"n_cols":17,"rows_kept":24,"cut":false,"hidden":false,"merged":[[23,0,27,3],[13,0,13,15],[17,0,21,3]]}
[]
[]
[]
[]
[]
[]
[]
[]
[]
[]
[]
[]
[]
["Pharmacy Framework Toolbox",null,null,null,null,null,null,null,null,null,null,null,null,null,null,null,{"$f":"IF(ISBLANK('MIS - Pharmacy'!A1),\"No MIS\",\"Area Team - \"&'MIS - Pharmacy'!A1)","v":"No MIS"}]
["Please Import any relevant MIS Data then select a Pharmacy Summary Report or MIS datasheet below:",null,null,null,null,null,null,null,null,null,null,null,null,null,null,null,{"$f":"IF(ISBLANK('MIS - Pharmacy'!B1),\"Currently Imported\",\"Month Imported - \"&'MIS - Pharmacy'!B1)","v":"Currently Imported"}]
[]
[]
["Pharmacy Summary Reports:"]
[]
[]
[]
[]
[]
["MIS\nDatasheets:"]

{"sheet":"Control Sheet","index":1,"n_rows":2,"n_cols":131,"rows_kept":2,"cut":false,"hidden":true,"merged":[[0,9,0,29],[0,31,0,35],[0,36,0,43],[0,45,0,60],[0,111,0,114],[0,117,0,121],[0,122,0,125],[0,126,0,130],[0,61,0,64],[0,65,0,67],[0,68,0,88],[0,89,0,92],[0,97,0,109]]}
["",null,null,null,null,null,null,null,null,"Prescription Data - Non-monetary values",null,null,null,null,null,null,null,null,null,null,null,null,null,null,null,null,null,null,null,null,null,"Value of Drug costs",null,null,null,null,"Advance Payments and Recoveries",null,null,null,null,null,null,null,"Drug Cost","Prescription Fee Values",null,null,null,null,null,null,null,null,null,null,null,null,null,null,null,"Prescription charge values",null,null,null,"Appliance fee values",null,null,"Area Team Payments",null,null,null,null,null,null,null,null,null,null,null,null,null,null,null,null,null,null,null,null,"LPC Levies",null,null,null,"Contract Specific Payments",null,null,null,"Area Team Payments",null,null,null,null,null,null,null,null,null,null,null,null,null,"Pre Payment Certificate deductions",null,null,null,null,null,"NHSBSA Authorised Payments",null,null,null,null,"Devolving the Global Sum - Temporary Safeguarding Payments",null,null,null,"Area Team Payments"]
["Contractor","","","","","","Start Date","End Date","Area Team","Number of prescription forms processed","Number of standard discount rate items processed","Number of zero discount rate items processed","Number of precription forms returned","Number of items returned","Number of prescription charges deducted current rate","Number of prescription charges deducted previous rate","Number of Elastic Hoisery Items processed","Advance Items Declared","Advance Charges Declared","Number of expensive items processed","Number of MUR declared","Dispensing staff hours declared","Number of FP57 refund forms declared","Average item cost","EPS Prescription forms processed","EPS Items processed","Number of Home AUR declared","Number of premises AUR declared","Number of NMS declared","Number of NMS items processed","","Value of Standard Discount Rate items","Value of discount deducted","Value of zero discount rate items","Value of OOPE claimed","Payment for consumables","Advance Payment fees","Advance payment drugs","Recovered Advance Payment fees","Recovered Advance payment drugs","Late Registered Advance payment fees","Late Registered Advance payment drugs","Recovery late registered advance payment fees","Recovery Late Registered Advance payment drugs","Payment for containers","New Medicine Service Fee paid","","Basic Dispensing Fee","Transition Payment","Repeat Dispensing Fee","Practice Payment","Unlicenced Medicines-2A","Appliances Measured & Fitted-2B","Appliances Home Delivery-2B","Methadone Payment","","Controlled Drug-2E","Expensive Item-2F","Manually Priced","Establishment Payment","MUR Value paid","Value deducted for current rate pxs charges","Value deducted for previous rate  pxs charges","Value of charges deducted for Elastic Hoisery","Value refunded for FP57","Value paid for home AUR","Value paid for premises AUR","Stoma Customisation fee","Pre registration Trainee","Establishment Payment  Top Up","High Cost Drug Advance","Recovery of High Cost Drug Advance","Needle Exchange","Local Scheme 1","Local Scheme 2","Local Scheme 3","Local Scheme 4","Bottle Storage","Additional Pharmacy Access Services","Advice to Care Homes","EPS Release 2","Practice Payment Adjustment","MUR Adjustment ","Repeat Dispensing Adjustment","EPS Allowance","Fine for Breach of Service","Collection of unused drugs","Welfare Milk","Formulary Development","LPC Voluntary Levy Deduction","LPC Statutory Levy Deduction","Voluntary Levy Adjustment","Statutory Levy Adjustment","Local Pharmaceutical Services","Essential Small Pharmacy Scheme Payment","Essential Small Pharmacy Scheme Adjustment","","EPS Release 1","Oxygen Therapy Service","Oxygen Compensation","Local Scheme 5","Local Scheme 6","Local Scheme 7","Local Scheme 8","Local Scheme 9","Local Scheme 10","AUR Adjustment","Stoma Customisation Adjustment","NMS Fee Adjustment","NMS Implementation Payment Adjustment","","12 month Pre payment certificate current rate","3 month Prepayment certificate current rate","12 month Pre payment certificate current rate","3 month Prepayment certificate current rate","","","CIP compensation payment","Pharmacy Reward Scheme","Copy Schedule Charge","Drug Adjustment","Fee Adjustment","Additional Advance Payment","Recovery of additional advance payment","Temporary Safeguarding Payment","Amendment Allowance","Local Scheme 11","Local Scheme 12","Local Scheme 13","Local Scheme 14","Local Scheme 15"]

{"sheet":"MIS - Pharmacy","index":2,"n_rows":0,"n_cols":0,"rows_kept":0,"cut":false,"hidden":true,"merged":[[1,65,1,67],[1,9,1,29],[1,31,1,35],[1,36,1,43],[1,45,1,60],[1,61,1,64],[1,126,1,130],[1,68,1,88],[1,89,1,92],[1,97,1,109],[1,111,1,114],[1,117,1,121],[1,122,1,125]]}

{"sheet":"MIS - Appliance","index":3,"n_rows":0,"n_cols":0,"rows_kept":0,"cut":false,"hidden":true,"merged":[]}

{"sheet":"MIS - Abated","index":4,"n_rows":0,"n_cols":0,"rows_kept":0,"cut":false,"hidden":true,"merged":[]}

{"sheet":"MIS - Cross Boundary","index":5,"n_rows":0,"n_cols":0,"rows_kept":0,"cut":false,"hidden":true,"merged":[]}

{"sheet":"Workings","index":6,"n_rows":1013,"n_cols":34,"rows_kept":1013,"cut":false,"hidden":true,"merged":[]}
["Sum",null,{"$f":"SUM(C13:C1000)","v":0},{"$f":"SUM(D13:D1000)","v":0},"Lower Outlier",{"$f":"COUNTIF(E13:E1000,\"Lower Outlier\")","v":0},null,null,null,{"$f":"SUM(J13:J1000)","v":0},{"$f":"SUM(K13:K1000)","v":0},{"$f":"SUM(L13:L1000)","v":0},"Lower Outlier",{"$f":"COUNTIF(M13:M1000,\"Lower Outlier\")","v":0},null,null,{"$f":"SUM(Q13:Q1000)","v":0},"Sum",{"$f":"SUM(S13:S1000)","v":0},{"$f":"SUM(T13:T1000)","v":0},"Lower Outlier",{"$f":"COUNTIF(U13:U1000,\"Lower Outlier\")","v":0},null,{"$f":"SUM(X13:X1000)","v":0},"Month:","Lower Outlier",{"$f":"COUNTIF(Z13:Z1000,\"Lower Outlier\")","v":0},null,{"$f":"SUM(AC13:AC1000)","v":0},{"$f":"SUM(AD13:AD1000)","v":0},null,null,null,"04"]
["Average",null,{"$f":"AVERAGE(C13:C1000)","v":{"$error":"#DIV/0!"}},{"$f":"MEDIAN(D13:D1000)","v":{"$error":"#NUM!"}},"Below Average",{"$f":"COUNTIF(E13:E1000,\"Below Average\")","v":0},null,null,null,{"$f":"AVERAGE(J13:J1000)","v":{"$error":"#DIV/0!"}},{"$f":"AVERAGE(K13:K1000)","v":{"$error":"#DIV/0!"}},{"$f":"AVERAGE(L13:L1000)","v":{"$error":"#DIV/0!"}},"Below Average",{"$f":"COUNTIF(M13:M1000,\"Below Average\")","v":0},null,null,{"$f":"AVERAGE(Q13:Q1000)","v":{"$error":"#DIV/0!"}},"Median",{"$f":"AVERAGEIF(S13:S1000, \">0\")","v":{"$error":"#DIV/0!"}},{"$f":"AVERAGEIF(T13:T1000,\">0\")","v":{"$error":"#DIV/0!"}},"Below Average",{"$f":"COUNTIF(U13:U1000,\"Below Average\")","v":0},null,{"$f":"AVERAGEIF(X13:X1000,\">0\")","v":{"$error":"#DIV/0!"}},{"$f":"RIGHT('MIS - Pharmacy'!B1, 2)","v":""},"Below Average",{"$f":"COUNTIF(Z13:Z1000,\"Below Average\")","v":0},null,{"$f":"AVERAGE(AC13:AC1000)","v":{"$error":"#DIV/0!"}},{"$f":"AVERAGE(AD13:AD1000)","v":{"$error":"#DIV/0!"}},null,null,null,"06"]
["Standard Dev",null,{"$f":"STDEV(C13:C1000)","v":{"$error":"#DIV/0!"}},{"$f":"STDEV(D13:D1000)","v":{"$error":"#DIV/0!"}},"Lower Quartile",{"$f":"COUNTIF(E13:E1000,\"Lower Quartile Range\")","v":0},null,null,null,{"$f":"STDEV(J13:J1000)","v":{"$error":"#DIV/0!"}},{"$f":"STDEV(K13:K1000)","v":{"$error":"#DIV/0!"}},{"$f":"STDEV(L13:L1000)","v":{"$error":"#DIV/0!"}},"Lower Quartile",{"$f":"COUNTIF(M13:M1000,\"Lower Quartile Range\")","v":0},null,null,{"$f":"STDEV(Q13:Q1000)","v":{"$error":"#DIV/0!"}},"Standard Dev",{"$f":"STDEV(S13:S1000)","v":{"$error":"#DIV/0!"}},{"$f":"STDEV(T13:T1000)","v":{"$error":"#DIV/0!"}},"Lower Quartile",{"$f":"COUNTIF(U13:U1000,\"Lower Quartile Range\")","v":0},null,{"$f":"STDEV(X13:X1000)","v":{"$error":"#DIV/0!"}},{"$f":"IF(Y2=\"02\",29,IF(SUMPRODUCT(COUNTIF(Y2,$AH$1:$AH$7))>0,30,31))","v":31},"Lower Quartile",{"$f":"COUNTIF(Z13:Z1000,\"Lower Quartile Range\")","v":0},null,{"$f":"STDEV(AC13:AC1000)","v":{"$error":"#DIV/0!"}},{"$f":"STDEV(AD13:AD1000)","v":{"$error":"#DIV/0!"}},null,null,null,"09"]
["Minimum Value",null,{"$f":"QUARTILE(C13:C1000,0)","v":{"$error":"#NUM!"}},{"$f":"QUARTILE(D13:D1000,0)","v":{"$error":"#NUM!"}},"Upper Quartile",{"$f":"COUNTIF(E13:E1000,\"Upper Quartile Range\")","v":0},null,null,null,{"$f":"QUARTILE(J13:J1000,0)","v":{"$error":"#NUM!"}},{"$f":"QUARTILE(K13:K1000,0)","v":{"$error":"#NUM!"}},{"$f":"QUARTILE(L13:L1000,0)","v":{"$error":"#NUM!"}},"Upper Quartile",{"$f":"COUNTIF(M13:M1000,\"Upper Quartile Range\")","v":0},null,null,{"$f":"QUARTILE(Q13:Q1000,0)","v":{"$error":"#NUM!"}},"Minimum Value",{"$f":"QUARTILE(S13:S1000,0)","v":{"$error":"#NUM!"}},{"$f":"QUARTILE(T13:T1000,0)","v":{"$error":"#NUM!"}},"Upper Quartile",{"$f":"COUNTIF(U13:U1000,\"Upper Quartile Range\")","v":0},null,{"$f":"QUARTILE(X13:X1000,0)","v":{"$error":"#NUM!"}},null,"Upper Quartile",{"$f":"COUNTIF(Z13:Z1000,\"Upper Quartile Range\")","v":0},null,{"$f":"QUARTILE(AC13:AC1000,0)","v":{"$error":"#NUM!"}},{"$f":"QUARTILE(AD13:AD1000,0)","v":{"$error":"#NUM!"}},null,null,null,11]
["Q1",null,{"$f":"QUARTILE(C13:C1000,1)","v":{"$error":"#NUM!"}},{"$f":"QUARTILE(D13:D1000,1)","v":{"$error":"#NUM!"}},"Above Average",{"$f":"COUNTIF(E13:E1000,\"Above Average\")","v":0},null,null,null,{"$f":"QUARTILE(J13:J1000,1)","v":{"$error":"#NUM!"}},{"$f":"QUARTILE(K13:K1000,1)","v":{"$error":"#NUM!"}},{"$f":"QUARTILE(L13:L1000,1)","v":{"$error":"#NUM!"}},"Above Average",{"$f":"COUNTIF(M13:M1000,\"Above Average\")","v":0},null,null,{"$f":"QUARTILE(Q13:Q1000,1)","v":{"$error":"#NUM!"}},"Q1",{"$f":"QUARTILE(S13:S1000,1)","v":{"$error":"#NUM!"}},{"$f":"QUARTILE(T13:T1000,1)","v":{"$error":"#NUM!"}},"Above Average",{"$f":"COUNTIF(U13:U1000,\"Above Average\")","v":0},null,{"$f":"QUARTILE(X13:X1000,1)","v":{"$error":"#NUM!"}},null,"Above Average",{"$f":"COUNTIF(Z13:Z1000,\"Above Average\")","v":0},null,{"$f":"QUARTILE(AC13:AC1000,1)","v":{"$error":"#NUM!"}},{"$f":"QUARTILE(AD13:AD1000,1)","v":{"$error":"#NUM!"}}]
["Q2",null,{"$f":"QUARTILE(C13:C1000,2)","v":{"$error":"#NUM!"}},{"$f":"QUARTILE(D13:D1000,2)","v":{"$error":"#NUM!"}},"Upper Outlier",{"$f":"COUNTIF(E13:E1000,\"Upper Outlier\")","v":0},null,null,null,{"$f":"QUARTILE(J13:J1000,2)","v":{"$error":"#NUM!"}},{"$f":"QUARTILE(K13:K1000,2)","v":{"$error":"#NUM!"}},{"$f":"QUARTILE(L13:L1000,2)","v":{"$error":"#NUM!"}},"Upper Outlier",{"$f":"COUNTIF(M13:M1000,\"Upper Outlier\")","v":0},null,null,{"$f":"QUARTILE(Q13:Q1000,2)","v":{"$error":"#NUM!"}},"Q2",{"$f":"QUARTILE(S13:S1000,2)","v":{"$error":"#NUM!"}},{"$f":"QUARTILE(T13:T1000,2)","v":{"$error":"#NUM!"}},"Upper Outlier",{"$f":"COUNTIF(U13:U1000,\"Upper Outlier\")","v":0},null,{"$f":"QUARTILE(X13:X1000,2)","v":{"$error":"#NUM!"}},null,"Upper Outlier",{"$f":"COUNTIF(Z13:Z1000,\"Upper Outlier\")","v":0},null,{"$f":"QUARTILE(AC13:AC1000,2)","v":{"$error":"#NUM!"}},{"$f":"QUARTILE(AD13:AD1000,2)","v":{"$error":"#NUM!"}}]
["Q3",null,{"$f":"QUARTILE(C13:C1000,3)","v":{"$error":"#NUM!"}},{"$f":"QUARTILE(D13:D1000,3)","v":{"$error":"#NUM!"}},null,null,null,null,null,{"$f":"QUARTILE(J13:J1000,3)","v":{"$error":"#NUM!"}},{"$f":"QUARTILE(K13:K1000,3)","v":{"$error":"#NUM!"}},{"$f":"QUARTILE(L13:L1000,3)","v":{"$error":"#NUM!"}},null,null,null,null,{"$f":"QUARTILE(Q13:Q1000,3)","v":{"$error":"#NUM!"}},"Q3",{"$f":"QUARTILE(S13:S1000,3)","v":{"$error":"#NUM!"}},{"$f":"QUARTILE(T13:T1000,3)","v":{"$error":"#NUM!"}},null,null,null,{"$f":"QUARTILE(X13:X1000,3)","v":{"$error":"#NUM!"}},null,null,null,null,{"$f":"QUARTILE(AC13:AC1000,3)","v":{"$error":"#NUM!"}},{"$f":"QUARTILE(AD13:AD1000,3)","v":{"$error":"#NUM!"}}]
["Q4",null,{"$f":"QUARTILE(C13:C1000,4)","v":{"$error":"#NUM!"}},{"$f":"QUARTILE(D13:D1000,4)","v":{"$error":"#NUM!"}},null,null,null,null,null,{"$f":"QUARTILE(J13:J1000,4)","v":{"$error":"#NUM!"}},{"$f":"QUARTILE(K13:K1000,4)","v":{"$error":"#NUM!"}},{"$f":"QUARTILE(L13:L1000,4)","v":{"$error":"#NUM!"}},null,null,null,null,{"$f":"QUARTILE(Q13:Q1000,4)","v":{"$error":"#NUM!"}},"Q4",{"$f":"QUARTILE(S13:S1000,4)","v":{"$error":"#NUM!"}},{"$f":"QUARTILE(T13:T1000,4)","v":{"$error":"#NUM!"}},null,null,null,{"$f":"QUARTILE(X13:X1000,4)","v":{"$error":"#NUM!"}},null,null,null,null,{"$f":"QUARTILE(AC13:AC1000,4)","v":{"$error":"#NUM!"}},{"$f":"QUARTILE(AD13:AD1000,4)","v":{"$error":"#NUM!"}}]
["Lower Outlier",null,{"$f":"C5-(1.5*C11)","v":{"$error":"#NUM!"}},{"$f":"D5-(1.5*D11)","v":{"$error":"#NUM!"}},null,null,null,null,null,{"$f":"J5-(1.5*J11)","v":{"$error":"#NUM!"}},{"$f":"K5-(1.5*K11)","v":{"$error":"#NUM!"}},{"$f":"L5-(1.5*L11)","v":{"$error":"#NUM!"}},null,null,null,null,{"$f":"Q5-(1.5*Q11)","v":{"$error":"#NUM!"}},"Lower Outlier",{"$f":"S5-(1.5*S11)","v":{"$error":"#NUM!"}},{"$f":"T5-(1.5*T11)","v":{"$error":"#NUM!"}},null,null,null,{"$f":"X5-(1.5*X11)","v":{"$error":"#NUM!"}},null,null,null,null,{"$f":"AC5-(1.5*AC11)","v":{"$error":"#NUM!"}},{"$f":"AD5-(1.5*AD11)","v":{"$error":"#NUM!"}}]
["Upper Outlier",null,{"$f":"C7+(1.5*C11)","v":{"$error":"#NUM!"}},{"$f":"D7+(1.5*D11)","v":{"$error":"#NUM!"}},null,null,null,null,null,{"$f":"J7+(1.5*J11)","v":{"$error":"#NUM!"}},{"$f":"K7+(1.5*K11)","v":{"$error":"#NUM!"}},{"$f":"L7+(1.5*L11)","v":{"$error":"#NUM!"}},null,null,null,null,{"$f":"Q7+(1.5*Q11)","v":{"$error":"#NUM!"}},"Upper Outlier",{"$f":"S7+(1.5*S11)","v":{"$error":"#NUM!"}},{"$f":"T7+(1.5*T11)","v":{"$error":"#NUM!"}},null,null,null,{"$f":"X7+(1.5*X11)","v":{"$error":"#NUM!"}},null,null,null,null,{"$f":"AC7+(1.5*AC11)","v":{"$error":"#NUM!"}},{"$f":"AD7+(1.5*AD11)","v":{"$error":"#NUM!"}}]
["IQR ",null,{"$f":"C7-C5","v":{"$error":"#NUM!"}},{"$f":"D7-D5","v":{"$error":"#NUM!"}},null,null,null,null,null,{"$f":"J7-J5","v":{"$error":"#NUM!"}},{"$f":"K7-K5","v":{"$error":"#NUM!"}},{"$f":"L7-L5","v":{"$error":"#NUM!"}},null,null,null,null,{"$f":"Q7-Q5","v":{"$error":"#NUM!"}},"IQR ",{"$f":"S7-S5","v":{"$error":"#NUM!"}},{"$f":"T7-T5","v":{"$error":"#NUM!"}},null,null,null,{"$f":"X7-X5","v":{"$error":"#NUM!"}},null,null,null,null,{"$f":"AC7-AC5","v":{"$error":"#NUM!"}},{"$f":"AD7-AD5","v":{"$error":"#NUM!"}}]
["Contractor","Name","MUR Amount","MUR ","MUR Quartile Range","Forcasted MURs","MURs per 1000 items","MUR proportion Staff Hours","Proportion of Staff Hours spent on MURs","MUR against No Items","MUR against Hours","NMS","Quartile Range","No NMS Items","NMS Against total NMS Items","NMS proportion to staff hours","Total Items","Quartile Range","Riembursed","OOPE","OOPE Quartile Range","OOPE against total Items","OOPE against Reimbursed","Staff Hours","Staff Hours for the Month","Staff Quartile Range","Staff hours against Total Items","Total Forms ","Practice Payment","Establishment Payment","MUR + NMS","MUR and NMS as Proportion of Staff Hours"]
[{"$f":"IF(ISBLANK('MIS - Pharmacy'!A4), \"\",'MIS - Pharmacy'!A4)","v":""},{"$f":"IF(ISBLANK('MIS - Pharmacy'!B4),\"\",('MIS - Pharmacy'!B4&\"(\"&'MIS - Pharmacy'!D4&\")\"))","v":""},{"$f":"IF(ISBLANK('MIS - Pharmacy'!BI4), \"\", 'MIS - Pharmacy'!BI4)","v":""},{"$f":"IF(ISBLANK('MIS - Pharmacy'!U4), \"\", 'MIS - Pharmacy'!U4)","v":""},{"$f":"IF(D13=\"\",\"\",IF(D13<=D$9,\"Lower Outlier\",IF(D13<=D$5,\"Below Average\",IF(D13<=D$6,\"Lower Quartile Range\",IF(D13<=D$7,\"Upper Quartile Range\",IF(D13<=D$10,\"Above Average\",\"Upper Outlier\"))))))","v":""},{"$f":"IF(D13=\"\",\"\",D13*12)","v":""},{"$f":"IF(Q13=\"\",\"\",IF(Q13 = 0, 0, D13/Q13*1000))","v":""},{"$f":"IF(D13=\"\",\"\",IF(X13=0,0,D13/Y13))","v":""},{"$f":"IF(A13=\"\",\"\",IF(D13=0,0,(D13*0.3)/Y13))","v":""},{"$f":"IF(D13=0,0,IF(D13=\"\",\"\",D13/Q13))","v":""},{"$f":"IF(D13=0,0,IF(D13=\"\",\"\",D13/X13))","v":""},{"$f":"IF(ISBLANK('MIS - Pharmacy'!AC4),\"\",'MIS - Pharmacy'!AC4)","v":""},{"$f":"IF(L13=\"\",\"\",IF(L13<=L$9,\"Lower Outlier\",IF(L13<=L$5,\"Below Average\",IF(L13<=L$6,\"Lower Quartile Range\",IF(L13<=L$7,\"Upper Quartile Range\",IF(L13<=L$10,\"Above Average\",\"Upper Outlier\"))))))","v":""},{"$f":"IF(ISBLANK('MIS - Pharmacy'!AD4),\"\",'MIS - Pharmacy'!AD4)","v":""},{"$f":"IF(N13=\"\",\"\",IF(N13=0,0,L13/N13*1000))","v":""},{"$f":"IF(L13=\"\",\"\",IF(X13=0,0,L13/X13))","v":""},{"$f":"IF('MIS - Pharmacy'!A4=\"\",\"\",SUM('MIS - Pharmacy'!K4+'MIS - Pharmacy'!L4))","v":""},{"$f":"IF(Q13=\"\",\"\",IF(Q13<=Q$9,\"Lower Outlier\",IF(Q13<=Q$5,\"Below Average\",IF(Q13<=Q$6,\"Lower Quartile Range\",IF(Q13<=Q$7,\"Upper Quartile Range\",IF(Q13<=Q$10,\"Above Average\",\"Upper Outlier\"))))))","v":""},{"$f":"IF('MIS - Pharmacy'!A4=\"\",\"\",('MIS - Pharmacy'!AF4+'MIS - Pharmacy'!AH4 +'MIS - Pharmacy'!AG4))","v":""},{"$f":"IF(ISBLANK('MIS - Pharmacy'!AI4),\"\",'MIS - Pharmacy'!AI4)","v":""},{"$f":"IF(T13=\"\",\"\",IF(T13<=T$9,\"Lower Outlier\",IF(T13<=T$5,\"Below Average\",IF(T13<=T$6,\"Lower Quartile Range\",IF(T13<=T$7,\"Upper Quartile Range\",IF(T13<=T$10,\"Above Average\",\"Upper Outlier\"))))))","v":""},{"$f":"IF(A13=\"\",\"\",IF(T13=0,0,T13/Q13*1000))","v":""},{"$f":"IF(V13=\"\",\"\",IF(S13 >0,(T13/S13*1000),0))","v":""},{"$f":"IF(ISBLANK('MIS - Pharmacy'!V4),\"\",'MIS - Pharmacy'!V4)","v":""},{"$f":"IF(X13=\"\",\"\",(X13/7)*$Y$3)","v":""},{"$f":"IF(X13=\"\",\"\",IF(X13<=X$9,\"Lower Outlier\",IF(X13<=X$5,\"Below Average\",IF(X13<=X$6,\"Lower Quartile Range\",IF(X13<=X$7,\"Upper Quartile Range\",IF(X13<=X$10,\"Above Average\",\"Upper Outlier\"))))))","v":""},{"$f":"IF(A13=\"\",\"\",IF(X13=0,0,Y13/Q13*1000))","v":""},{"$f":"IF(ISBLANK('MIS - Pharmacy'!J4),\"\",'MIS - Pharmacy'!J4)","v":""},{"$f":"IF(ISBLANK('MIS - Pharmacy'!AY4),\"\",'MIS - Pharmacy'!AY4)","v":""},{"$f":"IF(ISBLANK('MIS - Pharmacy'!BH4),\"\",'MIS - Pharmacy'!BH4)","v":""},{"$f":"IF(A13=\"\",\"\",D13+L13)","v":""},{"$f":"IF(A13=\"\",\"\",IF(Y13=0,0,(AE13/Y13)*100))","v":""}]
[{"$f":"IF(ISBLANK('MIS - Pharmacy'!A5), \"\",'MIS - Pharmacy'!A5)","v":""},{"$f":"IF(ISBLANK('MIS - Pharmacy'!B5),\"\",('MIS - Pharmacy'!B5&\"(\"&'MIS - Pharmacy'!D5&\")\"))","v":""},{"$f":"IF(ISBLANK('MIS - Pharmacy'!BI5), \"\", 'MIS - Pharmacy'!BI5)","v":""},{"$f":"IF(ISBLANK('MIS - Pharmacy'!U5), \"\", 'MIS - Pharmacy'!U5)","v":""},{"$f":"IF(D14=\"\",\"\",IF(D14<=D$9,\"Lower Outlier\",IF(D14<=D$5,\"Below Average\",IF(D14<=D$6,\"Lower Quartile Range\",IF(D14<=D$7,\"Upper Quartile Range\",IF(D14<=D$10,\"Above Average\",\"Upper Outlier\"))))))","v":""},"","",{"$f":"IF(D14=\"\",\"\",IF(X14=0,0,D14/Y14))","v":""},{"$f":"IF(A14=\"\",\"\",IF(D14=0,0,(D14*0.3)/Y14))","v":""},"","",{"$f":"IF(ISBLANK('MIS - Pharmacy'!AC5),\"\",'MIS - Pharmacy'!AC5)","v":""},{"$f":"IF(L14=\"\",\"\",IF(L14<=L$9,\"Lower Outlier\",IF(L14<=L$5,\"Below Average\",IF(L14<=L$6,\"Lower Quartile Range\",IF(L14<=L$7,\"Upper Quartile Range\",IF(L14<=L$10,\"Above Average\",\"Upper Outlier\"))))))","v":""},{"$f":"IF(ISBLANK('MIS - Pharmacy'!AD5),\"\",'MIS - Pharmacy'!AD5)","v":""},{"$f":"IF(N14=\"\",\"\",IF(N14=0,0,L14/N14*1000))","v":""},"",{"$f":"IF('MIS - Pharmacy'!A5=\"\",\"\",SUM('MIS - Pharmacy'!K5+'MIS - Pharmacy'!L5))","v":""},{"$f":"IF(Q14=\"\",\"\",IF(Q14<=Q$9,\"Lower Outlier\",IF(Q14<=Q$5,\"Below Average\",IF(Q14<=Q$6,\"Lower Quartile Range\",IF(Q14<=Q$7,\"Upper Quartile Range\",IF(Q14<=Q$10,\"Above Average\",\"Upper Outlier\"))))))","v":""},{"$f":"IF('MIS - Pharmacy'!A5=\"\",\"\",('MIS - Pharmacy'!AF5+'MIS - Pharmacy'!AH5 +'MIS - Pharmacy'!AG5))","v":""},{"$f":"IF(ISBLANK('MIS - Pharmacy'!AI5),\"\",'MIS - Pharmacy'!AI5)","v":""},{"$f":"IF(T14=\"\",\"\",IF(T14<=T$9,\"Lower Outlier\",IF(T14<=T$5,\"Below Average\",IF(T14<=T$6,\"Lower Quartile Range\",IF(T14<=T$7,\"Upper Quartile Range\",IF(T14<=T$10,\"Above Average\",\"Upper Outlier\"))))))","v":""},"",{"$f":"IF(V14=\"\",\"\",IF(S14 >0,(T14/S14*1000),0))","v":""},{"$f":"IF(ISBLANK('MIS - Pharmacy'!V5),\"\",'MIS - Pharmacy'!V5)","v":""},{"$f":"IF(X14=\"\",\"\",(X14/7)*$Y$3)","v":""},{"$f":"IF(X14=\"\",\"\",IF(X14<=X$9,\"Lower Outlier\",IF(X14<=X$5,\"Below Average\",IF(X14<=X$6,\"Lower Quartile Range\",IF(X14<=X$7,\"Upper Quartile Range\",IF(X14<=X$10,\"Above Average\",\"Upper Outlier\"))))))","v":""},{"$f":"IF(A14=\"\",\"\",IF(X14=0,0,Y14/Q14*1000))","v":""},{"$f":"IF(ISBLANK('MIS - Pharmacy'!J5),\"\",'MIS - Pharmacy'!J5)","v":""},{"$f":"IF(ISBLANK('MIS - Pharmacy'!AY5),\"\",'MIS - Pharmacy'!AY5)","v":""},{"$f":"IF(ISBLANK('MIS - Pharmacy'!BH5),\"\",'MIS - Pharmacy'!BH5)","v":""},"",{"$f":"IF(A14=\"\",\"\",IF(Y14=0,0,(AE14/Y14)*100))","v":""}]
[{"$f":"IF(ISBLANK('MIS - Pharmacy'!A6), \"\",'MIS - Pharmacy'!A6)","v":""},{"$f":"IF(ISBLANK('MIS - Pharmacy'!B6),\"\",('MIS - Pharmacy'!B6&\"(\"&'MIS - Pharmacy'!D6&\")\"))","v":""},{"$f":"IF(ISBLANK('MIS - Pharmacy'!BI6), \"\", 'MIS - Pharmacy'!BI6)","v":""},{"$f":"IF(ISBLANK('MIS - Pharmacy'!U6), \"\", 'MIS - Pharmacy'!U6)","v":""},"","","","","","","",{"$f":"IF(ISBLANK('MIS - Pharmacy'!AC6),\"\",'MIS - Pharmacy'!AC6)","v":""},"",{"$f":"IF(ISBLANK('MIS - Pharmacy'!AD6),\"\",'MIS - Pharmacy'!AD6)","v":""},"","",{"$f":"IF('MIS - Pharmacy'!A6=\"\",\"\",SUM('MIS - Pharmacy'!K6+'MIS - Pharmacy'!L6))","v":""},"",{"$f":"IF('MIS - Pharmacy'!A6=\"\",\"\",('MIS - Pharmacy'!AF6+'MIS - Pharmacy'!AH6 +'MIS - Pharmacy'!AG6))","v":""},{"$f":"IF(ISBLANK('MIS - Pharmacy'!AI6),\"\",'MIS - Pharmacy'!AI6)","v":""},"","","",{"$f":"IF(ISBLANK('MIS - Pharmacy'!V6),\"\",'MIS - Pharmacy'!V6)","v":""},"","","",{"$f":"IF(ISBLANK('MIS - Pharmacy'!J6),\"\",'MIS - Pharmacy'!J6)","v":""},{"$f":"IF(ISBLANK('MIS - Pharmacy'!AY6),\"\",'MIS - Pharmacy'!AY6)","v":""},{"$f":"IF(ISBLANK('MIS - Pharmacy'!BH6),\"\",'MIS - Pharmacy'!BH6)","v":""},"",""]
[{"$f":"IF(ISBLANK('MIS - Pharmacy'!A7), \"\",'MIS - Pharmacy'!A7)","v":""},{"$f":"IF(ISBLANK('MIS - Pharmacy'!B7),\"\",('MIS - Pharmacy'!B7&\"(\"&'MIS - Pharmacy'!D7&\")\"))","v":""},{"$f":"IF(ISBLANK('MIS - Pharmacy'!BI7), \"\", 'MIS - Pharmacy'!BI7)","v":""},{"$f":"IF(ISBLANK('MIS - Pharmacy'!U7), \"\", 'MIS - Pharmacy'!U7)","v":""},"","","","","","","",{"$f":"IF(ISBLANK('MIS - Pharmacy'!AC7),\"\",'MIS - Pharmacy'!AC7)","v":""},"",{"$f":"IF(ISBLANK('MIS - Pharmacy'!AD7),\"\",'MIS - Pharmacy'!AD7)","v":""},"","",{"$f":"IF('MIS - Pharmacy'!A7=\"\",\"\",SUM('MIS - Pharmacy'!K7+'MIS - Pharmacy'!L7))","v":""},"",{"$f":"IF('MIS - Pharmacy'!A7=\"\",\"\",('MIS - Pharmacy'!AF7+'MIS - Pharmacy'!AH7 +'MIS - Pharmacy'!AG7))","v":""},{"$f":"IF(ISBLANK('MIS - Pharmacy'!AI7),\"\",'MIS - Pharmacy'!AI7)","v":""},"","","",{"$f":"IF(ISBLANK('MIS - Pharmacy'!V7),\"\",'MIS - Pharmacy'!V7)","v":""},"","","",{"$f":"IF(ISBLANK('MIS - Pharmacy'!J7),\"\",'MIS - Pharmacy'!J7)","v":""},{"$f":"IF(ISBLANK('MIS - Pharmacy'!AY7),\"\",'MIS - Pharmacy'!AY7)","v":""},{"$f":"IF(ISBLANK('MIS - Pharmacy'!BH7),\"\",'MIS - Pharmacy'!BH7)","v":""},"",""]
[{"$f":"IF(ISBLANK('MIS - Pharmacy'!A8), \"\",'MIS - Pharmacy'!A8)","v":""},{"$f":"IF(ISBLANK('MIS - Pharmacy'!B8),\"\",('MIS - Pharmacy'!B8&\"(\"&'MIS - Pharmacy'!D8&\")\"))","v":""},{"$f":"IF(ISBLANK('MIS - Pharmacy'!BI8), \"\", 'MIS - Pharmacy'!BI8)","v":""},{"$f":"IF(ISBLANK('MIS - Pharmacy'!U8), \"\", 'MIS - Pharmacy'!U8)","v":""},"","","","","","","",{"$f":"IF(ISBLANK('MIS - Pharmacy'!AC8),\"\",'MIS - Pharmacy'!AC8)","v":""},"",{"$f":"IF(ISBLANK('MIS - Pharmacy'!AD8),\"\",'MIS - Pharmacy'!AD8)","v":""},"","",{"$f":"IF('MIS - Pharmacy'!A8=\"\",\"\",SUM('MIS - Pharmacy'!K8+'MIS - Pharmacy'!L8))","v":""},"",{"$f":"IF('MIS - Pharmacy'!A8=\"\",\"\",('MIS - Pharmacy'!AF8+'MIS - Pharmacy'!AH8 +'MIS - Pharmacy'!AG8))","v":""},{"$f":"IF(ISBLANK('MIS - Pharmacy'!AI8),\"\",'MIS - Pharmacy'!AI8)","v":""},"","","",{"$f":"IF(ISBLANK('MIS - Pharmacy'!V8),\"\",'MIS - Pharmacy'!V8)","v":""},"","","",{"$f":"IF(ISBLANK('MIS - Pharmacy'!J8),\"\",'MIS - Pharmacy'!J8)","v":""},{"$f":"IF(ISBLANK('MIS - Pharmacy'!AY8),\"\",'MIS - Pharmacy'!AY8)","v":""},{"$f":"IF(ISBLANK('MIS - Pharmacy'!BH8),\"\",'MIS - Pharmacy'!BH8)","v":""},"",""]
[{"$f":"IF(ISBLANK('MIS - Pharmacy'!A9), \"\",'MIS - Pharmacy'!A9)","v":""},{"$f":"IF(ISBLANK('MIS - Pharmacy'!B9),\"\",('MIS - Pharmacy'!B9&\"(\"&'MIS - Pharmacy'!D9&\")\"))","v":""},{"$f":"IF(ISBLANK('MIS - Pharmacy'!BI9), \"\", 'MIS - Pharmacy'!BI9)","v":""},{"$f":"IF(ISBLANK('MIS - Pharmacy'!U9), \"\", 'MIS - Pharmacy'!U9)","v":""},"","","","","","","",{"$f":"IF(ISBLANK('MIS - Pharmacy'!AC9),\"\",'MIS - Pharmacy'!AC9)","v":""},"",{"$f":"IF(ISBLANK('MIS - Pharmacy'!AD9),\"\",'MIS - Pharmacy'!AD9)","v":""},"","",{"$f":"IF('MIS - Pharmacy'!A9=\"\",\"\",SUM('MIS - Pharmacy'!K9+'MIS - Pharmacy'!L9))","v":""},"",{"$f":"IF('MIS - Pharmacy'!A9=\"\",\"\",('MIS - Pharmacy'!AF9+'MIS - Pharmacy'!AH9 +'MIS - Pharmacy'!AG9))","v":""},{"$f":"IF(ISBLANK('MIS - Pharmacy'!AI9),\"\",'MIS - Pharmacy'!AI9)","v":""},"","","",{"$f":"IF(ISBLANK('MIS - Pharmacy'!V9),\"\",'MIS - Pharmacy'!V9)","v":""},"","","",{"$f":"IF(ISBLANK('MIS - Pharmacy'!J9),\"\",'MIS - Pharmacy'!J9)","v":""},{"$f":"IF(ISBLANK('MIS - Pharmacy'!AY9),\"\",'MIS - Pharmacy'!AY9)","v":""},{"$f":"IF(ISBLANK('MIS - Pharmacy'!BH9),\"\",'MIS - Pharmacy'!BH9)","v":""},"",""]
[{"$f":"IF(ISBLANK('MIS - Pharmacy'!A10), \"\",'MIS - Pharmacy'!A10)","v":""},{"$f":"IF(ISBLANK('MIS - Pharmacy'!B10),\"\",('MIS - Pharmacy'!B10&\"(\"&'MIS - Pharmacy'!D10&\")\"))","v":""},{"$f":"IF(ISBLANK('MIS - Pharmacy'!BI10), \"\", 'MIS - Pharmacy'!BI10)","v":""},{"$f":"IF(ISBLANK('MIS - Pharmacy'!U10), \"\", 'MIS - Pharmacy'!U10)","v":""},"","","","","","","",{"$f":"IF(ISBLANK('MIS - Pharmacy'!AC10),\"\",'MIS - Pharmacy'!AC10)","v":""},"",{"$f":"IF(ISBLANK('MIS - Pharmacy'!AD10),\"\",'MIS - Pharmacy'!AD10)","v":""},"","",{"$f":"IF('MIS - Pharmacy'!A10=\"\",\"\",SUM('MIS - Pharmacy'!K10+'MIS - Pharmacy'!L10))","v":""},"",{"$f":"IF('MIS - Pharmacy'!A10=\"\",\"\",('MIS - Pharmacy'!AF10+'MIS - Pharmacy'!AH10 +'MIS - Pharmacy'!AG10))","v":""},{"$f":"IF(ISBLANK('MIS - Pharmacy'!AI10),\"\",'MIS - Pharmacy'!AI10)","v":""},"","","",{"$f":"IF(ISBLANK('MIS - Pharmacy'!V10),\"\",'MIS - Pharmacy'!V10)","v":""},"","","",{"$f":"IF(ISBLANK('MIS - Pharmacy'!J10),\"\",'MIS - Pharmacy'!J10)","v":""},{"$f":"IF(ISBLANK('MIS - Pharmacy'!AY10),\"\",'MIS - Pharmacy'!AY10)","v":""},{"$f":"IF(ISBLANK('MIS - Pharmacy'!BH10),\"\",'MIS - Pharmacy'!BH10)","v":""},"",""]
[{"$f":"IF(ISBLANK('MIS - Pharmacy'!A11), \"\",'MIS - Pharmacy'!A11)","v":""},{"$f":"IF(ISBLANK('MIS - Pharmacy'!B11),\"\",('MIS - Pharmacy'!B11&\"(\"&'MIS - Pharmacy'!D11&\")\"))","v":""},{"$f":"IF(ISBLANK('MIS - Pharmacy'!BI11), \"\", 'MIS - Pharmacy'!BI11)","v":""},{"$f":"IF(ISBLANK('MIS - Pharmacy'!U11), \"\", 'MIS - Pharmacy'!U11)","v":""},"","","","","","","",{"$f":"IF(ISBLANK('MIS - Pharmacy'!AC11),\"\",'MIS - Pharmacy'!AC11)","v":""},"",{"$f":"IF(ISBLANK('MIS - Pharmacy'!AD11),\"\",'MIS - Pharmacy'!AD11)","v":""},"","",{"$f":"IF('MIS - Pharmacy'!A11=\"\",\"\",SUM('MIS - Pharmacy'!K11+'MIS - Pharmacy'!L11))","v":""},"",{"$f":"IF('MIS - Pharmacy'!A11=\"\",\"\",('MIS - Pharmacy'!AF11+'MIS - Pharmacy'!AH11 +'MIS - Pharmacy'!AG11))","v":""},{"$f":"IF(ISBLANK('MIS - Pharmacy'!AI11),\"\",'MIS - Pharmacy'!AI11)","v":""},"","","",{"$f":"IF(ISBLANK('MIS - Pharmacy'!V11),\"\",'MIS - Pharmacy'!V11)","v":""},"","","",{"$f":"IF(ISBLANK('MIS - Pharmacy'!J11),\"\",'MIS - Pharmacy'!J11)","v":""},{"$f":"IF(ISBLANK('MIS - Pharmacy'!AY11),\"\",'MIS - Pharmacy'!AY11)","v":""},{"$f":"IF(ISBLANK('MIS - Pharmacy'!BH11),\"\",'MIS - Pharmacy'!BH11)","v":""},"",""]
[{"$f":"IF(ISBLANK('MIS - Pharmacy'!A12), \"\",'MIS - Pharmacy'!A12)","v":""},{"$f":"IF(ISBLANK('MIS - Pharmacy'!B12),\"\",('MIS - Pharmacy'!B12&\"(\"&'MIS - Pharmacy'!D12&\")\"))","v":""},{"$f":"IF(ISBLANK('MIS - Pharmacy'!BI12), \"\", 'MIS - Pharmacy'!BI12)","v":""},{"$f":"IF(ISBLANK('MIS - Pharmacy'!U12), \"\", 'MIS - Pharmacy'!U12)","v":""},"","","","","","","",{"$f":"IF(ISBLANK('MIS - Pharmacy'!AC12),\"\",'MIS - Pharmacy'!AC12)","v":""},"",{"$f":"IF(ISBLANK('MIS - Pharmacy'!AD12),\"\",'MIS - Pharmacy'!AD12)","v":""},"","",{"$f":"IF('MIS - Pharmacy'!A12=\"\",\"\",SUM('MIS - Pharmacy'!K12+'MIS - Pharmacy'!L12))","v":""},"",{"$f":"IF('MIS - Pharmacy'!A12=\"\",\"\",('MIS - Pharmacy'!AF12+'MIS - Pharmacy'!AH12 +'MIS - Pharmacy'!AG12))","v":""},{"$f":"IF(ISBLANK('MIS - Pharmacy'!AI12),\"\",'MIS - Pharmacy'!AI12)","v":""},"","","",{"$f":"IF(ISBLANK('MIS - Pharmacy'!V12),\"\",'MIS - Pharmacy'!V12)","v":""},"","","",{"$f":"IF(ISBLANK('MIS - Pharmacy'!J12),\"\",'MIS - Pharmacy'!J12)","v":""},{"$f":"IF(ISBLANK('MIS - Pharmacy'!AY12),\"\",'MIS - Pharmacy'!AY12)","v":""},{"$f":"IF(ISBLANK('MIS - Pharmacy'!BH12),\"\",'MIS - Pharmacy'!BH12)","v":""},"",""]
[{"$f":"IF(ISBLANK('MIS - Pharmacy'!A13), \"\",'MIS - Pharmacy'!A13)","v":""},{"$f":"IF(ISBLANK('MIS - Pharmacy'!B13),\"\",('MIS - Pharmacy'!B13&\"(\"&'MIS - Pharmacy'!D13&\")\"))","v":""},{"$f":"IF(ISBLANK('MIS - Pharmacy'!BI13), \"\", 'MIS - Pharmacy'!BI13)","v":""},{"$f":"IF(ISBLANK('MIS - Pharmacy'!U13), \"\", 'MIS - Pharmacy'!U13)","v":""},"","","","","","","",{"$f":"IF(ISBLANK('MIS - Pharmacy'!AC13),\"\",'MIS - Pharmacy'!AC13)","v":""},"",{"$f":"IF(ISBLANK('MIS - Pharmacy'!AD13),\"\",'MIS - Pharmacy'!AD13)","v":""},"","",{"$f":"IF('MIS - Pharmacy'!A13=\"\",\"\",SUM('MIS - Pharmacy'!K13+'MIS - Pharmacy'!L13))","v":""},"",{"$f":"IF('MIS - Pharmacy'!A13=\"\",\"\",('MIS - Pharmacy'!AF13+'MIS - Pharmacy'!AH13 +'MIS - Pharmacy'!AG13))","v":""},{"$f":"IF(ISBLANK('MIS - Pharmacy'!AI13),\"\",'MIS - Pharmacy'!AI13)","v":""},"","","",{"$f":"IF(ISBLANK('MIS - Pharmacy'!V13),\"\",'MIS - Pharmacy'!V13)","v":""},"","","",{"$f":"IF(ISBLANK('MIS - Pharmacy'!J13),\"\",'MIS - Pharmacy'!J13)","v":""},{"$f":"IF(ISBLANK('MIS - Pharmacy'!AY13),\"\",'MIS - Pharmacy'!AY13)","v":""},{"$f":"IF(ISBLANK('MIS - Pharmacy'!BH13),\"\",'MIS - Pharmacy'!BH13)","v":""},"",""]
[{"$f":"IF(ISBLANK('MIS - Pharmacy'!A14), \"\",'MIS - Pharmacy'!A14)","v":""},{"$f":"IF(ISBLANK('MIS - Pharmacy'!B14),\"\",('MIS - Pharmacy'!B14&\"(\"&'MIS - Pharmacy'!D14&\")\"))","v":""},{"$f":"IF(ISBLANK('MIS - Pharmacy'!BI14), \"\", 'MIS - Pharmacy'!BI14)","v":""},{"$f":"IF(ISBLANK('MIS - Pharmacy'!U14), \"\", 'MIS - Pharmacy'!U14)","v":""},"","","","","","","",{"$f":"IF(ISBLANK('MIS - Pharmacy'!AC14),\"\",'MIS - Pharmacy'!AC14)","v":""},"",{"$f":"IF(ISBLANK('MIS - Pharmacy'!AD14),\"\",'MIS - Pharmacy'!AD14)","v":""},"","",{"$f":"IF('MIS - Pharmacy'!A14=\"\",\"\",SUM('MIS - Pharmacy'!K14+'MIS - Pharmacy'!L14))","v":""},"",{"$f":"IF('MIS - Pharmacy'!A14=\"\",\"\",('MIS - Pharmacy'!AF14+'MIS - Pharmacy'!AH14 +'MIS - Pharmacy'!AG14))","v":""},{"$f":"IF(ISBLANK('MIS - Pharmacy'!AI14),\"\",'MIS - Pharmacy'!AI14)","v":""},"","","",{"$f":"IF(ISBLANK('MIS - Pharmacy'!V14),\"\",'MIS - Pharmacy'!V14)","v":""},"","","",{"$f":"IF(ISBLANK('MIS - Pharmacy'!J14),\"\",'MIS - Pharmacy'!J14)","v":""},{"$f":"IF(ISBLANK('MIS - Pharmacy'!AY14),\"\",'MIS - Pharmacy'!AY14)","v":""},{"$f":"IF(ISBLANK('MIS - Pharmacy'!BH14),\"\",'MIS - Pharmacy'!BH14)","v":""},"",""]
[{"$f":"IF(ISBLANK('MIS - Pharmacy'!A15), \"\",'MIS - Pharmacy'!A15)","v":""},{"$f":"IF(ISBLANK('MIS - Pharmacy'!B15),\"\",('MIS - Pharmacy'!B15&\"(\"&'MIS - Pharmacy'!D15&\")\"))","v":""},{"$f":"IF(ISBLANK('MIS - Pharmacy'!BI15), \"\", 'MIS - Pharmacy'!BI15)","v":""},{"$f":"IF(ISBLANK('MIS - Pharmacy'!U15), \"\", 'MIS - Pharmacy'!U15)","v":""},"","","","","","","",{"$f":"IF(ISBLANK('MIS - Pharmacy'!AC15),\"\",'MIS - Pharmacy'!AC15)","v":""},"",{"$f":"IF(ISBLANK('MIS - Pharmacy'!AD15),\"\",'MIS - Pharmacy'!AD15)","v":""},"","",{"$f":"IF('MIS - Pharmacy'!A15=\"\",\"\",SUM('MIS - Pharmacy'!K15+'MIS - Pharmacy'!L15))","v":""},"",{"$f":"IF('MIS - Pharmacy'!A15=\"\",\"\",('MIS - Pharmacy'!AF15+'MIS - Pharmacy'!AH15 +'MIS - Pharmacy'!AG15))","v":""},{"$f":"IF(ISBLANK('MIS - Pharmacy'!AI15),\"\",'MIS - Pharmacy'!AI15)","v":""},"","","",{"$f":"IF(ISBLANK('MIS - Pharmacy'!V15),\"\",'MIS - Pharmacy'!V15)","v":""},"","","",{"$f":"IF(ISBLANK('MIS - Pharmacy'!J15),\"\",'MIS - Pharmacy'!J15)","v":""},{"$f":"IF(ISBLANK('MIS - Pharmacy'!AY15),\"\",'MIS - Pharmacy'!AY15)","v":""},{"$f":"IF(ISBLANK('MIS - Pharmacy'!BH15),\"\",'MIS - Pharmacy'!BH15)","v":""},"",""]
[{"$f":"IF(ISBLANK('MIS - Pharmacy'!A16), \"\",'MIS - Pharmacy'!A16)","v":""},{"$f":"IF(ISBLANK('MIS - Pharmacy'!B16),\"\",('MIS - Pharmacy'!B16&\"(\"&'MIS - Pharmacy'!D16&\")\"))","v":""},{"$f":"IF(ISBLANK('MIS - Pharmacy'!BI16), \"\", 'MIS - Pharmacy'!BI16)","v":""},{"$f":"IF(ISBLANK('MIS - Pharmacy'!U16), \"\", 'MIS - Pharmacy'!U16)","v":""},"","","","","","","",{"$f":"IF(ISBLANK('MIS - Pharmacy'!AC16),\"\",'MIS - Pharmacy'!AC16)","v":""},"",{"$f":"IF(ISBLANK('MIS - Pharmacy'!AD16),\"\",'MIS - Pharmacy'!AD16)","v":""},"","",{"$f":"IF('MIS - Pharmacy'!A16=\"\",\"\",SUM('MIS - Pharmacy'!K16+'MIS - Pharmacy'!L16))","v":""},"",{"$f":"IF('MIS - Pharmacy'!A16=\"\",\"\",('MIS - Pharmacy'!AF16+'MIS - Pharmacy'!AH16 +'MIS - Pharmacy'!AG16))","v":""},{"$f":"IF(ISBLANK('MIS - Pharmacy'!AI16),\"\",'MIS - Pharmacy'!AI16)","v":""},"","","",{"$f":"IF(ISBLANK('MIS - Pharmacy'!V16),\"\",'MIS - Pharmacy'!V16)","v":""},"","","",{"$f":"IF(ISBLANK('MIS - Pharmacy'!J16),\"\",'MIS - Pharmacy'!J16)","v":""},{"$f":"IF(ISBLANK('MIS - Pharmacy'!AY16),\"\",'MIS - Pharmacy'!AY16)","v":""},{"$f":"IF(ISBLANK('MIS - Pharmacy'!BH16),\"\",'MIS - Pharmacy'!BH16)","v":""},"",""]
[{"$f":"IF(ISBLANK('MIS - Pharmacy'!A17), \"\",'MIS - Pharmacy'!A17)","v":""},{"$f":"IF(ISBLANK('MIS - Pharmacy'!B17),\"\",('MIS - Pharmacy'!B17&\"(\"&'MIS - Pharmacy'!D17&\")\"))","v":""},{"$f":"IF(ISBLANK('MIS - Pharmacy'!BI17), \"\", 'MIS - Pharmacy'!BI17)","v":""},{"$f":"IF(ISBLANK('MIS - Pharmacy'!U17), \"\", 'MIS - Pharmacy'!U17)","v":""},"","","","","","","",{"$f":"IF(ISBLANK('MIS - Pharmacy'!AC17),\"\",'MIS - Pharmacy'!AC17)","v":""},"",{"$f":"IF(ISBLANK('MIS - Pharmacy'!AD17),\"\",'MIS - Pharmacy'!AD17)","v":""},"","",{"$f":"IF('MIS - Pharmacy'!A17=\"\",\"\",SUM('MIS - Pharmacy'!K17+'MIS - Pharmacy'!L17))","v":""},"",{"$f":"IF('MIS - Pharmacy'!A17=\"\",\"\",('MIS - Pharmacy'!AF17+'MIS - Pharmacy'!AH17 +'MIS - Pharmacy'!AG17))","v":""},{"$f":"IF(ISBLANK('MIS - Pharmacy'!AI17),\"\",'MIS - Pharmacy'!AI17)","v":""},"","","",{"$f":"IF(ISBLANK('MIS - Pharmacy'!V17),\"\",'MIS - Pharmacy'!V17)","v":""},"","","",{"$f":"IF(ISBLANK('MIS - Pharmacy'!J17),\"\",'MIS - Pharmacy'!J17)","v":""},{"$f":"IF(ISBLANK('MIS - Pharmacy'!AY17),\"\",'MIS - Pharmacy'!AY17)","v":""},{"$f":"IF(ISBLANK('MIS - Pharmacy'!BH17),\"\",'MIS - Pharmacy'!BH17)","v":""},"",""]
[{"$f":"IF(ISBLANK('MIS - Pharmacy'!A18), \"\",'MIS - Pharmacy'!A18)","v":""},{"$f":"IF(ISBLANK('MIS - Pharmacy'!B18),\"\",('MIS - Pharmacy'!B18&\"(\"&'MIS - Pharmacy'!D18&\")\"))","v":""},{"$f":"IF(ISBLANK('MIS - Pharmacy'!BI18), \"\", 'MIS - Pharmacy'!BI18)","v":""},{"$f":"IF(ISBLANK('MIS - Pharmacy'!U18), \"\", 'MIS - Pharmacy'!U18)","v":""},"","","","","","","",{"$f":"IF(ISBLANK('MIS - Pharmacy'!AC18),\"\",'MIS - Pharmacy'!AC18)","v":""},"",{"$f":"IF(ISBLANK('MIS - Pharmacy'!AD18),\"\",'MIS - Pharmacy'!AD18)","v":""},"","",{"$f":"IF('MIS - Pharmacy'!A18=\"\",\"\",SUM('MIS - Pharmacy'!K18+'MIS - Pharmacy'!L18))","v":""},"",{"$f":"IF('MIS - Pharmacy'!A18=\"\",\"\",('MIS - Pharmacy'!AF18+'MIS - Pharmacy'!AH18 +'MIS - Pharmacy'!AG18))","v":""},{"$f":"IF(ISBLANK('MIS - Pharmacy'!AI18),\"\",'MIS - Pharmacy'!AI18)","v":""},"","","",{"$f":"IF(ISBLANK('MIS - Pharmacy'!V18),\"\",'MIS - Pharmacy'!V18)","v":""},"","","",{"$f":"IF(ISBLANK('MIS - Pharmacy'!J18),\"\",'MIS - Pharmacy'!J18)","v":""},{"$f":"IF(ISBLANK('MIS - Pharmacy'!AY18),\"\",'MIS - Pharmacy'!AY18)","v":""},{"$f":"IF(ISBLANK('MIS - Pharmacy'!BH18),\"\",'MIS - Pharmacy'!BH18)","v":""},"",""]
[{"$f":"IF(ISBLANK('MIS - Pharmacy'!A19), \"\",'MIS - Pharmacy'!A19)","v":""},{"$f":"IF(ISBLANK('MIS - Pharmacy'!B19),\"\",('MIS - Pharmacy'!B19&\"(\"&'MIS - Pharmacy'!D19&\")\"))","v":""},{"$f":"IF(ISBLANK('MIS - Pharmacy'!BI19), \"\", 'MIS - Pharmacy'!BI19)","v":""},{"$f":"IF(ISBLANK('MIS - Pharmacy'!U19), \"\", 'MIS - Pharmacy'!U19)","v":""},"","","","","","","",{"$f":"IF(ISBLANK('MIS - Pharmacy'!AC19),\"\",'MIS - Pharmacy'!AC19)","v":""},"",{"$f":"IF(ISBLANK('MIS - Pharmacy'!AD19),\"\",'MIS - Pharmacy'!AD19)","v":""},"","",{"$f":"IF('MIS - Pharmacy'!A19=\"\",\"\",SUM('MIS - Pharmacy'!K19+'MIS - Pharmacy'!L19))","v":""},"",{"$f":"IF('MIS - Pharmacy'!A19=\"\",\"\",('MIS - Pharmacy'!AF19+'MIS - Pharmacy'!AH19 +'MIS - Pharmacy'!AG19))","v":""},{"$f":"IF(ISBLANK('MIS - Pharmacy'!AI19),\"\",'MIS - Pharmacy'!AI19)","v":""},"","","",{"$f":"IF(ISBLANK('MIS - Pharmacy'!V19),\"\",'MIS - Pharmacy'!V19)","v":""},"","","",{"$f":"IF(ISBLANK('MIS - Pharmacy'!J19),\"\",'MIS - Pharmacy'!J19)","v":""},{"$f":"IF(ISBLANK('MIS - Pharmacy'!AY19),\"\",'MIS - Pharmacy'!AY19)","v":""},{"$f":"IF(ISBLANK('MIS - Pharmacy'!BH19),\"\",'MIS - Pharmacy'!BH19)","v":""},"",""]
[{"$f":"IF(ISBLANK('MIS - Pharmacy'!A20), \"\",'MIS - Pharmacy'!A20)","v":""},{"$f":"IF(ISBLANK('MIS - Pharmacy'!B20),\"\",('MIS - Pharmacy'!B20&\"(\"&'MIS - Pharmacy'!D20&\")\"))","v":""},{"$f":"IF(ISBLANK('MIS - Pharmacy'!BI20), \"\", 'MIS - Pharmacy'!BI20)","v":""},{"$f":"IF(ISBLANK('MIS - Pharmacy'!U20), \"\", 'MIS - Pharmacy'!U20)","v":""},"","","","","","","",{"$f":"IF(ISBLANK('MIS - Pharmacy'!AC20),\"\",'MIS - Pharmacy'!AC20)","v":""},"",{"$f":"IF(ISBLANK('MIS - Pharmacy'!AD20),\"\",'MIS - Pharmacy'!AD20)","v":""},"","",{"$f":"IF('MIS - Pharmacy'!A20=\"\",\"\",SUM('MIS - Pharmacy'!K20+'MIS - Pharmacy'!L20))","v":""},"",{"$f":"IF('MIS - Pharmacy'!A20=\"\",\"\",('MIS - Pharmacy'!AF20+'MIS - Pharmacy'!AH20 +'MIS - Pharmacy'!AG20))","v":""},{"$f":"IF(ISBLANK('MIS - Pharmacy'!AI20),\"\",'MIS - Pharmacy'!AI20)","v":""},"","","",{"$f":"IF(ISBLANK('MIS - Pharmacy'!V20),\"\",'MIS - Pharmacy'!V20)","v":""},"","","",{"$f":"IF(ISBLANK('MIS - Pharmacy'!J20),\"\",'MIS - Pharmacy'!J20)","v":""},{"$f":"IF(ISBLANK('MIS - Pharmacy'!AY20),\"\",'MIS - Pharmacy'!AY20)","v":""},{"$f":"IF(ISBLANK('MIS - Pharmacy'!BH20),\"\",'MIS - Pharmacy'!BH20)","v":""},"",""]
[{"$f":"IF(ISBLANK('MIS - Pharmacy'!A21), \"\",'MIS - Pharmacy'!A21)","v":""},{"$f":"IF(ISBLANK('MIS - Pharmacy'!B21),\"\",('MIS - Pharmacy'!B21&\"(\"&'MIS - Pharmacy'!D21&\")\"))","v":""},{"$f":"IF(ISBLANK('MIS - Pharmacy'!BI21), \"\", 'MIS - Pharmacy'!BI21)","v":""},{"$f":"IF(ISBLANK('MIS - Pharmacy'!U21), \"\", 'MIS - Pharmacy'!U21)","v":""},"","","","","","","",{"$f":"IF(ISBLANK('MIS - Pharmacy'!AC21),\"\",'MIS - Pharmacy'!AC21)","v":""},"",{"$f":"IF(ISBLANK('MIS - Pharmacy'!AD21),\"\",'MIS - Pharmacy'!AD21)","v":""},"","",{"$f":"IF('MIS - Pharmacy'!A21=\"\",\"\",SUM('MIS - Pharmacy'!K21+'MIS - Pharmacy'!L21))","v":""},"",{"$f":"IF('MIS - Pharmacy'!A21=\"\",\"\",('MIS - Pharmacy'!AF21+'MIS - Pharmacy'!AH21 +'MIS - Pharmacy'!AG21))","v":""},{"$f":"IF(ISBLANK('MIS - Pharmacy'!AI21),\"\",'MIS - Pharmacy'!AI21)","v":""},"","","",{"$f":"IF(ISBLANK('MIS - Pharmacy'!V21),\"\",'MIS - Pharmacy'!V21)","v":""},"","","",{"$f":"IF(ISBLANK('MIS - Pharmacy'!J21),\"\",'MIS - Pharmacy'!J21)","v":""},{"$f":"IF(ISBLANK('MIS - Pharmacy'!AY21),\"\",'MIS - Pharmacy'!AY21)","v":""},{"$f":"IF(ISBLANK('MIS - Pharmacy'!BH21),\"\",'MIS - Pharmacy'!BH21)","v":""},"",""]
[{"$f":"IF(ISBLANK('MIS - Pharmacy'!A22), \"\",'MIS - Pharmacy'!A22)","v":""},{"$f":"IF(ISBLANK('MIS - Pharmacy'!B22),\"\",('MIS - Pharmacy'!B22&\"(\"&'MIS - Pharmacy'!D22&\")\"))","v":""},{"$f":"IF(ISBLANK('MIS - Pharmacy'!BI22), \"\", 'MIS - Pharmacy'!BI22)","v":""},{"$f":"IF(ISBLANK('MIS - Pharmacy'!U22), \"\", 'MIS - Pharmacy'!U22)","v":""},"","","","","","","",{"$f":"IF(ISBLANK('MIS - Pharmacy'!AC22),\"\",'MIS - Pharmacy'!AC22)","v":""},"",{"$f":"IF(ISBLANK('MIS - Pharmacy'!AD22),\"\",'MIS - Pharmacy'!AD22)","v":""},"","",{"$f":"IF('MIS - Pharmacy'!A22=\"\",\"\",SUM('MIS - Pharmacy'!K22+'MIS - Pharmacy'!L22))","v":""},"",{"$f":"IF('MIS - Pharmacy'!A22=\"\",\"\",('MIS - Pharmacy'!AF22+'MIS - Pharmacy'!AH22 +'MIS - Pharmacy'!AG22))","v":""},{"$f":"IF(ISBLANK('MIS - Pharmacy'!AI22),\"\",'MIS - Pharmacy'!AI22)","v":""},"","","",{"$f":"IF(ISBLANK('MIS - Pharmacy'!V22),\"\",'MIS - Pharmacy'!V22)","v":""},"","","",{"$f":"IF(ISBLANK('MIS - Pharmacy'!J22),\"\",'MIS - Pharmacy'!J22)","v":""},{"$f":"IF(ISBLANK('MIS - Pharmacy'!AY22),\"\",'MIS - Pharmacy'!AY22)","v":""},{"$f":"IF(ISBLANK('MIS - Pharmacy'!BH22),\"\",'MIS - Pharmacy'!BH22)","v":""},"",""]
[{"$f":"IF(ISBLANK('MIS - Pharmacy'!A23), \"\",'MIS - Pharmacy'!A23)","v":""},{"$f":"IF(ISBLANK('MIS - Pharmacy'!B23),\"\",('MIS - Pharmacy'!B23&\"(\"&'MIS - Pharmacy'!D23&\")\"))","v":""},{"$f":"IF(ISBLANK('MIS - Pharmacy'!BI23), \"\", 'MIS - Pharmacy'!BI23)","v":""},{"$f":"IF(ISBLANK('MIS - Pharmacy'!U23), \"\", 'MIS - Pharmacy'!U23)","v":""},"","","","","","","",{"$f":"IF(ISBLANK('MIS - Pharmacy'!AC23),\"\",'MIS - Pharmacy'!AC23)","v":""},"",{"$f":"IF(ISBLANK('MIS - Pharmacy'!AD23),\"\",'MIS - Pharmacy'!AD23)","v":""},"","",{"$f":"IF('MIS - Pharmacy'!A23=\"\",\"\",SUM('MIS - Pharmacy'!K23+'MIS - Pharmacy'!L23))","v":""},"",{"$f":"IF('MIS - Pharmacy'!A23=\"\",\"\",('MIS - Pharmacy'!AF23+'MIS - Pharmacy'!AH23 +'MIS - Pharmacy'!AG23))","v":""},{"$f":"IF(ISBLANK('MIS - Pharmacy'!AI23),\"\",'MIS - Pharmacy'!AI23)","v":""},"","","",{"$f":"IF(ISBLANK('MIS - Pharmacy'!V23),\"\",'MIS - Pharmacy'!V23)","v":""},"","","",{"$f":"IF(ISBLANK('MIS - Pharmacy'!J23),\"\",'MIS - Pharmacy'!J23)","v":""},{"$f":"IF(ISBLANK('MIS - Pharmacy'!AY23),\"\",'MIS - Pharmacy'!AY23)","v":""},{"$f":"IF(ISBLANK('MIS - Pharmacy'!BH23),\"\",'MIS - Pharmacy'!BH23)","v":""},"",""]
[{"$f":"IF(ISBLANK('MIS - Pharmacy'!A24), \"\",'MIS - Pharmacy'!A24)","v":""},{"$f":"IF(ISBLANK('MIS - Pharmacy'!B24),\"\",('MIS - Pharmacy'!B24&\"(\"&'MIS - Pharmacy'!D24&\")\"))","v":""},{"$f":"IF(ISBLANK('MIS - Pharmacy'!BI24), \"\", 'MIS - Pharmacy'!BI24)","v":""},{"$f":"IF(ISBLANK('MIS - Pharmacy'!U24), \"\", 'MIS - Pharmacy'!U24)","v":""},"","","","","","","",{"$f":"IF(ISBLANK('MIS - Pharmacy'!AC24),\"\",'MIS - Pharmacy'!AC24)","v":""},"",{"$f":"IF(ISBLANK('MIS - Pharmacy'!AD24),\"\",'MIS - Pharmacy'!AD24)","v":""},"","",{"$f":"IF('MIS - Pharmacy'!A24=\"\",\"\",SUM('MIS - Pharmacy'!K24+'MIS - Pharmacy'!L24))","v":""},"",{"$f":"IF('MIS - Pharmacy'!A24=\"\",\"\",('MIS - Pharmacy'!AF24+'MIS - Pharmacy'!AH24 +'MIS - Pharmacy'!AG24))","v":""},{"$f":"IF(ISBLANK('MIS - Pharmacy'!AI24),\"\",'MIS - Pharmacy'!AI24)","v":""},"","","",{"$f":"IF(ISBLANK('MIS - Pharmacy'!V24),\"\",'MIS - Pharmacy'!V24)","v":""},"","","",{"$f":"IF(ISBLANK('MIS - Pharmacy'!J24),\"\",'MIS - Pharmacy'!J24)","v":""},{"$f":"IF(ISBLANK('MIS - Pharmacy'!AY24),\"\",'MIS - Pharmacy'!AY24)","v":""},{"$f":"IF(ISBLANK('MIS - Pharmacy'!BH24),\"\",'MIS - Pharmacy'!BH24)","v":""},"",""]
[{"$f":"IF(ISBLANK('MIS - Pharmacy'!A25), \"\",'MIS - Pharmacy'!A25)","v":""},{"$f":"IF(ISBLANK('MIS - Pharmacy'!B25),\"\",('MIS - Pharmacy'!B25&\"(\"&'MIS - Pharmacy'!D25&\")\"))","v":""},{"$f":"IF(ISBLANK('MIS - Pharmacy'!BI25), \"\", 'MIS - Pharmacy'!BI25)","v":""},{"$f":"IF(ISBLANK('MIS - Pharmacy'!U25), \"\", 'MIS - Pharmacy'!U25)","v":""},"","","","","","","",{"$f":"IF(ISBLANK('MIS - Pharmacy'!AC25),\"\",'MIS - Pharmacy'!AC25)","v":""},"",{"$f":"IF(ISBLANK('MIS - Pharmacy'!AD25),\"\",'MIS - Pharmacy'!AD25)","v":""},"","",{"$f":"IF('MIS - Pharmacy'!A25=\"\",\"\",SUM('MIS - Pharmacy'!K25+'MIS - Pharmacy'!L25))","v":""},"",{"$f":"IF('MIS - Pharmacy'!A25=\"\",\"\",('MIS - Pharmacy'!AF25+'MIS - Pharmacy'!AH25 +'MIS - Pharmacy'!AG25))","v":""},{"$f":"IF(ISBLANK('MIS - Pharmacy'!AI25),\"\",'MIS - Pharmacy'!AI25)","v":""},"","","",{"$f":"IF(ISBLANK('MIS - Pharmacy'!V25),\"\",'MIS - Pharmacy'!V25)","v":""},"","","",{"$f":"IF(ISBLANK('MIS - Pharmacy'!J25),\"\",'MIS - Pharmacy'!J25)","v":""},{"$f":"IF(ISBLANK('MIS - Pharmacy'!AY25),\"\",'MIS - Pharmacy'!AY25)","v":""},{"$f":"IF(ISBLANK('MIS - Pharmacy'!BH25),\"\",'MIS - Pharmacy'!BH25)","v":""},"",""]
[{"$f":"IF(ISBLANK('MIS - Pharmacy'!A26), \"\",'MIS - Pharmacy'!A26)","v":""},{"$f":"IF(ISBLANK('MIS - Pharmacy'!B26),\"\",('MIS - Pharmacy'!B26&\"(\"&'MIS - Pharmacy'!D26&\")\"))","v":""},{"$f":"IF(ISBLANK('MIS - Pharmacy'!BI26), \"\", 'MIS - Pharmacy'!BI26)","v":""},{"$f":"IF(ISBLANK('MIS - Pharmacy'!U26), \"\", 'MIS - Pharmacy'!U26)","v":""},"","","","","","","",{"$f":"IF(ISBLANK('MIS - Pharmacy'!AC26),\"\",'MIS - Pharmacy'!AC26)","v":""},"",{"$f":"IF(ISBLANK('MIS - Pharmacy'!AD26),\"\",'MIS - Pharmacy'!AD26)","v":""},"","",{"$f":"IF('MIS - Pharmacy'!A26=\"\",\"\",SUM('MIS - Pharmacy'!K26+'MIS - Pharmacy'!L26))","v":""},"",{"$f":"IF('MIS - Pharmacy'!A26=\"\",\"\",('MIS - Pharmacy'!AF26+'MIS - Pharmacy'!AH26 +'MIS - Pharmacy'!AG26))","v":""},{"$f":"IF(ISBLANK('MIS - Pharmacy'!AI26),\"\",'MIS - Pharmacy'!AI26)","v":""},"","","",{"$f":"IF(ISBLANK('MIS - Pharmacy'!V26),\"\",'MIS - Pharmacy'!V26)","v":""},"","","",{"$f":"IF(ISBLANK('MIS - Pharmacy'!J26),\"\",'MIS - Pharmacy'!J26)","v":""},{"$f":"IF(ISBLANK('MIS - Pharmacy'!AY26),\"\",'MIS - Pharmacy'!AY26)","v":""},{"$f":"IF(ISBLANK('MIS - Pharmacy'!BH26),\"\",'MIS - Pharmacy'!BH26)","v":""},"",""]
[{"$f":"IF(ISBLANK('MIS - Pharmacy'!A27), \"\",'MIS - Pharmacy'!A27)","v":""},{"$f":"IF(ISBLANK('MIS - Pharmacy'!B27),\"\",('MIS - Pharmacy'!B27&\"(\"&'MIS - Pharmacy'!D27&\")\"))","v":""},{"$f":"IF(ISBLANK('MIS - Pharmacy'!BI27), \"\", 'MIS - Pharmacy'!BI27)","v":""},{"$f":"IF(ISBLANK('MIS - Pharmacy'!U27), \"\", 'MIS - Pharmacy'!U27)","v":""},"","","","","","","",{"$f":"IF(ISBLANK('MIS - Pharmacy'!AC27),\"\",'MIS - Pharmacy'!AC27)","v":""},"",{"$f":"IF(ISBLANK('MIS - Pharmacy'!AD27),\"\",'MIS - Pharmacy'!AD27)","v":""},"","",{"$f":"IF('MIS - Pharmacy'!A27=\"\",\"\",SUM('MIS - Pharmacy'!K27+'MIS - Pharmacy'!L27))","v":""},"",{"$f":"IF('MIS - Pharmacy'!A27=\"\",\"\",('MIS - Pharmacy'!AF27+'MIS - Pharmacy'!AH27 +'MIS - Pharmacy'!AG27))","v":""},{"$f":"IF(ISBLANK('MIS - Pharmacy'!AI27),\"\",'MIS - Pharmacy'!AI27)","v":""},"","","",{"$f":"IF(ISBLANK('MIS - Pharmacy'!V27),\"\",'MIS - Pharmacy'!V27)","v":""},"","","",{"$f":"IF(ISBLANK('MIS - Pharmacy'!J27),\"\",'MIS - Pharmacy'!J27)","v":""},{"$f":"IF(ISBLANK('MIS - Pharmacy'!AY27),\"\",'MIS - Pharmacy'!AY27)","v":""},{"$f":"IF(ISBLANK('MIS - Pharmacy'!BH27),\"\",'MIS - Pharmacy'!BH27)","v":""},"",""]
[{"$f":"IF(ISBLANK('MIS - Pharmacy'!A28), \"\",'MIS - Pharmacy'!A28)","v":""},{"$f":"IF(ISBLANK('MIS - Pharmacy'!B28),\"\",('MIS - Pharmacy'!B28&\"(\"&'MIS - Pharmacy'!D28&\")\"))","v":""},{"$f":"IF(ISBLANK('MIS - Pharmacy'!BI28), \"\", 'MIS - Pharmacy'!BI28)","v":""},{"$f":"IF(ISBLANK('MIS - Pharmacy'!U28), \"\", 'MIS - Pharmacy'!U28)","v":""},"","","","","","","",{"$f":"IF(ISBLANK('MIS - Pharmacy'!AC28),\"\",'MIS - Pharmacy'!AC28)","v":""},"",{"$f":"IF(ISBLANK('MIS - Pharmacy'!AD28),\"\",'MIS - Pharmacy'!AD28)","v":""},"","",{"$f":"IF('MIS - Pharmacy'!A28=\"\",\"\",SUM('MIS - Pharmacy'!K28+'MIS - Pharmacy'!L28))","v":""},"",{"$f":"IF('MIS - Pharmacy'!A28=\"\",\"\",('MIS - Pharmacy'!AF28+'MIS - Pharmacy'!AH28 +'MIS - Pharmacy'!AG28))","v":""},{"$f":"IF(ISBLANK('MIS - Pharmacy'!AI28),\"\",'MIS - Pharmacy'!AI28)","v":""},"","","",{"$f":"IF(ISBLANK('MIS - Pharmacy'!V28),\"\",'MIS - Pharmacy'!V28)","v":""},"","","",{"$f":"IF(ISBLANK('MIS - Pharmacy'!J28),\"\",'MIS - Pharmacy'!J28)","v":""},{"$f":"IF(ISBLANK('MIS - Pharmacy'!AY28),\"\",'MIS - Pharmacy'!AY28)","v":""},{"$f":"IF(ISBLANK('MIS - Pharmacy'!BH28),\"\",'MIS - Pharmacy'!BH28)","v":""},"",""]
[{"$f":"IF(ISBLANK('MIS - Pharmacy'!A29), \"\",'MIS - Pharmacy'!A29)","v":""},{"$f":"IF(ISBLANK('MIS - Pharmacy'!B29),\"\",('MIS - Pharmacy'!B29&\"(\"&'MIS - Pharmacy'!D29&\")\"))","v":""},{"$f":"IF(ISBLANK('MIS - Pharmacy'!BI29), \"\", 'MIS - Pharmacy'!BI29)","v":""},{"$f":"IF(ISBLANK('MIS - Pharmacy'!U29), \"\", 'MIS - Pharmacy'!U29)","v":""},"","","","","","","",{"$f":"IF(ISBLANK('MIS - Pharmacy'!AC29),\"\",'MIS - Pharmacy'!AC29)","v":""},"",{"$f":"IF(ISBLANK('MIS - Pharmacy'!AD29),\"\",'MIS - Pharmacy'!AD29)","v":""},"","",{"$f":"IF('MIS - Pharmacy'!A29=\"\",\"\",SUM('MIS - Pharmacy'!K29+'MIS - Pharmacy'!L29))","v":""},"",{"$f":"IF('MIS - Pharmacy'!A29=\"\",\"\",('MIS - Pharmacy'!AF29+'MIS - Pharmacy'!AH29 +'MIS - Pharmacy'!AG29))","v":""},{"$f":"IF(ISBLANK('MIS - Pharmacy'!AI29),\"\",'MIS - Pharmacy'!AI29)","v":""},"","","",{"$f":"IF(ISBLANK('MIS - Pharmacy'!V29),\"\",'MIS - Pharmacy'!V29)","v":""},"","","",{"$f":"IF(ISBLANK('MIS - Pharmacy'!J29),\"\",'MIS - Pharmacy'!J29)","v":""},{"$f":"IF(ISBLANK('MIS - Pharmacy'!AY29),\"\",'MIS - Pharmacy'!AY29)","v":""},{"$f":"IF(ISBLANK('MIS - Pharmacy'!BH29),\"\",'MIS - Pharmacy'!BH29)","v":""},"",""]
[{"$f":"IF(ISBLANK('MIS - Pharmacy'!A30), \"\",'MIS - Pharmacy'!A30)","v":""},{"$f":"IF(ISBLANK('MIS - Pharmacy'!B30),\"\",('MIS - Pharmacy'!B30&\"(\"&'MIS - Pharmacy'!D30&\")\"))","v":""},{"$f":"IF(ISBLANK('MIS - Pharmacy'!BI30), \"\", 'MIS - Pharmacy'!BI30)","v":""},{"$f":"IF(ISBLANK('MIS - Pharmacy'!U30), \"\", 'MIS - Pharmacy'!U30)","v":""},"","","","","","","",{"$f":"IF(ISBLANK('MIS - Pharmacy'!AC30),\"\",'MIS - Pharmacy'!AC30)","v":""},"",{"$f":"IF(ISBLANK('MIS - Pharmacy'!AD30),\"\",'MIS - Pharmacy'!AD30)","v":""},"","",{"$f":"IF('MIS - Pharmacy'!A30=\"\",\"\",SUM('MIS - Pharmacy'!K30+'MIS - Pharmacy'!L30))","v":""},"",{"$f":"IF('MIS - Pharmacy'!A30=\"\",\"\",('MIS - Pharmacy'!AF30+'MIS - Pharmacy'!AH30 +'MIS - Pharmacy'!AG30))","v":""},{"$f":"IF(ISBLANK('MIS - Pharmacy'!AI30),\"\",'MIS - Pharmacy'!AI30)","v":""},"","","",{"$f":"IF(ISBLANK('MIS - Pharmacy'!V30),\"\",'MIS - Pharmacy'!V30)","v":""},"","","",{"$f":"IF(ISBLANK('MIS - Pharmacy'!J30),\"\",'MIS - Pharmacy'!J30)","v":""},{"$f":"IF(ISBLANK('MIS - Pharmacy'!AY30),\"\",'MIS - Pharmacy'!AY30)","v":""},{"$f":"IF(ISBLANK('MIS - Pharmacy'!BH30),\"\",'MIS - Pharmacy'!BH30)","v":""},"",""]
[{"$f":"IF(ISBLANK('MIS - Pharmacy'!A31), \"\",'MIS - Pharmacy'!A31)","v":""},{"$f":"IF(ISBLANK('MIS - Pharmacy'!B31),\"\",('MIS - Pharmacy'!B31&\"(\"&'MIS - Pharmacy'!D31&\")\"))","v":""},{"$f":"IF(ISBLANK('MIS - Pharmacy'!BI31), \"\", 'MIS - Pharmacy'!BI31)","v":""},{"$f":"IF(ISBLANK('MIS - Pharmacy'!U31), \"\", 'MIS - Pharmacy'!U31)","v":""},"","","","","","","",{"$f":"IF(ISBLANK('MIS - Pharmacy'!AC31),\"\",'MIS - Pharmacy'!AC31)","v":""},"",{"$f":"IF(ISBLANK('MIS - Pharmacy'!AD31),\"\",'MIS - Pharmacy'!AD31)","v":""},"","",{"$f":"IF('MIS - Pharmacy'!A31=\"\",\"\",SUM('MIS - Pharmacy'!K31+'MIS - Pharmacy'!L31))","v":""},"",{"$f":"IF('MIS - Pharmacy'!A31=\"\",\"\",('MIS - Pharmacy'!AF31+'MIS - Pharmacy'!AH31 +'MIS - Pharmacy'!AG31))","v":""},{"$f":"IF(ISBLANK('MIS - Pharmacy'!AI31),\"\",'MIS - Pharmacy'!AI31)","v":""},"","","",{"$f":"IF(ISBLANK('MIS - Pharmacy'!V31),\"\",'MIS - Pharmacy'!V31)","v":""},"","","",{"$f":"IF(ISBLANK('MIS - Pharmacy'!J31),\"\",'MIS - Pharmacy'!J31)","v":""},{"$f":"IF(ISBLANK('MIS - Pharmacy'!AY31),\"\",'MIS - Pharmacy'!AY31)","v":""},{"$f":"IF(ISBLANK('MIS - Pharmacy'!BH31),\"\",'MIS - Pharmacy'!BH31)","v":""},"",""]
[{"$f":"IF(ISBLANK('MIS - Pharmacy'!A32), \"\",'MIS - Pharmacy'!A32)","v":""},{"$f":"IF(ISBLANK('MIS - Pharmacy'!B32),\"\",('MIS - Pharmacy'!B32&\"(\"&'MIS - Pharmacy'!D32&\")\"))","v":""},{"$f":"IF(ISBLANK('MIS - Pharmacy'!BI32), \"\", 'MIS - Pharmacy'!BI32)","v":""},{"$f":"IF(ISBLANK('MIS - Pharmacy'!U32), \"\", 'MIS - Pharmacy'!U32)","v":""},"","","","","","","",{"$f":"IF(ISBLANK('MIS - Pharmacy'!AC32),\"\",'MIS - Pharmacy'!AC32)","v":""},"",{"$f":"IF(ISBLANK('MIS - Pharmacy'!AD32),\"\",'MIS - Pharmacy'!AD32)","v":""},"","",{"$f":"IF('MIS - Pharmacy'!A32=\"\",\"\",SUM('MIS - Pharmacy'!K32+'MIS - Pharmacy'!L32))","v":""},"",{"$f":"IF('MIS - Pharmacy'!A32=\"\",\"\",('MIS - Pharmacy'!AF32+'MIS - Pharmacy'!AH32 +'MIS - Pharmacy'!AG32))","v":""},{"$f":"IF(ISBLANK('MIS - Pharmacy'!AI32),\"\",'MIS - Pharmacy'!AI32)","v":""},"","","",{"$f":"IF(ISBLANK('MIS - Pharmacy'!V32),\"\",'MIS - Pharmacy'!V32)","v":""},"","","",{"$f":"IF(ISBLANK('MIS - Pharmacy'!J32),\"\",'MIS - Pharmacy'!J32)","v":""},{"$f":"IF(ISBLANK('MIS - Pharmacy'!AY32),\"\",'MIS - Pharmacy'!AY32)","v":""},{"$f":"IF(ISBLANK('MIS - Pharmacy'!BH32),\"\",'MIS - Pharmacy'!BH32)","v":""},"",""]
[{"$f":"IF(ISBLANK('MIS - Pharmacy'!A33), \"\",'MIS - Pharmacy'!A33)","v":""},{"$f":"IF(ISBLANK('MIS - Pharmacy'!B33),\"\",('MIS - Pharmacy'!B33&\"(\"&'MIS - Pharmacy'!D33&\")\"))","v":""},{"$f":"IF(ISBLANK('MIS - Pharmacy'!BI33), \"\", 'MIS - Pharmacy'!BI33)","v":""},{"$f":"IF(ISBLANK('MIS - Pharmacy'!U33), \"\", 'MIS - Pharmacy'!U33)","v":""},"","","","","","","",{"$f":"IF(ISBLANK('MIS - Pharmacy'!AC33),\"\",'MIS - Pharmacy'!AC33)","v":""},"",{"$f":"IF(ISBLANK('MIS - Pharmacy'!AD33),\"\",'MIS - Pharmacy'!AD33)","v":""},"","",{"$f":"IF('MIS - Pharmacy'!A33=\"\",\"\",SUM('MIS - Pharmacy'!K33+'MIS - Pharmacy'!L33))","v":""},"",{"$f":"IF('MIS - Pharmacy'!A33=\"\",\"\",('MIS - Pharmacy'!AF33+'MIS - Pharmacy'!AH33 +'MIS - Pharmacy'!AG33))","v":""},{"$f":"IF(ISBLANK('MIS - Pharmacy'!AI33),\"\",'MIS - Pharmacy'!AI33)","v":""},"","","",{"$f":"IF(ISBLANK('MIS - Pharmacy'!V33),\"\",'MIS - Pharmacy'!V33)","v":""},"","","",{"$f":"IF(ISBLANK('MIS - Pharmacy'!J33),\"\",'MIS - Pharmacy'!J33)","v":""},{"$f":"IF(ISBLANK('MIS - Pharmacy'!AY33),\"\",'MIS - Pharmacy'!AY33)","v":""},{"$f":"IF(ISBLANK('MIS - Pharmacy'!BH33),\"\",'MIS - Pharmacy'!BH33)","v":""},"",""]
[{"$f":"IF(ISBLANK('MIS - Pharmacy'!A34), \"\",'MIS - Pharmacy'!A34)","v":""},{"$f":"IF(ISBLANK('MIS - Pharmacy'!B34),\"\",('MIS - Pharmacy'!B34&\"(\"&'MIS - Pharmacy'!D34&\")\"))","v":""},{"$f":"IF(ISBLANK('MIS - Pharmacy'!BI34), \"\", 'MIS - Pharmacy'!BI34)","v":""},{"$f":"IF(ISBLANK('MIS - Pharmacy'!U34), \"\", 'MIS - Pharmacy'!U34)","v":""},"","","","","","","",{"$f":"IF(ISBLANK('MIS - Pharmacy'!AC34),\"\",'MIS - Pharmacy'!AC34)","v":""},"",{"$f":"IF(ISBLANK('MIS - Pharmacy'!AD34),\"\",'MIS - Pharmacy'!AD34)","v":""},"","",{"$f":"IF('MIS - Pharmacy'!A34=\"\",\"\",SUM('MIS - Pharmacy'!K34+'MIS - Pharmacy'!L34))","v":""},"",{"$f":"IF('MIS - Pharmacy'!A34=\"\",\"\",('MIS - Pharmacy'!AF34+'MIS - Pharmacy'!AH34 +'MIS - Pharmacy'!AG34))","v":""},{"$f":"IF(ISBLANK('MIS - Pharmacy'!AI34),\"\",'MIS - Pharmacy'!AI34)","v":""},"","","",{"$f":"IF(ISBLANK('MIS - Pharmacy'!V34),\"\",'MIS - Pharmacy'!V34)","v":""},"","","",{"$f":"IF(ISBLANK('MIS - Pharmacy'!J34),\"\",'MIS - Pharmacy'!J34)","v":""},{"$f":"IF(ISBLANK('MIS - Pharmacy'!AY34),\"\",'MIS - Pharmacy'!AY34)","v":""},{"$f":"IF(ISBLANK('MIS - Pharmacy'!BH34),\"\",'MIS - Pharmacy'!BH34)","v":""},"",""]
[{"$f":"IF(ISBLANK('MIS - Pharmacy'!A35), \"\",'MIS - Pharmacy'!A35)","v":""},{"$f":"IF(ISBLANK('MIS - Pharmacy'!B35),\"\",('MIS - Pharmacy'!B35&\"(\"&'MIS - Pharmacy'!D35&\")\"))","v":""},{"$f":"IF(ISBLANK('MIS - Pharmacy'!BI35), \"\", 'MIS - Pharmacy'!BI35)","v":""},{"$f":"IF(ISBLANK('MIS - Pharmacy'!U35), \"\", 'MIS - Pharmacy'!U35)","v":""},"","","","","","","",{"$f":"IF(ISBLANK('MIS - Pharmacy'!AC35),\"\",'MIS - Pharmacy'!AC35)","v":""},"",{"$f":"IF(ISBLANK('MIS - Pharmacy'!AD35),\"\",'MIS - Pharmacy'!AD35)","v":""},"","",{"$f":"IF('MIS - Pharmacy'!A35=\"\",\"\",SUM('MIS - Pharmacy'!K35+'MIS - Pharmacy'!L35))","v":""},"",{"$f":"IF('MIS - Pharmacy'!A35=\"\",\"\",('MIS - Pharmacy'!AF35+'MIS - Pharmacy'!AH35 +'MIS - Pharmacy'!AG35))","v":""},{"$f":"IF(ISBLANK('MIS - Pharmacy'!AI35),\"\",'MIS - Pharmacy'!AI35)","v":""},"","","",{"$f":"IF(ISBLANK('MIS - Pharmacy'!V35),\"\",'MIS - Pharmacy'!V35)","v":""},"","","",{"$f":"IF(ISBLANK('MIS - Pharmacy'!J35),\"\",'MIS - Pharmacy'!J35)","v":""},{"$f":"IF(ISBLANK('MIS - Pharmacy'!AY35),\"\",'MIS - Pharmacy'!AY35)","v":""},{"$f":"IF(ISBLANK('MIS - Pharmacy'!BH35),\"\",'MIS - Pharmacy'!BH35)","v":""},"",""]
[{"$f":"IF(ISBLANK('MIS - Pharmacy'!A36), \"\",'MIS - Pharmacy'!A36)","v":""},{"$f":"IF(ISBLANK('MIS - Pharmacy'!B36),\"\",('MIS - Pharmacy'!B36&\"(\"&'MIS - Pharmacy'!D36&\")\"))","v":""},{"$f":"IF(ISBLANK('MIS - Pharmacy'!BI36), \"\", 'MIS - Pharmacy'!BI36)","v":""},{"$f":"IF(ISBLANK('MIS - Pharmacy'!U36), \"\", 'MIS - Pharmacy'!U36)","v":""},"","","","","","","",{"$f":"IF(ISBLANK('MIS - Pharmacy'!AC36),\"\",'MIS - Pharmacy'!AC36)","v":""},"",{"$f":"IF(ISBLANK('MIS - Pharmacy'!AD36),\"\",'MIS - Pharmacy'!AD36)","v":""},"","",{"$f":"IF('MIS - Pharmacy'!A36=\"\",\"\",SUM('MIS - Pharmacy'!K36+'MIS - Pharmacy'!L36))","v":""},"",{"$f":"IF('MIS - Pharmacy'!A36=\"\",\"\",('MIS - Pharmacy'!AF36+'MIS - Pharmacy'!AH36 +'MIS - Pharmacy'!AG36))","v":""},{"$f":"IF(ISBLANK('MIS - Pharmacy'!AI36),\"\",'MIS - Pharmacy'!AI36)","v":""},"","","",{"$f":"IF(ISBLANK('MIS - Pharmacy'!V36),\"\",'MIS - Pharmacy'!V36)","v":""},"","","",{"$f":"IF(ISBLANK('MIS - Pharmacy'!J36),\"\",'MIS - Pharmacy'!J36)","v":""},{"$f":"IF(ISBLANK('MIS - Pharmacy'!AY36),\"\",'MIS - Pharmacy'!AY36)","v":""},{"$f":"IF(ISBLANK('MIS - Pharmacy'!BH36),\"\",'MIS - Pharmacy'!BH36)","v":""},"",""]
[{"$f":"IF(ISBLANK('MIS - Pharmacy'!A37), \"\",'MIS - Pharmacy'!A37)","v":""},{"$f":"IF(ISBLANK('MIS - Pharmacy'!B37),\"\",('MIS - Pharmacy'!B37&\"(\"&'MIS - Pharmacy'!D37&\")\"))","v":""},{"$f":"IF(ISBLANK('MIS - Pharmacy'!BI37), \"\", 'MIS - Pharmacy'!BI37)","v":""},{"$f":"IF(ISBLANK('MIS - Pharmacy'!U37), \"\", 'MIS - Pharmacy'!U37)","v":""},"","","","","","","",{"$f":"IF(ISBLANK('MIS - Pharmacy'!AC37),\"\",'MIS - Pharmacy'!AC37)","v":""},"",{"$f":"IF(ISBLANK('MIS - Pharmacy'!AD37),\"\",'MIS - Pharmacy'!AD37)","v":""},"","",{"$f":"IF('MIS - Pharmacy'!A37=\"\",\"\",SUM('MIS - Pharmacy'!K37+'MIS - Pharmacy'!L37))","v":""},"",{"$f":"IF('MIS - Pharmacy'!A37=\"\",\"\",('MIS - Pharmacy'!AF37+'MIS - Pharmacy'!AH37 +'MIS - Pharmacy'!AG37))","v":""},{"$f":"IF(ISBLANK('MIS - Pharmacy'!AI37),\"\",'MIS - Pharmacy'!AI37)","v":""},"","","",{"$f":"IF(ISBLANK('MIS - Pharmacy'!V37),\"\",'MIS - Pharmacy'!V37)","v":""},"","","",{"$f":"IF(ISBLANK('MIS - Pharmacy'!J37),\"\",'MIS - Pharmacy'!J37)","v":""},{"$f":"IF(ISBLANK('MIS - Pharmacy'!AY37),\"\",'MIS - Pharmacy'!AY37)","v":""},{"$f":"IF(ISBLANK('MIS - Pharmacy'!BH37),\"\",'MIS - Pharmacy'!BH37)","v":""},"",""]
[{"$f":"IF(ISBLANK('MIS - Pharmacy'!A38), \"\",'MIS - Pharmacy'!A38)","v":""},{"$f":"IF(ISBLANK('MIS - Pharmacy'!B38),\"\",('MIS - Pharmacy'!B38&\"(\"&'MIS - Pharmacy'!D38&\")\"))","v":""},{"$f":"IF(ISBLANK('MIS - Pharmacy'!BI38), \"\", 'MIS - Pharmacy'!BI38)","v":""},{"$f":"IF(ISBLANK('MIS - Pharmacy'!U38), \"\", 'MIS - Pharmacy'!U38)","v":""},"","","","","","","",{"$f":"IF(ISBLANK('MIS - Pharmacy'!AC38),\"\",'MIS - Pharmacy'!AC38)","v":""},"",{"$f":"IF(ISBLANK('MIS - Pharmacy'!AD38),\"\",'MIS - Pharmacy'!AD38)","v":""},"","",{"$f":"IF('MIS - Pharmacy'!A38=\"\",\"\",SUM('MIS - Pharmacy'!K38+'MIS - Pharmacy'!L38))","v":""},"",{"$f":"IF('MIS - Pharmacy'!A38=\"\",\"\",('MIS - Pharmacy'!AF38+'MIS - Pharmacy'!AH38 +'MIS - Pharmacy'!AG38))","v":""},{"$f":"IF(ISBLANK('MIS - Pharmacy'!AI38),\"\",'MIS - Pharmacy'!AI38)","v":""},"","","",{"$f":"IF(ISBLANK('MIS - Pharmacy'!V38),\"\",'MIS - Pharmacy'!V38)","v":""},"","","",{"$f":"IF(ISBLANK('MIS - Pharmacy'!J38),\"\",'MIS - Pharmacy'!J38)","v":""},{"$f":"IF(ISBLANK('MIS - Pharmacy'!AY38),\"\",'MIS - Pharmacy'!AY38)","v":""},{"$f":"IF(ISBLANK('MIS - Pharmacy'!BH38),\"\",'MIS - Pharmacy'!BH38)","v":""},"",""]
[{"$f":"IF(ISBLANK('MIS - Pharmacy'!A39), \"\",'MIS - Pharmacy'!A39)","v":""},{"$f":"IF(ISBLANK('MIS - Pharmacy'!B39),\"\",('MIS - Pharmacy'!B39&\"(\"&'MIS - Pharmacy'!D39&\")\"))","v":""},{"$f":"IF(ISBLANK('MIS - Pharmacy'!BI39), \"\", 'MIS - Pharmacy'!BI39)","v":""},{"$f":"IF(ISBLANK('MIS - Pharmacy'!U39), \"\", 'MIS - Pharmacy'!U39)","v":""},"","","","","","","",{"$f":"IF(ISBLANK('MIS - Pharmacy'!AC39),\"\",'MIS - Pharmacy'!AC39)","v":""},"",{"$f":"IF(ISBLANK('MIS - Pharmacy'!AD39),\"\",'MIS - Pharmacy'!AD39)","v":""},"","",{"$f":"IF('MIS - Pharmacy'!A39=\"\",\"\",SUM('MIS - Pharmacy'!K39+'MIS - Pharmacy'!L39))","v":""},"",{"$f":"IF('MIS - Pharmacy'!A39=\"\",\"\",('MIS - Pharmacy'!AF39+'MIS - Pharmacy'!AH39 +'MIS - Pharmacy'!AG39))","v":""},{"$f":"IF(ISBLANK('MIS - Pharmacy'!AI39),\"\",'MIS - Pharmacy'!AI39)","v":""},"","","",{"$f":"IF(ISBLANK('MIS - Pharmacy'!V39),\"\",'MIS - Pharmacy'!V39)","v":""},"","","",{"$f":"IF(ISBLANK('MIS - Pharmacy'!J39),\"\",'MIS - Pharmacy'!J39)","v":""},{"$f":"IF(ISBLANK('MIS - Pharmacy'!AY39),\"\",'MIS - Pharmacy'!AY39)","v":""},{"$f":"IF(ISBLANK('MIS - Pharmacy'!BH39),\"\",'MIS - Pharmacy'!BH39)","v":""},"",""]
[{"$f":"IF(ISBLANK('MIS - Pharmacy'!A40), \"\",'MIS - Pharmacy'!A40)","v":""},{"$f":"IF(ISBLANK('MIS - Pharmacy'!B40),\"\",('MIS - Pharmacy'!B40&\"(\"&'MIS - Pharmacy'!D40&\")\"))","v":""},{"$f":"IF(ISBLANK('MIS - Pharmacy'!BI40), \"\", 'MIS - Pharmacy'!BI40)","v":""},{"$f":"IF(ISBLANK('MIS - Pharmacy'!U40), \"\", 'MIS - Pharmacy'!U40)","v":""},"","","","","","","",{"$f":"IF(ISBLANK('MIS - Pharmacy'!AC40),\"\",'MIS - Pharmacy'!AC40)","v":""},"",{"$f":"IF(ISBLANK('MIS - Pharmacy'!AD40),\"\",'MIS - Pharmacy'!AD40)","v":""},"","",{"$f":"IF('MIS - Pharmacy'!A40=\"\",\"\",SUM('MIS - Pharmacy'!K40+'MIS - Pharmacy'!L40))","v":""},"",{"$f":"IF('MIS - Pharmacy'!A40=\"\",\"\",('MIS - Pharmacy'!AF40+'MIS - Pharmacy'!AH40 +'MIS - Pharmacy'!AG40))","v":""},{"$f":"IF(ISBLANK('MIS - Pharmacy'!AI40),\"\",'MIS - Pharmacy'!AI40)","v":""},"","","",{"$f":"IF(ISBLANK('MIS - Pharmacy'!V40),\"\",'MIS - Pharmacy'!V40)","v":""},"","","",{"$f":"IF(ISBLANK('MIS - Pharmacy'!J40),\"\",'MIS - Pharmacy'!J40)","v":""},{"$f":"IF(ISBLANK('MIS - Pharmacy'!AY40),\"\",'MIS - Pharmacy'!AY40)","v":""},{"$f":"IF(ISBLANK('MIS - Pharmacy'!BH40),\"\",'MIS - Pharmacy'!BH40)","v":""},"",""]
[{"$f":"IF(ISBLANK('MIS - Pharmacy'!A41), \"\",'MIS - Pharmacy'!A41)","v":""},{"$f":"IF(ISBLANK('MIS - Pharmacy'!B41),\"\",('MIS - Pharmacy'!B41&\"(\"&'MIS - Pharmacy'!D41&\")\"))","v":""},{"$f":"IF(ISBLANK('MIS - Pharmacy'!BI41), \"\", 'MIS - Pharmacy'!BI41)","v":""},{"$f":"IF(ISBLANK('MIS - Pharmacy'!U41), \"\", 'MIS - Pharmacy'!U41)","v":""},"","","","","","","",{"$f":"IF(ISBLANK('MIS - Pharmacy'!AC41),\"\",'MIS - Pharmacy'!AC41)","v":""},"",{"$f":"IF(ISBLANK('MIS - Pharmacy'!AD41),\"\",'MIS - Pharmacy'!AD41)","v":""},"","",{"$f":"IF('MIS - Pharmacy'!A41=\"\",\"\",SUM('MIS - Pharmacy'!K41+'MIS - Pharmacy'!L41))","v":""},"",{"$f":"IF('MIS - Pharmacy'!A41=\"\",\"\",('MIS - Pharmacy'!AF41+'MIS - Pharmacy'!AH41 +'MIS - Pharmacy'!AG41))","v":""},{"$f":"IF(ISBLANK('MIS - Pharmacy'!AI41),\"\",'MIS - Pharmacy'!AI41)","v":""},"","","",{"$f":"IF(ISBLANK('MIS - Pharmacy'!V41),\"\",'MIS - Pharmacy'!V41)","v":""},"","","",{"$f":"IF(ISBLANK('MIS - Pharmacy'!J41),\"\",'MIS - Pharmacy'!J41)","v":""},{"$f":"IF(ISBLANK('MIS - Pharmacy'!AY41),\"\",'MIS - Pharmacy'!AY41)","v":""},{"$f":"IF(ISBLANK('MIS - Pharmacy'!BH41),\"\",'MIS - Pharmacy'!BH41)","v":""},"",""]
[{"$f":"IF(ISBLANK('MIS - Pharmacy'!A42), \"\",'MIS - Pharmacy'!A42)","v":""},{"$f":"IF(ISBLANK('MIS - Pharmacy'!B42),\"\",('MIS - Pharmacy'!B42&\"(\"&'MIS - Pharmacy'!D42&\")\"))","v":""},{"$f":"IF(ISBLANK('MIS - Pharmacy'!BI42), \"\", 'MIS - Pharmacy'!BI42)","v":""},{"$f":"IF(ISBLANK('MIS - Pharmacy'!U42), \"\", 'MIS - Pharmacy'!U42)","v":""},"","","","","","","",{"$f":"IF(ISBLANK('MIS - Pharmacy'!AC42),\"\",'MIS - Pharmacy'!AC42)","v":""},"",{"$f":"IF(ISBLANK('MIS - Pharmacy'!AD42),\"\",'MIS - Pharmacy'!AD42)","v":""},"","",{"$f":"IF('MIS - Pharmacy'!A42=\"\",\"\",SUM('MIS - Pharmacy'!K42+'MIS - Pharmacy'!L42))","v":""},"",{"$f":"IF('MIS - Pharmacy'!A42=\"\",\"\",('MIS - Pharmacy'!AF42+'MIS - Pharmacy'!AH42 +'MIS - Pharmacy'!AG42))","v":""},{"$f":"IF(ISBLANK('MIS - Pharmacy'!AI42),\"\",'MIS - Pharmacy'!AI42)","v":""},"","","",{"$f":"IF(ISBLANK('MIS - Pharmacy'!V42),\"\",'MIS - Pharmacy'!V42)","v":""},"","","",{"$f":"IF(ISBLANK('MIS - Pharmacy'!J42),\"\",'MIS - Pharmacy'!J42)","v":""},{"$f":"IF(ISBLANK('MIS - Pharmacy'!AY42),\"\",'MIS - Pharmacy'!AY42)","v":""},{"$f":"IF(ISBLANK('MIS - Pharmacy'!BH42),\"\",'MIS - Pharmacy'!BH42)","v":""},"",""]
[{"$f":"IF(ISBLANK('MIS - Pharmacy'!A43), \"\",'MIS - Pharmacy'!A43)","v":""},{"$f":"IF(ISBLANK('MIS - Pharmacy'!B43),\"\",('MIS - Pharmacy'!B43&\"(\"&'MIS - Pharmacy'!D43&\")\"))","v":""},{"$f":"IF(ISBLANK('MIS - Pharmacy'!BI43), \"\", 'MIS - Pharmacy'!BI43)","v":""},{"$f":"IF(ISBLANK('MIS - Pharmacy'!U43), \"\", 'MIS - Pharmacy'!U43)","v":""},"","","","","","","",{"$f":"IF(ISBLANK('MIS - Pharmacy'!AC43),\"\",'MIS - Pharmacy'!AC43)","v":""},"",{"$f":"IF(ISBLANK('MIS - Pharmacy'!AD43),\"\",'MIS - Pharmacy'!AD43)","v":""},"","",{"$f":"IF('MIS - Pharmacy'!A43=\"\",\"\",SUM('MIS - Pharmacy'!K43+'MIS - Pharmacy'!L43))","v":""},"",{"$f":"IF('MIS - Pharmacy'!A43=\"\",\"\",('MIS - Pharmacy'!AF43+'MIS - Pharmacy'!AH43 +'MIS - Pharmacy'!AG43))","v":""},{"$f":"IF(ISBLANK('MIS - Pharmacy'!AI43),\"\",'MIS - Pharmacy'!AI43)","v":""},"","","",{"$f":"IF(ISBLANK('MIS - Pharmacy'!V43),\"\",'MIS - Pharmacy'!V43)","v":""},"","","",{"$f":"IF(ISBLANK('MIS - Pharmacy'!J43),\"\",'MIS - Pharmacy'!J43)","v":""},{"$f":"IF(ISBLANK('MIS - Pharmacy'!AY43),\"\",'MIS - Pharmacy'!AY43)","v":""},{"$f":"IF(ISBLANK('MIS - Pharmacy'!BH43),\"\",'MIS - Pharmacy'!BH43)","v":""},"",""]
[{"$f":"IF(ISBLANK('MIS - Pharmacy'!A44), \"\",'MIS - Pharmacy'!A44)","v":""},{"$f":"IF(ISBLANK('MIS - Pharmacy'!B44),\"\",('MIS - Pharmacy'!B44&\"(\"&'MIS - Pharmacy'!D44&\")\"))","v":""},{"$f":"IF(ISBLANK('MIS - Pharmacy'!BI44), \"\", 'MIS - Pharmacy'!BI44)","v":""},{"$f":"IF(ISBLANK('MIS - Pharmacy'!U44), \"\", 'MIS - Pharmacy'!U44)","v":""},"","","","","","","",{"$f":"IF(ISBLANK('MIS - Pharmacy'!AC44),\"\",'MIS - Pharmacy'!AC44)","v":""},"",{"$f":"IF(ISBLANK('MIS - Pharmacy'!AD44),\"\",'MIS - Pharmacy'!AD44)","v":""},"","",{"$f":"IF('MIS - Pharmacy'!A44=\"\",\"\",SUM('MIS - Pharmacy'!K44+'MIS - Pharmacy'!L44))","v":""},"",{"$f":"IF('MIS - Pharmacy'!A44=\"\",\"\",('MIS - Pharmacy'!AF44+'MIS - Pharmacy'!AH44 +'MIS - Pharmacy'!AG44))","v":""},{"$f":"IF(ISBLANK('MIS - Pharmacy'!AI44),\"\",'MIS - Pharmacy'!AI44)","v":""},"","","",{"$f":"IF(ISBLANK('MIS - Pharmacy'!V44),\"\",'MIS - Pharmacy'!V44)","v":""},"","","",{"$f":"IF(ISBLANK('MIS - Pharmacy'!J44),\"\",'MIS - Pharmacy'!J44)","v":""},{"$f":"IF(ISBLANK('MIS - Pharmacy'!AY44),\"\",'MIS - Pharmacy'!AY44)","v":""},{"$f":"IF(ISBLANK('MIS - Pharmacy'!BH44),\"\",'MIS - Pharmacy'!BH44)","v":""},"",""]
[{"$f":"IF(ISBLANK('MIS - Pharmacy'!A45), \"\",'MIS - Pharmacy'!A45)","v":""},{"$f":"IF(ISBLANK('MIS - Pharmacy'!B45),\"\",('MIS - Pharmacy'!B45&\"(\"&'MIS - Pharmacy'!D45&\")\"))","v":""},{"$f":"IF(ISBLANK('MIS - Pharmacy'!BI45), \"\", 'MIS - Pharmacy'!BI45)","v":""},{"$f":"IF(ISBLANK('MIS - Pharmacy'!U45), \"\", 'MIS - Pharmacy'!U45)","v":""},"","","","","","","",{"$f":"IF(ISBLANK('MIS - Pharmacy'!AC45),\"\",'MIS - Pharmacy'!AC45)","v":""},"",{"$f":"IF(ISBLANK('MIS - Pharmacy'!AD45),\"\",'MIS - Pharmacy'!AD45)","v":""},"","",{"$f":"IF('MIS - Pharmacy'!A45=\"\",\"\",SUM('MIS - Pharmacy'!K45+'MIS - Pharmacy'!L45))","v":""},"",{"$f":"IF('MIS - Pharmacy'!A45=\"\",\"\",('MIS - Pharmacy'!AF45+'MIS - Pharmacy'!AH45 +'MIS - Pharmacy'!AG45))","v":""},{"$f":"IF(ISBLANK('MIS - Pharmacy'!AI45),\"\",'MIS - Pharmacy'!AI45)","v":""},"","","",{"$f":"IF(ISBLANK('MIS - Pharmacy'!V45),\"\",'MIS - Pharmacy'!V45)","v":""},"","","",{"$f":"IF(ISBLANK('MIS - Pharmacy'!J45),\"\",'MIS - Pharmacy'!J45)","v":""},{"$f":"IF(ISBLANK('MIS - Pharmacy'!AY45),\"\",'MIS - Pharmacy'!AY45)","v":""},{"$f":"IF(ISBLANK('MIS - Pharmacy'!BH45),\"\",'MIS - Pharmacy'!BH45)","v":""},"",""]
[{"$f":"IF(ISBLANK('MIS - Pharmacy'!A46), \"\",'MIS - Pharmacy'!A46)","v":""},{"$f":"IF(ISBLANK('MIS - Pharmacy'!B46),\"\",('MIS - Pharmacy'!B46&\"(\"&'MIS - Pharmacy'!D46&\")\"))","v":""},{"$f":"IF(ISBLANK('MIS - Pharmacy'!BI46), \"\", 'MIS - Pharmacy'!BI46)","v":""},{"$f":"IF(ISBLANK('MIS - Pharmacy'!U46), \"\", 'MIS - Pharmacy'!U46)","v":""},"","","","","","","",{"$f":"IF(ISBLANK('MIS - Pharmacy'!AC46),\"\",'MIS - Pharmacy'!AC46)","v":""},"",{"$f":"IF(ISBLANK('MIS - Pharmacy'!AD46),\"\",'MIS - Pharmacy'!AD46)","v":""},"","",{"$f":"IF('MIS - Pharmacy'!A46=\"\",\"\",SUM('MIS - Pharmacy'!K46+'MIS - Pharmacy'!L46))","v":""},"",{"$f":"IF('MIS - Pharmacy'!A46=\"\",\"\",('MIS - Pharmacy'!AF46+'MIS - Pharmacy'!AH46 +'MIS - Pharmacy'!AG46))","v":""},{"$f":"IF(ISBLANK('MIS - Pharmacy'!AI46),\"\",'MIS - Pharmacy'!AI46)","v":""},"","","",{"$f":"IF(ISBLANK('MIS - Pharmacy'!V46),\"\",'MIS - Pharmacy'!V46)","v":""},"","","",{"$f":"IF(ISBLANK('MIS - Pharmacy'!J46),\"\",'MIS - Pharmacy'!J46)","v":""},{"$f":"IF(ISBLANK('MIS - Pharmacy'!AY46),\"\",'MIS - Pharmacy'!AY46)","v":""},{"$f":"IF(ISBLANK('MIS - Pharmacy'!BH46),\"\",'MIS - Pharmacy'!BH46)","v":""},"",""]
[{"$f":"IF(ISBLANK('MIS - Pharmacy'!A47), \"\",'MIS - Pharmacy'!A47)","v":""},{"$f":"IF(ISBLANK('MIS - Pharmacy'!B47),\"\",('MIS - Pharmacy'!B47&\"(\"&'MIS - Pharmacy'!D47&\")\"))","v":""},{"$f":"IF(ISBLANK('MIS - Pharmacy'!BI47), \"\", 'MIS - Pharmacy'!BI47)","v":""},{"$f":"IF(ISBLANK('MIS - Pharmacy'!U47), \"\", 'MIS - Pharmacy'!U47)","v":""},"","","","","","","",{"$f":"IF(ISBLANK('MIS - Pharmacy'!AC47),\"\",'MIS - Pharmacy'!AC47)","v":""},"",{"$f":"IF(ISBLANK('MIS - Pharmacy'!AD47),\"\",'MIS - Pharmacy'!AD47)","v":""},"","",{"$f":"IF('MIS - Pharmacy'!A47=\"\",\"\",SUM('MIS - Pharmacy'!K47+'MIS - Pharmacy'!L47))","v":""},"",{"$f":"IF('MIS - Pharmacy'!A47=\"\",\"\",('MIS - Pharmacy'!AF47+'MIS - Pharmacy'!AH47 +'MIS - Pharmacy'!AG47))","v":""},{"$f":"IF(ISBLANK('MIS - Pharmacy'!AI47),\"\",'MIS - Pharmacy'!AI47)","v":""},"","","",{"$f":"IF(ISBLANK('MIS - Pharmacy'!V47),\"\",'MIS - Pharmacy'!V47)","v":""},"","","",{"$f":"IF(ISBLANK('MIS - Pharmacy'!J47),\"\",'MIS - Pharmacy'!J47)","v":""},{"$f":"IF(ISBLANK('MIS - Pharmacy'!AY47),\"\",'MIS - Pharmacy'!AY47)","v":""},{"$f":"IF(ISBLANK('MIS - Pharmacy'!BH47),\"\",'MIS - Pharmacy'!BH47)","v":""},"",""]
[{"$f":"IF(ISBLANK('MIS - Pharmacy'!A48), \"\",'MIS - Pharmacy'!A48)","v":""},{"$f":"IF(ISBLANK('MIS - Pharmacy'!B48),\"\",('MIS - Pharmacy'!B48&\"(\"&'MIS - Pharmacy'!D48&\")\"))","v":""},{"$f":"IF(ISBLANK('MIS - Pharmacy'!BI48), \"\", 'MIS - Pharmacy'!BI48)","v":""},{"$f":"IF(ISBLANK('MIS - Pharmacy'!U48), \"\", 'MIS - Pharmacy'!U48)","v":""},"","","","","","","",{"$f":"IF(ISBLANK('MIS - Pharmacy'!AC48),\"\",'MIS - Pharmacy'!AC48)","v":""},"",{"$f":"IF(ISBLANK('MIS - Pharmacy'!AD48),\"\",'MIS - Pharmacy'!AD48)","v":""},"","",{"$f":"IF('MIS - Pharmacy'!A48=\"\",\"\",SUM('MIS - Pharmacy'!K48+'MIS - Pharmacy'!L48))","v":""},"",{"$f":"IF('MIS - Pharmacy'!A48=\"\",\"\",('MIS - Pharmacy'!AF48+'MIS - Pharmacy'!AH48 +'MIS - Pharmacy'!AG48))","v":""},{"$f":"IF(ISBLANK('MIS - Pharmacy'!AI48),\"\",'MIS - Pharmacy'!AI48)","v":""},"","","",{"$f":"IF(ISBLANK('MIS - Pharmacy'!V48),\"\",'MIS - Pharmacy'!V48)","v":""},"","","",{"$f":"IF(ISBLANK('MIS - Pharmacy'!J48),\"\",'MIS - Pharmacy'!J48)","v":""},{"$f":"IF(ISBLANK('MIS - Pharmacy'!AY48),\"\",'MIS - Pharmacy'!AY48)","v":""},{"$f":"IF(ISBLANK('MIS - Pharmacy'!BH48),\"\",'MIS - Pharmacy'!BH48)","v":""},"",""]
[{"$f":"IF(ISBLANK('MIS - Pharmacy'!A49), \"\",'MIS - Pharmacy'!A49)","v":""},{"$f":"IF(ISBLANK('MIS - Pharmacy'!B49),\"\",('MIS - Pharmacy'!B49&\"(\"&'MIS - Pharmacy'!D49&\")\"))","v":""},{"$f":"IF(ISBLANK('MIS - Pharmacy'!BI49), \"\", 'MIS - Pharmacy'!BI49)","v":""},{"$f":"IF(ISBLANK('MIS - Pharmacy'!U49), \"\", 'MIS - Pharmacy'!U49)","v":""},"","","","","","","",{"$f":"IF(ISBLANK('MIS - Pharmacy'!AC49),\"\",'MIS - Pharmacy'!AC49)","v":""},"",{"$f":"IF(ISBLANK('MIS - Pharmacy'!AD49),\"\",'MIS - Pharmacy'!AD49)","v":""},"","",{"$f":"IF('MIS - Pharmacy'!A49=\"\",\"\",SUM('MIS - Pharmacy'!K49+'MIS - Pharmacy'!L49))","v":""},"",{"$f":"IF('MIS - Pharmacy'!A49=\"\",\"\",('MIS - Pharmacy'!AF49+'MIS - Pharmacy'!AH49 +'MIS - Pharmacy'!AG49))","v":""},{"$f":"IF(ISBLANK('MIS - Pharmacy'!AI49),\"\",'MIS - Pharmacy'!AI49)","v":""},"","","",{"$f":"IF(ISBLANK('MIS - Pharmacy'!V49),\"\",'MIS - Pharmacy'!V49)","v":""},"","","",{"$f":"IF(ISBLANK('MIS - Pharmacy'!J49),\"\",'MIS - Pharmacy'!J49)","v":""},{"$f":"IF(ISBLANK('MIS - Pharmacy'!AY49),\"\",'MIS - Pharmacy'!AY49)","v":""},{"$f":"IF(ISBLANK('MIS - Pharmacy'!BH49),\"\",'MIS - Pharmacy'!BH49)","v":""},"",""]
[{"$f":"IF(ISBLANK('MIS - Pharmacy'!A50), \"\",'MIS - Pharmacy'!A50)","v":""},{"$f":"IF(ISBLANK('MIS - Pharmacy'!B50),\"\",('MIS - Pharmacy'!B50&\"(\"&'MIS - Pharmacy'!D50&\")\"))","v":""},{"$f":"IF(ISBLANK('MIS - Pharmacy'!BI50), \"\", 'MIS - Pharmacy'!BI50)","v":""},{"$f":"IF(ISBLANK('MIS - Pharmacy'!U50), \"\", 'MIS - Pharmacy'!U50)","v":""},"","","","","","","",{"$f":"IF(ISBLANK('MIS - Pharmacy'!AC50),\"\",'MIS - Pharmacy'!AC50)","v":""},"",{"$f":"IF(ISBLANK('MIS - Pharmacy'!AD50),\"\",'MIS - Pharmacy'!AD50)","v":""},"","",{"$f":"IF('MIS - Pharmacy'!A50=\"\",\"\",SUM('MIS - Pharmacy'!K50+'MIS - Pharmacy'!L50))","v":""},"",{"$f":"IF('MIS - Pharmacy'!A50=\"\",\"\",('MIS - Pharmacy'!AF50+'MIS - Pharmacy'!AH50 +'MIS - Pharmacy'!AG50))","v":""},{"$f":"IF(ISBLANK('MIS - Pharmacy'!AI50),\"\",'MIS - Pharmacy'!AI50)","v":""},"","","",{"$f":"IF(ISBLANK('MIS - Pharmacy'!V50),\"\",'MIS - Pharmacy'!V50)","v":""},"","","",{"$f":"IF(ISBLANK('MIS - Pharmacy'!J50),\"\",'MIS - Pharmacy'!J50)","v":""},{"$f":"IF(ISBLANK('MIS - Pharmacy'!AY50),\"\",'MIS - Pharmacy'!AY50)","v":""},{"$f":"IF(ISBLANK('MIS - Pharmacy'!BH50),\"\",'MIS - Pharmacy'!BH50)","v":""},"",""]
[{"$f":"IF(ISBLANK('MIS - Pharmacy'!A51), \"\",'MIS - Pharmacy'!A51)","v":""},{"$f":"IF(ISBLANK('MIS - Pharmacy'!B51),\"\",('MIS - Pharmacy'!B51&\"(\"&'MIS - Pharmacy'!D51&\")\"))","v":""},{"$f":"IF(ISBLANK('MIS - Pharmacy'!BI51), \"\", 'MIS - Pharmacy'!BI51)","v":""},{"$f":"IF(ISBLANK('MIS - Pharmacy'!U51), \"\", 'MIS - Pharmacy'!U51)","v":""},"","","","","","","",{"$f":"IF(ISBLANK('MIS - Pharmacy'!AC51),\"\",'MIS - Pharmacy'!AC51)","v":""},"",{"$f":"IF(ISBLANK('MIS - Pharmacy'!AD51),\"\",'MIS - Pharmacy'!AD51)","v":""},"","",{"$f":"IF('MIS - Pharmacy'!A51=\"\",\"\",SUM('MIS - Pharmacy'!K51+'MIS - Pharmacy'!L51))","v":""},"",{"$f":"IF('MIS - Pharmacy'!A51=\"\",\"\",('MIS - Pharmacy'!AF51+'MIS - Pharmacy'!AH51 +'MIS - Pharmacy'!AG51))","v":""},{"$f":"IF(ISBLANK('MIS - Pharmacy'!AI51),\"\",'MIS - Pharmacy'!AI51)","v":""},"","","",{"$f":"IF(ISBLANK('MIS - Pharmacy'!V51),\"\",'MIS - Pharmacy'!V51)","v":""},"","","",{"$f":"IF(ISBLANK('MIS - Pharmacy'!J51),\"\",'MIS - Pharmacy'!J51)","v":""},{"$f":"IF(ISBLANK('MIS - Pharmacy'!AY51),\"\",'MIS - Pharmacy'!AY51)","v":""},{"$f":"IF(ISBLANK('MIS - Pharmacy'!BH51),\"\",'MIS - Pharmacy'!BH51)","v":""},"",""]
[{"$f":"IF(ISBLANK('MIS - Pharmacy'!A52), \"\",'MIS - Pharmacy'!A52)","v":""},{"$f":"IF(ISBLANK('MIS - Pharmacy'!B52),\"\",('MIS - Pharmacy'!B52&\"(\"&'MIS - Pharmacy'!D52&\")\"))","v":""},{"$f":"IF(ISBLANK('MIS - Pharmacy'!BI52), \"\", 'MIS - Pharmacy'!BI52)","v":""},{"$f":"IF(ISBLANK('MIS - Pharmacy'!U52), \"\", 'MIS - Pharmacy'!U52)","v":""},"","","","","","","",{"$f":"IF(ISBLANK('MIS - Pharmacy'!AC52),\"\",'MIS - Pharmacy'!AC52)","v":""},"",{"$f":"IF(ISBLANK('MIS - Pharmacy'!AD52),\"\",'MIS - Pharmacy'!AD52)","v":""},"","",{"$f":"IF('MIS - Pharmacy'!A52=\"\",\"\",SUM('MIS - Pharmacy'!K52+'MIS - Pharmacy'!L52))","v":""},"",{"$f":"IF('MIS - Pharmacy'!A52=\"\",\"\",('MIS - Pharmacy'!AF52+'MIS - Pharmacy'!AH52 +'MIS - Pharmacy'!AG52))","v":""},{"$f":"IF(ISBLANK('MIS - Pharmacy'!AI52),\"\",'MIS - Pharmacy'!AI52)","v":""},"","","",{"$f":"IF(ISBLANK('MIS - Pharmacy'!V52),\"\",'MIS - Pharmacy'!V52)","v":""},"","","",{"$f":"IF(ISBLANK('MIS - Pharmacy'!J52),\"\",'MIS - Pharmacy'!J52)","v":""},{"$f":"IF(ISBLANK('MIS - Pharmacy'!AY52),\"\",'MIS - Pharmacy'!AY52)","v":""},{"$f":"IF(ISBLANK('MIS - Pharmacy'!BH52),\"\",'MIS - Pharmacy'!BH52)","v":""},"",""]
[{"$f":"IF(ISBLANK('MIS - Pharmacy'!A53), \"\",'MIS - Pharmacy'!A53)","v":""},{"$f":"IF(ISBLANK('MIS - Pharmacy'!B53),\"\",('MIS - Pharmacy'!B53&\"(\"&'MIS - Pharmacy'!D53&\")\"))","v":""},{"$f":"IF(ISBLANK('MIS - Pharmacy'!BI53), \"\", 'MIS - Pharmacy'!BI53)","v":""},{"$f":"IF(ISBLANK('MIS - Pharmacy'!U53), \"\", 'MIS - Pharmacy'!U53)","v":""},"","","","","","","",{"$f":"IF(ISBLANK('MIS - Pharmacy'!AC53),\"\",'MIS - Pharmacy'!AC53)","v":""},"",{"$f":"IF(ISBLANK('MIS - Pharmacy'!AD53),\"\",'MIS - Pharmacy'!AD53)","v":""},"","",{"$f":"IF('MIS - Pharmacy'!A53=\"\",\"\",SUM('MIS - Pharmacy'!K53+'MIS - Pharmacy'!L53))","v":""},"",{"$f":"IF('MIS - Pharmacy'!A53=\"\",\"\",('MIS - Pharmacy'!AF53+'MIS - Pharmacy'!AH53 +'MIS - Pharmacy'!AG53))","v":""},{"$f":"IF(ISBLANK('MIS - Pharmacy'!AI53),\"\",'MIS - Pharmacy'!AI53)","v":""},"","","",{"$f":"IF(ISBLANK('MIS - Pharmacy'!V53),\"\",'MIS - Pharmacy'!V53)","v":""},"","","",{"$f":"IF(ISBLANK('MIS - Pharmacy'!J53),\"\",'MIS - Pharmacy'!J53)","v":""},{"$f":"IF(ISBLANK('MIS - Pharmacy'!AY53),\"\",'MIS - Pharmacy'!AY53)","v":""},{"$f":"IF(ISBLANK('MIS - Pharmacy'!BH53),\"\",'MIS - Pharmacy'!BH53)","v":""},"",""]
[{"$f":"IF(ISBLANK('MIS - Pharmacy'!A54), \"\",'MIS - Pharmacy'!A54)","v":""},{"$f":"IF(ISBLANK('MIS - Pharmacy'!B54),\"\",('MIS - Pharmacy'!B54&\"(\"&'MIS - Pharmacy'!D54&\")\"))","v":""},{"$f":"IF(ISBLANK('MIS - Pharmacy'!BI54), \"\", 'MIS - Pharmacy'!BI54)","v":""},{"$f":"IF(ISBLANK('MIS - Pharmacy'!U54), \"\", 'MIS - Pharmacy'!U54)","v":""},"","","","","","","",{"$f":"IF(ISBLANK('MIS - Pharmacy'!AC54),\"\",'MIS - Pharmacy'!AC54)","v":""},"",{"$f":"IF(ISBLANK('MIS - Pharmacy'!AD54),\"\",'MIS - Pharmacy'!AD54)","v":""},"","",{"$f":"IF('MIS - Pharmacy'!A54=\"\",\"\",SUM('MIS - Pharmacy'!K54+'MIS - Pharmacy'!L54))","v":""},"",{"$f":"IF('MIS - Pharmacy'!A54=\"\",\"\",('MIS - Pharmacy'!AF54+'MIS - Pharmacy'!AH54 +'MIS - Pharmacy'!AG54))","v":""},{"$f":"IF(ISBLANK('MIS - Pharmacy'!AI54),\"\",'MIS - Pharmacy'!AI54)","v":""},"","","",{"$f":"IF(ISBLANK('MIS - Pharmacy'!V54),\"\",'MIS - Pharmacy'!V54)","v":""},"","","",{"$f":"IF(ISBLANK('MIS - Pharmacy'!J54),\"\",'MIS - Pharmacy'!J54)","v":""},{"$f":"IF(ISBLANK('MIS - Pharmacy'!AY54),\"\",'MIS - Pharmacy'!AY54)","v":""},{"$f":"IF(ISBLANK('MIS - Pharmacy'!BH54),\"\",'MIS - Pharmacy'!BH54)","v":""},"",""]
[{"$f":"IF(ISBLANK('MIS - Pharmacy'!A55), \"\",'MIS - Pharmacy'!A55)","v":""},{"$f":"IF(ISBLANK('MIS - Pharmacy'!B55),\"\",('MIS - Pharmacy'!B55&\"(\"&'MIS - Pharmacy'!D55&\")\"))","v":""},{"$f":"IF(ISBLANK('MIS - Pharmacy'!BI55), \"\", 'MIS - Pharmacy'!BI55)","v":""},{"$f":"IF(ISBLANK('MIS - Pharmacy'!U55), \"\", 'MIS - Pharmacy'!U55)","v":""},"","","","","","","",{"$f":"IF(ISBLANK('MIS - Pharmacy'!AC55),\"\",'MIS - Pharmacy'!AC55)","v":""},"",{"$f":"IF(ISBLANK('MIS - Pharmacy'!AD55),\"\",'MIS - Pharmacy'!AD55)","v":""},"","",{"$f":"IF('MIS - Pharmacy'!A55=\"\",\"\",SUM('MIS - Pharmacy'!K55+'MIS - Pharmacy'!L55))","v":""},"",{"$f":"IF('MIS - Pharmacy'!A55=\"\",\"\",('MIS - Pharmacy'!AF55+'MIS - Pharmacy'!AH55 +'MIS - Pharmacy'!AG55))","v":""},{"$f":"IF(ISBLANK('MIS - Pharmacy'!AI55),\"\",'MIS - Pharmacy'!AI55)","v":""},"","","",{"$f":"IF(ISBLANK('MIS - Pharmacy'!V55),\"\",'MIS - Pharmacy'!V55)","v":""},"","","",{"$f":"IF(ISBLANK('MIS - Pharmacy'!J55),\"\",'MIS - Pharmacy'!J55)","v":""},{"$f":"IF(ISBLANK('MIS - Pharmacy'!AY55),\"\",'MIS - Pharmacy'!AY55)","v":""},{"$f":"IF(ISBLANK('MIS - Pharmacy'!BH55),\"\",'MIS - Pharmacy'!BH55)","v":""},"",""]
[{"$f":"IF(ISBLANK('MIS - Pharmacy'!A56), \"\",'MIS - Pharmacy'!A56)","v":""},{"$f":"IF(ISBLANK('MIS - Pharmacy'!B56),\"\",('MIS - Pharmacy'!B56&\"(\"&'MIS - Pharmacy'!D56&\")\"))","v":""},{"$f":"IF(ISBLANK('MIS - Pharmacy'!BI56), \"\", 'MIS - Pharmacy'!BI56)","v":""},{"$f":"IF(ISBLANK('MIS - Pharmacy'!U56), \"\", 'MIS - Pharmacy'!U56)","v":""},"","","","","","","",{"$f":"IF(ISBLANK('MIS - Pharmacy'!AC56),\"\",'MIS - Pharmacy'!AC56)","v":""},"",{"$f":"IF(ISBLANK('MIS - Pharmacy'!AD56),\"\",'MIS - Pharmacy'!AD56)","v":""},"","",{"$f":"IF('MIS - Pharmacy'!A56=\"\",\"\",SUM('MIS - Pharmacy'!K56+'MIS - Pharmacy'!L56))","v":""},"",{"$f":"IF('MIS - Pharmacy'!A56=\"\",\"\",('MIS - Pharmacy'!AF56+'MIS - Pharmacy'!AH56 +'MIS - Pharmacy'!AG56))","v":""},{"$f":"IF(ISBLANK('MIS - Pharmacy'!AI56),\"\",'MIS - Pharmacy'!AI56)","v":""},"","","",{"$f":"IF(ISBLANK('MIS - Pharmacy'!V56),\"\",'MIS - Pharmacy'!V56)","v":""},"","","",{"$f":"IF(ISBLANK('MIS - Pharmacy'!J56),\"\",'MIS - Pharmacy'!J56)","v":""},{"$f":"IF(ISBLANK('MIS - Pharmacy'!AY56),\"\",'MIS - Pharmacy'!AY56)","v":""},{"$f":"IF(ISBLANK('MIS - Pharmacy'!BH56),\"\",'MIS - Pharmacy'!BH56)","v":""},"",""]
[{"$f":"IF(ISBLANK('MIS - Pharmacy'!A57), \"\",'MIS - Pharmacy'!A57)","v":""},{"$f":"IF(ISBLANK('MIS - Pharmacy'!B57),\"\",('MIS - Pharmacy'!B57&\"(\"&'MIS - Pharmacy'!D57&\")\"))","v":""},{"$f":"IF(ISBLANK('MIS - Pharmacy'!BI57), \"\", 'MIS - Pharmacy'!BI57)","v":""},{"$f":"IF(ISBLANK('MIS - Pharmacy'!U57), \"\", 'MIS - Pharmacy'!U57)","v":""},"","","","","","","",{"$f":"IF(ISBLANK('MIS - Pharmacy'!AC57),\"\",'MIS - Pharmacy'!AC57)","v":""},"",{"$f":"IF(ISBLANK('MIS - Pharmacy'!AD57),\"\",'MIS - Pharmacy'!AD57)","v":""},"","",{"$f":"IF('MIS - Pharmacy'!A57=\"\",\"\",SUM('MIS - Pharmacy'!K57+'MIS - Pharmacy'!L57))","v":""},"",{"$f":"IF('MIS - Pharmacy'!A57=\"\",\"\",('MIS - Pharmacy'!AF57+'MIS - Pharmacy'!AH57 +'MIS - Pharmacy'!AG57))","v":""},{"$f":"IF(ISBLANK('MIS - Pharmacy'!AI57),\"\",'MIS - Pharmacy'!AI57)","v":""},"","","",{"$f":"IF(ISBLANK('MIS - Pharmacy'!V57),\"\",'MIS - Pharmacy'!V57)","v":""},"","","",{"$f":"IF(ISBLANK('MIS - Pharmacy'!J57),\"\",'MIS - Pharmacy'!J57)","v":""},{"$f":"IF(ISBLANK('MIS - Pharmacy'!AY57),\"\",'MIS - Pharmacy'!AY57)","v":""},{"$f":"IF(ISBLANK('MIS - Pharmacy'!BH57),\"\",'MIS - Pharmacy'!BH57)","v":""},"",""]
[{"$f":"IF(ISBLANK('MIS - Pharmacy'!A58), \"\",'MIS - Pharmacy'!A58)","v":""},{"$f":"IF(ISBLANK('MIS - Pharmacy'!B58),\"\",('MIS - Pharmacy'!B58&\"(\"&'MIS - Pharmacy'!D58&\")\"))","v":""},{"$f":"IF(ISBLANK('MIS - Pharmacy'!BI58), \"\", 'MIS - Pharmacy'!BI58)","v":""},{"$f":"IF(ISBLANK('MIS - Pharmacy'!U58), \"\", 'MIS - Pharmacy'!U58)","v":""},"","","","","","","",{"$f":"IF(ISBLANK('MIS - Pharmacy'!AC58),\"\",'MIS - Pharmacy'!AC58)","v":""},"",{"$f":"IF(ISBLANK('MIS - Pharmacy'!AD58),\"\",'MIS - Pharmacy'!AD58)","v":""},"","",{"$f":"IF('MIS - Pharmacy'!A58=\"\",\"\",SUM('MIS - Pharmacy'!K58+'MIS - Pharmacy'!L58))","v":""},"",{"$f":"IF('MIS - Pharmacy'!A58=\"\",\"\",('MIS - Pharmacy'!AF58+'MIS - Pharmacy'!AH58 +'MIS - Pharmacy'!AG58))","v":""},{"$f":"IF(ISBLANK('MIS - Pharmacy'!AI58),\"\",'MIS - Pharmacy'!AI58)","v":""},"","","",{"$f":"IF(ISBLANK('MIS - Pharmacy'!V58),\"\",'MIS - Pharmacy'!V58)","v":""},"","","",{"$f":"IF(ISBLANK('MIS - Pharmacy'!J58),\"\",'MIS - Pharmacy'!J58)","v":""},{"$f":"IF(ISBLANK('MIS - Pharmacy'!AY58),\"\",'MIS - Pharmacy'!AY58)","v":""},{"$f":"IF(ISBLANK('MIS - Pharmacy'!BH58),\"\",'MIS - Pharmacy'!BH58)","v":""},"",""]
[{"$f":"IF(ISBLANK('MIS - Pharmacy'!A59), \"\",'MIS - Pharmacy'!A59)","v":""},{"$f":"IF(ISBLANK('MIS - Pharmacy'!B59),\"\",('MIS - Pharmacy'!B59&\"(\"&'MIS - Pharmacy'!D59&\")\"))","v":""},{"$f":"IF(ISBLANK('MIS - Pharmacy'!BI59), \"\", 'MIS - Pharmacy'!BI59)","v":""},{"$f":"IF(ISBLANK('MIS - Pharmacy'!U59), \"\", 'MIS - Pharmacy'!U59)","v":""},"","","","","","","",{"$f":"IF(ISBLANK('MIS - Pharmacy'!AC59),\"\",'MIS - Pharmacy'!AC59)","v":""},"",{"$f":"IF(ISBLANK('MIS - Pharmacy'!AD59),\"\",'MIS - Pharmacy'!AD59)","v":""},"","",{"$f":"IF('MIS - Pharmacy'!A59=\"\",\"\",SUM('MIS - Pharmacy'!K59+'MIS - Pharmacy'!L59))","v":""},"",{"$f":"IF('MIS - Pharmacy'!A59=\"\",\"\",('MIS - Pharmacy'!AF59+'MIS - Pharmacy'!AH59 +'MIS - Pharmacy'!AG59))","v":""},{"$f":"IF(ISBLANK('MIS - Pharmacy'!AI59),\"\",'MIS - Pharmacy'!AI59)","v":""},"","","",{"$f":"IF(ISBLANK('MIS - Pharmacy'!V59),\"\",'MIS - Pharmacy'!V59)","v":""},"","","",{"$f":"IF(ISBLANK('MIS - Pharmacy'!J59),\"\",'MIS - Pharmacy'!J59)","v":""},{"$f":"IF(ISBLANK('MIS - Pharmacy'!AY59),\"\",'MIS - Pharmacy'!AY59)","v":""},{"$f":"IF(ISBLANK('MIS - Pharmacy'!BH59),\"\",'MIS - Pharmacy'!BH59)","v":""},"",""]
[{"$f":"IF(ISBLANK('MIS - Pharmacy'!A60), \"\",'MIS - Pharmacy'!A60)","v":""},{"$f":"IF(ISBLANK('MIS - Pharmacy'!B60),\"\",('MIS - Pharmacy'!B60&\"(\"&'MIS - Pharmacy'!D60&\")\"))","v":""},{"$f":"IF(ISBLANK('MIS - Pharmacy'!BI60), \"\", 'MIS - Pharmacy'!BI60)","v":""},{"$f":"IF(ISBLANK('MIS - Pharmacy'!U60), \"\", 'MIS - Pharmacy'!U60)","v":""},"","","","","","","",{"$f":"IF(ISBLANK('MIS - Pharmacy'!AC60),\"\",'MIS - Pharmacy'!AC60)","v":""},"",{"$f":"IF(ISBLANK('MIS - Pharmacy'!AD60),\"\",'MIS - Pharmacy'!AD60)","v":""},"","",{"$f":"IF('MIS - Pharmacy'!A60=\"\",\"\",SUM('MIS - Pharmacy'!K60+'MIS - Pharmacy'!L60))","v":""},"",{"$f":"IF('MIS - Pharmacy'!A60=\"\",\"\",('MIS - Pharmacy'!AF60+'MIS - Pharmacy'!AH60 +'MIS - Pharmacy'!AG60))","v":""},{"$f":"IF(ISBLANK('MIS - Pharmacy'!AI60),\"\",'MIS - Pharmacy'!AI60)","v":""},"","","",{"$f":"IF(ISBLANK('MIS - Pharmacy'!V60),\"\",'MIS - Pharmacy'!V60)","v":""},"","","",{"$f":"IF(ISBLANK('MIS - Pharmacy'!J60),\"\",'MIS - Pharmacy'!J60)","v":""},{"$f":"IF(ISBLANK('MIS - Pharmacy'!AY60),\"\",'MIS - Pharmacy'!AY60)","v":""},{"$f":"IF(ISBLANK('MIS - Pharmacy'!BH60),\"\",'MIS - Pharmacy'!BH60)","v":""},"",""]
[{"$f":"IF(ISBLANK('MIS - Pharmacy'!A61), \"\",'MIS - Pharmacy'!A61)","v":""},{"$f":"IF(ISBLANK('MIS - Pharmacy'!B61),\"\",('MIS - Pharmacy'!B61&\"(\"&'MIS - Pharmacy'!D61&\")\"))","v":""},{"$f":"IF(ISBLANK('MIS - Pharmacy'!BI61), \"\", 'MIS - Pharmacy'!BI61)","v":""},{"$f":"IF(ISBLANK('MIS - Pharmacy'!U61), \"\", 'MIS - Pharmacy'!U61)","v":""},"","","","","","","",{"$f":"IF(ISBLANK('MIS - Pharmacy'!AC61),\"\",'MIS - Pharmacy'!AC61)","v":""},"",{"$f":"IF(ISBLANK('MIS - Pharmacy'!AD61),\"\",'MIS - Pharmacy'!AD61)","v":""},"","",{"$f":"IF('MIS - Pharmacy'!A61=\"\",\"\",SUM('MIS - Pharmacy'!K61+'MIS - Pharmacy'!L61))","v":""},"",{"$f":"IF('MIS - Pharmacy'!A61=\"\",\"\",('MIS - Pharmacy'!AF61+'MIS - Pharmacy'!AH61 +'MIS - Pharmacy'!AG61))","v":""},{"$f":"IF(ISBLANK('MIS - Pharmacy'!AI61),\"\",'MIS - Pharmacy'!AI61)","v":""},"","","",{"$f":"IF(ISBLANK('MIS - Pharmacy'!V61),\"\",'MIS - Pharmacy'!V61)","v":""},"","","",{"$f":"IF(ISBLANK('MIS - Pharmacy'!J61),\"\",'MIS - Pharmacy'!J61)","v":""},{"$f":"IF(ISBLANK('MIS - Pharmacy'!AY61),\"\",'MIS - Pharmacy'!AY61)","v":""},{"$f":"IF(ISBLANK('MIS - Pharmacy'!BH61),\"\",'MIS - Pharmacy'!BH61)","v":""},"",""]
[{"$f":"IF(ISBLANK('MIS - Pharmacy'!A62), \"\",'MIS - Pharmacy'!A62)","v":""},{"$f":"IF(ISBLANK('MIS - Pharmacy'!B62),\"\",('MIS - Pharmacy'!B62&\"(\"&'MIS - Pharmacy'!D62&\")\"))","v":""},{"$f":"IF(ISBLANK('MIS - Pharmacy'!BI62), \"\", 'MIS - Pharmacy'!BI62)","v":""},{"$f":"IF(ISBLANK('MIS - Pharmacy'!U62), \"\", 'MIS - Pharmacy'!U62)","v":""},"","","","","","","",{"$f":"IF(ISBLANK('MIS - Pharmacy'!AC62),\"\",'MIS - Pharmacy'!AC62)","v":""},"",{"$f":"IF(ISBLANK('MIS - Pharmacy'!AD62),\"\",'MIS - Pharmacy'!AD62)","v":""},"","",{"$f":"IF('MIS - Pharmacy'!A62=\"\",\"\",SUM('MIS - Pharmacy'!K62+'MIS - Pharmacy'!L62))","v":""},"",{"$f":"IF('MIS - Pharmacy'!A62=\"\",\"\",('MIS - Pharmacy'!AF62+'MIS - Pharmacy'!AH62 +'MIS - Pharmacy'!AG62))","v":""},{"$f":"IF(ISBLANK('MIS - Pharmacy'!AI62),\"\",'MIS - Pharmacy'!AI62)","v":""},"","","",{"$f":"IF(ISBLANK('MIS - Pharmacy'!V62),\"\",'MIS - Pharmacy'!V62)","v":""},"","","",{"$f":"IF(ISBLANK('MIS - Pharmacy'!J62),\"\",'MIS - Pharmacy'!J62)","v":""},{"$f":"IF(ISBLANK('MIS - Pharmacy'!AY62),\"\",'MIS - Pharmacy'!AY62)","v":""},{"$f":"IF(ISBLANK('MIS - Pharmacy'!BH62),\"\",'MIS - Pharmacy'!BH62)","v":""},"",""]
[{"$f":"IF(ISBLANK('MIS - Pharmacy'!A63), \"\",'MIS - Pharmacy'!A63)","v":""},{"$f":"IF(ISBLANK('MIS - Pharmacy'!B63),\"\",('MIS - Pharmacy'!B63&\"(\"&'MIS - Pharmacy'!D63&\")\"))","v":""},{"$f":"IF(ISBLANK('MIS - Pharmacy'!BI63), \"\", 'MIS - Pharmacy'!BI63)","v":""},{"$f":"IF(ISBLANK('MIS - Pharmacy'!U63), \"\", 'MIS - Pharmacy'!U63)","v":""},"","","","","","","",{"$f":"IF(ISBLANK('MIS - Pharmacy'!AC63),\"\",'MIS - Pharmacy'!AC63)","v":""},"",{"$f":"IF(ISBLANK('MIS - Pharmacy'!AD63),\"\",'MIS - Pharmacy'!AD63)","v":""},"","",{"$f":"IF('MIS - Pharmacy'!A63=\"\",\"\",SUM('MIS - Pharmacy'!K63+'MIS - Pharmacy'!L63))","v":""},"",{"$f":"IF('MIS - Pharmacy'!A63=\"\",\"\",('MIS - Pharmacy'!AF63+'MIS - Pharmacy'!AH63 +'MIS - Pharmacy'!AG63))","v":""},{"$f":"IF(ISBLANK('MIS - Pharmacy'!AI63),\"\",'MIS - Pharmacy'!AI63)","v":""},"","","",{"$f":"IF(ISBLANK('MIS - Pharmacy'!V63),\"\",'MIS - Pharmacy'!V63)","v":""},"","","",{"$f":"IF(ISBLANK('MIS - Pharmacy'!J63),\"\",'MIS - Pharmacy'!J63)","v":""},{"$f":"IF(ISBLANK('MIS - Pharmacy'!AY63),\"\",'MIS - Pharmacy'!AY63)","v":""},{"$f":"IF(ISBLANK('MIS - Pharmacy'!BH63),\"\",'MIS - Pharmacy'!BH63)","v":""},"",""]
[{"$f":"IF(ISBLANK('MIS - Pharmacy'!A64), \"\",'MIS - Pharmacy'!A64)","v":""},{"$f":"IF(ISBLANK('MIS - Pharmacy'!B64),\"\",('MIS - Pharmacy'!B64&\"(\"&'MIS - Pharmacy'!D64&\")\"))","v":""},{"$f":"IF(ISBLANK('MIS - Pharmacy'!BI64), \"\", 'MIS - Pharmacy'!BI64)","v":""},{"$f":"IF(ISBLANK('MIS - Pharmacy'!U64), \"\", 'MIS - Pharmacy'!U64)","v":""},"","","","","","","",{"$f":"IF(ISBLANK('MIS - Pharmacy'!AC64),\"\",'MIS - Pharmacy'!AC64)","v":""},"",{"$f":"IF(ISBLANK('MIS - Pharmacy'!AD64),\"\",'MIS - Pharmacy'!AD64)","v":""},"","",{"$f":"IF('MIS - Pharmacy'!A64=\"\",\"\",SUM('MIS - Pharmacy'!K64+'MIS - Pharmacy'!L64))","v":""},"",{"$f":"IF('MIS - Pharmacy'!A64=\"\",\"\",('MIS - Pharmacy'!AF64+'MIS - Pharmacy'!AH64 +'MIS - Pharmacy'!AG64))","v":""},{"$f":"IF(ISBLANK('MIS - Pharmacy'!AI64),\"\",'MIS - Pharmacy'!AI64)","v":""},"","","",{"$f":"IF(ISBLANK('MIS - Pharmacy'!V64),\"\",'MIS - Pharmacy'!V64)","v":""},"","","",{"$f":"IF(ISBLANK('MIS - Pharmacy'!J64),\"\",'MIS - Pharmacy'!J64)","v":""},{"$f":"IF(ISBLANK('MIS - Pharmacy'!AY64),\"\",'MIS - Pharmacy'!AY64)","v":""},{"$f":"IF(ISBLANK('MIS - Pharmacy'!BH64),\"\",'MIS - Pharmacy'!BH64)","v":""},"",""]
[{"$f":"IF(ISBLANK('MIS - Pharmacy'!A65), \"\",'MIS - Pharmacy'!A65)","v":""},{"$f":"IF(ISBLANK('MIS - Pharmacy'!B65),\"\",('MIS - Pharmacy'!B65&\"(\"&'MIS - Pharmacy'!D65&\")\"))","v":""},{"$f":"IF(ISBLANK('MIS - Pharmacy'!BI65), \"\", 'MIS - Pharmacy'!BI65)","v":""},{"$f":"IF(ISBLANK('MIS - Pharmacy'!U65), \"\", 'MIS - Pharmacy'!U65)","v":""},"","","","","","","",{"$f":"IF(ISBLANK('MIS - Pharmacy'!AC65),\"\",'MIS - Pharmacy'!AC65)","v":""},"",{"$f":"IF(ISBLANK('MIS - Pharmacy'!AD65),\"\",'MIS - Pharmacy'!AD65)","v":""},"","",{"$f":"IF('MIS - Pharmacy'!A65=\"\",\"\",SUM('MIS - Pharmacy'!K65+'MIS - Pharmacy'!L65))","v":""},"",{"$f":"IF('MIS - Pharmacy'!A65=\"\",\"\",('MIS - Pharmacy'!AF65+'MIS - Pharmacy'!AH65 +'MIS - Pharmacy'!AG65))","v":""},{"$f":"IF(ISBLANK('MIS - Pharmacy'!AI65),\"\",'MIS - Pharmacy'!AI65)","v":""},"","","",{"$f":"IF(ISBLANK('MIS - Pharmacy'!V65),\"\",'MIS - Pharmacy'!V65)","v":""},"","","",{"$f":"IF(ISBLANK('MIS - Pharmacy'!J65),\"\",'MIS - Pharmacy'!J65)","v":""},{"$f":"IF(ISBLANK('MIS - Pharmacy'!AY65),\"\",'MIS - Pharmacy'!AY65)","v":""},{"$f":"IF(ISBLANK('MIS - Pharmacy'!BH65),\"\",'MIS - Pharmacy'!BH65)","v":""},"",""]
[{"$f":"IF(ISBLANK('MIS - Pharmacy'!A66), \"\",'MIS - Pharmacy'!A66)","v":""},{"$f":"IF(ISBLANK('MIS - Pharmacy'!B66),\"\",('MIS - Pharmacy'!B66&\"(\"&'MIS - Pharmacy'!D66&\")\"))","v":""},{"$f":"IF(ISBLANK('MIS - Pharmacy'!BI66), \"\", 'MIS - Pharmacy'!BI66)","v":""},{"$f":"IF(ISBLANK('MIS - Pharmacy'!U66), \"\", 'MIS - Pharmacy'!U66)","v":""},"","","","","","","",{"$f":"IF(ISBLANK('MIS - Pharmacy'!AC66),\"\",'MIS - Pharmacy'!AC66)","v":""},"",{"$f":"IF(ISBLANK('MIS - Pharmacy'!AD66),\"\",'MIS - Pharmacy'!AD66)","v":""},"","",{"$f":"IF('MIS - Pharmacy'!A66=\"\",\"\",SUM('MIS - Pharmacy'!K66+'MIS - Pharmacy'!L66))","v":""},"",{"$f":"IF('MIS - Pharmacy'!A66=\"\",\"\",('MIS - Pharmacy'!AF66+'MIS - Pharmacy'!AH66 +'MIS - Pharmacy'!AG66))","v":""},{"$f":"IF(ISBLANK('MIS - Pharmacy'!AI66),\"\",'MIS - Pharmacy'!AI66)","v":""},"","","",{"$f":"IF(ISBLANK('MIS - Pharmacy'!V66),\"\",'MIS - Pharmacy'!V66)","v":""},"","","",{"$f":"IF(ISBLANK('MIS - Pharmacy'!J66),\"\",'MIS - Pharmacy'!J66)","v":""},{"$f":"IF(ISBLANK('MIS - Pharmacy'!AY66),\"\",'MIS - Pharmacy'!AY66)","v":""},{"$f":"IF(ISBLANK('MIS - Pharmacy'!BH66),\"\",'MIS - Pharmacy'!BH66)","v":""},"",""]
[{"$f":"IF(ISBLANK('MIS - Pharmacy'!A67), \"\",'MIS - Pharmacy'!A67)","v":""},{"$f":"IF(ISBLANK('MIS - Pharmacy'!B67),\"\",('MIS - Pharmacy'!B67&\"(\"&'MIS - Pharmacy'!D67&\")\"))","v":""},{"$f":"IF(ISBLANK('MIS - Pharmacy'!BI67), \"\", 'MIS - Pharmacy'!BI67)","v":""},{"$f":"IF(ISBLANK('MIS - Pharmacy'!U67), \"\", 'MIS - Pharmacy'!U67)","v":""},"","","","","","","",{"$f":"IF(ISBLANK('MIS - Pharmacy'!AC67),\"\",'MIS - Pharmacy'!AC67)","v":""},"",{"$f":"IF(ISBLANK('MIS - Pharmacy'!AD67),\"\",'MIS - Pharmacy'!AD67)","v":""},"","",{"$f":"IF('MIS - Pharmacy'!A67=\"\",\"\",SUM('MIS - Pharmacy'!K67+'MIS - Pharmacy'!L67))","v":""},"",{"$f":"IF('MIS - Pharmacy'!A67=\"\",\"\",('MIS - Pharmacy'!AF67+'MIS - Pharmacy'!AH67 +'MIS - Pharmacy'!AG67))","v":""},{"$f":"IF(ISBLANK('MIS - Pharmacy'!AI67),\"\",'MIS - Pharmacy'!AI67)","v":""},"","","",{"$f":"IF(ISBLANK('MIS - Pharmacy'!V67),\"\",'MIS - Pharmacy'!V67)","v":""},"","","",{"$f":"IF(ISBLANK('MIS - Pharmacy'!J67),\"\",'MIS - Pharmacy'!J67)","v":""},{"$f":"IF(ISBLANK('MIS - Pharmacy'!AY67),\"\",'MIS - Pharmacy'!AY67)","v":""},{"$f":"IF(ISBLANK('MIS - Pharmacy'!BH67),\"\",'MIS - Pharmacy'!BH67)","v":""},"",""]
[{"$f":"IF(ISBLANK('MIS - Pharmacy'!A68), \"\",'MIS - Pharmacy'!A68)","v":""},{"$f":"IF(ISBLANK('MIS - Pharmacy'!B68),\"\",('MIS - Pharmacy'!B68&\"(\"&'MIS - Pharmacy'!D68&\")\"))","v":""},{"$f":"IF(ISBLANK('MIS - Pharmacy'!BI68), \"\", 'MIS - Pharmacy'!BI68)","v":""},{"$f":"IF(ISBLANK('MIS - Pharmacy'!U68), \"\", 'MIS - Pharmacy'!U68)","v":""},"",{"$f":"IF(D77=\"\",\"\",D77*12)","v":""},{"$f":"IF(Q77=\"\",\"\",IF(Q77 = 0, 0, D77/Q77*1000))","v":""},"","",{"$f":"IF(D77=0,0,IF(D77=\"\",\"\",D77/Q77))","v":""},{"$f":"IF(D77=0,0,IF(D77=\"\",\"\",D77/X77))","v":""},{"$f":"IF(ISBLANK('MIS - Pharmacy'!AC68),\"\",'MIS - Pharmacy'!AC68)","v":""},"",{"$f":"IF(ISBLANK('MIS - Pharmacy'!AD68),\"\",'MIS - Pharmacy'!AD68)","v":""},"",{"$f":"IF(L77=\"\",\"\",IF(X77=0,0,L77/X77))","v":""},{"$f":"IF('MIS - Pharmacy'!A68=\"\",\"\",SUM('MIS - Pharmacy'!K68+'MIS - Pharmacy'!L68))","v":""},"",{"$f":"IF('MIS - Pharmacy'!A68=\"\",\"\",('MIS - Pharmacy'!AF68+'MIS - Pharmacy'!AH68 +'MIS - Pharmacy'!AG68))","v":""},{"$f":"IF(ISBLANK('MIS - Pharmacy'!AI68),\"\",'MIS - Pharmacy'!AI68)","v":""},"",{"$f":"IF(A77=\"\",\"\",IF(T77=0,0,T77/Q77*1000))","v":""},"",{"$f":"IF(ISBLANK('MIS - Pharmacy'!V68),\"\",'MIS - Pharmacy'!V68)","v":""},"","","",{"$f":"IF(ISBLANK('MIS - Pharmacy'!J68),\"\",'MIS - Pharmacy'!J68)","v":""},{"$f":"IF(ISBLANK('MIS - Pharmacy'!AY68),\"\",'MIS - Pharmacy'!AY68)","v":""},{"$f":"IF(ISBLANK('MIS - Pharmacy'!BH68),\"\",'MIS - Pharmacy'!BH68)","v":""},{"$f":"IF(A77=\"\",\"\",D77+L77)","v":""},""]
[{"$f":"IF(ISBLANK('MIS - Pharmacy'!A69), \"\",'MIS - Pharmacy'!A69)","v":""},{"$f":"IF(ISBLANK('MIS - Pharmacy'!B69),\"\",('MIS - Pharmacy'!B69&\"(\"&'MIS - Pharmacy'!D69&\")\"))","v":""},{"$f":"IF(ISBLANK('MIS - Pharmacy'!BI69), \"\", 'MIS - Pharmacy'!BI69)","v":""},{"$f":"IF(ISBLANK('MIS - Pharmacy'!U69), \"\", 'MIS - Pharmacy'!U69)","v":""},{"$f":"IF(D78=\"\",\"\",IF(D78<=D$9,\"Lower Outlier\",IF(D78<=D$5,\"Below Average\",IF(D78<=D$6,\"Lower Quartile Range\",IF(D78<=D$7,\"Upper Quartile Range\",IF(D78<=D$10,\"Above Average\",\"Upper Outlier\"))))))","v":""},"","",{"$f":"IF(D78=\"\",\"\",IF(X78=0,0,D78/Y78))","v":""},{"$f":"IF(A78=\"\",\"\",IF(D78=0,0,(D78*0.3)/Y78))","v":""},"","",{"$f":"IF(ISBLANK('MIS - Pharmacy'!AC69),\"\",'MIS - Pharmacy'!AC69)","v":""},{"$f":"IF(L78=\"\",\"\",IF(L78<=L$9,\"Lower Outlier\",IF(L78<=L$5,\"Below Average\",IF(L78<=L$6,\"Lower Quartile Range\",IF(L78<=L$7,\"Upper Quartile Range\",IF(L78<=L$10,\"Above Average\",\"Upper Outlier\"))))))","v":""},{"$f":"IF(ISBLANK('MIS - Pharmacy'!AD69),\"\",'MIS - Pharmacy'!AD69)","v":""},{"$f":"IF(N78=\"\",\"\",IF(N78=0,0,L78/N78*1000))","v":""},"",{"$f":"IF('MIS - Pharmacy'!A69=\"\",\"\",SUM('MIS - Pharmacy'!K69+'MIS - Pharmacy'!L69))","v":""},{"$f":"IF(Q78=\"\",\"\",IF(Q78<=Q$9,\"Lower Outlier\",IF(Q78<=Q$5,\"Below Average\",IF(Q78<=Q$6,\"Lower Quartile Range\",IF(Q78<=Q$7,\"Upper Quartile Range\",IF(Q78<=Q$10,\"Above Average\",\"Upper Outlier\"))))))","v":""},{"$f":"IF('MIS - Pharmacy'!A69=\"\",\"\",('MIS - Pharmacy'!AF69+'MIS - Pharmacy'!AH69 +'MIS - Pharmacy'!AG69))","v":""},{"$f":"IF(ISBLANK('MIS - Pharmacy'!AI69),\"\",'MIS - Pharmacy'!AI69)","v":""},{"$f":"IF(T78=\"\",\"\",IF(T78<=T$9,\"Lower Outlier\",IF(T78<=T$5,\"Below Average\",IF(T78<=T$6,\"Lower Quartile Range\",IF(T78<=T$7,\"Upper Quartile Range\",IF(T78<=T$10,\"Above Average\",\"Upper Outlier\"))))))","v":""},"",{"$f":"IF(V78=\"\",\"\",IF(S78 >0,(T78/S78*1000),0))","v":""},{"$f":"IF(ISBLANK('MIS - Pharmacy'!V69),\"\",'MIS - Pharmacy'!V69)","v":""},{"$f":"IF(X78=\"\",\"\",(X78/7)*$Y$3)","v":""},{"$f":"IF(X78=\"\",\"\",IF(X78<=X$9,\"Lower Outlier\",IF(X78<=X$5,\"Below Average\",IF(X78<=X$6,\"Lower Quartile Range\",IF(X78<=X$7,\"Upper Quartile Range\",IF(X78<=X$10,\"Above Average\",\"Upper Outlier\"))))))","v":""},{"$f":"IF(A78=\"\",\"\",IF(X78=0,0,Y78/Q78*1000))","v":""},{"$f":"IF(ISBLANK('MIS - Pharmacy'!J69),\"\",'MIS - Pharmacy'!J69)","v":""},{"$f":"IF(ISBLANK('MIS - Pharmacy'!AY69),\"\",'MIS - Pharmacy'!AY69)","v":""},{"$f":"IF(ISBLANK('MIS - Pharmacy'!BH69),\"\",'MIS - Pharmacy'!BH69)","v":""},"",{"$f":"IF(A78=\"\",\"\",IF(Y78=0,0,(AE78/Y78)*100))","v":""}]
[{"$f":"IF(ISBLANK('MIS - Pharmacy'!A70), \"\",'MIS - Pharmacy'!A70)","v":""},{"$f":"IF(ISBLANK('MIS - Pharmacy'!B70),\"\",('MIS - Pharmacy'!B70&\"(\"&'MIS - Pharmacy'!D70&\")\"))","v":""},{"$f":"IF(ISBLANK('MIS - Pharmacy'!BI70), \"\", 'MIS - Pharmacy'!BI70)","v":""},{"$f":"IF(ISBLANK('MIS - Pharmacy'!U70), \"\", 'MIS - Pharmacy'!U70)","v":""},"","","","","","","",{"$f":"IF(ISBLANK('MIS - Pharmacy'!AC70),\"\",'MIS - Pharmacy'!AC70)","v":""},"",{"$f":"IF(ISBLANK('MIS - Pharmacy'!AD70),\"\",'MIS - Pharmacy'!AD70)","v":""},"","",{"$f":"IF('MIS - Pharmacy'!A70=\"\",\"\",SUM('MIS - Pharmacy'!K70+'MIS - Pharmacy'!L70))","v":""},"",{"$f":"IF('MIS - Pharmacy'!A70=\"\",\"\",('MIS - Pharmacy'!AF70+'MIS - Pharmacy'!AH70 +'MIS - Pharmacy'!AG70))","v":""},{"$f":"IF(ISBLANK('MIS - Pharmacy'!AI70),\"\",'MIS - Pharmacy'!AI70)","v":""},"","","",{"$f":"IF(ISBLANK('MIS - Pharmacy'!V70),\"\",'MIS - Pharmacy'!V70)","v":""},"","","",{"$f":"IF(ISBLANK('MIS - Pharmacy'!J70),\"\",'MIS - Pharmacy'!J70)","v":""},{"$f":"IF(ISBLANK('MIS - Pharmacy'!AY70),\"\",'MIS - Pharmacy'!AY70)","v":""},{"$f":"IF(ISBLANK('MIS - Pharmacy'!BH70),\"\",'MIS - Pharmacy'!BH70)","v":""},"",""]
[{"$f":"IF(ISBLANK('MIS - Pharmacy'!A71), \"\",'MIS - Pharmacy'!A71)","v":""},{"$f":"IF(ISBLANK('MIS - Pharmacy'!B71),\"\",('MIS - Pharmacy'!B71&\"(\"&'MIS - Pharmacy'!D71&\")\"))","v":""},{"$f":"IF(ISBLANK('MIS - Pharmacy'!BI71), \"\", 'MIS - Pharmacy'!BI71)","v":""},{"$f":"IF(ISBLANK('MIS - Pharmacy'!U71), \"\", 'MIS - Pharmacy'!U71)","v":""},"","","","","","","",{"$f":"IF(ISBLANK('MIS - Pharmacy'!AC71),\"\",'MIS - Pharmacy'!AC71)","v":""},"",{"$f":"IF(ISBLANK('MIS - Pharmacy'!AD71),\"\",'MIS - Pharmacy'!AD71)","v":""},"","",{"$f":"IF('MIS - Pharmacy'!A71=\"\",\"\",SUM('MIS - Pharmacy'!K71+'MIS - Pharmacy'!L71))","v":""},"",{"$f":"IF('MIS - Pharmacy'!A71=\"\",\"\",('MIS - Pharmacy'!AF71+'MIS - Pharmacy'!AH71 +'MIS - Pharmacy'!AG71))","v":""},{"$f":"IF(ISBLANK('MIS - Pharmacy'!AI71),\"\",'MIS - Pharmacy'!AI71)","v":""},"","","",{"$f":"IF(ISBLANK('MIS - Pharmacy'!V71),\"\",'MIS - Pharmacy'!V71)","v":""},"","","",{"$f":"IF(ISBLANK('MIS - Pharmacy'!J71),\"\",'MIS - Pharmacy'!J71)","v":""},{"$f":"IF(ISBLANK('MIS - Pharmacy'!AY71),\"\",'MIS - Pharmacy'!AY71)","v":""},{"$f":"IF(ISBLANK('MIS - Pharmacy'!BH71),\"\",'MIS - Pharmacy'!BH71)","v":""},"",""]
[{"$f":"IF(ISBLANK('MIS - Pharmacy'!A72), \"\",'MIS - Pharmacy'!A72)","v":""},{"$f":"IF(ISBLANK('MIS - Pharmacy'!B72),\"\",('MIS - Pharmacy'!B72&\"(\"&'MIS - Pharmacy'!D72&\")\"))","v":""},{"$f":"IF(ISBLANK('MIS - Pharmacy'!BI72), \"\", 'MIS - Pharmacy'!BI72)","v":""},{"$f":"IF(ISBLANK('MIS - Pharmacy'!U72), \"\", 'MIS - Pharmacy'!U72)","v":""},"","","","","","","",{"$f":"IF(ISBLANK('MIS - Pharmacy'!AC72),\"\",'MIS - Pharmacy'!AC72)","v":""},"",{"$f":"IF(ISBLANK('MIS - Pharmacy'!AD72),\"\",'MIS - Pharmacy'!AD72)","v":""},"","",{"$f":"IF('MIS - Pharmacy'!A72=\"\",\"\",SUM('MIS - Pharmacy'!K72+'MIS - Pharmacy'!L72))","v":""},"",{"$f":"IF('MIS - Pharmacy'!A72=\"\",\"\",('MIS - Pharmacy'!AF72+'MIS - Pharmacy'!AH72 +'MIS - Pharmacy'!AG72))","v":""},{"$f":"IF(ISBLANK('MIS - Pharmacy'!AI72),\"\",'MIS - Pharmacy'!AI72)","v":""},"","","",{"$f":"IF(ISBLANK('MIS - Pharmacy'!V72),\"\",'MIS - Pharmacy'!V72)","v":""},"","","",{"$f":"IF(ISBLANK('MIS - Pharmacy'!J72),\"\",'MIS - Pharmacy'!J72)","v":""},{"$f":"IF(ISBLANK('MIS - Pharmacy'!AY72),\"\",'MIS - Pharmacy'!AY72)","v":""},{"$f":"IF(ISBLANK('MIS - Pharmacy'!BH72),\"\",'MIS - Pharmacy'!BH72)","v":""},"",""]
[{"$f":"IF(ISBLANK('MIS - Pharmacy'!A73), \"\",'MIS - Pharmacy'!A73)","v":""},{"$f":"IF(ISBLANK('MIS - Pharmacy'!B73),\"\",('MIS - Pharmacy'!B73&\"(\"&'MIS - Pharmacy'!D73&\")\"))","v":""},{"$f":"IF(ISBLANK('MIS - Pharmacy'!BI73), \"\", 'MIS - Pharmacy'!BI73)","v":""},{"$f":"IF(ISBLANK('MIS - Pharmacy'!U73), \"\", 'MIS - Pharmacy'!U73)","v":""},"","","","","","","",{"$f":"IF(ISBLANK('MIS - Pharmacy'!AC73),\"\",'MIS - Pharmacy'!AC73)","v":""},"",{"$f":"IF(ISBLANK('MIS - Pharmacy'!AD73),\"\",'MIS - Pharmacy'!AD73)","v":""},"","",{"$f":"IF('MIS - Pharmacy'!A73=\"\",\"\",SUM('MIS - Pharmacy'!K73+'MIS - Pharmacy'!L73))","v":""},"",{"$f":"IF('MIS - Pharmacy'!A73=\"\",\"\",('MIS - Pharmacy'!AF73+'MIS - Pharmacy'!AH73 +'MIS - Pharmacy'!AG73))","v":""},{"$f":"IF(ISBLANK('MIS - Pharmacy'!AI73),\"\",'MIS - Pharmacy'!AI73)","v":""},"","","",{"$f":"IF(ISBLANK('MIS - Pharmacy'!V73),\"\",'MIS - Pharmacy'!V73)","v":""},"","","",{"$f":"IF(ISBLANK('MIS - Pharmacy'!J73),\"\",'MIS - Pharmacy'!J73)","v":""},{"$f":"IF(ISBLANK('MIS - Pharmacy'!AY73),\"\",'MIS - Pharmacy'!AY73)","v":""},{"$f":"IF(ISBLANK('MIS - Pharmacy'!BH73),\"\",'MIS - Pharmacy'!BH73)","v":""},"",""]
[{"$f":"IF(ISBLANK('MIS - Pharmacy'!A74), \"\",'MIS - Pharmacy'!A74)","v":""},{"$f":"IF(ISBLANK('MIS - Pharmacy'!B74),\"\",('MIS - Pharmacy'!B74&\"(\"&'MIS - Pharmacy'!D74&\")\"))","v":""},{"$f":"IF(ISBLANK('MIS - Pharmacy'!BI74), \"\", 'MIS - Pharmacy'!BI74)","v":""},{"$f":"IF(ISBLANK('MIS - Pharmacy'!U74), \"\", 'MIS - Pharmacy'!U74)","v":""},"","","","","","","",{"$f":"IF(ISBLANK('MIS - Pharmacy'!AC74),\"\",'MIS - Pharmacy'!AC74)","v":""},"",{"$f":"IF(ISBLANK('MIS - Pharmacy'!AD74),\"\",'MIS - Pharmacy'!AD74)","v":""},"","",{"$f":"IF('MIS - Pharmacy'!A74=\"\",\"\",SUM('MIS - Pharmacy'!K74+'MIS - Pharmacy'!L74))","v":""},"",{"$f":"IF('MIS - Pharmacy'!A74=\"\",\"\",('MIS - Pharmacy'!AF74+'MIS - Pharmacy'!AH74 +'MIS - Pharmacy'!AG74))","v":""},{"$f":"IF(ISBLANK('MIS - Pharmacy'!AI74),\"\",'MIS - Pharmacy'!AI74)","v":""},"","","",{"$f":"IF(ISBLANK('MIS - Pharmacy'!V74),\"\",'MIS - Pharmacy'!V74)","v":""},"","","",{"$f":"IF(ISBLANK('MIS - Pharmacy'!J74),\"\",'MIS - Pharmacy'!J74)","v":""},{"$f":"IF(ISBLANK('MIS - Pharmacy'!AY74),\"\",'MIS - Pharmacy'!AY74)","v":""},{"$f":"IF(ISBLANK('MIS - Pharmacy'!BH74),\"\",'MIS - Pharmacy'!BH74)","v":""},"",""]
[{"$f":"IF(ISBLANK('MIS - Pharmacy'!A75), \"\",'MIS - Pharmacy'!A75)","v":""},{"$f":"IF(ISBLANK('MIS - Pharmacy'!B75),\"\",('MIS - Pharmacy'!B75&\"(\"&'MIS - Pharmacy'!D75&\")\"))","v":""},{"$f":"IF(ISBLANK('MIS - Pharmacy'!BI75), \"\", 'MIS - Pharmacy'!BI75)","v":""},{"$f":"IF(ISBLANK('MIS - Pharmacy'!U75), \"\", 'MIS - Pharmacy'!U75)","v":""},"","","","","","","",{"$f":"IF(ISBLANK('MIS - Pharmacy'!AC75),\"\",'MIS - Pharmacy'!AC75)","v":""},"",{"$f":"IF(ISBLANK('MIS - Pharmacy'!AD75),\"\",'MIS - Pharmacy'!AD75)","v":""},"","",{"$f":"IF('MIS - Pharmacy'!A75=\"\",\"\",SUM('MIS - Pharmacy'!K75+'MIS - Pharmacy'!L75))","v":""},"",{"$f":"IF('MIS - Pharmacy'!A75=\"\",\"\",('MIS - Pharmacy'!AF75+'MIS - Pharmacy'!AH75 +'MIS - Pharmacy'!AG75))","v":""},{"$f":"IF(ISBLANK('MIS - Pharmacy'!AI75),\"\",'MIS - Pharmacy'!AI75)","v":""},"","","",{"$f":"IF(ISBLANK('MIS - Pharmacy'!V75),\"\",'MIS - Pharmacy'!V75)","v":""},"","","",{"$f":"IF(ISBLANK('MIS - Pharmacy'!J75),\"\",'MIS - Pharmacy'!J75)","v":""},{"$f":"IF(ISBLANK('MIS - Pharmacy'!AY75),\"\",'MIS - Pharmacy'!AY75)","v":""},{"$f":"IF(ISBLANK('MIS - Pharmacy'!BH75),\"\",'MIS - Pharmacy'!BH75)","v":""},"",""]
[{"$f":"IF(ISBLANK('MIS - Pharmacy'!A76), \"\",'MIS - Pharmacy'!A76)","v":""},{"$f":"IF(ISBLANK('MIS - Pharmacy'!B76),\"\",('MIS - Pharmacy'!B76&\"(\"&'MIS - Pharmacy'!D76&\")\"))","v":""},{"$f":"IF(ISBLANK('MIS - Pharmacy'!BI76), \"\", 'MIS - Pharmacy'!BI76)","v":""},{"$f":"IF(ISBLANK('MIS - Pharmacy'!U76), \"\", 'MIS - Pharmacy'!U76)","v":""},"","","","","","","",{"$f":"IF(ISBLANK('MIS - Pharmacy'!AC76),\"\",'MIS - Pharmacy'!AC76)","v":""},"",{"$f":"IF(ISBLANK('MIS - Pharmacy'!AD76),\"\",'MIS - Pharmacy'!AD76)","v":""},"","",{"$f":"IF('MIS - Pharmacy'!A76=\"\",\"\",SUM('MIS - Pharmacy'!K76+'MIS - Pharmacy'!L76))","v":""},"",{"$f":"IF('MIS - Pharmacy'!A76=\"\",\"\",('MIS - Pharmacy'!AF76+'MIS - Pharmacy'!AH76 +'MIS - Pharmacy'!AG76))","v":""},{"$f":"IF(ISBLANK('MIS - Pharmacy'!AI76),\"\",'MIS - Pharmacy'!AI76)","v":""},"","","",{"$f":"IF(ISBLANK('MIS - Pharmacy'!V76),\"\",'MIS - Pharmacy'!V76)","v":""},"","","",{"$f":"IF(ISBLANK('MIS - Pharmacy'!J76),\"\",'MIS - Pharmacy'!J76)","v":""},{"$f":"IF(ISBLANK('MIS - Pharmacy'!AY76),\"\",'MIS - Pharmacy'!AY76)","v":""},{"$f":"IF(ISBLANK('MIS - Pharmacy'!BH76),\"\",'MIS - Pharmacy'!BH76)","v":""},"",""]
[{"$f":"IF(ISBLANK('MIS - Pharmacy'!A77), \"\",'MIS - Pharmacy'!A77)","v":""},{"$f":"IF(ISBLANK('MIS - Pharmacy'!B77),\"\",('MIS - Pharmacy'!B77&\"(\"&'MIS - Pharmacy'!D77&\")\"))","v":""},{"$f":"IF(ISBLANK('MIS - Pharmacy'!BI77), \"\", 'MIS - Pharmacy'!BI77)","v":""},{"$f":"IF(ISBLANK('MIS - Pharmacy'!U77), \"\", 'MIS - Pharmacy'!U77)","v":""},"","","","","","","",{"$f":"IF(ISBLANK('MIS - Pharmacy'!AC77),\"\",'MIS - Pharmacy'!AC77)","v":""},"",{"$f":"IF(ISBLANK('MIS - Pharmacy'!AD77),\"\",'MIS - Pharmacy'!AD77)","v":""},"","",{"$f":"IF('MIS - Pharmacy'!A77=\"\",\"\",SUM('MIS - Pharmacy'!K77+'MIS - Pharmacy'!L77))","v":""},"",{"$f":"IF('MIS - Pharmacy'!A77=\"\",\"\",('MIS - Pharmacy'!AF77+'MIS - Pharmacy'!AH77 +'MIS - Pharmacy'!AG77))","v":""},{"$f":"IF(ISBLANK('MIS - Pharmacy'!AI77),\"\",'MIS - Pharmacy'!AI77)","v":""},"","","",{"$f":"IF(ISBLANK('MIS - Pharmacy'!V77),\"\",'MIS - Pharmacy'!V77)","v":""},"","","",{"$f":"IF(ISBLANK('MIS - Pharmacy'!J77),\"\",'MIS - Pharmacy'!J77)","v":""},{"$f":"IF(ISBLANK('MIS - Pharmacy'!AY77),\"\",'MIS - Pharmacy'!AY77)","v":""},{"$f":"IF(ISBLANK('MIS - Pharmacy'!BH77),\"\",'MIS - Pharmacy'!BH77)","v":""},"",""]
[{"$f":"IF(ISBLANK('MIS - Pharmacy'!A78), \"\",'MIS - Pharmacy'!A78)","v":""},{"$f":"IF(ISBLANK('MIS - Pharmacy'!B78),\"\",('MIS - Pharmacy'!B78&\"(\"&'MIS - Pharmacy'!D78&\")\"))","v":""},{"$f":"IF(ISBLANK('MIS - Pharmacy'!BI78), \"\", 'MIS - Pharmacy'!BI78)","v":""},{"$f":"IF(ISBLANK('MIS - Pharmacy'!U78), \"\", 'MIS - Pharmacy'!U78)","v":""},"","","","","","","",{"$f":"IF(ISBLANK('MIS - Pharmacy'!AC78),\"\",'MIS - Pharmacy'!AC78)","v":""},"",{"$f":"IF(ISBLANK('MIS - Pharmacy'!AD78),\"\",'MIS - Pharmacy'!AD78)","v":""},"","",{"$f":"IF('MIS - Pharmacy'!A78=\"\",\"\",SUM('MIS - Pharmacy'!K78+'MIS - Pharmacy'!L78))","v":""},"",{"$f":"IF('MIS - Pharmacy'!A78=\"\",\"\",('MIS - Pharmacy'!AF78+'MIS - Pharmacy'!AH78 +'MIS - Pharmacy'!AG78))","v":""},{"$f":"IF(ISBLANK('MIS - Pharmacy'!AI78),\"\",'MIS - Pharmacy'!AI78)","v":""},"","","",{"$f":"IF(ISBLANK('MIS - Pharmacy'!V78),\"\",'MIS - Pharmacy'!V78)","v":""},"","","",{"$f":"IF(ISBLANK('MIS - Pharmacy'!J78),\"\",'MIS - Pharmacy'!J78)","v":""},{"$f":"IF(ISBLANK('MIS - Pharmacy'!AY78),\"\",'MIS - Pharmacy'!AY78)","v":""},{"$f":"IF(ISBLANK('MIS - Pharmacy'!BH78),\"\",'MIS - Pharmacy'!BH78)","v":""},"",""]
[{"$f":"IF(ISBLANK('MIS - Pharmacy'!A79), \"\",'MIS - Pharmacy'!A79)","v":""},{"$f":"IF(ISBLANK('MIS - Pharmacy'!B79),\"\",('MIS - Pharmacy'!B79&\"(\"&'MIS - Pharmacy'!D79&\")\"))","v":""},{"$f":"IF(ISBLANK('MIS - Pharmacy'!BI79), \"\", 'MIS - Pharmacy'!BI79)","v":""},{"$f":"IF(ISBLANK('MIS - Pharmacy'!U79), \"\", 'MIS - Pharmacy'!U79)","v":""},"","","","","","","",{"$f":"IF(ISBLANK('MIS - Pharmacy'!AC79),\"\",'MIS - Pharmacy'!AC79)","v":""},"",{"$f":"IF(ISBLANK('MIS - Pharmacy'!AD79),\"\",'MIS - Pharmacy'!AD79)","v":""},"","",{"$f":"IF('MIS - Pharmacy'!A79=\"\",\"\",SUM('MIS - Pharmacy'!K79+'MIS - Pharmacy'!L79))","v":""},"",{"$f":"IF('MIS - Pharmacy'!A79=\"\",\"\",('MIS - Pharmacy'!AF79+'MIS - Pharmacy'!AH79 +'MIS - Pharmacy'!AG79))","v":""},{"$f":"IF(ISBLANK('MIS - Pharmacy'!AI79),\"\",'MIS - Pharmacy'!AI79)","v":""},"","","",{"$f":"IF(ISBLANK('MIS - Pharmacy'!V79),\"\",'MIS - Pharmacy'!V79)","v":""},"","","",{"$f":"IF(ISBLANK('MIS - Pharmacy'!J79),\"\",'MIS - Pharmacy'!J79)","v":""},{"$f":"IF(ISBLANK('MIS - Pharmacy'!AY79),\"\",'MIS - Pharmacy'!AY79)","v":""},{"$f":"IF(ISBLANK('MIS - Pharmacy'!BH79),\"\",'MIS - Pharmacy'!BH79)","v":""},"",""]
[{"$f":"IF(ISBLANK('MIS - Pharmacy'!A80), \"\",'MIS - Pharmacy'!A80)","v":""},{"$f":"IF(ISBLANK('MIS - Pharmacy'!B80),\"\",('MIS - Pharmacy'!B80&\"(\"&'MIS - Pharmacy'!D80&\")\"))","v":""},{"$f":"IF(ISBLANK('MIS - Pharmacy'!BI80), \"\", 'MIS - Pharmacy'!BI80)","v":""},{"$f":"IF(ISBLANK('MIS - Pharmacy'!U80), \"\", 'MIS - Pharmacy'!U80)","v":""},"","","","","","","",{"$f":"IF(ISBLANK('MIS - Pharmacy'!AC80),\"\",'MIS - Pharmacy'!AC80)","v":""},"",{"$f":"IF(ISBLANK('MIS - Pharmacy'!AD80),\"\",'MIS - Pharmacy'!AD80)","v":""},"","",{"$f":"IF('MIS - Pharmacy'!A80=\"\",\"\",SUM('MIS - Pharmacy'!K80+'MIS - Pharmacy'!L80))","v":""},"",{"$f":"IF('MIS - Pharmacy'!A80=\"\",\"\",('MIS - Pharmacy'!AF80+'MIS - Pharmacy'!AH80 +'MIS - Pharmacy'!AG80))","v":""},{"$f":"IF(ISBLANK('MIS - Pharmacy'!AI80),\"\",'MIS - Pharmacy'!AI80)","v":""},"","","",{"$f":"IF(ISBLANK('MIS - Pharmacy'!V80),\"\",'MIS - Pharmacy'!V80)","v":""},"","","",{"$f":"IF(ISBLANK('MIS - Pharmacy'!J80),\"\",'MIS - Pharmacy'!J80)","v":""},{"$f":"IF(ISBLANK('MIS - Pharmacy'!AY80),\"\",'MIS - Pharmacy'!AY80)","v":""},{"$f":"IF(ISBLANK('MIS - Pharmacy'!BH80),\"\",'MIS - Pharmacy'!BH80)","v":""},"",""]
[{"$f":"IF(ISBLANK('MIS - Pharmacy'!A81), \"\",'MIS - Pharmacy'!A81)","v":""},{"$f":"IF(ISBLANK('MIS - Pharmacy'!B81),\"\",('MIS - Pharmacy'!B81&\"(\"&'MIS - Pharmacy'!D81&\")\"))","v":""},{"$f":"IF(ISBLANK('MIS - Pharmacy'!BI81), \"\", 'MIS - Pharmacy'!BI81)","v":""},{"$f":"IF(ISBLANK('MIS - Pharmacy'!U81), \"\", 'MIS - Pharmacy'!U81)","v":""},"","","","","","","",{"$f":"IF(ISBLANK('MIS - Pharmacy'!AC81),\"\",'MIS - Pharmacy'!AC81)","v":""},"",{"$f":"IF(ISBLANK('MIS - Pharmacy'!AD81),\"\",'MIS - Pharmacy'!AD81)","v":""},"","",{"$f":"IF('MIS - Pharmacy'!A81=\"\",\"\",SUM('MIS - Pharmacy'!K81+'MIS - Pharmacy'!L81))","v":""},"",{"$f":"IF('MIS - Pharmacy'!A81=\"\",\"\",('MIS - Pharmacy'!AF81+'MIS - Pharmacy'!AH81 +'MIS - Pharmacy'!AG81))","v":""},{"$f":"IF(ISBLANK('MIS - Pharmacy'!AI81),\"\",'MIS - Pharmacy'!AI81)","v":""},"","","",{"$f":"IF(ISBLANK('MIS - Pharmacy'!V81),\"\",'MIS - Pharmacy'!V81)","v":""},"","","",{"$f":"IF(ISBLANK('MIS - Pharmacy'!J81),\"\",'MIS - Pharmacy'!J81)","v":""},{"$f":"IF(ISBLANK('MIS - Pharmacy'!AY81),\"\",'MIS - Pharmacy'!AY81)","v":""},{"$f":"IF(ISBLANK('MIS - Pharmacy'!BH81),\"\",'MIS - Pharmacy'!BH81)","v":""},"",""]
[{"$f":"IF(ISBLANK('MIS - Pharmacy'!A82), \"\",'MIS - Pharmacy'!A82)","v":""},{"$f":"IF(ISBLANK('MIS - Pharmacy'!B82),\"\",('MIS - Pharmacy'!B82&\"(\"&'MIS - Pharmacy'!D82&\")\"))","v":""},{"$f":"IF(ISBLANK('MIS - Pharmacy'!BI82), \"\", 'MIS - Pharmacy'!BI82)","v":""},{"$f":"IF(ISBLANK('MIS - Pharmacy'!U82), \"\", 'MIS - Pharmacy'!U82)","v":""},"","","","","","","",{"$f":"IF(ISBLANK('MIS - Pharmacy'!AC82),\"\",'MIS - Pharmacy'!AC82)","v":""},"",{"$f":"IF(ISBLANK('MIS - Pharmacy'!AD82),\"\",'MIS - Pharmacy'!AD82)","v":""},"","",{"$f":"IF('MIS - Pharmacy'!A82=\"\",\"\",SUM('MIS - Pharmacy'!K82+'MIS - Pharmacy'!L82))","v":""},"",{"$f":"IF('MIS - Pharmacy'!A82=\"\",\"\",('MIS - Pharmacy'!AF82+'MIS - Pharmacy'!AH82 +'MIS - Pharmacy'!AG82))","v":""},{"$f":"IF(ISBLANK('MIS - Pharmacy'!AI82),\"\",'MIS - Pharmacy'!AI82)","v":""},"","","",{"$f":"IF(ISBLANK('MIS - Pharmacy'!V82),\"\",'MIS - Pharmacy'!V82)","v":""},"","","",{"$f":"IF(ISBLANK('MIS - Pharmacy'!J82),\"\",'MIS - Pharmacy'!J82)","v":""},{"$f":"IF(ISBLANK('MIS - Pharmacy'!AY82),\"\",'MIS - Pharmacy'!AY82)","v":""},{"$f":"IF(ISBLANK('MIS - Pharmacy'!BH82),\"\",'MIS - Pharmacy'!BH82)","v":""},"",""]
[{"$f":"IF(ISBLANK('MIS - Pharmacy'!A83), \"\",'MIS - Pharmacy'!A83)","v":""},{"$f":"IF(ISBLANK('MIS - Pharmacy'!B83),\"\",('MIS - Pharmacy'!B83&\"(\"&'MIS - Pharmacy'!D83&\")\"))","v":""},{"$f":"IF(ISBLANK('MIS - Pharmacy'!BI83), \"\", 'MIS - Pharmacy'!BI83)","v":""},{"$f":"IF(ISBLANK('MIS - Pharmacy'!U83), \"\", 'MIS - Pharmacy'!U83)","v":""},"","","","","","","",{"$f":"IF(ISBLANK('MIS - Pharmacy'!AC83),\"\",'MIS - Pharmacy'!AC83)","v":""},"",{"$f":"IF(ISBLANK('MIS - Pharmacy'!AD83),\"\",'MIS - Pharmacy'!AD83)","v":""},"","",{"$f":"IF('MIS - Pharmacy'!A83=\"\",\"\",SUM('MIS - Pharmacy'!K83+'MIS - Pharmacy'!L83))","v":""},"",{"$f":"IF('MIS - Pharmacy'!A83=\"\",\"\",('MIS - Pharmacy'!AF83+'MIS - Pharmacy'!AH83 +'MIS - Pharmacy'!AG83))","v":""},{"$f":"IF(ISBLANK('MIS - Pharmacy'!AI83),\"\",'MIS - Pharmacy'!AI83)","v":""},"","","",{"$f":"IF(ISBLANK('MIS - Pharmacy'!V83),\"\",'MIS - Pharmacy'!V83)","v":""},"","","",{"$f":"IF(ISBLANK('MIS - Pharmacy'!J83),\"\",'MIS - Pharmacy'!J83)","v":""},{"$f":"IF(ISBLANK('MIS - Pharmacy'!AY83),\"\",'MIS - Pharmacy'!AY83)","v":""},{"$f":"IF(ISBLANK('MIS - Pharmacy'!BH83),\"\",'MIS - Pharmacy'!BH83)","v":""},"",""]
[{"$f":"IF(ISBLANK('MIS - Pharmacy'!A84), \"\",'MIS - Pharmacy'!A84)","v":""},{"$f":"IF(ISBLANK('MIS - Pharmacy'!B84),\"\",('MIS - Pharmacy'!B84&\"(\"&'MIS - Pharmacy'!D84&\")\"))","v":""},{"$f":"IF(ISBLANK('MIS - Pharmacy'!BI84), \"\", 'MIS - Pharmacy'!BI84)","v":""},{"$f":"IF(ISBLANK('MIS - Pharmacy'!U84), \"\", 'MIS - Pharmacy'!U84)","v":""},"","","","","","","",{"$f":"IF(ISBLANK('MIS - Pharmacy'!AC84),\"\",'MIS - Pharmacy'!AC84)","v":""},"",{"$f":"IF(ISBLANK('MIS - Pharmacy'!AD84),\"\",'MIS - Pharmacy'!AD84)","v":""},"","",{"$f":"IF('MIS - Pharmacy'!A84=\"\",\"\",SUM('MIS - Pharmacy'!K84+'MIS - Pharmacy'!L84))","v":""},"",{"$f":"IF('MIS - Pharmacy'!A84=\"\",\"\",('MIS - Pharmacy'!AF84+'MIS - Pharmacy'!AH84 +'MIS - Pharmacy'!AG84))","v":""},{"$f":"IF(ISBLANK('MIS - Pharmacy'!AI84),\"\",'MIS - Pharmacy'!AI84)","v":""},"","","",{"$f":"IF(ISBLANK('MIS - Pharmacy'!V84),\"\",'MIS - Pharmacy'!V84)","v":""},"","","",{"$f":"IF(ISBLANK('MIS - Pharmacy'!J84),\"\",'MIS - Pharmacy'!J84)","v":""},{"$f":"IF(ISBLANK('MIS - Pharmacy'!AY84),\"\",'MIS - Pharmacy'!AY84)","v":""},{"$f":"IF(ISBLANK('MIS - Pharmacy'!BH84),\"\",'MIS - Pharmacy'!BH84)","v":""},"",""]
[{"$f":"IF(ISBLANK('MIS - Pharmacy'!A85), \"\",'MIS - Pharmacy'!A85)","v":""},{"$f":"IF(ISBLANK('MIS - Pharmacy'!B85),\"\",('MIS - Pharmacy'!B85&\"(\"&'MIS - Pharmacy'!D85&\")\"))","v":""},{"$f":"IF(ISBLANK('MIS - Pharmacy'!BI85), \"\", 'MIS - Pharmacy'!BI85)","v":""},{"$f":"IF(ISBLANK('MIS - Pharmacy'!U85), \"\", 'MIS - Pharmacy'!U85)","v":""},"","","","","","","",{"$f":"IF(ISBLANK('MIS - Pharmacy'!AC85),\"\",'MIS - Pharmacy'!AC85)","v":""},"",{"$f":"IF(ISBLANK('MIS - Pharmacy'!AD85),\"\",'MIS - Pharmacy'!AD85)","v":""},"","",{"$f":"IF('MIS - Pharmacy'!A85=\"\",\"\",SUM('MIS - Pharmacy'!K85+'MIS - Pharmacy'!L85))","v":""},"",{"$f":"IF('MIS - Pharmacy'!A85=\"\",\"\",('MIS - Pharmacy'!AF85+'MIS - Pharmacy'!AH85 +'MIS - Pharmacy'!AG85))","v":""},{"$f":"IF(ISBLANK('MIS - Pharmacy'!AI85),\"\",'MIS - Pharmacy'!AI85)","v":""},"","","",{"$f":"IF(ISBLANK('MIS - Pharmacy'!V85),\"\",'MIS - Pharmacy'!V85)","v":""},"","","",{"$f":"IF(ISBLANK('MIS - Pharmacy'!J85),\"\",'MIS - Pharmacy'!J85)","v":""},{"$f":"IF(ISBLANK('MIS - Pharmacy'!AY85),\"\",'MIS - Pharmacy'!AY85)","v":""},{"$f":"IF(ISBLANK('MIS - Pharmacy'!BH85),\"\",'MIS - Pharmacy'!BH85)","v":""},"",""]
[{"$f":"IF(ISBLANK('MIS - Pharmacy'!A86), \"\",'MIS - Pharmacy'!A86)","v":""},{"$f":"IF(ISBLANK('MIS - Pharmacy'!B86),\"\",('MIS - Pharmacy'!B86&\"(\"&'MIS - Pharmacy'!D86&\")\"))","v":""},{"$f":"IF(ISBLANK('MIS - Pharmacy'!BI86), \"\", 'MIS - Pharmacy'!BI86)","v":""},{"$f":"IF(ISBLANK('MIS - Pharmacy'!U86), \"\", 'MIS - Pharmacy'!U86)","v":""},"","","","","","","",{"$f":"IF(ISBLANK('MIS - Pharmacy'!AC86),\"\",'MIS - Pharmacy'!AC86)","v":""},"",{"$f":"IF(ISBLANK('MIS - Pharmacy'!AD86),\"\",'MIS - Pharmacy'!AD86)","v":""},"","",{"$f":"IF('MIS - Pharmacy'!A86=\"\",\"\",SUM('MIS - Pharmacy'!K86+'MIS - Pharmacy'!L86))","v":""},"",{"$f":"IF('MIS - Pharmacy'!A86=\"\",\"\",('MIS - Pharmacy'!AF86+'MIS - Pharmacy'!AH86 +'MIS - Pharmacy'!AG86))","v":""},{"$f":"IF(ISBLANK('MIS - Pharmacy'!AI86),\"\",'MIS - Pharmacy'!AI86)","v":""},"","","",{"$f":"IF(ISBLANK('MIS - Pharmacy'!V86),\"\",'MIS - Pharmacy'!V86)","v":""},"","","",{"$f":"IF(ISBLANK('MIS - Pharmacy'!J86),\"\",'MIS - Pharmacy'!J86)","v":""},{"$f":"IF(ISBLANK('MIS - Pharmacy'!AY86),\"\",'MIS - Pharmacy'!AY86)","v":""},{"$f":"IF(ISBLANK('MIS - Pharmacy'!BH86),\"\",'MIS - Pharmacy'!BH86)","v":""},"",""]
[{"$f":"IF(ISBLANK('MIS - Pharmacy'!A87), \"\",'MIS - Pharmacy'!A87)","v":""},{"$f":"IF(ISBLANK('MIS - Pharmacy'!B87),\"\",('MIS - Pharmacy'!B87&\"(\"&'MIS - Pharmacy'!D87&\")\"))","v":""},{"$f":"IF(ISBLANK('MIS - Pharmacy'!BI87), \"\", 'MIS - Pharmacy'!BI87)","v":""},{"$f":"IF(ISBLANK('MIS - Pharmacy'!U87), \"\", 'MIS - Pharmacy'!U87)","v":""},"","","","","","","",{"$f":"IF(ISBLANK('MIS - Pharmacy'!AC87),\"\",'MIS - Pharmacy'!AC87)","v":""},"",{"$f":"IF(ISBLANK('MIS - Pharmacy'!AD87),\"\",'MIS - Pharmacy'!AD87)","v":""},"","",{"$f":"IF('MIS - Pharmacy'!A87=\"\",\"\",SUM('MIS - Pharmacy'!K87+'MIS - Pharmacy'!L87))","v":""},"",{"$f":"IF('MIS - Pharmacy'!A87=\"\",\"\",('MIS - Pharmacy'!AF87+'MIS - Pharmacy'!AH87 +'MIS - Pharmacy'!AG87))","v":""},{"$f":"IF(ISBLANK('MIS - Pharmacy'!AI87),\"\",'MIS - Pharmacy'!AI87)","v":""},"","","",{"$f":"IF(ISBLANK('MIS - Pharmacy'!V87),\"\",'MIS - Pharmacy'!V87)","v":""},"","","",{"$f":"IF(ISBLANK('MIS - Pharmacy'!J87),\"\",'MIS - Pharmacy'!J87)","v":""},{"$f":"IF(ISBLANK('MIS - Pharmacy'!AY87),\"\",'MIS - Pharmacy'!AY87)","v":""},{"$f":"IF(ISBLANK('MIS - Pharmacy'!BH87),\"\",'MIS - Pharmacy'!BH87)","v":""},"",""]
[{"$f":"IF(ISBLANK('MIS - Pharmacy'!A88), \"\",'MIS - Pharmacy'!A88)","v":""},{"$f":"IF(ISBLANK('MIS - Pharmacy'!B88),\"\",('MIS - Pharmacy'!B88&\"(\"&'MIS - Pharmacy'!D88&\")\"))","v":""},{"$f":"IF(ISBLANK('MIS - Pharmacy'!BI88), \"\", 'MIS - Pharmacy'!BI88)","v":""},{"$f":"IF(ISBLANK('MIS - Pharmacy'!U88), \"\", 'MIS - Pharmacy'!U88)","v":""},"","","","","","","",{"$f":"IF(ISBLANK('MIS - Pharmacy'!AC88),\"\",'MIS - Pharmacy'!AC88)","v":""},"",{"$f":"IF(ISBLANK('MIS - Pharmacy'!AD88),\"\",'MIS - Pharmacy'!AD88)","v":""},"","",{"$f":"IF('MIS - Pharmacy'!A88=\"\",\"\",SUM('MIS - Pharmacy'!K88+'MIS - Pharmacy'!L88))","v":""},"",{"$f":"IF('MIS - Pharmacy'!A88=\"\",\"\",('MIS - Pharmacy'!AF88+'MIS - Pharmacy'!AH88 +'MIS - Pharmacy'!AG88))","v":""},{"$f":"IF(ISBLANK('MIS - Pharmacy'!AI88),\"\",'MIS - Pharmacy'!AI88)","v":""},"","","",{"$f":"IF(ISBLANK('MIS - Pharmacy'!V88),\"\",'MIS - Pharmacy'!V88)","v":""},"","","",{"$f":"IF(ISBLANK('MIS - Pharmacy'!J88),\"\",'MIS - Pharmacy'!J88)","v":""},{"$f":"IF(ISBLANK('MIS - Pharmacy'!AY88),\"\",'MIS - Pharmacy'!AY88)","v":""},{"$f":"IF(ISBLANK('MIS - Pharmacy'!BH88),\"\",'MIS - Pharmacy'!BH88)","v":""},"",""]
[{"$f":"IF(ISBLANK('MIS - Pharmacy'!A89), \"\",'MIS - Pharmacy'!A89)","v":""},{"$f":"IF(ISBLANK('MIS - Pharmacy'!B89),\"\",('MIS - Pharmacy'!B89&\"(\"&'MIS - Pharmacy'!D89&\")\"))","v":""},{"$f":"IF(ISBLANK('MIS - Pharmacy'!BI89), \"\", 'MIS - Pharmacy'!BI89)","v":""},{"$f":"IF(ISBLANK('MIS - Pharmacy'!U89), \"\", 'MIS - Pharmacy'!U89)","v":""},"","","","","","","",{"$f":"IF(ISBLANK('MIS - Pharmacy'!AC89),\"\",'MIS - Pharmacy'!AC89)","v":""},"",{"$f":"IF(ISBLANK('MIS - Pharmacy'!AD89),\"\",'MIS - Pharmacy'!AD89)","v":""},"","",{"$f":"IF('MIS - Pharmacy'!A89=\"\",\"\",SUM('MIS - Pharmacy'!K89+'MIS - Pharmacy'!L89))","v":""},"",{"$f":"IF('MIS - Pharmacy'!A89=\"\",\"\",('MIS - Pharmacy'!AF89+'MIS - Pharmacy'!AH89 +'MIS - Pharmacy'!AG89))","v":""},{"$f":"IF(ISBLANK('MIS - Pharmacy'!AI89),\"\",'MIS - Pharmacy'!AI89)","v":""},"","","",{"$f":"IF(ISBLANK('MIS - Pharmacy'!V89),\"\",'MIS - Pharmacy'!V89)","v":""},"","","",{"$f":"IF(ISBLANK('MIS - Pharmacy'!J89),\"\",'MIS - Pharmacy'!J89)","v":""},{"$f":"IF(ISBLANK('MIS - Pharmacy'!AY89),\"\",'MIS - Pharmacy'!AY89)","v":""},{"$f":"IF(ISBLANK('MIS - Pharmacy'!BH89),\"\",'MIS - Pharmacy'!BH89)","v":""},"",""]
[{"$f":"IF(ISBLANK('MIS - Pharmacy'!A90), \"\",'MIS - Pharmacy'!A90)","v":""},{"$f":"IF(ISBLANK('MIS - Pharmacy'!B90),\"\",('MIS - Pharmacy'!B90&\"(\"&'MIS - Pharmacy'!D90&\")\"))","v":""},{"$f":"IF(ISBLANK('MIS - Pharmacy'!BI90), \"\", 'MIS - Pharmacy'!BI90)","v":""},{"$f":"IF(ISBLANK('MIS - Pharmacy'!U90), \"\", 'MIS - Pharmacy'!U90)","v":""},"","","","","","","",{"$f":"IF(ISBLANK('MIS - Pharmacy'!AC90),\"\",'MIS - Pharmacy'!AC90)","v":""},"",{"$f":"IF(ISBLANK('MIS - Pharmacy'!AD90),\"\",'MIS - Pharmacy'!AD90)","v":""},"","",{"$f":"IF('MIS - Pharmacy'!A90=\"\",\"\",SUM('MIS - Pharmacy'!K90+'MIS - Pharmacy'!L90))","v":""},"",{"$f":"IF('MIS - Pharmacy'!A90=\"\",\"\",('MIS - Pharmacy'!AF90+'MIS - Pharmacy'!AH90 +'MIS - Pharmacy'!AG90))","v":""},{"$f":"IF(ISBLANK('MIS - Pharmacy'!AI90),\"\",'MIS - Pharmacy'!AI90)","v":""},"","","",{"$f":"IF(ISBLANK('MIS - Pharmacy'!V90),\"\",'MIS - Pharmacy'!V90)","v":""},"","","",{"$f":"IF(ISBLANK('MIS - Pharmacy'!J90),\"\",'MIS - Pharmacy'!J90)","v":""},{"$f":"IF(ISBLANK('MIS - Pharmacy'!AY90),\"\",'MIS - Pharmacy'!AY90)","v":""},{"$f":"IF(ISBLANK('MIS - Pharmacy'!BH90),\"\",'MIS - Pharmacy'!BH90)","v":""},"",""]
[{"$f":"IF(ISBLANK('MIS - Pharmacy'!A91), \"\",'MIS - Pharmacy'!A91)","v":""},{"$f":"IF(ISBLANK('MIS - Pharmacy'!B91),\"\",('MIS - Pharmacy'!B91&\"(\"&'MIS - Pharmacy'!D91&\")\"))","v":""},{"$f":"IF(ISBLANK('MIS - Pharmacy'!BI91), \"\", 'MIS - Pharmacy'!BI91)","v":""},{"$f":"IF(ISBLANK('MIS - Pharmacy'!U91), \"\", 'MIS - Pharmacy'!U91)","v":""},"","","","","","","",{"$f":"IF(ISBLANK('MIS - Pharmacy'!AC91),\"\",'MIS - Pharmacy'!AC91)","v":""},"",{"$f":"IF(ISBLANK('MIS - Pharmacy'!AD91),\"\",'MIS - Pharmacy'!AD91)","v":""},"","",{"$f":"IF('MIS - Pharmacy'!A91=\"\",\"\",SUM('MIS - Pharmacy'!K91+'MIS - Pharmacy'!L91))","v":""},"",{"$f":"IF('MIS - Pharmacy'!A91=\"\",\"\",('MIS - Pharmacy'!AF91+'MIS - Pharmacy'!AH91 +'MIS - Pharmacy'!AG91))","v":""},{"$f":"IF(ISBLANK('MIS - Pharmacy'!AI91),\"\",'MIS - Pharmacy'!AI91)","v":""},"","","",{"$f":"IF(ISBLANK('MIS - Pharmacy'!V91),\"\",'MIS - Pharmacy'!V91)","v":""},"","","",{"$f":"IF(ISBLANK('MIS - Pharmacy'!J91),\"\",'MIS - Pharmacy'!J91)","v":""},{"$f":"IF(ISBLANK('MIS - Pharmacy'!AY91),\"\",'MIS - Pharmacy'!AY91)","v":""},{"$f":"IF(ISBLANK('MIS - Pharmacy'!BH91),\"\",'MIS - Pharmacy'!BH91)","v":""},"",""]
[{"$f":"IF(ISBLANK('MIS - Pharmacy'!A92), \"\",'MIS - Pharmacy'!A92)","v":""},{"$f":"IF(ISBLANK('MIS - Pharmacy'!B92),\"\",('MIS - Pharmacy'!B92&\"(\"&'MIS - Pharmacy'!D92&\")\"))","v":""},{"$f":"IF(ISBLANK('MIS - Pharmacy'!BI92), \"\", 'MIS - Pharmacy'!BI92)","v":""},{"$f":"IF(ISBLANK('MIS - Pharmacy'!U92), \"\", 'MIS - Pharmacy'!U92)","v":""},"","","","","","","",{"$f":"IF(ISBLANK('MIS - Pharmacy'!AC92),\"\",'MIS - Pharmacy'!AC92)","v":""},"",{"$f":"IF(ISBLANK('MIS - Pharmacy'!AD92),\"\",'MIS - Pharmacy'!AD92)","v":""},"","",{"$f":"IF('MIS - Pharmacy'!A92=\"\",\"\",SUM('MIS - Pharmacy'!K92+'MIS - Pharmacy'!L92))","v":""},"",{"$f":"IF('MIS - Pharmacy'!A92=\"\",\"\",('MIS - Pharmacy'!AF92+'MIS - Pharmacy'!AH92 +'MIS - Pharmacy'!AG92))","v":""},{"$f":"IF(ISBLANK('MIS - Pharmacy'!AI92),\"\",'MIS - Pharmacy'!AI92)","v":""},"","","",{"$f":"IF(ISBLANK('MIS - Pharmacy'!V92),\"\",'MIS - Pharmacy'!V92)","v":""},"","","",{"$f":"IF(ISBLANK('MIS - Pharmacy'!J92),\"\",'MIS - Pharmacy'!J92)","v":""},{"$f":"IF(ISBLANK('MIS - Pharmacy'!AY92),\"\",'MIS - Pharmacy'!AY92)","v":""},{"$f":"IF(ISBLANK('MIS - Pharmacy'!BH92),\"\",'MIS - Pharmacy'!BH92)","v":""},"",""]
[{"$f":"IF(ISBLANK('MIS - Pharmacy'!A93), \"\",'MIS - Pharmacy'!A93)","v":""},{"$f":"IF(ISBLANK('MIS - Pharmacy'!B93),\"\",('MIS - Pharmacy'!B93&\"(\"&'MIS - Pharmacy'!D93&\")\"))","v":""},{"$f":"IF(ISBLANK('MIS - Pharmacy'!BI93), \"\", 'MIS - Pharmacy'!BI93)","v":""},{"$f":"IF(ISBLANK('MIS - Pharmacy'!U93), \"\", 'MIS - Pharmacy'!U93)","v":""},"","","","","","","",{"$f":"IF(ISBLANK('MIS - Pharmacy'!AC93),\"\",'MIS - Pharmacy'!AC93)","v":""},"",{"$f":"IF(ISBLANK('MIS - Pharmacy'!AD93),\"\",'MIS - Pharmacy'!AD93)","v":""},"","",{"$f":"IF('MIS - Pharmacy'!A93=\"\",\"\",SUM('MIS - Pharmacy'!K93+'MIS - Pharmacy'!L93))","v":""},"",{"$f":"IF('MIS - Pharmacy'!A93=\"\",\"\",('MIS - Pharmacy'!AF93+'MIS - Pharmacy'!AH93 +'MIS - Pharmacy'!AG93))","v":""},{"$f":"IF(ISBLANK('MIS - Pharmacy'!AI93),\"\",'MIS - Pharmacy'!AI93)","v":""},"","","",{"$f":"IF(ISBLANK('MIS - Pharmacy'!V93),\"\",'MIS - Pharmacy'!V93)","v":""},"","","",{"$f":"IF(ISBLANK('MIS - Pharmacy'!J93),\"\",'MIS - Pharmacy'!J93)","v":""},{"$f":"IF(ISBLANK('MIS - Pharmacy'!AY93),\"\",'MIS - Pharmacy'!AY93)","v":""},{"$f":"IF(ISBLANK('MIS - Pharmacy'!BH93),\"\",'MIS - Pharmacy'!BH93)","v":""},"",""]
[{"$f":"IF(ISBLANK('MIS - Pharmacy'!A94), \"\",'MIS - Pharmacy'!A94)","v":""},{"$f":"IF(ISBLANK('MIS - Pharmacy'!B94),\"\",('MIS - Pharmacy'!B94&\"(\"&'MIS - Pharmacy'!D94&\")\"))","v":""},{"$f":"IF(ISBLANK('MIS - Pharmacy'!BI94), \"\", 'MIS - Pharmacy'!BI94)","v":""},{"$f":"IF(ISBLANK('MIS - Pharmacy'!U94), \"\", 'MIS - Pharmacy'!U94)","v":""},"","","","","","","",{"$f":"IF(ISBLANK('MIS - Pharmacy'!AC94),\"\",'MIS - Pharmacy'!AC94)","v":""},"",{"$f":"IF(ISBLANK('MIS - Pharmacy'!AD94),\"\",'MIS - Pharmacy'!AD94)","v":""},"","",{"$f":"IF('MIS - Pharmacy'!A94=\"\",\"\",SUM('MIS - Pharmacy'!K94+'MIS - Pharmacy'!L94))","v":""},"",{"$f":"IF('MIS - Pharmacy'!A94=\"\",\"\",('MIS - Pharmacy'!AF94+'MIS - Pharmacy'!AH94 +'MIS - Pharmacy'!AG94))","v":""},{"$f":"IF(ISBLANK('MIS - Pharmacy'!AI94),\"\",'MIS - Pharmacy'!AI94)","v":""},"","","",{"$f":"IF(ISBLANK('MIS - Pharmacy'!V94),\"\",'MIS - Pharmacy'!V94)","v":""},"","","",{"$f":"IF(ISBLANK('MIS - Pharmacy'!J94),\"\",'MIS - Pharmacy'!J94)","v":""},{"$f":"IF(ISBLANK('MIS - Pharmacy'!AY94),\"\",'MIS - Pharmacy'!AY94)","v":""},{"$f":"IF(ISBLANK('MIS - Pharmacy'!BH94),\"\",'MIS - Pharmacy'!BH94)","v":""},"",""]
[{"$f":"IF(ISBLANK('MIS - Pharmacy'!A95), \"\",'MIS - Pharmacy'!A95)","v":""},{"$f":"IF(ISBLANK('MIS - Pharmacy'!B95),\"\",('MIS - Pharmacy'!B95&\"(\"&'MIS - Pharmacy'!D95&\")\"))","v":""},{"$f":"IF(ISBLANK('MIS - Pharmacy'!BI95), \"\", 'MIS - Pharmacy'!BI95)","v":""},{"$f":"IF(ISBLANK('MIS - Pharmacy'!U95), \"\", 'MIS - Pharmacy'!U95)","v":""},"","","","","","","",{"$f":"IF(ISBLANK('MIS - Pharmacy'!AC95),\"\",'MIS - Pharmacy'!AC95)","v":""},"",{"$f":"IF(ISBLANK('MIS - Pharmacy'!AD95),\"\",'MIS - Pharmacy'!AD95)","v":""},"","",{"$f":"IF('MIS - Pharmacy'!A95=\"\",\"\",SUM('MIS - Pharmacy'!K95+'MIS - Pharmacy'!L95))","v":""},"",{"$f":"IF('MIS - Pharmacy'!A95=\"\",\"\",('MIS - Pharmacy'!AF95+'MIS - Pharmacy'!AH95 +'MIS - Pharmacy'!AG95))","v":""},{"$f":"IF(ISBLANK('MIS - Pharmacy'!AI95),\"\",'MIS - Pharmacy'!AI95)","v":""},"","","",{"$f":"IF(ISBLANK('MIS - Pharmacy'!V95),\"\",'MIS - Pharmacy'!V95)","v":""},"","","",{"$f":"IF(ISBLANK('MIS - Pharmacy'!J95),\"\",'MIS - Pharmacy'!J95)","v":""},{"$f":"IF(ISBLANK('MIS - Pharmacy'!AY95),\"\",'MIS - Pharmacy'!AY95)","v":""},{"$f":"IF(ISBLANK('MIS - Pharmacy'!BH95),\"\",'MIS - Pharmacy'!BH95)","v":""},"",""]
[{"$f":"IF(ISBLANK('MIS - Pharmacy'!A96), \"\",'MIS - Pharmacy'!A96)","v":""},{"$f":"IF(ISBLANK('MIS - Pharmacy'!B96),\"\",('MIS - Pharmacy'!B96&\"(\"&'MIS - Pharmacy'!D96&\")\"))","v":""},{"$f":"IF(ISBLANK('MIS - Pharmacy'!BI96), \"\", 'MIS - Pharmacy'!BI96)","v":""},{"$f":"IF(ISBLANK('MIS - Pharmacy'!U96), \"\", 'MIS - Pharmacy'!U96)","v":""},"","","","","","","",{"$f":"IF(ISBLANK('MIS - Pharmacy'!AC96),\"\",'MIS - Pharmacy'!AC96)","v":""},"",{"$f":"IF(ISBLANK('MIS - Pharmacy'!AD96),\"\",'MIS - Pharmacy'!AD96)","v":""},"","",{"$f":"IF('MIS - Pharmacy'!A96=\"\",\"\",SUM('MIS - Pharmacy'!K96+'MIS - Pharmacy'!L96))","v":""},"",{"$f":"IF('MIS - Pharmacy'!A96=\"\",\"\",('MIS - Pharmacy'!AF96+'MIS - Pharmacy'!AH96 +'MIS - Pharmacy'!AG96))","v":""},{"$f":"IF(ISBLANK('MIS - Pharmacy'!AI96),\"\",'MIS - Pharmacy'!AI96)","v":""},"","","",{"$f":"IF(ISBLANK('MIS - Pharmacy'!V96),\"\",'MIS - Pharmacy'!V96)","v":""},"","","",{"$f":"IF(ISBLANK('MIS - Pharmacy'!J96),\"\",'MIS - Pharmacy'!J96)","v":""},{"$f":"IF(ISBLANK('MIS - Pharmacy'!AY96),\"\",'MIS - Pharmacy'!AY96)","v":""},{"$f":"IF(ISBLANK('MIS - Pharmacy'!BH96),\"\",'MIS - Pharmacy'!BH96)","v":""},"",""]
[{"$f":"IF(ISBLANK('MIS - Pharmacy'!A97), \"\",'MIS - Pharmacy'!A97)","v":""},{"$f":"IF(ISBLANK('MIS - Pharmacy'!B97),\"\",('MIS - Pharmacy'!B97&\"(\"&'MIS - Pharmacy'!D97&\")\"))","v":""},{"$f":"IF(ISBLANK('MIS - Pharmacy'!BI97), \"\", 'MIS - Pharmacy'!BI97)","v":""},{"$f":"IF(ISBLANK('MIS - Pharmacy'!U97), \"\", 'MIS - Pharmacy'!U97)","v":""},"","","","","","","",{"$f":"IF(ISBLANK('MIS - Pharmacy'!AC97),\"\",'MIS - Pharmacy'!AC97)","v":""},"",{"$f":"IF(ISBLANK('MIS - Pharmacy'!AD97),\"\",'MIS - Pharmacy'!AD97)","v":""},"","",{"$f":"IF('MIS - Pharmacy'!A97=\"\",\"\",SUM('MIS - Pharmacy'!K97+'MIS - Pharmacy'!L97))","v":""},"",{"$f":"IF('MIS - Pharmacy'!A97=\"\",\"\",('MIS - Pharmacy'!AF97+'MIS - Pharmacy'!AH97 +'MIS - Pharmacy'!AG97))","v":""},{"$f":"IF(ISBLANK('MIS - Pharmacy'!AI97),\"\",'MIS - Pharmacy'!AI97)","v":""},"","","",{"$f":"IF(ISBLANK('MIS - Pharmacy'!V97),\"\",'MIS - Pharmacy'!V97)","v":""},"","","",{"$f":"IF(ISBLANK('MIS - Pharmacy'!J97),\"\",'MIS - Pharmacy'!J97)","v":""},{"$f":"IF(ISBLANK('MIS - Pharmacy'!AY97),\"\",'MIS - Pharmacy'!AY97)","v":""},{"$f":"IF(ISBLANK('MIS - Pharmacy'!BH97),\"\",'MIS - Pharmacy'!BH97)","v":""},"",""]
[{"$f":"IF(ISBLANK('MIS - Pharmacy'!A98), \"\",'MIS - Pharmacy'!A98)","v":""},{"$f":"IF(ISBLANK('MIS - Pharmacy'!B98),\"\",('MIS - Pharmacy'!B98&\"(\"&'MIS - Pharmacy'!D98&\")\"))","v":""},{"$f":"IF(ISBLANK('MIS - Pharmacy'!BI98), \"\", 'MIS - Pharmacy'!BI98)","v":""},{"$f":"IF(ISBLANK('MIS - Pharmacy'!U98), \"\", 'MIS - Pharmacy'!U98)","v":""},"","","","","","","",{"$f":"IF(ISBLANK('MIS - Pharmacy'!AC98),\"\",'MIS - Pharmacy'!AC98)","v":""},"",{"$f":"IF(ISBLANK('MIS - Pharmacy'!AD98),\"\",'MIS - Pharmacy'!AD98)","v":""},"","",{"$f":"IF('MIS - Pharmacy'!A98=\"\",\"\",SUM('MIS - Pharmacy'!K98+'MIS - Pharmacy'!L98))","v":""},"",{"$f":"IF('MIS - Pharmacy'!A98=\"\",\"\",('MIS - Pharmacy'!AF98+'MIS - Pharmacy'!AH98 +'MIS - Pharmacy'!AG98))","v":""},{"$f":"IF(ISBLANK('MIS - Pharmacy'!AI98),\"\",'MIS - Pharmacy'!AI98)","v":""},"","","",{"$f":"IF(ISBLANK('MIS - Pharmacy'!V98),\"\",'MIS - Pharmacy'!V98)","v":""},"","","",{"$f":"IF(ISBLANK('MIS - Pharmacy'!J98),\"\",'MIS - Pharmacy'!J98)","v":""},{"$f":"IF(ISBLANK('MIS - Pharmacy'!AY98),\"\",'MIS - Pharmacy'!AY98)","v":""},{"$f":"IF(ISBLANK('MIS - Pharmacy'!BH98),\"\",'MIS - Pharmacy'!BH98)","v":""},"",""]
[{"$f":"IF(ISBLANK('MIS - Pharmacy'!A99), \"\",'MIS - Pharmacy'!A99)","v":""},{"$f":"IF(ISBLANK('MIS - Pharmacy'!B99),\"\",('MIS - Pharmacy'!B99&\"(\"&'MIS - Pharmacy'!D99&\")\"))","v":""},{"$f":"IF(ISBLANK('MIS - Pharmacy'!BI99), \"\", 'MIS - Pharmacy'!BI99)","v":""},{"$f":"IF(ISBLANK('MIS - Pharmacy'!U99), \"\", 'MIS - Pharmacy'!U99)","v":""},"","","","","","","",{"$f":"IF(ISBLANK('MIS - Pharmacy'!AC99),\"\",'MIS - Pharmacy'!AC99)","v":""},"",{"$f":"IF(ISBLANK('MIS - Pharmacy'!AD99),\"\",'MIS - Pharmacy'!AD99)","v":""},"","",{"$f":"IF('MIS - Pharmacy'!A99=\"\",\"\",SUM('MIS - Pharmacy'!K99+'MIS - Pharmacy'!L99))","v":""},"",{"$f":"IF('MIS - Pharmacy'!A99=\"\",\"\",('MIS - Pharmacy'!AF99+'MIS - Pharmacy'!AH99 +'MIS - Pharmacy'!AG99))","v":""},{"$f":"IF(ISBLANK('MIS - Pharmacy'!AI99),\"\",'MIS - Pharmacy'!AI99)","v":""},"","","",{"$f":"IF(ISBLANK('MIS - Pharmacy'!V99),\"\",'MIS - Pharmacy'!V99)","v":""},"","","",{"$f":"IF(ISBLANK('MIS - Pharmacy'!J99),\"\",'MIS - Pharmacy'!J99)","v":""},{"$f":"IF(ISBLANK('MIS - Pharmacy'!AY99),\"\",'MIS - Pharmacy'!AY99)","v":""},{"$f":"IF(ISBLANK('MIS - Pharmacy'!BH99),\"\",'MIS - Pharmacy'!BH99)","v":""},"",""]
[{"$f":"IF(ISBLANK('MIS - Pharmacy'!A100), \"\",'MIS - Pharmacy'!A100)","v":""},{"$f":"IF(ISBLANK('MIS - Pharmacy'!B100),\"\",('MIS - Pharmacy'!B100&\"(\"&'MIS - Pharmacy'!D100&\")\"))","v":""},{"$f":"IF(ISBLANK('MIS - Pharmacy'!BI100), \"\", 'MIS - Pharmacy'!BI100)","v":""},{"$f":"IF(ISBLANK('MIS - Pharmacy'!U100), \"\", 'MIS - Pharmacy'!U100)","v":""},"","","","","","","",{"$f":"IF(ISBLANK('MIS - Pharmacy'!AC100),\"\",'MIS - Pharmacy'!AC100)","v":""},"",{"$f":"IF(ISBLANK('MIS - Pharmacy'!AD100),\"\",'MIS - Pharmacy'!AD100)","v":""},"","",{"$f":"IF('MIS - Pharmacy'!A100=\"\",\"\",SUM('MIS - Pharmacy'!K100+'MIS - Pharmacy'!L100))","v":""},"",{"$f":"IF('MIS - Pharmacy'!A100=\"\",\"\",('MIS - Pharmacy'!AF100+'MIS - Pharmacy'!AH100 +'MIS - Pharmacy'!AG100))","v":""},{"$f":"IF(ISBLANK('MIS - Pharmacy'!AI100),\"\",'MIS - Pharmacy'!AI100)","v":""},"","","",{"$f":"IF(ISBLANK('MIS - Pharmacy'!V100),\"\",'MIS - Pharmacy'!V100)","v":""},"","","",{"$f":"IF(ISBLANK('MIS - Pharmacy'!J100),\"\",'MIS - Pharmacy'!J100)","v":""},{"$f":"IF(ISBLANK('MIS - Pharmacy'!AY100),\"\",'MIS - Pharmacy'!AY100)","v":""},{"$f":"IF(ISBLANK('MIS - Pharmacy'!BH100),\"\",'MIS - Pharmacy'!BH100)","v":""},"",""]
[{"$f":"IF(ISBLANK('MIS - Pharmacy'!A101), \"\",'MIS - Pharmacy'!A101)","v":""},{"$f":"IF(ISBLANK('MIS - Pharmacy'!B101),\"\",('MIS - Pharmacy'!B101&\"(\"&'MIS - Pharmacy'!D101&\")\"))","v":""},{"$f":"IF(ISBLANK('MIS - Pharmacy'!BI101), \"\", 'MIS - Pharmacy'!BI101)","v":""},{"$f":"IF(ISBLANK('MIS - Pharmacy'!U101), \"\", 'MIS - Pharmacy'!U101)","v":""},"","","","","","","",{"$f":"IF(ISBLANK('MIS - Pharmacy'!AC101),\"\",'MIS - Pharmacy'!AC101)","v":""},"",{"$f":"IF(ISBLANK('MIS - Pharmacy'!AD101),\"\",'MIS - Pharmacy'!AD101)","v":""},"","",{"$f":"IF('MIS - Pharmacy'!A101=\"\",\"\",SUM('MIS - Pharmacy'!K101+'MIS - Pharmacy'!L101))","v":""},"",{"$f":"IF('MIS - Pharmacy'!A101=\"\",\"\",('MIS - Pharmacy'!AF101+'MIS - Pharmacy'!AH101 +'MIS - Pharmacy'!AG101))","v":""},{"$f":"IF(ISBLANK('MIS - Pharmacy'!AI101),\"\",'MIS - Pharmacy'!AI101)","v":""},"","","",{"$f":"IF(ISBLANK('MIS - Pharmacy'!V101),\"\",'MIS - Pharmacy'!V101)","v":""},"","","",{"$f":"IF(ISBLANK('MIS - Pharmacy'!J101),\"\",'MIS - Pharmacy'!J101)","v":""},{"$f":"IF(ISBLANK('MIS - Pharmacy'!AY101),\"\",'MIS - Pharmacy'!AY101)","v":""},{"$f":"IF(ISBLANK('MIS - Pharmacy'!BH101),\"\",'MIS - Pharmacy'!BH101)","v":""},"",""]
[{"$f":"IF(ISBLANK('MIS - Pharmacy'!A102), \"\",'MIS - Pharmacy'!A102)","v":""},{"$f":"IF(ISBLANK('MIS - Pharmacy'!B102),\"\",('MIS - Pharmacy'!B102&\"(\"&'MIS - Pharmacy'!D102&\")\"))","v":""},{"$f":"IF(ISBLANK('MIS - Pharmacy'!BI102), \"\", 'MIS - Pharmacy'!BI102)","v":""},{"$f":"IF(ISBLANK('MIS - Pharmacy'!U102), \"\", 'MIS - Pharmacy'!U102)","v":""},"","","","","","","",{"$f":"IF(ISBLANK('MIS - Pharmacy'!AC102),\"\",'MIS - Pharmacy'!AC102)","v":""},"",{"$f":"IF(ISBLANK('MIS - Pharmacy'!AD102),\"\",'MIS - Pharmacy'!AD102)","v":""},"","",{"$f":"IF('MIS - Pharmacy'!A102=\"\",\"\",SUM('MIS - Pharmacy'!K102+'MIS - Pharmacy'!L102))","v":""},"",{"$f":"IF('MIS - Pharmacy'!A102=\"\",\"\",('MIS - Pharmacy'!AF102+'MIS - Pharmacy'!AH102 +'MIS - Pharmacy'!AG102))","v":""},{"$f":"IF(ISBLANK('MIS - Pharmacy'!AI102),\"\",'MIS - Pharmacy'!AI102)","v":""},"","","",{"$f":"IF(ISBLANK('MIS - Pharmacy'!V102),\"\",'MIS - Pharmacy'!V102)","v":""},"","","",{"$f":"IF(ISBLANK('MIS - Pharmacy'!J102),\"\",'MIS - Pharmacy'!J102)","v":""},{"$f":"IF(ISBLANK('MIS - Pharmacy'!AY102),\"\",'MIS - Pharmacy'!AY102)","v":""},{"$f":"IF(ISBLANK('MIS - Pharmacy'!BH102),\"\",'MIS - Pharmacy'!BH102)","v":""},"",""]
[{"$f":"IF(ISBLANK('MIS - Pharmacy'!A103), \"\",'MIS - Pharmacy'!A103)","v":""},{"$f":"IF(ISBLANK('MIS - Pharmacy'!B103),\"\",('MIS - Pharmacy'!B103&\"(\"&'MIS - Pharmacy'!D103&\")\"))","v":""},{"$f":"IF(ISBLANK('MIS - Pharmacy'!BI103), \"\", 'MIS - Pharmacy'!BI103)","v":""},{"$f":"IF(ISBLANK('MIS - Pharmacy'!U103), \"\", 'MIS - Pharmacy'!U103)","v":""},"","","","","","","",{"$f":"IF(ISBLANK('MIS - Pharmacy'!AC103),\"\",'MIS - Pharmacy'!AC103)","v":""},"",{"$f":"IF(ISBLANK('MIS - Pharmacy'!AD103),\"\",'MIS - Pharmacy'!AD103)","v":""},"","",{"$f":"IF('MIS - Pharmacy'!A103=\"\",\"\",SUM('MIS - Pharmacy'!K103+'MIS - Pharmacy'!L103))","v":""},"",{"$f":"IF('MIS - Pharmacy'!A103=\"\",\"\",('MIS - Pharmacy'!AF103+'MIS - Pharmacy'!AH103 +'MIS - Pharmacy'!AG103))","v":""},{"$f":"IF(ISBLANK('MIS - Pharmacy'!AI103),\"\",'MIS - Pharmacy'!AI103)","v":""},"","","",{"$f":"IF(ISBLANK('MIS - Pharmacy'!V103),\"\",'MIS - Pharmacy'!V103)","v":""},"","","",{"$f":"IF(ISBLANK('MIS - Pharmacy'!J103),\"\",'MIS - Pharmacy'!J103)","v":""},{"$f":"IF(ISBLANK('MIS - Pharmacy'!AY103),\"\",'MIS - Pharmacy'!AY103)","v":""},{"$f":"IF(ISBLANK('MIS - Pharmacy'!BH103),\"\",'MIS - Pharmacy'!BH103)","v":""},"",""]
[{"$f":"IF(ISBLANK('MIS - Pharmacy'!A104), \"\",'MIS - Pharmacy'!A104)","v":""},{"$f":"IF(ISBLANK('MIS - Pharmacy'!B104),\"\",('MIS - Pharmacy'!B104&\"(\"&'MIS - Pharmacy'!D104&\")\"))","v":""},{"$f":"IF(ISBLANK('MIS - Pharmacy'!BI104), \"\", 'MIS - Pharmacy'!BI104)","v":""},{"$f":"IF(ISBLANK('MIS - Pharmacy'!U104), \"\", 'MIS - Pharmacy'!U104)","v":""},"","","","","","","",{"$f":"IF(ISBLANK('MIS - Pharmacy'!AC104),\"\",'MIS - Pharmacy'!AC104)","v":""},"",{"$f":"IF(ISBLANK('MIS - Pharmacy'!AD104),\"\",'MIS - Pharmacy'!AD104)","v":""},"","",{"$f":"IF('MIS - Pharmacy'!A104=\"\",\"\",SUM('MIS - Pharmacy'!K104+'MIS - Pharmacy'!L104))","v":""},"",{"$f":"IF('MIS - Pharmacy'!A104=\"\",\"\",('MIS - Pharmacy'!AF104+'MIS - Pharmacy'!AH104 +'MIS - Pharmacy'!AG104))","v":""},{"$f":"IF(ISBLANK('MIS - Pharmacy'!AI104),\"\",'MIS - Pharmacy'!AI104)","v":""},"","","",{"$f":"IF(ISBLANK('MIS - Pharmacy'!V104),\"\",'MIS - Pharmacy'!V104)","v":""},"","","",{"$f":"IF(ISBLANK('MIS - Pharmacy'!J104),\"\",'MIS - Pharmacy'!J104)","v":""},{"$f":"IF(ISBLANK('MIS - Pharmacy'!AY104),\"\",'MIS - Pharmacy'!AY104)","v":""},{"$f":"IF(ISBLANK('MIS - Pharmacy'!BH104),\"\",'MIS - Pharmacy'!BH104)","v":""},"",""]
[{"$f":"IF(ISBLANK('MIS - Pharmacy'!A105), \"\",'MIS - Pharmacy'!A105)","v":""},{"$f":"IF(ISBLANK('MIS - Pharmacy'!B105),\"\",('MIS - Pharmacy'!B105&\"(\"&'MIS - Pharmacy'!D105&\")\"))","v":""},{"$f":"IF(ISBLANK('MIS - Pharmacy'!BI105), \"\", 'MIS - Pharmacy'!BI105)","v":""},{"$f":"IF(ISBLANK('MIS - Pharmacy'!U105), \"\", 'MIS - Pharmacy'!U105)","v":""},"","","","","","","",{"$f":"IF(ISBLANK('MIS - Pharmacy'!AC105),\"\",'MIS - Pharmacy'!AC105)","v":""},"",{"$f":"IF(ISBLANK('MIS - Pharmacy'!AD105),\"\",'MIS - Pharmacy'!AD105)","v":""},"","",{"$f":"IF('MIS - Pharmacy'!A105=\"\",\"\",SUM('MIS - Pharmacy'!K105+'MIS - Pharmacy'!L105))","v":""},"",{"$f":"IF('MIS - Pharmacy'!A105=\"\",\"\",('MIS - Pharmacy'!AF105+'MIS - Pharmacy'!AH105 +'MIS - Pharmacy'!AG105))","v":""},{"$f":"IF(ISBLANK('MIS - Pharmacy'!AI105),\"\",'MIS - Pharmacy'!AI105)","v":""},"","","",{"$f":"IF(ISBLANK('MIS - Pharmacy'!V105),\"\",'MIS - Pharmacy'!V105)","v":""},"","","",{"$f":"IF(ISBLANK('MIS - Pharmacy'!J105),\"\",'MIS - Pharmacy'!J105)","v":""},{"$f":"IF(ISBLANK('MIS - Pharmacy'!AY105),\"\",'MIS - Pharmacy'!AY105)","v":""},{"$f":"IF(ISBLANK('MIS - Pharmacy'!BH105),\"\",'MIS - Pharmacy'!BH105)","v":""},"",""]
[{"$f":"IF(ISBLANK('MIS - Pharmacy'!A106), \"\",'MIS - Pharmacy'!A106)","v":""},{"$f":"IF(ISBLANK('MIS - Pharmacy'!B106),\"\",('MIS - Pharmacy'!B106&\"(\"&'MIS - Pharmacy'!D106&\")\"))","v":""},{"$f":"IF(ISBLANK('MIS - Pharmacy'!BI106), \"\", 'MIS - Pharmacy'!BI106)","v":""},{"$f":"IF(ISBLANK('MIS - Pharmacy'!U106), \"\", 'MIS - Pharmacy'!U106)","v":""},"","","","","","","",{"$f":"IF(ISBLANK('MIS - Pharmacy'!AC106),\"\",'MIS - Pharmacy'!AC106)","v":""},"",{"$f":"IF(ISBLANK('MIS - Pharmacy'!AD106),\"\",'MIS - Pharmacy'!AD106)","v":""},"","",{"$f":"IF('MIS - Pharmacy'!A106=\"\",\"\",SUM('MIS - Pharmacy'!K106+'MIS - Pharmacy'!L106))","v":""},"",{"$f":"IF('MIS - Pharmacy'!A106=\"\",\"\",('MIS - Pharmacy'!AF106+'MIS - Pharmacy'!AH106 +'MIS - Pharmacy'!AG106))","v":""},{"$f":"IF(ISBLANK('MIS - Pharmacy'!AI106),\"\",'MIS - Pharmacy'!AI106)","v":""},"","","",{"$f":"IF(ISBLANK('MIS - Pharmacy'!V106),\"\",'MIS - Pharmacy'!V106)","v":""},"","","",{"$f":"IF(ISBLANK('MIS - Pharmacy'!J106),\"\",'MIS - Pharmacy'!J106)","v":""},{"$f":"IF(ISBLANK('MIS - Pharmacy'!AY106),\"\",'MIS - Pharmacy'!AY106)","v":""},{"$f":"IF(ISBLANK('MIS - Pharmacy'!BH106),\"\",'MIS - Pharmacy'!BH106)","v":""},"",""]
[{"$f":"IF(ISBLANK('MIS - Pharmacy'!A107), \"\",'MIS - Pharmacy'!A107)","v":""},{"$f":"IF(ISBLANK('MIS - Pharmacy'!B107),\"\",('MIS - Pharmacy'!B107&\"(\"&'MIS - Pharmacy'!D107&\")\"))","v":""},{"$f":"IF(ISBLANK('MIS - Pharmacy'!BI107), \"\", 'MIS - Pharmacy'!BI107)","v":""},{"$f":"IF(ISBLANK('MIS - Pharmacy'!U107), \"\", 'MIS - Pharmacy'!U107)","v":""},"","","","","","","",{"$f":"IF(ISBLANK('MIS - Pharmacy'!AC107),\"\",'MIS - Pharmacy'!AC107)","v":""},"",{"$f":"IF(ISBLANK('MIS - Pharmacy'!AD107),\"\",'MIS - Pharmacy'!AD107)","v":""},"","",{"$f":"IF('MIS - Pharmacy'!A107=\"\",\"\",SUM('MIS - Pharmacy'!K107+'MIS - Pharmacy'!L107))","v":""},"",{"$f":"IF('MIS - Pharmacy'!A107=\"\",\"\",('MIS - Pharmacy'!AF107+'MIS - Pharmacy'!AH107 +'MIS - Pharmacy'!AG107))","v":""},{"$f":"IF(ISBLANK('MIS - Pharmacy'!AI107),\"\",'MIS - Pharmacy'!AI107)","v":""},"","","",{"$f":"IF(ISBLANK('MIS - Pharmacy'!V107),\"\",'MIS - Pharmacy'!V107)","v":""},"","","",{"$f":"IF(ISBLANK('MIS - Pharmacy'!J107),\"\",'MIS - Pharmacy'!J107)","v":""},{"$f":"IF(ISBLANK('MIS - Pharmacy'!AY107),\"\",'MIS - Pharmacy'!AY107)","v":""},{"$f":"IF(ISBLANK('MIS - Pharmacy'!BH107),\"\",'MIS - Pharmacy'!BH107)","v":""},"",""]
[{"$f":"IF(ISBLANK('MIS - Pharmacy'!A108), \"\",'MIS - Pharmacy'!A108)","v":""},{"$f":"IF(ISBLANK('MIS - Pharmacy'!B108),\"\",('MIS - Pharmacy'!B108&\"(\"&'MIS - Pharmacy'!D108&\")\"))","v":""},{"$f":"IF(ISBLANK('MIS - Pharmacy'!BI108), \"\", 'MIS - Pharmacy'!BI108)","v":""},{"$f":"IF(ISBLANK('MIS - Pharmacy'!U108), \"\", 'MIS - Pharmacy'!U108)","v":""},"","","","","","","",{"$f":"IF(ISBLANK('MIS - Pharmacy'!AC108),\"\",'MIS - Pharmacy'!AC108)","v":""},"",{"$f":"IF(ISBLANK('MIS - Pharmacy'!AD108),\"\",'MIS - Pharmacy'!AD108)","v":""},"","",{"$f":"IF('MIS - Pharmacy'!A108=\"\",\"\",SUM('MIS - Pharmacy'!K108+'MIS - Pharmacy'!L108))","v":""},"",{"$f":"IF('MIS - Pharmacy'!A108=\"\",\"\",('MIS - Pharmacy'!AF108+'MIS - Pharmacy'!AH108 +'MIS - Pharmacy'!AG108))","v":""},{"$f":"IF(ISBLANK('MIS - Pharmacy'!AI108),\"\",'MIS - Pharmacy'!AI108)","v":""},"","","",{"$f":"IF(ISBLANK('MIS - Pharmacy'!V108),\"\",'MIS - Pharmacy'!V108)","v":""},"","","",{"$f":"IF(ISBLANK('MIS - Pharmacy'!J108),\"\",'MIS - Pharmacy'!J108)","v":""},{"$f":"IF(ISBLANK('MIS - Pharmacy'!AY108),\"\",'MIS - Pharmacy'!AY108)","v":""},{"$f":"IF(ISBLANK('MIS - Pharmacy'!BH108),\"\",'MIS - Pharmacy'!BH108)","v":""},"",""]
[{"$f":"IF(ISBLANK('MIS - Pharmacy'!A109), \"\",'MIS - Pharmacy'!A109)","v":""},{"$f":"IF(ISBLANK('MIS - Pharmacy'!B109),\"\",('MIS - Pharmacy'!B109&\"(\"&'MIS - Pharmacy'!D109&\")\"))","v":""},{"$f":"IF(ISBLANK('MIS - Pharmacy'!BI109), \"\", 'MIS - Pharmacy'!BI109)","v":""},{"$f":"IF(ISBLANK('MIS - Pharmacy'!U109), \"\", 'MIS - Pharmacy'!U109)","v":""},"","","","","","","",{"$f":"IF(ISBLANK('MIS - Pharmacy'!AC109),\"\",'MIS - Pharmacy'!AC109)","v":""},"",{"$f":"IF(ISBLANK('MIS - Pharmacy'!AD109),\"\",'MIS - Pharmacy'!AD109)","v":""},"","",{"$f":"IF('MIS - Pharmacy'!A109=\"\",\"\",SUM('MIS - Pharmacy'!K109+'MIS - Pharmacy'!L109))","v":""},"",{"$f":"IF('MIS - Pharmacy'!A109=\"\",\"\",('MIS - Pharmacy'!AF109+'MIS - Pharmacy'!AH109 +'MIS - Pharmacy'!AG109))","v":""},{"$f":"IF(ISBLANK('MIS - Pharmacy'!AI109),\"\",'MIS - Pharmacy'!AI109)","v":""},"","","",{"$f":"IF(ISBLANK('MIS - Pharmacy'!V109),\"\",'MIS - Pharmacy'!V109)","v":""},"","","",{"$f":"IF(ISBLANK('MIS - Pharmacy'!J109),\"\",'MIS - Pharmacy'!J109)","v":""},{"$f":"IF(ISBLANK('MIS - Pharmacy'!AY109),\"\",'MIS - Pharmacy'!AY109)","v":""},{"$f":"IF(ISBLANK('MIS - Pharmacy'!BH109),\"\",'MIS - Pharmacy'!BH109)","v":""},"",""]
[{"$f":"IF(ISBLANK('MIS - Pharmacy'!A110), \"\",'MIS - Pharmacy'!A110)","v":""},{"$f":"IF(ISBLANK('MIS - Pharmacy'!B110),\"\",('MIS - Pharmacy'!B110&\"(\"&'MIS - Pharmacy'!D110&\")\"))","v":""},{"$f":"IF(ISBLANK('MIS - Pharmacy'!BI110), \"\", 'MIS - Pharmacy'!BI110)","v":""},{"$f":"IF(ISBLANK('MIS - Pharmacy'!U110), \"\", 'MIS - Pharmacy'!U110)","v":""},"","","","","","","",{"$f":"IF(ISBLANK('MIS - Pharmacy'!AC110),\"\",'MIS - Pharmacy'!AC110)","v":""},"",{"$f":"IF(ISBLANK('MIS - Pharmacy'!AD110),\"\",'MIS - Pharmacy'!AD110)","v":""},"","",{"$f":"IF('MIS - Pharmacy'!A110=\"\",\"\",SUM('MIS - Pharmacy'!K110+'MIS - Pharmacy'!L110))","v":""},"",{"$f":"IF('MIS - Pharmacy'!A110=\"\",\"\",('MIS - Pharmacy'!AF110+'MIS - Pharmacy'!AH110 +'MIS - Pharmacy'!AG110))","v":""},{"$f":"IF(ISBLANK('MIS - Pharmacy'!AI110),\"\",'MIS - Pharmacy'!AI110)","v":""},"","","",{"$f":"IF(ISBLANK('MIS - Pharmacy'!V110),\"\",'MIS - Pharmacy'!V110)","v":""},"","","",{"$f":"IF(ISBLANK('MIS - Pharmacy'!J110),\"\",'MIS - Pharmacy'!J110)","v":""},{"$f":"IF(ISBLANK('MIS - Pharmacy'!AY110),\"\",'MIS - Pharmacy'!AY110)","v":""},{"$f":"IF(ISBLANK('MIS - Pharmacy'!BH110),\"\",'MIS - Pharmacy'!BH110)","v":""},"",""]
[{"$f":"IF(ISBLANK('MIS - Pharmacy'!A111), \"\",'MIS - Pharmacy'!A111)","v":""},{"$f":"IF(ISBLANK('MIS - Pharmacy'!B111),\"\",('MIS - Pharmacy'!B111&\"(\"&'MIS - Pharmacy'!D111&\")\"))","v":""},{"$f":"IF(ISBLANK('MIS - Pharmacy'!BI111), \"\", 'MIS - Pharmacy'!BI111)","v":""},{"$f":"IF(ISBLANK('MIS - Pharmacy'!U111), \"\", 'MIS - Pharmacy'!U111)","v":""},"","","","","","","",{"$f":"IF(ISBLANK('MIS - Pharmacy'!AC111),\"\",'MIS - Pharmacy'!AC111)","v":""},"",{"$f":"IF(ISBLANK('MIS - Pharmacy'!AD111),\"\",'MIS - Pharmacy'!AD111)","v":""},"","",{"$f":"IF('MIS - Pharmacy'!A111=\"\",\"\",SUM('MIS - Pharmacy'!K111+'MIS - Pharmacy'!L111))","v":""},"",{"$f":"IF('MIS - Pharmacy'!A111=\"\",\"\",('MIS - Pharmacy'!AF111+'MIS - Pharmacy'!AH111 +'MIS - Pharmacy'!AG111))","v":""},{"$f":"IF(ISBLANK('MIS - Pharmacy'!AI111),\"\",'MIS - Pharmacy'!AI111)","v":""},"","","",{"$f":"IF(ISBLANK('MIS - Pharmacy'!V111),\"\",'MIS - Pharmacy'!V111)","v":""},"","","",{"$f":"IF(ISBLANK('MIS - Pharmacy'!J111),\"\",'MIS - Pharmacy'!J111)","v":""},{"$f":"IF(ISBLANK('MIS - Pharmacy'!AY111),\"\",'MIS - Pharmacy'!AY111)","v":""},{"$f":"IF(ISBLANK('MIS - Pharmacy'!BH111),\"\",'MIS - Pharmacy'!BH111)","v":""},"",""]
[{"$f":"IF(ISBLANK('MIS - Pharmacy'!A112), \"\",'MIS - Pharmacy'!A112)","v":""},{"$f":"IF(ISBLANK('MIS - Pharmacy'!B112),\"\",('MIS - Pharmacy'!B112&\"(\"&'MIS - Pharmacy'!D112&\")\"))","v":""},{"$f":"IF(ISBLANK('MIS - Pharmacy'!BI112), \"\", 'MIS - Pharmacy'!BI112)","v":""},{"$f":"IF(ISBLANK('MIS - Pharmacy'!U112), \"\", 'MIS - Pharmacy'!U112)","v":""},"","","","","","","",{"$f":"IF(ISBLANK('MIS - Pharmacy'!AC112),\"\",'MIS - Pharmacy'!AC112)","v":""},"",{"$f":"IF(ISBLANK('MIS - Pharmacy'!AD112),\"\",'MIS - Pharmacy'!AD112)","v":""},"","",{"$f":"IF('MIS - Pharmacy'!A112=\"\",\"\",SUM('MIS - Pharmacy'!K112+'MIS - Pharmacy'!L112))","v":""},"",{"$f":"IF('MIS - Pharmacy'!A112=\"\",\"\",('MIS - Pharmacy'!AF112+'MIS - Pharmacy'!AH112 +'MIS - Pharmacy'!AG112))","v":""},{"$f":"IF(ISBLANK('MIS - Pharmacy'!AI112),\"\",'MIS - Pharmacy'!AI112)","v":""},"","","",{"$f":"IF(ISBLANK('MIS - Pharmacy'!V112),\"\",'MIS - Pharmacy'!V112)","v":""},"","","",{"$f":"IF(ISBLANK('MIS - Pharmacy'!J112),\"\",'MIS - Pharmacy'!J112)","v":""},{"$f":"IF(ISBLANK('MIS - Pharmacy'!AY112),\"\",'MIS - Pharmacy'!AY112)","v":""},{"$f":"IF(ISBLANK('MIS - Pharmacy'!BH112),\"\",'MIS - Pharmacy'!BH112)","v":""},"",""]
[{"$f":"IF(ISBLANK('MIS - Pharmacy'!A113), \"\",'MIS - Pharmacy'!A113)","v":""},{"$f":"IF(ISBLANK('MIS - Pharmacy'!B113),\"\",('MIS - Pharmacy'!B113&\"(\"&'MIS - Pharmacy'!D113&\")\"))","v":""},{"$f":"IF(ISBLANK('MIS - Pharmacy'!BI113), \"\", 'MIS - Pharmacy'!BI113)","v":""},{"$f":"IF(ISBLANK('MIS - Pharmacy'!U113), \"\", 'MIS - Pharmacy'!U113)","v":""},"","","","","","","",{"$f":"IF(ISBLANK('MIS - Pharmacy'!AC113),\"\",'MIS - Pharmacy'!AC113)","v":""},"",{"$f":"IF(ISBLANK('MIS - Pharmacy'!AD113),\"\",'MIS - Pharmacy'!AD113)","v":""},"","",{"$f":"IF('MIS - Pharmacy'!A113=\"\",\"\",SUM('MIS - Pharmacy'!K113+'MIS - Pharmacy'!L113))","v":""},"",{"$f":"IF('MIS - Pharmacy'!A113=\"\",\"\",('MIS - Pharmacy'!AF113+'MIS - Pharmacy'!AH113 +'MIS - Pharmacy'!AG113))","v":""},{"$f":"IF(ISBLANK('MIS - Pharmacy'!AI113),\"\",'MIS - Pharmacy'!AI113)","v":""},"","","",{"$f":"IF(ISBLANK('MIS - Pharmacy'!V113),\"\",'MIS - Pharmacy'!V113)","v":""},"","","",{"$f":"IF(ISBLANK('MIS - Pharmacy'!J113),\"\",'MIS - Pharmacy'!J113)","v":""},{"$f":"IF(ISBLANK('MIS - Pharmacy'!AY113),\"\",'MIS - Pharmacy'!AY113)","v":""},{"$f":"IF(ISBLANK('MIS - Pharmacy'!BH113),\"\",'MIS - Pharmacy'!BH113)","v":""},"",""]
[{"$f":"IF(ISBLANK('MIS - Pharmacy'!A114), \"\",'MIS - Pharmacy'!A114)","v":""},{"$f":"IF(ISBLANK('MIS - Pharmacy'!B114),\"\",('MIS - Pharmacy'!B114&\"(\"&'MIS - Pharmacy'!D114&\")\"))","v":""},{"$f":"IF(ISBLANK('MIS - Pharmacy'!BI114), \"\", 'MIS - Pharmacy'!BI114)","v":""},{"$f":"IF(ISBLANK('MIS - Pharmacy'!U114), \"\", 'MIS - Pharmacy'!U114)","v":""},"","","","","","","",{"$f":"IF(ISBLANK('MIS - Pharmacy'!AC114),\"\",'MIS - Pharmacy'!AC114)","v":""},"",{"$f":"IF(ISBLANK('MIS - Pharmacy'!AD114),\"\",'MIS - Pharmacy'!AD114)","v":""},"","",{"$f":"IF('MIS - Pharmacy'!A114=\"\",\"\",SUM('MIS - Pharmacy'!K114+'MIS - Pharmacy'!L114))","v":""},"",{"$f":"IF('MIS - Pharmacy'!A114=\"\",\"\",('MIS - Pharmacy'!AF114+'MIS - Pharmacy'!AH114 +'MIS - Pharmacy'!AG114))","v":""},{"$f":"IF(ISBLANK('MIS - Pharmacy'!AI114),\"\",'MIS - Pharmacy'!AI114)","v":""},"","","",{"$f":"IF(ISBLANK('MIS - Pharmacy'!V114),\"\",'MIS - Pharmacy'!V114)","v":""},"","","",{"$f":"IF(ISBLANK('MIS - Pharmacy'!J114),\"\",'MIS - Pharmacy'!J114)","v":""},{"$f":"IF(ISBLANK('MIS - Pharmacy'!AY114),\"\",'MIS - Pharmacy'!AY114)","v":""},{"$f":"IF(ISBLANK('MIS - Pharmacy'!BH114),\"\",'MIS - Pharmacy'!BH114)","v":""},"",""]
[{"$f":"IF(ISBLANK('MIS - Pharmacy'!A115), \"\",'MIS - Pharmacy'!A115)","v":""},{"$f":"IF(ISBLANK('MIS - Pharmacy'!B115),\"\",('MIS - Pharmacy'!B115&\"(\"&'MIS - Pharmacy'!D115&\")\"))","v":""},{"$f":"IF(ISBLANK('MIS - Pharmacy'!BI115), \"\", 'MIS - Pharmacy'!BI115)","v":""},{"$f":"IF(ISBLANK('MIS - Pharmacy'!U115), \"\", 'MIS - Pharmacy'!U115)","v":""},"","","","","","","",{"$f":"IF(ISBLANK('MIS - Pharmacy'!AC115),\"\",'MIS - Pharmacy'!AC115)","v":""},"",{"$f":"IF(ISBLANK('MIS - Pharmacy'!AD115),\"\",'MIS - Pharmacy'!AD115)","v":""},"","",{"$f":"IF('MIS - Pharmacy'!A115=\"\",\"\",SUM('MIS - Pharmacy'!K115+'MIS - Pharmacy'!L115))","v":""},"",{"$f":"IF('MIS - Pharmacy'!A115=\"\",\"\",('MIS - Pharmacy'!AF115+'MIS - Pharmacy'!AH115 +'MIS - Pharmacy'!AG115))","v":""},{"$f":"IF(ISBLANK('MIS - Pharmacy'!AI115),\"\",'MIS - Pharmacy'!AI115)","v":""},"","","",{"$f":"IF(ISBLANK('MIS - Pharmacy'!V115),\"\",'MIS - Pharmacy'!V115)","v":""},"","","",{"$f":"IF(ISBLANK('MIS - Pharmacy'!J115),\"\",'MIS - Pharmacy'!J115)","v":""},{"$f":"IF(ISBLANK('MIS - Pharmacy'!AY115),\"\",'MIS - Pharmacy'!AY115)","v":""},{"$f":"IF(ISBLANK('MIS - Pharmacy'!BH115),\"\",'MIS - Pharmacy'!BH115)","v":""},"",""]
[{"$f":"IF(ISBLANK('MIS - Pharmacy'!A116), \"\",'MIS - Pharmacy'!A116)","v":""},{"$f":"IF(ISBLANK('MIS - Pharmacy'!B116),\"\",('MIS - Pharmacy'!B116&\"(\"&'MIS - Pharmacy'!D116&\")\"))","v":""},{"$f":"IF(ISBLANK('MIS - Pharmacy'!BI116), \"\", 'MIS - Pharmacy'!BI116)","v":""},{"$f":"IF(ISBLANK('MIS - Pharmacy'!U116), \"\", 'MIS - Pharmacy'!U116)","v":""},"","","","","","","",{"$f":"IF(ISBLANK('MIS - Pharmacy'!AC116),\"\",'MIS - Pharmacy'!AC116)","v":""},"",{"$f":"IF(ISBLANK('MIS - Pharmacy'!AD116),\"\",'MIS - Pharmacy'!AD116)","v":""},"","",{"$f":"IF('MIS - Pharmacy'!A116=\"\",\"\",SUM('MIS - Pharmacy'!K116+'MIS - Pharmacy'!L116))","v":""},"",{"$f":"IF('MIS - Pharmacy'!A116=\"\",\"\",('MIS - Pharmacy'!AF116+'MIS - Pharmacy'!AH116 +'MIS - Pharmacy'!AG116))","v":""},{"$f":"IF(ISBLANK('MIS - Pharmacy'!AI116),\"\",'MIS - Pharmacy'!AI116)","v":""},"","","",{"$f":"IF(ISBLANK('MIS - Pharmacy'!V116),\"\",'MIS - Pharmacy'!V116)","v":""},"","","",{"$f":"IF(ISBLANK('MIS - Pharmacy'!J116),\"\",'MIS - Pharmacy'!J116)","v":""},{"$f":"IF(ISBLANK('MIS - Pharmacy'!AY116),\"\",'MIS - Pharmacy'!AY116)","v":""},{"$f":"IF(ISBLANK('MIS - Pharmacy'!BH116),\"\",'MIS - Pharmacy'!BH116)","v":""},"",""]
[{"$f":"IF(ISBLANK('MIS - Pharmacy'!A117), \"\",'MIS - Pharmacy'!A117)","v":""},{"$f":"IF(ISBLANK('MIS - Pharmacy'!B117),\"\",('MIS - Pharmacy'!B117&\"(\"&'MIS - Pharmacy'!D117&\")\"))","v":""},{"$f":"IF(ISBLANK('MIS - Pharmacy'!BI117), \"\", 'MIS - Pharmacy'!BI117)","v":""},{"$f":"IF(ISBLANK('MIS - Pharmacy'!U117), \"\", 'MIS - Pharmacy'!U117)","v":""},"","","","","","","",{"$f":"IF(ISBLANK('MIS - Pharmacy'!AC117),\"\",'MIS - Pharmacy'!AC117)","v":""},"",{"$f":"IF(ISBLANK('MIS - Pharmacy'!AD117),\"\",'MIS - Pharmacy'!AD117)","v":""},"","",{"$f":"IF('MIS - Pharmacy'!A117=\"\",\"\",SUM('MIS - Pharmacy'!K117+'MIS - Pharmacy'!L117))","v":""},"",{"$f":"IF('MIS - Pharmacy'!A117=\"\",\"\",('MIS - Pharmacy'!AF117+'MIS - Pharmacy'!AH117 +'MIS - Pharmacy'!AG117))","v":""},{"$f":"IF(ISBLANK('MIS - Pharmacy'!AI117),\"\",'MIS - Pharmacy'!AI117)","v":""},"","","",{"$f":"IF(ISBLANK('MIS - Pharmacy'!V117),\"\",'MIS - Pharmacy'!V117)","v":""},"","","",{"$f":"IF(ISBLANK('MIS - Pharmacy'!J117),\"\",'MIS - Pharmacy'!J117)","v":""},{"$f":"IF(ISBLANK('MIS - Pharmacy'!AY117),\"\",'MIS - Pharmacy'!AY117)","v":""},{"$f":"IF(ISBLANK('MIS - Pharmacy'!BH117),\"\",'MIS - Pharmacy'!BH117)","v":""},"",""]
[{"$f":"IF(ISBLANK('MIS - Pharmacy'!A118), \"\",'MIS - Pharmacy'!A118)","v":""},{"$f":"IF(ISBLANK('MIS - Pharmacy'!B118),\"\",('MIS - Pharmacy'!B118&\"(\"&'MIS - Pharmacy'!D118&\")\"))","v":""},{"$f":"IF(ISBLANK('MIS - Pharmacy'!BI118), \"\", 'MIS - Pharmacy'!BI118)","v":""},{"$f":"IF(ISBLANK('MIS - Pharmacy'!U118), \"\", 'MIS - Pharmacy'!U118)","v":""},"","","","","","","",{"$f":"IF(ISBLANK('MIS - Pharmacy'!AC118),\"\",'MIS - Pharmacy'!AC118)","v":""},"",{"$f":"IF(ISBLANK('MIS - Pharmacy'!AD118),\"\",'MIS - Pharmacy'!AD118)","v":""},"","",{"$f":"IF('MIS - Pharmacy'!A118=\"\",\"\",SUM('MIS - Pharmacy'!K118+'MIS - Pharmacy'!L118))","v":""},"",{"$f":"IF('MIS - Pharmacy'!A118=\"\",\"\",('MIS - Pharmacy'!AF118+'MIS - Pharmacy'!AH118 +'MIS - Pharmacy'!AG118))","v":""},{"$f":"IF(ISBLANK('MIS - Pharmacy'!AI118),\"\",'MIS - Pharmacy'!AI118)","v":""},"","","",{"$f":"IF(ISBLANK('MIS - Pharmacy'!V118),\"\",'MIS - Pharmacy'!V118)","v":""},"","","",{"$f":"IF(ISBLANK('MIS - Pharmacy'!J118),\"\",'MIS - Pharmacy'!J118)","v":""},{"$f":"IF(ISBLANK('MIS - Pharmacy'!AY118),\"\",'MIS - Pharmacy'!AY118)","v":""},{"$f":"IF(ISBLANK('MIS - Pharmacy'!BH118),\"\",'MIS - Pharmacy'!BH118)","v":""},"",""]
[{"$f":"IF(ISBLANK('MIS - Pharmacy'!A119), \"\",'MIS - Pharmacy'!A119)","v":""},{"$f":"IF(ISBLANK('MIS - Pharmacy'!B119),\"\",('MIS - Pharmacy'!B119&\"(\"&'MIS - Pharmacy'!D119&\")\"))","v":""},{"$f":"IF(ISBLANK('MIS - Pharmacy'!BI119), \"\", 'MIS - Pharmacy'!BI119)","v":""},{"$f":"IF(ISBLANK('MIS - Pharmacy'!U119), \"\", 'MIS - Pharmacy'!U119)","v":""},"","","","","","","",{"$f":"IF(ISBLANK('MIS - Pharmacy'!AC119),\"\",'MIS - Pharmacy'!AC119)","v":""},"",{"$f":"IF(ISBLANK('MIS - Pharmacy'!AD119),\"\",'MIS - Pharmacy'!AD119)","v":""},"","",{"$f":"IF('MIS - Pharmacy'!A119=\"\",\"\",SUM('MIS - Pharmacy'!K119+'MIS - Pharmacy'!L119))","v":""},"",{"$f":"IF('MIS - Pharmacy'!A119=\"\",\"\",('MIS - Pharmacy'!AF119+'MIS - Pharmacy'!AH119 +'MIS - Pharmacy'!AG119))","v":""},{"$f":"IF(ISBLANK('MIS - Pharmacy'!AI119),\"\",'MIS - Pharmacy'!AI119)","v":""},"","","",{"$f":"IF(ISBLANK('MIS - Pharmacy'!V119),\"\",'MIS - Pharmacy'!V119)","v":""},"","","",{"$f":"IF(ISBLANK('MIS - Pharmacy'!J119),\"\",'MIS - Pharmacy'!J119)","v":""},{"$f":"IF(ISBLANK('MIS - Pharmacy'!AY119),\"\",'MIS - Pharmacy'!AY119)","v":""},{"$f":"IF(ISBLANK('MIS - Pharmacy'!BH119),\"\",'MIS - Pharmacy'!BH119)","v":""},"",""]
[{"$f":"IF(ISBLANK('MIS - Pharmacy'!A120), \"\",'MIS - Pharmacy'!A120)","v":""},{"$f":"IF(ISBLANK('MIS - Pharmacy'!B120),\"\",('MIS - Pharmacy'!B120&\"(\"&'MIS - Pharmacy'!D120&\")\"))","v":""},{"$f":"IF(ISBLANK('MIS - Pharmacy'!BI120), \"\", 'MIS - Pharmacy'!BI120)","v":""},{"$f":"IF(ISBLANK('MIS - Pharmacy'!U120), \"\", 'MIS - Pharmacy'!U120)","v":""},"","","","","","","",{"$f":"IF(ISBLANK('MIS - Pharmacy'!AC120),\"\",'MIS - Pharmacy'!AC120)","v":""},"",{"$f":"IF(ISBLANK('MIS - Pharmacy'!AD120),\"\",'MIS - Pharmacy'!AD120)","v":""},"","",{"$f":"IF('MIS - Pharmacy'!A120=\"\",\"\",SUM('MIS - Pharmacy'!K120+'MIS - Pharmacy'!L120))","v":""},"",{"$f":"IF('MIS - Pharmacy'!A120=\"\",\"\",('MIS - Pharmacy'!AF120+'MIS - Pharmacy'!AH120 +'MIS - Pharmacy'!AG120))","v":""},{"$f":"IF(ISBLANK('MIS - Pharmacy'!AI120),\"\",'MIS - Pharmacy'!AI120)","v":""},"","","",{"$f":"IF(ISBLANK('MIS - Pharmacy'!V120),\"\",'MIS - Pharmacy'!V120)","v":""},"","","",{"$f":"IF(ISBLANK('MIS - Pharmacy'!J120),\"\",'MIS - Pharmacy'!J120)","v":""},{"$f":"IF(ISBLANK('MIS - Pharmacy'!AY120),\"\",'MIS - Pharmacy'!AY120)","v":""},{"$f":"IF(ISBLANK('MIS - Pharmacy'!BH120),\"\",'MIS - Pharmacy'!BH120)","v":""},"",""]
[{"$f":"IF(ISBLANK('MIS - Pharmacy'!A121), \"\",'MIS - Pharmacy'!A121)","v":""},{"$f":"IF(ISBLANK('MIS - Pharmacy'!B121),\"\",('MIS - Pharmacy'!B121&\"(\"&'MIS - Pharmacy'!D121&\")\"))","v":""},{"$f":"IF(ISBLANK('MIS - Pharmacy'!BI121), \"\", 'MIS - Pharmacy'!BI121)","v":""},{"$f":"IF(ISBLANK('MIS - Pharmacy'!U121), \"\", 'MIS - Pharmacy'!U121)","v":""},"","","","","","","",{"$f":"IF(ISBLANK('MIS - Pharmacy'!AC121),\"\",'MIS - Pharmacy'!AC121)","v":""},"",{"$f":"IF(ISBLANK('MIS - Pharmacy'!AD121),\"\",'MIS - Pharmacy'!AD121)","v":""},"","",{"$f":"IF('MIS - Pharmacy'!A121=\"\",\"\",SUM('MIS - Pharmacy'!K121+'MIS - Pharmacy'!L121))","v":""},"",{"$f":"IF('MIS - Pharmacy'!A121=\"\",\"\",('MIS - Pharmacy'!AF121+'MIS - Pharmacy'!AH121 +'MIS - Pharmacy'!AG121))","v":""},{"$f":"IF(ISBLANK('MIS - Pharmacy'!AI121),\"\",'MIS - Pharmacy'!AI121)","v":""},"","","",{"$f":"IF(ISBLANK('MIS - Pharmacy'!V121),\"\",'MIS - Pharmacy'!V121)","v":""},"","","",{"$f":"IF(ISBLANK('MIS - Pharmacy'!J121),\"\",'MIS - Pharmacy'!J121)","v":""},{"$f":"IF(ISBLANK('MIS - Pharmacy'!AY121),\"\",'MIS - Pharmacy'!AY121)","v":""},{"$f":"IF(ISBLANK('MIS - Pharmacy'!BH121),\"\",'MIS - Pharmacy'!BH121)","v":""},"",""]
[{"$f":"IF(ISBLANK('MIS - Pharmacy'!A122), \"\",'MIS - Pharmacy'!A122)","v":""},{"$f":"IF(ISBLANK('MIS - Pharmacy'!B122),\"\",('MIS - Pharmacy'!B122&\"(\"&'MIS - Pharmacy'!D122&\")\"))","v":""},{"$f":"IF(ISBLANK('MIS - Pharmacy'!BI122), \"\", 'MIS - Pharmacy'!BI122)","v":""},{"$f":"IF(ISBLANK('MIS - Pharmacy'!U122), \"\", 'MIS - Pharmacy'!U122)","v":""},"","","","","","","",{"$f":"IF(ISBLANK('MIS - Pharmacy'!AC122),\"\",'MIS - Pharmacy'!AC122)","v":""},"",{"$f":"IF(ISBLANK('MIS - Pharmacy'!AD122),\"\",'MIS - Pharmacy'!AD122)","v":""},"","",{"$f":"IF('MIS - Pharmacy'!A122=\"\",\"\",SUM('MIS - Pharmacy'!K122+'MIS - Pharmacy'!L122))","v":""},"",{"$f":"IF('MIS - Pharmacy'!A122=\"\",\"\",('MIS - Pharmacy'!AF122+'MIS - Pharmacy'!AH122 +'MIS - Pharmacy'!AG122))","v":""},{"$f":"IF(ISBLANK('MIS - Pharmacy'!AI122),\"\",'MIS - Pharmacy'!AI122)","v":""},"","","",{"$f":"IF(ISBLANK('MIS - Pharmacy'!V122),\"\",'MIS - Pharmacy'!V122)","v":""},"","","",{"$f":"IF(ISBLANK('MIS - Pharmacy'!J122),\"\",'MIS - Pharmacy'!J122)","v":""},{"$f":"IF(ISBLANK('MIS - Pharmacy'!AY122),\"\",'MIS - Pharmacy'!AY122)","v":""},{"$f":"IF(ISBLANK('MIS - Pharmacy'!BH122),\"\",'MIS - Pharmacy'!BH122)","v":""},"",""]
[{"$f":"IF(ISBLANK('MIS - Pharmacy'!A123), \"\",'MIS - Pharmacy'!A123)","v":""},{"$f":"IF(ISBLANK('MIS - Pharmacy'!B123),\"\",('MIS - Pharmacy'!B123&\"(\"&'MIS - Pharmacy'!D123&\")\"))","v":""},{"$f":"IF(ISBLANK('MIS - Pharmacy'!BI123), \"\", 'MIS - Pharmacy'!BI123)","v":""},{"$f":"IF(ISBLANK('MIS - Pharmacy'!U123), \"\", 'MIS - Pharmacy'!U123)","v":""},"","","","","","","",{"$f":"IF(ISBLANK('MIS - Pharmacy'!AC123),\"\",'MIS - Pharmacy'!AC123)","v":""},"",{"$f":"IF(ISBLANK('MIS - Pharmacy'!AD123),\"\",'MIS - Pharmacy'!AD123)","v":""},"","",{"$f":"IF('MIS - Pharmacy'!A123=\"\",\"\",SUM('MIS - Pharmacy'!K123+'MIS - Pharmacy'!L123))","v":""},"",{"$f":"IF('MIS - Pharmacy'!A123=\"\",\"\",('MIS - Pharmacy'!AF123+'MIS - Pharmacy'!AH123 +'MIS - Pharmacy'!AG123))","v":""},{"$f":"IF(ISBLANK('MIS - Pharmacy'!AI123),\"\",'MIS - Pharmacy'!AI123)","v":""},"","","",{"$f":"IF(ISBLANK('MIS - Pharmacy'!V123),\"\",'MIS - Pharmacy'!V123)","v":""},"","","",{"$f":"IF(ISBLANK('MIS - Pharmacy'!J123),\"\",'MIS - Pharmacy'!J123)","v":""},{"$f":"IF(ISBLANK('MIS - Pharmacy'!AY123),\"\",'MIS - Pharmacy'!AY123)","v":""},{"$f":"IF(ISBLANK('MIS - Pharmacy'!BH123),\"\",'MIS - Pharmacy'!BH123)","v":""},"",""]
[{"$f":"IF(ISBLANK('MIS - Pharmacy'!A124), \"\",'MIS - Pharmacy'!A124)","v":""},{"$f":"IF(ISBLANK('MIS - Pharmacy'!B124),\"\",('MIS - Pharmacy'!B124&\"(\"&'MIS - Pharmacy'!D124&\")\"))","v":""},{"$f":"IF(ISBLANK('MIS - Pharmacy'!BI124), \"\", 'MIS - Pharmacy'!BI124)","v":""},{"$f":"IF(ISBLANK('MIS - Pharmacy'!U124), \"\", 'MIS - Pharmacy'!U124)","v":""},"","","","","","","",{"$f":"IF(ISBLANK('MIS - Pharmacy'!AC124),\"\",'MIS - Pharmacy'!AC124)","v":""},"",{"$f":"IF(ISBLANK('MIS - Pharmacy'!AD124),\"\",'MIS - Pharmacy'!AD124)","v":""},"","",{"$f":"IF('MIS - Pharmacy'!A124=\"\",\"\",SUM('MIS - Pharmacy'!K124+'MIS - Pharmacy'!L124))","v":""},"",{"$f":"IF('MIS - Pharmacy'!A124=\"\",\"\",('MIS - Pharmacy'!AF124+'MIS - Pharmacy'!AH124 +'MIS - Pharmacy'!AG124))","v":""},{"$f":"IF(ISBLANK('MIS - Pharmacy'!AI124),\"\",'MIS - Pharmacy'!AI124)","v":""},"","","",{"$f":"IF(ISBLANK('MIS - Pharmacy'!V124),\"\",'MIS - Pharmacy'!V124)","v":""},"","","",{"$f":"IF(ISBLANK('MIS - Pharmacy'!J124),\"\",'MIS - Pharmacy'!J124)","v":""},{"$f":"IF(ISBLANK('MIS - Pharmacy'!AY124),\"\",'MIS - Pharmacy'!AY124)","v":""},{"$f":"IF(ISBLANK('MIS - Pharmacy'!BH124),\"\",'MIS - Pharmacy'!BH124)","v":""},"",""]
[{"$f":"IF(ISBLANK('MIS - Pharmacy'!A125), \"\",'MIS - Pharmacy'!A125)","v":""},{"$f":"IF(ISBLANK('MIS - Pharmacy'!B125),\"\",('MIS - Pharmacy'!B125&\"(\"&'MIS - Pharmacy'!D125&\")\"))","v":""},{"$f":"IF(ISBLANK('MIS - Pharmacy'!BI125), \"\", 'MIS - Pharmacy'!BI125)","v":""},{"$f":"IF(ISBLANK('MIS - Pharmacy'!U125), \"\", 'MIS - Pharmacy'!U125)","v":""},"","","","","","","",{"$f":"IF(ISBLANK('MIS - Pharmacy'!AC125),\"\",'MIS - Pharmacy'!AC125)","v":""},"",{"$f":"IF(ISBLANK('MIS - Pharmacy'!AD125),\"\",'MIS - Pharmacy'!AD125)","v":""},"","",{"$f":"IF('MIS - Pharmacy'!A125=\"\",\"\",SUM('MIS - Pharmacy'!K125+'MIS - Pharmacy'!L125))","v":""},"",{"$f":"IF('MIS - Pharmacy'!A125=\"\",\"\",('MIS - Pharmacy'!AF125+'MIS - Pharmacy'!AH125 +'MIS - Pharmacy'!AG125))","v":""},{"$f":"IF(ISBLANK('MIS - Pharmacy'!AI125),\"\",'MIS - Pharmacy'!AI125)","v":""},"","","",{"$f":"IF(ISBLANK('MIS - Pharmacy'!V125),\"\",'MIS - Pharmacy'!V125)","v":""},"","","",{"$f":"IF(ISBLANK('MIS - Pharmacy'!J125),\"\",'MIS - Pharmacy'!J125)","v":""},{"$f":"IF(ISBLANK('MIS - Pharmacy'!AY125),\"\",'MIS - Pharmacy'!AY125)","v":""},{"$f":"IF(ISBLANK('MIS - Pharmacy'!BH125),\"\",'MIS - Pharmacy'!BH125)","v":""},"",""]
[{"$f":"IF(ISBLANK('MIS - Pharmacy'!A126), \"\",'MIS - Pharmacy'!A126)","v":""},{"$f":"IF(ISBLANK('MIS - Pharmacy'!B126),\"\",('MIS - Pharmacy'!B126&\"(\"&'MIS - Pharmacy'!D126&\")\"))","v":""},{"$f":"IF(ISBLANK('MIS - Pharmacy'!BI126), \"\", 'MIS - Pharmacy'!BI126)","v":""},{"$f":"IF(ISBLANK('MIS - Pharmacy'!U126), \"\", 'MIS - Pharmacy'!U126)","v":""},"","","","","","","",{"$f":"IF(ISBLANK('MIS - Pharmacy'!AC126),\"\",'MIS - Pharmacy'!AC126)","v":""},"",{"$f":"IF(ISBLANK('MIS - Pharmacy'!AD126),\"\",'MIS - Pharmacy'!AD126)","v":""},"","",{"$f":"IF('MIS - Pharmacy'!A126=\"\",\"\",SUM('MIS - Pharmacy'!K126+'MIS - Pharmacy'!L126))","v":""},"",{"$f":"IF('MIS - Pharmacy'!A126=\"\",\"\",('MIS - Pharmacy'!AF126+'MIS - Pharmacy'!AH126 +'MIS - Pharmacy'!AG126))","v":""},{"$f":"IF(ISBLANK('MIS - Pharmacy'!AI126),\"\",'MIS - Pharmacy'!AI126)","v":""},"","","",{"$f":"IF(ISBLANK('MIS - Pharmacy'!V126),\"\",'MIS - Pharmacy'!V126)","v":""},"","","",{"$f":"IF(ISBLANK('MIS - Pharmacy'!J126),\"\",'MIS - Pharmacy'!J126)","v":""},{"$f":"IF(ISBLANK('MIS - Pharmacy'!AY126),\"\",'MIS - Pharmacy'!AY126)","v":""},{"$f":"IF(ISBLANK('MIS - Pharmacy'!BH126),\"\",'MIS - Pharmacy'!BH126)","v":""},"",""]
[{"$f":"IF(ISBLANK('MIS - Pharmacy'!A127), \"\",'MIS - Pharmacy'!A127)","v":""},{"$f":"IF(ISBLANK('MIS - Pharmacy'!B127),\"\",('MIS - Pharmacy'!B127&\"(\"&'MIS - Pharmacy'!D127&\")\"))","v":""},{"$f":"IF(ISBLANK('MIS - Pharmacy'!BI127), \"\", 'MIS - Pharmacy'!BI127)","v":""},{"$f":"IF(ISBLANK('MIS - Pharmacy'!U127), \"\", 'MIS - Pharmacy'!U127)","v":""},"","","","","","","",{"$f":"IF(ISBLANK('MIS - Pharmacy'!AC127),\"\",'MIS - Pharmacy'!AC127)","v":""},"",{"$f":"IF(ISBLANK('MIS - Pharmacy'!AD127),\"\",'MIS - Pharmacy'!AD127)","v":""},"","",{"$f":"IF('MIS - Pharmacy'!A127=\"\",\"\",SUM('MIS - Pharmacy'!K127+'MIS - Pharmacy'!L127))","v":""},"",{"$f":"IF('MIS - Pharmacy'!A127=\"\",\"\",('MIS - Pharmacy'!AF127+'MIS - Pharmacy'!AH127 +'MIS - Pharmacy'!AG127))","v":""},{"$f":"IF(ISBLANK('MIS - Pharmacy'!AI127),\"\",'MIS - Pharmacy'!AI127)","v":""},"","","",{"$f":"IF(ISBLANK('MIS - Pharmacy'!V127),\"\",'MIS - Pharmacy'!V127)","v":""},"","","",{"$f":"IF(ISBLANK('MIS - Pharmacy'!J127),\"\",'MIS - Pharmacy'!J127)","v":""},{"$f":"IF(ISBLANK('MIS - Pharmacy'!AY127),\"\",'MIS - Pharmacy'!AY127)","v":""},{"$f":"IF(ISBLANK('MIS - Pharmacy'!BH127),\"\",'MIS - Pharmacy'!BH127)","v":""},"",""]
[{"$f":"IF(ISBLANK('MIS - Pharmacy'!A128), \"\",'MIS - Pharmacy'!A128)","v":""},{"$f":"IF(ISBLANK('MIS - Pharmacy'!B128),\"\",('MIS - Pharmacy'!B128&\"(\"&'MIS - Pharmacy'!D128&\")\"))","v":""},{"$f":"IF(ISBLANK('MIS - Pharmacy'!BI128), \"\", 'MIS - Pharmacy'!BI128)","v":""},{"$f":"IF(ISBLANK('MIS - Pharmacy'!U128), \"\", 'MIS - Pharmacy'!U128)","v":""},"","","","","","","",{"$f":"IF(ISBLANK('MIS - Pharmacy'!AC128),\"\",'MIS - Pharmacy'!AC128)","v":""},"",{"$f":"IF(ISBLANK('MIS - Pharmacy'!AD128),\"\",'MIS - Pharmacy'!AD128)","v":""},"","",{"$f":"IF('MIS - Pharmacy'!A128=\"\",\"\",SUM('MIS - Pharmacy'!K128+'MIS - Pharmacy'!L128))","v":""},"",{"$f":"IF('MIS - Pharmacy'!A128=\"\",\"\",('MIS - Pharmacy'!AF128+'MIS - Pharmacy'!AH128 +'MIS - Pharmacy'!AG128))","v":""},{"$f":"IF(ISBLANK('MIS - Pharmacy'!AI128),\"\",'MIS - Pharmacy'!AI128)","v":""},"","","",{"$f":"IF(ISBLANK('MIS - Pharmacy'!V128),\"\",'MIS - Pharmacy'!V128)","v":""},"","","",{"$f":"IF(ISBLANK('MIS - Pharmacy'!J128),\"\",'MIS - Pharmacy'!J128)","v":""},{"$f":"IF(ISBLANK('MIS - Pharmacy'!AY128),\"\",'MIS - Pharmacy'!AY128)","v":""},{"$f":"IF(ISBLANK('MIS - Pharmacy'!BH128),\"\",'MIS - Pharmacy'!BH128)","v":""},"",""]
[{"$f":"IF(ISBLANK('MIS - Pharmacy'!A129), \"\",'MIS - Pharmacy'!A129)","v":""},{"$f":"IF(ISBLANK('MIS - Pharmacy'!B129),\"\",('MIS - Pharmacy'!B129&\"(\"&'MIS - Pharmacy'!D129&\")\"))","v":""},{"$f":"IF(ISBLANK('MIS - Pharmacy'!BI129), \"\", 'MIS - Pharmacy'!BI129)","v":""},{"$f":"IF(ISBLANK('MIS - Pharmacy'!U129), \"\", 'MIS - Pharmacy'!U129)","v":""},"","","","","","","",{"$f":"IF(ISBLANK('MIS - Pharmacy'!AC129),\"\",'MIS - Pharmacy'!AC129)","v":""},"",{"$f":"IF(ISBLANK('MIS - Pharmacy'!AD129),\"\",'MIS - Pharmacy'!AD129)","v":""},"","",{"$f":"IF('MIS - Pharmacy'!A129=\"\",\"\",SUM('MIS - Pharmacy'!K129+'MIS - Pharmacy'!L129))","v":""},"",{"$f":"IF('MIS - Pharmacy'!A129=\"\",\"\",('MIS - Pharmacy'!AF129+'MIS - Pharmacy'!AH129 +'MIS - Pharmacy'!AG129))","v":""},{"$f":"IF(ISBLANK('MIS - Pharmacy'!AI129),\"\",'MIS - Pharmacy'!AI129)","v":""},"","","",{"$f":"IF(ISBLANK('MIS - Pharmacy'!V129),\"\",'MIS - Pharmacy'!V129)","v":""},"","","",{"$f":"IF(ISBLANK('MIS - Pharmacy'!J129),\"\",'MIS - Pharmacy'!J129)","v":""},{"$f":"IF(ISBLANK('MIS - Pharmacy'!AY129),\"\",'MIS - Pharmacy'!AY129)","v":""},{"$f":"IF(ISBLANK('MIS - Pharmacy'!BH129),\"\",'MIS - Pharmacy'!BH129)","v":""},"",""]
[{"$f":"IF(ISBLANK('MIS - Pharmacy'!A130), \"\",'MIS - Pharmacy'!A130)","v":""},{"$f":"IF(ISBLANK('MIS - Pharmacy'!B130),\"\",('MIS - Pharmacy'!B130&\"(\"&'MIS - Pharmacy'!D130&\")\"))","v":""},{"$f":"IF(ISBLANK('MIS - Pharmacy'!BI130), \"\", 'MIS - Pharmacy'!BI130)","v":""},{"$f":"IF(ISBLANK('MIS - Pharmacy'!U130), \"\", 'MIS - Pharmacy'!U130)","v":""},"","","","","","","",{"$f":"IF(ISBLANK('MIS - Pharmacy'!AC130),\"\",'MIS - Pharmacy'!AC130)","v":""},"",{"$f":"IF(ISBLANK('MIS - Pharmacy'!AD130),\"\",'MIS - Pharmacy'!AD130)","v":""},"","",{"$f":"IF('MIS - Pharmacy'!A130=\"\",\"\",SUM('MIS - Pharmacy'!K130+'MIS - Pharmacy'!L130))","v":""},"",{"$f":"IF('MIS - Pharmacy'!A130=\"\",\"\",('MIS - Pharmacy'!AF130+'MIS - Pharmacy'!AH130 +'MIS - Pharmacy'!AG130))","v":""},{"$f":"IF(ISBLANK('MIS - Pharmacy'!AI130),\"\",'MIS - Pharmacy'!AI130)","v":""},"","","",{"$f":"IF(ISBLANK('MIS - Pharmacy'!V130),\"\",'MIS - Pharmacy'!V130)","v":""},"","","",{"$f":"IF(ISBLANK('MIS - Pharmacy'!J130),\"\",'MIS - Pharmacy'!J130)","v":""},{"$f":"IF(ISBLANK('MIS - Pharmacy'!AY130),\"\",'MIS - Pharmacy'!AY130)","v":""},{"$f":"IF(ISBLANK('MIS - Pharmacy'!BH130),\"\",'MIS - Pharmacy'!BH130)","v":""},"",""]
[{"$f":"IF(ISBLANK('MIS - Pharmacy'!A131), \"\",'MIS - Pharmacy'!A131)","v":""},{"$f":"IF(ISBLANK('MIS - Pharmacy'!B131),\"\",('MIS - Pharmacy'!B131&\"(\"&'MIS - Pharmacy'!D131&\")\"))","v":""},{"$f":"IF(ISBLANK('MIS - Pharmacy'!BI131), \"\", 'MIS - Pharmacy'!BI131)","v":""},{"$f":"IF(ISBLANK('MIS - Pharmacy'!U131), \"\", 'MIS - Pharmacy'!U131)","v":""},"","","","","","","",{"$f":"IF(ISBLANK('MIS - Pharmacy'!AC131),\"\",'MIS - Pharmacy'!AC131)","v":""},"",{"$f":"IF(ISBLANK('MIS - Pharmacy'!AD131),\"\",'MIS - Pharmacy'!AD131)","v":""},"","",{"$f":"IF('MIS - Pharmacy'!A131=\"\",\"\",SUM('MIS - Pharmacy'!K131+'MIS - Pharmacy'!L131))","v":""},"",{"$f":"IF('MIS - Pharmacy'!A131=\"\",\"\",('MIS - Pharmacy'!AF131+'MIS - Pharmacy'!AH131 +'MIS - Pharmacy'!AG131))","v":""},{"$f":"IF(ISBLANK('MIS - Pharmacy'!AI131),\"\",'MIS - Pharmacy'!AI131)","v":""},"","","",{"$f":"IF(ISBLANK('MIS - Pharmacy'!V131),\"\",'MIS - Pharmacy'!V131)","v":""},"","","",{"$f":"IF(ISBLANK('MIS - Pharmacy'!J131),\"\",'MIS - Pharmacy'!J131)","v":""},{"$f":"IF(ISBLANK('MIS - Pharmacy'!AY131),\"\",'MIS - Pharmacy'!AY131)","v":""},{"$f":"IF(ISBLANK('MIS - Pharmacy'!BH131),\"\",'MIS - Pharmacy'!BH131)","v":""},"",""]
[{"$f":"IF(ISBLANK('MIS - Pharmacy'!A132), \"\",'MIS - Pharmacy'!A132)","v":""},{"$f":"IF(ISBLANK('MIS - Pharmacy'!B132),\"\",('MIS - Pharmacy'!B132&\"(\"&'MIS - Pharmacy'!D132&\")\"))","v":""},{"$f":"IF(ISBLANK('MIS - Pharmacy'!BI132), \"\", 'MIS - Pharmacy'!BI132)","v":""},{"$f":"IF(ISBLANK('MIS - Pharmacy'!U132), \"\", 'MIS - Pharmacy'!U132)","v":""},"",{"$f":"IF(D141=\"\",\"\",D141*12)","v":""},{"$f":"IF(Q141=\"\",\"\",IF(Q141 = 0, 0, D141/Q141*1000))","v":""},"","",{"$f":"IF(D141=0,0,IF(D141=\"\",\"\",D141/Q141))","v":""},{"$f":"IF(D141=0,0,IF(D141=\"\",\"\",D141/X141))","v":""},{"$f":"IF(ISBLANK('MIS - Pharmacy'!AC132),\"\",'MIS - Pharmacy'!AC132)","v":""},"",{"$f":"IF(ISBLANK('MIS - Pharmacy'!AD132),\"\",'MIS - Pharmacy'!AD132)","v":""},"",{"$f":"IF(L141=\"\",\"\",IF(X141=0,0,L141/X141))","v":""},{"$f":"IF('MIS - Pharmacy'!A132=\"\",\"\",SUM('MIS - Pharmacy'!K132+'MIS - Pharmacy'!L132))","v":""},"",{"$f":"IF('MIS - Pharmacy'!A132=\"\",\"\",('MIS - Pharmacy'!AF132+'MIS - Pharmacy'!AH132 +'MIS - Pharmacy'!AG132))","v":""},{"$f":"IF(ISBLANK('MIS - Pharmacy'!AI132),\"\",'MIS - Pharmacy'!AI132)","v":""},"",{"$f":"IF(A141=\"\",\"\",IF(T141=0,0,T141/Q141*1000))","v":""},"",{"$f":"IF(ISBLANK('MIS - Pharmacy'!V132),\"\",'MIS - Pharmacy'!V132)","v":""},"","","",{"$f":"IF(ISBLANK('MIS - Pharmacy'!J132),\"\",'MIS - Pharmacy'!J132)","v":""},{"$f":"IF(ISBLANK('MIS - Pharmacy'!AY132),\"\",'MIS - Pharmacy'!AY132)","v":""},{"$f":"IF(ISBLANK('MIS - Pharmacy'!BH132),\"\",'MIS - Pharmacy'!BH132)","v":""},{"$f":"IF(A141=\"\",\"\",D141+L141)","v":""},""]
[{"$f":"IF(ISBLANK('MIS - Pharmacy'!A133), \"\",'MIS - Pharmacy'!A133)","v":""},{"$f":"IF(ISBLANK('MIS - Pharmacy'!B133),\"\",('MIS - Pharmacy'!B133&\"(\"&'MIS - Pharmacy'!D133&\")\"))","v":""},{"$f":"IF(ISBLANK('MIS - Pharmacy'!BI133), \"\", 'MIS - Pharmacy'!BI133)","v":""},{"$f":"IF(ISBLANK('MIS - Pharmacy'!U133), \"\", 'MIS - Pharmacy'!U133)","v":""},{"$f":"IF(D142=\"\",\"\",IF(D142<=D$9,\"Lower Outlier\",IF(D142<=D$5,\"Below Average\",IF(D142<=D$6,\"Lower Quartile Range\",IF(D142<=D$7,\"Upper Quartile Range\",IF(D142<=D$10,\"Above Average\",\"Upper Outlier\"))))))","v":""},"","",{"$f":"IF(D142=\"\",\"\",IF(X142=0,0,D142/Y142))","v":""},{"$f":"IF(A142=\"\",\"\",IF(D142=0,0,(D142*0.3)/Y142))","v":""},"","",{"$f":"IF(ISBLANK('MIS - Pharmacy'!AC133),\"\",'MIS - Pharmacy'!AC133)","v":""},{"$f":"IF(L142=\"\",\"\",IF(L142<=L$9,\"Lower Outlier\",IF(L142<=L$5,\"Below Average\",IF(L142<=L$6,\"Lower Quartile Range\",IF(L142<=L$7,\"Upper Quartile Range\",IF(L142<=L$10,\"Above Average\",\"Upper Outlier\"))))))","v":""},{"$f":"IF(ISBLANK('MIS - Pharmacy'!AD133),\"\",'MIS - Pharmacy'!AD133)","v":""},{"$f":"IF(N142=\"\",\"\",IF(N142=0,0,L142/N142*1000))","v":""},"",{"$f":"IF('MIS - Pharmacy'!A133=\"\",\"\",SUM('MIS - Pharmacy'!K133+'MIS - Pharmacy'!L133))","v":""},{"$f":"IF(Q142=\"\",\"\",IF(Q142<=Q$9,\"Lower Outlier\",IF(Q142<=Q$5,\"Below Average\",IF(Q142<=Q$6,\"Lower Quartile Range\",IF(Q142<=Q$7,\"Upper Quartile Range\",IF(Q142<=Q$10,\"Above Average\",\"Upper Outlier\"))))))","v":""},{"$f":"IF('MIS - Pharmacy'!A133=\"\",\"\",('MIS - Pharmacy'!AF133+'MIS - Pharmacy'!AH133 +'MIS - Pharmacy'!AG133))","v":""},{"$f":"IF(ISBLANK('MIS - Pharmacy'!AI133),\"\",'MIS - Pharmacy'!AI133)","v":""},{"$f":"IF(T142=\"\",\"\",IF(T142<=T$9,\"Lower Outlier\",IF(T142<=T$5,\"Below Average\",IF(T142<=T$6,\"Lower Quartile Range\",IF(T142<=T$7,\"Upper Quartile Range\",IF(T142<=T$10,\"Above Average\",\"Upper Outlier\"))))))","v":""},"",{"$f":"IF(V142=\"\",\"\",IF(S142 >0,(T142/S142*1000),0))","v":""},{"$f":"IF(ISBLANK('MIS - Pharmacy'!V133),\"\",'MIS - Pharmacy'!V133)","v":""},{"$f":"IF(X142=\"\",\"\",(X142/7)*$Y$3)","v":""},{"$f":"IF(X142=\"\",\"\",IF(X142<=X$9,\"Lower Outlier\",IF(X142<=X$5,\"Below Average\",IF(X142<=X$6,\"Lower Quartile Range\",IF(X142<=X$7,\"Upper Quartile Range\",IF(X142<=X$10,\"Above Average\",\"Upper Outlier\"))))))","v":""},{"$f":"IF(A142=\"\",\"\",IF(X142=0,0,Y142/Q142*1000))","v":""},{"$f":"IF(ISBLANK('MIS - Pharmacy'!J133),\"\",'MIS - Pharmacy'!J133)","v":""},{"$f":"IF(ISBLANK('MIS - Pharmacy'!AY133),\"\",'MIS - Pharmacy'!AY133)","v":""},{"$f":"IF(ISBLANK('MIS - Pharmacy'!BH133),\"\",'MIS - Pharmacy'!BH133)","v":""},"",{"$f":"IF(A142=\"\",\"\",IF(Y142=0,0,(AE142/Y142)*100))","v":""}]
[{"$f":"IF(ISBLANK('MIS - Pharmacy'!A134), \"\",'MIS - Pharmacy'!A134)","v":""},{"$f":"IF(ISBLANK('MIS - Pharmacy'!B134),\"\",('MIS - Pharmacy'!B134&\"(\"&'MIS - Pharmacy'!D134&\")\"))","v":""},{"$f":"IF(ISBLANK('MIS - Pharmacy'!BI134), \"\", 'MIS - Pharmacy'!BI134)","v":""},{"$f":"IF(ISBLANK('MIS - Pharmacy'!U134), \"\", 'MIS - Pharmacy'!U134)","v":""},"","","","","","","",{"$f":"IF(ISBLANK('MIS - Pharmacy'!AC134),\"\",'MIS - Pharmacy'!AC134)","v":""},"",{"$f":"IF(ISBLANK('MIS - Pharmacy'!AD134),\"\",'MIS - Pharmacy'!AD134)","v":""},"","",{"$f":"IF('MIS - Pharmacy'!A134=\"\",\"\",SUM('MIS - Pharmacy'!K134+'MIS - Pharmacy'!L134))","v":""},"",{"$f":"IF('MIS - Pharmacy'!A134=\"\",\"\",('MIS - Pharmacy'!AF134+'MIS - Pharmacy'!AH134 +'MIS - Pharmacy'!AG134))","v":""},{"$f":"IF(ISBLANK('MIS - Pharmacy'!AI134),\"\",'MIS - Pharmacy'!AI134)","v":""},"","","",{"$f":"IF(ISBLANK('MIS - Pharmacy'!V134),\"\",'MIS - Pharmacy'!V134)","v":""},"","","",{"$f":"IF(ISBLANK('MIS - Pharmacy'!J134),\"\",'MIS - Pharmacy'!J134)","v":""},{"$f":"IF(ISBLANK('MIS - Pharmacy'!AY134),\"\",'MIS - Pharmacy'!AY134)","v":""},{"$f":"IF(ISBLANK('MIS - Pharmacy'!BH134),\"\",'MIS - Pharmacy'!BH134)","v":""},"",""]
[{"$f":"IF(ISBLANK('MIS - Pharmacy'!A135), \"\",'MIS - Pharmacy'!A135)","v":""},{"$f":"IF(ISBLANK('MIS - Pharmacy'!B135),\"\",('MIS - Pharmacy'!B135&\"(\"&'MIS - Pharmacy'!D135&\")\"))","v":""},{"$f":"IF(ISBLANK('MIS - Pharmacy'!BI135), \"\", 'MIS - Pharmacy'!BI135)","v":""},{"$f":"IF(ISBLANK('MIS - Pharmacy'!U135), \"\", 'MIS - Pharmacy'!U135)","v":""},"","","","","","","",{"$f":"IF(ISBLANK('MIS - Pharmacy'!AC135),\"\",'MIS - Pharmacy'!AC135)","v":""},"",{"$f":"IF(ISBLANK('MIS - Pharmacy'!AD135),\"\",'MIS - Pharmacy'!AD135)","v":""},"","",{"$f":"IF('MIS - Pharmacy'!A135=\"\",\"\",SUM('MIS - Pharmacy'!K135+'MIS - Pharmacy'!L135))","v":""},"",{"$f":"IF('MIS - Pharmacy'!A135=\"\",\"\",('MIS - Pharmacy'!AF135+'MIS - Pharmacy'!AH135 +'MIS - Pharmacy'!AG135))","v":""},{"$f":"IF(ISBLANK('MIS - Pharmacy'!AI135),\"\",'MIS - Pharmacy'!AI135)","v":""},"","","",{"$f":"IF(ISBLANK('MIS - Pharmacy'!V135),\"\",'MIS - Pharmacy'!V135)","v":""},"","","",{"$f":"IF(ISBLANK('MIS - Pharmacy'!J135),\"\",'MIS - Pharmacy'!J135)","v":""},{"$f":"IF(ISBLANK('MIS - Pharmacy'!AY135),\"\",'MIS - Pharmacy'!AY135)","v":""},{"$f":"IF(ISBLANK('MIS - Pharmacy'!BH135),\"\",'MIS - Pharmacy'!BH135)","v":""},"",""]
[{"$f":"IF(ISBLANK('MIS - Pharmacy'!A136), \"\",'MIS - Pharmacy'!A136)","v":""},{"$f":"IF(ISBLANK('MIS - Pharmacy'!B136),\"\",('MIS - Pharmacy'!B136&\"(\"&'MIS - Pharmacy'!D136&\")\"))","v":""},{"$f":"IF(ISBLANK('MIS - Pharmacy'!BI136), \"\", 'MIS - Pharmacy'!BI136)","v":""},{"$f":"IF(ISBLANK('MIS - Pharmacy'!U136), \"\", 'MIS - Pharmacy'!U136)","v":""},"","","","","","","",{"$f":"IF(ISBLANK('MIS - Pharmacy'!AC136),\"\",'MIS - Pharmacy'!AC136)","v":""},"",{"$f":"IF(ISBLANK('MIS - Pharmacy'!AD136),\"\",'MIS - Pharmacy'!AD136)","v":""},"","",{"$f":"IF('MIS - Pharmacy'!A136=\"\",\"\",SUM('MIS - Pharmacy'!K136+'MIS - Pharmacy'!L136))","v":""},"",{"$f":"IF('MIS - Pharmacy'!A136=\"\",\"\",('MIS - Pharmacy'!AF136+'MIS - Pharmacy'!AH136 +'MIS - Pharmacy'!AG136))","v":""},{"$f":"IF(ISBLANK('MIS - Pharmacy'!AI136),\"\",'MIS - Pharmacy'!AI136)","v":""},"","","",{"$f":"IF(ISBLANK('MIS - Pharmacy'!V136),\"\",'MIS - Pharmacy'!V136)","v":""},"","","",{"$f":"IF(ISBLANK('MIS - Pharmacy'!J136),\"\",'MIS - Pharmacy'!J136)","v":""},{"$f":"IF(ISBLANK('MIS - Pharmacy'!AY136),\"\",'MIS - Pharmacy'!AY136)","v":""},{"$f":"IF(ISBLANK('MIS - Pharmacy'!BH136),\"\",'MIS - Pharmacy'!BH136)","v":""},"",""]
[{"$f":"IF(ISBLANK('MIS - Pharmacy'!A137), \"\",'MIS - Pharmacy'!A137)","v":""},{"$f":"IF(ISBLANK('MIS - Pharmacy'!B137),\"\",('MIS - Pharmacy'!B137&\"(\"&'MIS - Pharmacy'!D137&\")\"))","v":""},{"$f":"IF(ISBLANK('MIS - Pharmacy'!BI137), \"\", 'MIS - Pharmacy'!BI137)","v":""},{"$f":"IF(ISBLANK('MIS - Pharmacy'!U137), \"\", 'MIS - Pharmacy'!U137)","v":""},"","","","","","","",{"$f":"IF(ISBLANK('MIS - Pharmacy'!AC137),\"\",'MIS - Pharmacy'!AC137)","v":""},"",{"$f":"IF(ISBLANK('MIS - Pharmacy'!AD137),\"\",'MIS - Pharmacy'!AD137)","v":""},"","",{"$f":"IF('MIS - Pharmacy'!A137=\"\",\"\",SUM('MIS - Pharmacy'!K137+'MIS - Pharmacy'!L137))","v":""},"",{"$f":"IF('MIS - Pharmacy'!A137=\"\",\"\",('MIS - Pharmacy'!AF137+'MIS - Pharmacy'!AH137 +'MIS - Pharmacy'!AG137))","v":""},{"$f":"IF(ISBLANK('MIS - Pharmacy'!AI137),\"\",'MIS - Pharmacy'!AI137)","v":""},"","","",{"$f":"IF(ISBLANK('MIS - Pharmacy'!V137),\"\",'MIS - Pharmacy'!V137)","v":""},"","","",{"$f":"IF(ISBLANK('MIS - Pharmacy'!J137),\"\",'MIS - Pharmacy'!J137)","v":""},{"$f":"IF(ISBLANK('MIS - Pharmacy'!AY137),\"\",'MIS - Pharmacy'!AY137)","v":""},{"$f":"IF(ISBLANK('MIS - Pharmacy'!BH137),\"\",'MIS - Pharmacy'!BH137)","v":""},"",""]
[{"$f":"IF(ISBLANK('MIS - Pharmacy'!A138), \"\",'MIS - Pharmacy'!A138)","v":""},{"$f":"IF(ISBLANK('MIS - Pharmacy'!B138),\"\",('MIS - Pharmacy'!B138&\"(\"&'MIS - Pharmacy'!D138&\")\"))","v":""},{"$f":"IF(ISBLANK('MIS - Pharmacy'!BI138), \"\", 'MIS - Pharmacy'!BI138)","v":""},{"$f":"IF(ISBLANK('MIS - Pharmacy'!U138), \"\", 'MIS - Pharmacy'!U138)","v":""},"","","","","","","",{"$f":"IF(ISBLANK('MIS - Pharmacy'!AC138),\"\",'MIS - Pharmacy'!AC138)","v":""},"",{"$f":"IF(ISBLANK('MIS - Pharmacy'!AD138),\"\",'MIS - Pharmacy'!AD138)","v":""},"","",{"$f":"IF('MIS - Pharmacy'!A138=\"\",\"\",SUM('MIS - Pharmacy'!K138+'MIS - Pharmacy'!L138))","v":""},"",{"$f":"IF('MIS - Pharmacy'!A138=\"\",\"\",('MIS - Pharmacy'!AF138+'MIS - Pharmacy'!AH138 +'MIS - Pharmacy'!AG138))","v":""},{"$f":"IF(ISBLANK('MIS - Pharmacy'!AI138),\"\",'MIS - Pharmacy'!AI138)","v":""},"","","",{"$f":"IF(ISBLANK('MIS - Pharmacy'!V138),\"\",'MIS - Pharmacy'!V138)","v":""},"","","",{"$f":"IF(ISBLANK('MIS - Pharmacy'!J138),\"\",'MIS - Pharmacy'!J138)","v":""},{"$f":"IF(ISBLANK('MIS - Pharmacy'!AY138),\"\",'MIS - Pharmacy'!AY138)","v":""},{"$f":"IF(ISBLANK('MIS - Pharmacy'!BH138),\"\",'MIS - Pharmacy'!BH138)","v":""},"",""]
[{"$f":"IF(ISBLANK('MIS - Pharmacy'!A139), \"\",'MIS - Pharmacy'!A139)","v":""},{"$f":"IF(ISBLANK('MIS - Pharmacy'!B139),\"\",('MIS - Pharmacy'!B139&\"(\"&'MIS - Pharmacy'!D139&\")\"))","v":""},{"$f":"IF(ISBLANK('MIS - Pharmacy'!BI139), \"\", 'MIS - Pharmacy'!BI139)","v":""},{"$f":"IF(ISBLANK('MIS - Pharmacy'!U139), \"\", 'MIS - Pharmacy'!U139)","v":""},"","","","","","","",{"$f":"IF(ISBLANK('MIS - Pharmacy'!AC139),\"\",'MIS - Pharmacy'!AC139)","v":""},"",{"$f":"IF(ISBLANK('MIS - Pharmacy'!AD139),\"\",'MIS - Pharmacy'!AD139)","v":""},"","",{"$f":"IF('MIS - Pharmacy'!A139=\"\",\"\",SUM('MIS - Pharmacy'!K139+'MIS - Pharmacy'!L139))","v":""},"",{"$f":"IF('MIS - Pharmacy'!A139=\"\",\"\",('MIS - Pharmacy'!AF139+'MIS - Pharmacy'!AH139 +'MIS - Pharmacy'!AG139))","v":""},{"$f":"IF(ISBLANK('MIS - Pharmacy'!AI139),\"\",'MIS - Pharmacy'!AI139)","v":""},"","","",{"$f":"IF(ISBLANK('MIS - Pharmacy'!V139),\"\",'MIS - Pharmacy'!V139)","v":""},"","","",{"$f":"IF(ISBLANK('MIS - Pharmacy'!J139),\"\",'MIS - Pharmacy'!J139)","v":""},{"$f":"IF(ISBLANK('MIS - Pharmacy'!AY139),\"\",'MIS - Pharmacy'!AY139)","v":""},{"$f":"IF(ISBLANK('MIS - Pharmacy'!BH139),\"\",'MIS - Pharmacy'!BH139)","v":""},"",""]
[{"$f":"IF(ISBLANK('MIS - Pharmacy'!A140), \"\",'MIS - Pharmacy'!A140)","v":""},{"$f":"IF(ISBLANK('MIS - Pharmacy'!B140),\"\",('MIS - Pharmacy'!B140&\"(\"&'MIS - Pharmacy'!D140&\")\"))","v":""},{"$f":"IF(ISBLANK('MIS - Pharmacy'!BI140), \"\", 'MIS - Pharmacy'!BI140)","v":""},{"$f":"IF(ISBLANK('MIS - Pharmacy'!U140), \"\", 'MIS - Pharmacy'!U140)","v":""},"","","","","","","",{"$f":"IF(ISBLANK('MIS - Pharmacy'!AC140),\"\",'MIS - Pharmacy'!AC140)","v":""},"",{"$f":"IF(ISBLANK('MIS - Pharmacy'!AD140),\"\",'MIS - Pharmacy'!AD140)","v":""},"","",{"$f":"IF('MIS - Pharmacy'!A140=\"\",\"\",SUM('MIS - Pharmacy'!K140+'MIS - Pharmacy'!L140))","v":""},"",{"$f":"IF('MIS - Pharmacy'!A140=\"\",\"\",('MIS - Pharmacy'!AF140+'MIS - Pharmacy'!AH140 +'MIS - Pharmacy'!AG140))","v":""},{"$f":"IF(ISBLANK('MIS - Pharmacy'!AI140),\"\",'MIS - Pharmacy'!AI140)","v":""},"","","",{"$f":"IF(ISBLANK('MIS - Pharmacy'!V140),\"\",'MIS - Pharmacy'!V140)","v":""},"","","",{"$f":"IF(ISBLANK('MIS - Pharmacy'!J140),\"\",'MIS - Pharmacy'!J140)","v":""},{"$f":"IF(ISBLANK('MIS - Pharmacy'!AY140),\"\",'MIS - Pharmacy'!AY140)","v":""},{"$f":"IF(ISBLANK('MIS - Pharmacy'!BH140),\"\",'MIS - Pharmacy'!BH140)","v":""},"",""]
[{"$f":"IF(ISBLANK('MIS - Pharmacy'!A141), \"\",'MIS - Pharmacy'!A141)","v":""},{"$f":"IF(ISBLANK('MIS - Pharmacy'!B141),\"\",('MIS - Pharmacy'!B141&\"(\"&'MIS - Pharmacy'!D141&\")\"))","v":""},{"$f":"IF(ISBLANK('MIS - Pharmacy'!BI141), \"\", 'MIS - Pharmacy'!BI141)","v":""},{"$f":"IF(ISBLANK('MIS - Pharmacy'!U141), \"\", 'MIS - Pharmacy'!U141)","v":""},"","","","","","","",{"$f":"IF(ISBLANK('MIS - Pharmacy'!AC141),\"\",'MIS - Pharmacy'!AC141)","v":""},"",{"$f":"IF(ISBLANK('MIS - Pharmacy'!AD141),\"\",'MIS - Pharmacy'!AD141)","v":""},"","",{"$f":"IF('MIS - Pharmacy'!A141=\"\",\"\",SUM('MIS - Pharmacy'!K141+'MIS - Pharmacy'!L141))","v":""},"",{"$f":"IF('MIS - Pharmacy'!A141=\"\",\"\",('MIS - Pharmacy'!AF141+'MIS - Pharmacy'!AH141 +'MIS - Pharmacy'!AG141))","v":""},{"$f":"IF(ISBLANK('MIS - Pharmacy'!AI141),\"\",'MIS - Pharmacy'!AI141)","v":""},"","","",{"$f":"IF(ISBLANK('MIS - Pharmacy'!V141),\"\",'MIS - Pharmacy'!V141)","v":""},"","","",{"$f":"IF(ISBLANK('MIS - Pharmacy'!J141),\"\",'MIS - Pharmacy'!J141)","v":""},{"$f":"IF(ISBLANK('MIS - Pharmacy'!AY141),\"\",'MIS - Pharmacy'!AY141)","v":""},{"$f":"IF(ISBLANK('MIS - Pharmacy'!BH141),\"\",'MIS - Pharmacy'!BH141)","v":""},"",""]
[{"$f":"IF(ISBLANK('MIS - Pharmacy'!A142), \"\",'MIS - Pharmacy'!A142)","v":""},{"$f":"IF(ISBLANK('MIS - Pharmacy'!B142),\"\",('MIS - Pharmacy'!B142&\"(\"&'MIS - Pharmacy'!D142&\")\"))","v":""},{"$f":"IF(ISBLANK('MIS - Pharmacy'!BI142), \"\", 'MIS - Pharmacy'!BI142)","v":""},{"$f":"IF(ISBLANK('MIS - Pharmacy'!U142), \"\", 'MIS - Pharmacy'!U142)","v":""},"","","","","","","",{"$f":"IF(ISBLANK('MIS - Pharmacy'!AC142),\"\",'MIS - Pharmacy'!AC142)","v":""},"",{"$f":"IF(ISBLANK('MIS - Pharmacy'!AD142),\"\",'MIS - Pharmacy'!AD142)","v":""},"","",{"$f":"IF('MIS - Pharmacy'!A142=\"\",\"\",SUM('MIS - Pharmacy'!K142+'MIS - Pharmacy'!L142))","v":""},"",{"$f":"IF('MIS - Pharmacy'!A142=\"\",\"\",('MIS - Pharmacy'!AF142+'MIS - Pharmacy'!AH142 +'MIS - Pharmacy'!AG142))","v":""},{"$f":"IF(ISBLANK('MIS - Pharmacy'!AI142),\"\",'MIS - Pharmacy'!AI142)","v":""},"","","",{"$f":"IF(ISBLANK('MIS - Pharmacy'!V142),\"\",'MIS - Pharmacy'!V142)","v":""},"","","",{"$f":"IF(ISBLANK('MIS - Pharmacy'!J142),\"\",'MIS - Pharmacy'!J142)","v":""},{"$f":"IF(ISBLANK('MIS - Pharmacy'!AY142),\"\",'MIS - Pharmacy'!AY142)","v":""},{"$f":"IF(ISBLANK('MIS - Pharmacy'!BH142),\"\",'MIS - Pharmacy'!BH142)","v":""},"",""]
[{"$f":"IF(ISBLANK('MIS - Pharmacy'!A143), \"\",'MIS - Pharmacy'!A143)","v":""},{"$f":"IF(ISBLANK('MIS - Pharmacy'!B143),\"\",('MIS - Pharmacy'!B143&\"(\"&'MIS - Pharmacy'!D143&\")\"))","v":""},{"$f":"IF(ISBLANK('MIS - Pharmacy'!BI143), \"\", 'MIS - Pharmacy'!BI143)","v":""},{"$f":"IF(ISBLANK('MIS - Pharmacy'!U143), \"\", 'MIS - Pharmacy'!U143)","v":""},"","","","","","","",{"$f":"IF(ISBLANK('MIS - Pharmacy'!AC143),\"\",'MIS - Pharmacy'!AC143)","v":""},"",{"$f":"IF(ISBLANK('MIS - Pharmacy'!AD143),\"\",'MIS - Pharmacy'!AD143)","v":""},"","",{"$f":"IF('MIS - Pharmacy'!A143=\"\",\"\",SUM('MIS - Pharmacy'!K143+'MIS - Pharmacy'!L143))","v":""},"",{"$f":"IF('MIS - Pharmacy'!A143=\"\",\"\",('MIS - Pharmacy'!AF143+'MIS - Pharmacy'!AH143 +'MIS - Pharmacy'!AG143))","v":""},{"$f":"IF(ISBLANK('MIS - Pharmacy'!AI143),\"\",'MIS - Pharmacy'!AI143)","v":""},"","","",{"$f":"IF(ISBLANK('MIS - Pharmacy'!V143),\"\",'MIS - Pharmacy'!V143)","v":""},"","","",{"$f":"IF(ISBLANK('MIS - Pharmacy'!J143),\"\",'MIS - Pharmacy'!J143)","v":""},{"$f":"IF(ISBLANK('MIS - Pharmacy'!AY143),\"\",'MIS - Pharmacy'!AY143)","v":""},{"$f":"IF(ISBLANK('MIS - Pharmacy'!BH143),\"\",'MIS - Pharmacy'!BH143)","v":""},"",""]
[{"$f":"IF(ISBLANK('MIS - Pharmacy'!A144), \"\",'MIS - Pharmacy'!A144)","v":""},{"$f":"IF(ISBLANK('MIS - Pharmacy'!B144),\"\",('MIS - Pharmacy'!B144&\"(\"&'MIS - Pharmacy'!D144&\")\"))","v":""},{"$f":"IF(ISBLANK('MIS - Pharmacy'!BI144), \"\", 'MIS - Pharmacy'!BI144)","v":""},{"$f":"IF(ISBLANK('MIS - Pharmacy'!U144), \"\", 'MIS - Pharmacy'!U144)","v":""},"","","","","","","",{"$f":"IF(ISBLANK('MIS - Pharmacy'!AC144),\"\",'MIS - Pharmacy'!AC144)","v":""},"",{"$f":"IF(ISBLANK('MIS - Pharmacy'!AD144),\"\",'MIS - Pharmacy'!AD144)","v":""},"","",{"$f":"IF('MIS - Pharmacy'!A144=\"\",\"\",SUM('MIS - Pharmacy'!K144+'MIS - Pharmacy'!L144))","v":""},"",{"$f":"IF('MIS - Pharmacy'!A144=\"\",\"\",('MIS - Pharmacy'!AF144+'MIS - Pharmacy'!AH144 +'MIS - Pharmacy'!AG144))","v":""},{"$f":"IF(ISBLANK('MIS - Pharmacy'!AI144),\"\",'MIS - Pharmacy'!AI144)","v":""},"","","",{"$f":"IF(ISBLANK('MIS - Pharmacy'!V144),\"\",'MIS - Pharmacy'!V144)","v":""},"","","",{"$f":"IF(ISBLANK('MIS - Pharmacy'!J144),\"\",'MIS - Pharmacy'!J144)","v":""},{"$f":"IF(ISBLANK('MIS - Pharmacy'!AY144),\"\",'MIS - Pharmacy'!AY144)","v":""},{"$f":"IF(ISBLANK('MIS - Pharmacy'!BH144),\"\",'MIS - Pharmacy'!BH144)","v":""},"",""]
[{"$f":"IF(ISBLANK('MIS - Pharmacy'!A145), \"\",'MIS - Pharmacy'!A145)","v":""},{"$f":"IF(ISBLANK('MIS - Pharmacy'!B145),\"\",('MIS - Pharmacy'!B145&\"(\"&'MIS - Pharmacy'!D145&\")\"))","v":""},{"$f":"IF(ISBLANK('MIS - Pharmacy'!BI145), \"\", 'MIS - Pharmacy'!BI145)","v":""},{"$f":"IF(ISBLANK('MIS - Pharmacy'!U145), \"\", 'MIS - Pharmacy'!U145)","v":""},"","","","","","","",{"$f":"IF(ISBLANK('MIS - Pharmacy'!AC145),\"\",'MIS - Pharmacy'!AC145)","v":""},"",{"$f":"IF(ISBLANK('MIS - Pharmacy'!AD145),\"\",'MIS - Pharmacy'!AD145)","v":""},"","",{"$f":"IF('MIS - Pharmacy'!A145=\"\",\"\",SUM('MIS - Pharmacy'!K145+'MIS - Pharmacy'!L145))","v":""},"",{"$f":"IF('MIS - Pharmacy'!A145=\"\",\"\",('MIS - Pharmacy'!AF145+'MIS - Pharmacy'!AH145 +'MIS - Pharmacy'!AG145))","v":""},{"$f":"IF(ISBLANK('MIS - Pharmacy'!AI145),\"\",'MIS - Pharmacy'!AI145)","v":""},"","","",{"$f":"IF(ISBLANK('MIS - Pharmacy'!V145),\"\",'MIS - Pharmacy'!V145)","v":""},"","","",{"$f":"IF(ISBLANK('MIS - Pharmacy'!J145),\"\",'MIS - Pharmacy'!J145)","v":""},{"$f":"IF(ISBLANK('MIS - Pharmacy'!AY145),\"\",'MIS - Pharmacy'!AY145)","v":""},{"$f":"IF(ISBLANK('MIS - Pharmacy'!BH145),\"\",'MIS - Pharmacy'!BH145)","v":""},"",""]
[{"$f":"IF(ISBLANK('MIS - Pharmacy'!A146), \"\",'MIS - Pharmacy'!A146)","v":""},{"$f":"IF(ISBLANK('MIS - Pharmacy'!B146),\"\",('MIS - Pharmacy'!B146&\"(\"&'MIS - Pharmacy'!D146&\")\"))","v":""},{"$f":"IF(ISBLANK('MIS - Pharmacy'!BI146), \"\", 'MIS - Pharmacy'!BI146)","v":""},{"$f":"IF(ISBLANK('MIS - Pharmacy'!U146), \"\", 'MIS - Pharmacy'!U146)","v":""},"","","","","","","",{"$f":"IF(ISBLANK('MIS - Pharmacy'!AC146),\"\",'MIS - Pharmacy'!AC146)","v":""},"",{"$f":"IF(ISBLANK('MIS - Pharmacy'!AD146),\"\",'MIS - Pharmacy'!AD146)","v":""},"","",{"$f":"IF('MIS - Pharmacy'!A146=\"\",\"\",SUM('MIS - Pharmacy'!K146+'MIS - Pharmacy'!L146))","v":""},"",{"$f":"IF('MIS - Pharmacy'!A146=\"\",\"\",('MIS - Pharmacy'!AF146+'MIS - Pharmacy'!AH146 +'MIS - Pharmacy'!AG146))","v":""},{"$f":"IF(ISBLANK('MIS - Pharmacy'!AI146),\"\",'MIS - Pharmacy'!AI146)","v":""},"","","",{"$f":"IF(ISBLANK('MIS - Pharmacy'!V146),\"\",'MIS - Pharmacy'!V146)","v":""},"","","",{"$f":"IF(ISBLANK('MIS - Pharmacy'!J146),\"\",'MIS - Pharmacy'!J146)","v":""},{"$f":"IF(ISBLANK('MIS - Pharmacy'!AY146),\"\",'MIS - Pharmacy'!AY146)","v":""},{"$f":"IF(ISBLANK('MIS - Pharmacy'!BH146),\"\",'MIS - Pharmacy'!BH146)","v":""},"",""]
[{"$f":"IF(ISBLANK('MIS - Pharmacy'!A147), \"\",'MIS - Pharmacy'!A147)","v":""},{"$f":"IF(ISBLANK('MIS - Pharmacy'!B147),\"\",('MIS - Pharmacy'!B147&\"(\"&'MIS - Pharmacy'!D147&\")\"))","v":""},{"$f":"IF(ISBLANK('MIS - Pharmacy'!BI147), \"\", 'MIS - Pharmacy'!BI147)","v":""},{"$f":"IF(ISBLANK('MIS - Pharmacy'!U147), \"\", 'MIS - Pharmacy'!U147)","v":""},"","","","","","","",{"$f":"IF(ISBLANK('MIS - Pharmacy'!AC147),\"\",'MIS - Pharmacy'!AC147)","v":""},"",{"$f":"IF(ISBLANK('MIS - Pharmacy'!AD147),\"\",'MIS - Pharmacy'!AD147)","v":""},"","",{"$f":"IF('MIS - Pharmacy'!A147=\"\",\"\",SUM('MIS - Pharmacy'!K147+'MIS - Pharmacy'!L147))","v":""},"",{"$f":"IF('MIS - Pharmacy'!A147=\"\",\"\",('MIS - Pharmacy'!AF147+'MIS - Pharmacy'!AH147 +'MIS - Pharmacy'!AG147))","v":""},{"$f":"IF(ISBLANK('MIS - Pharmacy'!AI147),\"\",'MIS - Pharmacy'!AI147)","v":""},"","","",{"$f":"IF(ISBLANK('MIS - Pharmacy'!V147),\"\",'MIS - Pharmacy'!V147)","v":""},"","","",{"$f":"IF(ISBLANK('MIS - Pharmacy'!J147),\"\",'MIS - Pharmacy'!J147)","v":""},{"$f":"IF(ISBLANK('MIS - Pharmacy'!AY147),\"\",'MIS - Pharmacy'!AY147)","v":""},{"$f":"IF(ISBLANK('MIS - Pharmacy'!BH147),\"\",'MIS - Pharmacy'!BH147)","v":""},"",""]
[{"$f":"IF(ISBLANK('MIS - Pharmacy'!A148), \"\",'MIS - Pharmacy'!A148)","v":""},{"$f":"IF(ISBLANK('MIS - Pharmacy'!B148),\"\",('MIS - Pharmacy'!B148&\"(\"&'MIS - Pharmacy'!D148&\")\"))","v":""},{"$f":"IF(ISBLANK('MIS - Pharmacy'!BI148), \"\", 'MIS - Pharmacy'!BI148)","v":""},{"$f":"IF(ISBLANK('MIS - Pharmacy'!U148), \"\", 'MIS - Pharmacy'!U148)","v":""},"","","","","","","",{"$f":"IF(ISBLANK('MIS - Pharmacy'!AC148),\"\",'MIS - Pharmacy'!AC148)","v":""},"",{"$f":"IF(ISBLANK('MIS - Pharmacy'!AD148),\"\",'MIS - Pharmacy'!AD148)","v":""},"","",{"$f":"IF('MIS - Pharmacy'!A148=\"\",\"\",SUM('MIS - Pharmacy'!K148+'MIS - Pharmacy'!L148))","v":""},"",{"$f":"IF('MIS - Pharmacy'!A148=\"\",\"\",('MIS - Pharmacy'!AF148+'MIS - Pharmacy'!AH148 +'MIS - Pharmacy'!AG148))","v":""},{"$f":"IF(ISBLANK('MIS - Pharmacy'!AI148),\"\",'MIS - Pharmacy'!AI148)","v":""},"","","",{"$f":"IF(ISBLANK('MIS - Pharmacy'!V148),\"\",'MIS - Pharmacy'!V148)","v":""},"","","",{"$f":"IF(ISBLANK('MIS - Pharmacy'!J148),\"\",'MIS - Pharmacy'!J148)","v":""},{"$f":"IF(ISBLANK('MIS - Pharmacy'!AY148),\"\",'MIS - Pharmacy'!AY148)","v":""},{"$f":"IF(ISBLANK('MIS - Pharmacy'!BH148),\"\",'MIS - Pharmacy'!BH148)","v":""},"",""]
[{"$f":"IF(ISBLANK('MIS - Pharmacy'!A149), \"\",'MIS - Pharmacy'!A149)","v":""},{"$f":"IF(ISBLANK('MIS - Pharmacy'!B149),\"\",('MIS - Pharmacy'!B149&\"(\"&'MIS - Pharmacy'!D149&\")\"))","v":""},{"$f":"IF(ISBLANK('MIS - Pharmacy'!BI149), \"\", 'MIS - Pharmacy'!BI149)","v":""},{"$f":"IF(ISBLANK('MIS - Pharmacy'!U149), \"\", 'MIS - Pharmacy'!U149)","v":""},"","","","","","","",{"$f":"IF(ISBLANK('MIS - Pharmacy'!AC149),\"\",'MIS - Pharmacy'!AC149)","v":""},"",{"$f":"IF(ISBLANK('MIS - Pharmacy'!AD149),\"\",'MIS - Pharmacy'!AD149)","v":""},"","",{"$f":"IF('MIS - Pharmacy'!A149=\"\",\"\",SUM('MIS - Pharmacy'!K149+'MIS - Pharmacy'!L149))","v":""},"",{"$f":"IF('MIS - Pharmacy'!A149=\"\",\"\",('MIS - Pharmacy'!AF149+'MIS - Pharmacy'!AH149 +'MIS - Pharmacy'!AG149))","v":""},{"$f":"IF(ISBLANK('MIS - Pharmacy'!AI149),\"\",'MIS - Pharmacy'!AI149)","v":""},"","","",{"$f":"IF(ISBLANK('MIS - Pharmacy'!V149),\"\",'MIS - Pharmacy'!V149)","v":""},"","","",{"$f":"IF(ISBLANK('MIS - Pharmacy'!J149),\"\",'MIS - Pharmacy'!J149)","v":""},{"$f":"IF(ISBLANK('MIS - Pharmacy'!AY149),\"\",'MIS - Pharmacy'!AY149)","v":""},{"$f":"IF(ISBLANK('MIS - Pharmacy'!BH149),\"\",'MIS - Pharmacy'!BH149)","v":""},"",""]
[{"$f":"IF(ISBLANK('MIS - Pharmacy'!A150), \"\",'MIS - Pharmacy'!A150)","v":""},{"$f":"IF(ISBLANK('MIS - Pharmacy'!B150),\"\",('MIS - Pharmacy'!B150&\"(\"&'MIS - Pharmacy'!D150&\")\"))","v":""},{"$f":"IF(ISBLANK('MIS - Pharmacy'!BI150), \"\", 'MIS - Pharmacy'!BI150)","v":""},{"$f":"IF(ISBLANK('MIS - Pharmacy'!U150), \"\", 'MIS - Pharmacy'!U150)","v":""},"","","","","","","",{"$f":"IF(ISBLANK('MIS - Pharmacy'!AC150),\"\",'MIS - Pharmacy'!AC150)","v":""},"",{"$f":"IF(ISBLANK('MIS - Pharmacy'!AD150),\"\",'MIS - Pharmacy'!AD150)","v":""},"","",{"$f":"IF('MIS - Pharmacy'!A150=\"\",\"\",SUM('MIS - Pharmacy'!K150+'MIS - Pharmacy'!L150))","v":""},"",{"$f":"IF('MIS - Pharmacy'!A150=\"\",\"\",('MIS - Pharmacy'!AF150+'MIS - Pharmacy'!AH150 +'MIS - Pharmacy'!AG150))","v":""},{"$f":"IF(ISBLANK('MIS - Pharmacy'!AI150),\"\",'MIS - Pharmacy'!AI150)","v":""},"","","",{"$f":"IF(ISBLANK('MIS - Pharmacy'!V150),\"\",'MIS - Pharmacy'!V150)","v":""},"","","",{"$f":"IF(ISBLANK('MIS - Pharmacy'!J150),\"\",'MIS - Pharmacy'!J150)","v":""},{"$f":"IF(ISBLANK('MIS - Pharmacy'!AY150),\"\",'MIS - Pharmacy'!AY150)","v":""},{"$f":"IF(ISBLANK('MIS - Pharmacy'!BH150),\"\",'MIS - Pharmacy'!BH150)","v":""},"",""]
[{"$f":"IF(ISBLANK('MIS - Pharmacy'!A151), \"\",'MIS - Pharmacy'!A151)","v":""},{"$f":"IF(ISBLANK('MIS - Pharmacy'!B151),\"\",('MIS - Pharmacy'!B151&\"(\"&'MIS - Pharmacy'!D151&\")\"))","v":""},{"$f":"IF(ISBLANK('MIS - Pharmacy'!BI151), \"\", 'MIS - Pharmacy'!BI151)","v":""},{"$f":"IF(ISBLANK('MIS - Pharmacy'!U151), \"\", 'MIS - Pharmacy'!U151)","v":""},"","","","","","","",{"$f":"IF(ISBLANK('MIS - Pharmacy'!AC151),\"\",'MIS - Pharmacy'!AC151)","v":""},"",{"$f":"IF(ISBLANK('MIS - Pharmacy'!AD151),\"\",'MIS - Pharmacy'!AD151)","v":""},"","",{"$f":"IF('MIS - Pharmacy'!A151=\"\",\"\",SUM('MIS - Pharmacy'!K151+'MIS - Pharmacy'!L151))","v":""},"",{"$f":"IF('MIS - Pharmacy'!A151=\"\",\"\",('MIS - Pharmacy'!AF151+'MIS - Pharmacy'!AH151 +'MIS - Pharmacy'!AG151))","v":""},{"$f":"IF(ISBLANK('MIS - Pharmacy'!AI151),\"\",'MIS - Pharmacy'!AI151)","v":""},"","","",{"$f":"IF(ISBLANK('MIS - Pharmacy'!V151),\"\",'MIS - Pharmacy'!V151)","v":""},"","","",{"$f":"IF(ISBLANK('MIS - Pharmacy'!J151),\"\",'MIS - Pharmacy'!J151)","v":""},{"$f":"IF(ISBLANK('MIS - Pharmacy'!AY151),\"\",'MIS - Pharmacy'!AY151)","v":""},{"$f":"IF(ISBLANK('MIS - Pharmacy'!BH151),\"\",'MIS - Pharmacy'!BH151)","v":""},"",""]
[{"$f":"IF(ISBLANK('MIS - Pharmacy'!A152), \"\",'MIS - Pharmacy'!A152)","v":""},{"$f":"IF(ISBLANK('MIS - Pharmacy'!B152),\"\",('MIS - Pharmacy'!B152&\"(\"&'MIS - Pharmacy'!D152&\")\"))","v":""},{"$f":"IF(ISBLANK('MIS - Pharmacy'!BI152), \"\", 'MIS - Pharmacy'!BI152)","v":""},{"$f":"IF(ISBLANK('MIS - Pharmacy'!U152), \"\", 'MIS - Pharmacy'!U152)","v":""},"","","","","","","",{"$f":"IF(ISBLANK('MIS - Pharmacy'!AC152),\"\",'MIS - Pharmacy'!AC152)","v":""},"",{"$f":"IF(ISBLANK('MIS - Pharmacy'!AD152),\"\",'MIS - Pharmacy'!AD152)","v":""},"","",{"$f":"IF('MIS - Pharmacy'!A152=\"\",\"\",SUM('MIS - Pharmacy'!K152+'MIS - Pharmacy'!L152))","v":""},"",{"$f":"IF('MIS - Pharmacy'!A152=\"\",\"\",('MIS - Pharmacy'!AF152+'MIS - Pharmacy'!AH152 +'MIS - Pharmacy'!AG152))","v":""},{"$f":"IF(ISBLANK('MIS - Pharmacy'!AI152),\"\",'MIS - Pharmacy'!AI152)","v":""},"","","",{"$f":"IF(ISBLANK('MIS - Pharmacy'!V152),\"\",'MIS - Pharmacy'!V152)","v":""},"","","",{"$f":"IF(ISBLANK('MIS - Pharmacy'!J152),\"\",'MIS - Pharmacy'!J152)","v":""},{"$f":"IF(ISBLANK('MIS - Pharmacy'!AY152),\"\",'MIS - Pharmacy'!AY152)","v":""},{"$f":"IF(ISBLANK('MIS - Pharmacy'!BH152),\"\",'MIS - Pharmacy'!BH152)","v":""},"",""]
[{"$f":"IF(ISBLANK('MIS - Pharmacy'!A153), \"\",'MIS - Pharmacy'!A153)","v":""},{"$f":"IF(ISBLANK('MIS - Pharmacy'!B153),\"\",('MIS - Pharmacy'!B153&\"(\"&'MIS - Pharmacy'!D153&\")\"))","v":""},{"$f":"IF(ISBLANK('MIS - Pharmacy'!BI153), \"\", 'MIS - Pharmacy'!BI153)","v":""},{"$f":"IF(ISBLANK('MIS - Pharmacy'!U153), \"\", 'MIS - Pharmacy'!U153)","v":""},"","","","","","","",{"$f":"IF(ISBLANK('MIS - Pharmacy'!AC153),\"\",'MIS - Pharmacy'!AC153)","v":""},"",{"$f":"IF(ISBLANK('MIS - Pharmacy'!AD153),\"\",'MIS - Pharmacy'!AD153)","v":""},"","",{"$f":"IF('MIS - Pharmacy'!A153=\"\",\"\",SUM('MIS - Pharmacy'!K153+'MIS - Pharmacy'!L153))","v":""},"",{"$f":"IF('MIS - Pharmacy'!A153=\"\",\"\",('MIS - Pharmacy'!AF153+'MIS - Pharmacy'!AH153 +'MIS - Pharmacy'!AG153))","v":""},{"$f":"IF(ISBLANK('MIS - Pharmacy'!AI153),\"\",'MIS - Pharmacy'!AI153)","v":""},"","","",{"$f":"IF(ISBLANK('MIS - Pharmacy'!V153),\"\",'MIS - Pharmacy'!V153)","v":""},"","","",{"$f":"IF(ISBLANK('MIS - Pharmacy'!J153),\"\",'MIS - Pharmacy'!J153)","v":""},{"$f":"IF(ISBLANK('MIS - Pharmacy'!AY153),\"\",'MIS - Pharmacy'!AY153)","v":""},{"$f":"IF(ISBLANK('MIS - Pharmacy'!BH153),\"\",'MIS - Pharmacy'!BH153)","v":""},"",""]
[{"$f":"IF(ISBLANK('MIS - Pharmacy'!A154), \"\",'MIS - Pharmacy'!A154)","v":""},{"$f":"IF(ISBLANK('MIS - Pharmacy'!B154),\"\",('MIS - Pharmacy'!B154&\"(\"&'MIS - Pharmacy'!D154&\")\"))","v":""},{"$f":"IF(ISBLANK('MIS - Pharmacy'!BI154), \"\", 'MIS - Pharmacy'!BI154)","v":""},{"$f":"IF(ISBLANK('MIS - Pharmacy'!U154), \"\", 'MIS - Pharmacy'!U154)","v":""},"","","","","","","",{"$f":"IF(ISBLANK('MIS - Pharmacy'!AC154),\"\",'MIS - Pharmacy'!AC154)","v":""},"",{"$f":"IF(ISBLANK('MIS - Pharmacy'!AD154),\"\",'MIS - Pharmacy'!AD154)","v":""},"","",{"$f":"IF('MIS - Pharmacy'!A154=\"\",\"\",SUM('MIS - Pharmacy'!K154+'MIS - Pharmacy'!L154))","v":""},"",{"$f":"IF('MIS - Pharmacy'!A154=\"\",\"\",('MIS - Pharmacy'!AF154+'MIS - Pharmacy'!AH154 +'MIS - Pharmacy'!AG154))","v":""},{"$f":"IF(ISBLANK('MIS - Pharmacy'!AI154),\"\",'MIS - Pharmacy'!AI154)","v":""},"","","",{"$f":"IF(ISBLANK('MIS - Pharmacy'!V154),\"\",'MIS - Pharmacy'!V154)","v":""},"","","",{"$f":"IF(ISBLANK('MIS - Pharmacy'!J154),\"\",'MIS - Pharmacy'!J154)","v":""},{"$f":"IF(ISBLANK('MIS - Pharmacy'!AY154),\"\",'MIS - Pharmacy'!AY154)","v":""},{"$f":"IF(ISBLANK('MIS - Pharmacy'!BH154),\"\",'MIS - Pharmacy'!BH154)","v":""},"",""]
[{"$f":"IF(ISBLANK('MIS - Pharmacy'!A155), \"\",'MIS - Pharmacy'!A155)","v":""},{"$f":"IF(ISBLANK('MIS - Pharmacy'!B155),\"\",('MIS - Pharmacy'!B155&\"(\"&'MIS - Pharmacy'!D155&\")\"))","v":""},{"$f":"IF(ISBLANK('MIS - Pharmacy'!BI155), \"\", 'MIS - Pharmacy'!BI155)","v":""},{"$f":"IF(ISBLANK('MIS - Pharmacy'!U155), \"\", 'MIS - Pharmacy'!U155)","v":""},"","","","","","","",{"$f":"IF(ISBLANK('MIS - Pharmacy'!AC155),\"\",'MIS - Pharmacy'!AC155)","v":""},"",{"$f":"IF(ISBLANK('MIS - Pharmacy'!AD155),\"\",'MIS - Pharmacy'!AD155)","v":""},"","",{"$f":"IF('MIS - Pharmacy'!A155=\"\",\"\",SUM('MIS - Pharmacy'!K155+'MIS - Pharmacy'!L155))","v":""},"",{"$f":"IF('MIS - Pharmacy'!A155=\"\",\"\",('MIS - Pharmacy'!AF155+'MIS - Pharmacy'!AH155 +'MIS - Pharmacy'!AG155))","v":""},{"$f":"IF(ISBLANK('MIS - Pharmacy'!AI155),\"\",'MIS - Pharmacy'!AI155)","v":""},"","","",{"$f":"IF(ISBLANK('MIS - Pharmacy'!V155),\"\",'MIS - Pharmacy'!V155)","v":""},"","","",{"$f":"IF(ISBLANK('MIS - Pharmacy'!J155),\"\",'MIS - Pharmacy'!J155)","v":""},{"$f":"IF(ISBLANK('MIS - Pharmacy'!AY155),\"\",'MIS - Pharmacy'!AY155)","v":""},{"$f":"IF(ISBLANK('MIS - Pharmacy'!BH155),\"\",'MIS - Pharmacy'!BH155)","v":""},"",""]
[{"$f":"IF(ISBLANK('MIS - Pharmacy'!A156), \"\",'MIS - Pharmacy'!A156)","v":""},{"$f":"IF(ISBLANK('MIS - Pharmacy'!B156),\"\",('MIS - Pharmacy'!B156&\"(\"&'MIS - Pharmacy'!D156&\")\"))","v":""},{"$f":"IF(ISBLANK('MIS - Pharmacy'!BI156), \"\", 'MIS - Pharmacy'!BI156)","v":""},{"$f":"IF(ISBLANK('MIS - Pharmacy'!U156), \"\", 'MIS - Pharmacy'!U156)","v":""},"","","","","","","",{"$f":"IF(ISBLANK('MIS - Pharmacy'!AC156),\"\",'MIS - Pharmacy'!AC156)","v":""},"",{"$f":"IF(ISBLANK('MIS - Pharmacy'!AD156),\"\",'MIS - Pharmacy'!AD156)","v":""},"","",{"$f":"IF('MIS - Pharmacy'!A156=\"\",\"\",SUM('MIS - Pharmacy'!K156+'MIS - Pharmacy'!L156))","v":""},"",{"$f":"IF('MIS - Pharmacy'!A156=\"\",\"\",('MIS - Pharmacy'!AF156+'MIS - Pharmacy'!AH156 +'MIS - Pharmacy'!AG156))","v":""},{"$f":"IF(ISBLANK('MIS - Pharmacy'!AI156),\"\",'MIS - Pharmacy'!AI156)","v":""},"","","",{"$f":"IF(ISBLANK('MIS - Pharmacy'!V156),\"\",'MIS - Pharmacy'!V156)","v":""},"","","",{"$f":"IF(ISBLANK('MIS - Pharmacy'!J156),\"\",'MIS - Pharmacy'!J156)","v":""},{"$f":"IF(ISBLANK('MIS - Pharmacy'!AY156),\"\",'MIS - Pharmacy'!AY156)","v":""},{"$f":"IF(ISBLANK('MIS - Pharmacy'!BH156),\"\",'MIS - Pharmacy'!BH156)","v":""},"",""]
[{"$f":"IF(ISBLANK('MIS - Pharmacy'!A157), \"\",'MIS - Pharmacy'!A157)","v":""},{"$f":"IF(ISBLANK('MIS - Pharmacy'!B157),\"\",('MIS - Pharmacy'!B157&\"(\"&'MIS - Pharmacy'!D157&\")\"))","v":""},{"$f":"IF(ISBLANK('MIS - Pharmacy'!BI157), \"\", 'MIS - Pharmacy'!BI157)","v":""},{"$f":"IF(ISBLANK('MIS - Pharmacy'!U157), \"\", 'MIS - Pharmacy'!U157)","v":""},"","","","","","","",{"$f":"IF(ISBLANK('MIS - Pharmacy'!AC157),\"\",'MIS - Pharmacy'!AC157)","v":""},"",{"$f":"IF(ISBLANK('MIS - Pharmacy'!AD157),\"\",'MIS - Pharmacy'!AD157)","v":""},"","",{"$f":"IF('MIS - Pharmacy'!A157=\"\",\"\",SUM('MIS - Pharmacy'!K157+'MIS - Pharmacy'!L157))","v":""},"",{"$f":"IF('MIS - Pharmacy'!A157=\"\",\"\",('MIS - Pharmacy'!AF157+'MIS - Pharmacy'!AH157 +'MIS - Pharmacy'!AG157))","v":""},{"$f":"IF(ISBLANK('MIS - Pharmacy'!AI157),\"\",'MIS - Pharmacy'!AI157)","v":""},"","","",{"$f":"IF(ISBLANK('MIS - Pharmacy'!V157),\"\",'MIS - Pharmacy'!V157)","v":""},"","","",{"$f":"IF(ISBLANK('MIS - Pharmacy'!J157),\"\",'MIS - Pharmacy'!J157)","v":""},{"$f":"IF(ISBLANK('MIS - Pharmacy'!AY157),\"\",'MIS - Pharmacy'!AY157)","v":""},{"$f":"IF(ISBLANK('MIS - Pharmacy'!BH157),\"\",'MIS - Pharmacy'!BH157)","v":""},"",""]
[{"$f":"IF(ISBLANK('MIS - Pharmacy'!A158), \"\",'MIS - Pharmacy'!A158)","v":""},{"$f":"IF(ISBLANK('MIS - Pharmacy'!B158),\"\",('MIS - Pharmacy'!B158&\"(\"&'MIS - Pharmacy'!D158&\")\"))","v":""},{"$f":"IF(ISBLANK('MIS - Pharmacy'!BI158), \"\", 'MIS - Pharmacy'!BI158)","v":""},{"$f":"IF(ISBLANK('MIS - Pharmacy'!U158), \"\", 'MIS - Pharmacy'!U158)","v":""},"","","","","","","",{"$f":"IF(ISBLANK('MIS - Pharmacy'!AC158),\"\",'MIS - Pharmacy'!AC158)","v":""},"",{"$f":"IF(ISBLANK('MIS - Pharmacy'!AD158),\"\",'MIS - Pharmacy'!AD158)","v":""},"","",{"$f":"IF('MIS - Pharmacy'!A158=\"\",\"\",SUM('MIS - Pharmacy'!K158+'MIS - Pharmacy'!L158))","v":""},"",{"$f":"IF('MIS - Pharmacy'!A158=\"\",\"\",('MIS - Pharmacy'!AF158+'MIS - Pharmacy'!AH158 +'MIS - Pharmacy'!AG158))","v":""},{"$f":"IF(ISBLANK('MIS - Pharmacy'!AI158),\"\",'MIS - Pharmacy'!AI158)","v":""},"","","",{"$f":"IF(ISBLANK('MIS - Pharmacy'!V158),\"\",'MIS - Pharmacy'!V158)","v":""},"","","",{"$f":"IF(ISBLANK('MIS - Pharmacy'!J158),\"\",'MIS - Pharmacy'!J158)","v":""},{"$f":"IF(ISBLANK('MIS - Pharmacy'!AY158),\"\",'MIS - Pharmacy'!AY158)","v":""},{"$f":"IF(ISBLANK('MIS - Pharmacy'!BH158),\"\",'MIS - Pharmacy'!BH158)","v":""},"",""]
[{"$f":"IF(ISBLANK('MIS - Pharmacy'!A159), \"\",'MIS - Pharmacy'!A159)","v":""},{"$f":"IF(ISBLANK('MIS - Pharmacy'!B159),\"\",('MIS - Pharmacy'!B159&\"(\"&'MIS - Pharmacy'!D159&\")\"))","v":""},{"$f":"IF(ISBLANK('MIS - Pharmacy'!BI159), \"\", 'MIS - Pharmacy'!BI159)","v":""},{"$f":"IF(ISBLANK('MIS - Pharmacy'!U159), \"\", 'MIS - Pharmacy'!U159)","v":""},"","","","","","","",{"$f":"IF(ISBLANK('MIS - Pharmacy'!AC159),\"\",'MIS - Pharmacy'!AC159)","v":""},"",{"$f":"IF(ISBLANK('MIS - Pharmacy'!AD159),\"\",'MIS - Pharmacy'!AD159)","v":""},"","",{"$f":"IF('MIS - Pharmacy'!A159=\"\",\"\",SUM('MIS - Pharmacy'!K159+'MIS - Pharmacy'!L159))","v":""},"",{"$f":"IF('MIS - Pharmacy'!A159=\"\",\"\",('MIS - Pharmacy'!AF159+'MIS - Pharmacy'!AH159 +'MIS - Pharmacy'!AG159))","v":""},{"$f":"IF(ISBLANK('MIS - Pharmacy'!AI159),\"\",'MIS - Pharmacy'!AI159)","v":""},"","","",{"$f":"IF(ISBLANK('MIS - Pharmacy'!V159),\"\",'MIS - Pharmacy'!V159)","v":""},"","","",{"$f":"IF(ISBLANK('MIS - Pharmacy'!J159),\"\",'MIS - Pharmacy'!J159)","v":""},{"$f":"IF(ISBLANK('MIS - Pharmacy'!AY159),\"\",'MIS - Pharmacy'!AY159)","v":""},{"$f":"IF(ISBLANK('MIS - Pharmacy'!BH159),\"\",'MIS - Pharmacy'!BH159)","v":""},"",""]
[{"$f":"IF(ISBLANK('MIS - Pharmacy'!A160), \"\",'MIS - Pharmacy'!A160)","v":""},{"$f":"IF(ISBLANK('MIS - Pharmacy'!B160),\"\",('MIS - Pharmacy'!B160&\"(\"&'MIS - Pharmacy'!D160&\")\"))","v":""},{"$f":"IF(ISBLANK('MIS - Pharmacy'!BI160), \"\", 'MIS - Pharmacy'!BI160)","v":""},{"$f":"IF(ISBLANK('MIS - Pharmacy'!U160), \"\", 'MIS - Pharmacy'!U160)","v":""},"","","","","","","",{"$f":"IF(ISBLANK('MIS - Pharmacy'!AC160),\"\",'MIS - Pharmacy'!AC160)","v":""},"",{"$f":"IF(ISBLANK('MIS - Pharmacy'!AD160),\"\",'MIS - Pharmacy'!AD160)","v":""},"","",{"$f":"IF('MIS - Pharmacy'!A160=\"\",\"\",SUM('MIS - Pharmacy'!K160+'MIS - Pharmacy'!L160))","v":""},"",{"$f":"IF('MIS - Pharmacy'!A160=\"\",\"\",('MIS - Pharmacy'!AF160+'MIS - Pharmacy'!AH160 +'MIS - Pharmacy'!AG160))","v":""},{"$f":"IF(ISBLANK('MIS - Pharmacy'!AI160),\"\",'MIS - Pharmacy'!AI160)","v":""},"","","",{"$f":"IF(ISBLANK('MIS - Pharmacy'!V160),\"\",'MIS - Pharmacy'!V160)","v":""},"","","",{"$f":"IF(ISBLANK('MIS - Pharmacy'!J160),\"\",'MIS - Pharmacy'!J160)","v":""},{"$f":"IF(ISBLANK('MIS - Pharmacy'!AY160),\"\",'MIS - Pharmacy'!AY160)","v":""},{"$f":"IF(ISBLANK('MIS - Pharmacy'!BH160),\"\",'MIS - Pharmacy'!BH160)","v":""},"",""]
[{"$f":"IF(ISBLANK('MIS - Pharmacy'!A161), \"\",'MIS - Pharmacy'!A161)","v":""},{"$f":"IF(ISBLANK('MIS - Pharmacy'!B161),\"\",('MIS - Pharmacy'!B161&\"(\"&'MIS - Pharmacy'!D161&\")\"))","v":""},{"$f":"IF(ISBLANK('MIS - Pharmacy'!BI161), \"\", 'MIS - Pharmacy'!BI161)","v":""},{"$f":"IF(ISBLANK('MIS - Pharmacy'!U161), \"\", 'MIS - Pharmacy'!U161)","v":""},"","","","","","","",{"$f":"IF(ISBLANK('MIS - Pharmacy'!AC161),\"\",'MIS - Pharmacy'!AC161)","v":""},"",{"$f":"IF(ISBLANK('MIS - Pharmacy'!AD161),\"\",'MIS - Pharmacy'!AD161)","v":""},"","",{"$f":"IF('MIS - Pharmacy'!A161=\"\",\"\",SUM('MIS - Pharmacy'!K161+'MIS - Pharmacy'!L161))","v":""},"",{"$f":"IF('MIS - Pharmacy'!A161=\"\",\"\",('MIS - Pharmacy'!AF161+'MIS - Pharmacy'!AH161 +'MIS - Pharmacy'!AG161))","v":""},{"$f":"IF(ISBLANK('MIS - Pharmacy'!AI161),\"\",'MIS - Pharmacy'!AI161)","v":""},"","","",{"$f":"IF(ISBLANK('MIS - Pharmacy'!V161),\"\",'MIS - Pharmacy'!V161)","v":""},"","","",{"$f":"IF(ISBLANK('MIS - Pharmacy'!J161),\"\",'MIS - Pharmacy'!J161)","v":""},{"$f":"IF(ISBLANK('MIS - Pharmacy'!AY161),\"\",'MIS - Pharmacy'!AY161)","v":""},{"$f":"IF(ISBLANK('MIS - Pharmacy'!BH161),\"\",'MIS - Pharmacy'!BH161)","v":""},"",""]
[{"$f":"IF(ISBLANK('MIS - Pharmacy'!A162), \"\",'MIS - Pharmacy'!A162)","v":""},{"$f":"IF(ISBLANK('MIS - Pharmacy'!B162),\"\",('MIS - Pharmacy'!B162&\"(\"&'MIS - Pharmacy'!D162&\")\"))","v":""},{"$f":"IF(ISBLANK('MIS - Pharmacy'!BI162), \"\", 'MIS - Pharmacy'!BI162)","v":""},{"$f":"IF(ISBLANK('MIS - Pharmacy'!U162), \"\", 'MIS - Pharmacy'!U162)","v":""},"","","","","","","",{"$f":"IF(ISBLANK('MIS - Pharmacy'!AC162),\"\",'MIS - Pharmacy'!AC162)","v":""},"",{"$f":"IF(ISBLANK('MIS - Pharmacy'!AD162),\"\",'MIS - Pharmacy'!AD162)","v":""},"","",{"$f":"IF('MIS - Pharmacy'!A162=\"\",\"\",SUM('MIS - Pharmacy'!K162+'MIS - Pharmacy'!L162))","v":""},"",{"$f":"IF('MIS - Pharmacy'!A162=\"\",\"\",('MIS - Pharmacy'!AF162+'MIS - Pharmacy'!AH162 +'MIS - Pharmacy'!AG162))","v":""},{"$f":"IF(ISBLANK('MIS - Pharmacy'!AI162),\"\",'MIS - Pharmacy'!AI162)","v":""},"","","",{"$f":"IF(ISBLANK('MIS - Pharmacy'!V162),\"\",'MIS - Pharmacy'!V162)","v":""},"","","",{"$f":"IF(ISBLANK('MIS - Pharmacy'!J162),\"\",'MIS - Pharmacy'!J162)","v":""},{"$f":"IF(ISBLANK('MIS - Pharmacy'!AY162),\"\",'MIS - Pharmacy'!AY162)","v":""},{"$f":"IF(ISBLANK('MIS - Pharmacy'!BH162),\"\",'MIS - Pharmacy'!BH162)","v":""},"",""]
[{"$f":"IF(ISBLANK('MIS - Pharmacy'!A163), \"\",'MIS - Pharmacy'!A163)","v":""},{"$f":"IF(ISBLANK('MIS - Pharmacy'!B163),\"\",('MIS - Pharmacy'!B163&\"(\"&'MIS - Pharmacy'!D163&\")\"))","v":""},{"$f":"IF(ISBLANK('MIS - Pharmacy'!BI163), \"\", 'MIS - Pharmacy'!BI163)","v":""},{"$f":"IF(ISBLANK('MIS - Pharmacy'!U163), \"\", 'MIS - Pharmacy'!U163)","v":""},"","","","","","","",{"$f":"IF(ISBLANK('MIS - Pharmacy'!AC163),\"\",'MIS - Pharmacy'!AC163)","v":""},"",{"$f":"IF(ISBLANK('MIS - Pharmacy'!AD163),\"\",'MIS - Pharmacy'!AD163)","v":""},"","",{"$f":"IF('MIS - Pharmacy'!A163=\"\",\"\",SUM('MIS - Pharmacy'!K163+'MIS - Pharmacy'!L163))","v":""},"",{"$f":"IF('MIS - Pharmacy'!A163=\"\",\"\",('MIS - Pharmacy'!AF163+'MIS - Pharmacy'!AH163 +'MIS - Pharmacy'!AG163))","v":""},{"$f":"IF(ISBLANK('MIS - Pharmacy'!AI163),\"\",'MIS - Pharmacy'!AI163)","v":""},"","","",{"$f":"IF(ISBLANK('MIS - Pharmacy'!V163),\"\",'MIS - Pharmacy'!V163)","v":""},"","","",{"$f":"IF(ISBLANK('MIS - Pharmacy'!J163),\"\",'MIS - Pharmacy'!J163)","v":""},{"$f":"IF(ISBLANK('MIS - Pharmacy'!AY163),\"\",'MIS - Pharmacy'!AY163)","v":""},{"$f":"IF(ISBLANK('MIS - Pharmacy'!BH163),\"\",'MIS - Pharmacy'!BH163)","v":""},"",""]
[{"$f":"IF(ISBLANK('MIS - Pharmacy'!A164), \"\",'MIS - Pharmacy'!A164)","v":""},{"$f":"IF(ISBLANK('MIS - Pharmacy'!B164),\"\",('MIS - Pharmacy'!B164&\"(\"&'MIS - Pharmacy'!D164&\")\"))","v":""},{"$f":"IF(ISBLANK('MIS - Pharmacy'!BI164), \"\", 'MIS - Pharmacy'!BI164)","v":""},{"$f":"IF(ISBLANK('MIS - Pharmacy'!U164), \"\", 'MIS - Pharmacy'!U164)","v":""},"","","","","","","",{"$f":"IF(ISBLANK('MIS - Pharmacy'!AC164),\"\",'MIS - Pharmacy'!AC164)","v":""},"",{"$f":"IF(ISBLANK('MIS - Pharmacy'!AD164),\"\",'MIS - Pharmacy'!AD164)","v":""},"","",{"$f":"IF('MIS - Pharmacy'!A164=\"\",\"\",SUM('MIS - Pharmacy'!K164+'MIS - Pharmacy'!L164))","v":""},"",{"$f":"IF('MIS - Pharmacy'!A164=\"\",\"\",('MIS - Pharmacy'!AF164+'MIS - Pharmacy'!AH164 +'MIS - Pharmacy'!AG164))","v":""},{"$f":"IF(ISBLANK('MIS - Pharmacy'!AI164),\"\",'MIS - Pharmacy'!AI164)","v":""},"","","",{"$f":"IF(ISBLANK('MIS - Pharmacy'!V164),\"\",'MIS - Pharmacy'!V164)","v":""},"","","",{"$f":"IF(ISBLANK('MIS - Pharmacy'!J164),\"\",'MIS - Pharmacy'!J164)","v":""},{"$f":"IF(ISBLANK('MIS - Pharmacy'!AY164),\"\",'MIS - Pharmacy'!AY164)","v":""},{"$f":"IF(ISBLANK('MIS - Pharmacy'!BH164),\"\",'MIS - Pharmacy'!BH164)","v":""},"",""]
[{"$f":"IF(ISBLANK('MIS - Pharmacy'!A165), \"\",'MIS - Pharmacy'!A165)","v":""},{"$f":"IF(ISBLANK('MIS - Pharmacy'!B165),\"\",('MIS - Pharmacy'!B165&\"(\"&'MIS - Pharmacy'!D165&\")\"))","v":""},{"$f":"IF(ISBLANK('MIS - Pharmacy'!BI165), \"\", 'MIS - Pharmacy'!BI165)","v":""},{"$f":"IF(ISBLANK('MIS - Pharmacy'!U165), \"\", 'MIS - Pharmacy'!U165)","v":""},"","","","","","","",{"$f":"IF(ISBLANK('MIS - Pharmacy'!AC165),\"\",'MIS - Pharmacy'!AC165)","v":""},"",{"$f":"IF(ISBLANK('MIS - Pharmacy'!AD165),\"\",'MIS - Pharmacy'!AD165)","v":""},"","",{"$f":"IF('MIS - Pharmacy'!A165=\"\",\"\",SUM('MIS - Pharmacy'!K165+'MIS - Pharmacy'!L165))","v":""},"",{"$f":"IF('MIS - Pharmacy'!A165=\"\",\"\",('MIS - Pharmacy'!AF165+'MIS - Pharmacy'!AH165 +'MIS - Pharmacy'!AG165))","v":""},{"$f":"IF(ISBLANK('MIS - Pharmacy'!AI165),\"\",'MIS - Pharmacy'!AI165)","v":""},"","","",{"$f":"IF(ISBLANK('MIS - Pharmacy'!V165),\"\",'MIS - Pharmacy'!V165)","v":""},"","","",{"$f":"IF(ISBLANK('MIS - Pharmacy'!J165),\"\",'MIS - Pharmacy'!J165)","v":""},{"$f":"IF(ISBLANK('MIS - Pharmacy'!AY165),\"\",'MIS - Pharmacy'!AY165)","v":""},{"$f":"IF(ISBLANK('MIS - Pharmacy'!BH165),\"\",'MIS - Pharmacy'!BH165)","v":""},"",""]
[{"$f":"IF(ISBLANK('MIS - Pharmacy'!A166), \"\",'MIS - Pharmacy'!A166)","v":""},{"$f":"IF(ISBLANK('MIS - Pharmacy'!B166),\"\",('MIS - Pharmacy'!B166&\"(\"&'MIS - Pharmacy'!D166&\")\"))","v":""},{"$f":"IF(ISBLANK('MIS - Pharmacy'!BI166), \"\", 'MIS - Pharmacy'!BI166)","v":""},{"$f":"IF(ISBLANK('MIS - Pharmacy'!U166), \"\", 'MIS - Pharmacy'!U166)","v":""},"","","","","","","",{"$f":"IF(ISBLANK('MIS - Pharmacy'!AC166),\"\",'MIS - Pharmacy'!AC166)","v":""},"",{"$f":"IF(ISBLANK('MIS - Pharmacy'!AD166),\"\",'MIS - Pharmacy'!AD166)","v":""},"","",{"$f":"IF('MIS - Pharmacy'!A166=\"\",\"\",SUM('MIS - Pharmacy'!K166+'MIS - Pharmacy'!L166))","v":""},"",{"$f":"IF('MIS - Pharmacy'!A166=\"\",\"\",('MIS - Pharmacy'!AF166+'MIS - Pharmacy'!AH166 +'MIS - Pharmacy'!AG166))","v":""},{"$f":"IF(ISBLANK('MIS - Pharmacy'!AI166),\"\",'MIS - Pharmacy'!AI166)","v":""},"","","",{"$f":"IF(ISBLANK('MIS - Pharmacy'!V166),\"\",'MIS - Pharmacy'!V166)","v":""},"","","",{"$f":"IF(ISBLANK('MIS - Pharmacy'!J166),\"\",'MIS - Pharmacy'!J166)","v":""},{"$f":"IF(ISBLANK('MIS - Pharmacy'!AY166),\"\",'MIS - Pharmacy'!AY166)","v":""},{"$f":"IF(ISBLANK('MIS - Pharmacy'!BH166),\"\",'MIS - Pharmacy'!BH166)","v":""},"",""]
[{"$f":"IF(ISBLANK('MIS - Pharmacy'!A167), \"\",'MIS - Pharmacy'!A167)","v":""},{"$f":"IF(ISBLANK('MIS - Pharmacy'!B167),\"\",('MIS - Pharmacy'!B167&\"(\"&'MIS - Pharmacy'!D167&\")\"))","v":""},{"$f":"IF(ISBLANK('MIS - Pharmacy'!BI167), \"\", 'MIS - Pharmacy'!BI167)","v":""},{"$f":"IF(ISBLANK('MIS - Pharmacy'!U167), \"\", 'MIS - Pharmacy'!U167)","v":""},"","","","","","","",{"$f":"IF(ISBLANK('MIS - Pharmacy'!AC167),\"\",'MIS - Pharmacy'!AC167)","v":""},"",{"$f":"IF(ISBLANK('MIS - Pharmacy'!AD167),\"\",'MIS - Pharmacy'!AD167)","v":""},"","",{"$f":"IF('MIS - Pharmacy'!A167=\"\",\"\",SUM('MIS - Pharmacy'!K167+'MIS - Pharmacy'!L167))","v":""},"",{"$f":"IF('MIS - Pharmacy'!A167=\"\",\"\",('MIS - Pharmacy'!AF167+'MIS - Pharmacy'!AH167 +'MIS - Pharmacy'!AG167))","v":""},{"$f":"IF(ISBLANK('MIS - Pharmacy'!AI167),\"\",'MIS - Pharmacy'!AI167)","v":""},"","","",{"$f":"IF(ISBLANK('MIS - Pharmacy'!V167),\"\",'MIS - Pharmacy'!V167)","v":""},"","","",{"$f":"IF(ISBLANK('MIS - Pharmacy'!J167),\"\",'MIS - Pharmacy'!J167)","v":""},{"$f":"IF(ISBLANK('MIS - Pharmacy'!AY167),\"\",'MIS - Pharmacy'!AY167)","v":""},{"$f":"IF(ISBLANK('MIS - Pharmacy'!BH167),\"\",'MIS - Pharmacy'!BH167)","v":""},"",""]
[{"$f":"IF(ISBLANK('MIS - Pharmacy'!A168), \"\",'MIS - Pharmacy'!A168)","v":""},{"$f":"IF(ISBLANK('MIS - Pharmacy'!B168),\"\",('MIS - Pharmacy'!B168&\"(\"&'MIS - Pharmacy'!D168&\")\"))","v":""},{"$f":"IF(ISBLANK('MIS - Pharmacy'!BI168), \"\", 'MIS - Pharmacy'!BI168)","v":""},{"$f":"IF(ISBLANK('MIS - Pharmacy'!U168), \"\", 'MIS - Pharmacy'!U168)","v":""},"","","","","","","",{"$f":"IF(ISBLANK('MIS - Pharmacy'!AC168),\"\",'MIS - Pharmacy'!AC168)","v":""},"",{"$f":"IF(ISBLANK('MIS - Pharmacy'!AD168),\"\",'MIS - Pharmacy'!AD168)","v":""},"","",{"$f":"IF('MIS - Pharmacy'!A168=\"\",\"\",SUM('MIS - Pharmacy'!K168+'MIS - Pharmacy'!L168))","v":""},"",{"$f":"IF('MIS - Pharmacy'!A168=\"\",\"\",('MIS - Pharmacy'!AF168+'MIS - Pharmacy'!AH168 +'MIS - Pharmacy'!AG168))","v":""},{"$f":"IF(ISBLANK('MIS - Pharmacy'!AI168),\"\",'MIS - Pharmacy'!AI168)","v":""},"","","",{"$f":"IF(ISBLANK('MIS - Pharmacy'!V168),\"\",'MIS - Pharmacy'!V168)","v":""},"","","",{"$f":"IF(ISBLANK('MIS - Pharmacy'!J168),\"\",'MIS - Pharmacy'!J168)","v":""},{"$f":"IF(ISBLANK('MIS - Pharmacy'!AY168),\"\",'MIS - Pharmacy'!AY168)","v":""},{"$f":"IF(ISBLANK('MIS - Pharmacy'!BH168),\"\",'MIS - Pharmacy'!BH168)","v":""},"",""]
[{"$f":"IF(ISBLANK('MIS - Pharmacy'!A169), \"\",'MIS - Pharmacy'!A169)","v":""},{"$f":"IF(ISBLANK('MIS - Pharmacy'!B169),\"\",('MIS - Pharmacy'!B169&\"(\"&'MIS - Pharmacy'!D169&\")\"))","v":""},{"$f":"IF(ISBLANK('MIS - Pharmacy'!BI169), \"\", 'MIS - Pharmacy'!BI169)","v":""},{"$f":"IF(ISBLANK('MIS - Pharmacy'!U169), \"\", 'MIS - Pharmacy'!U169)","v":""},"","","","","","","",{"$f":"IF(ISBLANK('MIS - Pharmacy'!AC169),\"\",'MIS - Pharmacy'!AC169)","v":""},"",{"$f":"IF(ISBLANK('MIS - Pharmacy'!AD169),\"\",'MIS - Pharmacy'!AD169)","v":""},"","",{"$f":"IF('MIS - Pharmacy'!A169=\"\",\"\",SUM('MIS - Pharmacy'!K169+'MIS - Pharmacy'!L169))","v":""},"",{"$f":"IF('MIS - Pharmacy'!A169=\"\",\"\",('MIS - Pharmacy'!AF169+'MIS - Pharmacy'!AH169 +'MIS - Pharmacy'!AG169))","v":""},{"$f":"IF(ISBLANK('MIS - Pharmacy'!AI169),\"\",'MIS - Pharmacy'!AI169)","v":""},"","","",{"$f":"IF(ISBLANK('MIS - Pharmacy'!V169),\"\",'MIS - Pharmacy'!V169)","v":""},"","","",{"$f":"IF(ISBLANK('MIS - Pharmacy'!J169),\"\",'MIS - Pharmacy'!J169)","v":""},{"$f":"IF(ISBLANK('MIS - Pharmacy'!AY169),\"\",'MIS - Pharmacy'!AY169)","v":""},{"$f":"IF(ISBLANK('MIS - Pharmacy'!BH169),\"\",'MIS - Pharmacy'!BH169)","v":""},"",""]
[{"$f":"IF(ISBLANK('MIS - Pharmacy'!A170), \"\",'MIS - Pharmacy'!A170)","v":""},{"$f":"IF(ISBLANK('MIS - Pharmacy'!B170),\"\",('MIS - Pharmacy'!B170&\"(\"&'MIS - Pharmacy'!D170&\")\"))","v":""},{"$f":"IF(ISBLANK('MIS - Pharmacy'!BI170), \"\", 'MIS - Pharmacy'!BI170)","v":""},{"$f":"IF(ISBLANK('MIS - Pharmacy'!U170), \"\", 'MIS - Pharmacy'!U170)","v":""},"","","","","","","",{"$f":"IF(ISBLANK('MIS - Pharmacy'!AC170),\"\",'MIS - Pharmacy'!AC170)","v":""},"",{"$f":"IF(ISBLANK('MIS - Pharmacy'!AD170),\"\",'MIS - Pharmacy'!AD170)","v":""},"","",{"$f":"IF('MIS - Pharmacy'!A170=\"\",\"\",SUM('MIS - Pharmacy'!K170+'MIS - Pharmacy'!L170))","v":""},"",{"$f":"IF('MIS - Pharmacy'!A170=\"\",\"\",('MIS - Pharmacy'!AF170+'MIS - Pharmacy'!AH170 +'MIS - Pharmacy'!AG170))","v":""},{"$f":"IF(ISBLANK('MIS - Pharmacy'!AI170),\"\",'MIS - Pharmacy'!AI170)","v":""},"","","",{"$f":"IF(ISBLANK('MIS - Pharmacy'!V170),\"\",'MIS - Pharmacy'!V170)","v":""},"","","",{"$f":"IF(ISBLANK('MIS - Pharmacy'!J170),\"\",'MIS - Pharmacy'!J170)","v":""},{"$f":"IF(ISBLANK('MIS - Pharmacy'!AY170),\"\",'MIS - Pharmacy'!AY170)","v":""},{"$f":"IF(ISBLANK('MIS - Pharmacy'!BH170),\"\",'MIS - Pharmacy'!BH170)","v":""},"",""]
[{"$f":"IF(ISBLANK('MIS - Pharmacy'!A171), \"\",'MIS - Pharmacy'!A171)","v":""},{"$f":"IF(ISBLANK('MIS - Pharmacy'!B171),\"\",('MIS - Pharmacy'!B171&\"(\"&'MIS - Pharmacy'!D171&\")\"))","v":""},{"$f":"IF(ISBLANK('MIS - Pharmacy'!BI171), \"\", 'MIS - Pharmacy'!BI171)","v":""},{"$f":"IF(ISBLANK('MIS - Pharmacy'!U171), \"\", 'MIS - Pharmacy'!U171)","v":""},"","","","","","","",{"$f":"IF(ISBLANK('MIS - Pharmacy'!AC171),\"\",'MIS - Pharmacy'!AC171)","v":""},"",{"$f":"IF(ISBLANK('MIS - Pharmacy'!AD171),\"\",'MIS - Pharmacy'!AD171)","v":""},"","",{"$f":"IF('MIS - Pharmacy'!A171=\"\",\"\",SUM('MIS - Pharmacy'!K171+'MIS - Pharmacy'!L171))","v":""},"",{"$f":"IF('MIS - Pharmacy'!A171=\"\",\"\",('MIS - Pharmacy'!AF171+'MIS - Pharmacy'!AH171 +'MIS - Pharmacy'!AG171))","v":""},{"$f":"IF(ISBLANK('MIS - Pharmacy'!AI171),\"\",'MIS - Pharmacy'!AI171)","v":""},"","","",{"$f":"IF(ISBLANK('MIS - Pharmacy'!V171),\"\",'MIS - Pharmacy'!V171)","v":""},"","","",{"$f":"IF(ISBLANK('MIS - Pharmacy'!J171),\"\",'MIS - Pharmacy'!J171)","v":""},{"$f":"IF(ISBLANK('MIS - Pharmacy'!AY171),\"\",'MIS - Pharmacy'!AY171)","v":""},{"$f":"IF(ISBLANK('MIS - Pharmacy'!BH171),\"\",'MIS - Pharmacy'!BH171)","v":""},"",""]
[{"$f":"IF(ISBLANK('MIS - Pharmacy'!A172), \"\",'MIS - Pharmacy'!A172)","v":""},{"$f":"IF(ISBLANK('MIS - Pharmacy'!B172),\"\",('MIS - Pharmacy'!B172&\"(\"&'MIS - Pharmacy'!D172&\")\"))","v":""},{"$f":"IF(ISBLANK('MIS - Pharmacy'!BI172), \"\", 'MIS - Pharmacy'!BI172)","v":""},{"$f":"IF(ISBLANK('MIS - Pharmacy'!U172), \"\", 'MIS - Pharmacy'!U172)","v":""},"","","","","","","",{"$f":"IF(ISBLANK('MIS - Pharmacy'!AC172),\"\",'MIS - Pharmacy'!AC172)","v":""},"",{"$f":"IF(ISBLANK('MIS - Pharmacy'!AD172),\"\",'MIS - Pharmacy'!AD172)","v":""},"","",{"$f":"IF('MIS - Pharmacy'!A172=\"\",\"\",SUM('MIS - Pharmacy'!K172+'MIS - Pharmacy'!L172))","v":""},"",{"$f":"IF('MIS - Pharmacy'!A172=\"\",\"\",('MIS - Pharmacy'!AF172+'MIS - Pharmacy'!AH172 +'MIS - Pharmacy'!AG172))","v":""},{"$f":"IF(ISBLANK('MIS - Pharmacy'!AI172),\"\",'MIS - Pharmacy'!AI172)","v":""},"","","",{"$f":"IF(ISBLANK('MIS - Pharmacy'!V172),\"\",'MIS - Pharmacy'!V172)","v":""},"","","",{"$f":"IF(ISBLANK('MIS - Pharmacy'!J172),\"\",'MIS - Pharmacy'!J172)","v":""},{"$f":"IF(ISBLANK('MIS - Pharmacy'!AY172),\"\",'MIS - Pharmacy'!AY172)","v":""},{"$f":"IF(ISBLANK('MIS - Pharmacy'!BH172),\"\",'MIS - Pharmacy'!BH172)","v":""},"",""]
[{"$f":"IF(ISBLANK('MIS - Pharmacy'!A173), \"\",'MIS - Pharmacy'!A173)","v":""},{"$f":"IF(ISBLANK('MIS - Pharmacy'!B173),\"\",('MIS - Pharmacy'!B173&\"(\"&'MIS - Pharmacy'!D173&\")\"))","v":""},{"$f":"IF(ISBLANK('MIS - Pharmacy'!BI173), \"\", 'MIS - Pharmacy'!BI173)","v":""},{"$f":"IF(ISBLANK('MIS - Pharmacy'!U173), \"\", 'MIS - Pharmacy'!U173)","v":""},"","","","","","","",{"$f":"IF(ISBLANK('MIS - Pharmacy'!AC173),\"\",'MIS - Pharmacy'!AC173)","v":""},"",{"$f":"IF(ISBLANK('MIS - Pharmacy'!AD173),\"\",'MIS - Pharmacy'!AD173)","v":""},"","",{"$f":"IF('MIS - Pharmacy'!A173=\"\",\"\",SUM('MIS - Pharmacy'!K173+'MIS - Pharmacy'!L173))","v":""},"",{"$f":"IF('MIS - Pharmacy'!A173=\"\",\"\",('MIS - Pharmacy'!AF173+'MIS - Pharmacy'!AH173 +'MIS - Pharmacy'!AG173))","v":""},{"$f":"IF(ISBLANK('MIS - Pharmacy'!AI173),\"\",'MIS - Pharmacy'!AI173)","v":""},"","","",{"$f":"IF(ISBLANK('MIS - Pharmacy'!V173),\"\",'MIS - Pharmacy'!V173)","v":""},"","","",{"$f":"IF(ISBLANK('MIS - Pharmacy'!J173),\"\",'MIS - Pharmacy'!J173)","v":""},{"$f":"IF(ISBLANK('MIS - Pharmacy'!AY173),\"\",'MIS - Pharmacy'!AY173)","v":""},{"$f":"IF(ISBLANK('MIS - Pharmacy'!BH173),\"\",'MIS - Pharmacy'!BH173)","v":""},"",""]
[{"$f":"IF(ISBLANK('MIS - Pharmacy'!A174), \"\",'MIS - Pharmacy'!A174)","v":""},{"$f":"IF(ISBLANK('MIS - Pharmacy'!B174),\"\",('MIS - Pharmacy'!B174&\"(\"&'MIS - Pharmacy'!D174&\")\"))","v":""},{"$f":"IF(ISBLANK('MIS - Pharmacy'!BI174), \"\", 'MIS - Pharmacy'!BI174)","v":""},{"$f":"IF(ISBLANK('MIS - Pharmacy'!U174), \"\", 'MIS - Pharmacy'!U174)","v":""},"","","","","","","",{"$f":"IF(ISBLANK('MIS - Pharmacy'!AC174),\"\",'MIS - Pharmacy'!AC174)","v":""},"",{"$f":"IF(ISBLANK('MIS - Pharmacy'!AD174),\"\",'MIS - Pharmacy'!AD174)","v":""},"","",{"$f":"IF('MIS - Pharmacy'!A174=\"\",\"\",SUM('MIS - Pharmacy'!K174+'MIS - Pharmacy'!L174))","v":""},"",{"$f":"IF('MIS - Pharmacy'!A174=\"\",\"\",('MIS - Pharmacy'!AF174+'MIS - Pharmacy'!AH174 +'MIS - Pharmacy'!AG174))","v":""},{"$f":"IF(ISBLANK('MIS - Pharmacy'!AI174),\"\",'MIS - Pharmacy'!AI174)","v":""},"","","",{"$f":"IF(ISBLANK('MIS - Pharmacy'!V174),\"\",'MIS - Pharmacy'!V174)","v":""},"","","",{"$f":"IF(ISBLANK('MIS - Pharmacy'!J174),\"\",'MIS - Pharmacy'!J174)","v":""},{"$f":"IF(ISBLANK('MIS - Pharmacy'!AY174),\"\",'MIS - Pharmacy'!AY174)","v":""},{"$f":"IF(ISBLANK('MIS - Pharmacy'!BH174),\"\",'MIS - Pharmacy'!BH174)","v":""},"",""]
[{"$f":"IF(ISBLANK('MIS - Pharmacy'!A175), \"\",'MIS - Pharmacy'!A175)","v":""},{"$f":"IF(ISBLANK('MIS - Pharmacy'!B175),\"\",('MIS - Pharmacy'!B175&\"(\"&'MIS - Pharmacy'!D175&\")\"))","v":""},{"$f":"IF(ISBLANK('MIS - Pharmacy'!BI175), \"\", 'MIS - Pharmacy'!BI175)","v":""},{"$f":"IF(ISBLANK('MIS - Pharmacy'!U175), \"\", 'MIS - Pharmacy'!U175)","v":""},"","","","","","","",{"$f":"IF(ISBLANK('MIS - Pharmacy'!AC175),\"\",'MIS - Pharmacy'!AC175)","v":""},"",{"$f":"IF(ISBLANK('MIS - Pharmacy'!AD175),\"\",'MIS - Pharmacy'!AD175)","v":""},"","",{"$f":"IF('MIS - Pharmacy'!A175=\"\",\"\",SUM('MIS - Pharmacy'!K175+'MIS - Pharmacy'!L175))","v":""},"",{"$f":"IF('MIS - Pharmacy'!A175=\"\",\"\",('MIS - Pharmacy'!AF175+'MIS - Pharmacy'!AH175 +'MIS - Pharmacy'!AG175))","v":""},{"$f":"IF(ISBLANK('MIS - Pharmacy'!AI175),\"\",'MIS - Pharmacy'!AI175)","v":""},"","","",{"$f":"IF(ISBLANK('MIS - Pharmacy'!V175),\"\",'MIS - Pharmacy'!V175)","v":""},"","","",{"$f":"IF(ISBLANK('MIS - Pharmacy'!J175),\"\",'MIS - Pharmacy'!J175)","v":""},{"$f":"IF(ISBLANK('MIS - Pharmacy'!AY175),\"\",'MIS - Pharmacy'!AY175)","v":""},{"$f":"IF(ISBLANK('MIS - Pharmacy'!BH175),\"\",'MIS - Pharmacy'!BH175)","v":""},"",""]
[{"$f":"IF(ISBLANK('MIS - Pharmacy'!A176), \"\",'MIS - Pharmacy'!A176)","v":""},{"$f":"IF(ISBLANK('MIS - Pharmacy'!B176),\"\",('MIS - Pharmacy'!B176&\"(\"&'MIS - Pharmacy'!D176&\")\"))","v":""},{"$f":"IF(ISBLANK('MIS - Pharmacy'!BI176), \"\", 'MIS - Pharmacy'!BI176)","v":""},{"$f":"IF(ISBLANK('MIS - Pharmacy'!U176), \"\", 'MIS - Pharmacy'!U176)","v":""},"","","","","","","",{"$f":"IF(ISBLANK('MIS - Pharmacy'!AC176),\"\",'MIS - Pharmacy'!AC176)","v":""},"",{"$f":"IF(ISBLANK('MIS - Pharmacy'!AD176),\"\",'MIS - Pharmacy'!AD176)","v":""},"","",{"$f":"IF('MIS - Pharmacy'!A176=\"\",\"\",SUM('MIS - Pharmacy'!K176+'MIS - Pharmacy'!L176))","v":""},"",{"$f":"IF('MIS - Pharmacy'!A176=\"\",\"\",('MIS - Pharmacy'!AF176+'MIS - Pharmacy'!AH176 +'MIS - Pharmacy'!AG176))","v":""},{"$f":"IF(ISBLANK('MIS - Pharmacy'!AI176),\"\",'MIS - Pharmacy'!AI176)","v":""},"","","",{"$f":"IF(ISBLANK('MIS - Pharmacy'!V176),\"\",'MIS - Pharmacy'!V176)","v":""},"","","",{"$f":"IF(ISBLANK('MIS - Pharmacy'!J176),\"\",'MIS - Pharmacy'!J176)","v":""},{"$f":"IF(ISBLANK('MIS - Pharmacy'!AY176),\"\",'MIS - Pharmacy'!AY176)","v":""},{"$f":"IF(ISBLANK('MIS - Pharmacy'!BH176),\"\",'MIS - Pharmacy'!BH176)","v":""},"",""]
[{"$f":"IF(ISBLANK('MIS - Pharmacy'!A177), \"\",'MIS - Pharmacy'!A177)","v":""},{"$f":"IF(ISBLANK('MIS - Pharmacy'!B177),\"\",('MIS - Pharmacy'!B177&\"(\"&'MIS - Pharmacy'!D177&\")\"))","v":""},{"$f":"IF(ISBLANK('MIS - Pharmacy'!BI177), \"\", 'MIS - Pharmacy'!BI177)","v":""},{"$f":"IF(ISBLANK('MIS - Pharmacy'!U177), \"\", 'MIS - Pharmacy'!U177)","v":""},"","","","","","","",{"$f":"IF(ISBLANK('MIS - Pharmacy'!AC177),\"\",'MIS - Pharmacy'!AC177)","v":""},"",{"$f":"IF(ISBLANK('MIS - Pharmacy'!AD177),\"\",'MIS - Pharmacy'!AD177)","v":""},"","",{"$f":"IF('MIS - Pharmacy'!A177=\"\",\"\",SUM('MIS - Pharmacy'!K177+'MIS - Pharmacy'!L177))","v":""},"",{"$f":"IF('MIS - Pharmacy'!A177=\"\",\"\",('MIS - Pharmacy'!AF177+'MIS - Pharmacy'!AH177 +'MIS - Pharmacy'!AG177))","v":""},{"$f":"IF(ISBLANK('MIS - Pharmacy'!AI177),\"\",'MIS - Pharmacy'!AI177)","v":""},"","","",{"$f":"IF(ISBLANK('MIS - Pharmacy'!V177),\"\",'MIS - Pharmacy'!V177)","v":""},"","","",{"$f":"IF(ISBLANK('MIS - Pharmacy'!J177),\"\",'MIS - Pharmacy'!J177)","v":""},{"$f":"IF(ISBLANK('MIS - Pharmacy'!AY177),\"\",'MIS - Pharmacy'!AY177)","v":""},{"$f":"IF(ISBLANK('MIS - Pharmacy'!BH177),\"\",'MIS - Pharmacy'!BH177)","v":""},"",""]
[{"$f":"IF(ISBLANK('MIS - Pharmacy'!A178), \"\",'MIS - Pharmacy'!A178)","v":""},{"$f":"IF(ISBLANK('MIS - Pharmacy'!B178),\"\",('MIS - Pharmacy'!B178&\"(\"&'MIS - Pharmacy'!D178&\")\"))","v":""},{"$f":"IF(ISBLANK('MIS - Pharmacy'!BI178), \"\", 'MIS - Pharmacy'!BI178)","v":""},{"$f":"IF(ISBLANK('MIS - Pharmacy'!U178), \"\", 'MIS - Pharmacy'!U178)","v":""},"","","","","","","",{"$f":"IF(ISBLANK('MIS - Pharmacy'!AC178),\"\",'MIS - Pharmacy'!AC178)","v":""},"",{"$f":"IF(ISBLANK('MIS - Pharmacy'!AD178),\"\",'MIS - Pharmacy'!AD178)","v":""},"","",{"$f":"IF('MIS - Pharmacy'!A178=\"\",\"\",SUM('MIS - Pharmacy'!K178+'MIS - Pharmacy'!L178))","v":""},"",{"$f":"IF('MIS - Pharmacy'!A178=\"\",\"\",('MIS - Pharmacy'!AF178+'MIS - Pharmacy'!AH178 +'MIS - Pharmacy'!AG178))","v":""},{"$f":"IF(ISBLANK('MIS - Pharmacy'!AI178),\"\",'MIS - Pharmacy'!AI178)","v":""},"","","",{"$f":"IF(ISBLANK('MIS - Pharmacy'!V178),\"\",'MIS - Pharmacy'!V178)","v":""},"","","",{"$f":"IF(ISBLANK('MIS - Pharmacy'!J178),\"\",'MIS - Pharmacy'!J178)","v":""},{"$f":"IF(ISBLANK('MIS - Pharmacy'!AY178),\"\",'MIS - Pharmacy'!AY178)","v":""},{"$f":"IF(ISBLANK('MIS - Pharmacy'!BH178),\"\",'MIS - Pharmacy'!BH178)","v":""},"",""]
[{"$f":"IF(ISBLANK('MIS - Pharmacy'!A179), \"\",'MIS - Pharmacy'!A179)","v":""},{"$f":"IF(ISBLANK('MIS - Pharmacy'!B179),\"\",('MIS - Pharmacy'!B179&\"(\"&'MIS - Pharmacy'!D179&\")\"))","v":""},{"$f":"IF(ISBLANK('MIS - Pharmacy'!BI179), \"\", 'MIS - Pharmacy'!BI179)","v":""},{"$f":"IF(ISBLANK('MIS - Pharmacy'!U179), \"\", 'MIS - Pharmacy'!U179)","v":""},"","","","","","","",{"$f":"IF(ISBLANK('MIS - Pharmacy'!AC179),\"\",'MIS - Pharmacy'!AC179)","v":""},"",{"$f":"IF(ISBLANK('MIS - Pharmacy'!AD179),\"\",'MIS - Pharmacy'!AD179)","v":""},"","",{"$f":"IF('MIS - Pharmacy'!A179=\"\",\"\",SUM('MIS - Pharmacy'!K179+'MIS - Pharmacy'!L179))","v":""},"",{"$f":"IF('MIS - Pharmacy'!A179=\"\",\"\",('MIS - Pharmacy'!AF179+'MIS - Pharmacy'!AH179 +'MIS - Pharmacy'!AG179))","v":""},{"$f":"IF(ISBLANK('MIS - Pharmacy'!AI179),\"\",'MIS - Pharmacy'!AI179)","v":""},"","","",{"$f":"IF(ISBLANK('MIS - Pharmacy'!V179),\"\",'MIS - Pharmacy'!V179)","v":""},"","","",{"$f":"IF(ISBLANK('MIS - Pharmacy'!J179),\"\",'MIS - Pharmacy'!J179)","v":""},{"$f":"IF(ISBLANK('MIS - Pharmacy'!AY179),\"\",'MIS - Pharmacy'!AY179)","v":""},{"$f":"IF(ISBLANK('MIS - Pharmacy'!BH179),\"\",'MIS - Pharmacy'!BH179)","v":""},"",""]
[{"$f":"IF(ISBLANK('MIS - Pharmacy'!A180), \"\",'MIS - Pharmacy'!A180)","v":""},{"$f":"IF(ISBLANK('MIS - Pharmacy'!B180),\"\",('MIS - Pharmacy'!B180&\"(\"&'MIS - Pharmacy'!D180&\")\"))","v":""},{"$f":"IF(ISBLANK('MIS - Pharmacy'!BI180), \"\", 'MIS - Pharmacy'!BI180)","v":""},{"$f":"IF(ISBLANK('MIS - Pharmacy'!U180), \"\", 'MIS - Pharmacy'!U180)","v":""},"","","","","","","",{"$f":"IF(ISBLANK('MIS - Pharmacy'!AC180),\"\",'MIS - Pharmacy'!AC180)","v":""},"",{"$f":"IF(ISBLANK('MIS - Pharmacy'!AD180),\"\",'MIS - Pharmacy'!AD180)","v":""},"","",{"$f":"IF('MIS - Pharmacy'!A180=\"\",\"\",SUM('MIS - Pharmacy'!K180+'MIS - Pharmacy'!L180))","v":""},"",{"$f":"IF('MIS - Pharmacy'!A180=\"\",\"\",('MIS - Pharmacy'!AF180+'MIS - Pharmacy'!AH180 +'MIS - Pharmacy'!AG180))","v":""},{"$f":"IF(ISBLANK('MIS - Pharmacy'!AI180),\"\",'MIS - Pharmacy'!AI180)","v":""},"","","",{"$f":"IF(ISBLANK('MIS - Pharmacy'!V180),\"\",'MIS - Pharmacy'!V180)","v":""},"","","",{"$f":"IF(ISBLANK('MIS - Pharmacy'!J180),\"\",'MIS - Pharmacy'!J180)","v":""},{"$f":"IF(ISBLANK('MIS - Pharmacy'!AY180),\"\",'MIS - Pharmacy'!AY180)","v":""},{"$f":"IF(ISBLANK('MIS - Pharmacy'!BH180),\"\",'MIS - Pharmacy'!BH180)","v":""},"",""]
[{"$f":"IF(ISBLANK('MIS - Pharmacy'!A181), \"\",'MIS - Pharmacy'!A181)","v":""},{"$f":"IF(ISBLANK('MIS - Pharmacy'!B181),\"\",('MIS - Pharmacy'!B181&\"(\"&'MIS - Pharmacy'!D181&\")\"))","v":""},{"$f":"IF(ISBLANK('MIS - Pharmacy'!BI181), \"\", 'MIS - Pharmacy'!BI181)","v":""},{"$f":"IF(ISBLANK('MIS - Pharmacy'!U181), \"\", 'MIS - Pharmacy'!U181)","v":""},"","","","","","","",{"$f":"IF(ISBLANK('MIS - Pharmacy'!AC181),\"\",'MIS - Pharmacy'!AC181)","v":""},"",{"$f":"IF(ISBLANK('MIS - Pharmacy'!AD181),\"\",'MIS - Pharmacy'!AD181)","v":""},"","",{"$f":"IF('MIS - Pharmacy'!A181=\"\",\"\",SUM('MIS - Pharmacy'!K181+'MIS - Pharmacy'!L181))","v":""},"",{"$f":"IF('MIS - Pharmacy'!A181=\"\",\"\",('MIS - Pharmacy'!AF181+'MIS - Pharmacy'!AH181 +'MIS - Pharmacy'!AG181))","v":""},{"$f":"IF(ISBLANK('MIS - Pharmacy'!AI181),\"\",'MIS - Pharmacy'!AI181)","v":""},"","","",{"$f":"IF(ISBLANK('MIS - Pharmacy'!V181),\"\",'MIS - Pharmacy'!V181)","v":""},"","","",{"$f":"IF(ISBLANK('MIS - Pharmacy'!J181),\"\",'MIS - Pharmacy'!J181)","v":""},{"$f":"IF(ISBLANK('MIS - Pharmacy'!AY181),\"\",'MIS - Pharmacy'!AY181)","v":""},{"$f":"IF(ISBLANK('MIS - Pharmacy'!BH181),\"\",'MIS - Pharmacy'!BH181)","v":""},"",""]
[{"$f":"IF(ISBLANK('MIS - Pharmacy'!A182), \"\",'MIS - Pharmacy'!A182)","v":""},{"$f":"IF(ISBLANK('MIS - Pharmacy'!B182),\"\",('MIS - Pharmacy'!B182&\"(\"&'MIS - Pharmacy'!D182&\")\"))","v":""},{"$f":"IF(ISBLANK('MIS - Pharmacy'!BI182), \"\", 'MIS - Pharmacy'!BI182)","v":""},{"$f":"IF(ISBLANK('MIS - Pharmacy'!U182), \"\", 'MIS - Pharmacy'!U182)","v":""},"","","","","","","",{"$f":"IF(ISBLANK('MIS - Pharmacy'!AC182),\"\",'MIS - Pharmacy'!AC182)","v":""},"",{"$f":"IF(ISBLANK('MIS - Pharmacy'!AD182),\"\",'MIS - Pharmacy'!AD182)","v":""},"","",{"$f":"IF('MIS - Pharmacy'!A182=\"\",\"\",SUM('MIS - Pharmacy'!K182+'MIS - Pharmacy'!L182))","v":""},"",{"$f":"IF('MIS - Pharmacy'!A182=\"\",\"\",('MIS - Pharmacy'!AF182+'MIS - Pharmacy'!AH182 +'MIS - Pharmacy'!AG182))","v":""},{"$f":"IF(ISBLANK('MIS - Pharmacy'!AI182),\"\",'MIS - Pharmacy'!AI182)","v":""},"","","",{"$f":"IF(ISBLANK('MIS - Pharmacy'!V182),\"\",'MIS - Pharmacy'!V182)","v":""},"","","",{"$f":"IF(ISBLANK('MIS - Pharmacy'!J182),\"\",'MIS - Pharmacy'!J182)","v":""},{"$f":"IF(ISBLANK('MIS - Pharmacy'!AY182),\"\",'MIS - Pharmacy'!AY182)","v":""},{"$f":"IF(ISBLANK('MIS - Pharmacy'!BH182),\"\",'MIS - Pharmacy'!BH182)","v":""},"",""]
[{"$f":"IF(ISBLANK('MIS - Pharmacy'!A183), \"\",'MIS - Pharmacy'!A183)","v":""},{"$f":"IF(ISBLANK('MIS - Pharmacy'!B183),\"\",('MIS - Pharmacy'!B183&\"(\"&'MIS - Pharmacy'!D183&\")\"))","v":""},{"$f":"IF(ISBLANK('MIS - Pharmacy'!BI183), \"\", 'MIS - Pharmacy'!BI183)","v":""},{"$f":"IF(ISBLANK('MIS - Pharmacy'!U183), \"\", 'MIS - Pharmacy'!U183)","v":""},"","","","","","","",{"$f":"IF(ISBLANK('MIS - Pharmacy'!AC183),\"\",'MIS - Pharmacy'!AC183)","v":""},"",{"$f":"IF(ISBLANK('MIS - Pharmacy'!AD183),\"\",'MIS - Pharmacy'!AD183)","v":""},"","",{"$f":"IF('MIS - Pharmacy'!A183=\"\",\"\",SUM('MIS - Pharmacy'!K183+'MIS - Pharmacy'!L183))","v":""},"",{"$f":"IF('MIS - Pharmacy'!A183=\"\",\"\",('MIS - Pharmacy'!AF183+'MIS - Pharmacy'!AH183 +'MIS - Pharmacy'!AG183))","v":""},{"$f":"IF(ISBLANK('MIS - Pharmacy'!AI183),\"\",'MIS - Pharmacy'!AI183)","v":""},"","","",{"$f":"IF(ISBLANK('MIS - Pharmacy'!V183),\"\",'MIS - Pharmacy'!V183)","v":""},"","","",{"$f":"IF(ISBLANK('MIS - Pharmacy'!J183),\"\",'MIS - Pharmacy'!J183)","v":""},{"$f":"IF(ISBLANK('MIS - Pharmacy'!AY183),\"\",'MIS - Pharmacy'!AY183)","v":""},{"$f":"IF(ISBLANK('MIS - Pharmacy'!BH183),\"\",'MIS - Pharmacy'!BH183)","v":""},"",""]
[{"$f":"IF(ISBLANK('MIS - Pharmacy'!A184), \"\",'MIS - Pharmacy'!A184)","v":""},{"$f":"IF(ISBLANK('MIS - Pharmacy'!B184),\"\",('MIS - Pharmacy'!B184&\"(\"&'MIS - Pharmacy'!D184&\")\"))","v":""},{"$f":"IF(ISBLANK('MIS - Pharmacy'!BI184), \"\", 'MIS - Pharmacy'!BI184)","v":""},{"$f":"IF(ISBLANK('MIS - Pharmacy'!U184), \"\", 'MIS - Pharmacy'!U184)","v":""},"","","","","","","",{"$f":"IF(ISBLANK('MIS - Pharmacy'!AC184),\"\",'MIS - Pharmacy'!AC184)","v":""},"",{"$f":"IF(ISBLANK('MIS - Pharmacy'!AD184),\"\",'MIS - Pharmacy'!AD184)","v":""},"","",{"$f":"IF('MIS - Pharmacy'!A184=\"\",\"\",SUM('MIS - Pharmacy'!K184+'MIS - Pharmacy'!L184))","v":""},"",{"$f":"IF('MIS - Pharmacy'!A184=\"\",\"\",('MIS - Pharmacy'!AF184+'MIS - Pharmacy'!AH184 +'MIS - Pharmacy'!AG184))","v":""},{"$f":"IF(ISBLANK('MIS - Pharmacy'!AI184),\"\",'MIS - Pharmacy'!AI184)","v":""},"","","",{"$f":"IF(ISBLANK('MIS - Pharmacy'!V184),\"\",'MIS - Pharmacy'!V184)","v":""},"","","",{"$f":"IF(ISBLANK('MIS - Pharmacy'!J184),\"\",'MIS - Pharmacy'!J184)","v":""},{"$f":"IF(ISBLANK('MIS - Pharmacy'!AY184),\"\",'MIS - Pharmacy'!AY184)","v":""},{"$f":"IF(ISBLANK('MIS - Pharmacy'!BH184),\"\",'MIS - Pharmacy'!BH184)","v":""},"",""]
[{"$f":"IF(ISBLANK('MIS - Pharmacy'!A185), \"\",'MIS - Pharmacy'!A185)","v":""},{"$f":"IF(ISBLANK('MIS - Pharmacy'!B185),\"\",('MIS - Pharmacy'!B185&\"(\"&'MIS - Pharmacy'!D185&\")\"))","v":""},{"$f":"IF(ISBLANK('MIS - Pharmacy'!BI185), \"\", 'MIS - Pharmacy'!BI185)","v":""},{"$f":"IF(ISBLANK('MIS - Pharmacy'!U185), \"\", 'MIS - Pharmacy'!U185)","v":""},"","","","","","","",{"$f":"IF(ISBLANK('MIS - Pharmacy'!AC185),\"\",'MIS - Pharmacy'!AC185)","v":""},"",{"$f":"IF(ISBLANK('MIS - Pharmacy'!AD185),\"\",'MIS - Pharmacy'!AD185)","v":""},"","",{"$f":"IF('MIS - Pharmacy'!A185=\"\",\"\",SUM('MIS - Pharmacy'!K185+'MIS - Pharmacy'!L185))","v":""},"",{"$f":"IF('MIS - Pharmacy'!A185=\"\",\"\",('MIS - Pharmacy'!AF185+'MIS - Pharmacy'!AH185 +'MIS - Pharmacy'!AG185))","v":""},{"$f":"IF(ISBLANK('MIS - Pharmacy'!AI185),\"\",'MIS - Pharmacy'!AI185)","v":""},"","","",{"$f":"IF(ISBLANK('MIS - Pharmacy'!V185),\"\",'MIS - Pharmacy'!V185)","v":""},"","","",{"$f":"IF(ISBLANK('MIS - Pharmacy'!J185),\"\",'MIS - Pharmacy'!J185)","v":""},{"$f":"IF(ISBLANK('MIS - Pharmacy'!AY185),\"\",'MIS - Pharmacy'!AY185)","v":""},{"$f":"IF(ISBLANK('MIS - Pharmacy'!BH185),\"\",'MIS - Pharmacy'!BH185)","v":""},"",""]
[{"$f":"IF(ISBLANK('MIS - Pharmacy'!A186), \"\",'MIS - Pharmacy'!A186)","v":""},{"$f":"IF(ISBLANK('MIS - Pharmacy'!B186),\"\",('MIS - Pharmacy'!B186&\"(\"&'MIS - Pharmacy'!D186&\")\"))","v":""},{"$f":"IF(ISBLANK('MIS - Pharmacy'!BI186), \"\", 'MIS - Pharmacy'!BI186)","v":""},{"$f":"IF(ISBLANK('MIS - Pharmacy'!U186), \"\", 'MIS - Pharmacy'!U186)","v":""},"","","","","","","",{"$f":"IF(ISBLANK('MIS - Pharmacy'!AC186),\"\",'MIS - Pharmacy'!AC186)","v":""},"",{"$f":"IF(ISBLANK('MIS - Pharmacy'!AD186),\"\",'MIS - Pharmacy'!AD186)","v":""},"","",{"$f":"IF('MIS - Pharmacy'!A186=\"\",\"\",SUM('MIS - Pharmacy'!K186+'MIS - Pharmacy'!L186))","v":""},"",{"$f":"IF('MIS - Pharmacy'!A186=\"\",\"\",('MIS - Pharmacy'!AF186+'MIS - Pharmacy'!AH186 +'MIS - Pharmacy'!AG186))","v":""},{"$f":"IF(ISBLANK('MIS - Pharmacy'!AI186),\"\",'MIS - Pharmacy'!AI186)","v":""},"","","",{"$f":"IF(ISBLANK('MIS - Pharmacy'!V186),\"\",'MIS - Pharmacy'!V186)","v":""},"","","",{"$f":"IF(ISBLANK('MIS - Pharmacy'!J186),\"\",'MIS - Pharmacy'!J186)","v":""},{"$f":"IF(ISBLANK('MIS - Pharmacy'!AY186),\"\",'MIS - Pharmacy'!AY186)","v":""},{"$f":"IF(ISBLANK('MIS - Pharmacy'!BH186),\"\",'MIS - Pharmacy'!BH186)","v":""},"",""]
[{"$f":"IF(ISBLANK('MIS - Pharmacy'!A187), \"\",'MIS - Pharmacy'!A187)","v":""},{"$f":"IF(ISBLANK('MIS - Pharmacy'!B187),\"\",('MIS - Pharmacy'!B187&\"(\"&'MIS - Pharmacy'!D187&\")\"))","v":""},{"$f":"IF(ISBLANK('MIS - Pharmacy'!BI187), \"\", 'MIS - Pharmacy'!BI187)","v":""},{"$f":"IF(ISBLANK('MIS - Pharmacy'!U187), \"\", 'MIS - Pharmacy'!U187)","v":""},"","","","","","","",{"$f":"IF(ISBLANK('MIS - Pharmacy'!AC187),\"\",'MIS - Pharmacy'!AC187)","v":""},"",{"$f":"IF(ISBLANK('MIS - Pharmacy'!AD187),\"\",'MIS - Pharmacy'!AD187)","v":""},"","",{"$f":"IF('MIS - Pharmacy'!A187=\"\",\"\",SUM('MIS - Pharmacy'!K187+'MIS - Pharmacy'!L187))","v":""},"",{"$f":"IF('MIS - Pharmacy'!A187=\"\",\"\",('MIS - Pharmacy'!AF187+'MIS - Pharmacy'!AH187 +'MIS - Pharmacy'!AG187))","v":""},{"$f":"IF(ISBLANK('MIS - Pharmacy'!AI187),\"\",'MIS - Pharmacy'!AI187)","v":""},"","","",{"$f":"IF(ISBLANK('MIS - Pharmacy'!V187),\"\",'MIS - Pharmacy'!V187)","v":""},"","","",{"$f":"IF(ISBLANK('MIS - Pharmacy'!J187),\"\",'MIS - Pharmacy'!J187)","v":""},{"$f":"IF(ISBLANK('MIS - Pharmacy'!AY187),\"\",'MIS - Pharmacy'!AY187)","v":""},{"$f":"IF(ISBLANK('MIS - Pharmacy'!BH187),\"\",'MIS - Pharmacy'!BH187)","v":""},"",""]
[{"$f":"IF(ISBLANK('MIS - Pharmacy'!A188), \"\",'MIS - Pharmacy'!A188)","v":""},{"$f":"IF(ISBLANK('MIS - Pharmacy'!B188),\"\",('MIS - Pharmacy'!B188&\"(\"&'MIS - Pharmacy'!D188&\")\"))","v":""},{"$f":"IF(ISBLANK('MIS - Pharmacy'!BI188), \"\", 'MIS - Pharmacy'!BI188)","v":""},{"$f":"IF(ISBLANK('MIS - Pharmacy'!U188), \"\", 'MIS - Pharmacy'!U188)","v":""},"","","","","","","",{"$f":"IF(ISBLANK('MIS - Pharmacy'!AC188),\"\",'MIS - Pharmacy'!AC188)","v":""},"",{"$f":"IF(ISBLANK('MIS - Pharmacy'!AD188),\"\",'MIS - Pharmacy'!AD188)","v":""},"","",{"$f":"IF('MIS - Pharmacy'!A188=\"\",\"\",SUM('MIS - Pharmacy'!K188+'MIS - Pharmacy'!L188))","v":""},"",{"$f":"IF('MIS - Pharmacy'!A188=\"\",\"\",('MIS - Pharmacy'!AF188+'MIS - Pharmacy'!AH188 +'MIS - Pharmacy'!AG188))","v":""},{"$f":"IF(ISBLANK('MIS - Pharmacy'!AI188),\"\",'MIS - Pharmacy'!AI188)","v":""},"","","",{"$f":"IF(ISBLANK('MIS - Pharmacy'!V188),\"\",'MIS - Pharmacy'!V188)","v":""},"","","",{"$f":"IF(ISBLANK('MIS - Pharmacy'!J188),\"\",'MIS - Pharmacy'!J188)","v":""},{"$f":"IF(ISBLANK('MIS - Pharmacy'!AY188),\"\",'MIS - Pharmacy'!AY188)","v":""},{"$f":"IF(ISBLANK('MIS - Pharmacy'!BH188),\"\",'MIS - Pharmacy'!BH188)","v":""},"",""]
[{"$f":"IF(ISBLANK('MIS - Pharmacy'!A189), \"\",'MIS - Pharmacy'!A189)","v":""},{"$f":"IF(ISBLANK('MIS - Pharmacy'!B189),\"\",('MIS - Pharmacy'!B189&\"(\"&'MIS - Pharmacy'!D189&\")\"))","v":""},{"$f":"IF(ISBLANK('MIS - Pharmacy'!BI189), \"\", 'MIS - Pharmacy'!BI189)","v":""},{"$f":"IF(ISBLANK('MIS - Pharmacy'!U189), \"\", 'MIS - Pharmacy'!U189)","v":""},"","","","","","","",{"$f":"IF(ISBLANK('MIS - Pharmacy'!AC189),\"\",'MIS - Pharmacy'!AC189)","v":""},"",{"$f":"IF(ISBLANK('MIS - Pharmacy'!AD189),\"\",'MIS - Pharmacy'!AD189)","v":""},"","",{"$f":"IF('MIS - Pharmacy'!A189=\"\",\"\",SUM('MIS - Pharmacy'!K189+'MIS - Pharmacy'!L189))","v":""},"",{"$f":"IF('MIS - Pharmacy'!A189=\"\",\"\",('MIS - Pharmacy'!AF189+'MIS - Pharmacy'!AH189 +'MIS - Pharmacy'!AG189))","v":""},{"$f":"IF(ISBLANK('MIS - Pharmacy'!AI189),\"\",'MIS - Pharmacy'!AI189)","v":""},"","","",{"$f":"IF(ISBLANK('MIS - Pharmacy'!V189),\"\",'MIS - Pharmacy'!V189)","v":""},"","","",{"$f":"IF(ISBLANK('MIS - Pharmacy'!J189),\"\",'MIS - Pharmacy'!J189)","v":""},{"$f":"IF(ISBLANK('MIS - Pharmacy'!AY189),\"\",'MIS - Pharmacy'!AY189)","v":""},{"$f":"IF(ISBLANK('MIS - Pharmacy'!BH189),\"\",'MIS - Pharmacy'!BH189)","v":""},"",""]
[{"$f":"IF(ISBLANK('MIS - Pharmacy'!A190), \"\",'MIS - Pharmacy'!A190)","v":""},{"$f":"IF(ISBLANK('MIS - Pharmacy'!B190),\"\",('MIS - Pharmacy'!B190&\"(\"&'MIS - Pharmacy'!D190&\")\"))","v":""},{"$f":"IF(ISBLANK('MIS - Pharmacy'!BI190), \"\", 'MIS - Pharmacy'!BI190)","v":""},{"$f":"IF(ISBLANK('MIS - Pharmacy'!U190), \"\", 'MIS - Pharmacy'!U190)","v":""},"","","","","","","",{"$f":"IF(ISBLANK('MIS - Pharmacy'!AC190),\"\",'MIS - Pharmacy'!AC190)","v":""},"",{"$f":"IF(ISBLANK('MIS - Pharmacy'!AD190),\"\",'MIS - Pharmacy'!AD190)","v":""},"","",{"$f":"IF('MIS - Pharmacy'!A190=\"\",\"\",SUM('MIS - Pharmacy'!K190+'MIS - Pharmacy'!L190))","v":""},"",{"$f":"IF('MIS - Pharmacy'!A190=\"\",\"\",('MIS - Pharmacy'!AF190+'MIS - Pharmacy'!AH190 +'MIS - Pharmacy'!AG190))","v":""},{"$f":"IF(ISBLANK('MIS - Pharmacy'!AI190),\"\",'MIS - Pharmacy'!AI190)","v":""},"","","",{"$f":"IF(ISBLANK('MIS - Pharmacy'!V190),\"\",'MIS - Pharmacy'!V190)","v":""},"","","",{"$f":"IF(ISBLANK('MIS - Pharmacy'!J190),\"\",'MIS - Pharmacy'!J190)","v":""},{"$f":"IF(ISBLANK('MIS - Pharmacy'!AY190),\"\",'MIS - Pharmacy'!AY190)","v":""},{"$f":"IF(ISBLANK('MIS - Pharmacy'!BH190),\"\",'MIS - Pharmacy'!BH190)","v":""},"",""]
[{"$f":"IF(ISBLANK('MIS - Pharmacy'!A191), \"\",'MIS - Pharmacy'!A191)","v":""},{"$f":"IF(ISBLANK('MIS - Pharmacy'!B191),\"\",('MIS - Pharmacy'!B191&\"(\"&'MIS - Pharmacy'!D191&\")\"))","v":""},{"$f":"IF(ISBLANK('MIS - Pharmacy'!BI191), \"\", 'MIS - Pharmacy'!BI191)","v":""},{"$f":"IF(ISBLANK('MIS - Pharmacy'!U191), \"\", 'MIS - Pharmacy'!U191)","v":""},"","","","","","","",{"$f":"IF(ISBLANK('MIS - Pharmacy'!AC191),\"\",'MIS - Pharmacy'!AC191)","v":""},"",{"$f":"IF(ISBLANK('MIS - Pharmacy'!AD191),\"\",'MIS - Pharmacy'!AD191)","v":""},"","",{"$f":"IF('MIS - Pharmacy'!A191=\"\",\"\",SUM('MIS - Pharmacy'!K191+'MIS - Pharmacy'!L191))","v":""},"",{"$f":"IF('MIS - Pharmacy'!A191=\"\",\"\",('MIS - Pharmacy'!AF191+'MIS - Pharmacy'!AH191 +'MIS - Pharmacy'!AG191))","v":""},{"$f":"IF(ISBLANK('MIS - Pharmacy'!AI191),\"\",'MIS - Pharmacy'!AI191)","v":""},"","","",{"$f":"IF(ISBLANK('MIS - Pharmacy'!V191),\"\",'MIS - Pharmacy'!V191)","v":""},"","","",{"$f":"IF(ISBLANK('MIS - Pharmacy'!J191),\"\",'MIS - Pharmacy'!J191)","v":""},{"$f":"IF(ISBLANK('MIS - Pharmacy'!AY191),\"\",'MIS - Pharmacy'!AY191)","v":""},{"$f":"IF(ISBLANK('MIS - Pharmacy'!BH191),\"\",'MIS - Pharmacy'!BH191)","v":""},"",""]
[{"$f":"IF(ISBLANK('MIS - Pharmacy'!A192), \"\",'MIS - Pharmacy'!A192)","v":""},{"$f":"IF(ISBLANK('MIS - Pharmacy'!B192),\"\",('MIS - Pharmacy'!B192&\"(\"&'MIS - Pharmacy'!D192&\")\"))","v":""},{"$f":"IF(ISBLANK('MIS - Pharmacy'!BI192), \"\", 'MIS - Pharmacy'!BI192)","v":""},{"$f":"IF(ISBLANK('MIS - Pharmacy'!U192), \"\", 'MIS - Pharmacy'!U192)","v":""},"","","","","","","",{"$f":"IF(ISBLANK('MIS - Pharmacy'!AC192),\"\",'MIS - Pharmacy'!AC192)","v":""},"",{"$f":"IF(ISBLANK('MIS - Pharmacy'!AD192),\"\",'MIS - Pharmacy'!AD192)","v":""},"","",{"$f":"IF('MIS - Pharmacy'!A192=\"\",\"\",SUM('MIS - Pharmacy'!K192+'MIS - Pharmacy'!L192))","v":""},"",{"$f":"IF('MIS - Pharmacy'!A192=\"\",\"\",('MIS - Pharmacy'!AF192+'MIS - Pharmacy'!AH192 +'MIS - Pharmacy'!AG192))","v":""},{"$f":"IF(ISBLANK('MIS - Pharmacy'!AI192),\"\",'MIS - Pharmacy'!AI192)","v":""},"","","",{"$f":"IF(ISBLANK('MIS - Pharmacy'!V192),\"\",'MIS - Pharmacy'!V192)","v":""},"","","",{"$f":"IF(ISBLANK('MIS - Pharmacy'!J192),\"\",'MIS - Pharmacy'!J192)","v":""},{"$f":"IF(ISBLANK('MIS - Pharmacy'!AY192),\"\",'MIS - Pharmacy'!AY192)","v":""},{"$f":"IF(ISBLANK('MIS - Pharmacy'!BH192),\"\",'MIS - Pharmacy'!BH192)","v":""},"",""]
[{"$f":"IF(ISBLANK('MIS - Pharmacy'!A193), \"\",'MIS - Pharmacy'!A193)","v":""},{"$f":"IF(ISBLANK('MIS - Pharmacy'!B193),\"\",('MIS - Pharmacy'!B193&\"(\"&'MIS - Pharmacy'!D193&\")\"))","v":""},{"$f":"IF(ISBLANK('MIS - Pharmacy'!BI193), \"\", 'MIS - Pharmacy'!BI193)","v":""},{"$f":"IF(ISBLANK('MIS - Pharmacy'!U193), \"\", 'MIS - Pharmacy'!U193)","v":""},"","","","","","","",{"$f":"IF(ISBLANK('MIS - Pharmacy'!AC193),\"\",'MIS - Pharmacy'!AC193)","v":""},"",{"$f":"IF(ISBLANK('MIS - Pharmacy'!AD193),\"\",'MIS - Pharmacy'!AD193)","v":""},"","",{"$f":"IF('MIS - Pharmacy'!A193=\"\",\"\",SUM('MIS - Pharmacy'!K193+'MIS - Pharmacy'!L193))","v":""},"",{"$f":"IF('MIS - Pharmacy'!A193=\"\",\"\",('MIS - Pharmacy'!AF193+'MIS - Pharmacy'!AH193 +'MIS - Pharmacy'!AG193))","v":""},{"$f":"IF(ISBLANK('MIS - Pharmacy'!AI193),\"\",'MIS - Pharmacy'!AI193)","v":""},"","","",{"$f":"IF(ISBLANK('MIS - Pharmacy'!V193),\"\",'MIS - Pharmacy'!V193)","v":""},"","","",{"$f":"IF(ISBLANK('MIS - Pharmacy'!J193),\"\",'MIS - Pharmacy'!J193)","v":""},{"$f":"IF(ISBLANK('MIS - Pharmacy'!AY193),\"\",'MIS - Pharmacy'!AY193)","v":""},{"$f":"IF(ISBLANK('MIS - Pharmacy'!BH193),\"\",'MIS - Pharmacy'!BH193)","v":""},"",""]
[{"$f":"IF(ISBLANK('MIS - Pharmacy'!A194), \"\",'MIS - Pharmacy'!A194)","v":""},{"$f":"IF(ISBLANK('MIS - Pharmacy'!B194),\"\",('MIS - Pharmacy'!B194&\"(\"&'MIS - Pharmacy'!D194&\")\"))","v":""},{"$f":"IF(ISBLANK('MIS - Pharmacy'!BI194), \"\", 'MIS - Pharmacy'!BI194)","v":""},{"$f":"IF(ISBLANK('MIS - Pharmacy'!U194), \"\", 'MIS - Pharmacy'!U194)","v":""},"","","","","","","",{"$f":"IF(ISBLANK('MIS - Pharmacy'!AC194),\"\",'MIS - Pharmacy'!AC194)","v":""},"",{"$f":"IF(ISBLANK('MIS - Pharmacy'!AD194),\"\",'MIS - Pharmacy'!AD194)","v":""},"","",{"$f":"IF('MIS - Pharmacy'!A194=\"\",\"\",SUM('MIS - Pharmacy'!K194+'MIS - Pharmacy'!L194))","v":""},"",{"$f":"IF('MIS - Pharmacy'!A194=\"\",\"\",('MIS - Pharmacy'!AF194+'MIS - Pharmacy'!AH194 +'MIS - Pharmacy'!AG194))","v":""},{"$f":"IF(ISBLANK('MIS - Pharmacy'!AI194),\"\",'MIS - Pharmacy'!AI194)","v":""},"","","",{"$f":"IF(ISBLANK('MIS - Pharmacy'!V194),\"\",'MIS - Pharmacy'!V194)","v":""},"","","",{"$f":"IF(ISBLANK('MIS - Pharmacy'!J194),\"\",'MIS - Pharmacy'!J194)","v":""},{"$f":"IF(ISBLANK('MIS - Pharmacy'!AY194),\"\",'MIS - Pharmacy'!AY194)","v":""},{"$f":"IF(ISBLANK('MIS - Pharmacy'!BH194),\"\",'MIS - Pharmacy'!BH194)","v":""},"",""]
[{"$f":"IF(ISBLANK('MIS - Pharmacy'!A195), \"\",'MIS - Pharmacy'!A195)","v":""},{"$f":"IF(ISBLANK('MIS - Pharmacy'!B195),\"\",('MIS - Pharmacy'!B195&\"(\"&'MIS - Pharmacy'!D195&\")\"))","v":""},{"$f":"IF(ISBLANK('MIS - Pharmacy'!BI195), \"\", 'MIS - Pharmacy'!BI195)","v":""},{"$f":"IF(ISBLANK('MIS - Pharmacy'!U195), \"\", 'MIS - Pharmacy'!U195)","v":""},"","","","","","","",{"$f":"IF(ISBLANK('MIS - Pharmacy'!AC195),\"\",'MIS - Pharmacy'!AC195)","v":""},"",{"$f":"IF(ISBLANK('MIS - Pharmacy'!AD195),\"\",'MIS - Pharmacy'!AD195)","v":""},"","",{"$f":"IF('MIS - Pharmacy'!A195=\"\",\"\",SUM('MIS - Pharmacy'!K195+'MIS - Pharmacy'!L195))","v":""},"",{"$f":"IF('MIS - Pharmacy'!A195=\"\",\"\",('MIS - Pharmacy'!AF195+'MIS - Pharmacy'!AH195 +'MIS - Pharmacy'!AG195))","v":""},{"$f":"IF(ISBLANK('MIS - Pharmacy'!AI195),\"\",'MIS - Pharmacy'!AI195)","v":""},"","","",{"$f":"IF(ISBLANK('MIS - Pharmacy'!V195),\"\",'MIS - Pharmacy'!V195)","v":""},"","","",{"$f":"IF(ISBLANK('MIS - Pharmacy'!J195),\"\",'MIS - Pharmacy'!J195)","v":""},{"$f":"IF(ISBLANK('MIS - Pharmacy'!AY195),\"\",'MIS - Pharmacy'!AY195)","v":""},{"$f":"IF(ISBLANK('MIS - Pharmacy'!BH195),\"\",'MIS - Pharmacy'!BH195)","v":""},"",""]
[{"$f":"IF(ISBLANK('MIS - Pharmacy'!A196), \"\",'MIS - Pharmacy'!A196)","v":""},{"$f":"IF(ISBLANK('MIS - Pharmacy'!B196),\"\",('MIS - Pharmacy'!B196&\"(\"&'MIS - Pharmacy'!D196&\")\"))","v":""},{"$f":"IF(ISBLANK('MIS - Pharmacy'!BI196), \"\", 'MIS - Pharmacy'!BI196)","v":""},{"$f":"IF(ISBLANK('MIS - Pharmacy'!U196), \"\", 'MIS - Pharmacy'!U196)","v":""},"",{"$f":"IF(D205=\"\",\"\",D205*12)","v":""},{"$f":"IF(Q205=\"\",\"\",IF(Q205 = 0, 0, D205/Q205*1000))","v":""},"","",{"$f":"IF(D205=0,0,IF(D205=\"\",\"\",D205/Q205))","v":""},{"$f":"IF(D205=0,0,IF(D205=\"\",\"\",D205/X205))","v":""},{"$f":"IF(ISBLANK('MIS - Pharmacy'!AC196),\"\",'MIS - Pharmacy'!AC196)","v":""},"",{"$f":"IF(ISBLANK('MIS - Pharmacy'!AD196),\"\",'MIS - Pharmacy'!AD196)","v":""},"",{"$f":"IF(L205=\"\",\"\",IF(X205=0,0,L205/X205))","v":""},{"$f":"IF('MIS - Pharmacy'!A196=\"\",\"\",SUM('MIS - Pharmacy'!K196+'MIS - Pharmacy'!L196))","v":""},"",{"$f":"IF('MIS - Pharmacy'!A196=\"\",\"\",('MIS - Pharmacy'!AF196+'MIS - Pharmacy'!AH196 +'MIS - Pharmacy'!AG196))","v":""},{"$f":"IF(ISBLANK('MIS - Pharmacy'!AI196),\"\",'MIS - Pharmacy'!AI196)","v":""},"",{"$f":"IF(A205=\"\",\"\",IF(T205=0,0,T205/Q205*1000))","v":""},"",{"$f":"IF(ISBLANK('MIS - Pharmacy'!V196),\"\",'MIS - Pharmacy'!V196)","v":""},"","","",{"$f":"IF(ISBLANK('MIS - Pharmacy'!J196),\"\",'MIS - Pharmacy'!J196)","v":""},{"$f":"IF(ISBLANK('MIS - Pharmacy'!AY196),\"\",'MIS - Pharmacy'!AY196)","v":""},{"$f":"IF(ISBLANK('MIS - Pharmacy'!BH196),\"\",'MIS - Pharmacy'!BH196)","v":""},{"$f":"IF(A205=\"\",\"\",D205+L205)","v":""},""]
[{"$f":"IF(ISBLANK('MIS - Pharmacy'!A197), \"\",'MIS - Pharmacy'!A197)","v":""},{"$f":"IF(ISBLANK('MIS - Pharmacy'!B197),\"\",('MIS - Pharmacy'!B197&\"(\"&'MIS - Pharmacy'!D197&\")\"))","v":""},{"$f":"IF(ISBLANK('MIS - Pharmacy'!BI197), \"\", 'MIS - Pharmacy'!BI197)","v":""},{"$f":"IF(ISBLANK('MIS - Pharmacy'!U197), \"\", 'MIS - Pharmacy'!U197)","v":""},{"$f":"IF(D206=\"\",\"\",IF(D206<=D$9,\"Lower Outlier\",IF(D206<=D$5,\"Below Average\",IF(D206<=D$6,\"Lower Quartile Range\",IF(D206<=D$7,\"Upper Quartile Range\",IF(D206<=D$10,\"Above Average\",\"Upper Outlier\"))))))","v":""},"","",{"$f":"IF(D206=\"\",\"\",IF(X206=0,0,D206/Y206))","v":""},{"$f":"IF(A206=\"\",\"\",IF(D206=0,0,(D206*0.3)/Y206))","v":""},"","",{"$f":"IF(ISBLANK('MIS - Pharmacy'!AC197),\"\",'MIS - Pharmacy'!AC197)","v":""},{"$f":"IF(L206=\"\",\"\",IF(L206<=L$9,\"Lower Outlier\",IF(L206<=L$5,\"Below Average\",IF(L206<=L$6,\"Lower Quartile Range\",IF(L206<=L$7,\"Upper Quartile Range\",IF(L206<=L$10,\"Above Average\",\"Upper Outlier\"))))))","v":""},{"$f":"IF(ISBLANK('MIS - Pharmacy'!AD197),\"\",'MIS - Pharmacy'!AD197)","v":""},{"$f":"IF(N206=\"\",\"\",IF(N206=0,0,L206/N206*1000))","v":""},"",{"$f":"IF('MIS - Pharmacy'!A197=\"\",\"\",SUM('MIS - Pharmacy'!K197+'MIS - Pharmacy'!L197))","v":""},{"$f":"IF(Q206=\"\",\"\",IF(Q206<=Q$9,\"Lower Outlier\",IF(Q206<=Q$5,\"Below Average\",IF(Q206<=Q$6,\"Lower Quartile Range\",IF(Q206<=Q$7,\"Upper Quartile Range\",IF(Q206<=Q$10,\"Above Average\",\"Upper Outlier\"))))))","v":""},{"$f":"IF('MIS - Pharmacy'!A197=\"\",\"\",('MIS - Pharmacy'!AF197+'MIS - Pharmacy'!AH197 +'MIS - Pharmacy'!AG197))","v":""},{"$f":"IF(ISBLANK('MIS - Pharmacy'!AI197),\"\",'MIS - Pharmacy'!AI197)","v":""},{"$f":"IF(T206=\"\",\"\",IF(T206<=T$9,\"Lower Outlier\",IF(T206<=T$5,\"Below Average\",IF(T206<=T$6,\"Lower Quartile Range\",IF(T206<=T$7,\"Upper Quartile Range\",IF(T206<=T$10,\"Above Average\",\"Upper Outlier\"))))))","v":""},"",{"$f":"IF(V206=\"\",\"\",IF(S206 >0,(T206/S206*1000),0))","v":""},{"$f":"IF(ISBLANK('MIS - Pharmacy'!V197),\"\",'MIS - Pharmacy'!V197)","v":""},{"$f":"IF(X206=\"\",\"\",(X206/7)*$Y$3)","v":""},{"$f":"IF(X206=\"\",\"\",IF(X206<=X$9,\"Lower Outlier\",IF(X206<=X$5,\"Below Average\",IF(X206<=X$6,\"Lower Quartile Range\",IF(X206<=X$7,\"Upper Quartile Range\",IF(X206<=X$10,\"Above Average\",\"Upper Outlier\"))))))","v":""},{"$f":"IF(A206=\"\",\"\",IF(X206=0,0,Y206/Q206*1000))","v":""},{"$f":"IF(ISBLANK('MIS - Pharmacy'!J197),\"\",'MIS - Pharmacy'!J197)","v":""},{"$f":"IF(ISBLANK('MIS - Pharmacy'!AY197),\"\",'MIS - Pharmacy'!AY197)","v":""},{"$f":"IF(ISBLANK('MIS - Pharmacy'!BH197),\"\",'MIS - Pharmacy'!BH197)","v":""},"",{"$f":"IF(A206=\"\",\"\",IF(Y206=0,0,(AE206/Y206)*100))","v":""}]
[{"$f":"IF(ISBLANK('MIS - Pharmacy'!A198), \"\",'MIS - Pharmacy'!A198)","v":""},{"$f":"IF(ISBLANK('MIS - Pharmacy'!B198),\"\",('MIS - Pharmacy'!B198&\"(\"&'MIS - Pharmacy'!D198&\")\"))","v":""},{"$f":"IF(ISBLANK('MIS - Pharmacy'!BI198), \"\", 'MIS - Pharmacy'!BI198)","v":""},{"$f":"IF(ISBLANK('MIS - Pharmacy'!U198), \"\", 'MIS - Pharmacy'!U198)","v":""},"","","","","","","",{"$f":"IF(ISBLANK('MIS - Pharmacy'!AC198),\"\",'MIS - Pharmacy'!AC198)","v":""},"",{"$f":"IF(ISBLANK('MIS - Pharmacy'!AD198),\"\",'MIS - Pharmacy'!AD198)","v":""},"","",{"$f":"IF('MIS - Pharmacy'!A198=\"\",\"\",SUM('MIS - Pharmacy'!K198+'MIS - Pharmacy'!L198))","v":""},"",{"$f":"IF('MIS - Pharmacy'!A198=\"\",\"\",('MIS - Pharmacy'!AF198+'MIS - Pharmacy'!AH198 +'MIS - Pharmacy'!AG198))","v":""},{"$f":"IF(ISBLANK('MIS - Pharmacy'!AI198),\"\",'MIS - Pharmacy'!AI198)","v":""},"","","",{"$f":"IF(ISBLANK('MIS - Pharmacy'!V198),\"\",'MIS - Pharmacy'!V198)","v":""},"","","",{"$f":"IF(ISBLANK('MIS - Pharmacy'!J198),\"\",'MIS - Pharmacy'!J198)","v":""},{"$f":"IF(ISBLANK('MIS - Pharmacy'!AY198),\"\",'MIS - Pharmacy'!AY198)","v":""},{"$f":"IF(ISBLANK('MIS - Pharmacy'!BH198),\"\",'MIS - Pharmacy'!BH198)","v":""},"",""]
[{"$f":"IF(ISBLANK('MIS - Pharmacy'!A199), \"\",'MIS - Pharmacy'!A199)","v":""},{"$f":"IF(ISBLANK('MIS - Pharmacy'!B199),\"\",('MIS - Pharmacy'!B199&\"(\"&'MIS - Pharmacy'!D199&\")\"))","v":""},{"$f":"IF(ISBLANK('MIS - Pharmacy'!BI199), \"\", 'MIS - Pharmacy'!BI199)","v":""},{"$f":"IF(ISBLANK('MIS - Pharmacy'!U199), \"\", 'MIS - Pharmacy'!U199)","v":""},"","","","","","","",{"$f":"IF(ISBLANK('MIS - Pharmacy'!AC199),\"\",'MIS - Pharmacy'!AC199)","v":""},"",{"$f":"IF(ISBLANK('MIS - Pharmacy'!AD199),\"\",'MIS - Pharmacy'!AD199)","v":""},"","",{"$f":"IF('MIS - Pharmacy'!A199=\"\",\"\",SUM('MIS - Pharmacy'!K199+'MIS - Pharmacy'!L199))","v":""},"",{"$f":"IF('MIS - Pharmacy'!A199=\"\",\"\",('MIS - Pharmacy'!AF199+'MIS - Pharmacy'!AH199 +'MIS - Pharmacy'!AG199))","v":""},{"$f":"IF(ISBLANK('MIS - Pharmacy'!AI199),\"\",'MIS - Pharmacy'!AI199)","v":""},"","","",{"$f":"IF(ISBLANK('MIS - Pharmacy'!V199),\"\",'MIS - Pharmacy'!V199)","v":""},"","","",{"$f":"IF(ISBLANK('MIS - Pharmacy'!J199),\"\",'MIS - Pharmacy'!J199)","v":""},{"$f":"IF(ISBLANK('MIS - Pharmacy'!AY199),\"\",'MIS - Pharmacy'!AY199)","v":""},{"$f":"IF(ISBLANK('MIS - Pharmacy'!BH199),\"\",'MIS - Pharmacy'!BH199)","v":""},"",""]
[{"$f":"IF(ISBLANK('MIS - Pharmacy'!A200), \"\",'MIS - Pharmacy'!A200)","v":""},{"$f":"IF(ISBLANK('MIS - Pharmacy'!B200),\"\",('MIS - Pharmacy'!B200&\"(\"&'MIS - Pharmacy'!D200&\")\"))","v":""},{"$f":"IF(ISBLANK('MIS - Pharmacy'!BI200), \"\", 'MIS - Pharmacy'!BI200)","v":""},{"$f":"IF(ISBLANK('MIS - Pharmacy'!U200), \"\", 'MIS - Pharmacy'!U200)","v":""},"","","","","","","",{"$f":"IF(ISBLANK('MIS - Pharmacy'!AC200),\"\",'MIS - Pharmacy'!AC200)","v":""},"",{"$f":"IF(ISBLANK('MIS - Pharmacy'!AD200),\"\",'MIS - Pharmacy'!AD200)","v":""},"","",{"$f":"IF('MIS - Pharmacy'!A200=\"\",\"\",SUM('MIS - Pharmacy'!K200+'MIS - Pharmacy'!L200))","v":""},"",{"$f":"IF('MIS - Pharmacy'!A200=\"\",\"\",('MIS - Pharmacy'!AF200+'MIS - Pharmacy'!AH200 +'MIS - Pharmacy'!AG200))","v":""},{"$f":"IF(ISBLANK('MIS - Pharmacy'!AI200),\"\",'MIS - Pharmacy'!AI200)","v":""},"","","",{"$f":"IF(ISBLANK('MIS - Pharmacy'!V200),\"\",'MIS - Pharmacy'!V200)","v":""},"","","",{"$f":"IF(ISBLANK('MIS - Pharmacy'!J200),\"\",'MIS - Pharmacy'!J200)","v":""},{"$f":"IF(ISBLANK('MIS - Pharmacy'!AY200),\"\",'MIS - Pharmacy'!AY200)","v":""},{"$f":"IF(ISBLANK('MIS - Pharmacy'!BH200),\"\",'MIS - Pharmacy'!BH200)","v":""},"",""]
[{"$f":"IF(ISBLANK('MIS - Pharmacy'!A201), \"\",'MIS - Pharmacy'!A201)","v":""},{"$f":"IF(ISBLANK('MIS - Pharmacy'!B201),\"\",('MIS - Pharmacy'!B201&\"(\"&'MIS - Pharmacy'!D201&\")\"))","v":""},{"$f":"IF(ISBLANK('MIS - Pharmacy'!BI201), \"\", 'MIS - Pharmacy'!BI201)","v":""},{"$f":"IF(ISBLANK('MIS - Pharmacy'!U201), \"\", 'MIS - Pharmacy'!U201)","v":""},"","","","","","","",{"$f":"IF(ISBLANK('MIS - Pharmacy'!AC201),\"\",'MIS - Pharmacy'!AC201)","v":""},"",{"$f":"IF(ISBLANK('MIS - Pharmacy'!AD201),\"\",'MIS - Pharmacy'!AD201)","v":""},"","",{"$f":"IF('MIS - Pharmacy'!A201=\"\",\"\",SUM('MIS - Pharmacy'!K201+'MIS - Pharmacy'!L201))","v":""},"",{"$f":"IF('MIS - Pharmacy'!A201=\"\",\"\",('MIS - Pharmacy'!AF201+'MIS - Pharmacy'!AH201 +'MIS - Pharmacy'!AG201))","v":""},{"$f":"IF(ISBLANK('MIS - Pharmacy'!AI201),\"\",'MIS - Pharmacy'!AI201)","v":""},"","","",{"$f":"IF(ISBLANK('MIS - Pharmacy'!V201),\"\",'MIS - Pharmacy'!V201)","v":""},"","","",{"$f":"IF(ISBLANK('MIS - Pharmacy'!J201),\"\",'MIS - Pharmacy'!J201)","v":""},{"$f":"IF(ISBLANK('MIS - Pharmacy'!AY201),\"\",'MIS - Pharmacy'!AY201)","v":""},{"$f":"IF(ISBLANK('MIS - Pharmacy'!BH201),\"\",'MIS - Pharmacy'!BH201)","v":""},"",""]
[{"$f":"IF(ISBLANK('MIS - Pharmacy'!A202), \"\",'MIS - Pharmacy'!A202)","v":""},{"$f":"IF(ISBLANK('MIS - Pharmacy'!B202),\"\",('MIS - Pharmacy'!B202&\"(\"&'MIS - Pharmacy'!D202&\")\"))","v":""},{"$f":"IF(ISBLANK('MIS - Pharmacy'!BI202), \"\", 'MIS - Pharmacy'!BI202)","v":""},{"$f":"IF(ISBLANK('MIS - Pharmacy'!U202), \"\", 'MIS - Pharmacy'!U202)","v":""},"","","","","","","",{"$f":"IF(ISBLANK('MIS - Pharmacy'!AC202),\"\",'MIS - Pharmacy'!AC202)","v":""},"",{"$f":"IF(ISBLANK('MIS - Pharmacy'!AD202),\"\",'MIS - Pharmacy'!AD202)","v":""},"","",{"$f":"IF('MIS - Pharmacy'!A202=\"\",\"\",SUM('MIS - Pharmacy'!K202+'MIS - Pharmacy'!L202))","v":""},"",{"$f":"IF('MIS - Pharmacy'!A202=\"\",\"\",('MIS - Pharmacy'!AF202+'MIS - Pharmacy'!AH202 +'MIS - Pharmacy'!AG202))","v":""},{"$f":"IF(ISBLANK('MIS - Pharmacy'!AI202),\"\",'MIS - Pharmacy'!AI202)","v":""},"","","",{"$f":"IF(ISBLANK('MIS - Pharmacy'!V202),\"\",'MIS - Pharmacy'!V202)","v":""},"","","",{"$f":"IF(ISBLANK('MIS - Pharmacy'!J202),\"\",'MIS - Pharmacy'!J202)","v":""},{"$f":"IF(ISBLANK('MIS - Pharmacy'!AY202),\"\",'MIS - Pharmacy'!AY202)","v":""},{"$f":"IF(ISBLANK('MIS - Pharmacy'!BH202),\"\",'MIS - Pharmacy'!BH202)","v":""},"",""]
[{"$f":"IF(ISBLANK('MIS - Pharmacy'!A203), \"\",'MIS - Pharmacy'!A203)","v":""},{"$f":"IF(ISBLANK('MIS - Pharmacy'!B203),\"\",('MIS - Pharmacy'!B203&\"(\"&'MIS - Pharmacy'!D203&\")\"))","v":""},{"$f":"IF(ISBLANK('MIS - Pharmacy'!BI203), \"\", 'MIS - Pharmacy'!BI203)","v":""},{"$f":"IF(ISBLANK('MIS - Pharmacy'!U203), \"\", 'MIS - Pharmacy'!U203)","v":""},"","","","","","","",{"$f":"IF(ISBLANK('MIS - Pharmacy'!AC203),\"\",'MIS - Pharmacy'!AC203)","v":""},"",{"$f":"IF(ISBLANK('MIS - Pharmacy'!AD203),\"\",'MIS - Pharmacy'!AD203)","v":""},"","",{"$f":"IF('MIS - Pharmacy'!A203=\"\",\"\",SUM('MIS - Pharmacy'!K203+'MIS - Pharmacy'!L203))","v":""},"",{"$f":"IF('MIS - Pharmacy'!A203=\"\",\"\",('MIS - Pharmacy'!AF203+'MIS - Pharmacy'!AH203 +'MIS - Pharmacy'!AG203))","v":""},{"$f":"IF(ISBLANK('MIS - Pharmacy'!AI203),\"\",'MIS - Pharmacy'!AI203)","v":""},"","","",{"$f":"IF(ISBLANK('MIS - Pharmacy'!V203),\"\",'MIS - Pharmacy'!V203)","v":""},"","","",{"$f":"IF(ISBLANK('MIS - Pharmacy'!J203),\"\",'MIS - Pharmacy'!J203)","v":""},{"$f":"IF(ISBLANK('MIS - Pharmacy'!AY203),\"\",'MIS - Pharmacy'!AY203)","v":""},{"$f":"IF(ISBLANK('MIS - Pharmacy'!BH203),\"\",'MIS - Pharmacy'!BH203)","v":""},"",""]
[{"$f":"IF(ISBLANK('MIS - Pharmacy'!A204), \"\",'MIS - Pharmacy'!A204)","v":""},{"$f":"IF(ISBLANK('MIS - Pharmacy'!B204),\"\",('MIS - Pharmacy'!B204&\"(\"&'MIS - Pharmacy'!D204&\")\"))","v":""},{"$f":"IF(ISBLANK('MIS - Pharmacy'!BI204), \"\", 'MIS - Pharmacy'!BI204)","v":""},{"$f":"IF(ISBLANK('MIS - Pharmacy'!U204), \"\", 'MIS - Pharmacy'!U204)","v":""},"","","","","","","",{"$f":"IF(ISBLANK('MIS - Pharmacy'!AC204),\"\",'MIS - Pharmacy'!AC204)","v":""},"",{"$f":"IF(ISBLANK('MIS - Pharmacy'!AD204),\"\",'MIS - Pharmacy'!AD204)","v":""},"","",{"$f":"IF('MIS - Pharmacy'!A204=\"\",\"\",SUM('MIS - Pharmacy'!K204+'MIS - Pharmacy'!L204))","v":""},"",{"$f":"IF('MIS - Pharmacy'!A204=\"\",\"\",('MIS - Pharmacy'!AF204+'MIS - Pharmacy'!AH204 +'MIS - Pharmacy'!AG204))","v":""},{"$f":"IF(ISBLANK('MIS - Pharmacy'!AI204),\"\",'MIS - Pharmacy'!AI204)","v":""},"","","",{"$f":"IF(ISBLANK('MIS - Pharmacy'!V204),\"\",'MIS - Pharmacy'!V204)","v":""},"","","",{"$f":"IF(ISBLANK('MIS - Pharmacy'!J204),\"\",'MIS - Pharmacy'!J204)","v":""},{"$f":"IF(ISBLANK('MIS - Pharmacy'!AY204),\"\",'MIS - Pharmacy'!AY204)","v":""},{"$f":"IF(ISBLANK('MIS - Pharmacy'!BH204),\"\",'MIS - Pharmacy'!BH204)","v":""},"",""]
[{"$f":"IF(ISBLANK('MIS - Pharmacy'!A205), \"\",'MIS - Pharmacy'!A205)","v":""},{"$f":"IF(ISBLANK('MIS - Pharmacy'!B205),\"\",('MIS - Pharmacy'!B205&\"(\"&'MIS - Pharmacy'!D205&\")\"))","v":""},{"$f":"IF(ISBLANK('MIS - Pharmacy'!BI205), \"\", 'MIS - Pharmacy'!BI205)","v":""},{"$f":"IF(ISBLANK('MIS - Pharmacy'!U205), \"\", 'MIS - Pharmacy'!U205)","v":""},"","","","","","","",{"$f":"IF(ISBLANK('MIS - Pharmacy'!AC205),\"\",'MIS - Pharmacy'!AC205)","v":""},"",{"$f":"IF(ISBLANK('MIS - Pharmacy'!AD205),\"\",'MIS - Pharmacy'!AD205)","v":""},"","",{"$f":"IF('MIS - Pharmacy'!A205=\"\",\"\",SUM('MIS - Pharmacy'!K205+'MIS - Pharmacy'!L205))","v":""},"",{"$f":"IF('MIS - Pharmacy'!A205=\"\",\"\",('MIS - Pharmacy'!AF205+'MIS - Pharmacy'!AH205 +'MIS - Pharmacy'!AG205))","v":""},{"$f":"IF(ISBLANK('MIS - Pharmacy'!AI205),\"\",'MIS - Pharmacy'!AI205)","v":""},"","","",{"$f":"IF(ISBLANK('MIS - Pharmacy'!V205),\"\",'MIS - Pharmacy'!V205)","v":""},"","","",{"$f":"IF(ISBLANK('MIS - Pharmacy'!J205),\"\",'MIS - Pharmacy'!J205)","v":""},{"$f":"IF(ISBLANK('MIS - Pharmacy'!AY205),\"\",'MIS - Pharmacy'!AY205)","v":""},{"$f":"IF(ISBLANK('MIS - Pharmacy'!BH205),\"\",'MIS - Pharmacy'!BH205)","v":""},"",""]
[{"$f":"IF(ISBLANK('MIS - Pharmacy'!A206), \"\",'MIS - Pharmacy'!A206)","v":""},{"$f":"IF(ISBLANK('MIS - Pharmacy'!B206),\"\",('MIS - Pharmacy'!B206&\"(\"&'MIS - Pharmacy'!D206&\")\"))","v":""},{"$f":"IF(ISBLANK('MIS - Pharmacy'!BI206), \"\", 'MIS - Pharmacy'!BI206)","v":""},{"$f":"IF(ISBLANK('MIS - Pharmacy'!U206), \"\", 'MIS - Pharmacy'!U206)","v":""},"","","","","","","",{"$f":"IF(ISBLANK('MIS - Pharmacy'!AC206),\"\",'MIS - Pharmacy'!AC206)","v":""},"",{"$f":"IF(ISBLANK('MIS - Pharmacy'!AD206),\"\",'MIS - Pharmacy'!AD206)","v":""},"","",{"$f":"IF('MIS - Pharmacy'!A206=\"\",\"\",SUM('MIS - Pharmacy'!K206+'MIS - Pharmacy'!L206))","v":""},"",{"$f":"IF('MIS - Pharmacy'!A206=\"\",\"\",('MIS - Pharmacy'!AF206+'MIS - Pharmacy'!AH206 +'MIS - Pharmacy'!AG206))","v":""},{"$f":"IF(ISBLANK('MIS - Pharmacy'!AI206),\"\",'MIS - Pharmacy'!AI206)","v":""},"","","",{"$f":"IF(ISBLANK('MIS - Pharmacy'!V206),\"\",'MIS - Pharmacy'!V206)","v":""},"","","",{"$f":"IF(ISBLANK('MIS - Pharmacy'!J206),\"\",'MIS - Pharmacy'!J206)","v":""},{"$f":"IF(ISBLANK('MIS - Pharmacy'!AY206),\"\",'MIS - Pharmacy'!AY206)","v":""},{"$f":"IF(ISBLANK('MIS - Pharmacy'!BH206),\"\",'MIS - Pharmacy'!BH206)","v":""},"",""]
[{"$f":"IF(ISBLANK('MIS - Pharmacy'!A207), \"\",'MIS - Pharmacy'!A207)","v":""},{"$f":"IF(ISBLANK('MIS - Pharmacy'!B207),\"\",('MIS - Pharmacy'!B207&\"(\"&'MIS - Pharmacy'!D207&\")\"))","v":""},{"$f":"IF(ISBLANK('MIS - Pharmacy'!BI207), \"\", 'MIS - Pharmacy'!BI207)","v":""},{"$f":"IF(ISBLANK('MIS - Pharmacy'!U207), \"\", 'MIS - Pharmacy'!U207)","v":""},"","","","","","","",{"$f":"IF(ISBLANK('MIS - Pharmacy'!AC207),\"\",'MIS - Pharmacy'!AC207)","v":""},"",{"$f":"IF(ISBLANK('MIS - Pharmacy'!AD207),\"\",'MIS - Pharmacy'!AD207)","v":""},"","",{"$f":"IF('MIS - Pharmacy'!A207=\"\",\"\",SUM('MIS - Pharmacy'!K207+'MIS - Pharmacy'!L207))","v":""},"",{"$f":"IF('MIS - Pharmacy'!A207=\"\",\"\",('MIS - Pharmacy'!AF207+'MIS - Pharmacy'!AH207 +'MIS - Pharmacy'!AG207))","v":""},{"$f":"IF(ISBLANK('MIS - Pharmacy'!AI207),\"\",'MIS - Pharmacy'!AI207)","v":""},"","","",{"$f":"IF(ISBLANK('MIS - Pharmacy'!V207),\"\",'MIS - Pharmacy'!V207)","v":""},"","","",{"$f":"IF(ISBLANK('MIS - Pharmacy'!J207),\"\",'MIS - Pharmacy'!J207)","v":""},{"$f":"IF(ISBLANK('MIS - Pharmacy'!AY207),\"\",'MIS - Pharmacy'!AY207)","v":""},{"$f":"IF(ISBLANK('MIS - Pharmacy'!BH207),\"\",'MIS - Pharmacy'!BH207)","v":""},"",""]
[{"$f":"IF(ISBLANK('MIS - Pharmacy'!A208), \"\",'MIS - Pharmacy'!A208)","v":""},{"$f":"IF(ISBLANK('MIS - Pharmacy'!B208),\"\",('MIS - Pharmacy'!B208&\"(\"&'MIS - Pharmacy'!D208&\")\"))","v":""},{"$f":"IF(ISBLANK('MIS - Pharmacy'!BI208), \"\", 'MIS - Pharmacy'!BI208)","v":""},{"$f":"IF(ISBLANK('MIS - Pharmacy'!U208), \"\", 'MIS - Pharmacy'!U208)","v":""},"","","","","","","",{"$f":"IF(ISBLANK('MIS - Pharmacy'!AC208),\"\",'MIS - Pharmacy'!AC208)","v":""},"",{"$f":"IF(ISBLANK('MIS - Pharmacy'!AD208),\"\",'MIS - Pharmacy'!AD208)","v":""},"","",{"$f":"IF('MIS - Pharmacy'!A208=\"\",\"\",SUM('MIS - Pharmacy'!K208+'MIS - Pharmacy'!L208))","v":""},"",{"$f":"IF('MIS - Pharmacy'!A208=\"\",\"\",('MIS - Pharmacy'!AF208+'MIS - Pharmacy'!AH208 +'MIS - Pharmacy'!AG208))","v":""},{"$f":"IF(ISBLANK('MIS - Pharmacy'!AI208),\"\",'MIS - Pharmacy'!AI208)","v":""},"","","",{"$f":"IF(ISBLANK('MIS - Pharmacy'!V208),\"\",'MIS - Pharmacy'!V208)","v":""},"","","",{"$f":"IF(ISBLANK('MIS - Pharmacy'!J208),\"\",'MIS - Pharmacy'!J208)","v":""},{"$f":"IF(ISBLANK('MIS - Pharmacy'!AY208),\"\",'MIS - Pharmacy'!AY208)","v":""},{"$f":"IF(ISBLANK('MIS - Pharmacy'!BH208),\"\",'MIS - Pharmacy'!BH208)","v":""},"",""]
[{"$f":"IF(ISBLANK('MIS - Pharmacy'!A209), \"\",'MIS - Pharmacy'!A209)","v":""},{"$f":"IF(ISBLANK('MIS - Pharmacy'!B209),\"\",('MIS - Pharmacy'!B209&\"(\"&'MIS - Pharmacy'!D209&\")\"))","v":""},{"$f":"IF(ISBLANK('MIS - Pharmacy'!BI209), \"\", 'MIS - Pharmacy'!BI209)","v":""},{"$f":"IF(ISBLANK('MIS - Pharmacy'!U209), \"\", 'MIS - Pharmacy'!U209)","v":""},"","","","","","","",{"$f":"IF(ISBLANK('MIS - Pharmacy'!AC209),\"\",'MIS - Pharmacy'!AC209)","v":""},"",{"$f":"IF(ISBLANK('MIS - Pharmacy'!AD209),\"\",'MIS - Pharmacy'!AD209)","v":""},"","",{"$f":"IF('MIS - Pharmacy'!A209=\"\",\"\",SUM('MIS - Pharmacy'!K209+'MIS - Pharmacy'!L209))","v":""},"",{"$f":"IF('MIS - Pharmacy'!A209=\"\",\"\",('MIS - Pharmacy'!AF209+'MIS - Pharmacy'!AH209 +'MIS - Pharmacy'!AG209))","v":""},{"$f":"IF(ISBLANK('MIS - Pharmacy'!AI209),\"\",'MIS - Pharmacy'!AI209)","v":""},"","","",{"$f":"IF(ISBLANK('MIS - Pharmacy'!V209),\"\",'MIS - Pharmacy'!V209)","v":""},"","","",{"$f":"IF(ISBLANK('MIS - Pharmacy'!J209),\"\",'MIS - Pharmacy'!J209)","v":""},{"$f":"IF(ISBLANK('MIS - Pharmacy'!AY209),\"\",'MIS - Pharmacy'!AY209)","v":""},{"$f":"IF(ISBLANK('MIS - Pharmacy'!BH209),\"\",'MIS - Pharmacy'!BH209)","v":""},"",""]
[{"$f":"IF(ISBLANK('MIS - Pharmacy'!A210), \"\",'MIS - Pharmacy'!A210)","v":""},{"$f":"IF(ISBLANK('MIS - Pharmacy'!B210),\"\",('MIS - Pharmacy'!B210&\"(\"&'MIS - Pharmacy'!D210&\")\"))","v":""},{"$f":"IF(ISBLANK('MIS - Pharmacy'!BI210), \"\", 'MIS - Pharmacy'!BI210)","v":""},{"$f":"IF(ISBLANK('MIS - Pharmacy'!U210), \"\", 'MIS - Pharmacy'!U210)","v":""},"","","","","","","",{"$f":"IF(ISBLANK('MIS - Pharmacy'!AC210),\"\",'MIS - Pharmacy'!AC210)","v":""},"",{"$f":"IF(ISBLANK('MIS - Pharmacy'!AD210),\"\",'MIS - Pharmacy'!AD210)","v":""},"","",{"$f":"IF('MIS - Pharmacy'!A210=\"\",\"\",SUM('MIS - Pharmacy'!K210+'MIS - Pharmacy'!L210))","v":""},"",{"$f":"IF('MIS - Pharmacy'!A210=\"\",\"\",('MIS - Pharmacy'!AF210+'MIS - Pharmacy'!AH210 +'MIS - Pharmacy'!AG210))","v":""},{"$f":"IF(ISBLANK('MIS - Pharmacy'!AI210),\"\",'MIS - Pharmacy'!AI210)","v":""},"","","",{"$f":"IF(ISBLANK('MIS - Pharmacy'!V210),\"\",'MIS - Pharmacy'!V210)","v":""},"","","",{"$f":"IF(ISBLANK('MIS - Pharmacy'!J210),\"\",'MIS - Pharmacy'!J210)","v":""},{"$f":"IF(ISBLANK('MIS - Pharmacy'!AY210),\"\",'MIS - Pharmacy'!AY210)","v":""},{"$f":"IF(ISBLANK('MIS - Pharmacy'!BH210),\"\",'MIS - Pharmacy'!BH210)","v":""},"",""]
[{"$f":"IF(ISBLANK('MIS - Pharmacy'!A211), \"\",'MIS - Pharmacy'!A211)","v":""},{"$f":"IF(ISBLANK('MIS - Pharmacy'!B211),\"\",('MIS - Pharmacy'!B211&\"(\"&'MIS - Pharmacy'!D211&\")\"))","v":""},{"$f":"IF(ISBLANK('MIS - Pharmacy'!BI211), \"\", 'MIS - Pharmacy'!BI211)","v":""},{"$f":"IF(ISBLANK('MIS - Pharmacy'!U211), \"\", 'MIS - Pharmacy'!U211)","v":""},"","","","","","","",{"$f":"IF(ISBLANK('MIS - Pharmacy'!AC211),\"\",'MIS - Pharmacy'!AC211)","v":""},"",{"$f":"IF(ISBLANK('MIS - Pharmacy'!AD211),\"\",'MIS - Pharmacy'!AD211)","v":""},"","",{"$f":"IF('MIS - Pharmacy'!A211=\"\",\"\",SUM('MIS - Pharmacy'!K211+'MIS - Pharmacy'!L211))","v":""},"",{"$f":"IF('MIS - Pharmacy'!A211=\"\",\"\",('MIS - Pharmacy'!AF211+'MIS - Pharmacy'!AH211 +'MIS - Pharmacy'!AG211))","v":""},{"$f":"IF(ISBLANK('MIS - Pharmacy'!AI211),\"\",'MIS - Pharmacy'!AI211)","v":""},"","","",{"$f":"IF(ISBLANK('MIS - Pharmacy'!V211),\"\",'MIS - Pharmacy'!V211)","v":""},"","","",{"$f":"IF(ISBLANK('MIS - Pharmacy'!J211),\"\",'MIS - Pharmacy'!J211)","v":""},{"$f":"IF(ISBLANK('MIS - Pharmacy'!AY211),\"\",'MIS - Pharmacy'!AY211)","v":""},{"$f":"IF(ISBLANK('MIS - Pharmacy'!BH211),\"\",'MIS - Pharmacy'!BH211)","v":""},"",""]
[{"$f":"IF(ISBLANK('MIS - Pharmacy'!A212), \"\",'MIS - Pharmacy'!A212)","v":""},{"$f":"IF(ISBLANK('MIS - Pharmacy'!B212),\"\",('MIS - Pharmacy'!B212&\"(\"&'MIS - Pharmacy'!D212&\")\"))","v":""},{"$f":"IF(ISBLANK('MIS - Pharmacy'!BI212), \"\", 'MIS - Pharmacy'!BI212)","v":""},{"$f":"IF(ISBLANK('MIS - Pharmacy'!U212), \"\", 'MIS - Pharmacy'!U212)","v":""},"","","","","","","",{"$f":"IF(ISBLANK('MIS - Pharmacy'!AC212),\"\",'MIS - Pharmacy'!AC212)","v":""},"",{"$f":"IF(ISBLANK('MIS - Pharmacy'!AD212),\"\",'MIS - Pharmacy'!AD212)","v":""},"","",{"$f":"IF('MIS - Pharmacy'!A212=\"\",\"\",SUM('MIS - Pharmacy'!K212+'MIS - Pharmacy'!L212))","v":""},"",{"$f":"IF('MIS - Pharmacy'!A212=\"\",\"\",('MIS - Pharmacy'!AF212+'MIS - Pharmacy'!AH212 +'MIS - Pharmacy'!AG212))","v":""},{"$f":"IF(ISBLANK('MIS - Pharmacy'!AI212),\"\",'MIS - Pharmacy'!AI212)","v":""},"","","",{"$f":"IF(ISBLANK('MIS - Pharmacy'!V212),\"\",'MIS - Pharmacy'!V212)","v":""},"","","",{"$f":"IF(ISBLANK('MIS - Pharmacy'!J212),\"\",'MIS - Pharmacy'!J212)","v":""},{"$f":"IF(ISBLANK('MIS - Pharmacy'!AY212),\"\",'MIS - Pharmacy'!AY212)","v":""},{"$f":"IF(ISBLANK('MIS - Pharmacy'!BH212),\"\",'MIS - Pharmacy'!BH212)","v":""},"",""]
[{"$f":"IF(ISBLANK('MIS - Pharmacy'!A213), \"\",'MIS - Pharmacy'!A213)","v":""},{"$f":"IF(ISBLANK('MIS - Pharmacy'!B213),\"\",('MIS - Pharmacy'!B213&\"(\"&'MIS - Pharmacy'!D213&\")\"))","v":""},{"$f":"IF(ISBLANK('MIS - Pharmacy'!BI213), \"\", 'MIS - Pharmacy'!BI213)","v":""},{"$f":"IF(ISBLANK('MIS - Pharmacy'!U213), \"\", 'MIS - Pharmacy'!U213)","v":""},"","","","","","","",{"$f":"IF(ISBLANK('MIS - Pharmacy'!AC213),\"\",'MIS - Pharmacy'!AC213)","v":""},"",{"$f":"IF(ISBLANK('MIS - Pharmacy'!AD213),\"\",'MIS - Pharmacy'!AD213)","v":""},"","",{"$f":"IF('MIS - Pharmacy'!A213=\"\",\"\",SUM('MIS - Pharmacy'!K213+'MIS - Pharmacy'!L213))","v":""},"",{"$f":"IF('MIS - Pharmacy'!A213=\"\",\"\",('MIS - Pharmacy'!AF213+'MIS - Pharmacy'!AH213 +'MIS - Pharmacy'!AG213))","v":""},{"$f":"IF(ISBLANK('MIS - Pharmacy'!AI213),\"\",'MIS - Pharmacy'!AI213)","v":""},"","","",{"$f":"IF(ISBLANK('MIS - Pharmacy'!V213),\"\",'MIS - Pharmacy'!V213)","v":""},"","","",{"$f":"IF(ISBLANK('MIS - Pharmacy'!J213),\"\",'MIS - Pharmacy'!J213)","v":""},{"$f":"IF(ISBLANK('MIS - Pharmacy'!AY213),\"\",'MIS - Pharmacy'!AY213)","v":""},{"$f":"IF(ISBLANK('MIS - Pharmacy'!BH213),\"\",'MIS - Pharmacy'!BH213)","v":""},"",""]
[{"$f":"IF(ISBLANK('MIS - Pharmacy'!A214), \"\",'MIS - Pharmacy'!A214)","v":""},{"$f":"IF(ISBLANK('MIS - Pharmacy'!B214),\"\",('MIS - Pharmacy'!B214&\"(\"&'MIS - Pharmacy'!D214&\")\"))","v":""},{"$f":"IF(ISBLANK('MIS - Pharmacy'!BI214), \"\", 'MIS - Pharmacy'!BI214)","v":""},{"$f":"IF(ISBLANK('MIS - Pharmacy'!U214), \"\", 'MIS - Pharmacy'!U214)","v":""},"","","","","","","",{"$f":"IF(ISBLANK('MIS - Pharmacy'!AC214),\"\",'MIS - Pharmacy'!AC214)","v":""},"",{"$f":"IF(ISBLANK('MIS - Pharmacy'!AD214),\"\",'MIS - Pharmacy'!AD214)","v":""},"","",{"$f":"IF('MIS - Pharmacy'!A214=\"\",\"\",SUM('MIS - Pharmacy'!K214+'MIS - Pharmacy'!L214))","v":""},"",{"$f":"IF('MIS - Pharmacy'!A214=\"\",\"\",('MIS - Pharmacy'!AF214+'MIS - Pharmacy'!AH214 +'MIS - Pharmacy'!AG214))","v":""},{"$f":"IF(ISBLANK('MIS - Pharmacy'!AI214),\"\",'MIS - Pharmacy'!AI214)","v":""},"","","",{"$f":"IF(ISBLANK('MIS - Pharmacy'!V214),\"\",'MIS - Pharmacy'!V214)","v":""},"","","",{"$f":"IF(ISBLANK('MIS - Pharmacy'!J214),\"\",'MIS - Pharmacy'!J214)","v":""},{"$f":"IF(ISBLANK('MIS - Pharmacy'!AY214),\"\",'MIS - Pharmacy'!AY214)","v":""},{"$f":"IF(ISBLANK('MIS - Pharmacy'!BH214),\"\",'MIS - Pharmacy'!BH214)","v":""},"",""]
[{"$f":"IF(ISBLANK('MIS - Pharmacy'!A215), \"\",'MIS - Pharmacy'!A215)","v":""},{"$f":"IF(ISBLANK('MIS - Pharmacy'!B215),\"\",('MIS - Pharmacy'!B215&\"(\"&'MIS - Pharmacy'!D215&\")\"))","v":""},{"$f":"IF(ISBLANK('MIS - Pharmacy'!BI215), \"\", 'MIS - Pharmacy'!BI215)","v":""},{"$f":"IF(ISBLANK('MIS - Pharmacy'!U215), \"\", 'MIS - Pharmacy'!U215)","v":""},"","","","","","","",{"$f":"IF(ISBLANK('MIS - Pharmacy'!AC215),\"\",'MIS - Pharmacy'!AC215)","v":""},"",{"$f":"IF(ISBLANK('MIS - Pharmacy'!AD215),\"\",'MIS - Pharmacy'!AD215)","v":""},"","",{"$f":"IF('MIS - Pharmacy'!A215=\"\",\"\",SUM('MIS - Pharmacy'!K215+'MIS - Pharmacy'!L215))","v":""},"",{"$f":"IF('MIS - Pharmacy'!A215=\"\",\"\",('MIS - Pharmacy'!AF215+'MIS - Pharmacy'!AH215 +'MIS - Pharmacy'!AG215))","v":""},{"$f":"IF(ISBLANK('MIS - Pharmacy'!AI215),\"\",'MIS - Pharmacy'!AI215)","v":""},"","","",{"$f":"IF(ISBLANK('MIS - Pharmacy'!V215),\"\",'MIS - Pharmacy'!V215)","v":""},"","","",{"$f":"IF(ISBLANK('MIS - Pharmacy'!J215),\"\",'MIS - Pharmacy'!J215)","v":""},{"$f":"IF(ISBLANK('MIS - Pharmacy'!AY215),\"\",'MIS - Pharmacy'!AY215)","v":""},{"$f":"IF(ISBLANK('MIS - Pharmacy'!BH215),\"\",'MIS - Pharmacy'!BH215)","v":""},"",""]
[{"$f":"IF(ISBLANK('MIS - Pharmacy'!A216), \"\",'MIS - Pharmacy'!A216)","v":""},{"$f":"IF(ISBLANK('MIS - Pharmacy'!B216),\"\",('MIS - Pharmacy'!B216&\"(\"&'MIS - Pharmacy'!D216&\")\"))","v":""},{"$f":"IF(ISBLANK('MIS - Pharmacy'!BI216), \"\", 'MIS - Pharmacy'!BI216)","v":""},{"$f":"IF(ISBLANK('MIS - Pharmacy'!U216), \"\", 'MIS - Pharmacy'!U216)","v":""},"","","","","","","",{"$f":"IF(ISBLANK('MIS - Pharmacy'!AC216),\"\",'MIS - Pharmacy'!AC216)","v":""},"",{"$f":"IF(ISBLANK('MIS - Pharmacy'!AD216),\"\",'MIS - Pharmacy'!AD216)","v":""},"","",{"$f":"IF('MIS - Pharmacy'!A216=\"\",\"\",SUM('MIS - Pharmacy'!K216+'MIS - Pharmacy'!L216))","v":""},"",{"$f":"IF('MIS - Pharmacy'!A216=\"\",\"\",('MIS - Pharmacy'!AF216+'MIS - Pharmacy'!AH216 +'MIS - Pharmacy'!AG216))","v":""},{"$f":"IF(ISBLANK('MIS - Pharmacy'!AI216),\"\",'MIS - Pharmacy'!AI216)","v":""},"","","",{"$f":"IF(ISBLANK('MIS - Pharmacy'!V216),\"\",'MIS - Pharmacy'!V216)","v":""},"","","",{"$f":"IF(ISBLANK('MIS - Pharmacy'!J216),\"\",'MIS - Pharmacy'!J216)","v":""},{"$f":"IF(ISBLANK('MIS - Pharmacy'!AY216),\"\",'MIS - Pharmacy'!AY216)","v":""},{"$f":"IF(ISBLANK('MIS - Pharmacy'!BH216),\"\",'MIS - Pharmacy'!BH216)","v":""},"",""]
[{"$f":"IF(ISBLANK('MIS - Pharmacy'!A217), \"\",'MIS - Pharmacy'!A217)","v":""},{"$f":"IF(ISBLANK('MIS - Pharmacy'!B217),\"\",('MIS - Pharmacy'!B217&\"(\"&'MIS - Pharmacy'!D217&\")\"))","v":""},{"$f":"IF(ISBLANK('MIS - Pharmacy'!BI217), \"\", 'MIS - Pharmacy'!BI217)","v":""},{"$f":"IF(ISBLANK('MIS - Pharmacy'!U217), \"\", 'MIS - Pharmacy'!U217)","v":""},"","","","","","","",{"$f":"IF(ISBLANK('MIS - Pharmacy'!AC217),\"\",'MIS - Pharmacy'!AC217)","v":""},"",{"$f":"IF(ISBLANK('MIS - Pharmacy'!AD217),\"\",'MIS - Pharmacy'!AD217)","v":""},"","",{"$f":"IF('MIS - Pharmacy'!A217=\"\",\"\",SUM('MIS - Pharmacy'!K217+'MIS - Pharmacy'!L217))","v":""},"",{"$f":"IF('MIS - Pharmacy'!A217=\"\",\"\",('MIS - Pharmacy'!AF217+'MIS - Pharmacy'!AH217 +'MIS - Pharmacy'!AG217))","v":""},{"$f":"IF(ISBLANK('MIS - Pharmacy'!AI217),\"\",'MIS - Pharmacy'!AI217)","v":""},"","","",{"$f":"IF(ISBLANK('MIS - Pharmacy'!V217),\"\",'MIS - Pharmacy'!V217)","v":""},"","","",{"$f":"IF(ISBLANK('MIS - Pharmacy'!J217),\"\",'MIS - Pharmacy'!J217)","v":""},{"$f":"IF(ISBLANK('MIS - Pharmacy'!AY217),\"\",'MIS - Pharmacy'!AY217)","v":""},{"$f":"IF(ISBLANK('MIS - Pharmacy'!BH217),\"\",'MIS - Pharmacy'!BH217)","v":""},"",""]
[{"$f":"IF(ISBLANK('MIS - Pharmacy'!A218), \"\",'MIS - Pharmacy'!A218)","v":""},{"$f":"IF(ISBLANK('MIS - Pharmacy'!B218),\"\",('MIS - Pharmacy'!B218&\"(\"&'MIS - Pharmacy'!D218&\")\"))","v":""},{"$f":"IF(ISBLANK('MIS - Pharmacy'!BI218), \"\", 'MIS - Pharmacy'!BI218)","v":""},{"$f":"IF(ISBLANK('MIS - Pharmacy'!U218), \"\", 'MIS - Pharmacy'!U218)","v":""},"","","","","","","",{"$f":"IF(ISBLANK('MIS - Pharmacy'!AC218),\"\",'MIS - Pharmacy'!AC218)","v":""},"",{"$f":"IF(ISBLANK('MIS - Pharmacy'!AD218),\"\",'MIS - Pharmacy'!AD218)","v":""},"","",{"$f":"IF('MIS - Pharmacy'!A218=\"\",\"\",SUM('MIS - Pharmacy'!K218+'MIS - Pharmacy'!L218))","v":""},"",{"$f":"IF('MIS - Pharmacy'!A218=\"\",\"\",('MIS - Pharmacy'!AF218+'MIS - Pharmacy'!AH218 +'MIS - Pharmacy'!AG218))","v":""},{"$f":"IF(ISBLANK('MIS - Pharmacy'!AI218),\"\",'MIS - Pharmacy'!AI218)","v":""},"","","",{"$f":"IF(ISBLANK('MIS - Pharmacy'!V218),\"\",'MIS - Pharmacy'!V218)","v":""},"","","",{"$f":"IF(ISBLANK('MIS - Pharmacy'!J218),\"\",'MIS - Pharmacy'!J218)","v":""},{"$f":"IF(ISBLANK('MIS - Pharmacy'!AY218),\"\",'MIS - Pharmacy'!AY218)","v":""},{"$f":"IF(ISBLANK('MIS - Pharmacy'!BH218),\"\",'MIS - Pharmacy'!BH218)","v":""},"",""]
[{"$f":"IF(ISBLANK('MIS - Pharmacy'!A219), \"\",'MIS - Pharmacy'!A219)","v":""},{"$f":"IF(ISBLANK('MIS - Pharmacy'!B219),\"\",('MIS - Pharmacy'!B219&\"(\"&'MIS - Pharmacy'!D219&\")\"))","v":""},{"$f":"IF(ISBLANK('MIS - Pharmacy'!BI219), \"\", 'MIS - Pharmacy'!BI219)","v":""},{"$f":"IF(ISBLANK('MIS - Pharmacy'!U219), \"\", 'MIS - Pharmacy'!U219)","v":""},"","","","","","","",{"$f":"IF(ISBLANK('MIS - Pharmacy'!AC219),\"\",'MIS - Pharmacy'!AC219)","v":""},"",{"$f":"IF(ISBLANK('MIS - Pharmacy'!AD219),\"\",'MIS - Pharmacy'!AD219)","v":""},"","",{"$f":"IF('MIS - Pharmacy'!A219=\"\",\"\",SUM('MIS - Pharmacy'!K219+'MIS - Pharmacy'!L219))","v":""},"",{"$f":"IF('MIS - Pharmacy'!A219=\"\",\"\",('MIS - Pharmacy'!AF219+'MIS - Pharmacy'!AH219 +'MIS - Pharmacy'!AG219))","v":""},{"$f":"IF(ISBLANK('MIS - Pharmacy'!AI219),\"\",'MIS - Pharmacy'!AI219)","v":""},"","","",{"$f":"IF(ISBLANK('MIS - Pharmacy'!V219),\"\",'MIS - Pharmacy'!V219)","v":""},"","","",{"$f":"IF(ISBLANK('MIS - Pharmacy'!J219),\"\",'MIS - Pharmacy'!J219)","v":""},{"$f":"IF(ISBLANK('MIS - Pharmacy'!AY219),\"\",'MIS - Pharmacy'!AY219)","v":""},{"$f":"IF(ISBLANK('MIS - Pharmacy'!BH219),\"\",'MIS - Pharmacy'!BH219)","v":""},"",""]
[{"$f":"IF(ISBLANK('MIS - Pharmacy'!A220), \"\",'MIS - Pharmacy'!A220)","v":""},{"$f":"IF(ISBLANK('MIS - Pharmacy'!B220),\"\",('MIS - Pharmacy'!B220&\"(\"&'MIS - Pharmacy'!D220&\")\"))","v":""},{"$f":"IF(ISBLANK('MIS - Pharmacy'!BI220), \"\", 'MIS - Pharmacy'!BI220)","v":""},{"$f":"IF(ISBLANK('MIS - Pharmacy'!U220), \"\", 'MIS - Pharmacy'!U220)","v":""},"","","","","","","",{"$f":"IF(ISBLANK('MIS - Pharmacy'!AC220),\"\",'MIS - Pharmacy'!AC220)","v":""},"",{"$f":"IF(ISBLANK('MIS - Pharmacy'!AD220),\"\",'MIS - Pharmacy'!AD220)","v":""},"","",{"$f":"IF('MIS - Pharmacy'!A220=\"\",\"\",SUM('MIS - Pharmacy'!K220+'MIS - Pharmacy'!L220))","v":""},"",{"$f":"IF('MIS - Pharmacy'!A220=\"\",\"\",('MIS - Pharmacy'!AF220+'MIS - Pharmacy'!AH220 +'MIS - Pharmacy'!AG220))","v":""},{"$f":"IF(ISBLANK('MIS - Pharmacy'!AI220),\"\",'MIS - Pharmacy'!AI220)","v":""},"","","",{"$f":"IF(ISBLANK('MIS - Pharmacy'!V220),\"\",'MIS - Pharmacy'!V220)","v":""},"","","",{"$f":"IF(ISBLANK('MIS - Pharmacy'!J220),\"\",'MIS - Pharmacy'!J220)","v":""},{"$f":"IF(ISBLANK('MIS - Pharmacy'!AY220),\"\",'MIS - Pharmacy'!AY220)","v":""},{"$f":"IF(ISBLANK('MIS - Pharmacy'!BH220),\"\",'MIS - Pharmacy'!BH220)","v":""},"",""]
[{"$f":"IF(ISBLANK('MIS - Pharmacy'!A221), \"\",'MIS - Pharmacy'!A221)","v":""},{"$f":"IF(ISBLANK('MIS - Pharmacy'!B221),\"\",('MIS - Pharmacy'!B221&\"(\"&'MIS - Pharmacy'!D221&\")\"))","v":""},{"$f":"IF(ISBLANK('MIS - Pharmacy'!BI221), \"\", 'MIS - Pharmacy'!BI221)","v":""},{"$f":"IF(ISBLANK('MIS - Pharmacy'!U221), \"\", 'MIS - Pharmacy'!U221)","v":""},"","","","","","","",{"$f":"IF(ISBLANK('MIS - Pharmacy'!AC221),\"\",'MIS - Pharmacy'!AC221)","v":""},"",{"$f":"IF(ISBLANK('MIS - Pharmacy'!AD221),\"\",'MIS - Pharmacy'!AD221)","v":""},"","",{"$f":"IF('MIS - Pharmacy'!A221=\"\",\"\",SUM('MIS - Pharmacy'!K221+'MIS - Pharmacy'!L221))","v":""},"",{"$f":"IF('MIS - Pharmacy'!A221=\"\",\"\",('MIS - Pharmacy'!AF221+'MIS - Pharmacy'!AH221 +'MIS - Pharmacy'!AG221))","v":""},{"$f":"IF(ISBLANK('MIS - Pharmacy'!AI221),\"\",'MIS - Pharmacy'!AI221)","v":""},"","","",{"$f":"IF(ISBLANK('MIS - Pharmacy'!V221),\"\",'MIS - Pharmacy'!V221)","v":""},"","","",{"$f":"IF(ISBLANK('MIS - Pharmacy'!J221),\"\",'MIS - Pharmacy'!J221)","v":""},{"$f":"IF(ISBLANK('MIS - Pharmacy'!AY221),\"\",'MIS - Pharmacy'!AY221)","v":""},{"$f":"IF(ISBLANK('MIS - Pharmacy'!BH221),\"\",'MIS - Pharmacy'!BH221)","v":""},"",""]
[{"$f":"IF(ISBLANK('MIS - Pharmacy'!A222), \"\",'MIS - Pharmacy'!A222)","v":""},{"$f":"IF(ISBLANK('MIS - Pharmacy'!B222),\"\",('MIS - Pharmacy'!B222&\"(\"&'MIS - Pharmacy'!D222&\")\"))","v":""},{"$f":"IF(ISBLANK('MIS - Pharmacy'!BI222), \"\", 'MIS - Pharmacy'!BI222)","v":""},{"$f":"IF(ISBLANK('MIS - Pharmacy'!U222), \"\", 'MIS - Pharmacy'!U222)","v":""},"","","","","","","",{"$f":"IF(ISBLANK('MIS - Pharmacy'!AC222),\"\",'MIS - Pharmacy'!AC222)","v":""},"",{"$f":"IF(ISBLANK('MIS - Pharmacy'!AD222),\"\",'MIS - Pharmacy'!AD222)","v":""},"","",{"$f":"IF('MIS - Pharmacy'!A222=\"\",\"\",SUM('MIS - Pharmacy'!K222+'MIS - Pharmacy'!L222))","v":""},"",{"$f":"IF('MIS - Pharmacy'!A222=\"\",\"\",('MIS - Pharmacy'!AF222+'MIS - Pharmacy'!AH222 +'MIS - Pharmacy'!AG222))","v":""},{"$f":"IF(ISBLANK('MIS - Pharmacy'!AI222),\"\",'MIS - Pharmacy'!AI222)","v":""},"","","",{"$f":"IF(ISBLANK('MIS - Pharmacy'!V222),\"\",'MIS - Pharmacy'!V222)","v":""},"","","",{"$f":"IF(ISBLANK('MIS - Pharmacy'!J222),\"\",'MIS - Pharmacy'!J222)","v":""},{"$f":"IF(ISBLANK('MIS - Pharmacy'!AY222),\"\",'MIS - Pharmacy'!AY222)","v":""},{"$f":"IF(ISBLANK('MIS - Pharmacy'!BH222),\"\",'MIS - Pharmacy'!BH222)","v":""},"",""]
[{"$f":"IF(ISBLANK('MIS - Pharmacy'!A223), \"\",'MIS - Pharmacy'!A223)","v":""},{"$f":"IF(ISBLANK('MIS - Pharmacy'!B223),\"\",('MIS - Pharmacy'!B223&\"(\"&'MIS - Pharmacy'!D223&\")\"))","v":""},{"$f":"IF(ISBLANK('MIS - Pharmacy'!BI223), \"\", 'MIS - Pharmacy'!BI223)","v":""},{"$f":"IF(ISBLANK('MIS - Pharmacy'!U223), \"\", 'MIS - Pharmacy'!U223)","v":""},"","","","","","","",{"$f":"IF(ISBLANK('MIS - Pharmacy'!AC223),\"\",'MIS - Pharmacy'!AC223)","v":""},"",{"$f":"IF(ISBLANK('MIS - Pharmacy'!AD223),\"\",'MIS - Pharmacy'!AD223)","v":""},"","",{"$f":"IF('MIS - Pharmacy'!A223=\"\",\"\",SUM('MIS - Pharmacy'!K223+'MIS - Pharmacy'!L223))","v":""},"",{"$f":"IF('MIS - Pharmacy'!A223=\"\",\"\",('MIS - Pharmacy'!AF223+'MIS - Pharmacy'!AH223 +'MIS - Pharmacy'!AG223))","v":""},{"$f":"IF(ISBLANK('MIS - Pharmacy'!AI223),\"\",'MIS - Pharmacy'!AI223)","v":""},"","","",{"$f":"IF(ISBLANK('MIS - Pharmacy'!V223),\"\",'MIS - Pharmacy'!V223)","v":""},"","","",{"$f":"IF(ISBLANK('MIS - Pharmacy'!J223),\"\",'MIS - Pharmacy'!J223)","v":""},{"$f":"IF(ISBLANK('MIS - Pharmacy'!AY223),\"\",'MIS - Pharmacy'!AY223)","v":""},{"$f":"IF(ISBLANK('MIS - Pharmacy'!BH223),\"\",'MIS - Pharmacy'!BH223)","v":""},"",""]
[{"$f":"IF(ISBLANK('MIS - Pharmacy'!A224), \"\",'MIS - Pharmacy'!A224)","v":""},{"$f":"IF(ISBLANK('MIS - Pharmacy'!B224),\"\",('MIS - Pharmacy'!B224&\"(\"&'MIS - Pharmacy'!D224&\")\"))","v":""},{"$f":"IF(ISBLANK('MIS - Pharmacy'!BI224), \"\", 'MIS - Pharmacy'!BI224)","v":""},{"$f":"IF(ISBLANK('MIS - Pharmacy'!U224), \"\", 'MIS - Pharmacy'!U224)","v":""},"","","","","","","",{"$f":"IF(ISBLANK('MIS - Pharmacy'!AC224),\"\",'MIS - Pharmacy'!AC224)","v":""},"",{"$f":"IF(ISBLANK('MIS - Pharmacy'!AD224),\"\",'MIS - Pharmacy'!AD224)","v":""},"","",{"$f":"IF('MIS - Pharmacy'!A224=\"\",\"\",SUM('MIS - Pharmacy'!K224+'MIS - Pharmacy'!L224))","v":""},"",{"$f":"IF('MIS - Pharmacy'!A224=\"\",\"\",('MIS - Pharmacy'!AF224+'MIS - Pharmacy'!AH224 +'MIS - Pharmacy'!AG224))","v":""},{"$f":"IF(ISBLANK('MIS - Pharmacy'!AI224),\"\",'MIS - Pharmacy'!AI224)","v":""},"","","",{"$f":"IF(ISBLANK('MIS - Pharmacy'!V224),\"\",'MIS - Pharmacy'!V224)","v":""},"","","",{"$f":"IF(ISBLANK('MIS - Pharmacy'!J224),\"\",'MIS - Pharmacy'!J224)","v":""},{"$f":"IF(ISBLANK('MIS - Pharmacy'!AY224),\"\",'MIS - Pharmacy'!AY224)","v":""},{"$f":"IF(ISBLANK('MIS - Pharmacy'!BH224),\"\",'MIS - Pharmacy'!BH224)","v":""},"",""]
[{"$f":"IF(ISBLANK('MIS - Pharmacy'!A225), \"\",'MIS - Pharmacy'!A225)","v":""},{"$f":"IF(ISBLANK('MIS - Pharmacy'!B225),\"\",('MIS - Pharmacy'!B225&\"(\"&'MIS - Pharmacy'!D225&\")\"))","v":""},{"$f":"IF(ISBLANK('MIS - Pharmacy'!BI225), \"\", 'MIS - Pharmacy'!BI225)","v":""},{"$f":"IF(ISBLANK('MIS - Pharmacy'!U225), \"\", 'MIS - Pharmacy'!U225)","v":""},"","","","","","","",{"$f":"IF(ISBLANK('MIS - Pharmacy'!AC225),\"\",'MIS - Pharmacy'!AC225)","v":""},"",{"$f":"IF(ISBLANK('MIS - Pharmacy'!AD225),\"\",'MIS - Pharmacy'!AD225)","v":""},"","",{"$f":"IF('MIS - Pharmacy'!A225=\"\",\"\",SUM('MIS - Pharmacy'!K225+'MIS - Pharmacy'!L225))","v":""},"",{"$f":"IF('MIS - Pharmacy'!A225=\"\",\"\",('MIS - Pharmacy'!AF225+'MIS - Pharmacy'!AH225 +'MIS - Pharmacy'!AG225))","v":""},{"$f":"IF(ISBLANK('MIS - Pharmacy'!AI225),\"\",'MIS - Pharmacy'!AI225)","v":""},"","","",{"$f":"IF(ISBLANK('MIS - Pharmacy'!V225),\"\",'MIS - Pharmacy'!V225)","v":""},"","","",{"$f":"IF(ISBLANK('MIS - Pharmacy'!J225),\"\",'MIS - Pharmacy'!J225)","v":""},{"$f":"IF(ISBLANK('MIS - Pharmacy'!AY225),\"\",'MIS - Pharmacy'!AY225)","v":""},{"$f":"IF(ISBLANK('MIS - Pharmacy'!BH225),\"\",'MIS - Pharmacy'!BH225)","v":""},"",""]
[{"$f":"IF(ISBLANK('MIS - Pharmacy'!A226), \"\",'MIS - Pharmacy'!A226)","v":""},{"$f":"IF(ISBLANK('MIS - Pharmacy'!B226),\"\",('MIS - Pharmacy'!B226&\"(\"&'MIS - Pharmacy'!D226&\")\"))","v":""},{"$f":"IF(ISBLANK('MIS - Pharmacy'!BI226), \"\", 'MIS - Pharmacy'!BI226)","v":""},{"$f":"IF(ISBLANK('MIS - Pharmacy'!U226), \"\", 'MIS - Pharmacy'!U226)","v":""},"","","","","","","",{"$f":"IF(ISBLANK('MIS - Pharmacy'!AC226),\"\",'MIS - Pharmacy'!AC226)","v":""},"",{"$f":"IF(ISBLANK('MIS - Pharmacy'!AD226),\"\",'MIS - Pharmacy'!AD226)","v":""},"","",{"$f":"IF('MIS - Pharmacy'!A226=\"\",\"\",SUM('MIS - Pharmacy'!K226+'MIS - Pharmacy'!L226))","v":""},"",{"$f":"IF('MIS - Pharmacy'!A226=\"\",\"\",('MIS - Pharmacy'!AF226+'MIS - Pharmacy'!AH226 +'MIS - Pharmacy'!AG226))","v":""},{"$f":"IF(ISBLANK('MIS - Pharmacy'!AI226),\"\",'MIS - Pharmacy'!AI226)","v":""},"","","",{"$f":"IF(ISBLANK('MIS - Pharmacy'!V226),\"\",'MIS - Pharmacy'!V226)","v":""},"","","",{"$f":"IF(ISBLANK('MIS - Pharmacy'!J226),\"\",'MIS - Pharmacy'!J226)","v":""},{"$f":"IF(ISBLANK('MIS - Pharmacy'!AY226),\"\",'MIS - Pharmacy'!AY226)","v":""},{"$f":"IF(ISBLANK('MIS - Pharmacy'!BH226),\"\",'MIS - Pharmacy'!BH226)","v":""},"",""]
[{"$f":"IF(ISBLANK('MIS - Pharmacy'!A227), \"\",'MIS - Pharmacy'!A227)","v":""},{"$f":"IF(ISBLANK('MIS - Pharmacy'!B227),\"\",('MIS - Pharmacy'!B227&\"(\"&'MIS - Pharmacy'!D227&\")\"))","v":""},{"$f":"IF(ISBLANK('MIS - Pharmacy'!BI227), \"\", 'MIS - Pharmacy'!BI227)","v":""},{"$f":"IF(ISBLANK('MIS - Pharmacy'!U227), \"\", 'MIS - Pharmacy'!U227)","v":""},"","","","","","","",{"$f":"IF(ISBLANK('MIS - Pharmacy'!AC227),\"\",'MIS - Pharmacy'!AC227)","v":""},"",{"$f":"IF(ISBLANK('MIS - Pharmacy'!AD227),\"\",'MIS - Pharmacy'!AD227)","v":""},"","",{"$f":"IF('MIS - Pharmacy'!A227=\"\",\"\",SUM('MIS - Pharmacy'!K227+'MIS - Pharmacy'!L227))","v":""},"",{"$f":"IF('MIS - Pharmacy'!A227=\"\",\"\",('MIS - Pharmacy'!AF227+'MIS - Pharmacy'!AH227 +'MIS - Pharmacy'!AG227))","v":""},{"$f":"IF(ISBLANK('MIS - Pharmacy'!AI227),\"\",'MIS - Pharmacy'!AI227)","v":""},"","","",{"$f":"IF(ISBLANK('MIS - Pharmacy'!V227),\"\",'MIS - Pharmacy'!V227)","v":""},"","","",{"$f":"IF(ISBLANK('MIS - Pharmacy'!J227),\"\",'MIS - Pharmacy'!J227)","v":""},{"$f":"IF(ISBLANK('MIS - Pharmacy'!AY227),\"\",'MIS - Pharmacy'!AY227)","v":""},{"$f":"IF(ISBLANK('MIS - Pharmacy'!BH227),\"\",'MIS - Pharmacy'!BH227)","v":""},"",""]
[{"$f":"IF(ISBLANK('MIS - Pharmacy'!A228), \"\",'MIS - Pharmacy'!A228)","v":""},{"$f":"IF(ISBLANK('MIS - Pharmacy'!B228),\"\",('MIS - Pharmacy'!B228&\"(\"&'MIS - Pharmacy'!D228&\")\"))","v":""},{"$f":"IF(ISBLANK('MIS - Pharmacy'!BI228), \"\", 'MIS - Pharmacy'!BI228)","v":""},{"$f":"IF(ISBLANK('MIS - Pharmacy'!U228), \"\", 'MIS - Pharmacy'!U228)","v":""},"","","","","","","",{"$f":"IF(ISBLANK('MIS - Pharmacy'!AC228),\"\",'MIS - Pharmacy'!AC228)","v":""},"",{"$f":"IF(ISBLANK('MIS - Pharmacy'!AD228),\"\",'MIS - Pharmacy'!AD228)","v":""},"","",{"$f":"IF('MIS - Pharmacy'!A228=\"\",\"\",SUM('MIS - Pharmacy'!K228+'MIS - Pharmacy'!L228))","v":""},"",{"$f":"IF('MIS - Pharmacy'!A228=\"\",\"\",('MIS - Pharmacy'!AF228+'MIS - Pharmacy'!AH228 +'MIS - Pharmacy'!AG228))","v":""},{"$f":"IF(ISBLANK('MIS - Pharmacy'!AI228),\"\",'MIS - Pharmacy'!AI228)","v":""},"","","",{"$f":"IF(ISBLANK('MIS - Pharmacy'!V228),\"\",'MIS - Pharmacy'!V228)","v":""},"","","",{"$f":"IF(ISBLANK('MIS - Pharmacy'!J228),\"\",'MIS - Pharmacy'!J228)","v":""},{"$f":"IF(ISBLANK('MIS - Pharmacy'!AY228),\"\",'MIS - Pharmacy'!AY228)","v":""},{"$f":"IF(ISBLANK('MIS - Pharmacy'!BH228),\"\",'MIS - Pharmacy'!BH228)","v":""},"",""]
[{"$f":"IF(ISBLANK('MIS - Pharmacy'!A229), \"\",'MIS - Pharmacy'!A229)","v":""},{"$f":"IF(ISBLANK('MIS - Pharmacy'!B229),\"\",('MIS - Pharmacy'!B229&\"(\"&'MIS - Pharmacy'!D229&\")\"))","v":""},{"$f":"IF(ISBLANK('MIS - Pharmacy'!BI229), \"\", 'MIS - Pharmacy'!BI229)","v":""},{"$f":"IF(ISBLANK('MIS - Pharmacy'!U229), \"\", 'MIS - Pharmacy'!U229)","v":""},"","","","","","","",{"$f":"IF(ISBLANK('MIS - Pharmacy'!AC229),\"\",'MIS - Pharmacy'!AC229)","v":""},"",{"$f":"IF(ISBLANK('MIS - Pharmacy'!AD229),\"\",'MIS - Pharmacy'!AD229)","v":""},"","",{"$f":"IF('MIS - Pharmacy'!A229=\"\",\"\",SUM('MIS - Pharmacy'!K229+'MIS - Pharmacy'!L229))","v":""},"",{"$f":"IF('MIS - Pharmacy'!A229=\"\",\"\",('MIS - Pharmacy'!AF229+'MIS - Pharmacy'!AH229 +'MIS - Pharmacy'!AG229))","v":""},{"$f":"IF(ISBLANK('MIS - Pharmacy'!AI229),\"\",'MIS - Pharmacy'!AI229)","v":""},"","","",{"$f":"IF(ISBLANK('MIS - Pharmacy'!V229),\"\",'MIS - Pharmacy'!V229)","v":""},"","","",{"$f":"IF(ISBLANK('MIS - Pharmacy'!J229),\"\",'MIS - Pharmacy'!J229)","v":""},{"$f":"IF(ISBLANK('MIS - Pharmacy'!AY229),\"\",'MIS - Pharmacy'!AY229)","v":""},{"$f":"IF(ISBLANK('MIS - Pharmacy'!BH229),\"\",'MIS - Pharmacy'!BH229)","v":""},"",""]
[{"$f":"IF(ISBLANK('MIS - Pharmacy'!A230), \"\",'MIS - Pharmacy'!A230)","v":""},{"$f":"IF(ISBLANK('MIS - Pharmacy'!B230),\"\",('MIS - Pharmacy'!B230&\"(\"&'MIS - Pharmacy'!D230&\")\"))","v":""},{"$f":"IF(ISBLANK('MIS - Pharmacy'!BI230), \"\", 'MIS - Pharmacy'!BI230)","v":""},{"$f":"IF(ISBLANK('MIS - Pharmacy'!U230), \"\", 'MIS - Pharmacy'!U230)","v":""},"","","","","","","",{"$f":"IF(ISBLANK('MIS - Pharmacy'!AC230),\"\",'MIS - Pharmacy'!AC230)","v":""},"",{"$f":"IF(ISBLANK('MIS - Pharmacy'!AD230),\"\",'MIS - Pharmacy'!AD230)","v":""},"","",{"$f":"IF('MIS - Pharmacy'!A230=\"\",\"\",SUM('MIS - Pharmacy'!K230+'MIS - Pharmacy'!L230))","v":""},"",{"$f":"IF('MIS - Pharmacy'!A230=\"\",\"\",('MIS - Pharmacy'!AF230+'MIS - Pharmacy'!AH230 +'MIS - Pharmacy'!AG230))","v":""},{"$f":"IF(ISBLANK('MIS - Pharmacy'!AI230),\"\",'MIS - Pharmacy'!AI230)","v":""},"","","",{"$f":"IF(ISBLANK('MIS - Pharmacy'!V230),\"\",'MIS - Pharmacy'!V230)","v":""},"","","",{"$f":"IF(ISBLANK('MIS - Pharmacy'!J230),\"\",'MIS - Pharmacy'!J230)","v":""},{"$f":"IF(ISBLANK('MIS - Pharmacy'!AY230),\"\",'MIS - Pharmacy'!AY230)","v":""},{"$f":"IF(ISBLANK('MIS - Pharmacy'!BH230),\"\",'MIS - Pharmacy'!BH230)","v":""},"",""]
[{"$f":"IF(ISBLANK('MIS - Pharmacy'!A231), \"\",'MIS - Pharmacy'!A231)","v":""},{"$f":"IF(ISBLANK('MIS - Pharmacy'!B231),\"\",('MIS - Pharmacy'!B231&\"(\"&'MIS - Pharmacy'!D231&\")\"))","v":""},{"$f":"IF(ISBLANK('MIS - Pharmacy'!BI231), \"\", 'MIS - Pharmacy'!BI231)","v":""},{"$f":"IF(ISBLANK('MIS - Pharmacy'!U231), \"\", 'MIS - Pharmacy'!U231)","v":""},"","","","","","","",{"$f":"IF(ISBLANK('MIS - Pharmacy'!AC231),\"\",'MIS - Pharmacy'!AC231)","v":""},"",{"$f":"IF(ISBLANK('MIS - Pharmacy'!AD231),\"\",'MIS - Pharmacy'!AD231)","v":""},"","",{"$f":"IF('MIS - Pharmacy'!A231=\"\",\"\",SUM('MIS - Pharmacy'!K231+'MIS - Pharmacy'!L231))","v":""},"",{"$f":"IF('MIS - Pharmacy'!A231=\"\",\"\",('MIS - Pharmacy'!AF231+'MIS - Pharmacy'!AH231 +'MIS - Pharmacy'!AG231))","v":""},{"$f":"IF(ISBLANK('MIS - Pharmacy'!AI231),\"\",'MIS - Pharmacy'!AI231)","v":""},"","","",{"$f":"IF(ISBLANK('MIS - Pharmacy'!V231),\"\",'MIS - Pharmacy'!V231)","v":""},"","","",{"$f":"IF(ISBLANK('MIS - Pharmacy'!J231),\"\",'MIS - Pharmacy'!J231)","v":""},{"$f":"IF(ISBLANK('MIS - Pharmacy'!AY231),\"\",'MIS - Pharmacy'!AY231)","v":""},{"$f":"IF(ISBLANK('MIS - Pharmacy'!BH231),\"\",'MIS - Pharmacy'!BH231)","v":""},"",""]
[{"$f":"IF(ISBLANK('MIS - Pharmacy'!A232), \"\",'MIS - Pharmacy'!A232)","v":""},{"$f":"IF(ISBLANK('MIS - Pharmacy'!B232),\"\",('MIS - Pharmacy'!B232&\"(\"&'MIS - Pharmacy'!D232&\")\"))","v":""},{"$f":"IF(ISBLANK('MIS - Pharmacy'!BI232), \"\", 'MIS - Pharmacy'!BI232)","v":""},{"$f":"IF(ISBLANK('MIS - Pharmacy'!U232), \"\", 'MIS - Pharmacy'!U232)","v":""},"","","","","","","",{"$f":"IF(ISBLANK('MIS - Pharmacy'!AC232),\"\",'MIS - Pharmacy'!AC232)","v":""},"",{"$f":"IF(ISBLANK('MIS - Pharmacy'!AD232),\"\",'MIS - Pharmacy'!AD232)","v":""},"","",{"$f":"IF('MIS - Pharmacy'!A232=\"\",\"\",SUM('MIS - Pharmacy'!K232+'MIS - Pharmacy'!L232))","v":""},"",{"$f":"IF('MIS - Pharmacy'!A232=\"\",\"\",('MIS - Pharmacy'!AF232+'MIS - Pharmacy'!AH232 +'MIS - Pharmacy'!AG232))","v":""},{"$f":"IF(ISBLANK('MIS - Pharmacy'!AI232),\"\",'MIS - Pharmacy'!AI232)","v":""},"","","",{"$f":"IF(ISBLANK('MIS - Pharmacy'!V232),\"\",'MIS - Pharmacy'!V232)","v":""},"","","",{"$f":"IF(ISBLANK('MIS - Pharmacy'!J232),\"\",'MIS - Pharmacy'!J232)","v":""},{"$f":"IF(ISBLANK('MIS - Pharmacy'!AY232),\"\",'MIS - Pharmacy'!AY232)","v":""},{"$f":"IF(ISBLANK('MIS - Pharmacy'!BH232),\"\",'MIS - Pharmacy'!BH232)","v":""},"",""]
[{"$f":"IF(ISBLANK('MIS - Pharmacy'!A233), \"\",'MIS - Pharmacy'!A233)","v":""},{"$f":"IF(ISBLANK('MIS - Pharmacy'!B233),\"\",('MIS - Pharmacy'!B233&\"(\"&'MIS - Pharmacy'!D233&\")\"))","v":""},{"$f":"IF(ISBLANK('MIS - Pharmacy'!BI233), \"\", 'MIS - Pharmacy'!BI233)","v":""},{"$f":"IF(ISBLANK('MIS - Pharmacy'!U233), \"\", 'MIS - Pharmacy'!U233)","v":""},"","","","","","","",{"$f":"IF(ISBLANK('MIS - Pharmacy'!AC233),\"\",'MIS - Pharmacy'!AC233)","v":""},"",{"$f":"IF(ISBLANK('MIS - Pharmacy'!AD233),\"\",'MIS - Pharmacy'!AD233)","v":""},"","",{"$f":"IF('MIS - Pharmacy'!A233=\"\",\"\",SUM('MIS - Pharmacy'!K233+'MIS - Pharmacy'!L233))","v":""},"",{"$f":"IF('MIS - Pharmacy'!A233=\"\",\"\",('MIS - Pharmacy'!AF233+'MIS - Pharmacy'!AH233 +'MIS - Pharmacy'!AG233))","v":""},{"$f":"IF(ISBLANK('MIS - Pharmacy'!AI233),\"\",'MIS - Pharmacy'!AI233)","v":""},"","","",{"$f":"IF(ISBLANK('MIS - Pharmacy'!V233),\"\",'MIS - Pharmacy'!V233)","v":""},"","","",{"$f":"IF(ISBLANK('MIS - Pharmacy'!J233),\"\",'MIS - Pharmacy'!J233)","v":""},{"$f":"IF(ISBLANK('MIS - Pharmacy'!AY233),\"\",'MIS - Pharmacy'!AY233)","v":""},{"$f":"IF(ISBLANK('MIS - Pharmacy'!BH233),\"\",'MIS - Pharmacy'!BH233)","v":""},"",""]
[{"$f":"IF(ISBLANK('MIS - Pharmacy'!A234), \"\",'MIS - Pharmacy'!A234)","v":""},{"$f":"IF(ISBLANK('MIS - Pharmacy'!B234),\"\",('MIS - Pharmacy'!B234&\"(\"&'MIS - Pharmacy'!D234&\")\"))","v":""},{"$f":"IF(ISBLANK('MIS - Pharmacy'!BI234), \"\", 'MIS - Pharmacy'!BI234)","v":""},{"$f":"IF(ISBLANK('MIS - Pharmacy'!U234), \"\", 'MIS - Pharmacy'!U234)","v":""},"","","","","","","",{"$f":"IF(ISBLANK('MIS - Pharmacy'!AC234),\"\",'MIS - Pharmacy'!AC234)","v":""},"",{"$f":"IF(ISBLANK('MIS - Pharmacy'!AD234),\"\",'MIS - Pharmacy'!AD234)","v":""},"","",{"$f":"IF('MIS - Pharmacy'!A234=\"\",\"\",SUM('MIS - Pharmacy'!K234+'MIS - Pharmacy'!L234))","v":""},"",{"$f":"IF('MIS - Pharmacy'!A234=\"\",\"\",('MIS - Pharmacy'!AF234+'MIS - Pharmacy'!AH234 +'MIS - Pharmacy'!AG234))","v":""},{"$f":"IF(ISBLANK('MIS - Pharmacy'!AI234),\"\",'MIS - Pharmacy'!AI234)","v":""},"","","",{"$f":"IF(ISBLANK('MIS - Pharmacy'!V234),\"\",'MIS - Pharmacy'!V234)","v":""},"","","",{"$f":"IF(ISBLANK('MIS - Pharmacy'!J234),\"\",'MIS - Pharmacy'!J234)","v":""},{"$f":"IF(ISBLANK('MIS - Pharmacy'!AY234),\"\",'MIS - Pharmacy'!AY234)","v":""},{"$f":"IF(ISBLANK('MIS - Pharmacy'!BH234),\"\",'MIS - Pharmacy'!BH234)","v":""},"",""]
[{"$f":"IF(ISBLANK('MIS - Pharmacy'!A235), \"\",'MIS - Pharmacy'!A235)","v":""},{"$f":"IF(ISBLANK('MIS - Pharmacy'!B235),\"\",('MIS - Pharmacy'!B235&\"(\"&'MIS - Pharmacy'!D235&\")\"))","v":""},{"$f":"IF(ISBLANK('MIS - Pharmacy'!BI235), \"\", 'MIS - Pharmacy'!BI235)","v":""},{"$f":"IF(ISBLANK('MIS - Pharmacy'!U235), \"\", 'MIS - Pharmacy'!U235)","v":""},"","","","","","","",{"$f":"IF(ISBLANK('MIS - Pharmacy'!AC235),\"\",'MIS - Pharmacy'!AC235)","v":""},"",{"$f":"IF(ISBLANK('MIS - Pharmacy'!AD235),\"\",'MIS - Pharmacy'!AD235)","v":""},"","",{"$f":"IF('MIS - Pharmacy'!A235=\"\",\"\",SUM('MIS - Pharmacy'!K235+'MIS - Pharmacy'!L235))","v":""},"",{"$f":"IF('MIS - Pharmacy'!A235=\"\",\"\",('MIS - Pharmacy'!AF235+'MIS - Pharmacy'!AH235 +'MIS - Pharmacy'!AG235))","v":""},{"$f":"IF(ISBLANK('MIS - Pharmacy'!AI235),\"\",'MIS - Pharmacy'!AI235)","v":""},"","","",{"$f":"IF(ISBLANK('MIS - Pharmacy'!V235),\"\",'MIS - Pharmacy'!V235)","v":""},"","","",{"$f":"IF(ISBLANK('MIS - Pharmacy'!J235),\"\",'MIS - Pharmacy'!J235)","v":""},{"$f":"IF(ISBLANK('MIS - Pharmacy'!AY235),\"\",'MIS - Pharmacy'!AY235)","v":""},{"$f":"IF(ISBLANK('MIS - Pharmacy'!BH235),\"\",'MIS - Pharmacy'!BH235)","v":""},"",""]
[{"$f":"IF(ISBLANK('MIS - Pharmacy'!A236), \"\",'MIS - Pharmacy'!A236)","v":""},{"$f":"IF(ISBLANK('MIS - Pharmacy'!B236),\"\",('MIS - Pharmacy'!B236&\"(\"&'MIS - Pharmacy'!D236&\")\"))","v":""},{"$f":"IF(ISBLANK('MIS - Pharmacy'!BI236), \"\", 'MIS - Pharmacy'!BI236)","v":""},{"$f":"IF(ISBLANK('MIS - Pharmacy'!U236), \"\", 'MIS - Pharmacy'!U236)","v":""},"","","","","","","",{"$f":"IF(ISBLANK('MIS - Pharmacy'!AC236),\"\",'MIS - Pharmacy'!AC236)","v":""},"",{"$f":"IF(ISBLANK('MIS - Pharmacy'!AD236),\"\",'MIS - Pharmacy'!AD236)","v":""},"","",{"$f":"IF('MIS - Pharmacy'!A236=\"\",\"\",SUM('MIS - Pharmacy'!K236+'MIS - Pharmacy'!L236))","v":""},"",{"$f":"IF('MIS - Pharmacy'!A236=\"\",\"\",('MIS - Pharmacy'!AF236+'MIS - Pharmacy'!AH236 +'MIS - Pharmacy'!AG236))","v":""},{"$f":"IF(ISBLANK('MIS - Pharmacy'!AI236),\"\",'MIS - Pharmacy'!AI236)","v":""},"","","",{"$f":"IF(ISBLANK('MIS - Pharmacy'!V236),\"\",'MIS - Pharmacy'!V236)","v":""},"","","",{"$f":"IF(ISBLANK('MIS - Pharmacy'!J236),\"\",'MIS - Pharmacy'!J236)","v":""},{"$f":"IF(ISBLANK('MIS - Pharmacy'!AY236),\"\",'MIS - Pharmacy'!AY236)","v":""},{"$f":"IF(ISBLANK('MIS - Pharmacy'!BH236),\"\",'MIS - Pharmacy'!BH236)","v":""},"",""]
[{"$f":"IF(ISBLANK('MIS - Pharmacy'!A237), \"\",'MIS - Pharmacy'!A237)","v":""},{"$f":"IF(ISBLANK('MIS - Pharmacy'!B237),\"\",('MIS - Pharmacy'!B237&\"(\"&'MIS - Pharmacy'!D237&\")\"))","v":""},{"$f":"IF(ISBLANK('MIS - Pharmacy'!BI237), \"\", 'MIS - Pharmacy'!BI237)","v":""},{"$f":"IF(ISBLANK('MIS - Pharmacy'!U237), \"\", 'MIS - Pharmacy'!U237)","v":""},"","","","","","","",{"$f":"IF(ISBLANK('MIS - Pharmacy'!AC237),\"\",'MIS - Pharmacy'!AC237)","v":""},"",{"$f":"IF(ISBLANK('MIS - Pharmacy'!AD237),\"\",'MIS - Pharmacy'!AD237)","v":""},"","",{"$f":"IF('MIS - Pharmacy'!A237=\"\",\"\",SUM('MIS - Pharmacy'!K237+'MIS - Pharmacy'!L237))","v":""},"",{"$f":"IF('MIS - Pharmacy'!A237=\"\",\"\",('MIS - Pharmacy'!AF237+'MIS - Pharmacy'!AH237 +'MIS - Pharmacy'!AG237))","v":""},{"$f":"IF(ISBLANK('MIS - Pharmacy'!AI237),\"\",'MIS - Pharmacy'!AI237)","v":""},"","","",{"$f":"IF(ISBLANK('MIS - Pharmacy'!V237),\"\",'MIS - Pharmacy'!V237)","v":""},"","","",{"$f":"IF(ISBLANK('MIS - Pharmacy'!J237),\"\",'MIS - Pharmacy'!J237)","v":""},{"$f":"IF(ISBLANK('MIS - Pharmacy'!AY237),\"\",'MIS - Pharmacy'!AY237)","v":""},{"$f":"IF(ISBLANK('MIS - Pharmacy'!BH237),\"\",'MIS - Pharmacy'!BH237)","v":""},"",""]
[{"$f":"IF(ISBLANK('MIS - Pharmacy'!A238), \"\",'MIS - Pharmacy'!A238)","v":""},{"$f":"IF(ISBLANK('MIS - Pharmacy'!B238),\"\",('MIS - Pharmacy'!B238&\"(\"&'MIS - Pharmacy'!D238&\")\"))","v":""},{"$f":"IF(ISBLANK('MIS - Pharmacy'!BI238), \"\", 'MIS - Pharmacy'!BI238)","v":""},{"$f":"IF(ISBLANK('MIS - Pharmacy'!U238), \"\", 'MIS - Pharmacy'!U238)","v":""},"","","","","","","",{"$f":"IF(ISBLANK('MIS - Pharmacy'!AC238),\"\",'MIS - Pharmacy'!AC238)","v":""},"",{"$f":"IF(ISBLANK('MIS - Pharmacy'!AD238),\"\",'MIS - Pharmacy'!AD238)","v":""},"","",{"$f":"IF('MIS - Pharmacy'!A238=\"\",\"\",SUM('MIS - Pharmacy'!K238+'MIS - Pharmacy'!L238))","v":""},"",{"$f":"IF('MIS - Pharmacy'!A238=\"\",\"\",('MIS - Pharmacy'!AF238+'MIS - Pharmacy'!AH238 +'MIS - Pharmacy'!AG238))","v":""},{"$f":"IF(ISBLANK('MIS - Pharmacy'!AI238),\"\",'MIS - Pharmacy'!AI238)","v":""},"","","",{"$f":"IF(ISBLANK('MIS - Pharmacy'!V238),\"\",'MIS - Pharmacy'!V238)","v":""},"","","",{"$f":"IF(ISBLANK('MIS - Pharmacy'!J238),\"\",'MIS - Pharmacy'!J238)","v":""},{"$f":"IF(ISBLANK('MIS - Pharmacy'!AY238),\"\",'MIS - Pharmacy'!AY238)","v":""},{"$f":"IF(ISBLANK('MIS - Pharmacy'!BH238),\"\",'MIS - Pharmacy'!BH238)","v":""},"",""]
[{"$f":"IF(ISBLANK('MIS - Pharmacy'!A239), \"\",'MIS - Pharmacy'!A239)","v":""},{"$f":"IF(ISBLANK('MIS - Pharmacy'!B239),\"\",('MIS - Pharmacy'!B239&\"(\"&'MIS - Pharmacy'!D239&\")\"))","v":""},{"$f":"IF(ISBLANK('MIS - Pharmacy'!BI239), \"\", 'MIS - Pharmacy'!BI239)","v":""},{"$f":"IF(ISBLANK('MIS - Pharmacy'!U239), \"\", 'MIS - Pharmacy'!U239)","v":""},"","","","","","","",{"$f":"IF(ISBLANK('MIS - Pharmacy'!AC239),\"\",'MIS - Pharmacy'!AC239)","v":""},"",{"$f":"IF(ISBLANK('MIS - Pharmacy'!AD239),\"\",'MIS - Pharmacy'!AD239)","v":""},"","",{"$f":"IF('MIS - Pharmacy'!A239=\"\",\"\",SUM('MIS - Pharmacy'!K239+'MIS - Pharmacy'!L239))","v":""},"",{"$f":"IF('MIS - Pharmacy'!A239=\"\",\"\",('MIS - Pharmacy'!AF239+'MIS - Pharmacy'!AH239 +'MIS - Pharmacy'!AG239))","v":""},{"$f":"IF(ISBLANK('MIS - Pharmacy'!AI239),\"\",'MIS - Pharmacy'!AI239)","v":""},"","","",{"$f":"IF(ISBLANK('MIS - Pharmacy'!V239),\"\",'MIS - Pharmacy'!V239)","v":""},"","","",{"$f":"IF(ISBLANK('MIS - Pharmacy'!J239),\"\",'MIS - Pharmacy'!J239)","v":""},{"$f":"IF(ISBLANK('MIS - Pharmacy'!AY239),\"\",'MIS - Pharmacy'!AY239)","v":""},{"$f":"IF(ISBLANK('MIS - Pharmacy'!BH239),\"\",'MIS - Pharmacy'!BH239)","v":""},"",""]
[{"$f":"IF(ISBLANK('MIS - Pharmacy'!A240), \"\",'MIS - Pharmacy'!A240)","v":""},{"$f":"IF(ISBLANK('MIS - Pharmacy'!B240),\"\",('MIS - Pharmacy'!B240&\"(\"&'MIS - Pharmacy'!D240&\")\"))","v":""},{"$f":"IF(ISBLANK('MIS - Pharmacy'!BI240), \"\", 'MIS - Pharmacy'!BI240)","v":""},{"$f":"IF(ISBLANK('MIS - Pharmacy'!U240), \"\", 'MIS - Pharmacy'!U240)","v":""},"","","","","","","",{"$f":"IF(ISBLANK('MIS - Pharmacy'!AC240),\"\",'MIS - Pharmacy'!AC240)","v":""},"",{"$f":"IF(ISBLANK('MIS - Pharmacy'!AD240),\"\",'MIS - Pharmacy'!AD240)","v":""},"","",{"$f":"IF('MIS - Pharmacy'!A240=\"\",\"\",SUM('MIS - Pharmacy'!K240+'MIS - Pharmacy'!L240))","v":""},"",{"$f":"IF('MIS - Pharmacy'!A240=\"\",\"\",('MIS - Pharmacy'!AF240+'MIS - Pharmacy'!AH240 +'MIS - Pharmacy'!AG240))","v":""},{"$f":"IF(ISBLANK('MIS - Pharmacy'!AI240),\"\",'MIS - Pharmacy'!AI240)","v":""},"","","",{"$f":"IF(ISBLANK('MIS - Pharmacy'!V240),\"\",'MIS - Pharmacy'!V240)","v":""},"","","",{"$f":"IF(ISBLANK('MIS - Pharmacy'!J240),\"\",'MIS - Pharmacy'!J240)","v":""},{"$f":"IF(ISBLANK('MIS - Pharmacy'!AY240),\"\",'MIS - Pharmacy'!AY240)","v":""},{"$f":"IF(ISBLANK('MIS - Pharmacy'!BH240),\"\",'MIS - Pharmacy'!BH240)","v":""},"",""]
[{"$f":"IF(ISBLANK('MIS - Pharmacy'!A241), \"\",'MIS - Pharmacy'!A241)","v":""},{"$f":"IF(ISBLANK('MIS - Pharmacy'!B241),\"\",('MIS - Pharmacy'!B241&\"(\"&'MIS - Pharmacy'!D241&\")\"))","v":""},{"$f":"IF(ISBLANK('MIS - Pharmacy'!BI241), \"\", 'MIS - Pharmacy'!BI241)","v":""},{"$f":"IF(ISBLANK('MIS - Pharmacy'!U241), \"\", 'MIS - Pharmacy'!U241)","v":""},"","","","","","","",{"$f":"IF(ISBLANK('MIS - Pharmacy'!AC241),\"\",'MIS - Pharmacy'!AC241)","v":""},"",{"$f":"IF(ISBLANK('MIS - Pharmacy'!AD241),\"\",'MIS - Pharmacy'!AD241)","v":""},"","",{"$f":"IF('MIS - Pharmacy'!A241=\"\",\"\",SUM('MIS - Pharmacy'!K241+'MIS - Pharmacy'!L241))","v":""},"",{"$f":"IF('MIS - Pharmacy'!A241=\"\",\"\",('MIS - Pharmacy'!AF241+'MIS - Pharmacy'!AH241 +'MIS - Pharmacy'!AG241))","v":""},{"$f":"IF(ISBLANK('MIS - Pharmacy'!AI241),\"\",'MIS - Pharmacy'!AI241)","v":""},"","","",{"$f":"IF(ISBLANK('MIS - Pharmacy'!V241),\"\",'MIS - Pharmacy'!V241)","v":""},"","","",{"$f":"IF(ISBLANK('MIS - Pharmacy'!J241),\"\",'MIS - Pharmacy'!J241)","v":""},{"$f":"IF(ISBLANK('MIS - Pharmacy'!AY241),\"\",'MIS - Pharmacy'!AY241)","v":""},{"$f":"IF(ISBLANK('MIS - Pharmacy'!BH241),\"\",'MIS - Pharmacy'!BH241)","v":""},"",""]
[{"$f":"IF(ISBLANK('MIS - Pharmacy'!A242), \"\",'MIS - Pharmacy'!A242)","v":""},{"$f":"IF(ISBLANK('MIS - Pharmacy'!B242),\"\",('MIS - Pharmacy'!B242&\"(\"&'MIS - Pharmacy'!D242&\")\"))","v":""},{"$f":"IF(ISBLANK('MIS - Pharmacy'!BI242), \"\", 'MIS - Pharmacy'!BI242)","v":""},{"$f":"IF(ISBLANK('MIS - Pharmacy'!U242), \"\", 'MIS - Pharmacy'!U242)","v":""},"","","","","","","",{"$f":"IF(ISBLANK('MIS - Pharmacy'!AC242),\"\",'MIS - Pharmacy'!AC242)","v":""},"",{"$f":"IF(ISBLANK('MIS - Pharmacy'!AD242),\"\",'MIS - Pharmacy'!AD242)","v":""},"","",{"$f":"IF('MIS - Pharmacy'!A242=\"\",\"\",SUM('MIS - Pharmacy'!K242+'MIS - Pharmacy'!L242))","v":""},"",{"$f":"IF('MIS - Pharmacy'!A242=\"\",\"\",('MIS - Pharmacy'!AF242+'MIS - Pharmacy'!AH242 +'MIS - Pharmacy'!AG242))","v":""},{"$f":"IF(ISBLANK('MIS - Pharmacy'!AI242),\"\",'MIS - Pharmacy'!AI242)","v":""},"","","",{"$f":"IF(ISBLANK('MIS - Pharmacy'!V242),\"\",'MIS - Pharmacy'!V242)","v":""},"","","",{"$f":"IF(ISBLANK('MIS - Pharmacy'!J242),\"\",'MIS - Pharmacy'!J242)","v":""},{"$f":"IF(ISBLANK('MIS - Pharmacy'!AY242),\"\",'MIS - Pharmacy'!AY242)","v":""},{"$f":"IF(ISBLANK('MIS - Pharmacy'!BH242),\"\",'MIS - Pharmacy'!BH242)","v":""},"",""]
[{"$f":"IF(ISBLANK('MIS - Pharmacy'!A243), \"\",'MIS - Pharmacy'!A243)","v":""},{"$f":"IF(ISBLANK('MIS - Pharmacy'!B243),\"\",('MIS - Pharmacy'!B243&\"(\"&'MIS - Pharmacy'!D243&\")\"))","v":""},{"$f":"IF(ISBLANK('MIS - Pharmacy'!BI243), \"\", 'MIS - Pharmacy'!BI243)","v":""},{"$f":"IF(ISBLANK('MIS - Pharmacy'!U243), \"\", 'MIS - Pharmacy'!U243)","v":""},"","","","","","","",{"$f":"IF(ISBLANK('MIS - Pharmacy'!AC243),\"\",'MIS - Pharmacy'!AC243)","v":""},"",{"$f":"IF(ISBLANK('MIS - Pharmacy'!AD243),\"\",'MIS - Pharmacy'!AD243)","v":""},"","",{"$f":"IF('MIS - Pharmacy'!A243=\"\",\"\",SUM('MIS - Pharmacy'!K243+'MIS - Pharmacy'!L243))","v":""},"",{"$f":"IF('MIS - Pharmacy'!A243=\"\",\"\",('MIS - Pharmacy'!AF243+'MIS - Pharmacy'!AH243 +'MIS - Pharmacy'!AG243))","v":""},{"$f":"IF(ISBLANK('MIS - Pharmacy'!AI243),\"\",'MIS - Pharmacy'!AI243)","v":""},"","","",{"$f":"IF(ISBLANK('MIS - Pharmacy'!V243),\"\",'MIS - Pharmacy'!V243)","v":""},"","","",{"$f":"IF(ISBLANK('MIS - Pharmacy'!J243),\"\",'MIS - Pharmacy'!J243)","v":""},{"$f":"IF(ISBLANK('MIS - Pharmacy'!AY243),\"\",'MIS - Pharmacy'!AY243)","v":""},{"$f":"IF(ISBLANK('MIS - Pharmacy'!BH243),\"\",'MIS - Pharmacy'!BH243)","v":""},"",""]
[{"$f":"IF(ISBLANK('MIS - Pharmacy'!A244), \"\",'MIS - Pharmacy'!A244)","v":""},{"$f":"IF(ISBLANK('MIS - Pharmacy'!B244),\"\",('MIS - Pharmacy'!B244&\"(\"&'MIS - Pharmacy'!D244&\")\"))","v":""},{"$f":"IF(ISBLANK('MIS - Pharmacy'!BI244), \"\", 'MIS - Pharmacy'!BI244)","v":""},{"$f":"IF(ISBLANK('MIS - Pharmacy'!U244), \"\", 'MIS - Pharmacy'!U244)","v":""},"","","","","","","",{"$f":"IF(ISBLANK('MIS - Pharmacy'!AC244),\"\",'MIS - Pharmacy'!AC244)","v":""},"",{"$f":"IF(ISBLANK('MIS - Pharmacy'!AD244),\"\",'MIS - Pharmacy'!AD244)","v":""},"","",{"$f":"IF('MIS - Pharmacy'!A244=\"\",\"\",SUM('MIS - Pharmacy'!K244+'MIS - Pharmacy'!L244))","v":""},"",{"$f":"IF('MIS - Pharmacy'!A244=\"\",\"\",('MIS - Pharmacy'!AF244+'MIS - Pharmacy'!AH244 +'MIS - Pharmacy'!AG244))","v":""},{"$f":"IF(ISBLANK('MIS - Pharmacy'!AI244),\"\",'MIS - Pharmacy'!AI244)","v":""},"","","",{"$f":"IF(ISBLANK('MIS - Pharmacy'!V244),\"\",'MIS - Pharmacy'!V244)","v":""},"","","",{"$f":"IF(ISBLANK('MIS - Pharmacy'!J244),\"\",'MIS - Pharmacy'!J244)","v":""},{"$f":"IF(ISBLANK('MIS - Pharmacy'!AY244),\"\",'MIS - Pharmacy'!AY244)","v":""},{"$f":"IF(ISBLANK('MIS - Pharmacy'!BH244),\"\",'MIS - Pharmacy'!BH244)","v":""},"",""]
[{"$f":"IF(ISBLANK('MIS - Pharmacy'!A245), \"\",'MIS - Pharmacy'!A245)","v":""},{"$f":"IF(ISBLANK('MIS - Pharmacy'!B245),\"\",('MIS - Pharmacy'!B245&\"(\"&'MIS - Pharmacy'!D245&\")\"))","v":""},{"$f":"IF(ISBLANK('MIS - Pharmacy'!BI245), \"\", 'MIS - Pharmacy'!BI245)","v":""},{"$f":"IF(ISBLANK('MIS - Pharmacy'!U245), \"\", 'MIS - Pharmacy'!U245)","v":""},"","","","","","","",{"$f":"IF(ISBLANK('MIS - Pharmacy'!AC245),\"\",'MIS - Pharmacy'!AC245)","v":""},"",{"$f":"IF(ISBLANK('MIS - Pharmacy'!AD245),\"\",'MIS - Pharmacy'!AD245)","v":""},"","",{"$f":"IF('MIS - Pharmacy'!A245=\"\",\"\",SUM('MIS - Pharmacy'!K245+'MIS - Pharmacy'!L245))","v":""},"",{"$f":"IF('MIS - Pharmacy'!A245=\"\",\"\",('MIS - Pharmacy'!AF245+'MIS - Pharmacy'!AH245 +'MIS - Pharmacy'!AG245))","v":""},{"$f":"IF(ISBLANK('MIS - Pharmacy'!AI245),\"\",'MIS - Pharmacy'!AI245)","v":""},"","","",{"$f":"IF(ISBLANK('MIS - Pharmacy'!V245),\"\",'MIS - Pharmacy'!V245)","v":""},"","","",{"$f":"IF(ISBLANK('MIS - Pharmacy'!J245),\"\",'MIS - Pharmacy'!J245)","v":""},{"$f":"IF(ISBLANK('MIS - Pharmacy'!AY245),\"\",'MIS - Pharmacy'!AY245)","v":""},{"$f":"IF(ISBLANK('MIS - Pharmacy'!BH245),\"\",'MIS - Pharmacy'!BH245)","v":""},"",""]
[{"$f":"IF(ISBLANK('MIS - Pharmacy'!A246), \"\",'MIS - Pharmacy'!A246)","v":""},{"$f":"IF(ISBLANK('MIS - Pharmacy'!B246),\"\",('MIS - Pharmacy'!B246&\"(\"&'MIS - Pharmacy'!D246&\")\"))","v":""},{"$f":"IF(ISBLANK('MIS - Pharmacy'!BI246), \"\", 'MIS - Pharmacy'!BI246)","v":""},{"$f":"IF(ISBLANK('MIS - Pharmacy'!U246), \"\", 'MIS - Pharmacy'!U246)","v":""},"","","","","","","",{"$f":"IF(ISBLANK('MIS - Pharmacy'!AC246),\"\",'MIS - Pharmacy'!AC246)","v":""},"",{"$f":"IF(ISBLANK('MIS - Pharmacy'!AD246),\"\",'MIS - Pharmacy'!AD246)","v":""},"","",{"$f":"IF('MIS - Pharmacy'!A246=\"\",\"\",SUM('MIS - Pharmacy'!K246+'MIS - Pharmacy'!L246))","v":""},"",{"$f":"IF('MIS - Pharmacy'!A246=\"\",\"\",('MIS - Pharmacy'!AF246+'MIS - Pharmacy'!AH246 +'MIS - Pharmacy'!AG246))","v":""},{"$f":"IF(ISBLANK('MIS - Pharmacy'!AI246),\"\",'MIS - Pharmacy'!AI246)","v":""},"","","",{"$f":"IF(ISBLANK('MIS - Pharmacy'!V246),\"\",'MIS - Pharmacy'!V246)","v":""},"","","",{"$f":"IF(ISBLANK('MIS - Pharmacy'!J246),\"\",'MIS - Pharmacy'!J246)","v":""},{"$f":"IF(ISBLANK('MIS - Pharmacy'!AY246),\"\",'MIS - Pharmacy'!AY246)","v":""},{"$f":"IF(ISBLANK('MIS - Pharmacy'!BH246),\"\",'MIS - Pharmacy'!BH246)","v":""},"",""]
[{"$f":"IF(ISBLANK('MIS - Pharmacy'!A247), \"\",'MIS - Pharmacy'!A247)","v":""},{"$f":"IF(ISBLANK('MIS - Pharmacy'!B247),\"\",('MIS - Pharmacy'!B247&\"(\"&'MIS - Pharmacy'!D247&\")\"))","v":""},{"$f":"IF(ISBLANK('MIS - Pharmacy'!BI247), \"\", 'MIS - Pharmacy'!BI247)","v":""},{"$f":"IF(ISBLANK('MIS - Pharmacy'!U247), \"\", 'MIS - Pharmacy'!U247)","v":""},"","","","","","","",{"$f":"IF(ISBLANK('MIS - Pharmacy'!AC247),\"\",'MIS - Pharmacy'!AC247)","v":""},"",{"$f":"IF(ISBLANK('MIS - Pharmacy'!AD247),\"\",'MIS - Pharmacy'!AD247)","v":""},"","",{"$f":"IF('MIS - Pharmacy'!A247=\"\",\"\",SUM('MIS - Pharmacy'!K247+'MIS - Pharmacy'!L247))","v":""},"",{"$f":"IF('MIS - Pharmacy'!A247=\"\",\"\",('MIS - Pharmacy'!AF247+'MIS - Pharmacy'!AH247 +'MIS - Pharmacy'!AG247))","v":""},{"$f":"IF(ISBLANK('MIS - Pharmacy'!AI247),\"\",'MIS - Pharmacy'!AI247)","v":""},"","","",{"$f":"IF(ISBLANK('MIS - Pharmacy'!V247),\"\",'MIS - Pharmacy'!V247)","v":""},"","","",{"$f":"IF(ISBLANK('MIS - Pharmacy'!J247),\"\",'MIS - Pharmacy'!J247)","v":""},{"$f":"IF(ISBLANK('MIS - Pharmacy'!AY247),\"\",'MIS - Pharmacy'!AY247)","v":""},{"$f":"IF(ISBLANK('MIS - Pharmacy'!BH247),\"\",'MIS - Pharmacy'!BH247)","v":""},"",""]
[{"$f":"IF(ISBLANK('MIS - Pharmacy'!A248), \"\",'MIS - Pharmacy'!A248)","v":""},{"$f":"IF(ISBLANK('MIS - Pharmacy'!B248),\"\",('MIS - Pharmacy'!B248&\"(\"&'MIS - Pharmacy'!D248&\")\"))","v":""},{"$f":"IF(ISBLANK('MIS - Pharmacy'!BI248), \"\", 'MIS - Pharmacy'!BI248)","v":""},{"$f":"IF(ISBLANK('MIS - Pharmacy'!U248), \"\", 'MIS - Pharmacy'!U248)","v":""},"","","","","","","",{"$f":"IF(ISBLANK('MIS - Pharmacy'!AC248),\"\",'MIS - Pharmacy'!AC248)","v":""},"",{"$f":"IF(ISBLANK('MIS - Pharmacy'!AD248),\"\",'MIS - Pharmacy'!AD248)","v":""},"","",{"$f":"IF('MIS - Pharmacy'!A248=\"\",\"\",SUM('MIS - Pharmacy'!K248+'MIS - Pharmacy'!L248))","v":""},"",{"$f":"IF('MIS - Pharmacy'!A248=\"\",\"\",('MIS - Pharmacy'!AF248+'MIS - Pharmacy'!AH248 +'MIS - Pharmacy'!AG248))","v":""},{"$f":"IF(ISBLANK('MIS - Pharmacy'!AI248),\"\",'MIS - Pharmacy'!AI248)","v":""},"","","",{"$f":"IF(ISBLANK('MIS - Pharmacy'!V248),\"\",'MIS - Pharmacy'!V248)","v":""},"","","",{"$f":"IF(ISBLANK('MIS - Pharmacy'!J248),\"\",'MIS - Pharmacy'!J248)","v":""},{"$f":"IF(ISBLANK('MIS - Pharmacy'!AY248),\"\",'MIS - Pharmacy'!AY248)","v":""},{"$f":"IF(ISBLANK('MIS - Pharmacy'!BH248),\"\",'MIS - Pharmacy'!BH248)","v":""},"",""]
[{"$f":"IF(ISBLANK('MIS - Pharmacy'!A249), \"\",'MIS - Pharmacy'!A249)","v":""},{"$f":"IF(ISBLANK('MIS - Pharmacy'!B249),\"\",('MIS - Pharmacy'!B249&\"(\"&'MIS - Pharmacy'!D249&\")\"))","v":""},{"$f":"IF(ISBLANK('MIS - Pharmacy'!BI249), \"\", 'MIS - Pharmacy'!BI249)","v":""},{"$f":"IF(ISBLANK('MIS - Pharmacy'!U249), \"\", 'MIS - Pharmacy'!U249)","v":""},"","","","","","","",{"$f":"IF(ISBLANK('MIS - Pharmacy'!AC249),\"\",'MIS - Pharmacy'!AC249)","v":""},"",{"$f":"IF(ISBLANK('MIS - Pharmacy'!AD249),\"\",'MIS - Pharmacy'!AD249)","v":""},"","",{"$f":"IF('MIS - Pharmacy'!A249=\"\",\"\",SUM('MIS - Pharmacy'!K249+'MIS - Pharmacy'!L249))","v":""},"",{"$f":"IF('MIS - Pharmacy'!A249=\"\",\"\",('MIS - Pharmacy'!AF249+'MIS - Pharmacy'!AH249 +'MIS - Pharmacy'!AG249))","v":""},{"$f":"IF(ISBLANK('MIS - Pharmacy'!AI249),\"\",'MIS - Pharmacy'!AI249)","v":""},"","","",{"$f":"IF(ISBLANK('MIS - Pharmacy'!V249),\"\",'MIS - Pharmacy'!V249)","v":""},"","","",{"$f":"IF(ISBLANK('MIS - Pharmacy'!J249),\"\",'MIS - Pharmacy'!J249)","v":""},{"$f":"IF(ISBLANK('MIS - Pharmacy'!AY249),\"\",'MIS - Pharmacy'!AY249)","v":""},{"$f":"IF(ISBLANK('MIS - Pharmacy'!BH249),\"\",'MIS - Pharmacy'!BH249)","v":""},"",""]
[{"$f":"IF(ISBLANK('MIS - Pharmacy'!A250), \"\",'MIS - Pharmacy'!A250)","v":""},{"$f":"IF(ISBLANK('MIS - Pharmacy'!B250),\"\",('MIS - Pharmacy'!B250&\"(\"&'MIS - Pharmacy'!D250&\")\"))","v":""},{"$f":"IF(ISBLANK('MIS - Pharmacy'!BI250), \"\", 'MIS - Pharmacy'!BI250)","v":""},{"$f":"IF(ISBLANK('MIS - Pharmacy'!U250), \"\", 'MIS - Pharmacy'!U250)","v":""},"","","","","","","",{"$f":"IF(ISBLANK('MIS - Pharmacy'!AC250),\"\",'MIS - Pharmacy'!AC250)","v":""},"",{"$f":"IF(ISBLANK('MIS - Pharmacy'!AD250),\"\",'MIS - Pharmacy'!AD250)","v":""},"","",{"$f":"IF('MIS - Pharmacy'!A250=\"\",\"\",SUM('MIS - Pharmacy'!K250+'MIS - Pharmacy'!L250))","v":""},"",{"$f":"IF('MIS - Pharmacy'!A250=\"\",\"\",('MIS - Pharmacy'!AF250+'MIS - Pharmacy'!AH250 +'MIS - Pharmacy'!AG250))","v":""},{"$f":"IF(ISBLANK('MIS - Pharmacy'!AI250),\"\",'MIS - Pharmacy'!AI250)","v":""},"","","",{"$f":"IF(ISBLANK('MIS - Pharmacy'!V250),\"\",'MIS - Pharmacy'!V250)","v":""},"","","",{"$f":"IF(ISBLANK('MIS - Pharmacy'!J250),\"\",'MIS - Pharmacy'!J250)","v":""},{"$f":"IF(ISBLANK('MIS - Pharmacy'!AY250),\"\",'MIS - Pharmacy'!AY250)","v":""},{"$f":"IF(ISBLANK('MIS - Pharmacy'!BH250),\"\",'MIS - Pharmacy'!BH250)","v":""},"",""]
[{"$f":"IF(ISBLANK('MIS - Pharmacy'!A251), \"\",'MIS - Pharmacy'!A251)","v":""},{"$f":"IF(ISBLANK('MIS - Pharmacy'!B251),\"\",('MIS - Pharmacy'!B251&\"(\"&'MIS - Pharmacy'!D251&\")\"))","v":""},{"$f":"IF(ISBLANK('MIS - Pharmacy'!BI251), \"\", 'MIS - Pharmacy'!BI251)","v":""},{"$f":"IF(ISBLANK('MIS - Pharmacy'!U251), \"\", 'MIS - Pharmacy'!U251)","v":""},"","","","","","","",{"$f":"IF(ISBLANK('MIS - Pharmacy'!AC251),\"\",'MIS - Pharmacy'!AC251)","v":""},"",{"$f":"IF(ISBLANK('MIS - Pharmacy'!AD251),\"\",'MIS - Pharmacy'!AD251)","v":""},"","",{"$f":"IF('MIS - Pharmacy'!A251=\"\",\"\",SUM('MIS - Pharmacy'!K251+'MIS - Pharmacy'!L251))","v":""},"",{"$f":"IF('MIS - Pharmacy'!A251=\"\",\"\",('MIS - Pharmacy'!AF251+'MIS - Pharmacy'!AH251 +'MIS - Pharmacy'!AG251))","v":""},{"$f":"IF(ISBLANK('MIS - Pharmacy'!AI251),\"\",'MIS - Pharmacy'!AI251)","v":""},"","","",{"$f":"IF(ISBLANK('MIS - Pharmacy'!V251),\"\",'MIS - Pharmacy'!V251)","v":""},"","","",{"$f":"IF(ISBLANK('MIS - Pharmacy'!J251),\"\",'MIS - Pharmacy'!J251)","v":""},{"$f":"IF(ISBLANK('MIS - Pharmacy'!AY251),\"\",'MIS - Pharmacy'!AY251)","v":""},{"$f":"IF(ISBLANK('MIS - Pharmacy'!BH251),\"\",'MIS - Pharmacy'!BH251)","v":""},"",""]
[{"$f":"IF(ISBLANK('MIS - Pharmacy'!A252), \"\",'MIS - Pharmacy'!A252)","v":""},{"$f":"IF(ISBLANK('MIS - Pharmacy'!B252),\"\",('MIS - Pharmacy'!B252&\"(\"&'MIS - Pharmacy'!D252&\")\"))","v":""},{"$f":"IF(ISBLANK('MIS - Pharmacy'!BI252), \"\", 'MIS - Pharmacy'!BI252)","v":""},{"$f":"IF(ISBLANK('MIS - Pharmacy'!U252), \"\", 'MIS - Pharmacy'!U252)","v":""},"","","","","","","",{"$f":"IF(ISBLANK('MIS - Pharmacy'!AC252),\"\",'MIS - Pharmacy'!AC252)","v":""},"",{"$f":"IF(ISBLANK('MIS - Pharmacy'!AD252),\"\",'MIS - Pharmacy'!AD252)","v":""},"","",{"$f":"IF('MIS - Pharmacy'!A252=\"\",\"\",SUM('MIS - Pharmacy'!K252+'MIS - Pharmacy'!L252))","v":""},"",{"$f":"IF('MIS - Pharmacy'!A252=\"\",\"\",('MIS - Pharmacy'!AF252+'MIS - Pharmacy'!AH252 +'MIS - Pharmacy'!AG252))","v":""},{"$f":"IF(ISBLANK('MIS - Pharmacy'!AI252),\"\",'MIS - Pharmacy'!AI252)","v":""},"","","",{"$f":"IF(ISBLANK('MIS - Pharmacy'!V252),\"\",'MIS - Pharmacy'!V252)","v":""},"","","",{"$f":"IF(ISBLANK('MIS - Pharmacy'!J252),\"\",'MIS - Pharmacy'!J252)","v":""},{"$f":"IF(ISBLANK('MIS - Pharmacy'!AY252),\"\",'MIS - Pharmacy'!AY252)","v":""},{"$f":"IF(ISBLANK('MIS - Pharmacy'!BH252),\"\",'MIS - Pharmacy'!BH252)","v":""},"",""]
[{"$f":"IF(ISBLANK('MIS - Pharmacy'!A253), \"\",'MIS - Pharmacy'!A253)","v":""},{"$f":"IF(ISBLANK('MIS - Pharmacy'!B253),\"\",('MIS - Pharmacy'!B253&\"(\"&'MIS - Pharmacy'!D253&\")\"))","v":""},{"$f":"IF(ISBLANK('MIS - Pharmacy'!BI253), \"\", 'MIS - Pharmacy'!BI253)","v":""},{"$f":"IF(ISBLANK('MIS - Pharmacy'!U253), \"\", 'MIS - Pharmacy'!U253)","v":""},"","","","","","","",{"$f":"IF(ISBLANK('MIS - Pharmacy'!AC253),\"\",'MIS - Pharmacy'!AC253)","v":""},"",{"$f":"IF(ISBLANK('MIS - Pharmacy'!AD253),\"\",'MIS - Pharmacy'!AD253)","v":""},"","",{"$f":"IF('MIS - Pharmacy'!A253=\"\",\"\",SUM('MIS - Pharmacy'!K253+'MIS - Pharmacy'!L253))","v":""},"",{"$f":"IF('MIS - Pharmacy'!A253=\"\",\"\",('MIS - Pharmacy'!AF253+'MIS - Pharmacy'!AH253 +'MIS - Pharmacy'!AG253))","v":""},{"$f":"IF(ISBLANK('MIS - Pharmacy'!AI253),\"\",'MIS - Pharmacy'!AI253)","v":""},"","","",{"$f":"IF(ISBLANK('MIS - Pharmacy'!V253),\"\",'MIS - Pharmacy'!V253)","v":""},"","","",{"$f":"IF(ISBLANK('MIS - Pharmacy'!J253),\"\",'MIS - Pharmacy'!J253)","v":""},{"$f":"IF(ISBLANK('MIS - Pharmacy'!AY253),\"\",'MIS - Pharmacy'!AY253)","v":""},{"$f":"IF(ISBLANK('MIS - Pharmacy'!BH253),\"\",'MIS - Pharmacy'!BH253)","v":""},"",""]
[{"$f":"IF(ISBLANK('MIS - Pharmacy'!A254), \"\",'MIS - Pharmacy'!A254)","v":""},{"$f":"IF(ISBLANK('MIS - Pharmacy'!B254),\"\",('MIS - Pharmacy'!B254&\"(\"&'MIS - Pharmacy'!D254&\")\"))","v":""},{"$f":"IF(ISBLANK('MIS - Pharmacy'!BI254), \"\", 'MIS - Pharmacy'!BI254)","v":""},{"$f":"IF(ISBLANK('MIS - Pharmacy'!U254), \"\", 'MIS - Pharmacy'!U254)","v":""},"","","","","","","",{"$f":"IF(ISBLANK('MIS - Pharmacy'!AC254),\"\",'MIS - Pharmacy'!AC254)","v":""},"",{"$f":"IF(ISBLANK('MIS - Pharmacy'!AD254),\"\",'MIS - Pharmacy'!AD254)","v":""},"","",{"$f":"IF('MIS - Pharmacy'!A254=\"\",\"\",SUM('MIS - Pharmacy'!K254+'MIS - Pharmacy'!L254))","v":""},"",{"$f":"IF('MIS - Pharmacy'!A254=\"\",\"\",('MIS - Pharmacy'!AF254+'MIS - Pharmacy'!AH254 +'MIS - Pharmacy'!AG254))","v":""},{"$f":"IF(ISBLANK('MIS - Pharmacy'!AI254),\"\",'MIS - Pharmacy'!AI254)","v":""},"","","",{"$f":"IF(ISBLANK('MIS - Pharmacy'!V254),\"\",'MIS - Pharmacy'!V254)","v":""},"","","",{"$f":"IF(ISBLANK('MIS - Pharmacy'!J254),\"\",'MIS - Pharmacy'!J254)","v":""},{"$f":"IF(ISBLANK('MIS - Pharmacy'!AY254),\"\",'MIS - Pharmacy'!AY254)","v":""},{"$f":"IF(ISBLANK('MIS - Pharmacy'!BH254),\"\",'MIS - Pharmacy'!BH254)","v":""},"",""]
[{"$f":"IF(ISBLANK('MIS - Pharmacy'!A255), \"\",'MIS - Pharmacy'!A255)","v":""},{"$f":"IF(ISBLANK('MIS - Pharmacy'!B255),\"\",('MIS - Pharmacy'!B255&\"(\"&'MIS - Pharmacy'!D255&\")\"))","v":""},{"$f":"IF(ISBLANK('MIS - Pharmacy'!BI255), \"\", 'MIS - Pharmacy'!BI255)","v":""},{"$f":"IF(ISBLANK('MIS - Pharmacy'!U255), \"\", 'MIS - Pharmacy'!U255)","v":""},"","","","","","","",{"$f":"IF(ISBLANK('MIS - Pharmacy'!AC255),\"\",'MIS - Pharmacy'!AC255)","v":""},"",{"$f":"IF(ISBLANK('MIS - Pharmacy'!AD255),\"\",'MIS - Pharmacy'!AD255)","v":""},"","",{"$f":"IF('MIS - Pharmacy'!A255=\"\",\"\",SUM('MIS - Pharmacy'!K255+'MIS - Pharmacy'!L255))","v":""},"",{"$f":"IF('MIS - Pharmacy'!A255=\"\",\"\",('MIS - Pharmacy'!AF255+'MIS - Pharmacy'!AH255 +'MIS - Pharmacy'!AG255))","v":""},{"$f":"IF(ISBLANK('MIS - Pharmacy'!AI255),\"\",'MIS - Pharmacy'!AI255)","v":""},"","","",{"$f":"IF(ISBLANK('MIS - Pharmacy'!V255),\"\",'MIS - Pharmacy'!V255)","v":""},"","","",{"$f":"IF(ISBLANK('MIS - Pharmacy'!J255),\"\",'MIS - Pharmacy'!J255)","v":""},{"$f":"IF(ISBLANK('MIS - Pharmacy'!AY255),\"\",'MIS - Pharmacy'!AY255)","v":""},{"$f":"IF(ISBLANK('MIS - Pharmacy'!BH255),\"\",'MIS - Pharmacy'!BH255)","v":""},"",""]
[{"$f":"IF(ISBLANK('MIS - Pharmacy'!A256), \"\",'MIS - Pharmacy'!A256)","v":""},{"$f":"IF(ISBLANK('MIS - Pharmacy'!B256),\"\",('MIS - Pharmacy'!B256&\"(\"&'MIS - Pharmacy'!D256&\")\"))","v":""},{"$f":"IF(ISBLANK('MIS - Pharmacy'!BI256), \"\", 'MIS - Pharmacy'!BI256)","v":""},{"$f":"IF(ISBLANK('MIS - Pharmacy'!U256), \"\", 'MIS - Pharmacy'!U256)","v":""},"","","","","","","",{"$f":"IF(ISBLANK('MIS - Pharmacy'!AC256),\"\",'MIS - Pharmacy'!AC256)","v":""},"",{"$f":"IF(ISBLANK('MIS - Pharmacy'!AD256),\"\",'MIS - Pharmacy'!AD256)","v":""},"","",{"$f":"IF('MIS - Pharmacy'!A256=\"\",\"\",SUM('MIS - Pharmacy'!K256+'MIS - Pharmacy'!L256))","v":""},"",{"$f":"IF('MIS - Pharmacy'!A256=\"\",\"\",('MIS - Pharmacy'!AF256+'MIS - Pharmacy'!AH256 +'MIS - Pharmacy'!AG256))","v":""},{"$f":"IF(ISBLANK('MIS - Pharmacy'!AI256),\"\",'MIS - Pharmacy'!AI256)","v":""},"","","",{"$f":"IF(ISBLANK('MIS - Pharmacy'!V256),\"\",'MIS - Pharmacy'!V256)","v":""},"","","",{"$f":"IF(ISBLANK('MIS - Pharmacy'!J256),\"\",'MIS - Pharmacy'!J256)","v":""},{"$f":"IF(ISBLANK('MIS - Pharmacy'!AY256),\"\",'MIS - Pharmacy'!AY256)","v":""},{"$f":"IF(ISBLANK('MIS - Pharmacy'!BH256),\"\",'MIS - Pharmacy'!BH256)","v":""},"",""]
[{"$f":"IF(ISBLANK('MIS - Pharmacy'!A257), \"\",'MIS - Pharmacy'!A257)","v":""},{"$f":"IF(ISBLANK('MIS - Pharmacy'!B257),\"\",('MIS - Pharmacy'!B257&\"(\"&'MIS - Pharmacy'!D257&\")\"))","v":""},{"$f":"IF(ISBLANK('MIS - Pharmacy'!BI257), \"\", 'MIS - Pharmacy'!BI257)","v":""},{"$f":"IF(ISBLANK('MIS - Pharmacy'!U257), \"\", 'MIS - Pharmacy'!U257)","v":""},"","","","","","","",{"$f":"IF(ISBLANK('MIS - Pharmacy'!AC257),\"\",'MIS - Pharmacy'!AC257)","v":""},"",{"$f":"IF(ISBLANK('MIS - Pharmacy'!AD257),\"\",'MIS - Pharmacy'!AD257)","v":""},"","",{"$f":"IF('MIS - Pharmacy'!A257=\"\",\"\",SUM('MIS - Pharmacy'!K257+'MIS - Pharmacy'!L257))","v":""},"",{"$f":"IF('MIS - Pharmacy'!A257=\"\",\"\",('MIS - Pharmacy'!AF257+'MIS - Pharmacy'!AH257 +'MIS - Pharmacy'!AG257))","v":""},{"$f":"IF(ISBLANK('MIS - Pharmacy'!AI257),\"\",'MIS - Pharmacy'!AI257)","v":""},"","","",{"$f":"IF(ISBLANK('MIS - Pharmacy'!V257),\"\",'MIS - Pharmacy'!V257)","v":""},"","","",{"$f":"IF(ISBLANK('MIS - Pharmacy'!J257),\"\",'MIS - Pharmacy'!J257)","v":""},{"$f":"IF(ISBLANK('MIS - Pharmacy'!AY257),\"\",'MIS - Pharmacy'!AY257)","v":""},{"$f":"IF(ISBLANK('MIS - Pharmacy'!BH257),\"\",'MIS - Pharmacy'!BH257)","v":""},"",""]
[{"$f":"IF(ISBLANK('MIS - Pharmacy'!A258), \"\",'MIS - Pharmacy'!A258)","v":""},{"$f":"IF(ISBLANK('MIS - Pharmacy'!B258),\"\",('MIS - Pharmacy'!B258&\"(\"&'MIS - Pharmacy'!D258&\")\"))","v":""},{"$f":"IF(ISBLANK('MIS - Pharmacy'!BI258), \"\", 'MIS - Pharmacy'!BI258)","v":""},{"$f":"IF(ISBLANK('MIS - Pharmacy'!U258), \"\", 'MIS - Pharmacy'!U258)","v":""},"","","","","","","",{"$f":"IF(ISBLANK('MIS - Pharmacy'!AC258),\"\",'MIS - Pharmacy'!AC258)","v":""},"",{"$f":"IF(ISBLANK('MIS - Pharmacy'!AD258),\"\",'MIS - Pharmacy'!AD258)","v":""},"","",{"$f":"IF('MIS - Pharmacy'!A258=\"\",\"\",SUM('MIS - Pharmacy'!K258+'MIS - Pharmacy'!L258))","v":""},"",{"$f":"IF('MIS - Pharmacy'!A258=\"\",\"\",('MIS - Pharmacy'!AF258+'MIS - Pharmacy'!AH258 +'MIS - Pharmacy'!AG258))","v":""},{"$f":"IF(ISBLANK('MIS - Pharmacy'!AI258),\"\",'MIS - Pharmacy'!AI258)","v":""},"","","",{"$f":"IF(ISBLANK('MIS - Pharmacy'!V258),\"\",'MIS - Pharmacy'!V258)","v":""},"","","",{"$f":"IF(ISBLANK('MIS - Pharmacy'!J258),\"\",'MIS - Pharmacy'!J258)","v":""},{"$f":"IF(ISBLANK('MIS - Pharmacy'!AY258),\"\",'MIS - Pharmacy'!AY258)","v":""},{"$f":"IF(ISBLANK('MIS - Pharmacy'!BH258),\"\",'MIS - Pharmacy'!BH258)","v":""},"",""]
[{"$f":"IF(ISBLANK('MIS - Pharmacy'!A259), \"\",'MIS - Pharmacy'!A259)","v":""},{"$f":"IF(ISBLANK('MIS - Pharmacy'!B259),\"\",('MIS - Pharmacy'!B259&\"(\"&'MIS - Pharmacy'!D259&\")\"))","v":""},{"$f":"IF(ISBLANK('MIS - Pharmacy'!BI259), \"\", 'MIS - Pharmacy'!BI259)","v":""},{"$f":"IF(ISBLANK('MIS - Pharmacy'!U259), \"\", 'MIS - Pharmacy'!U259)","v":""},"","","","","","","",{"$f":"IF(ISBLANK('MIS - Pharmacy'!AC259),\"\",'MIS - Pharmacy'!AC259)","v":""},"",{"$f":"IF(ISBLANK('MIS - Pharmacy'!AD259),\"\",'MIS - Pharmacy'!AD259)","v":""},"","",{"$f":"IF('MIS - Pharmacy'!A259=\"\",\"\",SUM('MIS - Pharmacy'!K259+'MIS - Pharmacy'!L259))","v":""},"",{"$f":"IF('MIS - Pharmacy'!A259=\"\",\"\",('MIS - Pharmacy'!AF259+'MIS - Pharmacy'!AH259 +'MIS - Pharmacy'!AG259))","v":""},{"$f":"IF(ISBLANK('MIS - Pharmacy'!AI259),\"\",'MIS - Pharmacy'!AI259)","v":""},"","","",{"$f":"IF(ISBLANK('MIS - Pharmacy'!V259),\"\",'MIS - Pharmacy'!V259)","v":""},"","","",{"$f":"IF(ISBLANK('MIS - Pharmacy'!J259),\"\",'MIS - Pharmacy'!J259)","v":""},{"$f":"IF(ISBLANK('MIS - Pharmacy'!AY259),\"\",'MIS - Pharmacy'!AY259)","v":""},{"$f":"IF(ISBLANK('MIS - Pharmacy'!BH259),\"\",'MIS - Pharmacy'!BH259)","v":""},"",""]
[{"$f":"IF(ISBLANK('MIS - Pharmacy'!A260), \"\",'MIS - Pharmacy'!A260)","v":""},{"$f":"IF(ISBLANK('MIS - Pharmacy'!B260),\"\",('MIS - Pharmacy'!B260&\"(\"&'MIS - Pharmacy'!D260&\")\"))","v":""},{"$f":"IF(ISBLANK('MIS - Pharmacy'!BI260), \"\", 'MIS - Pharmacy'!BI260)","v":""},{"$f":"IF(ISBLANK('MIS - Pharmacy'!U260), \"\", 'MIS - Pharmacy'!U260)","v":""},"",{"$f":"IF(D269=\"\",\"\",D269*12)","v":""},{"$f":"IF(Q269=\"\",\"\",IF(Q269 = 0, 0, D269/Q269*1000))","v":""},"","",{"$f":"IF(D269=0,0,IF(D269=\"\",\"\",D269/Q269))","v":""},{"$f":"IF(D269=0,0,IF(D269=\"\",\"\",D269/X269))","v":""},{"$f":"IF(ISBLANK('MIS - Pharmacy'!AC260),\"\",'MIS - Pharmacy'!AC260)","v":""},"",{"$f":"IF(ISBLANK('MIS - Pharmacy'!AD260),\"\",'MIS - Pharmacy'!AD260)","v":""},"",{"$f":"IF(L269=\"\",\"\",IF(X269=0,0,L269/X269))","v":""},{"$f":"IF('MIS - Pharmacy'!A260=\"\",\"\",SUM('MIS - Pharmacy'!K260+'MIS - Pharmacy'!L260))","v":""},"",{"$f":"IF('MIS - Pharmacy'!A260=\"\",\"\",('MIS - Pharmacy'!AF260+'MIS - Pharmacy'!AH260 +'MIS - Pharmacy'!AG260))","v":""},{"$f":"IF(ISBLANK('MIS - Pharmacy'!AI260),\"\",'MIS - Pharmacy'!AI260)","v":""},"",{"$f":"IF(A269=\"\",\"\",IF(T269=0,0,T269/Q269*1000))","v":""},"",{"$f":"IF(ISBLANK('MIS - Pharmacy'!V260),\"\",'MIS - Pharmacy'!V260)","v":""},"","","",{"$f":"IF(ISBLANK('MIS - Pharmacy'!J260),\"\",'MIS - Pharmacy'!J260)","v":""},{"$f":"IF(ISBLANK('MIS - Pharmacy'!AY260),\"\",'MIS - Pharmacy'!AY260)","v":""},{"$f":"IF(ISBLANK('MIS - Pharmacy'!BH260),\"\",'MIS - Pharmacy'!BH260)","v":""},{"$f":"IF(A269=\"\",\"\",D269+L269)","v":""},""]
[{"$f":"IF(ISBLANK('MIS - Pharmacy'!A261), \"\",'MIS - Pharmacy'!A261)","v":""},{"$f":"IF(ISBLANK('MIS - Pharmacy'!B261),\"\",('MIS - Pharmacy'!B261&\"(\"&'MIS - Pharmacy'!D261&\")\"))","v":""},{"$f":"IF(ISBLANK('MIS - Pharmacy'!BI261), \"\", 'MIS - Pharmacy'!BI261)","v":""},{"$f":"IF(ISBLANK('MIS - Pharmacy'!U261), \"\", 'MIS - Pharmacy'!U261)","v":""},{"$f":"IF(D270=\"\",\"\",IF(D270<=D$9,\"Lower Outlier\",IF(D270<=D$5,\"Below Average\",IF(D270<=D$6,\"Lower Quartile Range\",IF(D270<=D$7,\"Upper Quartile Range\",IF(D270<=D$10,\"Above Average\",\"Upper Outlier\"))))))","v":""},"","",{"$f":"IF(D270=\"\",\"\",IF(X270=0,0,D270/Y270))","v":""},{"$f":"IF(A270=\"\",\"\",IF(D270=0,0,(D270*0.3)/Y270))","v":""},"","",{"$f":"IF(ISBLANK('MIS - Pharmacy'!AC261),\"\",'MIS - Pharmacy'!AC261)","v":""},{"$f":"IF(L270=\"\",\"\",IF(L270<=L$9,\"Lower Outlier\",IF(L270<=L$5,\"Below Average\",IF(L270<=L$6,\"Lower Quartile Range\",IF(L270<=L$7,\"Upper Quartile Range\",IF(L270<=L$10,\"Above Average\",\"Upper Outlier\"))))))","v":""},{"$f":"IF(ISBLANK('MIS - Pharmacy'!AD261),\"\",'MIS - Pharmacy'!AD261)","v":""},{"$f":"IF(N270=\"\",\"\",IF(N270=0,0,L270/N270*1000))","v":""},"",{"$f":"IF('MIS - Pharmacy'!A261=\"\",\"\",SUM('MIS - Pharmacy'!K261+'MIS - Pharmacy'!L261))","v":""},{"$f":"IF(Q270=\"\",\"\",IF(Q270<=Q$9,\"Lower Outlier\",IF(Q270<=Q$5,\"Below Average\",IF(Q270<=Q$6,\"Lower Quartile Range\",IF(Q270<=Q$7,\"Upper Quartile Range\",IF(Q270<=Q$10,\"Above Average\",\"Upper Outlier\"))))))","v":""},{"$f":"IF('MIS - Pharmacy'!A261=\"\",\"\",('MIS - Pharmacy'!AF261+'MIS - Pharmacy'!AH261 +'MIS - Pharmacy'!AG261))","v":""},{"$f":"IF(ISBLANK('MIS - Pharmacy'!AI261),\"\",'MIS - Pharmacy'!AI261)","v":""},{"$f":"IF(T270=\"\",\"\",IF(T270<=T$9,\"Lower Outlier\",IF(T270<=T$5,\"Below Average\",IF(T270<=T$6,\"Lower Quartile Range\",IF(T270<=T$7,\"Upper Quartile Range\",IF(T270<=T$10,\"Above Average\",\"Upper Outlier\"))))))","v":""},"",{"$f":"IF(V270=\"\",\"\",IF(S270 >0,(T270/S270*1000),0))","v":""},{"$f":"IF(ISBLANK('MIS - Pharmacy'!V261),\"\",'MIS - Pharmacy'!V261)","v":""},{"$f":"IF(X270=\"\",\"\",(X270/7)*$Y$3)","v":""},{"$f":"IF(X270=\"\",\"\",IF(X270<=X$9,\"Lower Outlier\",IF(X270<=X$5,\"Below Average\",IF(X270<=X$6,\"Lower Quartile Range\",IF(X270<=X$7,\"Upper Quartile Range\",IF(X270<=X$10,\"Above Average\",\"Upper Outlier\"))))))","v":""},{"$f":"IF(A270=\"\",\"\",IF(X270=0,0,Y270/Q270*1000))","v":""},{"$f":"IF(ISBLANK('MIS - Pharmacy'!J261),\"\",'MIS - Pharmacy'!J261)","v":""},{"$f":"IF(ISBLANK('MIS - Pharmacy'!AY261),\"\",'MIS - Pharmacy'!AY261)","v":""},{"$f":"IF(ISBLANK('MIS - Pharmacy'!BH261),\"\",'MIS - Pharmacy'!BH261)","v":""},"",{"$f":"IF(A270=\"\",\"\",IF(Y270=0,0,(AE270/Y270)*100))","v":""}]
[{"$f":"IF(ISBLANK('MIS - Pharmacy'!A262), \"\",'MIS - Pharmacy'!A262)","v":""},{"$f":"IF(ISBLANK('MIS - Pharmacy'!B262),\"\",('MIS - Pharmacy'!B262&\"(\"&'MIS - Pharmacy'!D262&\")\"))","v":""},{"$f":"IF(ISBLANK('MIS - Pharmacy'!BI262), \"\", 'MIS - Pharmacy'!BI262)","v":""},{"$f":"IF(ISBLANK('MIS - Pharmacy'!U262), \"\", 'MIS - Pharmacy'!U262)","v":""},"","","","","","","",{"$f":"IF(ISBLANK('MIS - Pharmacy'!AC262),\"\",'MIS - Pharmacy'!AC262)","v":""},"",{"$f":"IF(ISBLANK('MIS - Pharmacy'!AD262),\"\",'MIS - Pharmacy'!AD262)","v":""},"","",{"$f":"IF('MIS - Pharmacy'!A262=\"\",\"\",SUM('MIS - Pharmacy'!K262+'MIS - Pharmacy'!L262))","v":""},"",{"$f":"IF('MIS - Pharmacy'!A262=\"\",\"\",('MIS - Pharmacy'!AF262+'MIS - Pharmacy'!AH262 +'MIS - Pharmacy'!AG262))","v":""},{"$f":"IF(ISBLANK('MIS - Pharmacy'!AI262),\"\",'MIS - Pharmacy'!AI262)","v":""},"","","",{"$f":"IF(ISBLANK('MIS - Pharmacy'!V262),\"\",'MIS - Pharmacy'!V262)","v":""},"","","",{"$f":"IF(ISBLANK('MIS - Pharmacy'!J262),\"\",'MIS - Pharmacy'!J262)","v":""},{"$f":"IF(ISBLANK('MIS - Pharmacy'!AY262),\"\",'MIS - Pharmacy'!AY262)","v":""},{"$f":"IF(ISBLANK('MIS - Pharmacy'!BH262),\"\",'MIS - Pharmacy'!BH262)","v":""},"",""]
[{"$f":"IF(ISBLANK('MIS - Pharmacy'!A263), \"\",'MIS - Pharmacy'!A263)","v":""},{"$f":"IF(ISBLANK('MIS - Pharmacy'!B263),\"\",('MIS - Pharmacy'!B263&\"(\"&'MIS - Pharmacy'!D263&\")\"))","v":""},{"$f":"IF(ISBLANK('MIS - Pharmacy'!BI263), \"\", 'MIS - Pharmacy'!BI263)","v":""},{"$f":"IF(ISBLANK('MIS - Pharmacy'!U263), \"\", 'MIS - Pharmacy'!U263)","v":""},"","","","","","","",{"$f":"IF(ISBLANK('MIS - Pharmacy'!AC263),\"\",'MIS - Pharmacy'!AC263)","v":""},"",{"$f":"IF(ISBLANK('MIS - Pharmacy'!AD263),\"\",'MIS - Pharmacy'!AD263)","v":""},"","",{"$f":"IF('MIS - Pharmacy'!A263=\"\",\"\",SUM('MIS - Pharmacy'!K263+'MIS - Pharmacy'!L263))","v":""},"",{"$f":"IF('MIS - Pharmacy'!A263=\"\",\"\",('MIS - Pharmacy'!AF263+'MIS - Pharmacy'!AH263 +'MIS - Pharmacy'!AG263))","v":""},{"$f":"IF(ISBLANK('MIS - Pharmacy'!AI263),\"\",'MIS - Pharmacy'!AI263)","v":""},"","","",{"$f":"IF(ISBLANK('MIS - Pharmacy'!V263),\"\",'MIS - Pharmacy'!V263)","v":""},"","","",{"$f":"IF(ISBLANK('MIS - Pharmacy'!J263),\"\",'MIS - Pharmacy'!J263)","v":""},{"$f":"IF(ISBLANK('MIS - Pharmacy'!AY263),\"\",'MIS - Pharmacy'!AY263)","v":""},{"$f":"IF(ISBLANK('MIS - Pharmacy'!BH263),\"\",'MIS - Pharmacy'!BH263)","v":""},"",""]
[{"$f":"IF(ISBLANK('MIS - Pharmacy'!A264), \"\",'MIS - Pharmacy'!A264)","v":""},{"$f":"IF(ISBLANK('MIS - Pharmacy'!B264),\"\",('MIS - Pharmacy'!B264&\"(\"&'MIS - Pharmacy'!D264&\")\"))","v":""},{"$f":"IF(ISBLANK('MIS - Pharmacy'!BI264), \"\", 'MIS - Pharmacy'!BI264)","v":""},{"$f":"IF(ISBLANK('MIS - Pharmacy'!U264), \"\", 'MIS - Pharmacy'!U264)","v":""},"","","","","","","",{"$f":"IF(ISBLANK('MIS - Pharmacy'!AC264),\"\",'MIS - Pharmacy'!AC264)","v":""},"",{"$f":"IF(ISBLANK('MIS - Pharmacy'!AD264),\"\",'MIS - Pharmacy'!AD264)","v":""},"","",{"$f":"IF('MIS - Pharmacy'!A264=\"\",\"\",SUM('MIS - Pharmacy'!K264+'MIS - Pharmacy'!L264))","v":""},"",{"$f":"IF('MIS - Pharmacy'!A264=\"\",\"\",('MIS - Pharmacy'!AF264+'MIS - Pharmacy'!AH264 +'MIS - Pharmacy'!AG264))","v":""},{"$f":"IF(ISBLANK('MIS - Pharmacy'!AI264),\"\",'MIS - Pharmacy'!AI264)","v":""},"","","",{"$f":"IF(ISBLANK('MIS - Pharmacy'!V264),\"\",'MIS - Pharmacy'!V264)","v":""},"","","",{"$f":"IF(ISBLANK('MIS - Pharmacy'!J264),\"\",'MIS - Pharmacy'!J264)","v":""},{"$f":"IF(ISBLANK('MIS - Pharmacy'!AY264),\"\",'MIS - Pharmacy'!AY264)","v":""},{"$f":"IF(ISBLANK('MIS - Pharmacy'!BH264),\"\",'MIS - Pharmacy'!BH264)","v":""},"",""]
[{"$f":"IF(ISBLANK('MIS - Pharmacy'!A265), \"\",'MIS - Pharmacy'!A265)","v":""},{"$f":"IF(ISBLANK('MIS - Pharmacy'!B265),\"\",('MIS - Pharmacy'!B265&\"(\"&'MIS - Pharmacy'!D265&\")\"))","v":""},{"$f":"IF(ISBLANK('MIS - Pharmacy'!BI265), \"\", 'MIS - Pharmacy'!BI265)","v":""},{"$f":"IF(ISBLANK('MIS - Pharmacy'!U265), \"\", 'MIS - Pharmacy'!U265)","v":""},"","","","","","","",{"$f":"IF(ISBLANK('MIS - Pharmacy'!AC265),\"\",'MIS - Pharmacy'!AC265)","v":""},"",{"$f":"IF(ISBLANK('MIS - Pharmacy'!AD265),\"\",'MIS - Pharmacy'!AD265)","v":""},"","",{"$f":"IF('MIS - Pharmacy'!A265=\"\",\"\",SUM('MIS - Pharmacy'!K265+'MIS - Pharmacy'!L265))","v":""},"",{"$f":"IF('MIS - Pharmacy'!A265=\"\",\"\",('MIS - Pharmacy'!AF265+'MIS - Pharmacy'!AH265 +'MIS - Pharmacy'!AG265))","v":""},{"$f":"IF(ISBLANK('MIS - Pharmacy'!AI265),\"\",'MIS - Pharmacy'!AI265)","v":""},"","","",{"$f":"IF(ISBLANK('MIS - Pharmacy'!V265),\"\",'MIS - Pharmacy'!V265)","v":""},"","","",{"$f":"IF(ISBLANK('MIS - Pharmacy'!J265),\"\",'MIS - Pharmacy'!J265)","v":""},{"$f":"IF(ISBLANK('MIS - Pharmacy'!AY265),\"\",'MIS - Pharmacy'!AY265)","v":""},{"$f":"IF(ISBLANK('MIS - Pharmacy'!BH265),\"\",'MIS - Pharmacy'!BH265)","v":""},"",""]
[{"$f":"IF(ISBLANK('MIS - Pharmacy'!A266), \"\",'MIS - Pharmacy'!A266)","v":""},{"$f":"IF(ISBLANK('MIS - Pharmacy'!B266),\"\",('MIS - Pharmacy'!B266&\"(\"&'MIS - Pharmacy'!D266&\")\"))","v":""},{"$f":"IF(ISBLANK('MIS - Pharmacy'!BI266), \"\", 'MIS - Pharmacy'!BI266)","v":""},{"$f":"IF(ISBLANK('MIS - Pharmacy'!U266), \"\", 'MIS - Pharmacy'!U266)","v":""},"","","","","","","",{"$f":"IF(ISBLANK('MIS - Pharmacy'!AC266),\"\",'MIS - Pharmacy'!AC266)","v":""},"",{"$f":"IF(ISBLANK('MIS - Pharmacy'!AD266),\"\",'MIS - Pharmacy'!AD266)","v":""},"","",{"$f":"IF('MIS - Pharmacy'!A266=\"\",\"\",SUM('MIS - Pharmacy'!K266+'MIS - Pharmacy'!L266))","v":""},"",{"$f":"IF('MIS - Pharmacy'!A266=\"\",\"\",('MIS - Pharmacy'!AF266+'MIS - Pharmacy'!AH266 +'MIS - Pharmacy'!AG266))","v":""},{"$f":"IF(ISBLANK('MIS - Pharmacy'!AI266),\"\",'MIS - Pharmacy'!AI266)","v":""},"","","",{"$f":"IF(ISBLANK('MIS - Pharmacy'!V266),\"\",'MIS - Pharmacy'!V266)","v":""},"","","",{"$f":"IF(ISBLANK('MIS - Pharmacy'!J266),\"\",'MIS - Pharmacy'!J266)","v":""},{"$f":"IF(ISBLANK('MIS - Pharmacy'!AY266),\"\",'MIS - Pharmacy'!AY266)","v":""},{"$f":"IF(ISBLANK('MIS - Pharmacy'!BH266),\"\",'MIS - Pharmacy'!BH266)","v":""},"",""]
[{"$f":"IF(ISBLANK('MIS - Pharmacy'!A267), \"\",'MIS - Pharmacy'!A267)","v":""},{"$f":"IF(ISBLANK('MIS - Pharmacy'!B267),\"\",('MIS - Pharmacy'!B267&\"(\"&'MIS - Pharmacy'!D267&\")\"))","v":""},{"$f":"IF(ISBLANK('MIS - Pharmacy'!BI267), \"\", 'MIS - Pharmacy'!BI267)","v":""},{"$f":"IF(ISBLANK('MIS - Pharmacy'!U267), \"\", 'MIS - Pharmacy'!U267)","v":""},"","","","","","","",{"$f":"IF(ISBLANK('MIS - Pharmacy'!AC267),\"\",'MIS - Pharmacy'!AC267)","v":""},"",{"$f":"IF(ISBLANK('MIS - Pharmacy'!AD267),\"\",'MIS - Pharmacy'!AD267)","v":""},"","",{"$f":"IF('MIS - Pharmacy'!A267=\"\",\"\",SUM('MIS - Pharmacy'!K267+'MIS - Pharmacy'!L267))","v":""},"",{"$f":"IF('MIS - Pharmacy'!A267=\"\",\"\",('MIS - Pharmacy'!AF267+'MIS - Pharmacy'!AH267 +'MIS - Pharmacy'!AG267))","v":""},{"$f":"IF(ISBLANK('MIS - Pharmacy'!AI267),\"\",'MIS - Pharmacy'!AI267)","v":""},"","","",{"$f":"IF(ISBLANK('MIS - Pharmacy'!V267),\"\",'MIS - Pharmacy'!V267)","v":""},"","","",{"$f":"IF(ISBLANK('MIS - Pharmacy'!J267),\"\",'MIS - Pharmacy'!J267)","v":""},{"$f":"IF(ISBLANK('MIS - Pharmacy'!AY267),\"\",'MIS - Pharmacy'!AY267)","v":""},{"$f":"IF(ISBLANK('MIS - Pharmacy'!BH267),\"\",'MIS - Pharmacy'!BH267)","v":""},"",""]
[{"$f":"IF(ISBLANK('MIS - Pharmacy'!A268), \"\",'MIS - Pharmacy'!A268)","v":""},{"$f":"IF(ISBLANK('MIS - Pharmacy'!B268),\"\",('MIS - Pharmacy'!B268&\"(\"&'MIS - Pharmacy'!D268&\")\"))","v":""},{"$f":"IF(ISBLANK('MIS - Pharmacy'!BI268), \"\", 'MIS - Pharmacy'!BI268)","v":""},{"$f":"IF(ISBLANK('MIS - Pharmacy'!U268), \"\", 'MIS - Pharmacy'!U268)","v":""},"","","","","","","",{"$f":"IF(ISBLANK('MIS - Pharmacy'!AC268),\"\",'MIS - Pharmacy'!AC268)","v":""},"",{"$f":"IF(ISBLANK('MIS - Pharmacy'!AD268),\"\",'MIS - Pharmacy'!AD268)","v":""},"","",{"$f":"IF('MIS - Pharmacy'!A268=\"\",\"\",SUM('MIS - Pharmacy'!K268+'MIS - Pharmacy'!L268))","v":""},"",{"$f":"IF('MIS - Pharmacy'!A268=\"\",\"\",('MIS - Pharmacy'!AF268+'MIS - Pharmacy'!AH268 +'MIS - Pharmacy'!AG268))","v":""},{"$f":"IF(ISBLANK('MIS - Pharmacy'!AI268),\"\",'MIS - Pharmacy'!AI268)","v":""},"","","",{"$f":"IF(ISBLANK('MIS - Pharmacy'!V268),\"\",'MIS - Pharmacy'!V268)","v":""},"","","",{"$f":"IF(ISBLANK('MIS - Pharmacy'!J268),\"\",'MIS - Pharmacy'!J268)","v":""},{"$f":"IF(ISBLANK('MIS - Pharmacy'!AY268),\"\",'MIS - Pharmacy'!AY268)","v":""},{"$f":"IF(ISBLANK('MIS - Pharmacy'!BH268),\"\",'MIS - Pharmacy'!BH268)","v":""},"",""]
[{"$f":"IF(ISBLANK('MIS - Pharmacy'!A269), \"\",'MIS - Pharmacy'!A269)","v":""},{"$f":"IF(ISBLANK('MIS - Pharmacy'!B269),\"\",('MIS - Pharmacy'!B269&\"(\"&'MIS - Pharmacy'!D269&\")\"))","v":""},{"$f":"IF(ISBLANK('MIS - Pharmacy'!BI269), \"\", 'MIS - Pharmacy'!BI269)","v":""},{"$f":"IF(ISBLANK('MIS - Pharmacy'!U269), \"\", 'MIS - Pharmacy'!U269)","v":""},"","","","","","","",{"$f":"IF(ISBLANK('MIS - Pharmacy'!AC269),\"\",'MIS - Pharmacy'!AC269)","v":""},"",{"$f":"IF(ISBLANK('MIS - Pharmacy'!AD269),\"\",'MIS - Pharmacy'!AD269)","v":""},"","",{"$f":"IF('MIS - Pharmacy'!A269=\"\",\"\",SUM('MIS - Pharmacy'!K269+'MIS - Pharmacy'!L269))","v":""},"",{"$f":"IF('MIS - Pharmacy'!A269=\"\",\"\",('MIS - Pharmacy'!AF269+'MIS - Pharmacy'!AH269 +'MIS - Pharmacy'!AG269))","v":""},{"$f":"IF(ISBLANK('MIS - Pharmacy'!AI269),\"\",'MIS - Pharmacy'!AI269)","v":""},"","","",{"$f":"IF(ISBLANK('MIS - Pharmacy'!V269),\"\",'MIS - Pharmacy'!V269)","v":""},"","","",{"$f":"IF(ISBLANK('MIS - Pharmacy'!J269),\"\",'MIS - Pharmacy'!J269)","v":""},{"$f":"IF(ISBLANK('MIS - Pharmacy'!AY269),\"\",'MIS - Pharmacy'!AY269)","v":""},{"$f":"IF(ISBLANK('MIS - Pharmacy'!BH269),\"\",'MIS - Pharmacy'!BH269)","v":""},"",""]
[{"$f":"IF(ISBLANK('MIS - Pharmacy'!A270), \"\",'MIS - Pharmacy'!A270)","v":""},{"$f":"IF(ISBLANK('MIS - Pharmacy'!B270),\"\",('MIS - Pharmacy'!B270&\"(\"&'MIS - Pharmacy'!D270&\")\"))","v":""},{"$f":"IF(ISBLANK('MIS - Pharmacy'!BI270), \"\", 'MIS - Pharmacy'!BI270)","v":""},{"$f":"IF(ISBLANK('MIS - Pharmacy'!U270), \"\", 'MIS - Pharmacy'!U270)","v":""},"","","","","","","",{"$f":"IF(ISBLANK('MIS - Pharmacy'!AC270),\"\",'MIS - Pharmacy'!AC270)","v":""},"",{"$f":"IF(ISBLANK('MIS - Pharmacy'!AD270),\"\",'MIS - Pharmacy'!AD270)","v":""},"","",{"$f":"IF('MIS - Pharmacy'!A270=\"\",\"\",SUM('MIS - Pharmacy'!K270+'MIS - Pharmacy'!L270))","v":""},"",{"$f":"IF('MIS - Pharmacy'!A270=\"\",\"\",('MIS - Pharmacy'!AF270+'MIS - Pharmacy'!AH270 +'MIS - Pharmacy'!AG270))","v":""},{"$f":"IF(ISBLANK('MIS - Pharmacy'!AI270),\"\",'MIS - Pharmacy'!AI270)","v":""},"","","",{"$f":"IF(ISBLANK('MIS - Pharmacy'!V270),\"\",'MIS - Pharmacy'!V270)","v":""},"","","",{"$f":"IF(ISBLANK('MIS - Pharmacy'!J270),\"\",'MIS - Pharmacy'!J270)","v":""},{"$f":"IF(ISBLANK('MIS - Pharmacy'!AY270),\"\",'MIS - Pharmacy'!AY270)","v":""},{"$f":"IF(ISBLANK('MIS - Pharmacy'!BH270),\"\",'MIS - Pharmacy'!BH270)","v":""},"",""]
[{"$f":"IF(ISBLANK('MIS - Pharmacy'!A271), \"\",'MIS - Pharmacy'!A271)","v":""},{"$f":"IF(ISBLANK('MIS - Pharmacy'!B271),\"\",('MIS - Pharmacy'!B271&\"(\"&'MIS - Pharmacy'!D271&\")\"))","v":""},{"$f":"IF(ISBLANK('MIS - Pharmacy'!BI271), \"\", 'MIS - Pharmacy'!BI271)","v":""},{"$f":"IF(ISBLANK('MIS - Pharmacy'!U271), \"\", 'MIS - Pharmacy'!U271)","v":""},"","","","","","","",{"$f":"IF(ISBLANK('MIS - Pharmacy'!AC271),\"\",'MIS - Pharmacy'!AC271)","v":""},"",{"$f":"IF(ISBLANK('MIS - Pharmacy'!AD271),\"\",'MIS - Pharmacy'!AD271)","v":""},"","",{"$f":"IF('MIS - Pharmacy'!A271=\"\",\"\",SUM('MIS - Pharmacy'!K271+'MIS - Pharmacy'!L271))","v":""},"",{"$f":"IF('MIS - Pharmacy'!A271=\"\",\"\",('MIS - Pharmacy'!AF271+'MIS - Pharmacy'!AH271 +'MIS - Pharmacy'!AG271))","v":""},{"$f":"IF(ISBLANK('MIS - Pharmacy'!AI271),\"\",'MIS - Pharmacy'!AI271)","v":""},"","","",{"$f":"IF(ISBLANK('MIS - Pharmacy'!V271),\"\",'MIS - Pharmacy'!V271)","v":""},"","","",{"$f":"IF(ISBLANK('MIS - Pharmacy'!J271),\"\",'MIS - Pharmacy'!J271)","v":""},{"$f":"IF(ISBLANK('MIS - Pharmacy'!AY271),\"\",'MIS - Pharmacy'!AY271)","v":""},{"$f":"IF(ISBLANK('MIS - Pharmacy'!BH271),\"\",'MIS - Pharmacy'!BH271)","v":""},"",""]
[{"$f":"IF(ISBLANK('MIS - Pharmacy'!A272), \"\",'MIS - Pharmacy'!A272)","v":""},{"$f":"IF(ISBLANK('MIS - Pharmacy'!B272),\"\",('MIS - Pharmacy'!B272&\"(\"&'MIS - Pharmacy'!D272&\")\"))","v":""},{"$f":"IF(ISBLANK('MIS - Pharmacy'!BI272), \"\", 'MIS - Pharmacy'!BI272)","v":""},{"$f":"IF(ISBLANK('MIS - Pharmacy'!U272), \"\", 'MIS - Pharmacy'!U272)","v":""},"","","","","","","",{"$f":"IF(ISBLANK('MIS - Pharmacy'!AC272),\"\",'MIS - Pharmacy'!AC272)","v":""},"",{"$f":"IF(ISBLANK('MIS - Pharmacy'!AD272),\"\",'MIS - Pharmacy'!AD272)","v":""},"","",{"$f":"IF('MIS - Pharmacy'!A272=\"\",\"\",SUM('MIS - Pharmacy'!K272+'MIS - Pharmacy'!L272))","v":""},"",{"$f":"IF('MIS - Pharmacy'!A272=\"\",\"\",('MIS - Pharmacy'!AF272+'MIS - Pharmacy'!AH272 +'MIS - Pharmacy'!AG272))","v":""},{"$f":"IF(ISBLANK('MIS - Pharmacy'!AI272),\"\",'MIS - Pharmacy'!AI272)","v":""},"","","",{"$f":"IF(ISBLANK('MIS - Pharmacy'!V272),\"\",'MIS - Pharmacy'!V272)","v":""},"","","",{"$f":"IF(ISBLANK('MIS - Pharmacy'!J272),\"\",'MIS - Pharmacy'!J272)","v":""},{"$f":"IF(ISBLANK('MIS - Pharmacy'!AY272),\"\",'MIS - Pharmacy'!AY272)","v":""},{"$f":"IF(ISBLANK('MIS - Pharmacy'!BH272),\"\",'MIS - Pharmacy'!BH272)","v":""},"",""]
[{"$f":"IF(ISBLANK('MIS - Pharmacy'!A273), \"\",'MIS - Pharmacy'!A273)","v":""},{"$f":"IF(ISBLANK('MIS - Pharmacy'!B273),\"\",('MIS - Pharmacy'!B273&\"(\"&'MIS - Pharmacy'!D273&\")\"))","v":""},{"$f":"IF(ISBLANK('MIS - Pharmacy'!BI273), \"\", 'MIS - Pharmacy'!BI273)","v":""},{"$f":"IF(ISBLANK('MIS - Pharmacy'!U273), \"\", 'MIS - Pharmacy'!U273)","v":""},"","","","","","","",{"$f":"IF(ISBLANK('MIS - Pharmacy'!AC273),\"\",'MIS - Pharmacy'!AC273)","v":""},"",{"$f":"IF(ISBLANK('MIS - Pharmacy'!AD273),\"\",'MIS - Pharmacy'!AD273)","v":""},"","",{"$f":"IF('MIS - Pharmacy'!A273=\"\",\"\",SUM('MIS - Pharmacy'!K273+'MIS - Pharmacy'!L273))","v":""},"",{"$f":"IF('MIS - Pharmacy'!A273=\"\",\"\",('MIS - Pharmacy'!AF273+'MIS - Pharmacy'!AH273 +'MIS - Pharmacy'!AG273))","v":""},{"$f":"IF(ISBLANK('MIS - Pharmacy'!AI273),\"\",'MIS - Pharmacy'!AI273)","v":""},"","","",{"$f":"IF(ISBLANK('MIS - Pharmacy'!V273),\"\",'MIS - Pharmacy'!V273)","v":""},"","","",{"$f":"IF(ISBLANK('MIS - Pharmacy'!J273),\"\",'MIS - Pharmacy'!J273)","v":""},{"$f":"IF(ISBLANK('MIS - Pharmacy'!AY273),\"\",'MIS - Pharmacy'!AY273)","v":""},{"$f":"IF(ISBLANK('MIS - Pharmacy'!BH273),\"\",'MIS - Pharmacy'!BH273)","v":""},"",""]
[{"$f":"IF(ISBLANK('MIS - Pharmacy'!A274), \"\",'MIS - Pharmacy'!A274)","v":""},{"$f":"IF(ISBLANK('MIS - Pharmacy'!B274),\"\",('MIS - Pharmacy'!B274&\"(\"&'MIS - Pharmacy'!D274&\")\"))","v":""},{"$f":"IF(ISBLANK('MIS - Pharmacy'!BI274), \"\", 'MIS - Pharmacy'!BI274)","v":""},{"$f":"IF(ISBLANK('MIS - Pharmacy'!U274), \"\", 'MIS - Pharmacy'!U274)","v":""},"","","","","","","",{"$f":"IF(ISBLANK('MIS - Pharmacy'!AC274),\"\",'MIS - Pharmacy'!AC274)","v":""},"",{"$f":"IF(ISBLANK('MIS - Pharmacy'!AD274),\"\",'MIS - Pharmacy'!AD274)","v":""},"","",{"$f":"IF('MIS - Pharmacy'!A274=\"\",\"\",SUM('MIS - Pharmacy'!K274+'MIS - Pharmacy'!L274))","v":""},"",{"$f":"IF('MIS - Pharmacy'!A274=\"\",\"\",('MIS - Pharmacy'!AF274+'MIS - Pharmacy'!AH274 +'MIS - Pharmacy'!AG274))","v":""},{"$f":"IF(ISBLANK('MIS - Pharmacy'!AI274),\"\",'MIS - Pharmacy'!AI274)","v":""},"","","",{"$f":"IF(ISBLANK('MIS - Pharmacy'!V274),\"\",'MIS - Pharmacy'!V274)","v":""},"","","",{"$f":"IF(ISBLANK('MIS - Pharmacy'!J274),\"\",'MIS - Pharmacy'!J274)","v":""},{"$f":"IF(ISBLANK('MIS - Pharmacy'!AY274),\"\",'MIS - Pharmacy'!AY274)","v":""},{"$f":"IF(ISBLANK('MIS - Pharmacy'!BH274),\"\",'MIS - Pharmacy'!BH274)","v":""},"",""]
[{"$f":"IF(ISBLANK('MIS - Pharmacy'!A275), \"\",'MIS - Pharmacy'!A275)","v":""},{"$f":"IF(ISBLANK('MIS - Pharmacy'!B275),\"\",('MIS - Pharmacy'!B275&\"(\"&'MIS - Pharmacy'!D275&\")\"))","v":""},{"$f":"IF(ISBLANK('MIS - Pharmacy'!BI275), \"\", 'MIS - Pharmacy'!BI275)","v":""},{"$f":"IF(ISBLANK('MIS - Pharmacy'!U275), \"\", 'MIS - Pharmacy'!U275)","v":""},"","","","","","","",{"$f":"IF(ISBLANK('MIS - Pharmacy'!AC275),\"\",'MIS - Pharmacy'!AC275)","v":""},"",{"$f":"IF(ISBLANK('MIS - Pharmacy'!AD275),\"\",'MIS - Pharmacy'!AD275)","v":""},"","",{"$f":"IF('MIS - Pharmacy'!A275=\"\",\"\",SUM('MIS - Pharmacy'!K275+'MIS - Pharmacy'!L275))","v":""},"",{"$f":"IF('MIS - Pharmacy'!A275=\"\",\"\",('MIS - Pharmacy'!AF275+'MIS - Pharmacy'!AH275 +'MIS - Pharmacy'!AG275))","v":""},{"$f":"IF(ISBLANK('MIS - Pharmacy'!AI275),\"\",'MIS - Pharmacy'!AI275)","v":""},"","","",{"$f":"IF(ISBLANK('MIS - Pharmacy'!V275),\"\",'MIS - Pharmacy'!V275)","v":""},"","","",{"$f":"IF(ISBLANK('MIS - Pharmacy'!J275),\"\",'MIS - Pharmacy'!J275)","v":""},{"$f":"IF(ISBLANK('MIS - Pharmacy'!AY275),\"\",'MIS - Pharmacy'!AY275)","v":""},{"$f":"IF(ISBLANK('MIS - Pharmacy'!BH275),\"\",'MIS - Pharmacy'!BH275)","v":""},"",""]
[{"$f":"IF(ISBLANK('MIS - Pharmacy'!A276), \"\",'MIS - Pharmacy'!A276)","v":""},{"$f":"IF(ISBLANK('MIS - Pharmacy'!B276),\"\",('MIS - Pharmacy'!B276&\"(\"&'MIS - Pharmacy'!D276&\")\"))","v":""},{"$f":"IF(ISBLANK('MIS - Pharmacy'!BI276), \"\", 'MIS - Pharmacy'!BI276)","v":""},{"$f":"IF(ISBLANK('MIS - Pharmacy'!U276), \"\", 'MIS - Pharmacy'!U276)","v":""},"","","","","","","",{"$f":"IF(ISBLANK('MIS - Pharmacy'!AC276),\"\",'MIS - Pharmacy'!AC276)","v":""},"",{"$f":"IF(ISBLANK('MIS - Pharmacy'!AD276),\"\",'MIS - Pharmacy'!AD276)","v":""},"","",{"$f":"IF('MIS - Pharmacy'!A276=\"\",\"\",SUM('MIS - Pharmacy'!K276+'MIS - Pharmacy'!L276))","v":""},"",{"$f":"IF('MIS - Pharmacy'!A276=\"\",\"\",('MIS - Pharmacy'!AF276+'MIS - Pharmacy'!AH276 +'MIS - Pharmacy'!AG276))","v":""},{"$f":"IF(ISBLANK('MIS - Pharmacy'!AI276),\"\",'MIS - Pharmacy'!AI276)","v":""},"","","",{"$f":"IF(ISBLANK('MIS - Pharmacy'!V276),\"\",'MIS - Pharmacy'!V276)","v":""},"","","",{"$f":"IF(ISBLANK('MIS - Pharmacy'!J276),\"\",'MIS - Pharmacy'!J276)","v":""},{"$f":"IF(ISBLANK('MIS - Pharmacy'!AY276),\"\",'MIS - Pharmacy'!AY276)","v":""},{"$f":"IF(ISBLANK('MIS - Pharmacy'!BH276),\"\",'MIS - Pharmacy'!BH276)","v":""},"",""]
[{"$f":"IF(ISBLANK('MIS - Pharmacy'!A277), \"\",'MIS - Pharmacy'!A277)","v":""},{"$f":"IF(ISBLANK('MIS - Pharmacy'!B277),\"\",('MIS - Pharmacy'!B277&\"(\"&'MIS - Pharmacy'!D277&\")\"))","v":""},{"$f":"IF(ISBLANK('MIS - Pharmacy'!BI277), \"\", 'MIS - Pharmacy'!BI277)","v":""},{"$f":"IF(ISBLANK('MIS - Pharmacy'!U277), \"\", 'MIS - Pharmacy'!U277)","v":""},"","","","","","","",{"$f":"IF(ISBLANK('MIS - Pharmacy'!AC277),\"\",'MIS - Pharmacy'!AC277)","v":""},"",{"$f":"IF(ISBLANK('MIS - Pharmacy'!AD277),\"\",'MIS - Pharmacy'!AD277)","v":""},"","",{"$f":"IF('MIS - Pharmacy'!A277=\"\",\"\",SUM('MIS - Pharmacy'!K277+'MIS - Pharmacy'!L277))","v":""},"",{"$f":"IF('MIS - Pharmacy'!A277=\"\",\"\",('MIS - Pharmacy'!AF277+'MIS - Pharmacy'!AH277 +'MIS - Pharmacy'!AG277))","v":""},{"$f":"IF(ISBLANK('MIS - Pharmacy'!AI277),\"\",'MIS - Pharmacy'!AI277)","v":""},"","","",{"$f":"IF(ISBLANK('MIS - Pharmacy'!V277),\"\",'MIS - Pharmacy'!V277)","v":""},"","","",{"$f":"IF(ISBLANK('MIS - Pharmacy'!J277),\"\",'MIS - Pharmacy'!J277)","v":""},{"$f":"IF(ISBLANK('MIS - Pharmacy'!AY277),\"\",'MIS - Pharmacy'!AY277)","v":""},{"$f":"IF(ISBLANK('MIS - Pharmacy'!BH277),\"\",'MIS - Pharmacy'!BH277)","v":""},"",""]
[{"$f":"IF(ISBLANK('MIS - Pharmacy'!A278), \"\",'MIS - Pharmacy'!A278)","v":""},{"$f":"IF(ISBLANK('MIS - Pharmacy'!B278),\"\",('MIS - Pharmacy'!B278&\"(\"&'MIS - Pharmacy'!D278&\")\"))","v":""},{"$f":"IF(ISBLANK('MIS - Pharmacy'!BI278), \"\", 'MIS - Pharmacy'!BI278)","v":""},{"$f":"IF(ISBLANK('MIS - Pharmacy'!U278), \"\", 'MIS - Pharmacy'!U278)","v":""},"","","","","","","",{"$f":"IF(ISBLANK('MIS - Pharmacy'!AC278),\"\",'MIS - Pharmacy'!AC278)","v":""},"",{"$f":"IF(ISBLANK('MIS - Pharmacy'!AD278),\"\",'MIS - Pharmacy'!AD278)","v":""},"","",{"$f":"IF('MIS - Pharmacy'!A278=\"\",\"\",SUM('MIS - Pharmacy'!K278+'MIS - Pharmacy'!L278))","v":""},"",{"$f":"IF('MIS - Pharmacy'!A278=\"\",\"\",('MIS - Pharmacy'!AF278+'MIS - Pharmacy'!AH278 +'MIS - Pharmacy'!AG278))","v":""},{"$f":"IF(ISBLANK('MIS - Pharmacy'!AI278),\"\",'MIS - Pharmacy'!AI278)","v":""},"","","",{"$f":"IF(ISBLANK('MIS - Pharmacy'!V278),\"\",'MIS - Pharmacy'!V278)","v":""},"","","",{"$f":"IF(ISBLANK('MIS - Pharmacy'!J278),\"\",'MIS - Pharmacy'!J278)","v":""},{"$f":"IF(ISBLANK('MIS - Pharmacy'!AY278),\"\",'MIS - Pharmacy'!AY278)","v":""},{"$f":"IF(ISBLANK('MIS - Pharmacy'!BH278),\"\",'MIS - Pharmacy'!BH278)","v":""},"",""]
[{"$f":"IF(ISBLANK('MIS - Pharmacy'!A279), \"\",'MIS - Pharmacy'!A279)","v":""},{"$f":"IF(ISBLANK('MIS - Pharmacy'!B279),\"\",('MIS - Pharmacy'!B279&\"(\"&'MIS - Pharmacy'!D279&\")\"))","v":""},{"$f":"IF(ISBLANK('MIS - Pharmacy'!BI279), \"\", 'MIS - Pharmacy'!BI279)","v":""},{"$f":"IF(ISBLANK('MIS - Pharmacy'!U279), \"\", 'MIS - Pharmacy'!U279)","v":""},"","","","","","","",{"$f":"IF(ISBLANK('MIS - Pharmacy'!AC279),\"\",'MIS - Pharmacy'!AC279)","v":""},"",{"$f":"IF(ISBLANK('MIS - Pharmacy'!AD279),\"\",'MIS - Pharmacy'!AD279)","v":""},"","",{"$f":"IF('MIS - Pharmacy'!A279=\"\",\"\",SUM('MIS - Pharmacy'!K279+'MIS - Pharmacy'!L279))","v":""},"",{"$f":"IF('MIS - Pharmacy'!A279=\"\",\"\",('MIS - Pharmacy'!AF279+'MIS - Pharmacy'!AH279 +'MIS - Pharmacy'!AG279))","v":""},{"$f":"IF(ISBLANK('MIS - Pharmacy'!AI279),\"\",'MIS - Pharmacy'!AI279)","v":""},"","","",{"$f":"IF(ISBLANK('MIS - Pharmacy'!V279),\"\",'MIS - Pharmacy'!V279)","v":""},"","","",{"$f":"IF(ISBLANK('MIS - Pharmacy'!J279),\"\",'MIS - Pharmacy'!J279)","v":""},{"$f":"IF(ISBLANK('MIS - Pharmacy'!AY279),\"\",'MIS - Pharmacy'!AY279)","v":""},{"$f":"IF(ISBLANK('MIS - Pharmacy'!BH279),\"\",'MIS - Pharmacy'!BH279)","v":""},"",""]
[{"$f":"IF(ISBLANK('MIS - Pharmacy'!A280), \"\",'MIS - Pharmacy'!A280)","v":""},{"$f":"IF(ISBLANK('MIS - Pharmacy'!B280),\"\",('MIS - Pharmacy'!B280&\"(\"&'MIS - Pharmacy'!D280&\")\"))","v":""},{"$f":"IF(ISBLANK('MIS - Pharmacy'!BI280), \"\", 'MIS - Pharmacy'!BI280)","v":""},{"$f":"IF(ISBLANK('MIS - Pharmacy'!U280), \"\", 'MIS - Pharmacy'!U280)","v":""},"","","","","","","",{"$f":"IF(ISBLANK('MIS - Pharmacy'!AC280),\"\",'MIS - Pharmacy'!AC280)","v":""},"",{"$f":"IF(ISBLANK('MIS - Pharmacy'!AD280),\"\",'MIS - Pharmacy'!AD280)","v":""},"","",{"$f":"IF('MIS - Pharmacy'!A280=\"\",\"\",SUM('MIS - Pharmacy'!K280+'MIS - Pharmacy'!L280))","v":""},"",{"$f":"IF('MIS - Pharmacy'!A280=\"\",\"\",('MIS - Pharmacy'!AF280+'MIS - Pharmacy'!AH280 +'MIS - Pharmacy'!AG280))","v":""},{"$f":"IF(ISBLANK('MIS - Pharmacy'!AI280),\"\",'MIS - Pharmacy'!AI280)","v":""},"","","",{"$f":"IF(ISBLANK('MIS - Pharmacy'!V280),\"\",'MIS - Pharmacy'!V280)","v":""},"","","",{"$f":"IF(ISBLANK('MIS - Pharmacy'!J280),\"\",'MIS - Pharmacy'!J280)","v":""},{"$f":"IF(ISBLANK('MIS - Pharmacy'!AY280),\"\",'MIS - Pharmacy'!AY280)","v":""},{"$f":"IF(ISBLANK('MIS - Pharmacy'!BH280),\"\",'MIS - Pharmacy'!BH280)","v":""},"",""]
[{"$f":"IF(ISBLANK('MIS - Pharmacy'!A281), \"\",'MIS - Pharmacy'!A281)","v":""},{"$f":"IF(ISBLANK('MIS - Pharmacy'!B281),\"\",('MIS - Pharmacy'!B281&\"(\"&'MIS - Pharmacy'!D281&\")\"))","v":""},{"$f":"IF(ISBLANK('MIS - Pharmacy'!BI281), \"\", 'MIS - Pharmacy'!BI281)","v":""},{"$f":"IF(ISBLANK('MIS - Pharmacy'!U281), \"\", 'MIS - Pharmacy'!U281)","v":""},"","","","","","","",{"$f":"IF(ISBLANK('MIS - Pharmacy'!AC281),\"\",'MIS - Pharmacy'!AC281)","v":""},"",{"$f":"IF(ISBLANK('MIS - Pharmacy'!AD281),\"\",'MIS - Pharmacy'!AD281)","v":""},"","",{"$f":"IF('MIS - Pharmacy'!A281=\"\",\"\",SUM('MIS - Pharmacy'!K281+'MIS - Pharmacy'!L281))","v":""},"",{"$f":"IF('MIS - Pharmacy'!A281=\"\",\"\",('MIS - Pharmacy'!AF281+'MIS - Pharmacy'!AH281 +'MIS - Pharmacy'!AG281))","v":""},{"$f":"IF(ISBLANK('MIS - Pharmacy'!AI281),\"\",'MIS - Pharmacy'!AI281)","v":""},"","","",{"$f":"IF(ISBLANK('MIS - Pharmacy'!V281),\"\",'MIS - Pharmacy'!V281)","v":""},"","","",{"$f":"IF(ISBLANK('MIS - Pharmacy'!J281),\"\",'MIS - Pharmacy'!J281)","v":""},{"$f":"IF(ISBLANK('MIS - Pharmacy'!AY281),\"\",'MIS - Pharmacy'!AY281)","v":""},{"$f":"IF(ISBLANK('MIS - Pharmacy'!BH281),\"\",'MIS - Pharmacy'!BH281)","v":""},"",""]
[{"$f":"IF(ISBLANK('MIS - Pharmacy'!A282), \"\",'MIS - Pharmacy'!A282)","v":""},{"$f":"IF(ISBLANK('MIS - Pharmacy'!B282),\"\",('MIS - Pharmacy'!B282&\"(\"&'MIS - Pharmacy'!D282&\")\"))","v":""},{"$f":"IF(ISBLANK('MIS - Pharmacy'!BI282), \"\", 'MIS - Pharmacy'!BI282)","v":""},{"$f":"IF(ISBLANK('MIS - Pharmacy'!U282), \"\", 'MIS - Pharmacy'!U282)","v":""},"","","","","","","",{"$f":"IF(ISBLANK('MIS - Pharmacy'!AC282),\"\",'MIS - Pharmacy'!AC282)","v":""},"",{"$f":"IF(ISBLANK('MIS - Pharmacy'!AD282),\"\",'MIS - Pharmacy'!AD282)","v":""},"","",{"$f":"IF('MIS - Pharmacy'!A282=\"\",\"\",SUM('MIS - Pharmacy'!K282+'MIS - Pharmacy'!L282))","v":""},"",{"$f":"IF('MIS - Pharmacy'!A282=\"\",\"\",('MIS - Pharmacy'!AF282+'MIS - Pharmacy'!AH282 +'MIS - Pharmacy'!AG282))","v":""},{"$f":"IF(ISBLANK('MIS - Pharmacy'!AI282),\"\",'MIS - Pharmacy'!AI282)","v":""},"","","",{"$f":"IF(ISBLANK('MIS - Pharmacy'!V282),\"\",'MIS - Pharmacy'!V282)","v":""},"","","",{"$f":"IF(ISBLANK('MIS - Pharmacy'!J282),\"\",'MIS - Pharmacy'!J282)","v":""},{"$f":"IF(ISBLANK('MIS - Pharmacy'!AY282),\"\",'MIS - Pharmacy'!AY282)","v":""},{"$f":"IF(ISBLANK('MIS - Pharmacy'!BH282),\"\",'MIS - Pharmacy'!BH282)","v":""},"",""]
[{"$f":"IF(ISBLANK('MIS - Pharmacy'!A283), \"\",'MIS - Pharmacy'!A283)","v":""},{"$f":"IF(ISBLANK('MIS - Pharmacy'!B283),\"\",('MIS - Pharmacy'!B283&\"(\"&'MIS - Pharmacy'!D283&\")\"))","v":""},{"$f":"IF(ISBLANK('MIS - Pharmacy'!BI283), \"\", 'MIS - Pharmacy'!BI283)","v":""},{"$f":"IF(ISBLANK('MIS - Pharmacy'!U283), \"\", 'MIS - Pharmacy'!U283)","v":""},"","","","","","","",{"$f":"IF(ISBLANK('MIS - Pharmacy'!AC283),\"\",'MIS - Pharmacy'!AC283)","v":""},"",{"$f":"IF(ISBLANK('MIS - Pharmacy'!AD283),\"\",'MIS - Pharmacy'!AD283)","v":""},"","",{"$f":"IF('MIS - Pharmacy'!A283=\"\",\"\",SUM('MIS - Pharmacy'!K283+'MIS - Pharmacy'!L283))","v":""},"",{"$f":"IF('MIS - Pharmacy'!A283=\"\",\"\",('MIS - Pharmacy'!AF283+'MIS - Pharmacy'!AH283 +'MIS - Pharmacy'!AG283))","v":""},{"$f":"IF(ISBLANK('MIS - Pharmacy'!AI283),\"\",'MIS - Pharmacy'!AI283)","v":""},"","","",{"$f":"IF(ISBLANK('MIS - Pharmacy'!V283),\"\",'MIS - Pharmacy'!V283)","v":""},"","","",{"$f":"IF(ISBLANK('MIS - Pharmacy'!J283),\"\",'MIS - Pharmacy'!J283)","v":""},{"$f":"IF(ISBLANK('MIS - Pharmacy'!AY283),\"\",'MIS - Pharmacy'!AY283)","v":""},{"$f":"IF(ISBLANK('MIS - Pharmacy'!BH283),\"\",'MIS - Pharmacy'!BH283)","v":""},"",""]
[{"$f":"IF(ISBLANK('MIS - Pharmacy'!A284), \"\",'MIS - Pharmacy'!A284)","v":""},{"$f":"IF(ISBLANK('MIS - Pharmacy'!B284),\"\",('MIS - Pharmacy'!B284&\"(\"&'MIS - Pharmacy'!D284&\")\"))","v":""},{"$f":"IF(ISBLANK('MIS - Pharmacy'!BI284), \"\", 'MIS - Pharmacy'!BI284)","v":""},{"$f":"IF(ISBLANK('MIS - Pharmacy'!U284), \"\", 'MIS - Pharmacy'!U284)","v":""},"","","","","","","",{"$f":"IF(ISBLANK('MIS - Pharmacy'!AC284),\"\",'MIS - Pharmacy'!AC284)","v":""},"",{"$f":"IF(ISBLANK('MIS - Pharmacy'!AD284),\"\",'MIS - Pharmacy'!AD284)","v":""},"","",{"$f":"IF('MIS - Pharmacy'!A284=\"\",\"\",SUM('MIS - Pharmacy'!K284+'MIS - Pharmacy'!L284))","v":""},"",{"$f":"IF('MIS - Pharmacy'!A284=\"\",\"\",('MIS - Pharmacy'!AF284+'MIS - Pharmacy'!AH284 +'MIS - Pharmacy'!AG284))","v":""},{"$f":"IF(ISBLANK('MIS - Pharmacy'!AI284),\"\",'MIS - Pharmacy'!AI284)","v":""},"","","",{"$f":"IF(ISBLANK('MIS - Pharmacy'!V284),\"\",'MIS - Pharmacy'!V284)","v":""},"","","",{"$f":"IF(ISBLANK('MIS - Pharmacy'!J284),\"\",'MIS - Pharmacy'!J284)","v":""},{"$f":"IF(ISBLANK('MIS - Pharmacy'!AY284),\"\",'MIS - Pharmacy'!AY284)","v":""},{"$f":"IF(ISBLANK('MIS - Pharmacy'!BH284),\"\",'MIS - Pharmacy'!BH284)","v":""},"",""]
[{"$f":"IF(ISBLANK('MIS - Pharmacy'!A285), \"\",'MIS - Pharmacy'!A285)","v":""},{"$f":"IF(ISBLANK('MIS - Pharmacy'!B285),\"\",('MIS - Pharmacy'!B285&\"(\"&'MIS - Pharmacy'!D285&\")\"))","v":""},{"$f":"IF(ISBLANK('MIS - Pharmacy'!BI285), \"\", 'MIS - Pharmacy'!BI285)","v":""},{"$f":"IF(ISBLANK('MIS - Pharmacy'!U285), \"\", 'MIS - Pharmacy'!U285)","v":""},"","","","","","","",{"$f":"IF(ISBLANK('MIS - Pharmacy'!AC285),\"\",'MIS - Pharmacy'!AC285)","v":""},"",{"$f":"IF(ISBLANK('MIS - Pharmacy'!AD285),\"\",'MIS - Pharmacy'!AD285)","v":""},"","",{"$f":"IF('MIS - Pharmacy'!A285=\"\",\"\",SUM('MIS - Pharmacy'!K285+'MIS - Pharmacy'!L285))","v":""},"",{"$f":"IF('MIS - Pharmacy'!A285=\"\",\"\",('MIS - Pharmacy'!AF285+'MIS - Pharmacy'!AH285 +'MIS - Pharmacy'!AG285))","v":""},{"$f":"IF(ISBLANK('MIS - Pharmacy'!AI285),\"\",'MIS - Pharmacy'!AI285)","v":""},"","","",{"$f":"IF(ISBLANK('MIS - Pharmacy'!V285),\"\",'MIS - Pharmacy'!V285)","v":""},"","","",{"$f":"IF(ISBLANK('MIS - Pharmacy'!J285),\"\",'MIS - Pharmacy'!J285)","v":""},{"$f":"IF(ISBLANK('MIS - Pharmacy'!AY285),\"\",'MIS - Pharmacy'!AY285)","v":""},{"$f":"IF(ISBLANK('MIS - Pharmacy'!BH285),\"\",'MIS - Pharmacy'!BH285)","v":""},"",""]
[{"$f":"IF(ISBLANK('MIS - Pharmacy'!A286), \"\",'MIS - Pharmacy'!A286)","v":""},{"$f":"IF(ISBLANK('MIS - Pharmacy'!B286),\"\",('MIS - Pharmacy'!B286&\"(\"&'MIS - Pharmacy'!D286&\")\"))","v":""},{"$f":"IF(ISBLANK('MIS - Pharmacy'!BI286), \"\", 'MIS - Pharmacy'!BI286)","v":""},{"$f":"IF(ISBLANK('MIS - Pharmacy'!U286), \"\", 'MIS - Pharmacy'!U286)","v":""},"","","","","","","",{"$f":"IF(ISBLANK('MIS - Pharmacy'!AC286),\"\",'MIS - Pharmacy'!AC286)","v":""},"",{"$f":"IF(ISBLANK('MIS - Pharmacy'!AD286),\"\",'MIS - Pharmacy'!AD286)","v":""},"","",{"$f":"IF('MIS - Pharmacy'!A286=\"\",\"\",SUM('MIS - Pharmacy'!K286+'MIS - Pharmacy'!L286))","v":""},"",{"$f":"IF('MIS - Pharmacy'!A286=\"\",\"\",('MIS - Pharmacy'!AF286+'MIS - Pharmacy'!AH286 +'MIS - Pharmacy'!AG286))","v":""},{"$f":"IF(ISBLANK('MIS - Pharmacy'!AI286),\"\",'MIS - Pharmacy'!AI286)","v":""},"","","",{"$f":"IF(ISBLANK('MIS - Pharmacy'!V286),\"\",'MIS - Pharmacy'!V286)","v":""},"","","",{"$f":"IF(ISBLANK('MIS - Pharmacy'!J286),\"\",'MIS - Pharmacy'!J286)","v":""},{"$f":"IF(ISBLANK('MIS - Pharmacy'!AY286),\"\",'MIS - Pharmacy'!AY286)","v":""},{"$f":"IF(ISBLANK('MIS - Pharmacy'!BH286),\"\",'MIS - Pharmacy'!BH286)","v":""},"",""]
[{"$f":"IF(ISBLANK('MIS - Pharmacy'!A287), \"\",'MIS - Pharmacy'!A287)","v":""},{"$f":"IF(ISBLANK('MIS - Pharmacy'!B287),\"\",('MIS - Pharmacy'!B287&\"(\"&'MIS - Pharmacy'!D287&\")\"))","v":""},{"$f":"IF(ISBLANK('MIS - Pharmacy'!BI287), \"\", 'MIS - Pharmacy'!BI287)","v":""},{"$f":"IF(ISBLANK('MIS - Pharmacy'!U287), \"\", 'MIS - Pharmacy'!U287)","v":""},"","","","","","","",{"$f":"IF(ISBLANK('MIS - Pharmacy'!AC287),\"\",'MIS - Pharmacy'!AC287)","v":""},"",{"$f":"IF(ISBLANK('MIS - Pharmacy'!AD287),\"\",'MIS - Pharmacy'!AD287)","v":""},"","",{"$f":"IF('MIS - Pharmacy'!A287=\"\",\"\",SUM('MIS - Pharmacy'!K287+'MIS - Pharmacy'!L287))","v":""},"",{"$f":"IF('MIS - Pharmacy'!A287=\"\",\"\",('MIS - Pharmacy'!AF287+'MIS - Pharmacy'!AH287 +'MIS - Pharmacy'!AG287))","v":""},{"$f":"IF(ISBLANK('MIS - Pharmacy'!AI287),\"\",'MIS - Pharmacy'!AI287)","v":""},"","","",{"$f":"IF(ISBLANK('MIS - Pharmacy'!V287),\"\",'MIS - Pharmacy'!V287)","v":""},"","","",{"$f":"IF(ISBLANK('MIS - Pharmacy'!J287),\"\",'MIS - Pharmacy'!J287)","v":""},{"$f":"IF(ISBLANK('MIS - Pharmacy'!AY287),\"\",'MIS - Pharmacy'!AY287)","v":""},{"$f":"IF(ISBLANK('MIS - Pharmacy'!BH287),\"\",'MIS - Pharmacy'!BH287)","v":""},"",""]
[{"$f":"IF(ISBLANK('MIS - Pharmacy'!A288), \"\",'MIS - Pharmacy'!A288)","v":""},{"$f":"IF(ISBLANK('MIS - Pharmacy'!B288),\"\",('MIS - Pharmacy'!B288&\"(\"&'MIS - Pharmacy'!D288&\")\"))","v":""},{"$f":"IF(ISBLANK('MIS - Pharmacy'!BI288), \"\", 'MIS - Pharmacy'!BI288)","v":""},{"$f":"IF(ISBLANK('MIS - Pharmacy'!U288), \"\", 'MIS - Pharmacy'!U288)","v":""},"","","","","","","",{"$f":"IF(ISBLANK('MIS - Pharmacy'!AC288),\"\",'MIS - Pharmacy'!AC288)","v":""},"",{"$f":"IF(ISBLANK('MIS - Pharmacy'!AD288),\"\",'MIS - Pharmacy'!AD288)","v":""},"","",{"$f":"IF('MIS - Pharmacy'!A288=\"\",\"\",SUM('MIS - Pharmacy'!K288+'MIS - Pharmacy'!L288))","v":""},"",{"$f":"IF('MIS - Pharmacy'!A288=\"\",\"\",('MIS - Pharmacy'!AF288+'MIS - Pharmacy'!AH288 +'MIS - Pharmacy'!AG288))","v":""},{"$f":"IF(ISBLANK('MIS - Pharmacy'!AI288),\"\",'MIS - Pharmacy'!AI288)","v":""},"","","",{"$f":"IF(ISBLANK('MIS - Pharmacy'!V288),\"\",'MIS - Pharmacy'!V288)","v":""},"","","",{"$f":"IF(ISBLANK('MIS - Pharmacy'!J288),\"\",'MIS - Pharmacy'!J288)","v":""},{"$f":"IF(ISBLANK('MIS - Pharmacy'!AY288),\"\",'MIS - Pharmacy'!AY288)","v":""},{"$f":"IF(ISBLANK('MIS - Pharmacy'!BH288),\"\",'MIS - Pharmacy'!BH288)","v":""},"",""]
[{"$f":"IF(ISBLANK('MIS - Pharmacy'!A289), \"\",'MIS - Pharmacy'!A289)","v":""},{"$f":"IF(ISBLANK('MIS - Pharmacy'!B289),\"\",('MIS - Pharmacy'!B289&\"(\"&'MIS - Pharmacy'!D289&\")\"))","v":""},{"$f":"IF(ISBLANK('MIS - Pharmacy'!BI289), \"\", 'MIS - Pharmacy'!BI289)","v":""},{"$f":"IF(ISBLANK('MIS - Pharmacy'!U289), \"\", 'MIS - Pharmacy'!U289)","v":""},"","","","","","","",{"$f":"IF(ISBLANK('MIS - Pharmacy'!AC289),\"\",'MIS - Pharmacy'!AC289)","v":""},"",{"$f":"IF(ISBLANK('MIS - Pharmacy'!AD289),\"\",'MIS - Pharmacy'!AD289)","v":""},"","",{"$f":"IF('MIS - Pharmacy'!A289=\"\",\"\",SUM('MIS - Pharmacy'!K289+'MIS - Pharmacy'!L289))","v":""},"",{"$f":"IF('MIS - Pharmacy'!A289=\"\",\"\",('MIS - Pharmacy'!AF289+'MIS - Pharmacy'!AH289 +'MIS - Pharmacy'!AG289))","v":""},{"$f":"IF(ISBLANK('MIS - Pharmacy'!AI289),\"\",'MIS - Pharmacy'!AI289)","v":""},"","","",{"$f":"IF(ISBLANK('MIS - Pharmacy'!V289),\"\",'MIS - Pharmacy'!V289)","v":""},"","","",{"$f":"IF(ISBLANK('MIS - Pharmacy'!J289),\"\",'MIS - Pharmacy'!J289)","v":""},{"$f":"IF(ISBLANK('MIS - Pharmacy'!AY289),\"\",'MIS - Pharmacy'!AY289)","v":""},{"$f":"IF(ISBLANK('MIS - Pharmacy'!BH289),\"\",'MIS - Pharmacy'!BH289)","v":""},"",""]
[{"$f":"IF(ISBLANK('MIS - Pharmacy'!A290), \"\",'MIS - Pharmacy'!A290)","v":""},{"$f":"IF(ISBLANK('MIS - Pharmacy'!B290),\"\",('MIS - Pharmacy'!B290&\"(\"&'MIS - Pharmacy'!D290&\")\"))","v":""},{"$f":"IF(ISBLANK('MIS - Pharmacy'!BI290), \"\", 'MIS - Pharmacy'!BI290)","v":""},{"$f":"IF(ISBLANK('MIS - Pharmacy'!U290), \"\", 'MIS - Pharmacy'!U290)","v":""},"","","","","","","",{"$f":"IF(ISBLANK('MIS - Pharmacy'!AC290),\"\",'MIS - Pharmacy'!AC290)","v":""},"",{"$f":"IF(ISBLANK('MIS - Pharmacy'!AD290),\"\",'MIS - Pharmacy'!AD290)","v":""},"","",{"$f":"IF('MIS - Pharmacy'!A290=\"\",\"\",SUM('MIS - Pharmacy'!K290+'MIS - Pharmacy'!L290))","v":""},"",{"$f":"IF('MIS - Pharmacy'!A290=\"\",\"\",('MIS - Pharmacy'!AF290+'MIS - Pharmacy'!AH290 +'MIS - Pharmacy'!AG290))","v":""},{"$f":"IF(ISBLANK('MIS - Pharmacy'!AI290),\"\",'MIS - Pharmacy'!AI290)","v":""},"","","",{"$f":"IF(ISBLANK('MIS - Pharmacy'!V290),\"\",'MIS - Pharmacy'!V290)","v":""},"","","",{"$f":"IF(ISBLANK('MIS - Pharmacy'!J290),\"\",'MIS - Pharmacy'!J290)","v":""},{"$f":"IF(ISBLANK('MIS - Pharmacy'!AY290),\"\",'MIS - Pharmacy'!AY290)","v":""},{"$f":"IF(ISBLANK('MIS - Pharmacy'!BH290),\"\",'MIS - Pharmacy'!BH290)","v":""},"",""]
[{"$f":"IF(ISBLANK('MIS - Pharmacy'!A291), \"\",'MIS - Pharmacy'!A291)","v":""},{"$f":"IF(ISBLANK('MIS - Pharmacy'!B291),\"\",('MIS - Pharmacy'!B291&\"(\"&'MIS - Pharmacy'!D291&\")\"))","v":""},{"$f":"IF(ISBLANK('MIS - Pharmacy'!BI291), \"\", 'MIS - Pharmacy'!BI291)","v":""},{"$f":"IF(ISBLANK('MIS - Pharmacy'!U291), \"\", 'MIS - Pharmacy'!U291)","v":""},"","","","","","","",{"$f":"IF(ISBLANK('MIS - Pharmacy'!AC291),\"\",'MIS - Pharmacy'!AC291)","v":""},"",{"$f":"IF(ISBLANK('MIS - Pharmacy'!AD291),\"\",'MIS - Pharmacy'!AD291)","v":""},"","",{"$f":"IF('MIS - Pharmacy'!A291=\"\",\"\",SUM('MIS - Pharmacy'!K291+'MIS - Pharmacy'!L291))","v":""},"",{"$f":"IF('MIS - Pharmacy'!A291=\"\",\"\",('MIS - Pharmacy'!AF291+'MIS - Pharmacy'!AH291 +'MIS - Pharmacy'!AG291))","v":""},{"$f":"IF(ISBLANK('MIS - Pharmacy'!AI291),\"\",'MIS - Pharmacy'!AI291)","v":""},"","","",{"$f":"IF(ISBLANK('MIS - Pharmacy'!V291),\"\",'MIS - Pharmacy'!V291)","v":""},"","","",{"$f":"IF(ISBLANK('MIS - Pharmacy'!J291),\"\",'MIS - Pharmacy'!J291)","v":""},{"$f":"IF(ISBLANK('MIS - Pharmacy'!AY291),\"\",'MIS - Pharmacy'!AY291)","v":""},{"$f":"IF(ISBLANK('MIS - Pharmacy'!BH291),\"\",'MIS - Pharmacy'!BH291)","v":""},"",""]
[{"$f":"IF(ISBLANK('MIS - Pharmacy'!A292), \"\",'MIS - Pharmacy'!A292)","v":""},{"$f":"IF(ISBLANK('MIS - Pharmacy'!B292),\"\",('MIS - Pharmacy'!B292&\"(\"&'MIS - Pharmacy'!D292&\")\"))","v":""},{"$f":"IF(ISBLANK('MIS - Pharmacy'!BI292), \"\", 'MIS - Pharmacy'!BI292)","v":""},{"$f":"IF(ISBLANK('MIS - Pharmacy'!U292), \"\", 'MIS - Pharmacy'!U292)","v":""},"","","","","","","",{"$f":"IF(ISBLANK('MIS - Pharmacy'!AC292),\"\",'MIS - Pharmacy'!AC292)","v":""},"",{"$f":"IF(ISBLANK('MIS - Pharmacy'!AD292),\"\",'MIS - Pharmacy'!AD292)","v":""},"","",{"$f":"IF('MIS - Pharmacy'!A292=\"\",\"\",SUM('MIS - Pharmacy'!K292+'MIS - Pharmacy'!L292))","v":""},"",{"$f":"IF('MIS - Pharmacy'!A292=\"\",\"\",('MIS - Pharmacy'!AF292+'MIS - Pharmacy'!AH292 +'MIS - Pharmacy'!AG292))","v":""},{"$f":"IF(ISBLANK('MIS - Pharmacy'!AI292),\"\",'MIS - Pharmacy'!AI292)","v":""},"","","",{"$f":"IF(ISBLANK('MIS - Pharmacy'!V292),\"\",'MIS - Pharmacy'!V292)","v":""},"","","",{"$f":"IF(ISBLANK('MIS - Pharmacy'!J292),\"\",'MIS - Pharmacy'!J292)","v":""},{"$f":"IF(ISBLANK('MIS - Pharmacy'!AY292),\"\",'MIS - Pharmacy'!AY292)","v":""},{"$f":"IF(ISBLANK('MIS - Pharmacy'!BH292),\"\",'MIS - Pharmacy'!BH292)","v":""},"",""]
[{"$f":"IF(ISBLANK('MIS - Pharmacy'!A293), \"\",'MIS - Pharmacy'!A293)","v":""},{"$f":"IF(ISBLANK('MIS - Pharmacy'!B293),\"\",('MIS - Pharmacy'!B293&\"(\"&'MIS - Pharmacy'!D293&\")\"))","v":""},{"$f":"IF(ISBLANK('MIS - Pharmacy'!BI293), \"\", 'MIS - Pharmacy'!BI293)","v":""},{"$f":"IF(ISBLANK('MIS - Pharmacy'!U293), \"\", 'MIS - Pharmacy'!U293)","v":""},"","","","","","","",{"$f":"IF(ISBLANK('MIS - Pharmacy'!AC293),\"\",'MIS - Pharmacy'!AC293)","v":""},"",{"$f":"IF(ISBLANK('MIS - Pharmacy'!AD293),\"\",'MIS - Pharmacy'!AD293)","v":""},"","",{"$f":"IF('MIS - Pharmacy'!A293=\"\",\"\",SUM('MIS - Pharmacy'!K293+'MIS - Pharmacy'!L293))","v":""},"",{"$f":"IF('MIS - Pharmacy'!A293=\"\",\"\",('MIS - Pharmacy'!AF293+'MIS - Pharmacy'!AH293 +'MIS - Pharmacy'!AG293))","v":""},{"$f":"IF(ISBLANK('MIS - Pharmacy'!AI293),\"\",'MIS - Pharmacy'!AI293)","v":""},"","","",{"$f":"IF(ISBLANK('MIS - Pharmacy'!V293),\"\",'MIS - Pharmacy'!V293)","v":""},"","","",{"$f":"IF(ISBLANK('MIS - Pharmacy'!J293),\"\",'MIS - Pharmacy'!J293)","v":""},{"$f":"IF(ISBLANK('MIS - Pharmacy'!AY293),\"\",'MIS - Pharmacy'!AY293)","v":""},{"$f":"IF(ISBLANK('MIS - Pharmacy'!BH293),\"\",'MIS - Pharmacy'!BH293)","v":""},"",""]
[{"$f":"IF(ISBLANK('MIS - Pharmacy'!A294), \"\",'MIS - Pharmacy'!A294)","v":""},{"$f":"IF(ISBLANK('MIS - Pharmacy'!B294),\"\",('MIS - Pharmacy'!B294&\"(\"&'MIS - Pharmacy'!D294&\")\"))","v":""},{"$f":"IF(ISBLANK('MIS - Pharmacy'!BI294), \"\", 'MIS - Pharmacy'!BI294)","v":""},{"$f":"IF(ISBLANK('MIS - Pharmacy'!U294), \"\", 'MIS - Pharmacy'!U294)","v":""},"","","","","","","",{"$f":"IF(ISBLANK('MIS - Pharmacy'!AC294),\"\",'MIS - Pharmacy'!AC294)","v":""},"",{"$f":"IF(ISBLANK('MIS - Pharmacy'!AD294),\"\",'MIS - Pharmacy'!AD294)","v":""},"","",{"$f":"IF('MIS - Pharmacy'!A294=\"\",\"\",SUM('MIS - Pharmacy'!K294+'MIS - Pharmacy'!L294))","v":""},"",{"$f":"IF('MIS - Pharmacy'!A294=\"\",\"\",('MIS - Pharmacy'!AF294+'MIS - Pharmacy'!AH294 +'MIS - Pharmacy'!AG294))","v":""},{"$f":"IF(ISBLANK('MIS - Pharmacy'!AI294),\"\",'MIS - Pharmacy'!AI294)","v":""},"","","",{"$f":"IF(ISBLANK('MIS - Pharmacy'!V294),\"\",'MIS - Pharmacy'!V294)","v":""},"","","",{"$f":"IF(ISBLANK('MIS - Pharmacy'!J294),\"\",'MIS - Pharmacy'!J294)","v":""},{"$f":"IF(ISBLANK('MIS - Pharmacy'!AY294),\"\",'MIS - Pharmacy'!AY294)","v":""},{"$f":"IF(ISBLANK('MIS - Pharmacy'!BH294),\"\",'MIS - Pharmacy'!BH294)","v":""},"",""]
[{"$f":"IF(ISBLANK('MIS - Pharmacy'!A295), \"\",'MIS - Pharmacy'!A295)","v":""},{"$f":"IF(ISBLANK('MIS - Pharmacy'!B295),\"\",('MIS - Pharmacy'!B295&\"(\"&'MIS - Pharmacy'!D295&\")\"))","v":""},{"$f":"IF(ISBLANK('MIS - Pharmacy'!BI295), \"\", 'MIS - Pharmacy'!BI295)","v":""},{"$f":"IF(ISBLANK('MIS - Pharmacy'!U295), \"\", 'MIS - Pharmacy'!U295)","v":""},"","","","","","","",{"$f":"IF(ISBLANK('MIS - Pharmacy'!AC295),\"\",'MIS - Pharmacy'!AC295)","v":""},"",{"$f":"IF(ISBLANK('MIS - Pharmacy'!AD295),\"\",'MIS - Pharmacy'!AD295)","v":""},"","",{"$f":"IF('MIS - Pharmacy'!A295=\"\",\"\",SUM('MIS - Pharmacy'!K295+'MIS - Pharmacy'!L295))","v":""},"",{"$f":"IF('MIS - Pharmacy'!A295=\"\",\"\",('MIS - Pharmacy'!AF295+'MIS - Pharmacy'!AH295 +'MIS - Pharmacy'!AG295))","v":""},{"$f":"IF(ISBLANK('MIS - Pharmacy'!AI295),\"\",'MIS - Pharmacy'!AI295)","v":""},"","","",{"$f":"IF(ISBLANK('MIS - Pharmacy'!V295),\"\",'MIS - Pharmacy'!V295)","v":""},"","","",{"$f":"IF(ISBLANK('MIS - Pharmacy'!J295),\"\",'MIS - Pharmacy'!J295)","v":""},{"$f":"IF(ISBLANK('MIS - Pharmacy'!AY295),\"\",'MIS - Pharmacy'!AY295)","v":""},{"$f":"IF(ISBLANK('MIS - Pharmacy'!BH295),\"\",'MIS - Pharmacy'!BH295)","v":""},"",""]
[{"$f":"IF(ISBLANK('MIS - Pharmacy'!A296), \"\",'MIS - Pharmacy'!A296)","v":""},{"$f":"IF(ISBLANK('MIS - Pharmacy'!B296),\"\",('MIS - Pharmacy'!B296&\"(\"&'MIS - Pharmacy'!D296&\")\"))","v":""},{"$f":"IF(ISBLANK('MIS - Pharmacy'!BI296), \"\", 'MIS - Pharmacy'!BI296)","v":""},{"$f":"IF(ISBLANK('MIS - Pharmacy'!U296), \"\", 'MIS - Pharmacy'!U296)","v":""},"","","","","","","",{"$f":"IF(ISBLANK('MIS - Pharmacy'!AC296),\"\",'MIS - Pharmacy'!AC296)","v":""},"",{"$f":"IF(ISBLANK('MIS - Pharmacy'!AD296),\"\",'MIS - Pharmacy'!AD296)","v":""},"","",{"$f":"IF('MIS - Pharmacy'!A296=\"\",\"\",SUM('MIS - Pharmacy'!K296+'MIS - Pharmacy'!L296))","v":""},"",{"$f":"IF('MIS - Pharmacy'!A296=\"\",\"\",('MIS - Pharmacy'!AF296+'MIS - Pharmacy'!AH296 +'MIS - Pharmacy'!AG296))","v":""},{"$f":"IF(ISBLANK('MIS - Pharmacy'!AI296),\"\",'MIS - Pharmacy'!AI296)","v":""},"","","",{"$f":"IF(ISBLANK('MIS - Pharmacy'!V296),\"\",'MIS - Pharmacy'!V296)","v":""},"","","",{"$f":"IF(ISBLANK('MIS - Pharmacy'!J296),\"\",'MIS - Pharmacy'!J296)","v":""},{"$f":"IF(ISBLANK('MIS - Pharmacy'!AY296),\"\",'MIS - Pharmacy'!AY296)","v":""},{"$f":"IF(ISBLANK('MIS - Pharmacy'!BH296),\"\",'MIS - Pharmacy'!BH296)","v":""},"",""]
[{"$f":"IF(ISBLANK('MIS - Pharmacy'!A297), \"\",'MIS - Pharmacy'!A297)","v":""},{"$f":"IF(ISBLANK('MIS - Pharmacy'!B297),\"\",('MIS - Pharmacy'!B297&\"(\"&'MIS - Pharmacy'!D297&\")\"))","v":""},{"$f":"IF(ISBLANK('MIS - Pharmacy'!BI297), \"\", 'MIS - Pharmacy'!BI297)","v":""},{"$f":"IF(ISBLANK('MIS - Pharmacy'!U297), \"\", 'MIS - Pharmacy'!U297)","v":""},"","","","","","","",{"$f":"IF(ISBLANK('MIS - Pharmacy'!AC297),\"\",'MIS - Pharmacy'!AC297)","v":""},"",{"$f":"IF(ISBLANK('MIS - Pharmacy'!AD297),\"\",'MIS - Pharmacy'!AD297)","v":""},"","",{"$f":"IF('MIS - Pharmacy'!A297=\"\",\"\",SUM('MIS - Pharmacy'!K297+'MIS - Pharmacy'!L297))","v":""},"",{"$f":"IF('MIS - Pharmacy'!A297=\"\",\"\",('MIS - Pharmacy'!AF297+'MIS - Pharmacy'!AH297 +'MIS - Pharmacy'!AG297))","v":""},{"$f":"IF(ISBLANK('MIS - Pharmacy'!AI297),\"\",'MIS - Pharmacy'!AI297)","v":""},"","","",{"$f":"IF(ISBLANK('MIS - Pharmacy'!V297),\"\",'MIS - Pharmacy'!V297)","v":""},"","","",{"$f":"IF(ISBLANK('MIS - Pharmacy'!J297),\"\",'MIS - Pharmacy'!J297)","v":""},{"$f":"IF(ISBLANK('MIS - Pharmacy'!AY297),\"\",'MIS - Pharmacy'!AY297)","v":""},{"$f":"IF(ISBLANK('MIS - Pharmacy'!BH297),\"\",'MIS - Pharmacy'!BH297)","v":""},"",""]
[{"$f":"IF(ISBLANK('MIS - Pharmacy'!A298), \"\",'MIS - Pharmacy'!A298)","v":""},{"$f":"IF(ISBLANK('MIS - Pharmacy'!B298),\"\",('MIS - Pharmacy'!B298&\"(\"&'MIS - Pharmacy'!D298&\")\"))","v":""},{"$f":"IF(ISBLANK('MIS - Pharmacy'!BI298), \"\", 'MIS - Pharmacy'!BI298)","v":""},{"$f":"IF(ISBLANK('MIS - Pharmacy'!U298), \"\", 'MIS - Pharmacy'!U298)","v":""},"","","","","","","",{"$f":"IF(ISBLANK('MIS - Pharmacy'!AC298),\"\",'MIS - Pharmacy'!AC298)","v":""},"",{"$f":"IF(ISBLANK('MIS - Pharmacy'!AD298),\"\",'MIS - Pharmacy'!AD298)","v":""},"","",{"$f":"IF('MIS - Pharmacy'!A298=\"\",\"\",SUM('MIS - Pharmacy'!K298+'MIS - Pharmacy'!L298))","v":""},"",{"$f":"IF('MIS - Pharmacy'!A298=\"\",\"\",('MIS - Pharmacy'!AF298+'MIS - Pharmacy'!AH298 +'MIS - Pharmacy'!AG298))","v":""},{"$f":"IF(ISBLANK('MIS - Pharmacy'!AI298),\"\",'MIS - Pharmacy'!AI298)","v":""},"","","",{"$f":"IF(ISBLANK('MIS - Pharmacy'!V298),\"\",'MIS - Pharmacy'!V298)","v":""},"","","",{"$f":"IF(ISBLANK('MIS - Pharmacy'!J298),\"\",'MIS - Pharmacy'!J298)","v":""},{"$f":"IF(ISBLANK('MIS - Pharmacy'!AY298),\"\",'MIS - Pharmacy'!AY298)","v":""},{"$f":"IF(ISBLANK('MIS - Pharmacy'!BH298),\"\",'MIS - Pharmacy'!BH298)","v":""},"",""]
[{"$f":"IF(ISBLANK('MIS - Pharmacy'!A299), \"\",'MIS - Pharmacy'!A299)","v":""},{"$f":"IF(ISBLANK('MIS - Pharmacy'!B299),\"\",('MIS - Pharmacy'!B299&\"(\"&'MIS - Pharmacy'!D299&\")\"))","v":""},{"$f":"IF(ISBLANK('MIS - Pharmacy'!BI299), \"\", 'MIS - Pharmacy'!BI299)","v":""},{"$f":"IF(ISBLANK('MIS - Pharmacy'!U299), \"\", 'MIS - Pharmacy'!U299)","v":""},"","","","","","","",{"$f":"IF(ISBLANK('MIS - Pharmacy'!AC299),\"\",'MIS - Pharmacy'!AC299)","v":""},"",{"$f":"IF(ISBLANK('MIS - Pharmacy'!AD299),\"\",'MIS - Pharmacy'!AD299)","v":""},"","",{"$f":"IF('MIS - Pharmacy'!A299=\"\",\"\",SUM('MIS - Pharmacy'!K299+'MIS - Pharmacy'!L299))","v":""},"",{"$f":"IF('MIS - Pharmacy'!A299=\"\",\"\",('MIS - Pharmacy'!AF299+'MIS - Pharmacy'!AH299 +'MIS - Pharmacy'!AG299))","v":""},{"$f":"IF(ISBLANK('MIS - Pharmacy'!AI299),\"\",'MIS - Pharmacy'!AI299)","v":""},"","","",{"$f":"IF(ISBLANK('MIS - Pharmacy'!V299),\"\",'MIS - Pharmacy'!V299)","v":""},"","","",{"$f":"IF(ISBLANK('MIS - Pharmacy'!J299),\"\",'MIS - Pharmacy'!J299)","v":""},{"$f":"IF(ISBLANK('MIS - Pharmacy'!AY299),\"\",'MIS - Pharmacy'!AY299)","v":""},{"$f":"IF(ISBLANK('MIS - Pharmacy'!BH299),\"\",'MIS - Pharmacy'!BH299)","v":""},"",""]
[{"$f":"IF(ISBLANK('MIS - Pharmacy'!A300), \"\",'MIS - Pharmacy'!A300)","v":""},{"$f":"IF(ISBLANK('MIS - Pharmacy'!B300),\"\",('MIS - Pharmacy'!B300&\"(\"&'MIS - Pharmacy'!D300&\")\"))","v":""},{"$f":"IF(ISBLANK('MIS - Pharmacy'!BI300), \"\", 'MIS - Pharmacy'!BI300)","v":""},{"$f":"IF(ISBLANK('MIS - Pharmacy'!U300), \"\", 'MIS - Pharmacy'!U300)","v":""},"","","","","","","",{"$f":"IF(ISBLANK('MIS - Pharmacy'!AC300),\"\",'MIS - Pharmacy'!AC300)","v":""},"",{"$f":"IF(ISBLANK('MIS - Pharmacy'!AD300),\"\",'MIS - Pharmacy'!AD300)","v":""},"","",{"$f":"IF('MIS - Pharmacy'!A300=\"\",\"\",SUM('MIS - Pharmacy'!K300+'MIS - Pharmacy'!L300))","v":""},"",{"$f":"IF('MIS - Pharmacy'!A300=\"\",\"\",('MIS - Pharmacy'!AF300+'MIS - Pharmacy'!AH300 +'MIS - Pharmacy'!AG300))","v":""},{"$f":"IF(ISBLANK('MIS - Pharmacy'!AI300),\"\",'MIS - Pharmacy'!AI300)","v":""},"","","",{"$f":"IF(ISBLANK('MIS - Pharmacy'!V300),\"\",'MIS - Pharmacy'!V300)","v":""},"","","",{"$f":"IF(ISBLANK('MIS - Pharmacy'!J300),\"\",'MIS - Pharmacy'!J300)","v":""},{"$f":"IF(ISBLANK('MIS - Pharmacy'!AY300),\"\",'MIS - Pharmacy'!AY300)","v":""},{"$f":"IF(ISBLANK('MIS - Pharmacy'!BH300),\"\",'MIS - Pharmacy'!BH300)","v":""},"",""]
[{"$f":"IF(ISBLANK('MIS - Pharmacy'!A301), \"\",'MIS - Pharmacy'!A301)","v":""},{"$f":"IF(ISBLANK('MIS - Pharmacy'!B301),\"\",('MIS - Pharmacy'!B301&\"(\"&'MIS - Pharmacy'!D301&\")\"))","v":""},{"$f":"IF(ISBLANK('MIS - Pharmacy'!BI301), \"\", 'MIS - Pharmacy'!BI301)","v":""},{"$f":"IF(ISBLANK('MIS - Pharmacy'!U301), \"\", 'MIS - Pharmacy'!U301)","v":""},"","","","","","","",{"$f":"IF(ISBLANK('MIS - Pharmacy'!AC301),\"\",'MIS - Pharmacy'!AC301)","v":""},"",{"$f":"IF(ISBLANK('MIS - Pharmacy'!AD301),\"\",'MIS - Pharmacy'!AD301)","v":""},"","",{"$f":"IF('MIS - Pharmacy'!A301=\"\",\"\",SUM('MIS - Pharmacy'!K301+'MIS - Pharmacy'!L301))","v":""},"",{"$f":"IF('MIS - Pharmacy'!A301=\"\",\"\",('MIS - Pharmacy'!AF301+'MIS - Pharmacy'!AH301 +'MIS - Pharmacy'!AG301))","v":""},{"$f":"IF(ISBLANK('MIS - Pharmacy'!AI301),\"\",'MIS - Pharmacy'!AI301)","v":""},"","","",{"$f":"IF(ISBLANK('MIS - Pharmacy'!V301),\"\",'MIS - Pharmacy'!V301)","v":""},"","","",{"$f":"IF(ISBLANK('MIS - Pharmacy'!J301),\"\",'MIS - Pharmacy'!J301)","v":""},{"$f":"IF(ISBLANK('MIS - Pharmacy'!AY301),\"\",'MIS - Pharmacy'!AY301)","v":""},{"$f":"IF(ISBLANK('MIS - Pharmacy'!BH301),\"\",'MIS - Pharmacy'!BH301)","v":""},"",""]
[{"$f":"IF(ISBLANK('MIS - Pharmacy'!A302), \"\",'MIS - Pharmacy'!A302)","v":""},{"$f":"IF(ISBLANK('MIS - Pharmacy'!B302),\"\",('MIS - Pharmacy'!B302&\"(\"&'MIS - Pharmacy'!D302&\")\"))","v":""},{"$f":"IF(ISBLANK('MIS - Pharmacy'!BI302), \"\", 'MIS - Pharmacy'!BI302)","v":""},{"$f":"IF(ISBLANK('MIS - Pharmacy'!U302), \"\", 'MIS - Pharmacy'!U302)","v":""},"","","","","","","",{"$f":"IF(ISBLANK('MIS - Pharmacy'!AC302),\"\",'MIS - Pharmacy'!AC302)","v":""},"",{"$f":"IF(ISBLANK('MIS - Pharmacy'!AD302),\"\",'MIS - Pharmacy'!AD302)","v":""},"","",{"$f":"IF('MIS - Pharmacy'!A302=\"\",\"\",SUM('MIS - Pharmacy'!K302+'MIS - Pharmacy'!L302))","v":""},"",{"$f":"IF('MIS - Pharmacy'!A302=\"\",\"\",('MIS - Pharmacy'!AF302+'MIS - Pharmacy'!AH302 +'MIS - Pharmacy'!AG302))","v":""},{"$f":"IF(ISBLANK('MIS - Pharmacy'!AI302),\"\",'MIS - Pharmacy'!AI302)","v":""},"","","",{"$f":"IF(ISBLANK('MIS - Pharmacy'!V302),\"\",'MIS - Pharmacy'!V302)","v":""},"","","",{"$f":"IF(ISBLANK('MIS - Pharmacy'!J302),\"\",'MIS - Pharmacy'!J302)","v":""},{"$f":"IF(ISBLANK('MIS - Pharmacy'!AY302),\"\",'MIS - Pharmacy'!AY302)","v":""},{"$f":"IF(ISBLANK('MIS - Pharmacy'!BH302),\"\",'MIS - Pharmacy'!BH302)","v":""},"",""]
[{"$f":"IF(ISBLANK('MIS - Pharmacy'!A303), \"\",'MIS - Pharmacy'!A303)","v":""},{"$f":"IF(ISBLANK('MIS - Pharmacy'!B303),\"\",('MIS - Pharmacy'!B303&\"(\"&'MIS - Pharmacy'!D303&\")\"))","v":""},{"$f":"IF(ISBLANK('MIS - Pharmacy'!BI303), \"\", 'MIS - Pharmacy'!BI303)","v":""},{"$f":"IF(ISBLANK('MIS - Pharmacy'!U303), \"\", 'MIS - Pharmacy'!U303)","v":""},"","","","","","","",{"$f":"IF(ISBLANK('MIS - Pharmacy'!AC303),\"\",'MIS - Pharmacy'!AC303)","v":""},"",{"$f":"IF(ISBLANK('MIS - Pharmacy'!AD303),\"\",'MIS - Pharmacy'!AD303)","v":""},"","",{"$f":"IF('MIS - Pharmacy'!A303=\"\",\"\",SUM('MIS - Pharmacy'!K303+'MIS - Pharmacy'!L303))","v":""},"",{"$f":"IF('MIS - Pharmacy'!A303=\"\",\"\",('MIS - Pharmacy'!AF303+'MIS - Pharmacy'!AH303 +'MIS - Pharmacy'!AG303))","v":""},{"$f":"IF(ISBLANK('MIS - Pharmacy'!AI303),\"\",'MIS - Pharmacy'!AI303)","v":""},"","","",{"$f":"IF(ISBLANK('MIS - Pharmacy'!V303),\"\",'MIS - Pharmacy'!V303)","v":""},"","","",{"$f":"IF(ISBLANK('MIS - Pharmacy'!J303),\"\",'MIS - Pharmacy'!J303)","v":""},{"$f":"IF(ISBLANK('MIS - Pharmacy'!AY303),\"\",'MIS - Pharmacy'!AY303)","v":""},{"$f":"IF(ISBLANK('MIS - Pharmacy'!BH303),\"\",'MIS - Pharmacy'!BH303)","v":""},"",""]
[{"$f":"IF(ISBLANK('MIS - Pharmacy'!A304), \"\",'MIS - Pharmacy'!A304)","v":""},{"$f":"IF(ISBLANK('MIS - Pharmacy'!B304),\"\",('MIS - Pharmacy'!B304&\"(\"&'MIS - Pharmacy'!D304&\")\"))","v":""},{"$f":"IF(ISBLANK('MIS - Pharmacy'!BI304), \"\", 'MIS - Pharmacy'!BI304)","v":""},{"$f":"IF(ISBLANK('MIS - Pharmacy'!U304), \"\", 'MIS - Pharmacy'!U304)","v":""},"","","","","","","",{"$f":"IF(ISBLANK('MIS - Pharmacy'!AC304),\"\",'MIS - Pharmacy'!AC304)","v":""},"",{"$f":"IF(ISBLANK('MIS - Pharmacy'!AD304),\"\",'MIS - Pharmacy'!AD304)","v":""},"","",{"$f":"IF('MIS - Pharmacy'!A304=\"\",\"\",SUM('MIS - Pharmacy'!K304+'MIS - Pharmacy'!L304))","v":""},"",{"$f":"IF('MIS - Pharmacy'!A304=\"\",\"\",('MIS - Pharmacy'!AF304+'MIS - Pharmacy'!AH304 +'MIS - Pharmacy'!AG304))","v":""},{"$f":"IF(ISBLANK('MIS - Pharmacy'!AI304),\"\",'MIS - Pharmacy'!AI304)","v":""},"","","",{"$f":"IF(ISBLANK('MIS - Pharmacy'!V304),\"\",'MIS - Pharmacy'!V304)","v":""},"","","",{"$f":"IF(ISBLANK('MIS - Pharmacy'!J304),\"\",'MIS - Pharmacy'!J304)","v":""},{"$f":"IF(ISBLANK('MIS - Pharmacy'!AY304),\"\",'MIS - Pharmacy'!AY304)","v":""},{"$f":"IF(ISBLANK('MIS - Pharmacy'!BH304),\"\",'MIS - Pharmacy'!BH304)","v":""},"",""]
[{"$f":"IF(ISBLANK('MIS - Pharmacy'!A305), \"\",'MIS - Pharmacy'!A305)","v":""},{"$f":"IF(ISBLANK('MIS - Pharmacy'!B305),\"\",('MIS - Pharmacy'!B305&\"(\"&'MIS - Pharmacy'!D305&\")\"))","v":""},{"$f":"IF(ISBLANK('MIS - Pharmacy'!BI305), \"\", 'MIS - Pharmacy'!BI305)","v":""},{"$f":"IF(ISBLANK('MIS - Pharmacy'!U305), \"\", 'MIS - Pharmacy'!U305)","v":""},"","","","","","","",{"$f":"IF(ISBLANK('MIS - Pharmacy'!AC305),\"\",'MIS - Pharmacy'!AC305)","v":""},"",{"$f":"IF(ISBLANK('MIS - Pharmacy'!AD305),\"\",'MIS - Pharmacy'!AD305)","v":""},"","",{"$f":"IF('MIS - Pharmacy'!A305=\"\",\"\",SUM('MIS - Pharmacy'!K305+'MIS - Pharmacy'!L305))","v":""},"",{"$f":"IF('MIS - Pharmacy'!A305=\"\",\"\",('MIS - Pharmacy'!AF305+'MIS - Pharmacy'!AH305 +'MIS - Pharmacy'!AG305))","v":""},{"$f":"IF(ISBLANK('MIS - Pharmacy'!AI305),\"\",'MIS - Pharmacy'!AI305)","v":""},"","","",{"$f":"IF(ISBLANK('MIS - Pharmacy'!V305),\"\",'MIS - Pharmacy'!V305)","v":""},"","","",{"$f":"IF(ISBLANK('MIS - Pharmacy'!J305),\"\",'MIS - Pharmacy'!J305)","v":""},{"$f":"IF(ISBLANK('MIS - Pharmacy'!AY305),\"\",'MIS - Pharmacy'!AY305)","v":""},{"$f":"IF(ISBLANK('MIS - Pharmacy'!BH305),\"\",'MIS - Pharmacy'!BH305)","v":""},"",""]
[{"$f":"IF(ISBLANK('MIS - Pharmacy'!A306), \"\",'MIS - Pharmacy'!A306)","v":""},{"$f":"IF(ISBLANK('MIS - Pharmacy'!B306),\"\",('MIS - Pharmacy'!B306&\"(\"&'MIS - Pharmacy'!D306&\")\"))","v":""},{"$f":"IF(ISBLANK('MIS - Pharmacy'!BI306), \"\", 'MIS - Pharmacy'!BI306)","v":""},{"$f":"IF(ISBLANK('MIS - Pharmacy'!U306), \"\", 'MIS - Pharmacy'!U306)","v":""},"","","","","","","",{"$f":"IF(ISBLANK('MIS - Pharmacy'!AC306),\"\",'MIS - Pharmacy'!AC306)","v":""},"",{"$f":"IF(ISBLANK('MIS - Pharmacy'!AD306),\"\",'MIS - Pharmacy'!AD306)","v":""},"","",{"$f":"IF('MIS - Pharmacy'!A306=\"\",\"\",SUM('MIS - Pharmacy'!K306+'MIS - Pharmacy'!L306))","v":""},"",{"$f":"IF('MIS - Pharmacy'!A306=\"\",\"\",('MIS - Pharmacy'!AF306+'MIS - Pharmacy'!AH306 +'MIS - Pharmacy'!AG306))","v":""},{"$f":"IF(ISBLANK('MIS - Pharmacy'!AI306),\"\",'MIS - Pharmacy'!AI306)","v":""},"","","",{"$f":"IF(ISBLANK('MIS - Pharmacy'!V306),\"\",'MIS - Pharmacy'!V306)","v":""},"","","",{"$f":"IF(ISBLANK('MIS - Pharmacy'!J306),\"\",'MIS - Pharmacy'!J306)","v":""},{"$f":"IF(ISBLANK('MIS - Pharmacy'!AY306),\"\",'MIS - Pharmacy'!AY306)","v":""},{"$f":"IF(ISBLANK('MIS - Pharmacy'!BH306),\"\",'MIS - Pharmacy'!BH306)","v":""},"",""]
[{"$f":"IF(ISBLANK('MIS - Pharmacy'!A307), \"\",'MIS - Pharmacy'!A307)","v":""},{"$f":"IF(ISBLANK('MIS - Pharmacy'!B307),\"\",('MIS - Pharmacy'!B307&\"(\"&'MIS - Pharmacy'!D307&\")\"))","v":""},{"$f":"IF(ISBLANK('MIS - Pharmacy'!BI307), \"\", 'MIS - Pharmacy'!BI307)","v":""},{"$f":"IF(ISBLANK('MIS - Pharmacy'!U307), \"\", 'MIS - Pharmacy'!U307)","v":""},"","","","","","","",{"$f":"IF(ISBLANK('MIS - Pharmacy'!AC307),\"\",'MIS - Pharmacy'!AC307)","v":""},"",{"$f":"IF(ISBLANK('MIS - Pharmacy'!AD307),\"\",'MIS - Pharmacy'!AD307)","v":""},"","",{"$f":"IF('MIS - Pharmacy'!A307=\"\",\"\",SUM('MIS - Pharmacy'!K307+'MIS - Pharmacy'!L307))","v":""},"",{"$f":"IF('MIS - Pharmacy'!A307=\"\",\"\",('MIS - Pharmacy'!AF307+'MIS - Pharmacy'!AH307 +'MIS - Pharmacy'!AG307))","v":""},{"$f":"IF(ISBLANK('MIS - Pharmacy'!AI307),\"\",'MIS - Pharmacy'!AI307)","v":""},"","","",{"$f":"IF(ISBLANK('MIS - Pharmacy'!V307),\"\",'MIS - Pharmacy'!V307)","v":""},"","","",{"$f":"IF(ISBLANK('MIS - Pharmacy'!J307),\"\",'MIS - Pharmacy'!J307)","v":""},{"$f":"IF(ISBLANK('MIS - Pharmacy'!AY307),\"\",'MIS - Pharmacy'!AY307)","v":""},{"$f":"IF(ISBLANK('MIS - Pharmacy'!BH307),\"\",'MIS - Pharmacy'!BH307)","v":""},"",""]
[{"$f":"IF(ISBLANK('MIS - Pharmacy'!A308), \"\",'MIS - Pharmacy'!A308)","v":""},{"$f":"IF(ISBLANK('MIS - Pharmacy'!B308),\"\",('MIS - Pharmacy'!B308&\"(\"&'MIS - Pharmacy'!D308&\")\"))","v":""},{"$f":"IF(ISBLANK('MIS - Pharmacy'!BI308), \"\", 'MIS - Pharmacy'!BI308)","v":""},{"$f":"IF(ISBLANK('MIS - Pharmacy'!U308), \"\", 'MIS - Pharmacy'!U308)","v":""},"","","","","","","",{"$f":"IF(ISBLANK('MIS - Pharmacy'!AC308),\"\",'MIS - Pharmacy'!AC308)","v":""},"",{"$f":"IF(ISBLANK('MIS - Pharmacy'!AD308),\"\",'MIS - Pharmacy'!AD308)","v":""},"","",{"$f":"IF('MIS - Pharmacy'!A308=\"\",\"\",SUM('MIS - Pharmacy'!K308+'MIS - Pharmacy'!L308))","v":""},"",{"$f":"IF('MIS - Pharmacy'!A308=\"\",\"\",('MIS - Pharmacy'!AF308+'MIS - Pharmacy'!AH308 +'MIS - Pharmacy'!AG308))","v":""},{"$f":"IF(ISBLANK('MIS - Pharmacy'!AI308),\"\",'MIS - Pharmacy'!AI308)","v":""},"","","",{"$f":"IF(ISBLANK('MIS - Pharmacy'!V308),\"\",'MIS - Pharmacy'!V308)","v":""},"","","",{"$f":"IF(ISBLANK('MIS - Pharmacy'!J308),\"\",'MIS - Pharmacy'!J308)","v":""},{"$f":"IF(ISBLANK('MIS - Pharmacy'!AY308),\"\",'MIS - Pharmacy'!AY308)","v":""},{"$f":"IF(ISBLANK('MIS - Pharmacy'!BH308),\"\",'MIS - Pharmacy'!BH308)","v":""},"",""]
[{"$f":"IF(ISBLANK('MIS - Pharmacy'!A309), \"\",'MIS - Pharmacy'!A309)","v":""},{"$f":"IF(ISBLANK('MIS - Pharmacy'!B309),\"\",('MIS - Pharmacy'!B309&\"(\"&'MIS - Pharmacy'!D309&\")\"))","v":""},{"$f":"IF(ISBLANK('MIS - Pharmacy'!BI309), \"\", 'MIS - Pharmacy'!BI309)","v":""},{"$f":"IF(ISBLANK('MIS - Pharmacy'!U309), \"\", 'MIS - Pharmacy'!U309)","v":""},"","","","","","","",{"$f":"IF(ISBLANK('MIS - Pharmacy'!AC309),\"\",'MIS - Pharmacy'!AC309)","v":""},"",{"$f":"IF(ISBLANK('MIS - Pharmacy'!AD309),\"\",'MIS - Pharmacy'!AD309)","v":""},"","",{"$f":"IF('MIS - Pharmacy'!A309=\"\",\"\",SUM('MIS - Pharmacy'!K309+'MIS - Pharmacy'!L309))","v":""},"",{"$f":"IF('MIS - Pharmacy'!A309=\"\",\"\",('MIS - Pharmacy'!AF309+'MIS - Pharmacy'!AH309 +'MIS - Pharmacy'!AG309))","v":""},{"$f":"IF(ISBLANK('MIS - Pharmacy'!AI309),\"\",'MIS - Pharmacy'!AI309)","v":""},"","","",{"$f":"IF(ISBLANK('MIS - Pharmacy'!V309),\"\",'MIS - Pharmacy'!V309)","v":""},"","","",{"$f":"IF(ISBLANK('MIS - Pharmacy'!J309),\"\",'MIS - Pharmacy'!J309)","v":""},{"$f":"IF(ISBLANK('MIS - Pharmacy'!AY309),\"\",'MIS - Pharmacy'!AY309)","v":""},{"$f":"IF(ISBLANK('MIS - Pharmacy'!BH309),\"\",'MIS - Pharmacy'!BH309)","v":""},"",""]
[{"$f":"IF(ISBLANK('MIS - Pharmacy'!A310), \"\",'MIS - Pharmacy'!A310)","v":""},{"$f":"IF(ISBLANK('MIS - Pharmacy'!B310),\"\",('MIS - Pharmacy'!B310&\"(\"&'MIS - Pharmacy'!D310&\")\"))","v":""},{"$f":"IF(ISBLANK('MIS - Pharmacy'!BI310), \"\", 'MIS - Pharmacy'!BI310)","v":""},{"$f":"IF(ISBLANK('MIS - Pharmacy'!U310), \"\", 'MIS - Pharmacy'!U310)","v":""},"","","","","","","",{"$f":"IF(ISBLANK('MIS - Pharmacy'!AC310),\"\",'MIS - Pharmacy'!AC310)","v":""},"",{"$f":"IF(ISBLANK('MIS - Pharmacy'!AD310),\"\",'MIS - Pharmacy'!AD310)","v":""},"","",{"$f":"IF('MIS - Pharmacy'!A310=\"\",\"\",SUM('MIS - Pharmacy'!K310+'MIS - Pharmacy'!L310))","v":""},"",{"$f":"IF('MIS - Pharmacy'!A310=\"\",\"\",('MIS - Pharmacy'!AF310+'MIS - Pharmacy'!AH310 +'MIS - Pharmacy'!AG310))","v":""},{"$f":"IF(ISBLANK('MIS - Pharmacy'!AI310),\"\",'MIS - Pharmacy'!AI310)","v":""},"","","",{"$f":"IF(ISBLANK('MIS - Pharmacy'!V310),\"\",'MIS - Pharmacy'!V310)","v":""},"","","",{"$f":"IF(ISBLANK('MIS - Pharmacy'!J310),\"\",'MIS - Pharmacy'!J310)","v":""},{"$f":"IF(ISBLANK('MIS - Pharmacy'!AY310),\"\",'MIS - Pharmacy'!AY310)","v":""},{"$f":"IF(ISBLANK('MIS - Pharmacy'!BH310),\"\",'MIS - Pharmacy'!BH310)","v":""},"",""]
[{"$f":"IF(ISBLANK('MIS - Pharmacy'!A311), \"\",'MIS - Pharmacy'!A311)","v":""},{"$f":"IF(ISBLANK('MIS - Pharmacy'!B311),\"\",('MIS - Pharmacy'!B311&\"(\"&'MIS - Pharmacy'!D311&\")\"))","v":""},{"$f":"IF(ISBLANK('MIS - Pharmacy'!BI311), \"\", 'MIS - Pharmacy'!BI311)","v":""},{"$f":"IF(ISBLANK('MIS - Pharmacy'!U311), \"\", 'MIS - Pharmacy'!U311)","v":""},"","","","","","","",{"$f":"IF(ISBLANK('MIS - Pharmacy'!AC311),\"\",'MIS - Pharmacy'!AC311)","v":""},"",{"$f":"IF(ISBLANK('MIS - Pharmacy'!AD311),\"\",'MIS - Pharmacy'!AD311)","v":""},"","",{"$f":"IF('MIS - Pharmacy'!A311=\"\",\"\",SUM('MIS - Pharmacy'!K311+'MIS - Pharmacy'!L311))","v":""},"",{"$f":"IF('MIS - Pharmacy'!A311=\"\",\"\",('MIS - Pharmacy'!AF311+'MIS - Pharmacy'!AH311 +'MIS - Pharmacy'!AG311))","v":""},{"$f":"IF(ISBLANK('MIS - Pharmacy'!AI311),\"\",'MIS - Pharmacy'!AI311)","v":""},"","","",{"$f":"IF(ISBLANK('MIS - Pharmacy'!V311),\"\",'MIS - Pharmacy'!V311)","v":""},"","","",{"$f":"IF(ISBLANK('MIS - Pharmacy'!J311),\"\",'MIS - Pharmacy'!J311)","v":""},{"$f":"IF(ISBLANK('MIS - Pharmacy'!AY311),\"\",'MIS - Pharmacy'!AY311)","v":""},{"$f":"IF(ISBLANK('MIS - Pharmacy'!BH311),\"\",'MIS - Pharmacy'!BH311)","v":""},"",""]
[{"$f":"IF(ISBLANK('MIS - Pharmacy'!A312), \"\",'MIS - Pharmacy'!A312)","v":""},{"$f":"IF(ISBLANK('MIS - Pharmacy'!B312),\"\",('MIS - Pharmacy'!B312&\"(\"&'MIS - Pharmacy'!D312&\")\"))","v":""},{"$f":"IF(ISBLANK('MIS - Pharmacy'!BI312), \"\", 'MIS - Pharmacy'!BI312)","v":""},{"$f":"IF(ISBLANK('MIS - Pharmacy'!U312), \"\", 'MIS - Pharmacy'!U312)","v":""},"","","","","","","",{"$f":"IF(ISBLANK('MIS - Pharmacy'!AC312),\"\",'MIS - Pharmacy'!AC312)","v":""},"",{"$f":"IF(ISBLANK('MIS - Pharmacy'!AD312),\"\",'MIS - Pharmacy'!AD312)","v":""},"","",{"$f":"IF('MIS - Pharmacy'!A312=\"\",\"\",SUM('MIS - Pharmacy'!K312+'MIS - Pharmacy'!L312))","v":""},"",{"$f":"IF('MIS - Pharmacy'!A312=\"\",\"\",('MIS - Pharmacy'!AF312+'MIS - Pharmacy'!AH312 +'MIS - Pharmacy'!AG312))","v":""},{"$f":"IF(ISBLANK('MIS - Pharmacy'!AI312),\"\",'MIS - Pharmacy'!AI312)","v":""},"","","",{"$f":"IF(ISBLANK('MIS - Pharmacy'!V312),\"\",'MIS - Pharmacy'!V312)","v":""},"","","",{"$f":"IF(ISBLANK('MIS - Pharmacy'!J312),\"\",'MIS - Pharmacy'!J312)","v":""},{"$f":"IF(ISBLANK('MIS - Pharmacy'!AY312),\"\",'MIS - Pharmacy'!AY312)","v":""},{"$f":"IF(ISBLANK('MIS - Pharmacy'!BH312),\"\",'MIS - Pharmacy'!BH312)","v":""},"",""]
[{"$f":"IF(ISBLANK('MIS - Pharmacy'!A313), \"\",'MIS - Pharmacy'!A313)","v":""},{"$f":"IF(ISBLANK('MIS - Pharmacy'!B313),\"\",('MIS - Pharmacy'!B313&\"(\"&'MIS - Pharmacy'!D313&\")\"))","v":""},{"$f":"IF(ISBLANK('MIS - Pharmacy'!BI313), \"\", 'MIS - Pharmacy'!BI313)","v":""},{"$f":"IF(ISBLANK('MIS - Pharmacy'!U313), \"\", 'MIS - Pharmacy'!U313)","v":""},"","","","","","","",{"$f":"IF(ISBLANK('MIS - Pharmacy'!AC313),\"\",'MIS - Pharmacy'!AC313)","v":""},"",{"$f":"IF(ISBLANK('MIS - Pharmacy'!AD313),\"\",'MIS - Pharmacy'!AD313)","v":""},"","",{"$f":"IF('MIS - Pharmacy'!A313=\"\",\"\",SUM('MIS - Pharmacy'!K313+'MIS - Pharmacy'!L313))","v":""},"",{"$f":"IF('MIS - Pharmacy'!A313=\"\",\"\",('MIS - Pharmacy'!AF313+'MIS - Pharmacy'!AH313 +'MIS - Pharmacy'!AG313))","v":""},{"$f":"IF(ISBLANK('MIS - Pharmacy'!AI313),\"\",'MIS - Pharmacy'!AI313)","v":""},"","","",{"$f":"IF(ISBLANK('MIS - Pharmacy'!V313),\"\",'MIS - Pharmacy'!V313)","v":""},"","","",{"$f":"IF(ISBLANK('MIS - Pharmacy'!J313),\"\",'MIS - Pharmacy'!J313)","v":""},{"$f":"IF(ISBLANK('MIS - Pharmacy'!AY313),\"\",'MIS - Pharmacy'!AY313)","v":""},{"$f":"IF(ISBLANK('MIS - Pharmacy'!BH313),\"\",'MIS - Pharmacy'!BH313)","v":""},"",""]
[{"$f":"IF(ISBLANK('MIS - Pharmacy'!A314), \"\",'MIS - Pharmacy'!A314)","v":""},{"$f":"IF(ISBLANK('MIS - Pharmacy'!B314),\"\",('MIS - Pharmacy'!B314&\"(\"&'MIS - Pharmacy'!D314&\")\"))","v":""},{"$f":"IF(ISBLANK('MIS - Pharmacy'!BI314), \"\", 'MIS - Pharmacy'!BI314)","v":""},{"$f":"IF(ISBLANK('MIS - Pharmacy'!U314), \"\", 'MIS - Pharmacy'!U314)","v":""},"","","","","","","",{"$f":"IF(ISBLANK('MIS - Pharmacy'!AC314),\"\",'MIS - Pharmacy'!AC314)","v":""},"",{"$f":"IF(ISBLANK('MIS - Pharmacy'!AD314),\"\",'MIS - Pharmacy'!AD314)","v":""},"","",{"$f":"IF('MIS - Pharmacy'!A314=\"\",\"\",SUM('MIS - Pharmacy'!K314+'MIS - Pharmacy'!L314))","v":""},"",{"$f":"IF('MIS - Pharmacy'!A314=\"\",\"\",('MIS - Pharmacy'!AF314+'MIS - Pharmacy'!AH314 +'MIS - Pharmacy'!AG314))","v":""},{"$f":"IF(ISBLANK('MIS - Pharmacy'!AI314),\"\",'MIS - Pharmacy'!AI314)","v":""},"","","",{"$f":"IF(ISBLANK('MIS - Pharmacy'!V314),\"\",'MIS - Pharmacy'!V314)","v":""},"","","",{"$f":"IF(ISBLANK('MIS - Pharmacy'!J314),\"\",'MIS - Pharmacy'!J314)","v":""},{"$f":"IF(ISBLANK('MIS - Pharmacy'!AY314),\"\",'MIS - Pharmacy'!AY314)","v":""},{"$f":"IF(ISBLANK('MIS - Pharmacy'!BH314),\"\",'MIS - Pharmacy'!BH314)","v":""},"",""]
[{"$f":"IF(ISBLANK('MIS - Pharmacy'!A315), \"\",'MIS - Pharmacy'!A315)","v":""},{"$f":"IF(ISBLANK('MIS - Pharmacy'!B315),\"\",('MIS - Pharmacy'!B315&\"(\"&'MIS - Pharmacy'!D315&\")\"))","v":""},{"$f":"IF(ISBLANK('MIS - Pharmacy'!BI315), \"\", 'MIS - Pharmacy'!BI315)","v":""},{"$f":"IF(ISBLANK('MIS - Pharmacy'!U315), \"\", 'MIS - Pharmacy'!U315)","v":""},"","","","","","","",{"$f":"IF(ISBLANK('MIS - Pharmacy'!AC315),\"\",'MIS - Pharmacy'!AC315)","v":""},"",{"$f":"IF(ISBLANK('MIS - Pharmacy'!AD315),\"\",'MIS - Pharmacy'!AD315)","v":""},"","",{"$f":"IF('MIS - Pharmacy'!A315=\"\",\"\",SUM('MIS - Pharmacy'!K315+'MIS - Pharmacy'!L315))","v":""},"",{"$f":"IF('MIS - Pharmacy'!A315=\"\",\"\",('MIS - Pharmacy'!AF315+'MIS - Pharmacy'!AH315 +'MIS - Pharmacy'!AG315))","v":""},{"$f":"IF(ISBLANK('MIS - Pharmacy'!AI315),\"\",'MIS - Pharmacy'!AI315)","v":""},"","","",{"$f":"IF(ISBLANK('MIS - Pharmacy'!V315),\"\",'MIS - Pharmacy'!V315)","v":""},"","","",{"$f":"IF(ISBLANK('MIS - Pharmacy'!J315),\"\",'MIS - Pharmacy'!J315)","v":""},{"$f":"IF(ISBLANK('MIS - Pharmacy'!AY315),\"\",'MIS - Pharmacy'!AY315)","v":""},{"$f":"IF(ISBLANK('MIS - Pharmacy'!BH315),\"\",'MIS - Pharmacy'!BH315)","v":""},"",""]
[{"$f":"IF(ISBLANK('MIS - Pharmacy'!A316), \"\",'MIS - Pharmacy'!A316)","v":""},{"$f":"IF(ISBLANK('MIS - Pharmacy'!B316),\"\",('MIS - Pharmacy'!B316&\"(\"&'MIS - Pharmacy'!D316&\")\"))","v":""},{"$f":"IF(ISBLANK('MIS - Pharmacy'!BI316), \"\", 'MIS - Pharmacy'!BI316)","v":""},{"$f":"IF(ISBLANK('MIS - Pharmacy'!U316), \"\", 'MIS - Pharmacy'!U316)","v":""},"","","","","","","",{"$f":"IF(ISBLANK('MIS - Pharmacy'!AC316),\"\",'MIS - Pharmacy'!AC316)","v":""},"",{"$f":"IF(ISBLANK('MIS - Pharmacy'!AD316),\"\",'MIS - Pharmacy'!AD316)","v":""},"","",{"$f":"IF('MIS - Pharmacy'!A316=\"\",\"\",SUM('MIS - Pharmacy'!K316+'MIS - Pharmacy'!L316))","v":""},"",{"$f":"IF('MIS - Pharmacy'!A316=\"\",\"\",('MIS - Pharmacy'!AF316+'MIS - Pharmacy'!AH316 +'MIS - Pharmacy'!AG316))","v":""},{"$f":"IF(ISBLANK('MIS - Pharmacy'!AI316),\"\",'MIS - Pharmacy'!AI316)","v":""},"","","",{"$f":"IF(ISBLANK('MIS - Pharmacy'!V316),\"\",'MIS - Pharmacy'!V316)","v":""},"","","",{"$f":"IF(ISBLANK('MIS - Pharmacy'!J316),\"\",'MIS - Pharmacy'!J316)","v":""},{"$f":"IF(ISBLANK('MIS - Pharmacy'!AY316),\"\",'MIS - Pharmacy'!AY316)","v":""},{"$f":"IF(ISBLANK('MIS - Pharmacy'!BH316),\"\",'MIS - Pharmacy'!BH316)","v":""},"",""]
[{"$f":"IF(ISBLANK('MIS - Pharmacy'!A317), \"\",'MIS - Pharmacy'!A317)","v":""},{"$f":"IF(ISBLANK('MIS - Pharmacy'!B317),\"\",('MIS - Pharmacy'!B317&\"(\"&'MIS - Pharmacy'!D317&\")\"))","v":""},{"$f":"IF(ISBLANK('MIS - Pharmacy'!BI317), \"\", 'MIS - Pharmacy'!BI317)","v":""},{"$f":"IF(ISBLANK('MIS - Pharmacy'!U317), \"\", 'MIS - Pharmacy'!U317)","v":""},"","","","","","","",{"$f":"IF(ISBLANK('MIS - Pharmacy'!AC317),\"\",'MIS - Pharmacy'!AC317)","v":""},"",{"$f":"IF(ISBLANK('MIS - Pharmacy'!AD317),\"\",'MIS - Pharmacy'!AD317)","v":""},"","",{"$f":"IF('MIS - Pharmacy'!A317=\"\",\"\",SUM('MIS - Pharmacy'!K317+'MIS - Pharmacy'!L317))","v":""},"",{"$f":"IF('MIS - Pharmacy'!A317=\"\",\"\",('MIS - Pharmacy'!AF317+'MIS - Pharmacy'!AH317 +'MIS - Pharmacy'!AG317))","v":""},{"$f":"IF(ISBLANK('MIS - Pharmacy'!AI317),\"\",'MIS - Pharmacy'!AI317)","v":""},"","","",{"$f":"IF(ISBLANK('MIS - Pharmacy'!V317),\"\",'MIS - Pharmacy'!V317)","v":""},"","","",{"$f":"IF(ISBLANK('MIS - Pharmacy'!J317),\"\",'MIS - Pharmacy'!J317)","v":""},{"$f":"IF(ISBLANK('MIS - Pharmacy'!AY317),\"\",'MIS - Pharmacy'!AY317)","v":""},{"$f":"IF(ISBLANK('MIS - Pharmacy'!BH317),\"\",'MIS - Pharmacy'!BH317)","v":""},"",""]
[{"$f":"IF(ISBLANK('MIS - Pharmacy'!A318), \"\",'MIS - Pharmacy'!A318)","v":""},{"$f":"IF(ISBLANK('MIS - Pharmacy'!B318),\"\",('MIS - Pharmacy'!B318&\"(\"&'MIS - Pharmacy'!D318&\")\"))","v":""},{"$f":"IF(ISBLANK('MIS - Pharmacy'!BI318), \"\", 'MIS - Pharmacy'!BI318)","v":""},{"$f":"IF(ISBLANK('MIS - Pharmacy'!U318), \"\", 'MIS - Pharmacy'!U318)","v":""},"","","","","","","",{"$f":"IF(ISBLANK('MIS - Pharmacy'!AC318),\"\",'MIS - Pharmacy'!AC318)","v":""},"",{"$f":"IF(ISBLANK('MIS - Pharmacy'!AD318),\"\",'MIS - Pharmacy'!AD318)","v":""},"","",{"$f":"IF('MIS - Pharmacy'!A318=\"\",\"\",SUM('MIS - Pharmacy'!K318+'MIS - Pharmacy'!L318))","v":""},"",{"$f":"IF('MIS - Pharmacy'!A318=\"\",\"\",('MIS - Pharmacy'!AF318+'MIS - Pharmacy'!AH318 +'MIS - Pharmacy'!AG318))","v":""},{"$f":"IF(ISBLANK('MIS - Pharmacy'!AI318),\"\",'MIS - Pharmacy'!AI318)","v":""},"","","",{"$f":"IF(ISBLANK('MIS - Pharmacy'!V318),\"\",'MIS - Pharmacy'!V318)","v":""},"","","",{"$f":"IF(ISBLANK('MIS - Pharmacy'!J318),\"\",'MIS - Pharmacy'!J318)","v":""},{"$f":"IF(ISBLANK('MIS - Pharmacy'!AY318),\"\",'MIS - Pharmacy'!AY318)","v":""},{"$f":"IF(ISBLANK('MIS - Pharmacy'!BH318),\"\",'MIS - Pharmacy'!BH318)","v":""},"",""]
[{"$f":"IF(ISBLANK('MIS - Pharmacy'!A319), \"\",'MIS - Pharmacy'!A319)","v":""},{"$f":"IF(ISBLANK('MIS - Pharmacy'!B319),\"\",('MIS - Pharmacy'!B319&\"(\"&'MIS - Pharmacy'!D319&\")\"))","v":""},{"$f":"IF(ISBLANK('MIS - Pharmacy'!BI319), \"\", 'MIS - Pharmacy'!BI319)","v":""},{"$f":"IF(ISBLANK('MIS - Pharmacy'!U319), \"\", 'MIS - Pharmacy'!U319)","v":""},"","","","","","","",{"$f":"IF(ISBLANK('MIS - Pharmacy'!AC319),\"\",'MIS - Pharmacy'!AC319)","v":""},"",{"$f":"IF(ISBLANK('MIS - Pharmacy'!AD319),\"\",'MIS - Pharmacy'!AD319)","v":""},"","",{"$f":"IF('MIS - Pharmacy'!A319=\"\",\"\",SUM('MIS - Pharmacy'!K319+'MIS - Pharmacy'!L319))","v":""},"",{"$f":"IF('MIS - Pharmacy'!A319=\"\",\"\",('MIS - Pharmacy'!AF319+'MIS - Pharmacy'!AH319 +'MIS - Pharmacy'!AG319))","v":""},{"$f":"IF(ISBLANK('MIS - Pharmacy'!AI319),\"\",'MIS - Pharmacy'!AI319)","v":""},"","","",{"$f":"IF(ISBLANK('MIS - Pharmacy'!V319),\"\",'MIS - Pharmacy'!V319)","v":""},"","","",{"$f":"IF(ISBLANK('MIS - Pharmacy'!J319),\"\",'MIS - Pharmacy'!J319)","v":""},{"$f":"IF(ISBLANK('MIS - Pharmacy'!AY319),\"\",'MIS - Pharmacy'!AY319)","v":""},{"$f":"IF(ISBLANK('MIS - Pharmacy'!BH319),\"\",'MIS - Pharmacy'!BH319)","v":""},"",""]
[{"$f":"IF(ISBLANK('MIS - Pharmacy'!A320), \"\",'MIS - Pharmacy'!A320)","v":""},{"$f":"IF(ISBLANK('MIS - Pharmacy'!B320),\"\",('MIS - Pharmacy'!B320&\"(\"&'MIS - Pharmacy'!D320&\")\"))","v":""},{"$f":"IF(ISBLANK('MIS - Pharmacy'!BI320), \"\", 'MIS - Pharmacy'!BI320)","v":""},{"$f":"IF(ISBLANK('MIS - Pharmacy'!U320), \"\", 'MIS - Pharmacy'!U320)","v":""},"","","","","","","",{"$f":"IF(ISBLANK('MIS - Pharmacy'!AC320),\"\",'MIS - Pharmacy'!AC320)","v":""},"",{"$f":"IF(ISBLANK('MIS - Pharmacy'!AD320),\"\",'MIS - Pharmacy'!AD320)","v":""},"","",{"$f":"IF('MIS - Pharmacy'!A320=\"\",\"\",SUM('MIS - Pharmacy'!K320+'MIS - Pharmacy'!L320))","v":""},"",{"$f":"IF('MIS - Pharmacy'!A320=\"\",\"\",('MIS - Pharmacy'!AF320+'MIS - Pharmacy'!AH320 +'MIS - Pharmacy'!AG320))","v":""},{"$f":"IF(ISBLANK('MIS - Pharmacy'!AI320),\"\",'MIS - Pharmacy'!AI320)","v":""},"","","",{"$f":"IF(ISBLANK('MIS - Pharmacy'!V320),\"\",'MIS - Pharmacy'!V320)","v":""},"","","",{"$f":"IF(ISBLANK('MIS - Pharmacy'!J320),\"\",'MIS - Pharmacy'!J320)","v":""},{"$f":"IF(ISBLANK('MIS - Pharmacy'!AY320),\"\",'MIS - Pharmacy'!AY320)","v":""},{"$f":"IF(ISBLANK('MIS - Pharmacy'!BH320),\"\",'MIS - Pharmacy'!BH320)","v":""},"",""]
[{"$f":"IF(ISBLANK('MIS - Pharmacy'!A321), \"\",'MIS - Pharmacy'!A321)","v":""},{"$f":"IF(ISBLANK('MIS - Pharmacy'!B321),\"\",('MIS - Pharmacy'!B321&\"(\"&'MIS - Pharmacy'!D321&\")\"))","v":""},{"$f":"IF(ISBLANK('MIS - Pharmacy'!BI321), \"\", 'MIS - Pharmacy'!BI321)","v":""},{"$f":"IF(ISBLANK('MIS - Pharmacy'!U321), \"\", 'MIS - Pharmacy'!U321)","v":""},"","","","","","","",{"$f":"IF(ISBLANK('MIS - Pharmacy'!AC321),\"\",'MIS - Pharmacy'!AC321)","v":""},"",{"$f":"IF(ISBLANK('MIS - Pharmacy'!AD321),\"\",'MIS - Pharmacy'!AD321)","v":""},"","",{"$f":"IF('MIS - Pharmacy'!A321=\"\",\"\",SUM('MIS - Pharmacy'!K321+'MIS - Pharmacy'!L321))","v":""},"",{"$f":"IF('MIS - Pharmacy'!A321=\"\",\"\",('MIS - Pharmacy'!AF321+'MIS - Pharmacy'!AH321 +'MIS - Pharmacy'!AG321))","v":""},{"$f":"IF(ISBLANK('MIS - Pharmacy'!AI321),\"\",'MIS - Pharmacy'!AI321)","v":""},"","","",{"$f":"IF(ISBLANK('MIS - Pharmacy'!V321),\"\",'MIS - Pharmacy'!V321)","v":""},"","","",{"$f":"IF(ISBLANK('MIS - Pharmacy'!J321),\"\",'MIS - Pharmacy'!J321)","v":""},{"$f":"IF(ISBLANK('MIS - Pharmacy'!AY321),\"\",'MIS - Pharmacy'!AY321)","v":""},{"$f":"IF(ISBLANK('MIS - Pharmacy'!BH321),\"\",'MIS - Pharmacy'!BH321)","v":""},"",""]
[{"$f":"IF(ISBLANK('MIS - Pharmacy'!A322), \"\",'MIS - Pharmacy'!A322)","v":""},{"$f":"IF(ISBLANK('MIS - Pharmacy'!B322),\"\",('MIS - Pharmacy'!B322&\"(\"&'MIS - Pharmacy'!D322&\")\"))","v":""},{"$f":"IF(ISBLANK('MIS - Pharmacy'!BI322), \"\", 'MIS - Pharmacy'!BI322)","v":""},{"$f":"IF(ISBLANK('MIS - Pharmacy'!U322), \"\", 'MIS - Pharmacy'!U322)","v":""},"","","","","","","",{"$f":"IF(ISBLANK('MIS - Pharmacy'!AC322),\"\",'MIS - Pharmacy'!AC322)","v":""},"",{"$f":"IF(ISBLANK('MIS - Pharmacy'!AD322),\"\",'MIS - Pharmacy'!AD322)","v":""},"","",{"$f":"IF('MIS - Pharmacy'!A322=\"\",\"\",SUM('MIS - Pharmacy'!K322+'MIS - Pharmacy'!L322))","v":""},"",{"$f":"IF('MIS - Pharmacy'!A322=\"\",\"\",('MIS - Pharmacy'!AF322+'MIS - Pharmacy'!AH322 +'MIS - Pharmacy'!AG322))","v":""},{"$f":"IF(ISBLANK('MIS - Pharmacy'!AI322),\"\",'MIS - Pharmacy'!AI322)","v":""},"","","",{"$f":"IF(ISBLANK('MIS - Pharmacy'!V322),\"\",'MIS - Pharmacy'!V322)","v":""},"","","",{"$f":"IF(ISBLANK('MIS - Pharmacy'!J322),\"\",'MIS - Pharmacy'!J322)","v":""},{"$f":"IF(ISBLANK('MIS - Pharmacy'!AY322),\"\",'MIS - Pharmacy'!AY322)","v":""},{"$f":"IF(ISBLANK('MIS - Pharmacy'!BH322),\"\",'MIS - Pharmacy'!BH322)","v":""},"",""]
[{"$f":"IF(ISBLANK('MIS - Pharmacy'!A323), \"\",'MIS - Pharmacy'!A323)","v":""},{"$f":"IF(ISBLANK('MIS - Pharmacy'!B323),\"\",('MIS - Pharmacy'!B323&\"(\"&'MIS - Pharmacy'!D323&\")\"))","v":""},{"$f":"IF(ISBLANK('MIS - Pharmacy'!BI323), \"\", 'MIS - Pharmacy'!BI323)","v":""},{"$f":"IF(ISBLANK('MIS - Pharmacy'!U323), \"\", 'MIS - Pharmacy'!U323)","v":""},"","","","","","","",{"$f":"IF(ISBLANK('MIS - Pharmacy'!AC323),\"\",'MIS - Pharmacy'!AC323)","v":""},"",{"$f":"IF(ISBLANK('MIS - Pharmacy'!AD323),\"\",'MIS - Pharmacy'!AD323)","v":""},"","",{"$f":"IF('MIS - Pharmacy'!A323=\"\",\"\",SUM('MIS - Pharmacy'!K323+'MIS - Pharmacy'!L323))","v":""},"",{"$f":"IF('MIS - Pharmacy'!A323=\"\",\"\",('MIS - Pharmacy'!AF323+'MIS - Pharmacy'!AH323 +'MIS - Pharmacy'!AG323))","v":""},{"$f":"IF(ISBLANK('MIS - Pharmacy'!AI323),\"\",'MIS - Pharmacy'!AI323)","v":""},"","","",{"$f":"IF(ISBLANK('MIS - Pharmacy'!V323),\"\",'MIS - Pharmacy'!V323)","v":""},"","","",{"$f":"IF(ISBLANK('MIS - Pharmacy'!J323),\"\",'MIS - Pharmacy'!J323)","v":""},{"$f":"IF(ISBLANK('MIS - Pharmacy'!AY323),\"\",'MIS - Pharmacy'!AY323)","v":""},{"$f":"IF(ISBLANK('MIS - Pharmacy'!BH323),\"\",'MIS - Pharmacy'!BH323)","v":""},"",""]
[{"$f":"IF(ISBLANK('MIS - Pharmacy'!A324), \"\",'MIS - Pharmacy'!A324)","v":""},{"$f":"IF(ISBLANK('MIS - Pharmacy'!B324),\"\",('MIS - Pharmacy'!B324&\"(\"&'MIS - Pharmacy'!D324&\")\"))","v":""},{"$f":"IF(ISBLANK('MIS - Pharmacy'!BI324), \"\", 'MIS - Pharmacy'!BI324)","v":""},{"$f":"IF(ISBLANK('MIS - Pharmacy'!U324), \"\", 'MIS - Pharmacy'!U324)","v":""},"",{"$f":"IF(D333=\"\",\"\",D333*12)","v":""},{"$f":"IF(Q333=\"\",\"\",IF(Q333 = 0, 0, D333/Q333*1000))","v":""},"","",{"$f":"IF(D333=0,0,IF(D333=\"\",\"\",D333/Q333))","v":""},{"$f":"IF(D333=0,0,IF(D333=\"\",\"\",D333/X333))","v":""},{"$f":"IF(ISBLANK('MIS - Pharmacy'!AC324),\"\",'MIS - Pharmacy'!AC324)","v":""},"",{"$f":"IF(ISBLANK('MIS - Pharmacy'!AD324),\"\",'MIS - Pharmacy'!AD324)","v":""},"",{"$f":"IF(L333=\"\",\"\",IF(X333=0,0,L333/X333))","v":""},{"$f":"IF('MIS - Pharmacy'!A324=\"\",\"\",SUM('MIS - Pharmacy'!K324+'MIS - Pharmacy'!L324))","v":""},"",{"$f":"IF('MIS - Pharmacy'!A324=\"\",\"\",('MIS - Pharmacy'!AF324+'MIS - Pharmacy'!AH324 +'MIS - Pharmacy'!AG324))","v":""},{"$f":"IF(ISBLANK('MIS - Pharmacy'!AI324),\"\",'MIS - Pharmacy'!AI324)","v":""},"",{"$f":"IF(A333=\"\",\"\",IF(T333=0,0,T333/Q333*1000))","v":""},"",{"$f":"IF(ISBLANK('MIS - Pharmacy'!V324),\"\",'MIS - Pharmacy'!V324)","v":""},"","","",{"$f":"IF(ISBLANK('MIS - Pharmacy'!J324),\"\",'MIS - Pharmacy'!J324)","v":""},{"$f":"IF(ISBLANK('MIS - Pharmacy'!AY324),\"\",'MIS - Pharmacy'!AY324)","v":""},{"$f":"IF(ISBLANK('MIS - Pharmacy'!BH324),\"\",'MIS - Pharmacy'!BH324)","v":""},{"$f":"IF(A333=\"\",\"\",D333+L333)","v":""},""]
[{"$f":"IF(ISBLANK('MIS - Pharmacy'!A325), \"\",'MIS - Pharmacy'!A325)","v":""},{"$f":"IF(ISBLANK('MIS - Pharmacy'!B325),\"\",('MIS - Pharmacy'!B325&\"(\"&'MIS - Pharmacy'!D325&\")\"))","v":""},{"$f":"IF(ISBLANK('MIS - Pharmacy'!BI325), \"\", 'MIS - Pharmacy'!BI325)","v":""},{"$f":"IF(ISBLANK('MIS - Pharmacy'!U325), \"\", 'MIS - Pharmacy'!U325)","v":""},{"$f":"IF(D334=\"\",\"\",IF(D334<=D$9,\"Lower Outlier\",IF(D334<=D$5,\"Below Average\",IF(D334<=D$6,\"Lower Quartile Range\",IF(D334<=D$7,\"Upper Quartile Range\",IF(D334<=D$10,\"Above Average\",\"Upper Outlier\"))))))","v":""},"","",{"$f":"IF(D334=\"\",\"\",IF(X334=0,0,D334/Y334))","v":""},{"$f":"IF(A334=\"\",\"\",IF(D334=0,0,(D334*0.3)/Y334))","v":""},"","",{"$f":"IF(ISBLANK('MIS - Pharmacy'!AC325),\"\",'MIS - Pharmacy'!AC325)","v":""},{"$f":"IF(L334=\"\",\"\",IF(L334<=L$9,\"Lower Outlier\",IF(L334<=L$5,\"Below Average\",IF(L334<=L$6,\"Lower Quartile Range\",IF(L334<=L$7,\"Upper Quartile Range\",IF(L334<=L$10,\"Above Average\",\"Upper Outlier\"))))))","v":""},{"$f":"IF(ISBLANK('MIS - Pharmacy'!AD325),\"\",'MIS - Pharmacy'!AD325)","v":""},{"$f":"IF(N334=\"\",\"\",IF(N334=0,0,L334/N334*1000))","v":""},"",{"$f":"IF('MIS - Pharmacy'!A325=\"\",\"\",SUM('MIS - Pharmacy'!K325+'MIS - Pharmacy'!L325))","v":""},{"$f":"IF(Q334=\"\",\"\",IF(Q334<=Q$9,\"Lower Outlier\",IF(Q334<=Q$5,\"Below Average\",IF(Q334<=Q$6,\"Lower Quartile Range\",IF(Q334<=Q$7,\"Upper Quartile Range\",IF(Q334<=Q$10,\"Above Average\",\"Upper Outlier\"))))))","v":""},{"$f":"IF('MIS - Pharmacy'!A325=\"\",\"\",('MIS - Pharmacy'!AF325+'MIS - Pharmacy'!AH325 +'MIS - Pharmacy'!AG325))","v":""},{"$f":"IF(ISBLANK('MIS - Pharmacy'!AI325),\"\",'MIS - Pharmacy'!AI325)","v":""},{"$f":"IF(T334=\"\",\"\",IF(T334<=T$9,\"Lower Outlier\",IF(T334<=T$5,\"Below Average\",IF(T334<=T$6,\"Lower Quartile Range\",IF(T334<=T$7,\"Upper Quartile Range\",IF(T334<=T$10,\"Above Average\",\"Upper Outlier\"))))))","v":""},"",{"$f":"IF(V334=\"\",\"\",IF(S334 >0,(T334/S334*1000),0))","v":""},{"$f":"IF(ISBLANK('MIS - Pharmacy'!V325),\"\",'MIS - Pharmacy'!V325)","v":""},{"$f":"IF(X334=\"\",\"\",(X334/7)*$Y$3)","v":""},{"$f":"IF(X334=\"\",\"\",IF(X334<=X$9,\"Lower Outlier\",IF(X334<=X$5,\"Below Average\",IF(X334<=X$6,\"Lower Quartile Range\",IF(X334<=X$7,\"Upper Quartile Range\",IF(X334<=X$10,\"Above Average\",\"Upper Outlier\"))))))","v":""},{"$f":"IF(A334=\"\",\"\",IF(X334=0,0,Y334/Q334*1000))","v":""},{"$f":"IF(ISBLANK('MIS - Pharmacy'!J325),\"\",'MIS - Pharmacy'!J325)","v":""},{"$f":"IF(ISBLANK('MIS - Pharmacy'!AY325),\"\",'MIS - Pharmacy'!AY325)","v":""},{"$f":"IF(ISBLANK('MIS - Pharmacy'!BH325),\"\",'MIS - Pharmacy'!BH325)","v":""},"",{"$f":"IF(A334=\"\",\"\",IF(Y334=0,0,(AE334/Y334)*100))","v":""}]
[{"$f":"IF(ISBLANK('MIS - Pharmacy'!A326), \"\",'MIS - Pharmacy'!A326)","v":""},{"$f":"IF(ISBLANK('MIS - Pharmacy'!B326),\"\",('MIS - Pharmacy'!B326&\"(\"&'MIS - Pharmacy'!D326&\")\"))","v":""},{"$f":"IF(ISBLANK('MIS - Pharmacy'!BI326), \"\", 'MIS - Pharmacy'!BI326)","v":""},{"$f":"IF(ISBLANK('MIS - Pharmacy'!U326), \"\", 'MIS - Pharmacy'!U326)","v":""},"","","","","","","",{"$f":"IF(ISBLANK('MIS - Pharmacy'!AC326),\"\",'MIS - Pharmacy'!AC326)","v":""},"",{"$f":"IF(ISBLANK('MIS - Pharmacy'!AD326),\"\",'MIS - Pharmacy'!AD326)","v":""},"","",{"$f":"IF('MIS - Pharmacy'!A326=\"\",\"\",SUM('MIS - Pharmacy'!K326+'MIS - Pharmacy'!L326))","v":""},"",{"$f":"IF('MIS - Pharmacy'!A326=\"\",\"\",('MIS - Pharmacy'!AF326+'MIS - Pharmacy'!AH326 +'MIS - Pharmacy'!AG326))","v":""},{"$f":"IF(ISBLANK('MIS - Pharmacy'!AI326),\"\",'MIS - Pharmacy'!AI326)","v":""},"","","",{"$f":"IF(ISBLANK('MIS - Pharmacy'!V326),\"\",'MIS - Pharmacy'!V326)","v":""},"","","",{"$f":"IF(ISBLANK('MIS - Pharmacy'!J326),\"\",'MIS - Pharmacy'!J326)","v":""},{"$f":"IF(ISBLANK('MIS - Pharmacy'!AY326),\"\",'MIS - Pharmacy'!AY326)","v":""},{"$f":"IF(ISBLANK('MIS - Pharmacy'!BH326),\"\",'MIS - Pharmacy'!BH326)","v":""},"",""]
[{"$f":"IF(ISBLANK('MIS - Pharmacy'!A327), \"\",'MIS - Pharmacy'!A327)","v":""},{"$f":"IF(ISBLANK('MIS - Pharmacy'!B327),\"\",('MIS - Pharmacy'!B327&\"(\"&'MIS - Pharmacy'!D327&\")\"))","v":""},{"$f":"IF(ISBLANK('MIS - Pharmacy'!BI327), \"\", 'MIS - Pharmacy'!BI327)","v":""},{"$f":"IF(ISBLANK('MIS - Pharmacy'!U327), \"\", 'MIS - Pharmacy'!U327)","v":""},"","","","","","","",{"$f":"IF(ISBLANK('MIS - Pharmacy'!AC327),\"\",'MIS - Pharmacy'!AC327)","v":""},"",{"$f":"IF(ISBLANK('MIS - Pharmacy'!AD327),\"\",'MIS - Pharmacy'!AD327)","v":""},"","",{"$f":"IF('MIS - Pharmacy'!A327=\"\",\"\",SUM('MIS - Pharmacy'!K327+'MIS - Pharmacy'!L327))","v":""},"",{"$f":"IF('MIS - Pharmacy'!A327=\"\",\"\",('MIS - Pharmacy'!AF327+'MIS - Pharmacy'!AH327 +'MIS - Pharmacy'!AG327))","v":""},{"$f":"IF(ISBLANK('MIS - Pharmacy'!AI327),\"\",'MIS - Pharmacy'!AI327)","v":""},"","","",{"$f":"IF(ISBLANK('MIS - Pharmacy'!V327),\"\",'MIS - Pharmacy'!V327)","v":""},"","","",{"$f":"IF(ISBLANK('MIS - Pharmacy'!J327),\"\",'MIS - Pharmacy'!J327)","v":""},{"$f":"IF(ISBLANK('MIS - Pharmacy'!AY327),\"\",'MIS - Pharmacy'!AY327)","v":""},{"$f":"IF(ISBLANK('MIS - Pharmacy'!BH327),\"\",'MIS - Pharmacy'!BH327)","v":""},"",""]
[{"$f":"IF(ISBLANK('MIS - Pharmacy'!A328), \"\",'MIS - Pharmacy'!A328)","v":""},{"$f":"IF(ISBLANK('MIS - Pharmacy'!B328),\"\",('MIS - Pharmacy'!B328&\"(\"&'MIS - Pharmacy'!D328&\")\"))","v":""},{"$f":"IF(ISBLANK('MIS - Pharmacy'!BI328), \"\", 'MIS - Pharmacy'!BI328)","v":""},{"$f":"IF(ISBLANK('MIS - Pharmacy'!U328), \"\", 'MIS - Pharmacy'!U328)","v":""},"","","","","","","",{"$f":"IF(ISBLANK('MIS - Pharmacy'!AC328),\"\",'MIS - Pharmacy'!AC328)","v":""},"",{"$f":"IF(ISBLANK('MIS - Pharmacy'!AD328),\"\",'MIS - Pharmacy'!AD328)","v":""},"","",{"$f":"IF('MIS - Pharmacy'!A328=\"\",\"\",SUM('MIS - Pharmacy'!K328+'MIS - Pharmacy'!L328))","v":""},"",{"$f":"IF('MIS - Pharmacy'!A328=\"\",\"\",('MIS - Pharmacy'!AF328+'MIS - Pharmacy'!AH328 +'MIS - Pharmacy'!AG328))","v":""},{"$f":"IF(ISBLANK('MIS - Pharmacy'!AI328),\"\",'MIS - Pharmacy'!AI328)","v":""},"","","",{"$f":"IF(ISBLANK('MIS - Pharmacy'!V328),\"\",'MIS - Pharmacy'!V328)","v":""},"","","",{"$f":"IF(ISBLANK('MIS - Pharmacy'!J328),\"\",'MIS - Pharmacy'!J328)","v":""},{"$f":"IF(ISBLANK('MIS - Pharmacy'!AY328),\"\",'MIS - Pharmacy'!AY328)","v":""},{"$f":"IF(ISBLANK('MIS - Pharmacy'!BH328),\"\",'MIS - Pharmacy'!BH328)","v":""},"",""]
[{"$f":"IF(ISBLANK('MIS - Pharmacy'!A329), \"\",'MIS - Pharmacy'!A329)","v":""},{"$f":"IF(ISBLANK('MIS - Pharmacy'!B329),\"\",('MIS - Pharmacy'!B329&\"(\"&'MIS - Pharmacy'!D329&\")\"))","v":""},{"$f":"IF(ISBLANK('MIS - Pharmacy'!BI329), \"\", 'MIS - Pharmacy'!BI329)","v":""},{"$f":"IF(ISBLANK('MIS - Pharmacy'!U329), \"\", 'MIS - Pharmacy'!U329)","v":""},"","","","","","","",{"$f":"IF(ISBLANK('MIS - Pharmacy'!AC329),\"\",'MIS - Pharmacy'!AC329)","v":""},"",{"$f":"IF(ISBLANK('MIS - Pharmacy'!AD329),\"\",'MIS - Pharmacy'!AD329)","v":""},"","",{"$f":"IF('MIS - Pharmacy'!A329=\"\",\"\",SUM('MIS - Pharmacy'!K329+'MIS - Pharmacy'!L329))","v":""},"",{"$f":"IF('MIS - Pharmacy'!A329=\"\",\"\",('MIS - Pharmacy'!AF329+'MIS - Pharmacy'!AH329 +'MIS - Pharmacy'!AG329))","v":""},{"$f":"IF(ISBLANK('MIS - Pharmacy'!AI329),\"\",'MIS - Pharmacy'!AI329)","v":""},"","","",{"$f":"IF(ISBLANK('MIS - Pharmacy'!V329),\"\",'MIS - Pharmacy'!V329)","v":""},"","","",{"$f":"IF(ISBLANK('MIS - Pharmacy'!J329),\"\",'MIS - Pharmacy'!J329)","v":""},{"$f":"IF(ISBLANK('MIS - Pharmacy'!AY329),\"\",'MIS - Pharmacy'!AY329)","v":""},{"$f":"IF(ISBLANK('MIS - Pharmacy'!BH329),\"\",'MIS - Pharmacy'!BH329)","v":""},"",""]
[{"$f":"IF(ISBLANK('MIS - Pharmacy'!A330), \"\",'MIS - Pharmacy'!A330)","v":""},{"$f":"IF(ISBLANK('MIS - Pharmacy'!B330),\"\",('MIS - Pharmacy'!B330&\"(\"&'MIS - Pharmacy'!D330&\")\"))","v":""},{"$f":"IF(ISBLANK('MIS - Pharmacy'!BI330), \"\", 'MIS - Pharmacy'!BI330)","v":""},{"$f":"IF(ISBLANK('MIS - Pharmacy'!U330), \"\", 'MIS - Pharmacy'!U330)","v":""},"","","","","","","",{"$f":"IF(ISBLANK('MIS - Pharmacy'!AC330),\"\",'MIS - Pharmacy'!AC330)","v":""},"",{"$f":"IF(ISBLANK('MIS - Pharmacy'!AD330),\"\",'MIS - Pharmacy'!AD330)","v":""},"","",{"$f":"IF('MIS - Pharmacy'!A330=\"\",\"\",SUM('MIS - Pharmacy'!K330+'MIS - Pharmacy'!L330))","v":""},"",{"$f":"IF('MIS - Pharmacy'!A330=\"\",\"\",('MIS - Pharmacy'!AF330+'MIS - Pharmacy'!AH330 +'MIS - Pharmacy'!AG330))","v":""},{"$f":"IF(ISBLANK('MIS - Pharmacy'!AI330),\"\",'MIS - Pharmacy'!AI330)","v":""},"","","",{"$f":"IF(ISBLANK('MIS - Pharmacy'!V330),\"\",'MIS - Pharmacy'!V330)","v":""},"","","",{"$f":"IF(ISBLANK('MIS - Pharmacy'!J330),\"\",'MIS - Pharmacy'!J330)","v":""},{"$f":"IF(ISBLANK('MIS - Pharmacy'!AY330),\"\",'MIS - Pharmacy'!AY330)","v":""},{"$f":"IF(ISBLANK('MIS - Pharmacy'!BH330),\"\",'MIS - Pharmacy'!BH330)","v":""},"",""]
[{"$f":"IF(ISBLANK('MIS - Pharmacy'!A331), \"\",'MIS - Pharmacy'!A331)","v":""},{"$f":"IF(ISBLANK('MIS - Pharmacy'!B331),\"\",('MIS - Pharmacy'!B331&\"(\"&'MIS - Pharmacy'!D331&\")\"))","v":""},{"$f":"IF(ISBLANK('MIS - Pharmacy'!BI331), \"\", 'MIS - Pharmacy'!BI331)","v":""},{"$f":"IF(ISBLANK('MIS - Pharmacy'!U331), \"\", 'MIS - Pharmacy'!U331)","v":""},"","","","","","","",{"$f":"IF(ISBLANK('MIS - Pharmacy'!AC331),\"\",'MIS - Pharmacy'!AC331)","v":""},"",{"$f":"IF(ISBLANK('MIS - Pharmacy'!AD331),\"\",'MIS - Pharmacy'!AD331)","v":""},"","",{"$f":"IF('MIS - Pharmacy'!A331=\"\",\"\",SUM('MIS - Pharmacy'!K331+'MIS - Pharmacy'!L331))","v":""},"",{"$f":"IF('MIS - Pharmacy'!A331=\"\",\"\",('MIS - Pharmacy'!AF331+'MIS - Pharmacy'!AH331 +'MIS - Pharmacy'!AG331))","v":""},{"$f":"IF(ISBLANK('MIS - Pharmacy'!AI331),\"\",'MIS - Pharmacy'!AI331)","v":""},"","","",{"$f":"IF(ISBLANK('MIS - Pharmacy'!V331),\"\",'MIS - Pharmacy'!V331)","v":""},"","","",{"$f":"IF(ISBLANK('MIS - Pharmacy'!J331),\"\",'MIS - Pharmacy'!J331)","v":""},{"$f":"IF(ISBLANK('MIS - Pharmacy'!AY331),\"\",'MIS - Pharmacy'!AY331)","v":""},{"$f":"IF(ISBLANK('MIS - Pharmacy'!BH331),\"\",'MIS - Pharmacy'!BH331)","v":""},"",""]
[{"$f":"IF(ISBLANK('MIS - Pharmacy'!A332), \"\",'MIS - Pharmacy'!A332)","v":""},{"$f":"IF(ISBLANK('MIS - Pharmacy'!B332),\"\",('MIS - Pharmacy'!B332&\"(\"&'MIS - Pharmacy'!D332&\")\"))","v":""},{"$f":"IF(ISBLANK('MIS - Pharmacy'!BI332), \"\", 'MIS - Pharmacy'!BI332)","v":""},{"$f":"IF(ISBLANK('MIS - Pharmacy'!U332), \"\", 'MIS - Pharmacy'!U332)","v":""},"","","","","","","",{"$f":"IF(ISBLANK('MIS - Pharmacy'!AC332),\"\",'MIS - Pharmacy'!AC332)","v":""},"",{"$f":"IF(ISBLANK('MIS - Pharmacy'!AD332),\"\",'MIS - Pharmacy'!AD332)","v":""},"","",{"$f":"IF('MIS - Pharmacy'!A332=\"\",\"\",SUM('MIS - Pharmacy'!K332+'MIS - Pharmacy'!L332))","v":""},"",{"$f":"IF('MIS - Pharmacy'!A332=\"\",\"\",('MIS - Pharmacy'!AF332+'MIS - Pharmacy'!AH332 +'MIS - Pharmacy'!AG332))","v":""},{"$f":"IF(ISBLANK('MIS - Pharmacy'!AI332),\"\",'MIS - Pharmacy'!AI332)","v":""},"","","",{"$f":"IF(ISBLANK('MIS - Pharmacy'!V332),\"\",'MIS - Pharmacy'!V332)","v":""},"","","",{"$f":"IF(ISBLANK('MIS - Pharmacy'!J332),\"\",'MIS - Pharmacy'!J332)","v":""},{"$f":"IF(ISBLANK('MIS - Pharmacy'!AY332),\"\",'MIS - Pharmacy'!AY332)","v":""},{"$f":"IF(ISBLANK('MIS - Pharmacy'!BH332),\"\",'MIS - Pharmacy'!BH332)","v":""},"",""]
[{"$f":"IF(ISBLANK('MIS - Pharmacy'!A333), \"\",'MIS - Pharmacy'!A333)","v":""},{"$f":"IF(ISBLANK('MIS - Pharmacy'!B333),\"\",('MIS - Pharmacy'!B333&\"(\"&'MIS - Pharmacy'!D333&\")\"))","v":""},{"$f":"IF(ISBLANK('MIS - Pharmacy'!BI333), \"\", 'MIS - Pharmacy'!BI333)","v":""},{"$f":"IF(ISBLANK('MIS - Pharmacy'!U333), \"\", 'MIS - Pharmacy'!U333)","v":""},"","","","","","","",{"$f":"IF(ISBLANK('MIS - Pharmacy'!AC333),\"\",'MIS - Pharmacy'!AC333)","v":""},"",{"$f":"IF(ISBLANK('MIS - Pharmacy'!AD333),\"\",'MIS - Pharmacy'!AD333)","v":""},"","",{"$f":"IF('MIS - Pharmacy'!A333=\"\",\"\",SUM('MIS - Pharmacy'!K333+'MIS - Pharmacy'!L333))","v":""},"",{"$f":"IF('MIS - Pharmacy'!A333=\"\",\"\",('MIS - Pharmacy'!AF333+'MIS - Pharmacy'!AH333 +'MIS - Pharmacy'!AG333))","v":""},{"$f":"IF(ISBLANK('MIS - Pharmacy'!AI333),\"\",'MIS - Pharmacy'!AI333)","v":""},"","","",{"$f":"IF(ISBLANK('MIS - Pharmacy'!V333),\"\",'MIS - Pharmacy'!V333)","v":""},"","","",{"$f":"IF(ISBLANK('MIS - Pharmacy'!J333),\"\",'MIS - Pharmacy'!J333)","v":""},{"$f":"IF(ISBLANK('MIS - Pharmacy'!AY333),\"\",'MIS - Pharmacy'!AY333)","v":""},{"$f":"IF(ISBLANK('MIS - Pharmacy'!BH333),\"\",'MIS - Pharmacy'!BH333)","v":""},"",""]
[{"$f":"IF(ISBLANK('MIS - Pharmacy'!A334), \"\",'MIS - Pharmacy'!A334)","v":""},{"$f":"IF(ISBLANK('MIS - Pharmacy'!B334),\"\",('MIS - Pharmacy'!B334&\"(\"&'MIS - Pharmacy'!D334&\")\"))","v":""},{"$f":"IF(ISBLANK('MIS - Pharmacy'!BI334), \"\", 'MIS - Pharmacy'!BI334)","v":""},{"$f":"IF(ISBLANK('MIS - Pharmacy'!U334), \"\", 'MIS - Pharmacy'!U334)","v":""},"","","","","","","",{"$f":"IF(ISBLANK('MIS - Pharmacy'!AC334),\"\",'MIS - Pharmacy'!AC334)","v":""},"",{"$f":"IF(ISBLANK('MIS - Pharmacy'!AD334),\"\",'MIS - Pharmacy'!AD334)","v":""},"","",{"$f":"IF('MIS - Pharmacy'!A334=\"\",\"\",SUM('MIS - Pharmacy'!K334+'MIS - Pharmacy'!L334))","v":""},"",{"$f":"IF('MIS - Pharmacy'!A334=\"\",\"\",('MIS - Pharmacy'!AF334+'MIS - Pharmacy'!AH334 +'MIS - Pharmacy'!AG334))","v":""},{"$f":"IF(ISBLANK('MIS - Pharmacy'!AI334),\"\",'MIS - Pharmacy'!AI334)","v":""},"","","",{"$f":"IF(ISBLANK('MIS - Pharmacy'!V334),\"\",'MIS - Pharmacy'!V334)","v":""},"","","",{"$f":"IF(ISBLANK('MIS - Pharmacy'!J334),\"\",'MIS - Pharmacy'!J334)","v":""},{"$f":"IF(ISBLANK('MIS - Pharmacy'!AY334),\"\",'MIS - Pharmacy'!AY334)","v":""},{"$f":"IF(ISBLANK('MIS - Pharmacy'!BH334),\"\",'MIS - Pharmacy'!BH334)","v":""},"",""]
[{"$f":"IF(ISBLANK('MIS - Pharmacy'!A335), \"\",'MIS - Pharmacy'!A335)","v":""},{"$f":"IF(ISBLANK('MIS - Pharmacy'!B335),\"\",('MIS - Pharmacy'!B335&\"(\"&'MIS - Pharmacy'!D335&\")\"))","v":""},{"$f":"IF(ISBLANK('MIS - Pharmacy'!BI335), \"\", 'MIS - Pharmacy'!BI335)","v":""},{"$f":"IF(ISBLANK('MIS - Pharmacy'!U335), \"\", 'MIS - Pharmacy'!U335)","v":""},"","","","","","","",{"$f":"IF(ISBLANK('MIS - Pharmacy'!AC335),\"\",'MIS - Pharmacy'!AC335)","v":""},"",{"$f":"IF(ISBLANK('MIS - Pharmacy'!AD335),\"\",'MIS - Pharmacy'!AD335)","v":""},"","",{"$f":"IF('MIS - Pharmacy'!A335=\"\",\"\",SUM('MIS - Pharmacy'!K335+'MIS - Pharmacy'!L335))","v":""},"",{"$f":"IF('MIS - Pharmacy'!A335=\"\",\"\",('MIS - Pharmacy'!AF335+'MIS - Pharmacy'!AH335 +'MIS - Pharmacy'!AG335))","v":""},{"$f":"IF(ISBLANK('MIS - Pharmacy'!AI335),\"\",'MIS - Pharmacy'!AI335)","v":""},"","","",{"$f":"IF(ISBLANK('MIS - Pharmacy'!V335),\"\",'MIS - Pharmacy'!V335)","v":""},"","","",{"$f":"IF(ISBLANK('MIS - Pharmacy'!J335),\"\",'MIS - Pharmacy'!J335)","v":""},{"$f":"IF(ISBLANK('MIS - Pharmacy'!AY335),\"\",'MIS - Pharmacy'!AY335)","v":""},{"$f":"IF(ISBLANK('MIS - Pharmacy'!BH335),\"\",'MIS - Pharmacy'!BH335)","v":""},"",""]
[{"$f":"IF(ISBLANK('MIS - Pharmacy'!A336), \"\",'MIS - Pharmacy'!A336)","v":""},{"$f":"IF(ISBLANK('MIS - Pharmacy'!B336),\"\",('MIS - Pharmacy'!B336&\"(\"&'MIS - Pharmacy'!D336&\")\"))","v":""},{"$f":"IF(ISBLANK('MIS - Pharmacy'!BI336), \"\", 'MIS - Pharmacy'!BI336)","v":""},{"$f":"IF(ISBLANK('MIS - Pharmacy'!U336), \"\", 'MIS - Pharmacy'!U336)","v":""},"","","","","","","",{"$f":"IF(ISBLANK('MIS - Pharmacy'!AC336),\"\",'MIS - Pharmacy'!AC336)","v":""},"",{"$f":"IF(ISBLANK('MIS - Pharmacy'!AD336),\"\",'MIS - Pharmacy'!AD336)","v":""},"","",{"$f":"IF('MIS - Pharmacy'!A336=\"\",\"\",SUM('MIS - Pharmacy'!K336+'MIS - Pharmacy'!L336))","v":""},"",{"$f":"IF('MIS - Pharmacy'!A336=\"\",\"\",('MIS - Pharmacy'!AF336+'MIS - Pharmacy'!AH336 +'MIS - Pharmacy'!AG336))","v":""},{"$f":"IF(ISBLANK('MIS - Pharmacy'!AI336),\"\",'MIS - Pharmacy'!AI336)","v":""},"","","",{"$f":"IF(ISBLANK('MIS - Pharmacy'!V336),\"\",'MIS - Pharmacy'!V336)","v":""},"","","",{"$f":"IF(ISBLANK('MIS - Pharmacy'!J336),\"\",'MIS - Pharmacy'!J336)","v":""},{"$f":"IF(ISBLANK('MIS - Pharmacy'!AY336),\"\",'MIS - Pharmacy'!AY336)","v":""},{"$f":"IF(ISBLANK('MIS - Pharmacy'!BH336),\"\",'MIS - Pharmacy'!BH336)","v":""},"",""]
[{"$f":"IF(ISBLANK('MIS - Pharmacy'!A337), \"\",'MIS - Pharmacy'!A337)","v":""},{"$f":"IF(ISBLANK('MIS - Pharmacy'!B337),\"\",('MIS - Pharmacy'!B337&\"(\"&'MIS - Pharmacy'!D337&\")\"))","v":""},{"$f":"IF(ISBLANK('MIS - Pharmacy'!BI337), \"\", 'MIS - Pharmacy'!BI337)","v":""},{"$f":"IF(ISBLANK('MIS - Pharmacy'!U337), \"\", 'MIS - Pharmacy'!U337)","v":""},"","","","","","","",{"$f":"IF(ISBLANK('MIS - Pharmacy'!AC337),\"\",'MIS - Pharmacy'!AC337)","v":""},"",{"$f":"IF(ISBLANK('MIS - Pharmacy'!AD337),\"\",'MIS - Pharmacy'!AD337)","v":""},"","",{"$f":"IF('MIS - Pharmacy'!A337=\"\",\"\",SUM('MIS - Pharmacy'!K337+'MIS - Pharmacy'!L337))","v":""},"",{"$f":"IF('MIS - Pharmacy'!A337=\"\",\"\",('MIS - Pharmacy'!AF337+'MIS - Pharmacy'!AH337 +'MIS - Pharmacy'!AG337))","v":""},{"$f":"IF(ISBLANK('MIS - Pharmacy'!AI337),\"\",'MIS - Pharmacy'!AI337)","v":""},"","","",{"$f":"IF(ISBLANK('MIS - Pharmacy'!V337),\"\",'MIS - Pharmacy'!V337)","v":""},"","","",{"$f":"IF(ISBLANK('MIS - Pharmacy'!J337),\"\",'MIS - Pharmacy'!J337)","v":""},{"$f":"IF(ISBLANK('MIS - Pharmacy'!AY337),\"\",'MIS - Pharmacy'!AY337)","v":""},{"$f":"IF(ISBLANK('MIS - Pharmacy'!BH337),\"\",'MIS - Pharmacy'!BH337)","v":""},"",""]
[{"$f":"IF(ISBLANK('MIS - Pharmacy'!A338), \"\",'MIS - Pharmacy'!A338)","v":""},{"$f":"IF(ISBLANK('MIS - Pharmacy'!B338),\"\",('MIS - Pharmacy'!B338&\"(\"&'MIS - Pharmacy'!D338&\")\"))","v":""},{"$f":"IF(ISBLANK('MIS - Pharmacy'!BI338), \"\", 'MIS - Pharmacy'!BI338)","v":""},{"$f":"IF(ISBLANK('MIS - Pharmacy'!U338), \"\", 'MIS - Pharmacy'!U338)","v":""},"","","","","","","",{"$f":"IF(ISBLANK('MIS - Pharmacy'!AC338),\"\",'MIS - Pharmacy'!AC338)","v":""},"",{"$f":"IF(ISBLANK('MIS - Pharmacy'!AD338),\"\",'MIS - Pharmacy'!AD338)","v":""},"","",{"$f":"IF('MIS - Pharmacy'!A338=\"\",\"\",SUM('MIS - Pharmacy'!K338+'MIS - Pharmacy'!L338))","v":""},"",{"$f":"IF('MIS - Pharmacy'!A338=\"\",\"\",('MIS - Pharmacy'!AF338+'MIS - Pharmacy'!AH338 +'MIS - Pharmacy'!AG338))","v":""},{"$f":"IF(ISBLANK('MIS - Pharmacy'!AI338),\"\",'MIS - Pharmacy'!AI338)","v":""},"","","",{"$f":"IF(ISBLANK('MIS - Pharmacy'!V338),\"\",'MIS - Pharmacy'!V338)","v":""},"","","",{"$f":"IF(ISBLANK('MIS - Pharmacy'!J338),\"\",'MIS - Pharmacy'!J338)","v":""},{"$f":"IF(ISBLANK('MIS - Pharmacy'!AY338),\"\",'MIS - Pharmacy'!AY338)","v":""},{"$f":"IF(ISBLANK('MIS - Pharmacy'!BH338),\"\",'MIS - Pharmacy'!BH338)","v":""},"",""]
[{"$f":"IF(ISBLANK('MIS - Pharmacy'!A339), \"\",'MIS - Pharmacy'!A339)","v":""},{"$f":"IF(ISBLANK('MIS - Pharmacy'!B339),\"\",('MIS - Pharmacy'!B339&\"(\"&'MIS - Pharmacy'!D339&\")\"))","v":""},{"$f":"IF(ISBLANK('MIS - Pharmacy'!BI339), \"\", 'MIS - Pharmacy'!BI339)","v":""},{"$f":"IF(ISBLANK('MIS - Pharmacy'!U339), \"\", 'MIS - Pharmacy'!U339)","v":""},"","","","","","","",{"$f":"IF(ISBLANK('MIS - Pharmacy'!AC339),\"\",'MIS - Pharmacy'!AC339)","v":""},"",{"$f":"IF(ISBLANK('MIS - Pharmacy'!AD339),\"\",'MIS - Pharmacy'!AD339)","v":""},"","",{"$f":"IF('MIS - Pharmacy'!A339=\"\",\"\",SUM('MIS - Pharmacy'!K339+'MIS - Pharmacy'!L339))","v":""},"",{"$f":"IF('MIS - Pharmacy'!A339=\"\",\"\",('MIS - Pharmacy'!AF339+'MIS - Pharmacy'!AH339 +'MIS - Pharmacy'!AG339))","v":""},{"$f":"IF(ISBLANK('MIS - Pharmacy'!AI339),\"\",'MIS - Pharmacy'!AI339)","v":""},"","","",{"$f":"IF(ISBLANK('MIS - Pharmacy'!V339),\"\",'MIS - Pharmacy'!V339)","v":""},"","","",{"$f":"IF(ISBLANK('MIS - Pharmacy'!J339),\"\",'MIS - Pharmacy'!J339)","v":""},{"$f":"IF(ISBLANK('MIS - Pharmacy'!AY339),\"\",'MIS - Pharmacy'!AY339)","v":""},{"$f":"IF(ISBLANK('MIS - Pharmacy'!BH339),\"\",'MIS - Pharmacy'!BH339)","v":""},"",""]
[{"$f":"IF(ISBLANK('MIS - Pharmacy'!A340), \"\",'MIS - Pharmacy'!A340)","v":""},{"$f":"IF(ISBLANK('MIS - Pharmacy'!B340),\"\",('MIS - Pharmacy'!B340&\"(\"&'MIS - Pharmacy'!D340&\")\"))","v":""},{"$f":"IF(ISBLANK('MIS - Pharmacy'!BI340), \"\", 'MIS - Pharmacy'!BI340)","v":""},{"$f":"IF(ISBLANK('MIS - Pharmacy'!U340), \"\", 'MIS - Pharmacy'!U340)","v":""},"","","","","","","",{"$f":"IF(ISBLANK('MIS - Pharmacy'!AC340),\"\",'MIS - Pharmacy'!AC340)","v":""},"",{"$f":"IF(ISBLANK('MIS - Pharmacy'!AD340),\"\",'MIS - Pharmacy'!AD340)","v":""},"","",{"$f":"IF('MIS - Pharmacy'!A340=\"\",\"\",SUM('MIS - Pharmacy'!K340+'MIS - Pharmacy'!L340))","v":""},"",{"$f":"IF('MIS - Pharmacy'!A340=\"\",\"\",('MIS - Pharmacy'!AF340+'MIS - Pharmacy'!AH340 +'MIS - Pharmacy'!AG340))","v":""},{"$f":"IF(ISBLANK('MIS - Pharmacy'!AI340),\"\",'MIS - Pharmacy'!AI340)","v":""},"","","",{"$f":"IF(ISBLANK('MIS - Pharmacy'!V340),\"\",'MIS - Pharmacy'!V340)","v":""},"","","",{"$f":"IF(ISBLANK('MIS - Pharmacy'!J340),\"\",'MIS - Pharmacy'!J340)","v":""},{"$f":"IF(ISBLANK('MIS - Pharmacy'!AY340),\"\",'MIS - Pharmacy'!AY340)","v":""},{"$f":"IF(ISBLANK('MIS - Pharmacy'!BH340),\"\",'MIS - Pharmacy'!BH340)","v":""},"",""]
[{"$f":"IF(ISBLANK('MIS - Pharmacy'!A341), \"\",'MIS - Pharmacy'!A341)","v":""},{"$f":"IF(ISBLANK('MIS - Pharmacy'!B341),\"\",('MIS - Pharmacy'!B341&\"(\"&'MIS - Pharmacy'!D341&\")\"))","v":""},{"$f":"IF(ISBLANK('MIS - Pharmacy'!BI341), \"\", 'MIS - Pharmacy'!BI341)","v":""},{"$f":"IF(ISBLANK('MIS - Pharmacy'!U341), \"\", 'MIS - Pharmacy'!U341)","v":""},"","","","","","","",{"$f":"IF(ISBLANK('MIS - Pharmacy'!AC341),\"\",'MIS - Pharmacy'!AC341)","v":""},"",{"$f":"IF(ISBLANK('MIS - Pharmacy'!AD341),\"\",'MIS - Pharmacy'!AD341)","v":""},"","",{"$f":"IF('MIS - Pharmacy'!A341=\"\",\"\",SUM('MIS - Pharmacy'!K341+'MIS - Pharmacy'!L341))","v":""},"",{"$f":"IF('MIS - Pharmacy'!A341=\"\",\"\",('MIS - Pharmacy'!AF341+'MIS - Pharmacy'!AH341 +'MIS - Pharmacy'!AG341))","v":""},{"$f":"IF(ISBLANK('MIS - Pharmacy'!AI341),\"\",'MIS - Pharmacy'!AI341)","v":""},"","","",{"$f":"IF(ISBLANK('MIS - Pharmacy'!V341),\"\",'MIS - Pharmacy'!V341)","v":""},"","","",{"$f":"IF(ISBLANK('MIS - Pharmacy'!J341),\"\",'MIS - Pharmacy'!J341)","v":""},{"$f":"IF(ISBLANK('MIS - Pharmacy'!AY341),\"\",'MIS - Pharmacy'!AY341)","v":""},{"$f":"IF(ISBLANK('MIS - Pharmacy'!BH341),\"\",'MIS - Pharmacy'!BH341)","v":""},"",""]
[{"$f":"IF(ISBLANK('MIS - Pharmacy'!A342), \"\",'MIS - Pharmacy'!A342)","v":""},{"$f":"IF(ISBLANK('MIS - Pharmacy'!B342),\"\",('MIS - Pharmacy'!B342&\"(\"&'MIS - Pharmacy'!D342&\")\"))","v":""},{"$f":"IF(ISBLANK('MIS - Pharmacy'!BI342), \"\", 'MIS - Pharmacy'!BI342)","v":""},{"$f":"IF(ISBLANK('MIS - Pharmacy'!U342), \"\", 'MIS - Pharmacy'!U342)","v":""},"","","","","","","",{"$f":"IF(ISBLANK('MIS - Pharmacy'!AC342),\"\",'MIS - Pharmacy'!AC342)","v":""},"",{"$f":"IF(ISBLANK('MIS - Pharmacy'!AD342),\"\",'MIS - Pharmacy'!AD342)","v":""},"","",{"$f":"IF('MIS - Pharmacy'!A342=\"\",\"\",SUM('MIS - Pharmacy'!K342+'MIS - Pharmacy'!L342))","v":""},"",{"$f":"IF('MIS - Pharmacy'!A342=\"\",\"\",('MIS - Pharmacy'!AF342+'MIS - Pharmacy'!AH342 +'MIS - Pharmacy'!AG342))","v":""},{"$f":"IF(ISBLANK('MIS - Pharmacy'!AI342),\"\",'MIS - Pharmacy'!AI342)","v":""},"","","",{"$f":"IF(ISBLANK('MIS - Pharmacy'!V342),\"\",'MIS - Pharmacy'!V342)","v":""},"","","",{"$f":"IF(ISBLANK('MIS - Pharmacy'!J342),\"\",'MIS - Pharmacy'!J342)","v":""},{"$f":"IF(ISBLANK('MIS - Pharmacy'!AY342),\"\",'MIS - Pharmacy'!AY342)","v":""},{"$f":"IF(ISBLANK('MIS - Pharmacy'!BH342),\"\",'MIS - Pharmacy'!BH342)","v":""},"",""]
[{"$f":"IF(ISBLANK('MIS - Pharmacy'!A343), \"\",'MIS - Pharmacy'!A343)","v":""},{"$f":"IF(ISBLANK('MIS - Pharmacy'!B343),\"\",('MIS - Pharmacy'!B343&\"(\"&'MIS - Pharmacy'!D343&\")\"))","v":""},{"$f":"IF(ISBLANK('MIS - Pharmacy'!BI343), \"\", 'MIS - Pharmacy'!BI343)","v":""},{"$f":"IF(ISBLANK('MIS - Pharmacy'!U343), \"\", 'MIS - Pharmacy'!U343)","v":""},"","","","","","","",{"$f":"IF(ISBLANK('MIS - Pharmacy'!AC343),\"\",'MIS - Pharmacy'!AC343)","v":""},"",{"$f":"IF(ISBLANK('MIS - Pharmacy'!AD343),\"\",'MIS - Pharmacy'!AD343)","v":""},"","",{"$f":"IF('MIS - Pharmacy'!A343=\"\",\"\",SUM('MIS - Pharmacy'!K343+'MIS - Pharmacy'!L343))","v":""},"",{"$f":"IF('MIS - Pharmacy'!A343=\"\",\"\",('MIS - Pharmacy'!AF343+'MIS - Pharmacy'!AH343 +'MIS - Pharmacy'!AG343))","v":""},{"$f":"IF(ISBLANK('MIS - Pharmacy'!AI343),\"\",'MIS - Pharmacy'!AI343)","v":""},"","","",{"$f":"IF(ISBLANK('MIS - Pharmacy'!V343),\"\",'MIS - Pharmacy'!V343)","v":""},"","","",{"$f":"IF(ISBLANK('MIS - Pharmacy'!J343),\"\",'MIS - Pharmacy'!J343)","v":""},{"$f":"IF(ISBLANK('MIS - Pharmacy'!AY343),\"\",'MIS - Pharmacy'!AY343)","v":""},{"$f":"IF(ISBLANK('MIS - Pharmacy'!BH343),\"\",'MIS - Pharmacy'!BH343)","v":""},"",""]
[{"$f":"IF(ISBLANK('MIS - Pharmacy'!A344), \"\",'MIS - Pharmacy'!A344)","v":""},{"$f":"IF(ISBLANK('MIS - Pharmacy'!B344),\"\",('MIS - Pharmacy'!B344&\"(\"&'MIS - Pharmacy'!D344&\")\"))","v":""},{"$f":"IF(ISBLANK('MIS - Pharmacy'!BI344), \"\", 'MIS - Pharmacy'!BI344)","v":""},{"$f":"IF(ISBLANK('MIS - Pharmacy'!U344), \"\", 'MIS - Pharmacy'!U344)","v":""},"","","","","","","",{"$f":"IF(ISBLANK('MIS - Pharmacy'!AC344),\"\",'MIS - Pharmacy'!AC344)","v":""},"",{"$f":"IF(ISBLANK('MIS - Pharmacy'!AD344),\"\",'MIS - Pharmacy'!AD344)","v":""},"","",{"$f":"IF('MIS - Pharmacy'!A344=\"\",\"\",SUM('MIS - Pharmacy'!K344+'MIS - Pharmacy'!L344))","v":""},"",{"$f":"IF('MIS - Pharmacy'!A344=\"\",\"\",('MIS - Pharmacy'!AF344+'MIS - Pharmacy'!AH344 +'MIS - Pharmacy'!AG344))","v":""},{"$f":"IF(ISBLANK('MIS - Pharmacy'!AI344),\"\",'MIS - Pharmacy'!AI344)","v":""},"","","",{"$f":"IF(ISBLANK('MIS - Pharmacy'!V344),\"\",'MIS - Pharmacy'!V344)","v":""},"","","",{"$f":"IF(ISBLANK('MIS - Pharmacy'!J344),\"\",'MIS - Pharmacy'!J344)","v":""},{"$f":"IF(ISBLANK('MIS - Pharmacy'!AY344),\"\",'MIS - Pharmacy'!AY344)","v":""},{"$f":"IF(ISBLANK('MIS - Pharmacy'!BH344),\"\",'MIS - Pharmacy'!BH344)","v":""},"",""]
[{"$f":"IF(ISBLANK('MIS - Pharmacy'!A345), \"\",'MIS - Pharmacy'!A345)","v":""},{"$f":"IF(ISBLANK('MIS - Pharmacy'!B345),\"\",('MIS - Pharmacy'!B345&\"(\"&'MIS - Pharmacy'!D345&\")\"))","v":""},{"$f":"IF(ISBLANK('MIS - Pharmacy'!BI345), \"\", 'MIS - Pharmacy'!BI345)","v":""},{"$f":"IF(ISBLANK('MIS - Pharmacy'!U345), \"\", 'MIS - Pharmacy'!U345)","v":""},"","","","","","","",{"$f":"IF(ISBLANK('MIS - Pharmacy'!AC345),\"\",'MIS - Pharmacy'!AC345)","v":""},"",{"$f":"IF(ISBLANK('MIS - Pharmacy'!AD345),\"\",'MIS - Pharmacy'!AD345)","v":""},"","",{"$f":"IF('MIS - Pharmacy'!A345=\"\",\"\",SUM('MIS - Pharmacy'!K345+'MIS - Pharmacy'!L345))","v":""},"",{"$f":"IF('MIS - Pharmacy'!A345=\"\",\"\",('MIS - Pharmacy'!AF345+'MIS - Pharmacy'!AH345 +'MIS - Pharmacy'!AG345))","v":""},{"$f":"IF(ISBLANK('MIS - Pharmacy'!AI345),\"\",'MIS - Pharmacy'!AI345)","v":""},"","","",{"$f":"IF(ISBLANK('MIS - Pharmacy'!V345),\"\",'MIS - Pharmacy'!V345)","v":""},"","","",{"$f":"IF(ISBLANK('MIS - Pharmacy'!J345),\"\",'MIS - Pharmacy'!J345)","v":""},{"$f":"IF(ISBLANK('MIS - Pharmacy'!AY345),\"\",'MIS - Pharmacy'!AY345)","v":""},{"$f":"IF(ISBLANK('MIS - Pharmacy'!BH345),\"\",'MIS - Pharmacy'!BH345)","v":""},"",""]
[{"$f":"IF(ISBLANK('MIS - Pharmacy'!A346), \"\",'MIS - Pharmacy'!A346)","v":""},{"$f":"IF(ISBLANK('MIS - Pharmacy'!B346),\"\",('MIS - Pharmacy'!B346&\"(\"&'MIS - Pharmacy'!D346&\")\"))","v":""},{"$f":"IF(ISBLANK('MIS - Pharmacy'!BI346), \"\", 'MIS - Pharmacy'!BI346)","v":""},{"$f":"IF(ISBLANK('MIS - Pharmacy'!U346), \"\", 'MIS - Pharmacy'!U346)","v":""},"","","","","","","",{"$f":"IF(ISBLANK('MIS - Pharmacy'!AC346),\"\",'MIS - Pharmacy'!AC346)","v":""},"",{"$f":"IF(ISBLANK('MIS - Pharmacy'!AD346),\"\",'MIS - Pharmacy'!AD346)","v":""},"","",{"$f":"IF('MIS - Pharmacy'!A346=\"\",\"\",SUM('MIS - Pharmacy'!K346+'MIS - Pharmacy'!L346))","v":""},"",{"$f":"IF('MIS - Pharmacy'!A346=\"\",\"\",('MIS - Pharmacy'!AF346+'MIS - Pharmacy'!AH346 +'MIS - Pharmacy'!AG346))","v":""},{"$f":"IF(ISBLANK('MIS - Pharmacy'!AI346),\"\",'MIS - Pharmacy'!AI346)","v":""},"","","",{"$f":"IF(ISBLANK('MIS - Pharmacy'!V346),\"\",'MIS - Pharmacy'!V346)","v":""},"","","",{"$f":"IF(ISBLANK('MIS - Pharmacy'!J346),\"\",'MIS - Pharmacy'!J346)","v":""},{"$f":"IF(ISBLANK('MIS - Pharmacy'!AY346),\"\",'MIS - Pharmacy'!AY346)","v":""},{"$f":"IF(ISBLANK('MIS - Pharmacy'!BH346),\"\",'MIS - Pharmacy'!BH346)","v":""},"",""]
[{"$f":"IF(ISBLANK('MIS - Pharmacy'!A347), \"\",'MIS - Pharmacy'!A347)","v":""},{"$f":"IF(ISBLANK('MIS - Pharmacy'!B347),\"\",('MIS - Pharmacy'!B347&\"(\"&'MIS - Pharmacy'!D347&\")\"))","v":""},{"$f":"IF(ISBLANK('MIS - Pharmacy'!BI347), \"\", 'MIS - Pharmacy'!BI347)","v":""},{"$f":"IF(ISBLANK('MIS - Pharmacy'!U347), \"\", 'MIS - Pharmacy'!U347)","v":""},"","","","","","","",{"$f":"IF(ISBLANK('MIS - Pharmacy'!AC347),\"\",'MIS - Pharmacy'!AC347)","v":""},"",{"$f":"IF(ISBLANK('MIS - Pharmacy'!AD347),\"\",'MIS - Pharmacy'!AD347)","v":""},"","",{"$f":"IF('MIS - Pharmacy'!A347=\"\",\"\",SUM('MIS - Pharmacy'!K347+'MIS - Pharmacy'!L347))","v":""},"",{"$f":"IF('MIS - Pharmacy'!A347=\"\",\"\",('MIS - Pharmacy'!AF347+'MIS - Pharmacy'!AH347 +'MIS - Pharmacy'!AG347))","v":""},{"$f":"IF(ISBLANK('MIS - Pharmacy'!AI347),\"\",'MIS - Pharmacy'!AI347)","v":""},"","","",{"$f":"IF(ISBLANK('MIS - Pharmacy'!V347),\"\",'MIS - Pharmacy'!V347)","v":""},"","","",{"$f":"IF(ISBLANK('MIS - Pharmacy'!J347),\"\",'MIS - Pharmacy'!J347)","v":""},{"$f":"IF(ISBLANK('MIS - Pharmacy'!AY347),\"\",'MIS - Pharmacy'!AY347)","v":""},{"$f":"IF(ISBLANK('MIS - Pharmacy'!BH347),\"\",'MIS - Pharmacy'!BH347)","v":""},"",""]
[{"$f":"IF(ISBLANK('MIS - Pharmacy'!A348), \"\",'MIS - Pharmacy'!A348)","v":""},{"$f":"IF(ISBLANK('MIS - Pharmacy'!B348),\"\",('MIS - Pharmacy'!B348&\"(\"&'MIS - Pharmacy'!D348&\")\"))","v":""},{"$f":"IF(ISBLANK('MIS - Pharmacy'!BI348), \"\", 'MIS - Pharmacy'!BI348)","v":""},{"$f":"IF(ISBLANK('MIS - Pharmacy'!U348), \"\", 'MIS - Pharmacy'!U348)","v":""},"","","","","","","",{"$f":"IF(ISBLANK('MIS - Pharmacy'!AC348),\"\",'MIS - Pharmacy'!AC348)","v":""},"",{"$f":"IF(ISBLANK('MIS - Pharmacy'!AD348),\"\",'MIS - Pharmacy'!AD348)","v":""},"","",{"$f":"IF('MIS - Pharmacy'!A348=\"\",\"\",SUM('MIS - Pharmacy'!K348+'MIS - Pharmacy'!L348))","v":""},"",{"$f":"IF('MIS - Pharmacy'!A348=\"\",\"\",('MIS - Pharmacy'!AF348+'MIS - Pharmacy'!AH348 +'MIS - Pharmacy'!AG348))","v":""},{"$f":"IF(ISBLANK('MIS - Pharmacy'!AI348),\"\",'MIS - Pharmacy'!AI348)","v":""},"","","",{"$f":"IF(ISBLANK('MIS - Pharmacy'!V348),\"\",'MIS - Pharmacy'!V348)","v":""},"","","",{"$f":"IF(ISBLANK('MIS - Pharmacy'!J348),\"\",'MIS - Pharmacy'!J348)","v":""},{"$f":"IF(ISBLANK('MIS - Pharmacy'!AY348),\"\",'MIS - Pharmacy'!AY348)","v":""},{"$f":"IF(ISBLANK('MIS - Pharmacy'!BH348),\"\",'MIS - Pharmacy'!BH348)","v":""},"",""]
[{"$f":"IF(ISBLANK('MIS - Pharmacy'!A349), \"\",'MIS - Pharmacy'!A349)","v":""},{"$f":"IF(ISBLANK('MIS - Pharmacy'!B349),\"\",('MIS - Pharmacy'!B349&\"(\"&'MIS - Pharmacy'!D349&\")\"))","v":""},{"$f":"IF(ISBLANK('MIS - Pharmacy'!BI349), \"\", 'MIS - Pharmacy'!BI349)","v":""},{"$f":"IF(ISBLANK('MIS - Pharmacy'!U349), \"\", 'MIS - Pharmacy'!U349)","v":""},"","","","","","","",{"$f":"IF(ISBLANK('MIS - Pharmacy'!AC349),\"\",'MIS - Pharmacy'!AC349)","v":""},"",{"$f":"IF(ISBLANK('MIS - Pharmacy'!AD349),\"\",'MIS - Pharmacy'!AD349)","v":""},"","",{"$f":"IF('MIS - Pharmacy'!A349=\"\",\"\",SUM('MIS - Pharmacy'!K349+'MIS - Pharmacy'!L349))","v":""},"",{"$f":"IF('MIS - Pharmacy'!A349=\"\",\"\",('MIS - Pharmacy'!AF349+'MIS - Pharmacy'!AH349 +'MIS - Pharmacy'!AG349))","v":""},{"$f":"IF(ISBLANK('MIS - Pharmacy'!AI349),\"\",'MIS - Pharmacy'!AI349)","v":""},"","","",{"$f":"IF(ISBLANK('MIS - Pharmacy'!V349),\"\",'MIS - Pharmacy'!V349)","v":""},"","","",{"$f":"IF(ISBLANK('MIS - Pharmacy'!J349),\"\",'MIS - Pharmacy'!J349)","v":""},{"$f":"IF(ISBLANK('MIS - Pharmacy'!AY349),\"\",'MIS - Pharmacy'!AY349)","v":""},{"$f":"IF(ISBLANK('MIS - Pharmacy'!BH349),\"\",'MIS - Pharmacy'!BH349)","v":""},"",""]
[{"$f":"IF(ISBLANK('MIS - Pharmacy'!A350), \"\",'MIS - Pharmacy'!A350)","v":""},{"$f":"IF(ISBLANK('MIS - Pharmacy'!B350),\"\",('MIS - Pharmacy'!B350&\"(\"&'MIS - Pharmacy'!D350&\")\"))","v":""},{"$f":"IF(ISBLANK('MIS - Pharmacy'!BI350), \"\", 'MIS - Pharmacy'!BI350)","v":""},{"$f":"IF(ISBLANK('MIS - Pharmacy'!U350), \"\", 'MIS - Pharmacy'!U350)","v":""},"","","","","","","",{"$f":"IF(ISBLANK('MIS - Pharmacy'!AC350),\"\",'MIS - Pharmacy'!AC350)","v":""},"",{"$f":"IF(ISBLANK('MIS - Pharmacy'!AD350),\"\",'MIS - Pharmacy'!AD350)","v":""},"","",{"$f":"IF('MIS - Pharmacy'!A350=\"\",\"\",SUM('MIS - Pharmacy'!K350+'MIS - Pharmacy'!L350))","v":""},"",{"$f":"IF('MIS - Pharmacy'!A350=\"\",\"\",('MIS - Pharmacy'!AF350+'MIS - Pharmacy'!AH350 +'MIS - Pharmacy'!AG350))","v":""},{"$f":"IF(ISBLANK('MIS - Pharmacy'!AI350),\"\",'MIS - Pharmacy'!AI350)","v":""},"","","",{"$f":"IF(ISBLANK('MIS - Pharmacy'!V350),\"\",'MIS - Pharmacy'!V350)","v":""},"","","",{"$f":"IF(ISBLANK('MIS - Pharmacy'!J350),\"\",'MIS - Pharmacy'!J350)","v":""},{"$f":"IF(ISBLANK('MIS - Pharmacy'!AY350),\"\",'MIS - Pharmacy'!AY350)","v":""},{"$f":"IF(ISBLANK('MIS - Pharmacy'!BH350),\"\",'MIS - Pharmacy'!BH350)","v":""},"",""]
[{"$f":"IF(ISBLANK('MIS - Pharmacy'!A351), \"\",'MIS - Pharmacy'!A351)","v":""},{"$f":"IF(ISBLANK('MIS - Pharmacy'!B351),\"\",('MIS - Pharmacy'!B351&\"(\"&'MIS - Pharmacy'!D351&\")\"))","v":""},{"$f":"IF(ISBLANK('MIS - Pharmacy'!BI351), \"\", 'MIS - Pharmacy'!BI351)","v":""},{"$f":"IF(ISBLANK('MIS - Pharmacy'!U351), \"\", 'MIS - Pharmacy'!U351)","v":""},"","","","","","","",{"$f":"IF(ISBLANK('MIS - Pharmacy'!AC351),\"\",'MIS - Pharmacy'!AC351)","v":""},"",{"$f":"IF(ISBLANK('MIS - Pharmacy'!AD351),\"\",'MIS - Pharmacy'!AD351)","v":""},"","",{"$f":"IF('MIS - Pharmacy'!A351=\"\",\"\",SUM('MIS - Pharmacy'!K351+'MIS - Pharmacy'!L351))","v":""},"",{"$f":"IF('MIS - Pharmacy'!A351=\"\",\"\",('MIS - Pharmacy'!AF351+'MIS - Pharmacy'!AH351 +'MIS - Pharmacy'!AG351))","v":""},{"$f":"IF(ISBLANK('MIS - Pharmacy'!AI351),\"\",'MIS - Pharmacy'!AI351)","v":""},"","","",{"$f":"IF(ISBLANK('MIS - Pharmacy'!V351),\"\",'MIS - Pharmacy'!V351)","v":""},"","","",{"$f":"IF(ISBLANK('MIS - Pharmacy'!J351),\"\",'MIS - Pharmacy'!J351)","v":""},{"$f":"IF(ISBLANK('MIS - Pharmacy'!AY351),\"\",'MIS - Pharmacy'!AY351)","v":""},{"$f":"IF(ISBLANK('MIS - Pharmacy'!BH351),\"\",'MIS - Pharmacy'!BH351)","v":""},"",""]
[{"$f":"IF(ISBLANK('MIS - Pharmacy'!A352), \"\",'MIS - Pharmacy'!A352)","v":""},{"$f":"IF(ISBLANK('MIS - Pharmacy'!B352),\"\",('MIS - Pharmacy'!B352&\"(\"&'MIS - Pharmacy'!D352&\")\"))","v":""},{"$f":"IF(ISBLANK('MIS - Pharmacy'!BI352), \"\", 'MIS - Pharmacy'!BI352)","v":""},{"$f":"IF(ISBLANK('MIS - Pharmacy'!U352), \"\", 'MIS - Pharmacy'!U352)","v":""},"","","","","","","",{"$f":"IF(ISBLANK('MIS - Pharmacy'!AC352),\"\",'MIS - Pharmacy'!AC352)","v":""},"",{"$f":"IF(ISBLANK('MIS - Pharmacy'!AD352),\"\",'MIS - Pharmacy'!AD352)","v":""},"","",{"$f":"IF('MIS - Pharmacy'!A352=\"\",\"\",SUM('MIS - Pharmacy'!K352+'MIS - Pharmacy'!L352))","v":""},"",{"$f":"IF('MIS - Pharmacy'!A352=\"\",\"\",('MIS - Pharmacy'!AF352+'MIS - Pharmacy'!AH352 +'MIS - Pharmacy'!AG352))","v":""},{"$f":"IF(ISBLANK('MIS - Pharmacy'!AI352),\"\",'MIS - Pharmacy'!AI352)","v":""},"","","",{"$f":"IF(ISBLANK('MIS - Pharmacy'!V352),\"\",'MIS - Pharmacy'!V352)","v":""},"","","",{"$f":"IF(ISBLANK('MIS - Pharmacy'!J352),\"\",'MIS - Pharmacy'!J352)","v":""},{"$f":"IF(ISBLANK('MIS - Pharmacy'!AY352),\"\",'MIS - Pharmacy'!AY352)","v":""},{"$f":"IF(ISBLANK('MIS - Pharmacy'!BH352),\"\",'MIS - Pharmacy'!BH352)","v":""},"",""]
[{"$f":"IF(ISBLANK('MIS - Pharmacy'!A353), \"\",'MIS - Pharmacy'!A353)","v":""},{"$f":"IF(ISBLANK('MIS - Pharmacy'!B353),\"\",('MIS - Pharmacy'!B353&\"(\"&'MIS - Pharmacy'!D353&\")\"))","v":""},{"$f":"IF(ISBLANK('MIS - Pharmacy'!BI353), \"\", 'MIS - Pharmacy'!BI353)","v":""},{"$f":"IF(ISBLANK('MIS - Pharmacy'!U353), \"\", 'MIS - Pharmacy'!U353)","v":""},"","","","","","","",{"$f":"IF(ISBLANK('MIS - Pharmacy'!AC353),\"\",'MIS - Pharmacy'!AC353)","v":""},"",{"$f":"IF(ISBLANK('MIS - Pharmacy'!AD353),\"\",'MIS - Pharmacy'!AD353)","v":""},"","",{"$f":"IF('MIS - Pharmacy'!A353=\"\",\"\",SUM('MIS - Pharmacy'!K353+'MIS - Pharmacy'!L353))","v":""},"",{"$f":"IF('MIS - Pharmacy'!A353=\"\",\"\",('MIS - Pharmacy'!AF353+'MIS - Pharmacy'!AH353 +'MIS - Pharmacy'!AG353))","v":""},{"$f":"IF(ISBLANK('MIS - Pharmacy'!AI353),\"\",'MIS - Pharmacy'!AI353)","v":""},"","","",{"$f":"IF(ISBLANK('MIS - Pharmacy'!V353),\"\",'MIS - Pharmacy'!V353)","v":""},"","","",{"$f":"IF(ISBLANK('MIS - Pharmacy'!J353),\"\",'MIS - Pharmacy'!J353)","v":""},{"$f":"IF(ISBLANK('MIS - Pharmacy'!AY353),\"\",'MIS - Pharmacy'!AY353)","v":""},{"$f":"IF(ISBLANK('MIS - Pharmacy'!BH353),\"\",'MIS - Pharmacy'!BH353)","v":""},"",""]
[{"$f":"IF(ISBLANK('MIS - Pharmacy'!A354), \"\",'MIS - Pharmacy'!A354)","v":""},{"$f":"IF(ISBLANK('MIS - Pharmacy'!B354),\"\",('MIS - Pharmacy'!B354&\"(\"&'MIS - Pharmacy'!D354&\")\"))","v":""},{"$f":"IF(ISBLANK('MIS - Pharmacy'!BI354), \"\", 'MIS - Pharmacy'!BI354)","v":""},{"$f":"IF(ISBLANK('MIS - Pharmacy'!U354), \"\", 'MIS - Pharmacy'!U354)","v":""},"","","","","","","",{"$f":"IF(ISBLANK('MIS - Pharmacy'!AC354),\"\",'MIS - Pharmacy'!AC354)","v":""},"",{"$f":"IF(ISBLANK('MIS - Pharmacy'!AD354),\"\",'MIS - Pharmacy'!AD354)","v":""},"","",{"$f":"IF('MIS - Pharmacy'!A354=\"\",\"\",SUM('MIS - Pharmacy'!K354+'MIS - Pharmacy'!L354))","v":""},"",{"$f":"IF('MIS - Pharmacy'!A354=\"\",\"\",('MIS - Pharmacy'!AF354+'MIS - Pharmacy'!AH354 +'MIS - Pharmacy'!AG354))","v":""},{"$f":"IF(ISBLANK('MIS - Pharmacy'!AI354),\"\",'MIS - Pharmacy'!AI354)","v":""},"","","",{"$f":"IF(ISBLANK('MIS - Pharmacy'!V354),\"\",'MIS - Pharmacy'!V354)","v":""},"","","",{"$f":"IF(ISBLANK('MIS - Pharmacy'!J354),\"\",'MIS - Pharmacy'!J354)","v":""},{"$f":"IF(ISBLANK('MIS - Pharmacy'!AY354),\"\",'MIS - Pharmacy'!AY354)","v":""},{"$f":"IF(ISBLANK('MIS - Pharmacy'!BH354),\"\",'MIS - Pharmacy'!BH354)","v":""},"",""]
[{"$f":"IF(ISBLANK('MIS - Pharmacy'!A355), \"\",'MIS - Pharmacy'!A355)","v":""},{"$f":"IF(ISBLANK('MIS - Pharmacy'!B355),\"\",('MIS - Pharmacy'!B355&\"(\"&'MIS - Pharmacy'!D355&\")\"))","v":""},{"$f":"IF(ISBLANK('MIS - Pharmacy'!BI355), \"\", 'MIS - Pharmacy'!BI355)","v":""},{"$f":"IF(ISBLANK('MIS - Pharmacy'!U355), \"\", 'MIS - Pharmacy'!U355)","v":""},"","","","","","","",{"$f":"IF(ISBLANK('MIS - Pharmacy'!AC355),\"\",'MIS - Pharmacy'!AC355)","v":""},"",{"$f":"IF(ISBLANK('MIS - Pharmacy'!AD355),\"\",'MIS - Pharmacy'!AD355)","v":""},"","",{"$f":"IF('MIS - Pharmacy'!A355=\"\",\"\",SUM('MIS - Pharmacy'!K355+'MIS - Pharmacy'!L355))","v":""},"",{"$f":"IF('MIS - Pharmacy'!A355=\"\",\"\",('MIS - Pharmacy'!AF355+'MIS - Pharmacy'!AH355 +'MIS - Pharmacy'!AG355))","v":""},{"$f":"IF(ISBLANK('MIS - Pharmacy'!AI355),\"\",'MIS - Pharmacy'!AI355)","v":""},"","","",{"$f":"IF(ISBLANK('MIS - Pharmacy'!V355),\"\",'MIS - Pharmacy'!V355)","v":""},"","","",{"$f":"IF(ISBLANK('MIS - Pharmacy'!J355),\"\",'MIS - Pharmacy'!J355)","v":""},{"$f":"IF(ISBLANK('MIS - Pharmacy'!AY355),\"\",'MIS - Pharmacy'!AY355)","v":""},{"$f":"IF(ISBLANK('MIS - Pharmacy'!BH355),\"\",'MIS - Pharmacy'!BH355)","v":""},"",""]
[{"$f":"IF(ISBLANK('MIS - Pharmacy'!A356), \"\",'MIS - Pharmacy'!A356)","v":""},{"$f":"IF(ISBLANK('MIS - Pharmacy'!B356),\"\",('MIS - Pharmacy'!B356&\"(\"&'MIS - Pharmacy'!D356&\")\"))","v":""},{"$f":"IF(ISBLANK('MIS - Pharmacy'!BI356), \"\", 'MIS - Pharmacy'!BI356)","v":""},{"$f":"IF(ISBLANK('MIS - Pharmacy'!U356), \"\", 'MIS - Pharmacy'!U356)","v":""},"","","","","","","",{"$f":"IF(ISBLANK('MIS - Pharmacy'!AC356),\"\",'MIS - Pharmacy'!AC356)","v":""},"",{"$f":"IF(ISBLANK('MIS - Pharmacy'!AD356),\"\",'MIS - Pharmacy'!AD356)","v":""},"","",{"$f":"IF('MIS - Pharmacy'!A356=\"\",\"\",SUM('MIS - Pharmacy'!K356+'MIS - Pharmacy'!L356))","v":""},"",{"$f":"IF('MIS - Pharmacy'!A356=\"\",\"\",('MIS - Pharmacy'!AF356+'MIS - Pharmacy'!AH356 +'MIS - Pharmacy'!AG356))","v":""},{"$f":"IF(ISBLANK('MIS - Pharmacy'!AI356),\"\",'MIS - Pharmacy'!AI356)","v":""},"","","",{"$f":"IF(ISBLANK('MIS - Pharmacy'!V356),\"\",'MIS - Pharmacy'!V356)","v":""},"","","",{"$f":"IF(ISBLANK('MIS - Pharmacy'!J356),\"\",'MIS - Pharmacy'!J356)","v":""},{"$f":"IF(ISBLANK('MIS - Pharmacy'!AY356),\"\",'MIS - Pharmacy'!AY356)","v":""},{"$f":"IF(ISBLANK('MIS - Pharmacy'!BH356),\"\",'MIS - Pharmacy'!BH356)","v":""},"",""]
[{"$f":"IF(ISBLANK('MIS - Pharmacy'!A357), \"\",'MIS - Pharmacy'!A357)","v":""},{"$f":"IF(ISBLANK('MIS - Pharmacy'!B357),\"\",('MIS - Pharmacy'!B357&\"(\"&'MIS - Pharmacy'!D357&\")\"))","v":""},{"$f":"IF(ISBLANK('MIS - Pharmacy'!BI357), \"\", 'MIS - Pharmacy'!BI357)","v":""},{"$f":"IF(ISBLANK('MIS - Pharmacy'!U357), \"\", 'MIS - Pharmacy'!U357)","v":""},"","","","","","","",{"$f":"IF(ISBLANK('MIS - Pharmacy'!AC357),\"\",'MIS - Pharmacy'!AC357)","v":""},"",{"$f":"IF(ISBLANK('MIS - Pharmacy'!AD357),\"\",'MIS - Pharmacy'!AD357)","v":""},"","",{"$f":"IF('MIS - Pharmacy'!A357=\"\",\"\",SUM('MIS - Pharmacy'!K357+'MIS - Pharmacy'!L357))","v":""},"",{"$f":"IF('MIS - Pharmacy'!A357=\"\",\"\",('MIS - Pharmacy'!AF357+'MIS - Pharmacy'!AH357 +'MIS - Pharmacy'!AG357))","v":""},{"$f":"IF(ISBLANK('MIS - Pharmacy'!AI357),\"\",'MIS - Pharmacy'!AI357)","v":""},"","","",{"$f":"IF(ISBLANK('MIS - Pharmacy'!V357),\"\",'MIS - Pharmacy'!V357)","v":""},"","","",{"$f":"IF(ISBLANK('MIS - Pharmacy'!J357),\"\",'MIS - Pharmacy'!J357)","v":""},{"$f":"IF(ISBLANK('MIS - Pharmacy'!AY357),\"\",'MIS - Pharmacy'!AY357)","v":""},{"$f":"IF(ISBLANK('MIS - Pharmacy'!BH357),\"\",'MIS - Pharmacy'!BH357)","v":""},"",""]
[{"$f":"IF(ISBLANK('MIS - Pharmacy'!A358), \"\",'MIS - Pharmacy'!A358)","v":""},{"$f":"IF(ISBLANK('MIS - Pharmacy'!B358),\"\",('MIS - Pharmacy'!B358&\"(\"&'MIS - Pharmacy'!D358&\")\"))","v":""},{"$f":"IF(ISBLANK('MIS - Pharmacy'!BI358), \"\", 'MIS - Pharmacy'!BI358)","v":""},{"$f":"IF(ISBLANK('MIS - Pharmacy'!U358), \"\", 'MIS - Pharmacy'!U358)","v":""},"","","","","","","",{"$f":"IF(ISBLANK('MIS - Pharmacy'!AC358),\"\",'MIS - Pharmacy'!AC358)","v":""},"",{"$f":"IF(ISBLANK('MIS - Pharmacy'!AD358),\"\",'MIS - Pharmacy'!AD358)","v":""},"","",{"$f":"IF('MIS - Pharmacy'!A358=\"\",\"\",SUM('MIS - Pharmacy'!K358+'MIS - Pharmacy'!L358))","v":""},"",{"$f":"IF('MIS - Pharmacy'!A358=\"\",\"\",('MIS - Pharmacy'!AF358+'MIS - Pharmacy'!AH358 +'MIS - Pharmacy'!AG358))","v":""},{"$f":"IF(ISBLANK('MIS - Pharmacy'!AI358),\"\",'MIS - Pharmacy'!AI358)","v":""},"","","",{"$f":"IF(ISBLANK('MIS - Pharmacy'!V358),\"\",'MIS - Pharmacy'!V358)","v":""},"","","",{"$f":"IF(ISBLANK('MIS - Pharmacy'!J358),\"\",'MIS - Pharmacy'!J358)","v":""},{"$f":"IF(ISBLANK('MIS - Pharmacy'!AY358),\"\",'MIS - Pharmacy'!AY358)","v":""},{"$f":"IF(ISBLANK('MIS - Pharmacy'!BH358),\"\",'MIS - Pharmacy'!BH358)","v":""},"",""]
[{"$f":"IF(ISBLANK('MIS - Pharmacy'!A359), \"\",'MIS - Pharmacy'!A359)","v":""},{"$f":"IF(ISBLANK('MIS - Pharmacy'!B359),\"\",('MIS - Pharmacy'!B359&\"(\"&'MIS - Pharmacy'!D359&\")\"))","v":""},{"$f":"IF(ISBLANK('MIS - Pharmacy'!BI359), \"\", 'MIS - Pharmacy'!BI359)","v":""},{"$f":"IF(ISBLANK('MIS - Pharmacy'!U359), \"\", 'MIS - Pharmacy'!U359)","v":""},"","","","","","","",{"$f":"IF(ISBLANK('MIS - Pharmacy'!AC359),\"\",'MIS - Pharmacy'!AC359)","v":""},"",{"$f":"IF(ISBLANK('MIS - Pharmacy'!AD359),\"\",'MIS - Pharmacy'!AD359)","v":""},"","",{"$f":"IF('MIS - Pharmacy'!A359=\"\",\"\",SUM('MIS - Pharmacy'!K359+'MIS - Pharmacy'!L359))","v":""},"",{"$f":"IF('MIS - Pharmacy'!A359=\"\",\"\",('MIS - Pharmacy'!AF359+'MIS - Pharmacy'!AH359 +'MIS - Pharmacy'!AG359))","v":""},{"$f":"IF(ISBLANK('MIS - Pharmacy'!AI359),\"\",'MIS - Pharmacy'!AI359)","v":""},"","","",{"$f":"IF(ISBLANK('MIS - Pharmacy'!V359),\"\",'MIS - Pharmacy'!V359)","v":""},"","","",{"$f":"IF(ISBLANK('MIS - Pharmacy'!J359),\"\",'MIS - Pharmacy'!J359)","v":""},{"$f":"IF(ISBLANK('MIS - Pharmacy'!AY359),\"\",'MIS - Pharmacy'!AY359)","v":""},{"$f":"IF(ISBLANK('MIS - Pharmacy'!BH359),\"\",'MIS - Pharmacy'!BH359)","v":""},"",""]
[{"$f":"IF(ISBLANK('MIS - Pharmacy'!A360), \"\",'MIS - Pharmacy'!A360)","v":""},{"$f":"IF(ISBLANK('MIS - Pharmacy'!B360),\"\",('MIS - Pharmacy'!B360&\"(\"&'MIS - Pharmacy'!D360&\")\"))","v":""},{"$f":"IF(ISBLANK('MIS - Pharmacy'!BI360), \"\", 'MIS - Pharmacy'!BI360)","v":""},{"$f":"IF(ISBLANK('MIS - Pharmacy'!U360), \"\", 'MIS - Pharmacy'!U360)","v":""},"","","","","","","",{"$f":"IF(ISBLANK('MIS - Pharmacy'!AC360),\"\",'MIS - Pharmacy'!AC360)","v":""},"",{"$f":"IF(ISBLANK('MIS - Pharmacy'!AD360),\"\",'MIS - Pharmacy'!AD360)","v":""},"","",{"$f":"IF('MIS - Pharmacy'!A360=\"\",\"\",SUM('MIS - Pharmacy'!K360+'MIS - Pharmacy'!L360))","v":""},"",{"$f":"IF('MIS - Pharmacy'!A360=\"\",\"\",('MIS - Pharmacy'!AF360+'MIS - Pharmacy'!AH360 +'MIS - Pharmacy'!AG360))","v":""},{"$f":"IF(ISBLANK('MIS - Pharmacy'!AI360),\"\",'MIS - Pharmacy'!AI360)","v":""},"","","",{"$f":"IF(ISBLANK('MIS - Pharmacy'!V360),\"\",'MIS - Pharmacy'!V360)","v":""},"","","",{"$f":"IF(ISBLANK('MIS - Pharmacy'!J360),\"\",'MIS - Pharmacy'!J360)","v":""},{"$f":"IF(ISBLANK('MIS - Pharmacy'!AY360),\"\",'MIS - Pharmacy'!AY360)","v":""},{"$f":"IF(ISBLANK('MIS - Pharmacy'!BH360),\"\",'MIS - Pharmacy'!BH360)","v":""},"",""]
[{"$f":"IF(ISBLANK('MIS - Pharmacy'!A361), \"\",'MIS - Pharmacy'!A361)","v":""},{"$f":"IF(ISBLANK('MIS - Pharmacy'!B361),\"\",('MIS - Pharmacy'!B361&\"(\"&'MIS - Pharmacy'!D361&\")\"))","v":""},{"$f":"IF(ISBLANK('MIS - Pharmacy'!BI361), \"\", 'MIS - Pharmacy'!BI361)","v":""},{"$f":"IF(ISBLANK('MIS - Pharmacy'!U361), \"\", 'MIS - Pharmacy'!U361)","v":""},"","","","","","","",{"$f":"IF(ISBLANK('MIS - Pharmacy'!AC361),\"\",'MIS - Pharmacy'!AC361)","v":""},"",{"$f":"IF(ISBLANK('MIS - Pharmacy'!AD361),\"\",'MIS - Pharmacy'!AD361)","v":""},"","",{"$f":"IF('MIS - Pharmacy'!A361=\"\",\"\",SUM('MIS - Pharmacy'!K361+'MIS - Pharmacy'!L361))","v":""},"",{"$f":"IF('MIS - Pharmacy'!A361=\"\",\"\",('MIS - Pharmacy'!AF361+'MIS - Pharmacy'!AH361 +'MIS - Pharmacy'!AG361))","v":""},{"$f":"IF(ISBLANK('MIS - Pharmacy'!AI361),\"\",'MIS - Pharmacy'!AI361)","v":""},"","","",{"$f":"IF(ISBLANK('MIS - Pharmacy'!V361),\"\",'MIS - Pharmacy'!V361)","v":""},"","","",{"$f":"IF(ISBLANK('MIS - Pharmacy'!J361),\"\",'MIS - Pharmacy'!J361)","v":""},{"$f":"IF(ISBLANK('MIS - Pharmacy'!AY361),\"\",'MIS - Pharmacy'!AY361)","v":""},{"$f":"IF(ISBLANK('MIS - Pharmacy'!BH361),\"\",'MIS - Pharmacy'!BH361)","v":""},"",""]
[{"$f":"IF(ISBLANK('MIS - Pharmacy'!A362), \"\",'MIS - Pharmacy'!A362)","v":""},{"$f":"IF(ISBLANK('MIS - Pharmacy'!B362),\"\",('MIS - Pharmacy'!B362&\"(\"&'MIS - Pharmacy'!D362&\")\"))","v":""},{"$f":"IF(ISBLANK('MIS - Pharmacy'!BI362), \"\", 'MIS - Pharmacy'!BI362)","v":""},{"$f":"IF(ISBLANK('MIS - Pharmacy'!U362), \"\", 'MIS - Pharmacy'!U362)","v":""},"","","","","","","",{"$f":"IF(ISBLANK('MIS - Pharmacy'!AC362),\"\",'MIS - Pharmacy'!AC362)","v":""},"",{"$f":"IF(ISBLANK('MIS - Pharmacy'!AD362),\"\",'MIS - Pharmacy'!AD362)","v":""},"","",{"$f":"IF('MIS - Pharmacy'!A362=\"\",\"\",SUM('MIS - Pharmacy'!K362+'MIS - Pharmacy'!L362))","v":""},"",{"$f":"IF('MIS - Pharmacy'!A362=\"\",\"\",('MIS - Pharmacy'!AF362+'MIS - Pharmacy'!AH362 +'MIS - Pharmacy'!AG362))","v":""},{"$f":"IF(ISBLANK('MIS - Pharmacy'!AI362),\"\",'MIS - Pharmacy'!AI362)","v":""},"","","",{"$f":"IF(ISBLANK('MIS - Pharmacy'!V362),\"\",'MIS - Pharmacy'!V362)","v":""},"","","",{"$f":"IF(ISBLANK('MIS - Pharmacy'!J362),\"\",'MIS - Pharmacy'!J362)","v":""},{"$f":"IF(ISBLANK('MIS - Pharmacy'!AY362),\"\",'MIS - Pharmacy'!AY362)","v":""},{"$f":"IF(ISBLANK('MIS - Pharmacy'!BH362),\"\",'MIS - Pharmacy'!BH362)","v":""},"",""]
[{"$f":"IF(ISBLANK('MIS - Pharmacy'!A363), \"\",'MIS - Pharmacy'!A363)","v":""},{"$f":"IF(ISBLANK('MIS - Pharmacy'!B363),\"\",('MIS - Pharmacy'!B363&\"(\"&'MIS - Pharmacy'!D363&\")\"))","v":""},{"$f":"IF(ISBLANK('MIS - Pharmacy'!BI363), \"\", 'MIS - Pharmacy'!BI363)","v":""},{"$f":"IF(ISBLANK('MIS - Pharmacy'!U363), \"\", 'MIS - Pharmacy'!U363)","v":""},"","","","","","","",{"$f":"IF(ISBLANK('MIS - Pharmacy'!AC363),\"\",'MIS - Pharmacy'!AC363)","v":""},"",{"$f":"IF(ISBLANK('MIS - Pharmacy'!AD363),\"\",'MIS - Pharmacy'!AD363)","v":""},"","",{"$f":"IF('MIS - Pharmacy'!A363=\"\",\"\",SUM('MIS - Pharmacy'!K363+'MIS - Pharmacy'!L363))","v":""},"",{"$f":"IF('MIS - Pharmacy'!A363=\"\",\"\",('MIS - Pharmacy'!AF363+'MIS - Pharmacy'!AH363 +'MIS - Pharmacy'!AG363))","v":""},{"$f":"IF(ISBLANK('MIS - Pharmacy'!AI363),\"\",'MIS - Pharmacy'!AI363)","v":""},"","","",{"$f":"IF(ISBLANK('MIS - Pharmacy'!V363),\"\",'MIS - Pharmacy'!V363)","v":""},"","","",{"$f":"IF(ISBLANK('MIS - Pharmacy'!J363),\"\",'MIS - Pharmacy'!J363)","v":""},{"$f":"IF(ISBLANK('MIS - Pharmacy'!AY363),\"\",'MIS - Pharmacy'!AY363)","v":""},{"$f":"IF(ISBLANK('MIS - Pharmacy'!BH363),\"\",'MIS - Pharmacy'!BH363)","v":""},"",""]
[{"$f":"IF(ISBLANK('MIS - Pharmacy'!A364), \"\",'MIS - Pharmacy'!A364)","v":""},{"$f":"IF(ISBLANK('MIS - Pharmacy'!B364),\"\",('MIS - Pharmacy'!B364&\"(\"&'MIS - Pharmacy'!D364&\")\"))","v":""},{"$f":"IF(ISBLANK('MIS - Pharmacy'!BI364), \"\", 'MIS - Pharmacy'!BI364)","v":""},{"$f":"IF(ISBLANK('MIS - Pharmacy'!U364), \"\", 'MIS - Pharmacy'!U364)","v":""},"","","","","","","",{"$f":"IF(ISBLANK('MIS - Pharmacy'!AC364),\"\",'MIS - Pharmacy'!AC364)","v":""},"",{"$f":"IF(ISBLANK('MIS - Pharmacy'!AD364),\"\",'MIS - Pharmacy'!AD364)","v":""},"","",{"$f":"IF('MIS - Pharmacy'!A364=\"\",\"\",SUM('MIS - Pharmacy'!K364+'MIS - Pharmacy'!L364))","v":""},"",{"$f":"IF('MIS - Pharmacy'!A364=\"\",\"\",('MIS - Pharmacy'!AF364+'MIS - Pharmacy'!AH364 +'MIS - Pharmacy'!AG364))","v":""},{"$f":"IF(ISBLANK('MIS - Pharmacy'!AI364),\"\",'MIS - Pharmacy'!AI364)","v":""},"","","",{"$f":"IF(ISBLANK('MIS - Pharmacy'!V364),\"\",'MIS - Pharmacy'!V364)","v":""},"","","",{"$f":"IF(ISBLANK('MIS - Pharmacy'!J364),\"\",'MIS - Pharmacy'!J364)","v":""},{"$f":"IF(ISBLANK('MIS - Pharmacy'!AY364),\"\",'MIS - Pharmacy'!AY364)","v":""},{"$f":"IF(ISBLANK('MIS - Pharmacy'!BH364),\"\",'MIS - Pharmacy'!BH364)","v":""},"",""]
[{"$f":"IF(ISBLANK('MIS - Pharmacy'!A365), \"\",'MIS - Pharmacy'!A365)","v":""},{"$f":"IF(ISBLANK('MIS - Pharmacy'!B365),\"\",('MIS - Pharmacy'!B365&\"(\"&'MIS - Pharmacy'!D365&\")\"))","v":""},{"$f":"IF(ISBLANK('MIS - Pharmacy'!BI365), \"\", 'MIS - Pharmacy'!BI365)","v":""},{"$f":"IF(ISBLANK('MIS - Pharmacy'!U365), \"\", 'MIS - Pharmacy'!U365)","v":""},"","","","","","","",{"$f":"IF(ISBLANK('MIS - Pharmacy'!AC365),\"\",'MIS - Pharmacy'!AC365)","v":""},"",{"$f":"IF(ISBLANK('MIS - Pharmacy'!AD365),\"\",'MIS - Pharmacy'!AD365)","v":""},"","",{"$f":"IF('MIS - Pharmacy'!A365=\"\",\"\",SUM('MIS - Pharmacy'!K365+'MIS - Pharmacy'!L365))","v":""},"",{"$f":"IF('MIS - Pharmacy'!A365=\"\",\"\",('MIS - Pharmacy'!AF365+'MIS - Pharmacy'!AH365 +'MIS - Pharmacy'!AG365))","v":""},{"$f":"IF(ISBLANK('MIS - Pharmacy'!AI365),\"\",'MIS - Pharmacy'!AI365)","v":""},"","","",{"$f":"IF(ISBLANK('MIS - Pharmacy'!V365),\"\",'MIS - Pharmacy'!V365)","v":""},"","","",{"$f":"IF(ISBLANK('MIS - Pharmacy'!J365),\"\",'MIS - Pharmacy'!J365)","v":""},{"$f":"IF(ISBLANK('MIS - Pharmacy'!AY365),\"\",'MIS - Pharmacy'!AY365)","v":""},{"$f":"IF(ISBLANK('MIS - Pharmacy'!BH365),\"\",'MIS - Pharmacy'!BH365)","v":""},"",""]
[{"$f":"IF(ISBLANK('MIS - Pharmacy'!A366), \"\",'MIS - Pharmacy'!A366)","v":""},{"$f":"IF(ISBLANK('MIS - Pharmacy'!B366),\"\",('MIS - Pharmacy'!B366&\"(\"&'MIS - Pharmacy'!D366&\")\"))","v":""},{"$f":"IF(ISBLANK('MIS - Pharmacy'!BI366), \"\", 'MIS - Pharmacy'!BI366)","v":""},{"$f":"IF(ISBLANK('MIS - Pharmacy'!U366), \"\", 'MIS - Pharmacy'!U366)","v":""},"","","","","","","",{"$f":"IF(ISBLANK('MIS - Pharmacy'!AC366),\"\",'MIS - Pharmacy'!AC366)","v":""},"",{"$f":"IF(ISBLANK('MIS - Pharmacy'!AD366),\"\",'MIS - Pharmacy'!AD366)","v":""},"","",{"$f":"IF('MIS - Pharmacy'!A366=\"\",\"\",SUM('MIS - Pharmacy'!K366+'MIS - Pharmacy'!L366))","v":""},"",{"$f":"IF('MIS - Pharmacy'!A366=\"\",\"\",('MIS - Pharmacy'!AF366+'MIS - Pharmacy'!AH366 +'MIS - Pharmacy'!AG366))","v":""},{"$f":"IF(ISBLANK('MIS - Pharmacy'!AI366),\"\",'MIS - Pharmacy'!AI366)","v":""},"","","",{"$f":"IF(ISBLANK('MIS - Pharmacy'!V366),\"\",'MIS - Pharmacy'!V366)","v":""},"","","",{"$f":"IF(ISBLANK('MIS - Pharmacy'!J366),\"\",'MIS - Pharmacy'!J366)","v":""},{"$f":"IF(ISBLANK('MIS - Pharmacy'!AY366),\"\",'MIS - Pharmacy'!AY366)","v":""},{"$f":"IF(ISBLANK('MIS - Pharmacy'!BH366),\"\",'MIS - Pharmacy'!BH366)","v":""},"",""]
[{"$f":"IF(ISBLANK('MIS - Pharmacy'!A367), \"\",'MIS - Pharmacy'!A367)","v":""},{"$f":"IF(ISBLANK('MIS - Pharmacy'!B367),\"\",('MIS - Pharmacy'!B367&\"(\"&'MIS - Pharmacy'!D367&\")\"))","v":""},{"$f":"IF(ISBLANK('MIS - Pharmacy'!BI367), \"\", 'MIS - Pharmacy'!BI367)","v":""},{"$f":"IF(ISBLANK('MIS - Pharmacy'!U367), \"\", 'MIS - Pharmacy'!U367)","v":""},"","","","","","","",{"$f":"IF(ISBLANK('MIS - Pharmacy'!AC367),\"\",'MIS - Pharmacy'!AC367)","v":""},"",{"$f":"IF(ISBLANK('MIS - Pharmacy'!AD367),\"\",'MIS - Pharmacy'!AD367)","v":""},"","",{"$f":"IF('MIS - Pharmacy'!A367=\"\",\"\",SUM('MIS - Pharmacy'!K367+'MIS - Pharmacy'!L367))","v":""},"",{"$f":"IF('MIS - Pharmacy'!A367=\"\",\"\",('MIS - Pharmacy'!AF367+'MIS - Pharmacy'!AH367 +'MIS - Pharmacy'!AG367))","v":""},{"$f":"IF(ISBLANK('MIS - Pharmacy'!AI367),\"\",'MIS - Pharmacy'!AI367)","v":""},"","","",{"$f":"IF(ISBLANK('MIS - Pharmacy'!V367),\"\",'MIS - Pharmacy'!V367)","v":""},"","","",{"$f":"IF(ISBLANK('MIS - Pharmacy'!J367),\"\",'MIS - Pharmacy'!J367)","v":""},{"$f":"IF(ISBLANK('MIS - Pharmacy'!AY367),\"\",'MIS - Pharmacy'!AY367)","v":""},{"$f":"IF(ISBLANK('MIS - Pharmacy'!BH367),\"\",'MIS - Pharmacy'!BH367)","v":""},"",""]
[{"$f":"IF(ISBLANK('MIS - Pharmacy'!A368), \"\",'MIS - Pharmacy'!A368)","v":""},{"$f":"IF(ISBLANK('MIS - Pharmacy'!B368),\"\",('MIS - Pharmacy'!B368&\"(\"&'MIS - Pharmacy'!D368&\")\"))","v":""},{"$f":"IF(ISBLANK('MIS - Pharmacy'!BI368), \"\", 'MIS - Pharmacy'!BI368)","v":""},{"$f":"IF(ISBLANK('MIS - Pharmacy'!U368), \"\", 'MIS - Pharmacy'!U368)","v":""},"","","","","","","",{"$f":"IF(ISBLANK('MIS - Pharmacy'!AC368),\"\",'MIS - Pharmacy'!AC368)","v":""},"",{"$f":"IF(ISBLANK('MIS - Pharmacy'!AD368),\"\",'MIS - Pharmacy'!AD368)","v":""},"","",{"$f":"IF('MIS - Pharmacy'!A368=\"\",\"\",SUM('MIS - Pharmacy'!K368+'MIS - Pharmacy'!L368))","v":""},"",{"$f":"IF('MIS - Pharmacy'!A368=\"\",\"\",('MIS - Pharmacy'!AF368+'MIS - Pharmacy'!AH368 +'MIS - Pharmacy'!AG368))","v":""},{"$f":"IF(ISBLANK('MIS - Pharmacy'!AI368),\"\",'MIS - Pharmacy'!AI368)","v":""},"","","",{"$f":"IF(ISBLANK('MIS - Pharmacy'!V368),\"\",'MIS - Pharmacy'!V368)","v":""},"","","",{"$f":"IF(ISBLANK('MIS - Pharmacy'!J368),\"\",'MIS - Pharmacy'!J368)","v":""},{"$f":"IF(ISBLANK('MIS - Pharmacy'!AY368),\"\",'MIS - Pharmacy'!AY368)","v":""},{"$f":"IF(ISBLANK('MIS - Pharmacy'!BH368),\"\",'MIS - Pharmacy'!BH368)","v":""},"",""]
[{"$f":"IF(ISBLANK('MIS - Pharmacy'!A369), \"\",'MIS - Pharmacy'!A369)","v":""},{"$f":"IF(ISBLANK('MIS - Pharmacy'!B369),\"\",('MIS - Pharmacy'!B369&\"(\"&'MIS - Pharmacy'!D369&\")\"))","v":""},{"$f":"IF(ISBLANK('MIS - Pharmacy'!BI369), \"\", 'MIS - Pharmacy'!BI369)","v":""},{"$f":"IF(ISBLANK('MIS - Pharmacy'!U369), \"\", 'MIS - Pharmacy'!U369)","v":""},"","","","","","","",{"$f":"IF(ISBLANK('MIS - Pharmacy'!AC369),\"\",'MIS - Pharmacy'!AC369)","v":""},"",{"$f":"IF(ISBLANK('MIS - Pharmacy'!AD369),\"\",'MIS - Pharmacy'!AD369)","v":""},"","",{"$f":"IF('MIS - Pharmacy'!A369=\"\",\"\",SUM('MIS - Pharmacy'!K369+'MIS - Pharmacy'!L369))","v":""},"",{"$f":"IF('MIS - Pharmacy'!A369=\"\",\"\",('MIS - Pharmacy'!AF369+'MIS - Pharmacy'!AH369 +'MIS - Pharmacy'!AG369))","v":""},{"$f":"IF(ISBLANK('MIS - Pharmacy'!AI369),\"\",'MIS - Pharmacy'!AI369)","v":""},"","","",{"$f":"IF(ISBLANK('MIS - Pharmacy'!V369),\"\",'MIS - Pharmacy'!V369)","v":""},"","","",{"$f":"IF(ISBLANK('MIS - Pharmacy'!J369),\"\",'MIS - Pharmacy'!J369)","v":""},{"$f":"IF(ISBLANK('MIS - Pharmacy'!AY369),\"\",'MIS - Pharmacy'!AY369)","v":""},{"$f":"IF(ISBLANK('MIS - Pharmacy'!BH369),\"\",'MIS - Pharmacy'!BH369)","v":""},"",""]
[{"$f":"IF(ISBLANK('MIS - Pharmacy'!A370), \"\",'MIS - Pharmacy'!A370)","v":""},{"$f":"IF(ISBLANK('MIS - Pharmacy'!B370),\"\",('MIS - Pharmacy'!B370&\"(\"&'MIS - Pharmacy'!D370&\")\"))","v":""},{"$f":"IF(ISBLANK('MIS - Pharmacy'!BI370), \"\", 'MIS - Pharmacy'!BI370)","v":""},{"$f":"IF(ISBLANK('MIS - Pharmacy'!U370), \"\", 'MIS - Pharmacy'!U370)","v":""},"","","","","","","",{"$f":"IF(ISBLANK('MIS - Pharmacy'!AC370),\"\",'MIS - Pharmacy'!AC370)","v":""},"",{"$f":"IF(ISBLANK('MIS - Pharmacy'!AD370),\"\",'MIS - Pharmacy'!AD370)","v":""},"","",{"$f":"IF('MIS - Pharmacy'!A370=\"\",\"\",SUM('MIS - Pharmacy'!K370+'MIS - Pharmacy'!L370))","v":""},"",{"$f":"IF('MIS - Pharmacy'!A370=\"\",\"\",('MIS - Pharmacy'!AF370+'MIS - Pharmacy'!AH370 +'MIS - Pharmacy'!AG370))","v":""},{"$f":"IF(ISBLANK('MIS - Pharmacy'!AI370),\"\",'MIS - Pharmacy'!AI370)","v":""},"","","",{"$f":"IF(ISBLANK('MIS - Pharmacy'!V370),\"\",'MIS - Pharmacy'!V370)","v":""},"","","",{"$f":"IF(ISBLANK('MIS - Pharmacy'!J370),\"\",'MIS - Pharmacy'!J370)","v":""},{"$f":"IF(ISBLANK('MIS - Pharmacy'!AY370),\"\",'MIS - Pharmacy'!AY370)","v":""},{"$f":"IF(ISBLANK('MIS - Pharmacy'!BH370),\"\",'MIS - Pharmacy'!BH370)","v":""},"",""]
[{"$f":"IF(ISBLANK('MIS - Pharmacy'!A371), \"\",'MIS - Pharmacy'!A371)","v":""},{"$f":"IF(ISBLANK('MIS - Pharmacy'!B371),\"\",('MIS - Pharmacy'!B371&\"(\"&'MIS - Pharmacy'!D371&\")\"))","v":""},{"$f":"IF(ISBLANK('MIS - Pharmacy'!BI371), \"\", 'MIS - Pharmacy'!BI371)","v":""},{"$f":"IF(ISBLANK('MIS - Pharmacy'!U371), \"\", 'MIS - Pharmacy'!U371)","v":""},"","","","","","","",{"$f":"IF(ISBLANK('MIS - Pharmacy'!AC371),\"\",'MIS - Pharmacy'!AC371)","v":""},"",{"$f":"IF(ISBLANK('MIS - Pharmacy'!AD371),\"\",'MIS - Pharmacy'!AD371)","v":""},"","",{"$f":"IF('MIS - Pharmacy'!A371=\"\",\"\",SUM('MIS - Pharmacy'!K371+'MIS - Pharmacy'!L371))","v":""},"",{"$f":"IF('MIS - Pharmacy'!A371=\"\",\"\",('MIS - Pharmacy'!AF371+'MIS - Pharmacy'!AH371 +'MIS - Pharmacy'!AG371))","v":""},{"$f":"IF(ISBLANK('MIS - Pharmacy'!AI371),\"\",'MIS - Pharmacy'!AI371)","v":""},"","","",{"$f":"IF(ISBLANK('MIS - Pharmacy'!V371),\"\",'MIS - Pharmacy'!V371)","v":""},"","","",{"$f":"IF(ISBLANK('MIS - Pharmacy'!J371),\"\",'MIS - Pharmacy'!J371)","v":""},{"$f":"IF(ISBLANK('MIS - Pharmacy'!AY371),\"\",'MIS - Pharmacy'!AY371)","v":""},{"$f":"IF(ISBLANK('MIS - Pharmacy'!BH371),\"\",'MIS - Pharmacy'!BH371)","v":""},"",""]
[{"$f":"IF(ISBLANK('MIS - Pharmacy'!A372), \"\",'MIS - Pharmacy'!A372)","v":""},{"$f":"IF(ISBLANK('MIS - Pharmacy'!B372),\"\",('MIS - Pharmacy'!B372&\"(\"&'MIS - Pharmacy'!D372&\")\"))","v":""},{"$f":"IF(ISBLANK('MIS - Pharmacy'!BI372), \"\", 'MIS - Pharmacy'!BI372)","v":""},{"$f":"IF(ISBLANK('MIS - Pharmacy'!U372), \"\", 'MIS - Pharmacy'!U372)","v":""},"","","","","","","",{"$f":"IF(ISBLANK('MIS - Pharmacy'!AC372),\"\",'MIS - Pharmacy'!AC372)","v":""},"",{"$f":"IF(ISBLANK('MIS - Pharmacy'!AD372),\"\",'MIS - Pharmacy'!AD372)","v":""},"","",{"$f":"IF('MIS - Pharmacy'!A372=\"\",\"\",SUM('MIS - Pharmacy'!K372+'MIS - Pharmacy'!L372))","v":""},"",{"$f":"IF('MIS - Pharmacy'!A372=\"\",\"\",('MIS - Pharmacy'!AF372+'MIS - Pharmacy'!AH372 +'MIS - Pharmacy'!AG372))","v":""},{"$f":"IF(ISBLANK('MIS - Pharmacy'!AI372),\"\",'MIS - Pharmacy'!AI372)","v":""},"","","",{"$f":"IF(ISBLANK('MIS - Pharmacy'!V372),\"\",'MIS - Pharmacy'!V372)","v":""},"","","",{"$f":"IF(ISBLANK('MIS - Pharmacy'!J372),\"\",'MIS - Pharmacy'!J372)","v":""},{"$f":"IF(ISBLANK('MIS - Pharmacy'!AY372),\"\",'MIS - Pharmacy'!AY372)","v":""},{"$f":"IF(ISBLANK('MIS - Pharmacy'!BH372),\"\",'MIS - Pharmacy'!BH372)","v":""},"",""]
[{"$f":"IF(ISBLANK('MIS - Pharmacy'!A373), \"\",'MIS - Pharmacy'!A373)","v":""},{"$f":"IF(ISBLANK('MIS - Pharmacy'!B373),\"\",('MIS - Pharmacy'!B373&\"(\"&'MIS - Pharmacy'!D373&\")\"))","v":""},{"$f":"IF(ISBLANK('MIS - Pharmacy'!BI373), \"\", 'MIS - Pharmacy'!BI373)","v":""},{"$f":"IF(ISBLANK('MIS - Pharmacy'!U373), \"\", 'MIS - Pharmacy'!U373)","v":""},"","","","","","","",{"$f":"IF(ISBLANK('MIS - Pharmacy'!AC373),\"\",'MIS - Pharmacy'!AC373)","v":""},"",{"$f":"IF(ISBLANK('MIS - Pharmacy'!AD373),\"\",'MIS - Pharmacy'!AD373)","v":""},"","",{"$f":"IF('MIS - Pharmacy'!A373=\"\",\"\",SUM('MIS - Pharmacy'!K373+'MIS - Pharmacy'!L373))","v":""},"",{"$f":"IF('MIS - Pharmacy'!A373=\"\",\"\",('MIS - Pharmacy'!AF373+'MIS - Pharmacy'!AH373 +'MIS - Pharmacy'!AG373))","v":""},{"$f":"IF(ISBLANK('MIS - Pharmacy'!AI373),\"\",'MIS - Pharmacy'!AI373)","v":""},"","","",{"$f":"IF(ISBLANK('MIS - Pharmacy'!V373),\"\",'MIS - Pharmacy'!V373)","v":""},"","","",{"$f":"IF(ISBLANK('MIS - Pharmacy'!J373),\"\",'MIS - Pharmacy'!J373)","v":""},{"$f":"IF(ISBLANK('MIS - Pharmacy'!AY373),\"\",'MIS - Pharmacy'!AY373)","v":""},{"$f":"IF(ISBLANK('MIS - Pharmacy'!BH373),\"\",'MIS - Pharmacy'!BH373)","v":""},"",""]
[{"$f":"IF(ISBLANK('MIS - Pharmacy'!A374), \"\",'MIS - Pharmacy'!A374)","v":""},{"$f":"IF(ISBLANK('MIS - Pharmacy'!B374),\"\",('MIS - Pharmacy'!B374&\"(\"&'MIS - Pharmacy'!D374&\")\"))","v":""},{"$f":"IF(ISBLANK('MIS - Pharmacy'!BI374), \"\", 'MIS - Pharmacy'!BI374)","v":""},{"$f":"IF(ISBLANK('MIS - Pharmacy'!U374), \"\", 'MIS - Pharmacy'!U374)","v":""},"","","","","","","",{"$f":"IF(ISBLANK('MIS - Pharmacy'!AC374),\"\",'MIS - Pharmacy'!AC374)","v":""},"",{"$f":"IF(ISBLANK('MIS - Pharmacy'!AD374),\"\",'MIS - Pharmacy'!AD374)","v":""},"","",{"$f":"IF('MIS - Pharmacy'!A374=\"\",\"\",SUM('MIS - Pharmacy'!K374+'MIS - Pharmacy'!L374))","v":""},"",{"$f":"IF('MIS - Pharmacy'!A374=\"\",\"\",('MIS - Pharmacy'!AF374+'MIS - Pharmacy'!AH374 +'MIS - Pharmacy'!AG374))","v":""},{"$f":"IF(ISBLANK('MIS - Pharmacy'!AI374),\"\",'MIS - Pharmacy'!AI374)","v":""},"","","",{"$f":"IF(ISBLANK('MIS - Pharmacy'!V374),\"\",'MIS - Pharmacy'!V374)","v":""},"","","",{"$f":"IF(ISBLANK('MIS - Pharmacy'!J374),\"\",'MIS - Pharmacy'!J374)","v":""},{"$f":"IF(ISBLANK('MIS - Pharmacy'!AY374),\"\",'MIS - Pharmacy'!AY374)","v":""},{"$f":"IF(ISBLANK('MIS - Pharmacy'!BH374),\"\",'MIS - Pharmacy'!BH374)","v":""},"",""]
[{"$f":"IF(ISBLANK('MIS - Pharmacy'!A375), \"\",'MIS - Pharmacy'!A375)","v":""},{"$f":"IF(ISBLANK('MIS - Pharmacy'!B375),\"\",('MIS - Pharmacy'!B375&\"(\"&'MIS - Pharmacy'!D375&\")\"))","v":""},{"$f":"IF(ISBLANK('MIS - Pharmacy'!BI375), \"\", 'MIS - Pharmacy'!BI375)","v":""},{"$f":"IF(ISBLANK('MIS - Pharmacy'!U375), \"\", 'MIS - Pharmacy'!U375)","v":""},"","","","","","","",{"$f":"IF(ISBLANK('MIS - Pharmacy'!AC375),\"\",'MIS - Pharmacy'!AC375)","v":""},"",{"$f":"IF(ISBLANK('MIS - Pharmacy'!AD375),\"\",'MIS - Pharmacy'!AD375)","v":""},"","",{"$f":"IF('MIS - Pharmacy'!A375=\"\",\"\",SUM('MIS - Pharmacy'!K375+'MIS - Pharmacy'!L375))","v":""},"",{"$f":"IF('MIS - Pharmacy'!A375=\"\",\"\",('MIS - Pharmacy'!AF375+'MIS - Pharmacy'!AH375 +'MIS - Pharmacy'!AG375))","v":""},{"$f":"IF(ISBLANK('MIS - Pharmacy'!AI375),\"\",'MIS - Pharmacy'!AI375)","v":""},"","","",{"$f":"IF(ISBLANK('MIS - Pharmacy'!V375),\"\",'MIS - Pharmacy'!V375)","v":""},"","","",{"$f":"IF(ISBLANK('MIS - Pharmacy'!J375),\"\",'MIS - Pharmacy'!J375)","v":""},{"$f":"IF(ISBLANK('MIS - Pharmacy'!AY375),\"\",'MIS - Pharmacy'!AY375)","v":""},{"$f":"IF(ISBLANK('MIS - Pharmacy'!BH375),\"\",'MIS - Pharmacy'!BH375)","v":""},"",""]
[{"$f":"IF(ISBLANK('MIS - Pharmacy'!A376), \"\",'MIS - Pharmacy'!A376)","v":""},{"$f":"IF(ISBLANK('MIS - Pharmacy'!B376),\"\",('MIS - Pharmacy'!B376&\"(\"&'MIS - Pharmacy'!D376&\")\"))","v":""},{"$f":"IF(ISBLANK('MIS - Pharmacy'!BI376), \"\", 'MIS - Pharmacy'!BI376)","v":""},{"$f":"IF(ISBLANK('MIS - Pharmacy'!U376), \"\", 'MIS - Pharmacy'!U376)","v":""},"","","","","","","",{"$f":"IF(ISBLANK('MIS - Pharmacy'!AC376),\"\",'MIS - Pharmacy'!AC376)","v":""},"",{"$f":"IF(ISBLANK('MIS - Pharmacy'!AD376),\"\",'MIS - Pharmacy'!AD376)","v":""},"","",{"$f":"IF('MIS - Pharmacy'!A376=\"\",\"\",SUM('MIS - Pharmacy'!K376+'MIS - Pharmacy'!L376))","v":""},"",{"$f":"IF('MIS - Pharmacy'!A376=\"\",\"\",('MIS - Pharmacy'!AF376+'MIS - Pharmacy'!AH376 +'MIS - Pharmacy'!AG376))","v":""},{"$f":"IF(ISBLANK('MIS - Pharmacy'!AI376),\"\",'MIS - Pharmacy'!AI376)","v":""},"","","",{"$f":"IF(ISBLANK('MIS - Pharmacy'!V376),\"\",'MIS - Pharmacy'!V376)","v":""},"","","",{"$f":"IF(ISBLANK('MIS - Pharmacy'!J376),\"\",'MIS - Pharmacy'!J376)","v":""},{"$f":"IF(ISBLANK('MIS - Pharmacy'!AY376),\"\",'MIS - Pharmacy'!AY376)","v":""},{"$f":"IF(ISBLANK('MIS - Pharmacy'!BH376),\"\",'MIS - Pharmacy'!BH376)","v":""},"",""]
[{"$f":"IF(ISBLANK('MIS - Pharmacy'!A377), \"\",'MIS - Pharmacy'!A377)","v":""},{"$f":"IF(ISBLANK('MIS - Pharmacy'!B377),\"\",('MIS - Pharmacy'!B377&\"(\"&'MIS - Pharmacy'!D377&\")\"))","v":""},{"$f":"IF(ISBLANK('MIS - Pharmacy'!BI377), \"\", 'MIS - Pharmacy'!BI377)","v":""},{"$f":"IF(ISBLANK('MIS - Pharmacy'!U377), \"\", 'MIS - Pharmacy'!U377)","v":""},"","","","","","","",{"$f":"IF(ISBLANK('MIS - Pharmacy'!AC377),\"\",'MIS - Pharmacy'!AC377)","v":""},"",{"$f":"IF(ISBLANK('MIS - Pharmacy'!AD377),\"\",'MIS - Pharmacy'!AD377)","v":""},"","",{"$f":"IF('MIS - Pharmacy'!A377=\"\",\"\",SUM('MIS - Pharmacy'!K377+'MIS - Pharmacy'!L377))","v":""},"",{"$f":"IF('MIS - Pharmacy'!A377=\"\",\"\",('MIS - Pharmacy'!AF377+'MIS - Pharmacy'!AH377 +'MIS - Pharmacy'!AG377))","v":""},{"$f":"IF(ISBLANK('MIS - Pharmacy'!AI377),\"\",'MIS - Pharmacy'!AI377)","v":""},"","","",{"$f":"IF(ISBLANK('MIS - Pharmacy'!V377),\"\",'MIS - Pharmacy'!V377)","v":""},"","","",{"$f":"IF(ISBLANK('MIS - Pharmacy'!J377),\"\",'MIS - Pharmacy'!J377)","v":""},{"$f":"IF(ISBLANK('MIS - Pharmacy'!AY377),\"\",'MIS - Pharmacy'!AY377)","v":""},{"$f":"IF(ISBLANK('MIS - Pharmacy'!BH377),\"\",'MIS - Pharmacy'!BH377)","v":""},"",""]
[{"$f":"IF(ISBLANK('MIS - Pharmacy'!A378), \"\",'MIS - Pharmacy'!A378)","v":""},{"$f":"IF(ISBLANK('MIS - Pharmacy'!B378),\"\",('MIS - Pharmacy'!B378&\"(\"&'MIS - Pharmacy'!D378&\")\"))","v":""},{"$f":"IF(ISBLANK('MIS - Pharmacy'!BI378), \"\", 'MIS - Pharmacy'!BI378)","v":""},{"$f":"IF(ISBLANK('MIS - Pharmacy'!U378), \"\", 'MIS - Pharmacy'!U378)","v":""},"","","","","","","",{"$f":"IF(ISBLANK('MIS - Pharmacy'!AC378),\"\",'MIS - Pharmacy'!AC378)","v":""},"",{"$f":"IF(ISBLANK('MIS - Pharmacy'!AD378),\"\",'MIS - Pharmacy'!AD378)","v":""},"","",{"$f":"IF('MIS - Pharmacy'!A378=\"\",\"\",SUM('MIS - Pharmacy'!K378+'MIS - Pharmacy'!L378))","v":""},"",{"$f":"IF('MIS - Pharmacy'!A378=\"\",\"\",('MIS - Pharmacy'!AF378+'MIS - Pharmacy'!AH378 +'MIS - Pharmacy'!AG378))","v":""},{"$f":"IF(ISBLANK('MIS - Pharmacy'!AI378),\"\",'MIS - Pharmacy'!AI378)","v":""},"","","",{"$f":"IF(ISBLANK('MIS - Pharmacy'!V378),\"\",'MIS - Pharmacy'!V378)","v":""},"","","",{"$f":"IF(ISBLANK('MIS - Pharmacy'!J378),\"\",'MIS - Pharmacy'!J378)","v":""},{"$f":"IF(ISBLANK('MIS - Pharmacy'!AY378),\"\",'MIS - Pharmacy'!AY378)","v":""},{"$f":"IF(ISBLANK('MIS - Pharmacy'!BH378),\"\",'MIS - Pharmacy'!BH378)","v":""},"",""]
[{"$f":"IF(ISBLANK('MIS - Pharmacy'!A379), \"\",'MIS - Pharmacy'!A379)","v":""},{"$f":"IF(ISBLANK('MIS - Pharmacy'!B379),\"\",('MIS - Pharmacy'!B379&\"(\"&'MIS - Pharmacy'!D379&\")\"))","v":""},{"$f":"IF(ISBLANK('MIS - Pharmacy'!BI379), \"\", 'MIS - Pharmacy'!BI379)","v":""},{"$f":"IF(ISBLANK('MIS - Pharmacy'!U379), \"\", 'MIS - Pharmacy'!U379)","v":""},"","","","","","","",{"$f":"IF(ISBLANK('MIS - Pharmacy'!AC379),\"\",'MIS - Pharmacy'!AC379)","v":""},"",{"$f":"IF(ISBLANK('MIS - Pharmacy'!AD379),\"\",'MIS - Pharmacy'!AD379)","v":""},"","",{"$f":"IF('MIS - Pharmacy'!A379=\"\",\"\",SUM('MIS - Pharmacy'!K379+'MIS - Pharmacy'!L379))","v":""},"",{"$f":"IF('MIS - Pharmacy'!A379=\"\",\"\",('MIS - Pharmacy'!AF379+'MIS - Pharmacy'!AH379 +'MIS - Pharmacy'!AG379))","v":""},{"$f":"IF(ISBLANK('MIS - Pharmacy'!AI379),\"\",'MIS - Pharmacy'!AI379)","v":""},"","","",{"$f":"IF(ISBLANK('MIS - Pharmacy'!V379),\"\",'MIS - Pharmacy'!V379)","v":""},"","","",{"$f":"IF(ISBLANK('MIS - Pharmacy'!J379),\"\",'MIS - Pharmacy'!J379)","v":""},{"$f":"IF(ISBLANK('MIS - Pharmacy'!AY379),\"\",'MIS - Pharmacy'!AY379)","v":""},{"$f":"IF(ISBLANK('MIS - Pharmacy'!BH379),\"\",'MIS - Pharmacy'!BH379)","v":""},"",""]
[{"$f":"IF(ISBLANK('MIS - Pharmacy'!A380), \"\",'MIS - Pharmacy'!A380)","v":""},{"$f":"IF(ISBLANK('MIS - Pharmacy'!B380),\"\",('MIS - Pharmacy'!B380&\"(\"&'MIS - Pharmacy'!D380&\")\"))","v":""},{"$f":"IF(ISBLANK('MIS - Pharmacy'!BI380), \"\", 'MIS - Pharmacy'!BI380)","v":""},{"$f":"IF(ISBLANK('MIS - Pharmacy'!U380), \"\", 'MIS - Pharmacy'!U380)","v":""},"","","","","","","",{"$f":"IF(ISBLANK('MIS - Pharmacy'!AC380),\"\",'MIS - Pharmacy'!AC380)","v":""},"",{"$f":"IF(ISBLANK('MIS - Pharmacy'!AD380),\"\",'MIS - Pharmacy'!AD380)","v":""},"","",{"$f":"IF('MIS - Pharmacy'!A380=\"\",\"\",SUM('MIS - Pharmacy'!K380+'MIS - Pharmacy'!L380))","v":""},"",{"$f":"IF('MIS - Pharmacy'!A380=\"\",\"\",('MIS - Pharmacy'!AF380+'MIS - Pharmacy'!AH380 +'MIS - Pharmacy'!AG380))","v":""},{"$f":"IF(ISBLANK('MIS - Pharmacy'!AI380),\"\",'MIS - Pharmacy'!AI380)","v":""},"","","",{"$f":"IF(ISBLANK('MIS - Pharmacy'!V380),\"\",'MIS - Pharmacy'!V380)","v":""},"","","",{"$f":"IF(ISBLANK('MIS - Pharmacy'!J380),\"\",'MIS - Pharmacy'!J380)","v":""},{"$f":"IF(ISBLANK('MIS - Pharmacy'!AY380),\"\",'MIS - Pharmacy'!AY380)","v":""},{"$f":"IF(ISBLANK('MIS - Pharmacy'!BH380),\"\",'MIS - Pharmacy'!BH380)","v":""},"",""]
[{"$f":"IF(ISBLANK('MIS - Pharmacy'!A381), \"\",'MIS - Pharmacy'!A381)","v":""},{"$f":"IF(ISBLANK('MIS - Pharmacy'!B381),\"\",('MIS - Pharmacy'!B381&\"(\"&'MIS - Pharmacy'!D381&\")\"))","v":""},{"$f":"IF(ISBLANK('MIS - Pharmacy'!BI381), \"\", 'MIS - Pharmacy'!BI381)","v":""},{"$f":"IF(ISBLANK('MIS - Pharmacy'!U381), \"\", 'MIS - Pharmacy'!U381)","v":""},"","","","","","","",{"$f":"IF(ISBLANK('MIS - Pharmacy'!AC381),\"\",'MIS - Pharmacy'!AC381)","v":""},"",{"$f":"IF(ISBLANK('MIS - Pharmacy'!AD381),\"\",'MIS - Pharmacy'!AD381)","v":""},"","",{"$f":"IF('MIS - Pharmacy'!A381=\"\",\"\",SUM('MIS - Pharmacy'!K381+'MIS - Pharmacy'!L381))","v":""},"",{"$f":"IF('MIS - Pharmacy'!A381=\"\",\"\",('MIS - Pharmacy'!AF381+'MIS - Pharmacy'!AH381 +'MIS - Pharmacy'!AG381))","v":""},{"$f":"IF(ISBLANK('MIS - Pharmacy'!AI381),\"\",'MIS - Pharmacy'!AI381)","v":""},"","","",{"$f":"IF(ISBLANK('MIS - Pharmacy'!V381),\"\",'MIS - Pharmacy'!V381)","v":""},"","","",{"$f":"IF(ISBLANK('MIS - Pharmacy'!J381),\"\",'MIS - Pharmacy'!J381)","v":""},{"$f":"IF(ISBLANK('MIS - Pharmacy'!AY381),\"\",'MIS - Pharmacy'!AY381)","v":""},{"$f":"IF(ISBLANK('MIS - Pharmacy'!BH381),\"\",'MIS - Pharmacy'!BH381)","v":""},"",""]
[{"$f":"IF(ISBLANK('MIS - Pharmacy'!A382), \"\",'MIS - Pharmacy'!A382)","v":""},{"$f":"IF(ISBLANK('MIS - Pharmacy'!B382),\"\",('MIS - Pharmacy'!B382&\"(\"&'MIS - Pharmacy'!D382&\")\"))","v":""},{"$f":"IF(ISBLANK('MIS - Pharmacy'!BI382), \"\", 'MIS - Pharmacy'!BI382)","v":""},{"$f":"IF(ISBLANK('MIS - Pharmacy'!U382), \"\", 'MIS - Pharmacy'!U382)","v":""},"","","","","","","",{"$f":"IF(ISBLANK('MIS - Pharmacy'!AC382),\"\",'MIS - Pharmacy'!AC382)","v":""},"",{"$f":"IF(ISBLANK('MIS - Pharmacy'!AD382),\"\",'MIS - Pharmacy'!AD382)","v":""},"","",{"$f":"IF('MIS - Pharmacy'!A382=\"\",\"\",SUM('MIS - Pharmacy'!K382+'MIS - Pharmacy'!L382))","v":""},"",{"$f":"IF('MIS - Pharmacy'!A382=\"\",\"\",('MIS - Pharmacy'!AF382+'MIS - Pharmacy'!AH382 +'MIS - Pharmacy'!AG382))","v":""},{"$f":"IF(ISBLANK('MIS - Pharmacy'!AI382),\"\",'MIS - Pharmacy'!AI382)","v":""},"","","",{"$f":"IF(ISBLANK('MIS - Pharmacy'!V382),\"\",'MIS - Pharmacy'!V382)","v":""},"","","",{"$f":"IF(ISBLANK('MIS - Pharmacy'!J382),\"\",'MIS - Pharmacy'!J382)","v":""},{"$f":"IF(ISBLANK('MIS - Pharmacy'!AY382),\"\",'MIS - Pharmacy'!AY382)","v":""},{"$f":"IF(ISBLANK('MIS - Pharmacy'!BH382),\"\",'MIS - Pharmacy'!BH382)","v":""},"",""]
[{"$f":"IF(ISBLANK('MIS - Pharmacy'!A383), \"\",'MIS - Pharmacy'!A383)","v":""},{"$f":"IF(ISBLANK('MIS - Pharmacy'!B383),\"\",('MIS - Pharmacy'!B383&\"(\"&'MIS - Pharmacy'!D383&\")\"))","v":""},{"$f":"IF(ISBLANK('MIS - Pharmacy'!BI383), \"\", 'MIS - Pharmacy'!BI383)","v":""},{"$f":"IF(ISBLANK('MIS - Pharmacy'!U383), \"\", 'MIS - Pharmacy'!U383)","v":""},"","","","","","","",{"$f":"IF(ISBLANK('MIS - Pharmacy'!AC383),\"\",'MIS - Pharmacy'!AC383)","v":""},"",{"$f":"IF(ISBLANK('MIS - Pharmacy'!AD383),\"\",'MIS - Pharmacy'!AD383)","v":""},"","",{"$f":"IF('MIS - Pharmacy'!A383=\"\",\"\",SUM('MIS - Pharmacy'!K383+'MIS - Pharmacy'!L383))","v":""},"",{"$f":"IF('MIS - Pharmacy'!A383=\"\",\"\",('MIS - Pharmacy'!AF383+'MIS - Pharmacy'!AH383 +'MIS - Pharmacy'!AG383))","v":""},{"$f":"IF(ISBLANK('MIS - Pharmacy'!AI383),\"\",'MIS - Pharmacy'!AI383)","v":""},"","","",{"$f":"IF(ISBLANK('MIS - Pharmacy'!V383),\"\",'MIS - Pharmacy'!V383)","v":""},"","","",{"$f":"IF(ISBLANK('MIS - Pharmacy'!J383),\"\",'MIS - Pharmacy'!J383)","v":""},{"$f":"IF(ISBLANK('MIS - Pharmacy'!AY383),\"\",'MIS - Pharmacy'!AY383)","v":""},{"$f":"IF(ISBLANK('MIS - Pharmacy'!BH383),\"\",'MIS - Pharmacy'!BH383)","v":""},"",""]
[{"$f":"IF(ISBLANK('MIS - Pharmacy'!A384), \"\",'MIS - Pharmacy'!A384)","v":""},{"$f":"IF(ISBLANK('MIS - Pharmacy'!B384),\"\",('MIS - Pharmacy'!B384&\"(\"&'MIS - Pharmacy'!D384&\")\"))","v":""},{"$f":"IF(ISBLANK('MIS - Pharmacy'!BI384), \"\", 'MIS - Pharmacy'!BI384)","v":""},{"$f":"IF(ISBLANK('MIS - Pharmacy'!U384), \"\", 'MIS - Pharmacy'!U384)","v":""},"","","","","","","",{"$f":"IF(ISBLANK('MIS - Pharmacy'!AC384),\"\",'MIS - Pharmacy'!AC384)","v":""},"",{"$f":"IF(ISBLANK('MIS - Pharmacy'!AD384),\"\",'MIS - Pharmacy'!AD384)","v":""},"","",{"$f":"IF('MIS - Pharmacy'!A384=\"\",\"\",SUM('MIS - Pharmacy'!K384+'MIS - Pharmacy'!L384))","v":""},"",{"$f":"IF('MIS - Pharmacy'!A384=\"\",\"\",('MIS - Pharmacy'!AF384+'MIS - Pharmacy'!AH384 +'MIS - Pharmacy'!AG384))","v":""},{"$f":"IF(ISBLANK('MIS - Pharmacy'!AI384),\"\",'MIS - Pharmacy'!AI384)","v":""},"","","",{"$f":"IF(ISBLANK('MIS - Pharmacy'!V384),\"\",'MIS - Pharmacy'!V384)","v":""},"","","",{"$f":"IF(ISBLANK('MIS - Pharmacy'!J384),\"\",'MIS - Pharmacy'!J384)","v":""},{"$f":"IF(ISBLANK('MIS - Pharmacy'!AY384),\"\",'MIS - Pharmacy'!AY384)","v":""},{"$f":"IF(ISBLANK('MIS - Pharmacy'!BH384),\"\",'MIS - Pharmacy'!BH384)","v":""},"",""]
[{"$f":"IF(ISBLANK('MIS - Pharmacy'!A385), \"\",'MIS - Pharmacy'!A385)","v":""},{"$f":"IF(ISBLANK('MIS - Pharmacy'!B385),\"\",('MIS - Pharmacy'!B385&\"(\"&'MIS - Pharmacy'!D385&\")\"))","v":""},{"$f":"IF(ISBLANK('MIS - Pharmacy'!BI385), \"\", 'MIS - Pharmacy'!BI385)","v":""},{"$f":"IF(ISBLANK('MIS - Pharmacy'!U385), \"\", 'MIS - Pharmacy'!U385)","v":""},"","","","","","","",{"$f":"IF(ISBLANK('MIS - Pharmacy'!AC385),\"\",'MIS - Pharmacy'!AC385)","v":""},"",{"$f":"IF(ISBLANK('MIS - Pharmacy'!AD385),\"\",'MIS - Pharmacy'!AD385)","v":""},"","",{"$f":"IF('MIS - Pharmacy'!A385=\"\",\"\",SUM('MIS - Pharmacy'!K385+'MIS - Pharmacy'!L385))","v":""},"",{"$f":"IF('MIS - Pharmacy'!A385=\"\",\"\",('MIS - Pharmacy'!AF385+'MIS - Pharmacy'!AH385 +'MIS - Pharmacy'!AG385))","v":""},{"$f":"IF(ISBLANK('MIS - Pharmacy'!AI385),\"\",'MIS - Pharmacy'!AI385)","v":""},"","","",{"$f":"IF(ISBLANK('MIS - Pharmacy'!V385),\"\",'MIS - Pharmacy'!V385)","v":""},"","","",{"$f":"IF(ISBLANK('MIS - Pharmacy'!J385),\"\",'MIS - Pharmacy'!J385)","v":""},{"$f":"IF(ISBLANK('MIS - Pharmacy'!AY385),\"\",'MIS - Pharmacy'!AY385)","v":""},{"$f":"IF(ISBLANK('MIS - Pharmacy'!BH385),\"\",'MIS - Pharmacy'!BH385)","v":""},"",""]
[{"$f":"IF(ISBLANK('MIS - Pharmacy'!A386), \"\",'MIS - Pharmacy'!A386)","v":""},{"$f":"IF(ISBLANK('MIS - Pharmacy'!B386),\"\",('MIS - Pharmacy'!B386&\"(\"&'MIS - Pharmacy'!D386&\")\"))","v":""},{"$f":"IF(ISBLANK('MIS - Pharmacy'!BI386), \"\", 'MIS - Pharmacy'!BI386)","v":""},{"$f":"IF(ISBLANK('MIS - Pharmacy'!U386), \"\", 'MIS - Pharmacy'!U386)","v":""},"","","","","","","",{"$f":"IF(ISBLANK('MIS - Pharmacy'!AC386),\"\",'MIS - Pharmacy'!AC386)","v":""},"",{"$f":"IF(ISBLANK('MIS - Pharmacy'!AD386),\"\",'MIS - Pharmacy'!AD386)","v":""},"","",{"$f":"IF('MIS - Pharmacy'!A386=\"\",\"\",SUM('MIS - Pharmacy'!K386+'MIS - Pharmacy'!L386))","v":""},"",{"$f":"IF('MIS - Pharmacy'!A386=\"\",\"\",('MIS - Pharmacy'!AF386+'MIS - Pharmacy'!AH386 +'MIS - Pharmacy'!AG386))","v":""},{"$f":"IF(ISBLANK('MIS - Pharmacy'!AI386),\"\",'MIS - Pharmacy'!AI386)","v":""},"","","",{"$f":"IF(ISBLANK('MIS - Pharmacy'!V386),\"\",'MIS - Pharmacy'!V386)","v":""},"","","",{"$f":"IF(ISBLANK('MIS - Pharmacy'!J386),\"\",'MIS - Pharmacy'!J386)","v":""},{"$f":"IF(ISBLANK('MIS - Pharmacy'!AY386),\"\",'MIS - Pharmacy'!AY386)","v":""},{"$f":"IF(ISBLANK('MIS - Pharmacy'!BH386),\"\",'MIS - Pharmacy'!BH386)","v":""},"",""]
[{"$f":"IF(ISBLANK('MIS - Pharmacy'!A387), \"\",'MIS - Pharmacy'!A387)","v":""},{"$f":"IF(ISBLANK('MIS - Pharmacy'!B387),\"\",('MIS - Pharmacy'!B387&\"(\"&'MIS - Pharmacy'!D387&\")\"))","v":""},{"$f":"IF(ISBLANK('MIS - Pharmacy'!BI387), \"\", 'MIS - Pharmacy'!BI387)","v":""},{"$f":"IF(ISBLANK('MIS - Pharmacy'!U387), \"\", 'MIS - Pharmacy'!U387)","v":""},"","","","","","","",{"$f":"IF(ISBLANK('MIS - Pharmacy'!AC387),\"\",'MIS - Pharmacy'!AC387)","v":""},"",{"$f":"IF(ISBLANK('MIS - Pharmacy'!AD387),\"\",'MIS - Pharmacy'!AD387)","v":""},"","",{"$f":"IF('MIS - Pharmacy'!A387=\"\",\"\",SUM('MIS - Pharmacy'!K387+'MIS - Pharmacy'!L387))","v":""},"",{"$f":"IF('MIS - Pharmacy'!A387=\"\",\"\",('MIS - Pharmacy'!AF387+'MIS - Pharmacy'!AH387 +'MIS - Pharmacy'!AG387))","v":""},{"$f":"IF(ISBLANK('MIS - Pharmacy'!AI387),\"\",'MIS - Pharmacy'!AI387)","v":""},"","","",{"$f":"IF(ISBLANK('MIS - Pharmacy'!V387),\"\",'MIS - Pharmacy'!V387)","v":""},"","","",{"$f":"IF(ISBLANK('MIS - Pharmacy'!J387),\"\",'MIS - Pharmacy'!J387)","v":""},{"$f":"IF(ISBLANK('MIS - Pharmacy'!AY387),\"\",'MIS - Pharmacy'!AY387)","v":""},{"$f":"IF(ISBLANK('MIS - Pharmacy'!BH387),\"\",'MIS - Pharmacy'!BH387)","v":""},"",""]
[{"$f":"IF(ISBLANK('MIS - Pharmacy'!A388), \"\",'MIS - Pharmacy'!A388)","v":""},{"$f":"IF(ISBLANK('MIS - Pharmacy'!B388),\"\",('MIS - Pharmacy'!B388&\"(\"&'MIS - Pharmacy'!D388&\")\"))","v":""},{"$f":"IF(ISBLANK('MIS - Pharmacy'!BI388), \"\", 'MIS - Pharmacy'!BI388)","v":""},{"$f":"IF(ISBLANK('MIS - Pharmacy'!U388), \"\", 'MIS - Pharmacy'!U388)","v":""},"",{"$f":"IF(D397=\"\",\"\",D397*12)","v":""},{"$f":"IF(Q397=\"\",\"\",IF(Q397 = 0, 0, D397/Q397*1000))","v":""},"","",{"$f":"IF(D397=0,0,IF(D397=\"\",\"\",D397/Q397))","v":""},{"$f":"IF(D397=0,0,IF(D397=\"\",\"\",D397/X397))","v":""},{"$f":"IF(ISBLANK('MIS - Pharmacy'!AC388),\"\",'MIS - Pharmacy'!AC388)","v":""},"",{"$f":"IF(ISBLANK('MIS - Pharmacy'!AD388),\"\",'MIS - Pharmacy'!AD388)","v":""},"",{"$f":"IF(L397=\"\",\"\",IF(X397=0,0,L397/X397))","v":""},{"$f":"IF('MIS - Pharmacy'!A388=\"\",\"\",SUM('MIS - Pharmacy'!K388+'MIS - Pharmacy'!L388))","v":""},"",{"$f":"IF('MIS - Pharmacy'!A388=\"\",\"\",('MIS - Pharmacy'!AF388+'MIS - Pharmacy'!AH388 +'MIS - Pharmacy'!AG388))","v":""},{"$f":"IF(ISBLANK('MIS - Pharmacy'!AI388),\"\",'MIS - Pharmacy'!AI388)","v":""},"",{"$f":"IF(A397=\"\",\"\",IF(T397=0,0,T397/Q397*1000))","v":""},"",{"$f":"IF(ISBLANK('MIS - Pharmacy'!V388),\"\",'MIS - Pharmacy'!V388)","v":""},"","","",{"$f":"IF(ISBLANK('MIS - Pharmacy'!J388),\"\",'MIS - Pharmacy'!J388)","v":""},{"$f":"IF(ISBLANK('MIS - Pharmacy'!AY388),\"\",'MIS - Pharmacy'!AY388)","v":""},{"$f":"IF(ISBLANK('MIS - Pharmacy'!BH388),\"\",'MIS - Pharmacy'!BH388)","v":""},{"$f":"IF(A397=\"\",\"\",D397+L397)","v":""},""]
[{"$f":"IF(ISBLANK('MIS - Pharmacy'!A389), \"\",'MIS - Pharmacy'!A389)","v":""},{"$f":"IF(ISBLANK('MIS - Pharmacy'!B389),\"\",('MIS - Pharmacy'!B389&\"(\"&'MIS - Pharmacy'!D389&\")\"))","v":""},{"$f":"IF(ISBLANK('MIS - Pharmacy'!BI389), \"\", 'MIS - Pharmacy'!BI389)","v":""},{"$f":"IF(ISBLANK('MIS - Pharmacy'!U389), \"\", 'MIS - Pharmacy'!U389)","v":""},{"$f":"IF(D398=\"\",\"\",IF(D398<=D$9,\"Lower Outlier\",IF(D398<=D$5,\"Below Average\",IF(D398<=D$6,\"Lower Quartile Range\",IF(D398<=D$7,\"Upper Quartile Range\",IF(D398<=D$10,\"Above Average\",\"Upper Outlier\"))))))","v":""},"","",{"$f":"IF(D398=\"\",\"\",IF(X398=0,0,D398/Y398))","v":""},{"$f":"IF(A398=\"\",\"\",IF(D398=0,0,(D398*0.3)/Y398))","v":""},"","",{"$f":"IF(ISBLANK('MIS - Pharmacy'!AC389),\"\",'MIS - Pharmacy'!AC389)","v":""},{"$f":"IF(L398=\"\",\"\",IF(L398<=L$9,\"Lower Outlier\",IF(L398<=L$5,\"Below Average\",IF(L398<=L$6,\"Lower Quartile Range\",IF(L398<=L$7,\"Upper Quartile Range\",IF(L398<=L$10,\"Above Average\",\"Upper Outlier\"))))))","v":""},{"$f":"IF(ISBLANK('MIS - Pharmacy'!AD389),\"\",'MIS - Pharmacy'!AD389)","v":""},{"$f":"IF(N398=\"\",\"\",IF(N398=0,0,L398/N398*1000))","v":""},"",{"$f":"IF('MIS - Pharmacy'!A389=\"\",\"\",SUM('MIS - Pharmacy'!K389+'MIS - Pharmacy'!L389))","v":""},{"$f":"IF(Q398=\"\",\"\",IF(Q398<=Q$9,\"Lower Outlier\",IF(Q398<=Q$5,\"Below Average\",IF(Q398<=Q$6,\"Lower Quartile Range\",IF(Q398<=Q$7,\"Upper Quartile Range\",IF(Q398<=Q$10,\"Above Average\",\"Upper Outlier\"))))))","v":""},{"$f":"IF('MIS - Pharmacy'!A389=\"\",\"\",('MIS - Pharmacy'!AF389+'MIS - Pharmacy'!AH389 +'MIS - Pharmacy'!AG389))","v":""},{"$f":"IF(ISBLANK('MIS - Pharmacy'!AI389),\"\",'MIS - Pharmacy'!AI389)","v":""},{"$f":"IF(T398=\"\",\"\",IF(T398<=T$9,\"Lower Outlier\",IF(T398<=T$5,\"Below Average\",IF(T398<=T$6,\"Lower Quartile Range\",IF(T398<=T$7,\"Upper Quartile Range\",IF(T398<=T$10,\"Above Average\",\"Upper Outlier\"))))))","v":""},"",{"$f":"IF(V398=\"\",\"\",IF(S398 >0,(T398/S398*1000),0))","v":""},{"$f":"IF(ISBLANK('MIS - Pharmacy'!V389),\"\",'MIS - Pharmacy'!V389)","v":""},{"$f":"IF(X398=\"\",\"\",(X398/7)*$Y$3)","v":""},{"$f":"IF(X398=\"\",\"\",IF(X398<=X$9,\"Lower Outlier\",IF(X398<=X$5,\"Below Average\",IF(X398<=X$6,\"Lower Quartile Range\",IF(X398<=X$7,\"Upper Quartile Range\",IF(X398<=X$10,\"Above Average\",\"Upper Outlier\"))))))","v":""},{"$f":"IF(A398=\"\",\"\",IF(X398=0,0,Y398/Q398*1000))","v":""},{"$f":"IF(ISBLANK('MIS - Pharmacy'!J389),\"\",'MIS - Pharmacy'!J389)","v":""},{"$f":"IF(ISBLANK('MIS - Pharmacy'!AY389),\"\",'MIS - Pharmacy'!AY389)","v":""},{"$f":"IF(ISBLANK('MIS - Pharmacy'!BH389),\"\",'MIS - Pharmacy'!BH389)","v":""},"",{"$f":"IF(A398=\"\",\"\",IF(Y398=0,0,(AE398/Y398)*100))","v":""}]
[{"$f":"IF(ISBLANK('MIS - Pharmacy'!A390), \"\",'MIS - Pharmacy'!A390)","v":""},{"$f":"IF(ISBLANK('MIS - Pharmacy'!B390),\"\",('MIS - Pharmacy'!B390&\"(\"&'MIS - Pharmacy'!D390&\")\"))","v":""},{"$f":"IF(ISBLANK('MIS - Pharmacy'!BI390), \"\", 'MIS - Pharmacy'!BI390)","v":""},{"$f":"IF(ISBLANK('MIS - Pharmacy'!U390), \"\", 'MIS - Pharmacy'!U390)","v":""},"","","","","","","",{"$f":"IF(ISBLANK('MIS - Pharmacy'!AC390),\"\",'MIS - Pharmacy'!AC390)","v":""},"",{"$f":"IF(ISBLANK('MIS - Pharmacy'!AD390),\"\",'MIS - Pharmacy'!AD390)","v":""},"","",{"$f":"IF('MIS - Pharmacy'!A390=\"\",\"\",SUM('MIS - Pharmacy'!K390+'MIS - Pharmacy'!L390))","v":""},"",{"$f":"IF('MIS - Pharmacy'!A390=\"\",\"\",('MIS - Pharmacy'!AF390+'MIS - Pharmacy'!AH390 +'MIS - Pharmacy'!AG390))","v":""},{"$f":"IF(ISBLANK('MIS - Pharmacy'!AI390),\"\",'MIS - Pharmacy'!AI390)","v":""},"","","",{"$f":"IF(ISBLANK('MIS - Pharmacy'!V390),\"\",'MIS - Pharmacy'!V390)","v":""},"","","",{"$f":"IF(ISBLANK('MIS - Pharmacy'!J390),\"\",'MIS - Pharmacy'!J390)","v":""},{"$f":"IF(ISBLANK('MIS - Pharmacy'!AY390),\"\",'MIS - Pharmacy'!AY390)","v":""},{"$f":"IF(ISBLANK('MIS - Pharmacy'!BH390),\"\",'MIS - Pharmacy'!BH390)","v":""},"",""]
[{"$f":"IF(ISBLANK('MIS - Pharmacy'!A391), \"\",'MIS - Pharmacy'!A391)","v":""},{"$f":"IF(ISBLANK('MIS - Pharmacy'!B391),\"\",('MIS - Pharmacy'!B391&\"(\"&'MIS - Pharmacy'!D391&\")\"))","v":""},{"$f":"IF(ISBLANK('MIS - Pharmacy'!BI391), \"\", 'MIS - Pharmacy'!BI391)","v":""},{"$f":"IF(ISBLANK('MIS - Pharmacy'!U391), \"\", 'MIS - Pharmacy'!U391)","v":""},"","","","","","","",{"$f":"IF(ISBLANK('MIS - Pharmacy'!AC391),\"\",'MIS - Pharmacy'!AC391)","v":""},"",{"$f":"IF(ISBLANK('MIS - Pharmacy'!AD391),\"\",'MIS - Pharmacy'!AD391)","v":""},"","",{"$f":"IF('MIS - Pharmacy'!A391=\"\",\"\",SUM('MIS - Pharmacy'!K391+'MIS - Pharmacy'!L391))","v":""},"",{"$f":"IF('MIS - Pharmacy'!A391=\"\",\"\",('MIS - Pharmacy'!AF391+'MIS - Pharmacy'!AH391 +'MIS - Pharmacy'!AG391))","v":""},{"$f":"IF(ISBLANK('MIS - Pharmacy'!AI391),\"\",'MIS - Pharmacy'!AI391)","v":""},"","","",{"$f":"IF(ISBLANK('MIS - Pharmacy'!V391),\"\",'MIS - Pharmacy'!V391)","v":""},"","","",{"$f":"IF(ISBLANK('MIS - Pharmacy'!J391),\"\",'MIS - Pharmacy'!J391)","v":""},{"$f":"IF(ISBLANK('MIS - Pharmacy'!AY391),\"\",'MIS - Pharmacy'!AY391)","v":""},{"$f":"IF(ISBLANK('MIS - Pharmacy'!BH391),\"\",'MIS - Pharmacy'!BH391)","v":""},"",""]
[{"$f":"IF(ISBLANK('MIS - Pharmacy'!A392), \"\",'MIS - Pharmacy'!A392)","v":""},{"$f":"IF(ISBLANK('MIS - Pharmacy'!B392),\"\",('MIS - Pharmacy'!B392&\"(\"&'MIS - Pharmacy'!D392&\")\"))","v":""},{"$f":"IF(ISBLANK('MIS - Pharmacy'!BI392), \"\", 'MIS - Pharmacy'!BI392)","v":""},{"$f":"IF(ISBLANK('MIS - Pharmacy'!U392), \"\", 'MIS - Pharmacy'!U392)","v":""},"","","","","","","",{"$f":"IF(ISBLANK('MIS - Pharmacy'!AC392),\"\",'MIS - Pharmacy'!AC392)","v":""},"",{"$f":"IF(ISBLANK('MIS - Pharmacy'!AD392),\"\",'MIS - Pharmacy'!AD392)","v":""},"","",{"$f":"IF('MIS - Pharmacy'!A392=\"\",\"\",SUM('MIS - Pharmacy'!K392+'MIS - Pharmacy'!L392))","v":""},"",{"$f":"IF('MIS - Pharmacy'!A392=\"\",\"\",('MIS - Pharmacy'!AF392+'MIS - Pharmacy'!AH392 +'MIS - Pharmacy'!AG392))","v":""},{"$f":"IF(ISBLANK('MIS - Pharmacy'!AI392),\"\",'MIS - Pharmacy'!AI392)","v":""},"","","",{"$f":"IF(ISBLANK('MIS - Pharmacy'!V392),\"\",'MIS - Pharmacy'!V392)","v":""},"","","",{"$f":"IF(ISBLANK('MIS - Pharmacy'!J392),\"\",'MIS - Pharmacy'!J392)","v":""},{"$f":"IF(ISBLANK('MIS - Pharmacy'!AY392),\"\",'MIS - Pharmacy'!AY392)","v":""},{"$f":"IF(ISBLANK('MIS - Pharmacy'!BH392),\"\",'MIS - Pharmacy'!BH392)","v":""},"",""]
[{"$f":"IF(ISBLANK('MIS - Pharmacy'!A393), \"\",'MIS - Pharmacy'!A393)","v":""},{"$f":"IF(ISBLANK('MIS - Pharmacy'!B393),\"\",('MIS - Pharmacy'!B393&\"(\"&'MIS - Pharmacy'!D393&\")\"))","v":""},{"$f":"IF(ISBLANK('MIS - Pharmacy'!BI393), \"\", 'MIS - Pharmacy'!BI393)","v":""},{"$f":"IF(ISBLANK('MIS - Pharmacy'!U393), \"\", 'MIS - Pharmacy'!U393)","v":""},"","","","","","","",{"$f":"IF(ISBLANK('MIS - Pharmacy'!AC393),\"\",'MIS - Pharmacy'!AC393)","v":""},"",{"$f":"IF(ISBLANK('MIS - Pharmacy'!AD393),\"\",'MIS - Pharmacy'!AD393)","v":""},"","",{"$f":"IF('MIS - Pharmacy'!A393=\"\",\"\",SUM('MIS - Pharmacy'!K393+'MIS - Pharmacy'!L393))","v":""},"",{"$f":"IF('MIS - Pharmacy'!A393=\"\",\"\",('MIS - Pharmacy'!AF393+'MIS - Pharmacy'!AH393 +'MIS - Pharmacy'!AG393))","v":""},{"$f":"IF(ISBLANK('MIS - Pharmacy'!AI393),\"\",'MIS - Pharmacy'!AI393)","v":""},"","","",{"$f":"IF(ISBLANK('MIS - Pharmacy'!V393),\"\",'MIS - Pharmacy'!V393)","v":""},"","","",{"$f":"IF(ISBLANK('MIS - Pharmacy'!J393),\"\",'MIS - Pharmacy'!J393)","v":""},{"$f":"IF(ISBLANK('MIS - Pharmacy'!AY393),\"\",'MIS - Pharmacy'!AY393)","v":""},{"$f":"IF(ISBLANK('MIS - Pharmacy'!BH393),\"\",'MIS - Pharmacy'!BH393)","v":""},"",""]
[{"$f":"IF(ISBLANK('MIS - Pharmacy'!A394), \"\",'MIS - Pharmacy'!A394)","v":""},{"$f":"IF(ISBLANK('MIS - Pharmacy'!B394),\"\",('MIS - Pharmacy'!B394&\"(\"&'MIS - Pharmacy'!D394&\")\"))","v":""},{"$f":"IF(ISBLANK('MIS - Pharmacy'!BI394), \"\", 'MIS - Pharmacy'!BI394)","v":""},{"$f":"IF(ISBLANK('MIS - Pharmacy'!U394), \"\", 'MIS - Pharmacy'!U394)","v":""},"","","","","","","",{"$f":"IF(ISBLANK('MIS - Pharmacy'!AC394),\"\",'MIS - Pharmacy'!AC394)","v":""},"",{"$f":"IF(ISBLANK('MIS - Pharmacy'!AD394),\"\",'MIS - Pharmacy'!AD394)","v":""},"","",{"$f":"IF('MIS - Pharmacy'!A394=\"\",\"\",SUM('MIS - Pharmacy'!K394+'MIS - Pharmacy'!L394))","v":""},"",{"$f":"IF('MIS - Pharmacy'!A394=\"\",\"\",('MIS - Pharmacy'!AF394+'MIS - Pharmacy'!AH394 +'MIS - Pharmacy'!AG394))","v":""},{"$f":"IF(ISBLANK('MIS - Pharmacy'!AI394),\"\",'MIS - Pharmacy'!AI394)","v":""},"","","",{"$f":"IF(ISBLANK('MIS - Pharmacy'!V394),\"\",'MIS - Pharmacy'!V394)","v":""},"","","",{"$f":"IF(ISBLANK('MIS - Pharmacy'!J394),\"\",'MIS - Pharmacy'!J394)","v":""},{"$f":"IF(ISBLANK('MIS - Pharmacy'!AY394),\"\",'MIS - Pharmacy'!AY394)","v":""},{"$f":"IF(ISBLANK('MIS - Pharmacy'!BH394),\"\",'MIS - Pharmacy'!BH394)","v":""},"",""]
[{"$f":"IF(ISBLANK('MIS - Pharmacy'!A395), \"\",'MIS - Pharmacy'!A395)","v":""},{"$f":"IF(ISBLANK('MIS - Pharmacy'!B395),\"\",('MIS - Pharmacy'!B395&\"(\"&'MIS - Pharmacy'!D395&\")\"))","v":""},{"$f":"IF(ISBLANK('MIS - Pharmacy'!BI395), \"\", 'MIS - Pharmacy'!BI395)","v":""},{"$f":"IF(ISBLANK('MIS - Pharmacy'!U395), \"\", 'MIS - Pharmacy'!U395)","v":""},"","","","","","","",{"$f":"IF(ISBLANK('MIS - Pharmacy'!AC395),\"\",'MIS - Pharmacy'!AC395)","v":""},"",{"$f":"IF(ISBLANK('MIS - Pharmacy'!AD395),\"\",'MIS - Pharmacy'!AD395)","v":""},"","",{"$f":"IF('MIS - Pharmacy'!A395=\"\",\"\",SUM('MIS - Pharmacy'!K395+'MIS - Pharmacy'!L395))","v":""},"",{"$f":"IF('MIS - Pharmacy'!A395=\"\",\"\",('MIS - Pharmacy'!AF395+'MIS - Pharmacy'!AH395 +'MIS - Pharmacy'!AG395))","v":""},{"$f":"IF(ISBLANK('MIS - Pharmacy'!AI395),\"\",'MIS - Pharmacy'!AI395)","v":""},"","","",{"$f":"IF(ISBLANK('MIS - Pharmacy'!V395),\"\",'MIS - Pharmacy'!V395)","v":""},"","","",{"$f":"IF(ISBLANK('MIS - Pharmacy'!J395),\"\",'MIS - Pharmacy'!J395)","v":""},{"$f":"IF(ISBLANK('MIS - Pharmacy'!AY395),\"\",'MIS - Pharmacy'!AY395)","v":""},{"$f":"IF(ISBLANK('MIS - Pharmacy'!BH395),\"\",'MIS - Pharmacy'!BH395)","v":""},"",""]
[{"$f":"IF(ISBLANK('MIS - Pharmacy'!A396), \"\",'MIS - Pharmacy'!A396)","v":""},{"$f":"IF(ISBLANK('MIS - Pharmacy'!B396),\"\",('MIS - Pharmacy'!B396&\"(\"&'MIS - Pharmacy'!D396&\")\"))","v":""},{"$f":"IF(ISBLANK('MIS - Pharmacy'!BI396), \"\", 'MIS - Pharmacy'!BI396)","v":""},{"$f":"IF(ISBLANK('MIS - Pharmacy'!U396), \"\", 'MIS - Pharmacy'!U396)","v":""},"","","","","","","",{"$f":"IF(ISBLANK('MIS - Pharmacy'!AC396),\"\",'MIS - Pharmacy'!AC396)","v":""},"",{"$f":"IF(ISBLANK('MIS - Pharmacy'!AD396),\"\",'MIS - Pharmacy'!AD396)","v":""},"","",{"$f":"IF('MIS - Pharmacy'!A396=\"\",\"\",SUM('MIS - Pharmacy'!K396+'MIS - Pharmacy'!L396))","v":""},"",{"$f":"IF('MIS - Pharmacy'!A396=\"\",\"\",('MIS - Pharmacy'!AF396+'MIS - Pharmacy'!AH396 +'MIS - Pharmacy'!AG396))","v":""},{"$f":"IF(ISBLANK('MIS - Pharmacy'!AI396),\"\",'MIS - Pharmacy'!AI396)","v":""},"","","",{"$f":"IF(ISBLANK('MIS - Pharmacy'!V396),\"\",'MIS - Pharmacy'!V396)","v":""},"","","",{"$f":"IF(ISBLANK('MIS - Pharmacy'!J396),\"\",'MIS - Pharmacy'!J396)","v":""},{"$f":"IF(ISBLANK('MIS - Pharmacy'!AY396),\"\",'MIS - Pharmacy'!AY396)","v":""},{"$f":"IF(ISBLANK('MIS - Pharmacy'!BH396),\"\",'MIS - Pharmacy'!BH396)","v":""},"",""]
[{"$f":"IF(ISBLANK('MIS - Pharmacy'!A397), \"\",'MIS - Pharmacy'!A397)","v":""},{"$f":"IF(ISBLANK('MIS - Pharmacy'!B397),\"\",('MIS - Pharmacy'!B397&\"(\"&'MIS - Pharmacy'!D397&\")\"))","v":""},{"$f":"IF(ISBLANK('MIS - Pharmacy'!BI397), \"\", 'MIS - Pharmacy'!BI397)","v":""},{"$f":"IF(ISBLANK('MIS - Pharmacy'!U397), \"\", 'MIS - Pharmacy'!U397)","v":""},"","","","","","","",{"$f":"IF(ISBLANK('MIS - Pharmacy'!AC397),\"\",'MIS - Pharmacy'!AC397)","v":""},"",{"$f":"IF(ISBLANK('MIS - Pharmacy'!AD397),\"\",'MIS - Pharmacy'!AD397)","v":""},"","",{"$f":"IF('MIS - Pharmacy'!A397=\"\",\"\",SUM('MIS - Pharmacy'!K397+'MIS - Pharmacy'!L397))","v":""},"",{"$f":"IF('MIS - Pharmacy'!A397=\"\",\"\",('MIS - Pharmacy'!AF397+'MIS - Pharmacy'!AH397 +'MIS - Pharmacy'!AG397))","v":""},{"$f":"IF(ISBLANK('MIS - Pharmacy'!AI397),\"\",'MIS - Pharmacy'!AI397)","v":""},"","","",{"$f":"IF(ISBLANK('MIS - Pharmacy'!V397),\"\",'MIS - Pharmacy'!V397)","v":""},"","","",{"$f":"IF(ISBLANK('MIS - Pharmacy'!J397),\"\",'MIS - Pharmacy'!J397)","v":""},{"$f":"IF(ISBLANK('MIS - Pharmacy'!AY397),\"\",'MIS - Pharmacy'!AY397)","v":""},{"$f":"IF(ISBLANK('MIS - Pharmacy'!BH397),\"\",'MIS - Pharmacy'!BH397)","v":""},"",""]
[{"$f":"IF(ISBLANK('MIS - Pharmacy'!A398), \"\",'MIS - Pharmacy'!A398)","v":""},{"$f":"IF(ISBLANK('MIS - Pharmacy'!B398),\"\",('MIS - Pharmacy'!B398&\"(\"&'MIS - Pharmacy'!D398&\")\"))","v":""},{"$f":"IF(ISBLANK('MIS - Pharmacy'!BI398), \"\", 'MIS - Pharmacy'!BI398)","v":""},{"$f":"IF(ISBLANK('MIS - Pharmacy'!U398), \"\", 'MIS - Pharmacy'!U398)","v":""},"","","","","","","",{"$f":"IF(ISBLANK('MIS - Pharmacy'!AC398),\"\",'MIS - Pharmacy'!AC398)","v":""},"",{"$f":"IF(ISBLANK('MIS - Pharmacy'!AD398),\"\",'MIS - Pharmacy'!AD398)","v":""},"","",{"$f":"IF('MIS - Pharmacy'!A398=\"\",\"\",SUM('MIS - Pharmacy'!K398+'MIS - Pharmacy'!L398))","v":""},"",{"$f":"IF('MIS - Pharmacy'!A398=\"\",\"\",('MIS - Pharmacy'!AF398+'MIS - Pharmacy'!AH398 +'MIS - Pharmacy'!AG398))","v":""},{"$f":"IF(ISBLANK('MIS - Pharmacy'!AI398),\"\",'MIS - Pharmacy'!AI398)","v":""},"","","",{"$f":"IF(ISBLANK('MIS - Pharmacy'!V398),\"\",'MIS - Pharmacy'!V398)","v":""},"","","",{"$f":"IF(ISBLANK('MIS - Pharmacy'!J398),\"\",'MIS - Pharmacy'!J398)","v":""},{"$f":"IF(ISBLANK('MIS - Pharmacy'!AY398),\"\",'MIS - Pharmacy'!AY398)","v":""},{"$f":"IF(ISBLANK('MIS - Pharmacy'!BH398),\"\",'MIS - Pharmacy'!BH398)","v":""},"",""]
[{"$f":"IF(ISBLANK('MIS - Pharmacy'!A399), \"\",'MIS - Pharmacy'!A399)","v":""},{"$f":"IF(ISBLANK('MIS - Pharmacy'!B399),\"\",('MIS - Pharmacy'!B399&\"(\"&'MIS - Pharmacy'!D399&\")\"))","v":""},{"$f":"IF(ISBLANK('MIS - Pharmacy'!BI399), \"\", 'MIS - Pharmacy'!BI399)","v":""},{"$f":"IF(ISBLANK('MIS - Pharmacy'!U399), \"\", 'MIS - Pharmacy'!U399)","v":""},"","","","","","","",{"$f":"IF(ISBLANK('MIS - Pharmacy'!AC399),\"\",'MIS - Pharmacy'!AC399)","v":""},"",{"$f":"IF(ISBLANK('MIS - Pharmacy'!AD399),\"\",'MIS - Pharmacy'!AD399)","v":""},"","",{"$f":"IF('MIS - Pharmacy'!A399=\"\",\"\",SUM('MIS - Pharmacy'!K399+'MIS - Pharmacy'!L399))","v":""},"",{"$f":"IF('MIS - Pharmacy'!A399=\"\",\"\",('MIS - Pharmacy'!AF399+'MIS - Pharmacy'!AH399 +'MIS - Pharmacy'!AG399))","v":""},{"$f":"IF(ISBLANK('MIS - Pharmacy'!AI399),\"\",'MIS - Pharmacy'!AI399)","v":""},"","","",{"$f":"IF(ISBLANK('MIS - Pharmacy'!V399),\"\",'MIS - Pharmacy'!V399)","v":""},"","","",{"$f":"IF(ISBLANK('MIS - Pharmacy'!J399),\"\",'MIS - Pharmacy'!J399)","v":""},{"$f":"IF(ISBLANK('MIS - Pharmacy'!AY399),\"\",'MIS - Pharmacy'!AY399)","v":""},{"$f":"IF(ISBLANK('MIS - Pharmacy'!BH399),\"\",'MIS - Pharmacy'!BH399)","v":""},"",""]
[{"$f":"IF(ISBLANK('MIS - Pharmacy'!A400), \"\",'MIS - Pharmacy'!A400)","v":""},{"$f":"IF(ISBLANK('MIS - Pharmacy'!B400),\"\",('MIS - Pharmacy'!B400&\"(\"&'MIS - Pharmacy'!D400&\")\"))","v":""},{"$f":"IF(ISBLANK('MIS - Pharmacy'!BI400), \"\", 'MIS - Pharmacy'!BI400)","v":""},{"$f":"IF(ISBLANK('MIS - Pharmacy'!U400), \"\", 'MIS - Pharmacy'!U400)","v":""},"","","","","","","",{"$f":"IF(ISBLANK('MIS - Pharmacy'!AC400),\"\",'MIS - Pharmacy'!AC400)","v":""},"",{"$f":"IF(ISBLANK('MIS - Pharmacy'!AD400),\"\",'MIS - Pharmacy'!AD400)","v":""},"","",{"$f":"IF('MIS - Pharmacy'!A400=\"\",\"\",SUM('MIS - Pharmacy'!K400+'MIS - Pharmacy'!L400))","v":""},"",{"$f":"IF('MIS - Pharmacy'!A400=\"\",\"\",('MIS - Pharmacy'!AF400+'MIS - Pharmacy'!AH400 +'MIS - Pharmacy'!AG400))","v":""},{"$f":"IF(ISBLANK('MIS - Pharmacy'!AI400),\"\",'MIS - Pharmacy'!AI400)","v":""},"","","",{"$f":"IF(ISBLANK('MIS - Pharmacy'!V400),\"\",'MIS - Pharmacy'!V400)","v":""},"","","",{"$f":"IF(ISBLANK('MIS - Pharmacy'!J400),\"\",'MIS - Pharmacy'!J400)","v":""},{"$f":"IF(ISBLANK('MIS - Pharmacy'!AY400),\"\",'MIS - Pharmacy'!AY400)","v":""},{"$f":"IF(ISBLANK('MIS - Pharmacy'!BH400),\"\",'MIS - Pharmacy'!BH400)","v":""},"",""]
[{"$f":"IF(ISBLANK('MIS - Pharmacy'!A401), \"\",'MIS - Pharmacy'!A401)","v":""},{"$f":"IF(ISBLANK('MIS - Pharmacy'!B401),\"\",('MIS - Pharmacy'!B401&\"(\"&'MIS - Pharmacy'!D401&\")\"))","v":""},{"$f":"IF(ISBLANK('MIS - Pharmacy'!BI401), \"\", 'MIS - Pharmacy'!BI401)","v":""},{"$f":"IF(ISBLANK('MIS - Pharmacy'!U401), \"\", 'MIS - Pharmacy'!U401)","v":""},"","","","","","","",{"$f":"IF(ISBLANK('MIS - Pharmacy'!AC401),\"\",'MIS - Pharmacy'!AC401)","v":""},"",{"$f":"IF(ISBLANK('MIS - Pharmacy'!AD401),\"\",'MIS - Pharmacy'!AD401)","v":""},"","",{"$f":"IF('MIS - Pharmacy'!A401=\"\",\"\",SUM('MIS - Pharmacy'!K401+'MIS - Pharmacy'!L401))","v":""},"",{"$f":"IF('MIS - Pharmacy'!A401=\"\",\"\",('MIS - Pharmacy'!AF401+'MIS - Pharmacy'!AH401 +'MIS - Pharmacy'!AG401))","v":""},{"$f":"IF(ISBLANK('MIS - Pharmacy'!AI401),\"\",'MIS - Pharmacy'!AI401)","v":""},"","","",{"$f":"IF(ISBLANK('MIS - Pharmacy'!V401),\"\",'MIS - Pharmacy'!V401)","v":""},"","","",{"$f":"IF(ISBLANK('MIS - Pharmacy'!J401),\"\",'MIS - Pharmacy'!J401)","v":""},{"$f":"IF(ISBLANK('MIS - Pharmacy'!AY401),\"\",'MIS - Pharmacy'!AY401)","v":""},{"$f":"IF(ISBLANK('MIS - Pharmacy'!BH401),\"\",'MIS - Pharmacy'!BH401)","v":""},"",""]
[{"$f":"IF(ISBLANK('MIS - Pharmacy'!A402), \"\",'MIS - Pharmacy'!A402)","v":""},{"$f":"IF(ISBLANK('MIS - Pharmacy'!B402),\"\",('MIS - Pharmacy'!B402&\"(\"&'MIS - Pharmacy'!D402&\")\"))","v":""},{"$f":"IF(ISBLANK('MIS - Pharmacy'!BI402), \"\", 'MIS - Pharmacy'!BI402)","v":""},{"$f":"IF(ISBLANK('MIS - Pharmacy'!U402), \"\", 'MIS - Pharmacy'!U402)","v":""},"","","","","","","",{"$f":"IF(ISBLANK('MIS - Pharmacy'!AC402),\"\",'MIS - Pharmacy'!AC402)","v":""},"",{"$f":"IF(ISBLANK('MIS - Pharmacy'!AD402),\"\",'MIS - Pharmacy'!AD402)","v":""},"","",{"$f":"IF('MIS - Pharmacy'!A402=\"\",\"\",SUM('MIS - Pharmacy'!K402+'MIS - Pharmacy'!L402))","v":""},"",{"$f":"IF('MIS - Pharmacy'!A402=\"\",\"\",('MIS - Pharmacy'!AF402+'MIS - Pharmacy'!AH402 +'MIS - Pharmacy'!AG402))","v":""},{"$f":"IF(ISBLANK('MIS - Pharmacy'!AI402),\"\",'MIS - Pharmacy'!AI402)","v":""},"","","",{"$f":"IF(ISBLANK('MIS - Pharmacy'!V402),\"\",'MIS - Pharmacy'!V402)","v":""},"","","",{"$f":"IF(ISBLANK('MIS - Pharmacy'!J402),\"\",'MIS - Pharmacy'!J402)","v":""},{"$f":"IF(ISBLANK('MIS - Pharmacy'!AY402),\"\",'MIS - Pharmacy'!AY402)","v":""},{"$f":"IF(ISBLANK('MIS - Pharmacy'!BH402),\"\",'MIS - Pharmacy'!BH402)","v":""},"",""]
[{"$f":"IF(ISBLANK('MIS - Pharmacy'!A403), \"\",'MIS - Pharmacy'!A403)","v":""},{"$f":"IF(ISBLANK('MIS - Pharmacy'!B403),\"\",('MIS - Pharmacy'!B403&\"(\"&'MIS - Pharmacy'!D403&\")\"))","v":""},{"$f":"IF(ISBLANK('MIS - Pharmacy'!BI403), \"\", 'MIS - Pharmacy'!BI403)","v":""},{"$f":"IF(ISBLANK('MIS - Pharmacy'!U403), \"\", 'MIS - Pharmacy'!U403)","v":""},"","","","","","","",{"$f":"IF(ISBLANK('MIS - Pharmacy'!AC403),\"\",'MIS - Pharmacy'!AC403)","v":""},"",{"$f":"IF(ISBLANK('MIS - Pharmacy'!AD403),\"\",'MIS - Pharmacy'!AD403)","v":""},"","",{"$f":"IF('MIS - Pharmacy'!A403=\"\",\"\",SUM('MIS - Pharmacy'!K403+'MIS - Pharmacy'!L403))","v":""},"",{"$f":"IF('MIS - Pharmacy'!A403=\"\",\"\",('MIS - Pharmacy'!AF403+'MIS - Pharmacy'!AH403 +'MIS - Pharmacy'!AG403))","v":""},{"$f":"IF(ISBLANK('MIS - Pharmacy'!AI403),\"\",'MIS - Pharmacy'!AI403)","v":""},"","","",{"$f":"IF(ISBLANK('MIS - Pharmacy'!V403),\"\",'MIS - Pharmacy'!V403)","v":""},"","","",{"$f":"IF(ISBLANK('MIS - Pharmacy'!J403),\"\",'MIS - Pharmacy'!J403)","v":""},{"$f":"IF(ISBLANK('MIS - Pharmacy'!AY403),\"\",'MIS - Pharmacy'!AY403)","v":""},{"$f":"IF(ISBLANK('MIS - Pharmacy'!BH403),\"\",'MIS - Pharmacy'!BH403)","v":""},"",""]
[{"$f":"IF(ISBLANK('MIS - Pharmacy'!A404), \"\",'MIS - Pharmacy'!A404)","v":""},{"$f":"IF(ISBLANK('MIS - Pharmacy'!B404),\"\",('MIS - Pharmacy'!B404&\"(\"&'MIS - Pharmacy'!D404&\")\"))","v":""},{"$f":"IF(ISBLANK('MIS - Pharmacy'!BI404), \"\", 'MIS - Pharmacy'!BI404)","v":""},{"$f":"IF(ISBLANK('MIS - Pharmacy'!U404), \"\", 'MIS - Pharmacy'!U404)","v":""},"","","","","","","",{"$f":"IF(ISBLANK('MIS - Pharmacy'!AC404),\"\",'MIS - Pharmacy'!AC404)","v":""},"",{"$f":"IF(ISBLANK('MIS - Pharmacy'!AD404),\"\",'MIS - Pharmacy'!AD404)","v":""},"","",{"$f":"IF('MIS - Pharmacy'!A404=\"\",\"\",SUM('MIS - Pharmacy'!K404+'MIS - Pharmacy'!L404))","v":""},"",{"$f":"IF('MIS - Pharmacy'!A404=\"\",\"\",('MIS - Pharmacy'!AF404+'MIS - Pharmacy'!AH404 +'MIS - Pharmacy'!AG404))","v":""},{"$f":"IF(ISBLANK('MIS - Pharmacy'!AI404),\"\",'MIS - Pharmacy'!AI404)","v":""},"","","",{"$f":"IF(ISBLANK('MIS - Pharmacy'!V404),\"\",'MIS - Pharmacy'!V404)","v":""},"","","",{"$f":"IF(ISBLANK('MIS - Pharmacy'!J404),\"\",'MIS - Pharmacy'!J404)","v":""},{"$f":"IF(ISBLANK('MIS - Pharmacy'!AY404),\"\",'MIS - Pharmacy'!AY404)","v":""},{"$f":"IF(ISBLANK('MIS - Pharmacy'!BH404),\"\",'MIS - Pharmacy'!BH404)","v":""},"",""]
[{"$f":"IF(ISBLANK('MIS - Pharmacy'!A405), \"\",'MIS - Pharmacy'!A405)","v":""},{"$f":"IF(ISBLANK('MIS - Pharmacy'!B405),\"\",('MIS - Pharmacy'!B405&\"(\"&'MIS - Pharmacy'!D405&\")\"))","v":""},{"$f":"IF(ISBLANK('MIS - Pharmacy'!BI405), \"\", 'MIS - Pharmacy'!BI405)","v":""},{"$f":"IF(ISBLANK('MIS - Pharmacy'!U405), \"\", 'MIS - Pharmacy'!U405)","v":""},"","","","","","","",{"$f":"IF(ISBLANK('MIS - Pharmacy'!AC405),\"\",'MIS - Pharmacy'!AC405)","v":""},"",{"$f":"IF(ISBLANK('MIS - Pharmacy'!AD405),\"\",'MIS - Pharmacy'!AD405)","v":""},"","",{"$f":"IF('MIS - Pharmacy'!A405=\"\",\"\",SUM('MIS - Pharmacy'!K405+'MIS - Pharmacy'!L405))","v":""},"",{"$f":"IF('MIS - Pharmacy'!A405=\"\",\"\",('MIS - Pharmacy'!AF405+'MIS - Pharmacy'!AH405 +'MIS - Pharmacy'!AG405))","v":""},{"$f":"IF(ISBLANK('MIS - Pharmacy'!AI405),\"\",'MIS - Pharmacy'!AI405)","v":""},"","","",{"$f":"IF(ISBLANK('MIS - Pharmacy'!V405),\"\",'MIS - Pharmacy'!V405)","v":""},"","","",{"$f":"IF(ISBLANK('MIS - Pharmacy'!J405),\"\",'MIS - Pharmacy'!J405)","v":""},{"$f":"IF(ISBLANK('MIS - Pharmacy'!AY405),\"\",'MIS - Pharmacy'!AY405)","v":""},{"$f":"IF(ISBLANK('MIS - Pharmacy'!BH405),\"\",'MIS - Pharmacy'!BH405)","v":""},"",""]
[{"$f":"IF(ISBLANK('MIS - Pharmacy'!A406), \"\",'MIS - Pharmacy'!A406)","v":""},{"$f":"IF(ISBLANK('MIS - Pharmacy'!B406),\"\",('MIS - Pharmacy'!B406&\"(\"&'MIS - Pharmacy'!D406&\")\"))","v":""},{"$f":"IF(ISBLANK('MIS - Pharmacy'!BI406), \"\", 'MIS - Pharmacy'!BI406)","v":""},{"$f":"IF(ISBLANK('MIS - Pharmacy'!U406), \"\", 'MIS - Pharmacy'!U406)","v":""},"","","","","","","",{"$f":"IF(ISBLANK('MIS - Pharmacy'!AC406),\"\",'MIS - Pharmacy'!AC406)","v":""},"",{"$f":"IF(ISBLANK('MIS - Pharmacy'!AD406),\"\",'MIS - Pharmacy'!AD406)","v":""},"","",{"$f":"IF('MIS - Pharmacy'!A406=\"\",\"\",SUM('MIS - Pharmacy'!K406+'MIS - Pharmacy'!L406))","v":""},"",{"$f":"IF('MIS - Pharmacy'!A406=\"\",\"\",('MIS - Pharmacy'!AF406+'MIS - Pharmacy'!AH406 +'MIS - Pharmacy'!AG406))","v":""},{"$f":"IF(ISBLANK('MIS - Pharmacy'!AI406),\"\",'MIS - Pharmacy'!AI406)","v":""},"","","",{"$f":"IF(ISBLANK('MIS - Pharmacy'!V406),\"\",'MIS - Pharmacy'!V406)","v":""},"","","",{"$f":"IF(ISBLANK('MIS - Pharmacy'!J406),\"\",'MIS - Pharmacy'!J406)","v":""},{"$f":"IF(ISBLANK('MIS - Pharmacy'!AY406),\"\",'MIS - Pharmacy'!AY406)","v":""},{"$f":"IF(ISBLANK('MIS - Pharmacy'!BH406),\"\",'MIS - Pharmacy'!BH406)","v":""},"",""]
[{"$f":"IF(ISBLANK('MIS - Pharmacy'!A407), \"\",'MIS - Pharmacy'!A407)","v":""},{"$f":"IF(ISBLANK('MIS - Pharmacy'!B407),\"\",('MIS - Pharmacy'!B407&\"(\"&'MIS - Pharmacy'!D407&\")\"))","v":""},{"$f":"IF(ISBLANK('MIS - Pharmacy'!BI407), \"\", 'MIS - Pharmacy'!BI407)","v":""},{"$f":"IF(ISBLANK('MIS - Pharmacy'!U407), \"\", 'MIS - Pharmacy'!U407)","v":""},"","","","","","","",{"$f":"IF(ISBLANK('MIS - Pharmacy'!AC407),\"\",'MIS - Pharmacy'!AC407)","v":""},"",{"$f":"IF(ISBLANK('MIS - Pharmacy'!AD407),\"\",'MIS - Pharmacy'!AD407)","v":""},"","",{"$f":"IF('MIS - Pharmacy'!A407=\"\",\"\",SUM('MIS - Pharmacy'!K407+'MIS - Pharmacy'!L407))","v":""},"",{"$f":"IF('MIS - Pharmacy'!A407=\"\",\"\",('MIS - Pharmacy'!AF407+'MIS - Pharmacy'!AH407 +'MIS - Pharmacy'!AG407))","v":""},{"$f":"IF(ISBLANK('MIS - Pharmacy'!AI407),\"\",'MIS - Pharmacy'!AI407)","v":""},"","","",{"$f":"IF(ISBLANK('MIS - Pharmacy'!V407),\"\",'MIS - Pharmacy'!V407)","v":""},"","","",{"$f":"IF(ISBLANK('MIS - Pharmacy'!J407),\"\",'MIS - Pharmacy'!J407)","v":""},{"$f":"IF(ISBLANK('MIS - Pharmacy'!AY407),\"\",'MIS - Pharmacy'!AY407)","v":""},{"$f":"IF(ISBLANK('MIS - Pharmacy'!BH407),\"\",'MIS - Pharmacy'!BH407)","v":""},"",""]
[{"$f":"IF(ISBLANK('MIS - Pharmacy'!A408), \"\",'MIS - Pharmacy'!A408)","v":""},{"$f":"IF(ISBLANK('MIS - Pharmacy'!B408),\"\",('MIS - Pharmacy'!B408&\"(\"&'MIS - Pharmacy'!D408&\")\"))","v":""},{"$f":"IF(ISBLANK('MIS - Pharmacy'!BI408), \"\", 'MIS - Pharmacy'!BI408)","v":""},{"$f":"IF(ISBLANK('MIS - Pharmacy'!U408), \"\", 'MIS - Pharmacy'!U408)","v":""},"","","","","","","",{"$f":"IF(ISBLANK('MIS - Pharmacy'!AC408),\"\",'MIS - Pharmacy'!AC408)","v":""},"",{"$f":"IF(ISBLANK('MIS - Pharmacy'!AD408),\"\",'MIS - Pharmacy'!AD408)","v":""},"","",{"$f":"IF('MIS - Pharmacy'!A408=\"\",\"\",SUM('MIS - Pharmacy'!K408+'MIS - Pharmacy'!L408))","v":""},"",{"$f":"IF('MIS - Pharmacy'!A408=\"\",\"\",('MIS - Pharmacy'!AF408+'MIS - Pharmacy'!AH408 +'MIS - Pharmacy'!AG408))","v":""},{"$f":"IF(ISBLANK('MIS - Pharmacy'!AI408),\"\",'MIS - Pharmacy'!AI408)","v":""},"","","",{"$f":"IF(ISBLANK('MIS - Pharmacy'!V408),\"\",'MIS - Pharmacy'!V408)","v":""},"","","",{"$f":"IF(ISBLANK('MIS - Pharmacy'!J408),\"\",'MIS - Pharmacy'!J408)","v":""},{"$f":"IF(ISBLANK('MIS - Pharmacy'!AY408),\"\",'MIS - Pharmacy'!AY408)","v":""},{"$f":"IF(ISBLANK('MIS - Pharmacy'!BH408),\"\",'MIS - Pharmacy'!BH408)","v":""},"",""]
[{"$f":"IF(ISBLANK('MIS - Pharmacy'!A409), \"\",'MIS - Pharmacy'!A409)","v":""},{"$f":"IF(ISBLANK('MIS - Pharmacy'!B409),\"\",('MIS - Pharmacy'!B409&\"(\"&'MIS - Pharmacy'!D409&\")\"))","v":""},{"$f":"IF(ISBLANK('MIS - Pharmacy'!BI409), \"\", 'MIS - Pharmacy'!BI409)","v":""},{"$f":"IF(ISBLANK('MIS - Pharmacy'!U409), \"\", 'MIS - Pharmacy'!U409)","v":""},"","","","","","","",{"$f":"IF(ISBLANK('MIS - Pharmacy'!AC409),\"\",'MIS - Pharmacy'!AC409)","v":""},"",{"$f":"IF(ISBLANK('MIS - Pharmacy'!AD409),\"\",'MIS - Pharmacy'!AD409)","v":""},"","",{"$f":"IF('MIS - Pharmacy'!A409=\"\",\"\",SUM('MIS - Pharmacy'!K409+'MIS - Pharmacy'!L409))","v":""},"",{"$f":"IF('MIS - Pharmacy'!A409=\"\",\"\",('MIS - Pharmacy'!AF409+'MIS - Pharmacy'!AH409 +'MIS - Pharmacy'!AG409))","v":""},{"$f":"IF(ISBLANK('MIS - Pharmacy'!AI409),\"\",'MIS - Pharmacy'!AI409)","v":""},"","","",{"$f":"IF(ISBLANK('MIS - Pharmacy'!V409),\"\",'MIS - Pharmacy'!V409)","v":""},"","","",{"$f":"IF(ISBLANK('MIS - Pharmacy'!J409),\"\",'MIS - Pharmacy'!J409)","v":""},{"$f":"IF(ISBLANK('MIS - Pharmacy'!AY409),\"\",'MIS - Pharmacy'!AY409)","v":""},{"$f":"IF(ISBLANK('MIS - Pharmacy'!BH409),\"\",'MIS - Pharmacy'!BH409)","v":""},"",""]
[{"$f":"IF(ISBLANK('MIS - Pharmacy'!A410), \"\",'MIS - Pharmacy'!A410)","v":""},{"$f":"IF(ISBLANK('MIS - Pharmacy'!B410),\"\",('MIS - Pharmacy'!B410&\"(\"&'MIS - Pharmacy'!D410&\")\"))","v":""},{"$f":"IF(ISBLANK('MIS - Pharmacy'!BI410), \"\", 'MIS - Pharmacy'!BI410)","v":""},{"$f":"IF(ISBLANK('MIS - Pharmacy'!U410), \"\", 'MIS - Pharmacy'!U410)","v":""},"","","","","","","",{"$f":"IF(ISBLANK('MIS - Pharmacy'!AC410),\"\",'MIS - Pharmacy'!AC410)","v":""},"",{"$f":"IF(ISBLANK('MIS - Pharmacy'!AD410),\"\",'MIS - Pharmacy'!AD410)","v":""},"","",{"$f":"IF('MIS - Pharmacy'!A410=\"\",\"\",SUM('MIS - Pharmacy'!K410+'MIS - Pharmacy'!L410))","v":""},"",{"$f":"IF('MIS - Pharmacy'!A410=\"\",\"\",('MIS - Pharmacy'!AF410+'MIS - Pharmacy'!AH410 +'MIS - Pharmacy'!AG410))","v":""},{"$f":"IF(ISBLANK('MIS - Pharmacy'!AI410),\"\",'MIS - Pharmacy'!AI410)","v":""},"","","",{"$f":"IF(ISBLANK('MIS - Pharmacy'!V410),\"\",'MIS - Pharmacy'!V410)","v":""},"","","",{"$f":"IF(ISBLANK('MIS - Pharmacy'!J410),\"\",'MIS - Pharmacy'!J410)","v":""},{"$f":"IF(ISBLANK('MIS - Pharmacy'!AY410),\"\",'MIS - Pharmacy'!AY410)","v":""},{"$f":"IF(ISBLANK('MIS - Pharmacy'!BH410),\"\",'MIS - Pharmacy'!BH410)","v":""},"",""]
[{"$f":"IF(ISBLANK('MIS - Pharmacy'!A411), \"\",'MIS - Pharmacy'!A411)","v":""},{"$f":"IF(ISBLANK('MIS - Pharmacy'!B411),\"\",('MIS - Pharmacy'!B411&\"(\"&'MIS - Pharmacy'!D411&\")\"))","v":""},{"$f":"IF(ISBLANK('MIS - Pharmacy'!BI411), \"\", 'MIS - Pharmacy'!BI411)","v":""},{"$f":"IF(ISBLANK('MIS - Pharmacy'!U411), \"\", 'MIS - Pharmacy'!U411)","v":""},"","","","","","","",{"$f":"IF(ISBLANK('MIS - Pharmacy'!AC411),\"\",'MIS - Pharmacy'!AC411)","v":""},"",{"$f":"IF(ISBLANK('MIS - Pharmacy'!AD411),\"\",'MIS - Pharmacy'!AD411)","v":""},"","",{"$f":"IF('MIS - Pharmacy'!A411=\"\",\"\",SUM('MIS - Pharmacy'!K411+'MIS - Pharmacy'!L411))","v":""},"",{"$f":"IF('MIS - Pharmacy'!A411=\"\",\"\",('MIS - Pharmacy'!AF411+'MIS - Pharmacy'!AH411 +'MIS - Pharmacy'!AG411))","v":""},{"$f":"IF(ISBLANK('MIS - Pharmacy'!AI411),\"\",'MIS - Pharmacy'!AI411)","v":""},"","","",{"$f":"IF(ISBLANK('MIS - Pharmacy'!V411),\"\",'MIS - Pharmacy'!V411)","v":""},"","","",{"$f":"IF(ISBLANK('MIS - Pharmacy'!J411),\"\",'MIS - Pharmacy'!J411)","v":""},{"$f":"IF(ISBLANK('MIS - Pharmacy'!AY411),\"\",'MIS - Pharmacy'!AY411)","v":""},{"$f":"IF(ISBLANK('MIS - Pharmacy'!BH411),\"\",'MIS - Pharmacy'!BH411)","v":""},"",""]
[{"$f":"IF(ISBLANK('MIS - Pharmacy'!A412), \"\",'MIS - Pharmacy'!A412)","v":""},{"$f":"IF(ISBLANK('MIS - Pharmacy'!B412),\"\",('MIS - Pharmacy'!B412&\"(\"&'MIS - Pharmacy'!D412&\")\"))","v":""},{"$f":"IF(ISBLANK('MIS - Pharmacy'!BI412), \"\", 'MIS - Pharmacy'!BI412)","v":""},{"$f":"IF(ISBLANK('MIS - Pharmacy'!U412), \"\", 'MIS - Pharmacy'!U412)","v":""},"","","","","","","",{"$f":"IF(ISBLANK('MIS - Pharmacy'!AC412),\"\",'MIS - Pharmacy'!AC412)","v":""},"",{"$f":"IF(ISBLANK('MIS - Pharmacy'!AD412),\"\",'MIS - Pharmacy'!AD412)","v":""},"","",{"$f":"IF('MIS - Pharmacy'!A412=\"\",\"\",SUM('MIS - Pharmacy'!K412+'MIS - Pharmacy'!L412))","v":""},"",{"$f":"IF('MIS - Pharmacy'!A412=\"\",\"\",('MIS - Pharmacy'!AF412+'MIS - Pharmacy'!AH412 +'MIS - Pharmacy'!AG412))","v":""},{"$f":"IF(ISBLANK('MIS - Pharmacy'!AI412),\"\",'MIS - Pharmacy'!AI412)","v":""},"","","",{"$f":"IF(ISBLANK('MIS - Pharmacy'!V412),\"\",'MIS - Pharmacy'!V412)","v":""},"","","",{"$f":"IF(ISBLANK('MIS - Pharmacy'!J412),\"\",'MIS - Pharmacy'!J412)","v":""},{"$f":"IF(ISBLANK('MIS - Pharmacy'!AY412),\"\",'MIS - Pharmacy'!AY412)","v":""},{"$f":"IF(ISBLANK('MIS - Pharmacy'!BH412),\"\",'MIS - Pharmacy'!BH412)","v":""},"",""]
[{"$f":"IF(ISBLANK('MIS - Pharmacy'!A413), \"\",'MIS - Pharmacy'!A413)","v":""},{"$f":"IF(ISBLANK('MIS - Pharmacy'!B413),\"\",('MIS - Pharmacy'!B413&\"(\"&'MIS - Pharmacy'!D413&\")\"))","v":""},{"$f":"IF(ISBLANK('MIS - Pharmacy'!BI413), \"\", 'MIS - Pharmacy'!BI413)","v":""},{"$f":"IF(ISBLANK('MIS - Pharmacy'!U413), \"\", 'MIS - Pharmacy'!U413)","v":""},"","","","","","","",{"$f":"IF(ISBLANK('MIS - Pharmacy'!AC413),\"\",'MIS - Pharmacy'!AC413)","v":""},"",{"$f":"IF(ISBLANK('MIS - Pharmacy'!AD413),\"\",'MIS - Pharmacy'!AD413)","v":""},"","",{"$f":"IF('MIS - Pharmacy'!A413=\"\",\"\",SUM('MIS - Pharmacy'!K413+'MIS - Pharmacy'!L413))","v":""},"",{"$f":"IF('MIS - Pharmacy'!A413=\"\",\"\",('MIS - Pharmacy'!AF413+'MIS - Pharmacy'!AH413 +'MIS - Pharmacy'!AG413))","v":""},{"$f":"IF(ISBLANK('MIS - Pharmacy'!AI413),\"\",'MIS - Pharmacy'!AI413)","v":""},"","","",{"$f":"IF(ISBLANK('MIS - Pharmacy'!V413),\"\",'MIS - Pharmacy'!V413)","v":""},"","","",{"$f":"IF(ISBLANK('MIS - Pharmacy'!J413),\"\",'MIS - Pharmacy'!J413)","v":""},{"$f":"IF(ISBLANK('MIS - Pharmacy'!AY413),\"\",'MIS - Pharmacy'!AY413)","v":""},{"$f":"IF(ISBLANK('MIS - Pharmacy'!BH413),\"\",'MIS - Pharmacy'!BH413)","v":""},"",""]
[{"$f":"IF(ISBLANK('MIS - Pharmacy'!A414), \"\",'MIS - Pharmacy'!A414)","v":""},{"$f":"IF(ISBLANK('MIS - Pharmacy'!B414),\"\",('MIS - Pharmacy'!B414&\"(\"&'MIS - Pharmacy'!D414&\")\"))","v":""},{"$f":"IF(ISBLANK('MIS - Pharmacy'!BI414), \"\", 'MIS - Pharmacy'!BI414)","v":""},{"$f":"IF(ISBLANK('MIS - Pharmacy'!U414), \"\", 'MIS - Pharmacy'!U414)","v":""},"","","","","","","",{"$f":"IF(ISBLANK('MIS - Pharmacy'!AC414),\"\",'MIS - Pharmacy'!AC414)","v":""},"",{"$f":"IF(ISBLANK('MIS - Pharmacy'!AD414),\"\",'MIS - Pharmacy'!AD414)","v":""},"","",{"$f":"IF('MIS - Pharmacy'!A414=\"\",\"\",SUM('MIS - Pharmacy'!K414+'MIS - Pharmacy'!L414))","v":""},"",{"$f":"IF('MIS - Pharmacy'!A414=\"\",\"\",('MIS - Pharmacy'!AF414+'MIS - Pharmacy'!AH414 +'MIS - Pharmacy'!AG414))","v":""},{"$f":"IF(ISBLANK('MIS - Pharmacy'!AI414),\"\",'MIS - Pharmacy'!AI414)","v":""},"","","",{"$f":"IF(ISBLANK('MIS - Pharmacy'!V414),\"\",'MIS - Pharmacy'!V414)","v":""},"","","",{"$f":"IF(ISBLANK('MIS - Pharmacy'!J414),\"\",'MIS - Pharmacy'!J414)","v":""},{"$f":"IF(ISBLANK('MIS - Pharmacy'!AY414),\"\",'MIS - Pharmacy'!AY414)","v":""},{"$f":"IF(ISBLANK('MIS - Pharmacy'!BH414),\"\",'MIS - Pharmacy'!BH414)","v":""},"",""]
[{"$f":"IF(ISBLANK('MIS - Pharmacy'!A415), \"\",'MIS - Pharmacy'!A415)","v":""},{"$f":"IF(ISBLANK('MIS - Pharmacy'!B415),\"\",('MIS - Pharmacy'!B415&\"(\"&'MIS - Pharmacy'!D415&\")\"))","v":""},{"$f":"IF(ISBLANK('MIS - Pharmacy'!BI415), \"\", 'MIS - Pharmacy'!BI415)","v":""},{"$f":"IF(ISBLANK('MIS - Pharmacy'!U415), \"\", 'MIS - Pharmacy'!U415)","v":""},"","","","","","","",{"$f":"IF(ISBLANK('MIS - Pharmacy'!AC415),\"\",'MIS - Pharmacy'!AC415)","v":""},"",{"$f":"IF(ISBLANK('MIS - Pharmacy'!AD415),\"\",'MIS - Pharmacy'!AD415)","v":""},"","",{"$f":"IF('MIS - Pharmacy'!A415=\"\",\"\",SUM('MIS - Pharmacy'!K415+'MIS - Pharmacy'!L415))","v":""},"",{"$f":"IF('MIS - Pharmacy'!A415=\"\",\"\",('MIS - Pharmacy'!AF415+'MIS - Pharmacy'!AH415 +'MIS - Pharmacy'!AG415))","v":""},{"$f":"IF(ISBLANK('MIS - Pharmacy'!AI415),\"\",'MIS - Pharmacy'!AI415)","v":""},"","","",{"$f":"IF(ISBLANK('MIS - Pharmacy'!V415),\"\",'MIS - Pharmacy'!V415)","v":""},"","","",{"$f":"IF(ISBLANK('MIS - Pharmacy'!J415),\"\",'MIS - Pharmacy'!J415)","v":""},{"$f":"IF(ISBLANK('MIS - Pharmacy'!AY415),\"\",'MIS - Pharmacy'!AY415)","v":""},{"$f":"IF(ISBLANK('MIS - Pharmacy'!BH415),\"\",'MIS - Pharmacy'!BH415)","v":""},"",""]
[{"$f":"IF(ISBLANK('MIS - Pharmacy'!A416), \"\",'MIS - Pharmacy'!A416)","v":""},{"$f":"IF(ISBLANK('MIS - Pharmacy'!B416),\"\",('MIS - Pharmacy'!B416&\"(\"&'MIS - Pharmacy'!D416&\")\"))","v":""},{"$f":"IF(ISBLANK('MIS - Pharmacy'!BI416), \"\", 'MIS - Pharmacy'!BI416)","v":""},{"$f":"IF(ISBLANK('MIS - Pharmacy'!U416), \"\", 'MIS - Pharmacy'!U416)","v":""},"","","","","","","",{"$f":"IF(ISBLANK('MIS - Pharmacy'!AC416),\"\",'MIS - Pharmacy'!AC416)","v":""},"",{"$f":"IF(ISBLANK('MIS - Pharmacy'!AD416),\"\",'MIS - Pharmacy'!AD416)","v":""},"","",{"$f":"IF('MIS - Pharmacy'!A416=\"\",\"\",SUM('MIS - Pharmacy'!K416+'MIS - Pharmacy'!L416))","v":""},"",{"$f":"IF('MIS - Pharmacy'!A416=\"\",\"\",('MIS - Pharmacy'!AF416+'MIS - Pharmacy'!AH416 +'MIS - Pharmacy'!AG416))","v":""},{"$f":"IF(ISBLANK('MIS - Pharmacy'!AI416),\"\",'MIS - Pharmacy'!AI416)","v":""},"","","",{"$f":"IF(ISBLANK('MIS - Pharmacy'!V416),\"\",'MIS - Pharmacy'!V416)","v":""},"","","",{"$f":"IF(ISBLANK('MIS - Pharmacy'!J416),\"\",'MIS - Pharmacy'!J416)","v":""},{"$f":"IF(ISBLANK('MIS - Pharmacy'!AY416),\"\",'MIS - Pharmacy'!AY416)","v":""},{"$f":"IF(ISBLANK('MIS - Pharmacy'!BH416),\"\",'MIS - Pharmacy'!BH416)","v":""},"",""]
[{"$f":"IF(ISBLANK('MIS - Pharmacy'!A417), \"\",'MIS - Pharmacy'!A417)","v":""},{"$f":"IF(ISBLANK('MIS - Pharmacy'!B417),\"\",('MIS - Pharmacy'!B417&\"(\"&'MIS - Pharmacy'!D417&\")\"))","v":""},{"$f":"IF(ISBLANK('MIS - Pharmacy'!BI417), \"\", 'MIS - Pharmacy'!BI417)","v":""},{"$f":"IF(ISBLANK('MIS - Pharmacy'!U417), \"\", 'MIS - Pharmacy'!U417)","v":""},"","","","","","","",{"$f":"IF(ISBLANK('MIS - Pharmacy'!AC417),\"\",'MIS - Pharmacy'!AC417)","v":""},"",{"$f":"IF(ISBLANK('MIS - Pharmacy'!AD417),\"\",'MIS - Pharmacy'!AD417)","v":""},"","",{"$f":"IF('MIS - Pharmacy'!A417=\"\",\"\",SUM('MIS - Pharmacy'!K417+'MIS - Pharmacy'!L417))","v":""},"",{"$f":"IF('MIS - Pharmacy'!A417=\"\",\"\",('MIS - Pharmacy'!AF417+'MIS - Pharmacy'!AH417 +'MIS - Pharmacy'!AG417))","v":""},{"$f":"IF(ISBLANK('MIS - Pharmacy'!AI417),\"\",'MIS - Pharmacy'!AI417)","v":""},"","","",{"$f":"IF(ISBLANK('MIS - Pharmacy'!V417),\"\",'MIS - Pharmacy'!V417)","v":""},"","","",{"$f":"IF(ISBLANK('MIS - Pharmacy'!J417),\"\",'MIS - Pharmacy'!J417)","v":""},{"$f":"IF(ISBLANK('MIS - Pharmacy'!AY417),\"\",'MIS - Pharmacy'!AY417)","v":""},{"$f":"IF(ISBLANK('MIS - Pharmacy'!BH417),\"\",'MIS - Pharmacy'!BH417)","v":""},"",""]
[{"$f":"IF(ISBLANK('MIS - Pharmacy'!A418), \"\",'MIS - Pharmacy'!A418)","v":""},{"$f":"IF(ISBLANK('MIS - Pharmacy'!B418),\"\",('MIS - Pharmacy'!B418&\"(\"&'MIS - Pharmacy'!D418&\")\"))","v":""},{"$f":"IF(ISBLANK('MIS - Pharmacy'!BI418), \"\", 'MIS - Pharmacy'!BI418)","v":""},{"$f":"IF(ISBLANK('MIS - Pharmacy'!U418), \"\", 'MIS - Pharmacy'!U418)","v":""},"","","","","","","",{"$f":"IF(ISBLANK('MIS - Pharmacy'!AC418),\"\",'MIS - Pharmacy'!AC418)","v":""},"",{"$f":"IF(ISBLANK('MIS - Pharmacy'!AD418),\"\",'MIS - Pharmacy'!AD418)","v":""},"","",{"$f":"IF('MIS - Pharmacy'!A418=\"\",\"\",SUM('MIS - Pharmacy'!K418+'MIS - Pharmacy'!L418))","v":""},"",{"$f":"IF('MIS - Pharmacy'!A418=\"\",\"\",('MIS - Pharmacy'!AF418+'MIS - Pharmacy'!AH418 +'MIS - Pharmacy'!AG418))","v":""},{"$f":"IF(ISBLANK('MIS - Pharmacy'!AI418),\"\",'MIS - Pharmacy'!AI418)","v":""},"","","",{"$f":"IF(ISBLANK('MIS - Pharmacy'!V418),\"\",'MIS - Pharmacy'!V418)","v":""},"","","",{"$f":"IF(ISBLANK('MIS - Pharmacy'!J418),\"\",'MIS - Pharmacy'!J418)","v":""},{"$f":"IF(ISBLANK('MIS - Pharmacy'!AY418),\"\",'MIS - Pharmacy'!AY418)","v":""},{"$f":"IF(ISBLANK('MIS - Pharmacy'!BH418),\"\",'MIS - Pharmacy'!BH418)","v":""},"",""]
[{"$f":"IF(ISBLANK('MIS - Pharmacy'!A419), \"\",'MIS - Pharmacy'!A419)","v":""},{"$f":"IF(ISBLANK('MIS - Pharmacy'!B419),\"\",('MIS - Pharmacy'!B419&\"(\"&'MIS - Pharmacy'!D419&\")\"))","v":""},{"$f":"IF(ISBLANK('MIS - Pharmacy'!BI419), \"\", 'MIS - Pharmacy'!BI419)","v":""},{"$f":"IF(ISBLANK('MIS - Pharmacy'!U419), \"\", 'MIS - Pharmacy'!U419)","v":""},"","","","","","","",{"$f":"IF(ISBLANK('MIS - Pharmacy'!AC419),\"\",'MIS - Pharmacy'!AC419)","v":""},"",{"$f":"IF(ISBLANK('MIS - Pharmacy'!AD419),\"\",'MIS - Pharmacy'!AD419)","v":""},"","",{"$f":"IF('MIS - Pharmacy'!A419=\"\",\"\",SUM('MIS - Pharmacy'!K419+'MIS - Pharmacy'!L419))","v":""},"",{"$f":"IF('MIS - Pharmacy'!A419=\"\",\"\",('MIS - Pharmacy'!AF419+'MIS - Pharmacy'!AH419 +'MIS - Pharmacy'!AG419))","v":""},{"$f":"IF(ISBLANK('MIS - Pharmacy'!AI419),\"\",'MIS - Pharmacy'!AI419)","v":""},"","","",{"$f":"IF(ISBLANK('MIS - Pharmacy'!V419),\"\",'MIS - Pharmacy'!V419)","v":""},"","","",{"$f":"IF(ISBLANK('MIS - Pharmacy'!J419),\"\",'MIS - Pharmacy'!J419)","v":""},{"$f":"IF(ISBLANK('MIS - Pharmacy'!AY419),\"\",'MIS - Pharmacy'!AY419)","v":""},{"$f":"IF(ISBLANK('MIS - Pharmacy'!BH419),\"\",'MIS - Pharmacy'!BH419)","v":""},"",""]
[{"$f":"IF(ISBLANK('MIS - Pharmacy'!A420), \"\",'MIS - Pharmacy'!A420)","v":""},{"$f":"IF(ISBLANK('MIS - Pharmacy'!B420),\"\",('MIS - Pharmacy'!B420&\"(\"&'MIS - Pharmacy'!D420&\")\"))","v":""},{"$f":"IF(ISBLANK('MIS - Pharmacy'!BI420), \"\", 'MIS - Pharmacy'!BI420)","v":""},{"$f":"IF(ISBLANK('MIS - Pharmacy'!U420), \"\", 'MIS - Pharmacy'!U420)","v":""},"","","","","","","",{"$f":"IF(ISBLANK('MIS - Pharmacy'!AC420),\"\",'MIS - Pharmacy'!AC420)","v":""},"",{"$f":"IF(ISBLANK('MIS - Pharmacy'!AD420),\"\",'MIS - Pharmacy'!AD420)","v":""},"","",{"$f":"IF('MIS - Pharmacy'!A420=\"\",\"\",SUM('MIS - Pharmacy'!K420+'MIS - Pharmacy'!L420))","v":""},"",{"$f":"IF('MIS - Pharmacy'!A420=\"\",\"\",('MIS - Pharmacy'!AF420+'MIS - Pharmacy'!AH420 +'MIS - Pharmacy'!AG420))","v":""},{"$f":"IF(ISBLANK('MIS - Pharmacy'!AI420),\"\",'MIS - Pharmacy'!AI420)","v":""},"","","",{"$f":"IF(ISBLANK('MIS - Pharmacy'!V420),\"\",'MIS - Pharmacy'!V420)","v":""},"","","",{"$f":"IF(ISBLANK('MIS - Pharmacy'!J420),\"\",'MIS - Pharmacy'!J420)","v":""},{"$f":"IF(ISBLANK('MIS - Pharmacy'!AY420),\"\",'MIS - Pharmacy'!AY420)","v":""},{"$f":"IF(ISBLANK('MIS - Pharmacy'!BH420),\"\",'MIS - Pharmacy'!BH420)","v":""},"",""]
[{"$f":"IF(ISBLANK('MIS - Pharmacy'!A421), \"\",'MIS - Pharmacy'!A421)","v":""},{"$f":"IF(ISBLANK('MIS - Pharmacy'!B421),\"\",('MIS - Pharmacy'!B421&\"(\"&'MIS - Pharmacy'!D421&\")\"))","v":""},{"$f":"IF(ISBLANK('MIS - Pharmacy'!BI421), \"\", 'MIS - Pharmacy'!BI421)","v":""},{"$f":"IF(ISBLANK('MIS - Pharmacy'!U421), \"\", 'MIS - Pharmacy'!U421)","v":""},"","","","","","","",{"$f":"IF(ISBLANK('MIS - Pharmacy'!AC421),\"\",'MIS - Pharmacy'!AC421)","v":""},"",{"$f":"IF(ISBLANK('MIS - Pharmacy'!AD421),\"\",'MIS - Pharmacy'!AD421)","v":""},"","",{"$f":"IF('MIS - Pharmacy'!A421=\"\",\"\",SUM('MIS - Pharmacy'!K421+'MIS - Pharmacy'!L421))","v":""},"",{"$f":"IF('MIS - Pharmacy'!A421=\"\",\"\",('MIS - Pharmacy'!AF421+'MIS - Pharmacy'!AH421 +'MIS - Pharmacy'!AG421))","v":""},{"$f":"IF(ISBLANK('MIS - Pharmacy'!AI421),\"\",'MIS - Pharmacy'!AI421)","v":""},"","","",{"$f":"IF(ISBLANK('MIS - Pharmacy'!V421),\"\",'MIS - Pharmacy'!V421)","v":""},"","","",{"$f":"IF(ISBLANK('MIS - Pharmacy'!J421),\"\",'MIS - Pharmacy'!J421)","v":""},{"$f":"IF(ISBLANK('MIS - Pharmacy'!AY421),\"\",'MIS - Pharmacy'!AY421)","v":""},{"$f":"IF(ISBLANK('MIS - Pharmacy'!BH421),\"\",'MIS - Pharmacy'!BH421)","v":""},"",""]
[{"$f":"IF(ISBLANK('MIS - Pharmacy'!A422), \"\",'MIS - Pharmacy'!A422)","v":""},{"$f":"IF(ISBLANK('MIS - Pharmacy'!B422),\"\",('MIS - Pharmacy'!B422&\"(\"&'MIS - Pharmacy'!D422&\")\"))","v":""},{"$f":"IF(ISBLANK('MIS - Pharmacy'!BI422), \"\", 'MIS - Pharmacy'!BI422)","v":""},{"$f":"IF(ISBLANK('MIS - Pharmacy'!U422), \"\", 'MIS - Pharmacy'!U422)","v":""},"","","","","","","",{"$f":"IF(ISBLANK('MIS - Pharmacy'!AC422),\"\",'MIS - Pharmacy'!AC422)","v":""},"",{"$f":"IF(ISBLANK('MIS - Pharmacy'!AD422),\"\",'MIS - Pharmacy'!AD422)","v":""},"","",{"$f":"IF('MIS - Pharmacy'!A422=\"\",\"\",SUM('MIS - Pharmacy'!K422+'MIS - Pharmacy'!L422))","v":""},"",{"$f":"IF('MIS - Pharmacy'!A422=\"\",\"\",('MIS - Pharmacy'!AF422+'MIS - Pharmacy'!AH422 +'MIS - Pharmacy'!AG422))","v":""},{"$f":"IF(ISBLANK('MIS - Pharmacy'!AI422),\"\",'MIS - Pharmacy'!AI422)","v":""},"","","",{"$f":"IF(ISBLANK('MIS - Pharmacy'!V422),\"\",'MIS - Pharmacy'!V422)","v":""},"","","",{"$f":"IF(ISBLANK('MIS - Pharmacy'!J422),\"\",'MIS - Pharmacy'!J422)","v":""},{"$f":"IF(ISBLANK('MIS - Pharmacy'!AY422),\"\",'MIS - Pharmacy'!AY422)","v":""},{"$f":"IF(ISBLANK('MIS - Pharmacy'!BH422),\"\",'MIS - Pharmacy'!BH422)","v":""},"",""]
[{"$f":"IF(ISBLANK('MIS - Pharmacy'!A423), \"\",'MIS - Pharmacy'!A423)","v":""},{"$f":"IF(ISBLANK('MIS - Pharmacy'!B423),\"\",('MIS - Pharmacy'!B423&\"(\"&'MIS - Pharmacy'!D423&\")\"))","v":""},{"$f":"IF(ISBLANK('MIS - Pharmacy'!BI423), \"\", 'MIS - Pharmacy'!BI423)","v":""},{"$f":"IF(ISBLANK('MIS - Pharmacy'!U423), \"\", 'MIS - Pharmacy'!U423)","v":""},"","","","","","","",{"$f":"IF(ISBLANK('MIS - Pharmacy'!AC423),\"\",'MIS - Pharmacy'!AC423)","v":""},"",{"$f":"IF(ISBLANK('MIS - Pharmacy'!AD423),\"\",'MIS - Pharmacy'!AD423)","v":""},"","",{"$f":"IF('MIS - Pharmacy'!A423=\"\",\"\",SUM('MIS - Pharmacy'!K423+'MIS - Pharmacy'!L423))","v":""},"",{"$f":"IF('MIS - Pharmacy'!A423=\"\",\"\",('MIS - Pharmacy'!AF423+'MIS - Pharmacy'!AH423 +'MIS - Pharmacy'!AG423))","v":""},{"$f":"IF(ISBLANK('MIS - Pharmacy'!AI423),\"\",'MIS - Pharmacy'!AI423)","v":""},"","","",{"$f":"IF(ISBLANK('MIS - Pharmacy'!V423),\"\",'MIS - Pharmacy'!V423)","v":""},"","","",{"$f":"IF(ISBLANK('MIS - Pharmacy'!J423),\"\",'MIS - Pharmacy'!J423)","v":""},{"$f":"IF(ISBLANK('MIS - Pharmacy'!AY423),\"\",'MIS - Pharmacy'!AY423)","v":""},{"$f":"IF(ISBLANK('MIS - Pharmacy'!BH423),\"\",'MIS - Pharmacy'!BH423)","v":""},"",""]
[{"$f":"IF(ISBLANK('MIS - Pharmacy'!A424), \"\",'MIS - Pharmacy'!A424)","v":""},{"$f":"IF(ISBLANK('MIS - Pharmacy'!B424),\"\",('MIS - Pharmacy'!B424&\"(\"&'MIS - Pharmacy'!D424&\")\"))","v":""},{"$f":"IF(ISBLANK('MIS - Pharmacy'!BI424), \"\", 'MIS - Pharmacy'!BI424)","v":""},{"$f":"IF(ISBLANK('MIS - Pharmacy'!U424), \"\", 'MIS - Pharmacy'!U424)","v":""},"","","","","","","",{"$f":"IF(ISBLANK('MIS - Pharmacy'!AC424),\"\",'MIS - Pharmacy'!AC424)","v":""},"",{"$f":"IF(ISBLANK('MIS - Pharmacy'!AD424),\"\",'MIS - Pharmacy'!AD424)","v":""},"","",{"$f":"IF('MIS - Pharmacy'!A424=\"\",\"\",SUM('MIS - Pharmacy'!K424+'MIS - Pharmacy'!L424))","v":""},"",{"$f":"IF('MIS - Pharmacy'!A424=\"\",\"\",('MIS - Pharmacy'!AF424+'MIS - Pharmacy'!AH424 +'MIS - Pharmacy'!AG424))","v":""},{"$f":"IF(ISBLANK('MIS - Pharmacy'!AI424),\"\",'MIS - Pharmacy'!AI424)","v":""},"","","",{"$f":"IF(ISBLANK('MIS - Pharmacy'!V424),\"\",'MIS - Pharmacy'!V424)","v":""},"","","",{"$f":"IF(ISBLANK('MIS - Pharmacy'!J424),\"\",'MIS - Pharmacy'!J424)","v":""},{"$f":"IF(ISBLANK('MIS - Pharmacy'!AY424),\"\",'MIS - Pharmacy'!AY424)","v":""},{"$f":"IF(ISBLANK('MIS - Pharmacy'!BH424),\"\",'MIS - Pharmacy'!BH424)","v":""},"",""]
[{"$f":"IF(ISBLANK('MIS - Pharmacy'!A425), \"\",'MIS - Pharmacy'!A425)","v":""},{"$f":"IF(ISBLANK('MIS - Pharmacy'!B425),\"\",('MIS - Pharmacy'!B425&\"(\"&'MIS - Pharmacy'!D425&\")\"))","v":""},{"$f":"IF(ISBLANK('MIS - Pharmacy'!BI425), \"\", 'MIS - Pharmacy'!BI425)","v":""},{"$f":"IF(ISBLANK('MIS - Pharmacy'!U425), \"\", 'MIS - Pharmacy'!U425)","v":""},"","","","","","","",{"$f":"IF(ISBLANK('MIS - Pharmacy'!AC425),\"\",'MIS - Pharmacy'!AC425)","v":""},"",{"$f":"IF(ISBLANK('MIS - Pharmacy'!AD425),\"\",'MIS - Pharmacy'!AD425)","v":""},"","",{"$f":"IF('MIS - Pharmacy'!A425=\"\",\"\",SUM('MIS - Pharmacy'!K425+'MIS - Pharmacy'!L425))","v":""},"",{"$f":"IF('MIS - Pharmacy'!A425=\"\",\"\",('MIS - Pharmacy'!AF425+'MIS - Pharmacy'!AH425 +'MIS - Pharmacy'!AG425))","v":""},{"$f":"IF(ISBLANK('MIS - Pharmacy'!AI425),\"\",'MIS - Pharmacy'!AI425)","v":""},"","","",{"$f":"IF(ISBLANK('MIS - Pharmacy'!V425),\"\",'MIS - Pharmacy'!V425)","v":""},"","","",{"$f":"IF(ISBLANK('MIS - Pharmacy'!J425),\"\",'MIS - Pharmacy'!J425)","v":""},{"$f":"IF(ISBLANK('MIS - Pharmacy'!AY425),\"\",'MIS - Pharmacy'!AY425)","v":""},{"$f":"IF(ISBLANK('MIS - Pharmacy'!BH425),\"\",'MIS - Pharmacy'!BH425)","v":""},"",""]
[{"$f":"IF(ISBLANK('MIS - Pharmacy'!A426), \"\",'MIS - Pharmacy'!A426)","v":""},{"$f":"IF(ISBLANK('MIS - Pharmacy'!B426),\"\",('MIS - Pharmacy'!B426&\"(\"&'MIS - Pharmacy'!D426&\")\"))","v":""},{"$f":"IF(ISBLANK('MIS - Pharmacy'!BI426), \"\", 'MIS - Pharmacy'!BI426)","v":""},{"$f":"IF(ISBLANK('MIS - Pharmacy'!U426), \"\", 'MIS - Pharmacy'!U426)","v":""},"","","","","","","",{"$f":"IF(ISBLANK('MIS - Pharmacy'!AC426),\"\",'MIS - Pharmacy'!AC426)","v":""},"",{"$f":"IF(ISBLANK('MIS - Pharmacy'!AD426),\"\",'MIS - Pharmacy'!AD426)","v":""},"","",{"$f":"IF('MIS - Pharmacy'!A426=\"\",\"\",SUM('MIS - Pharmacy'!K426+'MIS - Pharmacy'!L426))","v":""},"",{"$f":"IF('MIS - Pharmacy'!A426=\"\",\"\",('MIS - Pharmacy'!AF426+'MIS - Pharmacy'!AH426 +'MIS - Pharmacy'!AG426))","v":""},{"$f":"IF(ISBLANK('MIS - Pharmacy'!AI426),\"\",'MIS - Pharmacy'!AI426)","v":""},"","","",{"$f":"IF(ISBLANK('MIS - Pharmacy'!V426),\"\",'MIS - Pharmacy'!V426)","v":""},"","","",{"$f":"IF(ISBLANK('MIS - Pharmacy'!J426),\"\",'MIS - Pharmacy'!J426)","v":""},{"$f":"IF(ISBLANK('MIS - Pharmacy'!AY426),\"\",'MIS - Pharmacy'!AY426)","v":""},{"$f":"IF(ISBLANK('MIS - Pharmacy'!BH426),\"\",'MIS - Pharmacy'!BH426)","v":""},"",""]
[{"$f":"IF(ISBLANK('MIS - Pharmacy'!A427), \"\",'MIS - Pharmacy'!A427)","v":""},{"$f":"IF(ISBLANK('MIS - Pharmacy'!B427),\"\",('MIS - Pharmacy'!B427&\"(\"&'MIS - Pharmacy'!D427&\")\"))","v":""},{"$f":"IF(ISBLANK('MIS - Pharmacy'!BI427), \"\", 'MIS - Pharmacy'!BI427)","v":""},{"$f":"IF(ISBLANK('MIS - Pharmacy'!U427), \"\", 'MIS - Pharmacy'!U427)","v":""},"","","","","","","",{"$f":"IF(ISBLANK('MIS - Pharmacy'!AC427),\"\",'MIS - Pharmacy'!AC427)","v":""},"",{"$f":"IF(ISBLANK('MIS - Pharmacy'!AD427),\"\",'MIS - Pharmacy'!AD427)","v":""},"","",{"$f":"IF('MIS - Pharmacy'!A427=\"\",\"\",SUM('MIS - Pharmacy'!K427+'MIS - Pharmacy'!L427))","v":""},"",{"$f":"IF('MIS - Pharmacy'!A427=\"\",\"\",('MIS - Pharmacy'!AF427+'MIS - Pharmacy'!AH427 +'MIS - Pharmacy'!AG427))","v":""},{"$f":"IF(ISBLANK('MIS - Pharmacy'!AI427),\"\",'MIS - Pharmacy'!AI427)","v":""},"","","",{"$f":"IF(ISBLANK('MIS - Pharmacy'!V427),\"\",'MIS - Pharmacy'!V427)","v":""},"","","",{"$f":"IF(ISBLANK('MIS - Pharmacy'!J427),\"\",'MIS - Pharmacy'!J427)","v":""},{"$f":"IF(ISBLANK('MIS - Pharmacy'!AY427),\"\",'MIS - Pharmacy'!AY427)","v":""},{"$f":"IF(ISBLANK('MIS - Pharmacy'!BH427),\"\",'MIS - Pharmacy'!BH427)","v":""},"",""]
[{"$f":"IF(ISBLANK('MIS - Pharmacy'!A428), \"\",'MIS - Pharmacy'!A428)","v":""},{"$f":"IF(ISBLANK('MIS - Pharmacy'!B428),\"\",('MIS - Pharmacy'!B428&\"(\"&'MIS - Pharmacy'!D428&\")\"))","v":""},{"$f":"IF(ISBLANK('MIS - Pharmacy'!BI428), \"\", 'MIS - Pharmacy'!BI428)","v":""},{"$f":"IF(ISBLANK('MIS - Pharmacy'!U428), \"\", 'MIS - Pharmacy'!U428)","v":""},"","","","","","","",{"$f":"IF(ISBLANK('MIS - Pharmacy'!AC428),\"\",'MIS - Pharmacy'!AC428)","v":""},"",{"$f":"IF(ISBLANK('MIS - Pharmacy'!AD428),\"\",'MIS - Pharmacy'!AD428)","v":""},"","",{"$f":"IF('MIS - Pharmacy'!A428=\"\",\"\",SUM('MIS - Pharmacy'!K428+'MIS - Pharmacy'!L428))","v":""},"",{"$f":"IF('MIS - Pharmacy'!A428=\"\",\"\",('MIS - Pharmacy'!AF428+'MIS - Pharmacy'!AH428 +'MIS - Pharmacy'!AG428))","v":""},{"$f":"IF(ISBLANK('MIS - Pharmacy'!AI428),\"\",'MIS - Pharmacy'!AI428)","v":""},"","","",{"$f":"IF(ISBLANK('MIS - Pharmacy'!V428),\"\",'MIS - Pharmacy'!V428)","v":""},"","","",{"$f":"IF(ISBLANK('MIS - Pharmacy'!J428),\"\",'MIS - Pharmacy'!J428)","v":""},{"$f":"IF(ISBLANK('MIS - Pharmacy'!AY428),\"\",'MIS - Pharmacy'!AY428)","v":""},{"$f":"IF(ISBLANK('MIS - Pharmacy'!BH428),\"\",'MIS - Pharmacy'!BH428)","v":""},"",""]
[{"$f":"IF(ISBLANK('MIS - Pharmacy'!A429), \"\",'MIS - Pharmacy'!A429)","v":""},{"$f":"IF(ISBLANK('MIS - Pharmacy'!B429),\"\",('MIS - Pharmacy'!B429&\"(\"&'MIS - Pharmacy'!D429&\")\"))","v":""},{"$f":"IF(ISBLANK('MIS - Pharmacy'!BI429), \"\", 'MIS - Pharmacy'!BI429)","v":""},{"$f":"IF(ISBLANK('MIS - Pharmacy'!U429), \"\", 'MIS - Pharmacy'!U429)","v":""},"","","","","","","",{"$f":"IF(ISBLANK('MIS - Pharmacy'!AC429),\"\",'MIS - Pharmacy'!AC429)","v":""},"",{"$f":"IF(ISBLANK('MIS - Pharmacy'!AD429),\"\",'MIS - Pharmacy'!AD429)","v":""},"","",{"$f":"IF('MIS - Pharmacy'!A429=\"\",\"\",SUM('MIS - Pharmacy'!K429+'MIS - Pharmacy'!L429))","v":""},"",{"$f":"IF('MIS - Pharmacy'!A429=\"\",\"\",('MIS - Pharmacy'!AF429+'MIS - Pharmacy'!AH429 +'MIS - Pharmacy'!AG429))","v":""},{"$f":"IF(ISBLANK('MIS - Pharmacy'!AI429),\"\",'MIS - Pharmacy'!AI429)","v":""},"","","",{"$f":"IF(ISBLANK('MIS - Pharmacy'!V429),\"\",'MIS - Pharmacy'!V429)","v":""},"","","",{"$f":"IF(ISBLANK('MIS - Pharmacy'!J429),\"\",'MIS - Pharmacy'!J429)","v":""},{"$f":"IF(ISBLANK('MIS - Pharmacy'!AY429),\"\",'MIS - Pharmacy'!AY429)","v":""},{"$f":"IF(ISBLANK('MIS - Pharmacy'!BH429),\"\",'MIS - Pharmacy'!BH429)","v":""},"",""]
[{"$f":"IF(ISBLANK('MIS - Pharmacy'!A430), \"\",'MIS - Pharmacy'!A430)","v":""},{"$f":"IF(ISBLANK('MIS - Pharmacy'!B430),\"\",('MIS - Pharmacy'!B430&\"(\"&'MIS - Pharmacy'!D430&\")\"))","v":""},{"$f":"IF(ISBLANK('MIS - Pharmacy'!BI430), \"\", 'MIS - Pharmacy'!BI430)","v":""},{"$f":"IF(ISBLANK('MIS - Pharmacy'!U430), \"\", 'MIS - Pharmacy'!U430)","v":""},"","","","","","","",{"$f":"IF(ISBLANK('MIS - Pharmacy'!AC430),\"\",'MIS - Pharmacy'!AC430)","v":""},"",{"$f":"IF(ISBLANK('MIS - Pharmacy'!AD430),\"\",'MIS - Pharmacy'!AD430)","v":""},"","",{"$f":"IF('MIS - Pharmacy'!A430=\"\",\"\",SUM('MIS - Pharmacy'!K430+'MIS - Pharmacy'!L430))","v":""},"",{"$f":"IF('MIS - Pharmacy'!A430=\"\",\"\",('MIS - Pharmacy'!AF430+'MIS - Pharmacy'!AH430 +'MIS - Pharmacy'!AG430))","v":""},{"$f":"IF(ISBLANK('MIS - Pharmacy'!AI430),\"\",'MIS - Pharmacy'!AI430)","v":""},"","","",{"$f":"IF(ISBLANK('MIS - Pharmacy'!V430),\"\",'MIS - Pharmacy'!V430)","v":""},"","","",{"$f":"IF(ISBLANK('MIS - Pharmacy'!J430),\"\",'MIS - Pharmacy'!J430)","v":""},{"$f":"IF(ISBLANK('MIS - Pharmacy'!AY430),\"\",'MIS - Pharmacy'!AY430)","v":""},{"$f":"IF(ISBLANK('MIS - Pharmacy'!BH430),\"\",'MIS - Pharmacy'!BH430)","v":""},"",""]
[{"$f":"IF(ISBLANK('MIS - Pharmacy'!A431), \"\",'MIS - Pharmacy'!A431)","v":""},{"$f":"IF(ISBLANK('MIS - Pharmacy'!B431),\"\",('MIS - Pharmacy'!B431&\"(\"&'MIS - Pharmacy'!D431&\")\"))","v":""},{"$f":"IF(ISBLANK('MIS - Pharmacy'!BI431), \"\", 'MIS - Pharmacy'!BI431)","v":""},{"$f":"IF(ISBLANK('MIS - Pharmacy'!U431), \"\", 'MIS - Pharmacy'!U431)","v":""},"","","","","","","",{"$f":"IF(ISBLANK('MIS - Pharmacy'!AC431),\"\",'MIS - Pharmacy'!AC431)","v":""},"",{"$f":"IF(ISBLANK('MIS - Pharmacy'!AD431),\"\",'MIS - Pharmacy'!AD431)","v":""},"","",{"$f":"IF('MIS - Pharmacy'!A431=\"\",\"\",SUM('MIS - Pharmacy'!K431+'MIS - Pharmacy'!L431))","v":""},"",{"$f":"IF('MIS - Pharmacy'!A431=\"\",\"\",('MIS - Pharmacy'!AF431+'MIS - Pharmacy'!AH431 +'MIS - Pharmacy'!AG431))","v":""},{"$f":"IF(ISBLANK('MIS - Pharmacy'!AI431),\"\",'MIS - Pharmacy'!AI431)","v":""},"","","",{"$f":"IF(ISBLANK('MIS - Pharmacy'!V431),\"\",'MIS - Pharmacy'!V431)","v":""},"","","",{"$f":"IF(ISBLANK('MIS - Pharmacy'!J431),\"\",'MIS - Pharmacy'!J431)","v":""},{"$f":"IF(ISBLANK('MIS - Pharmacy'!AY431),\"\",'MIS - Pharmacy'!AY431)","v":""},{"$f":"IF(ISBLANK('MIS - Pharmacy'!BH431),\"\",'MIS - Pharmacy'!BH431)","v":""},"",""]
[{"$f":"IF(ISBLANK('MIS - Pharmacy'!A432), \"\",'MIS - Pharmacy'!A432)","v":""},{"$f":"IF(ISBLANK('MIS - Pharmacy'!B432),\"\",('MIS - Pharmacy'!B432&\"(\"&'MIS - Pharmacy'!D432&\")\"))","v":""},{"$f":"IF(ISBLANK('MIS - Pharmacy'!BI432), \"\", 'MIS - Pharmacy'!BI432)","v":""},{"$f":"IF(ISBLANK('MIS - Pharmacy'!U432), \"\", 'MIS - Pharmacy'!U432)","v":""},"","","","","","","",{"$f":"IF(ISBLANK('MIS - Pharmacy'!AC432),\"\",'MIS - Pharmacy'!AC432)","v":""},"",{"$f":"IF(ISBLANK('MIS - Pharmacy'!AD432),\"\",'MIS - Pharmacy'!AD432)","v":""},"","",{"$f":"IF('MIS - Pharmacy'!A432=\"\",\"\",SUM('MIS - Pharmacy'!K432+'MIS - Pharmacy'!L432))","v":""},"",{"$f":"IF('MIS - Pharmacy'!A432=\"\",\"\",('MIS - Pharmacy'!AF432+'MIS - Pharmacy'!AH432 +'MIS - Pharmacy'!AG432))","v":""},{"$f":"IF(ISBLANK('MIS - Pharmacy'!AI432),\"\",'MIS - Pharmacy'!AI432)","v":""},"","","",{"$f":"IF(ISBLANK('MIS - Pharmacy'!V432),\"\",'MIS - Pharmacy'!V432)","v":""},"","","",{"$f":"IF(ISBLANK('MIS - Pharmacy'!J432),\"\",'MIS - Pharmacy'!J432)","v":""},{"$f":"IF(ISBLANK('MIS - Pharmacy'!AY432),\"\",'MIS - Pharmacy'!AY432)","v":""},{"$f":"IF(ISBLANK('MIS - Pharmacy'!BH432),\"\",'MIS - Pharmacy'!BH432)","v":""},"",""]
[{"$f":"IF(ISBLANK('MIS - Pharmacy'!A433), \"\",'MIS - Pharmacy'!A433)","v":""},{"$f":"IF(ISBLANK('MIS - Pharmacy'!B433),\"\",('MIS - Pharmacy'!B433&\"(\"&'MIS - Pharmacy'!D433&\")\"))","v":""},{"$f":"IF(ISBLANK('MIS - Pharmacy'!BI433), \"\", 'MIS - Pharmacy'!BI433)","v":""},{"$f":"IF(ISBLANK('MIS - Pharmacy'!U433), \"\", 'MIS - Pharmacy'!U433)","v":""},"","","","","","","",{"$f":"IF(ISBLANK('MIS - Pharmacy'!AC433),\"\",'MIS - Pharmacy'!AC433)","v":""},"",{"$f":"IF(ISBLANK('MIS - Pharmacy'!AD433),\"\",'MIS - Pharmacy'!AD433)","v":""},"","",{"$f":"IF('MIS - Pharmacy'!A433=\"\",\"\",SUM('MIS - Pharmacy'!K433+'MIS - Pharmacy'!L433))","v":""},"",{"$f":"IF('MIS - Pharmacy'!A433=\"\",\"\",('MIS - Pharmacy'!AF433+'MIS - Pharmacy'!AH433 +'MIS - Pharmacy'!AG433))","v":""},{"$f":"IF(ISBLANK('MIS - Pharmacy'!AI433),\"\",'MIS - Pharmacy'!AI433)","v":""},"","","",{"$f":"IF(ISBLANK('MIS - Pharmacy'!V433),\"\",'MIS - Pharmacy'!V433)","v":""},"","","",{"$f":"IF(ISBLANK('MIS - Pharmacy'!J433),\"\",'MIS - Pharmacy'!J433)","v":""},{"$f":"IF(ISBLANK('MIS - Pharmacy'!AY433),\"\",'MIS - Pharmacy'!AY433)","v":""},{"$f":"IF(ISBLANK('MIS - Pharmacy'!BH433),\"\",'MIS - Pharmacy'!BH433)","v":""},"",""]
[{"$f":"IF(ISBLANK('MIS - Pharmacy'!A434), \"\",'MIS - Pharmacy'!A434)","v":""},{"$f":"IF(ISBLANK('MIS - Pharmacy'!B434),\"\",('MIS - Pharmacy'!B434&\"(\"&'MIS - Pharmacy'!D434&\")\"))","v":""},{"$f":"IF(ISBLANK('MIS - Pharmacy'!BI434), \"\", 'MIS - Pharmacy'!BI434)","v":""},{"$f":"IF(ISBLANK('MIS - Pharmacy'!U434), \"\", 'MIS - Pharmacy'!U434)","v":""},"","","","","","","",{"$f":"IF(ISBLANK('MIS - Pharmacy'!AC434),\"\",'MIS - Pharmacy'!AC434)","v":""},"",{"$f":"IF(ISBLANK('MIS - Pharmacy'!AD434),\"\",'MIS - Pharmacy'!AD434)","v":""},"","",{"$f":"IF('MIS - Pharmacy'!A434=\"\",\"\",SUM('MIS - Pharmacy'!K434+'MIS - Pharmacy'!L434))","v":""},"",{"$f":"IF('MIS - Pharmacy'!A434=\"\",\"\",('MIS - Pharmacy'!AF434+'MIS - Pharmacy'!AH434 +'MIS - Pharmacy'!AG434))","v":""},{"$f":"IF(ISBLANK('MIS - Pharmacy'!AI434),\"\",'MIS - Pharmacy'!AI434)","v":""},"","","",{"$f":"IF(ISBLANK('MIS - Pharmacy'!V434),\"\",'MIS - Pharmacy'!V434)","v":""},"","","",{"$f":"IF(ISBLANK('MIS - Pharmacy'!J434),\"\",'MIS - Pharmacy'!J434)","v":""},{"$f":"IF(ISBLANK('MIS - Pharmacy'!AY434),\"\",'MIS - Pharmacy'!AY434)","v":""},{"$f":"IF(ISBLANK('MIS - Pharmacy'!BH434),\"\",'MIS - Pharmacy'!BH434)","v":""},"",""]
[{"$f":"IF(ISBLANK('MIS - Pharmacy'!A435), \"\",'MIS - Pharmacy'!A435)","v":""},{"$f":"IF(ISBLANK('MIS - Pharmacy'!B435),\"\",('MIS - Pharmacy'!B435&\"(\"&'MIS - Pharmacy'!D435&\")\"))","v":""},{"$f":"IF(ISBLANK('MIS - Pharmacy'!BI435), \"\", 'MIS - Pharmacy'!BI435)","v":""},{"$f":"IF(ISBLANK('MIS - Pharmacy'!U435), \"\", 'MIS - Pharmacy'!U435)","v":""},"","","","","","","",{"$f":"IF(ISBLANK('MIS - Pharmacy'!AC435),\"\",'MIS - Pharmacy'!AC435)","v":""},"",{"$f":"IF(ISBLANK('MIS - Pharmacy'!AD435),\"\",'MIS - Pharmacy'!AD435)","v":""},"","",{"$f":"IF('MIS - Pharmacy'!A435=\"\",\"\",SUM('MIS - Pharmacy'!K435+'MIS - Pharmacy'!L435))","v":""},"",{"$f":"IF('MIS - Pharmacy'!A435=\"\",\"\",('MIS - Pharmacy'!AF435+'MIS - Pharmacy'!AH435 +'MIS - Pharmacy'!AG435))","v":""},{"$f":"IF(ISBLANK('MIS - Pharmacy'!AI435),\"\",'MIS - Pharmacy'!AI435)","v":""},"","","",{"$f":"IF(ISBLANK('MIS - Pharmacy'!V435),\"\",'MIS - Pharmacy'!V435)","v":""},"","","",{"$f":"IF(ISBLANK('MIS - Pharmacy'!J435),\"\",'MIS - Pharmacy'!J435)","v":""},{"$f":"IF(ISBLANK('MIS - Pharmacy'!AY435),\"\",'MIS - Pharmacy'!AY435)","v":""},{"$f":"IF(ISBLANK('MIS - Pharmacy'!BH435),\"\",'MIS - Pharmacy'!BH435)","v":""},"",""]
[{"$f":"IF(ISBLANK('MIS - Pharmacy'!A436), \"\",'MIS - Pharmacy'!A436)","v":""},{"$f":"IF(ISBLANK('MIS - Pharmacy'!B436),\"\",('MIS - Pharmacy'!B436&\"(\"&'MIS - Pharmacy'!D436&\")\"))","v":""},{"$f":"IF(ISBLANK('MIS - Pharmacy'!BI436), \"\", 'MIS - Pharmacy'!BI436)","v":""},{"$f":"IF(ISBLANK('MIS - Pharmacy'!U436), \"\", 'MIS - Pharmacy'!U436)","v":""},"","","","","","","",{"$f":"IF(ISBLANK('MIS - Pharmacy'!AC436),\"\",'MIS - Pharmacy'!AC436)","v":""},"",{"$f":"IF(ISBLANK('MIS - Pharmacy'!AD436),\"\",'MIS - Pharmacy'!AD436)","v":""},"","",{"$f":"IF('MIS - Pharmacy'!A436=\"\",\"\",SUM('MIS - Pharmacy'!K436+'MIS - Pharmacy'!L436))","v":""},"",{"$f":"IF('MIS - Pharmacy'!A436=\"\",\"\",('MIS - Pharmacy'!AF436+'MIS - Pharmacy'!AH436 +'MIS - Pharmacy'!AG436))","v":""},{"$f":"IF(ISBLANK('MIS - Pharmacy'!AI436),\"\",'MIS - Pharmacy'!AI436)","v":""},"","","",{"$f":"IF(ISBLANK('MIS - Pharmacy'!V436),\"\",'MIS - Pharmacy'!V436)","v":""},"","","",{"$f":"IF(ISBLANK('MIS - Pharmacy'!J436),\"\",'MIS - Pharmacy'!J436)","v":""},{"$f":"IF(ISBLANK('MIS - Pharmacy'!AY436),\"\",'MIS - Pharmacy'!AY436)","v":""},{"$f":"IF(ISBLANK('MIS - Pharmacy'!BH436),\"\",'MIS - Pharmacy'!BH436)","v":""},"",""]
[{"$f":"IF(ISBLANK('MIS - Pharmacy'!A437), \"\",'MIS - Pharmacy'!A437)","v":""},{"$f":"IF(ISBLANK('MIS - Pharmacy'!B437),\"\",('MIS - Pharmacy'!B437&\"(\"&'MIS - Pharmacy'!D437&\")\"))","v":""},{"$f":"IF(ISBLANK('MIS - Pharmacy'!BI437), \"\", 'MIS - Pharmacy'!BI437)","v":""},{"$f":"IF(ISBLANK('MIS - Pharmacy'!U437), \"\", 'MIS - Pharmacy'!U437)","v":""},"","","","","","","",{"$f":"IF(ISBLANK('MIS - Pharmacy'!AC437),\"\",'MIS - Pharmacy'!AC437)","v":""},"",{"$f":"IF(ISBLANK('MIS - Pharmacy'!AD437),\"\",'MIS - Pharmacy'!AD437)","v":""},"","",{"$f":"IF('MIS - Pharmacy'!A437=\"\",\"\",SUM('MIS - Pharmacy'!K437+'MIS - Pharmacy'!L437))","v":""},"",{"$f":"IF('MIS - Pharmacy'!A437=\"\",\"\",('MIS - Pharmacy'!AF437+'MIS - Pharmacy'!AH437 +'MIS - Pharmacy'!AG437))","v":""},{"$f":"IF(ISBLANK('MIS - Pharmacy'!AI437),\"\",'MIS - Pharmacy'!AI437)","v":""},"","","",{"$f":"IF(ISBLANK('MIS - Pharmacy'!V437),\"\",'MIS - Pharmacy'!V437)","v":""},"","","",{"$f":"IF(ISBLANK('MIS - Pharmacy'!J437),\"\",'MIS - Pharmacy'!J437)","v":""},{"$f":"IF(ISBLANK('MIS - Pharmacy'!AY437),\"\",'MIS - Pharmacy'!AY437)","v":""},{"$f":"IF(ISBLANK('MIS - Pharmacy'!BH437),\"\",'MIS - Pharmacy'!BH437)","v":""},"",""]
[{"$f":"IF(ISBLANK('MIS - Pharmacy'!A438), \"\",'MIS - Pharmacy'!A438)","v":""},{"$f":"IF(ISBLANK('MIS - Pharmacy'!B438),\"\",('MIS - Pharmacy'!B438&\"(\"&'MIS - Pharmacy'!D438&\")\"))","v":""},{"$f":"IF(ISBLANK('MIS - Pharmacy'!BI438), \"\", 'MIS - Pharmacy'!BI438)","v":""},{"$f":"IF(ISBLANK('MIS - Pharmacy'!U438), \"\", 'MIS - Pharmacy'!U438)","v":""},"","","","","","","",{"$f":"IF(ISBLANK('MIS - Pharmacy'!AC438),\"\",'MIS - Pharmacy'!AC438)","v":""},"",{"$f":"IF(ISBLANK('MIS - Pharmacy'!AD438),\"\",'MIS - Pharmacy'!AD438)","v":""},"","",{"$f":"IF('MIS - Pharmacy'!A438=\"\",\"\",SUM('MIS - Pharmacy'!K438+'MIS - Pharmacy'!L438))","v":""},"",{"$f":"IF('MIS - Pharmacy'!A438=\"\",\"\",('MIS - Pharmacy'!AF438+'MIS - Pharmacy'!AH438 +'MIS - Pharmacy'!AG438))","v":""},{"$f":"IF(ISBLANK('MIS - Pharmacy'!AI438),\"\",'MIS - Pharmacy'!AI438)","v":""},"","","",{"$f":"IF(ISBLANK('MIS - Pharmacy'!V438),\"\",'MIS - Pharmacy'!V438)","v":""},"","","",{"$f":"IF(ISBLANK('MIS - Pharmacy'!J438),\"\",'MIS - Pharmacy'!J438)","v":""},{"$f":"IF(ISBLANK('MIS - Pharmacy'!AY438),\"\",'MIS - Pharmacy'!AY438)","v":""},{"$f":"IF(ISBLANK('MIS - Pharmacy'!BH438),\"\",'MIS - Pharmacy'!BH438)","v":""},"",""]
[{"$f":"IF(ISBLANK('MIS - Pharmacy'!A439), \"\",'MIS - Pharmacy'!A439)","v":""},{"$f":"IF(ISBLANK('MIS - Pharmacy'!B439),\"\",('MIS - Pharmacy'!B439&\"(\"&'MIS - Pharmacy'!D439&\")\"))","v":""},{"$f":"IF(ISBLANK('MIS - Pharmacy'!BI439), \"\", 'MIS - Pharmacy'!BI439)","v":""},{"$f":"IF(ISBLANK('MIS - Pharmacy'!U439), \"\", 'MIS - Pharmacy'!U439)","v":""},"","","","","","","",{"$f":"IF(ISBLANK('MIS - Pharmacy'!AC439),\"\",'MIS - Pharmacy'!AC439)","v":""},"",{"$f":"IF(ISBLANK('MIS - Pharmacy'!AD439),\"\",'MIS - Pharmacy'!AD439)","v":""},"","",{"$f":"IF('MIS - Pharmacy'!A439=\"\",\"\",SUM('MIS - Pharmacy'!K439+'MIS - Pharmacy'!L439))","v":""},"",{"$f":"IF('MIS - Pharmacy'!A439=\"\",\"\",('MIS - Pharmacy'!AF439+'MIS - Pharmacy'!AH439 +'MIS - Pharmacy'!AG439))","v":""},{"$f":"IF(ISBLANK('MIS - Pharmacy'!AI439),\"\",'MIS - Pharmacy'!AI439)","v":""},"","","",{"$f":"IF(ISBLANK('MIS - Pharmacy'!V439),\"\",'MIS - Pharmacy'!V439)","v":""},"","","",{"$f":"IF(ISBLANK('MIS - Pharmacy'!J439),\"\",'MIS - Pharmacy'!J439)","v":""},{"$f":"IF(ISBLANK('MIS - Pharmacy'!AY439),\"\",'MIS - Pharmacy'!AY439)","v":""},{"$f":"IF(ISBLANK('MIS - Pharmacy'!BH439),\"\",'MIS - Pharmacy'!BH439)","v":""},"",""]
[{"$f":"IF(ISBLANK('MIS - Pharmacy'!A440), \"\",'MIS - Pharmacy'!A440)","v":""},{"$f":"IF(ISBLANK('MIS - Pharmacy'!B440),\"\",('MIS - Pharmacy'!B440&\"(\"&'MIS - Pharmacy'!D440&\")\"))","v":""},{"$f":"IF(ISBLANK('MIS - Pharmacy'!BI440), \"\", 'MIS - Pharmacy'!BI440)","v":""},{"$f":"IF(ISBLANK('MIS - Pharmacy'!U440), \"\", 'MIS - Pharmacy'!U440)","v":""},"","","","","","","",{"$f":"IF(ISBLANK('MIS - Pharmacy'!AC440),\"\",'MIS - Pharmacy'!AC440)","v":""},"",{"$f":"IF(ISBLANK('MIS - Pharmacy'!AD440),\"\",'MIS - Pharmacy'!AD440)","v":""},"","",{"$f":"IF('MIS - Pharmacy'!A440=\"\",\"\",SUM('MIS - Pharmacy'!K440+'MIS - Pharmacy'!L440))","v":""},"",{"$f":"IF('MIS - Pharmacy'!A440=\"\",\"\",('MIS - Pharmacy'!AF440+'MIS - Pharmacy'!AH440 +'MIS - Pharmacy'!AG440))","v":""},{"$f":"IF(ISBLANK('MIS - Pharmacy'!AI440),\"\",'MIS - Pharmacy'!AI440)","v":""},"","","",{"$f":"IF(ISBLANK('MIS - Pharmacy'!V440),\"\",'MIS - Pharmacy'!V440)","v":""},"","","",{"$f":"IF(ISBLANK('MIS - Pharmacy'!J440),\"\",'MIS - Pharmacy'!J440)","v":""},{"$f":"IF(ISBLANK('MIS - Pharmacy'!AY440),\"\",'MIS - Pharmacy'!AY440)","v":""},{"$f":"IF(ISBLANK('MIS - Pharmacy'!BH440),\"\",'MIS - Pharmacy'!BH440)","v":""},"",""]
[{"$f":"IF(ISBLANK('MIS - Pharmacy'!A441), \"\",'MIS - Pharmacy'!A441)","v":""},{"$f":"IF(ISBLANK('MIS - Pharmacy'!B441),\"\",('MIS - Pharmacy'!B441&\"(\"&'MIS - Pharmacy'!D441&\")\"))","v":""},{"$f":"IF(ISBLANK('MIS - Pharmacy'!BI441), \"\", 'MIS - Pharmacy'!BI441)","v":""},{"$f":"IF(ISBLANK('MIS - Pharmacy'!U441), \"\", 'MIS - Pharmacy'!U441)","v":""},"","","","","","","",{"$f":"IF(ISBLANK('MIS - Pharmacy'!AC441),\"\",'MIS - Pharmacy'!AC441)","v":""},"",{"$f":"IF(ISBLANK('MIS - Pharmacy'!AD441),\"\",'MIS - Pharmacy'!AD441)","v":""},"","",{"$f":"IF('MIS - Pharmacy'!A441=\"\",\"\",SUM('MIS - Pharmacy'!K441+'MIS - Pharmacy'!L441))","v":""},"",{"$f":"IF('MIS - Pharmacy'!A441=\"\",\"\",('MIS - Pharmacy'!AF441+'MIS - Pharmacy'!AH441 +'MIS - Pharmacy'!AG441))","v":""},{"$f":"IF(ISBLANK('MIS - Pharmacy'!AI441),\"\",'MIS - Pharmacy'!AI441)","v":""},"","","",{"$f":"IF(ISBLANK('MIS - Pharmacy'!V441),\"\",'MIS - Pharmacy'!V441)","v":""},"","","",{"$f":"IF(ISBLANK('MIS - Pharmacy'!J441),\"\",'MIS - Pharmacy'!J441)","v":""},{"$f":"IF(ISBLANK('MIS - Pharmacy'!AY441),\"\",'MIS - Pharmacy'!AY441)","v":""},{"$f":"IF(ISBLANK('MIS - Pharmacy'!BH441),\"\",'MIS - Pharmacy'!BH441)","v":""},"",""]
[{"$f":"IF(ISBLANK('MIS - Pharmacy'!A442), \"\",'MIS - Pharmacy'!A442)","v":""},{"$f":"IF(ISBLANK('MIS - Pharmacy'!B442),\"\",('MIS - Pharmacy'!B442&\"(\"&'MIS - Pharmacy'!D442&\")\"))","v":""},{"$f":"IF(ISBLANK('MIS - Pharmacy'!BI442), \"\", 'MIS - Pharmacy'!BI442)","v":""},{"$f":"IF(ISBLANK('MIS - Pharmacy'!U442), \"\", 'MIS - Pharmacy'!U442)","v":""},"","","","","","","",{"$f":"IF(ISBLANK('MIS - Pharmacy'!AC442),\"\",'MIS - Pharmacy'!AC442)","v":""},"",{"$f":"IF(ISBLANK('MIS - Pharmacy'!AD442),\"\",'MIS - Pharmacy'!AD442)","v":""},"","",{"$f":"IF('MIS - Pharmacy'!A442=\"\",\"\",SUM('MIS - Pharmacy'!K442+'MIS - Pharmacy'!L442))","v":""},"",{"$f":"IF('MIS - Pharmacy'!A442=\"\",\"\",('MIS - Pharmacy'!AF442+'MIS - Pharmacy'!AH442 +'MIS - Pharmacy'!AG442))","v":""},{"$f":"IF(ISBLANK('MIS - Pharmacy'!AI442),\"\",'MIS - Pharmacy'!AI442)","v":""},"","","",{"$f":"IF(ISBLANK('MIS - Pharmacy'!V442),\"\",'MIS - Pharmacy'!V442)","v":""},"","","",{"$f":"IF(ISBLANK('MIS - Pharmacy'!J442),\"\",'MIS - Pharmacy'!J442)","v":""},{"$f":"IF(ISBLANK('MIS - Pharmacy'!AY442),\"\",'MIS - Pharmacy'!AY442)","v":""},{"$f":"IF(ISBLANK('MIS - Pharmacy'!BH442),\"\",'MIS - Pharmacy'!BH442)","v":""},"",""]
[{"$f":"IF(ISBLANK('MIS - Pharmacy'!A443), \"\",'MIS - Pharmacy'!A443)","v":""},{"$f":"IF(ISBLANK('MIS - Pharmacy'!B443),\"\",('MIS - Pharmacy'!B443&\"(\"&'MIS - Pharmacy'!D443&\")\"))","v":""},{"$f":"IF(ISBLANK('MIS - Pharmacy'!BI443), \"\", 'MIS - Pharmacy'!BI443)","v":""},{"$f":"IF(ISBLANK('MIS - Pharmacy'!U443), \"\", 'MIS - Pharmacy'!U443)","v":""},"","","","","","","",{"$f":"IF(ISBLANK('MIS - Pharmacy'!AC443),\"\",'MIS - Pharmacy'!AC443)","v":""},"",{"$f":"IF(ISBLANK('MIS - Pharmacy'!AD443),\"\",'MIS - Pharmacy'!AD443)","v":""},"","",{"$f":"IF('MIS - Pharmacy'!A443=\"\",\"\",SUM('MIS - Pharmacy'!K443+'MIS - Pharmacy'!L443))","v":""},"",{"$f":"IF('MIS - Pharmacy'!A443=\"\",\"\",('MIS - Pharmacy'!AF443+'MIS - Pharmacy'!AH443 +'MIS - Pharmacy'!AG443))","v":""},{"$f":"IF(ISBLANK('MIS - Pharmacy'!AI443),\"\",'MIS - Pharmacy'!AI443)","v":""},"","","",{"$f":"IF(ISBLANK('MIS - Pharmacy'!V443),\"\",'MIS - Pharmacy'!V443)","v":""},"","","",{"$f":"IF(ISBLANK('MIS - Pharmacy'!J443),\"\",'MIS - Pharmacy'!J443)","v":""},{"$f":"IF(ISBLANK('MIS - Pharmacy'!AY443),\"\",'MIS - Pharmacy'!AY443)","v":""},{"$f":"IF(ISBLANK('MIS - Pharmacy'!BH443),\"\",'MIS - Pharmacy'!BH443)","v":""},"",""]
[{"$f":"IF(ISBLANK('MIS - Pharmacy'!A444), \"\",'MIS - Pharmacy'!A444)","v":""},{"$f":"IF(ISBLANK('MIS - Pharmacy'!B444),\"\",('MIS - Pharmacy'!B444&\"(\"&'MIS - Pharmacy'!D444&\")\"))","v":""},{"$f":"IF(ISBLANK('MIS - Pharmacy'!BI444), \"\", 'MIS - Pharmacy'!BI444)","v":""},{"$f":"IF(ISBLANK('MIS - Pharmacy'!U444), \"\", 'MIS - Pharmacy'!U444)","v":""},"","","","","","","",{"$f":"IF(ISBLANK('MIS - Pharmacy'!AC444),\"\",'MIS - Pharmacy'!AC444)","v":""},"",{"$f":"IF(ISBLANK('MIS - Pharmacy'!AD444),\"\",'MIS - Pharmacy'!AD444)","v":""},"","",{"$f":"IF('MIS - Pharmacy'!A444=\"\",\"\",SUM('MIS - Pharmacy'!K444+'MIS - Pharmacy'!L444))","v":""},"",{"$f":"IF('MIS - Pharmacy'!A444=\"\",\"\",('MIS - Pharmacy'!AF444+'MIS - Pharmacy'!AH444 +'MIS - Pharmacy'!AG444))","v":""},{"$f":"IF(ISBLANK('MIS - Pharmacy'!AI444),\"\",'MIS - Pharmacy'!AI444)","v":""},"","","",{"$f":"IF(ISBLANK('MIS - Pharmacy'!V444),\"\",'MIS - Pharmacy'!V444)","v":""},"","","",{"$f":"IF(ISBLANK('MIS - Pharmacy'!J444),\"\",'MIS - Pharmacy'!J444)","v":""},{"$f":"IF(ISBLANK('MIS - Pharmacy'!AY444),\"\",'MIS - Pharmacy'!AY444)","v":""},{"$f":"IF(ISBLANK('MIS - Pharmacy'!BH444),\"\",'MIS - Pharmacy'!BH444)","v":""},"",""]
[{"$f":"IF(ISBLANK('MIS - Pharmacy'!A445), \"\",'MIS - Pharmacy'!A445)","v":""},{"$f":"IF(ISBLANK('MIS - Pharmacy'!B445),\"\",('MIS - Pharmacy'!B445&\"(\"&'MIS - Pharmacy'!D445&\")\"))","v":""},{"$f":"IF(ISBLANK('MIS - Pharmacy'!BI445), \"\", 'MIS - Pharmacy'!BI445)","v":""},{"$f":"IF(ISBLANK('MIS - Pharmacy'!U445), \"\", 'MIS - Pharmacy'!U445)","v":""},"","","","","","","",{"$f":"IF(ISBLANK('MIS - Pharmacy'!AC445),\"\",'MIS - Pharmacy'!AC445)","v":""},"",{"$f":"IF(ISBLANK('MIS - Pharmacy'!AD445),\"\",'MIS - Pharmacy'!AD445)","v":""},"","",{"$f":"IF('MIS - Pharmacy'!A445=\"\",\"\",SUM('MIS - Pharmacy'!K445+'MIS - Pharmacy'!L445))","v":""},"",{"$f":"IF('MIS - Pharmacy'!A445=\"\",\"\",('MIS - Pharmacy'!AF445+'MIS - Pharmacy'!AH445 +'MIS - Pharmacy'!AG445))","v":""},{"$f":"IF(ISBLANK('MIS - Pharmacy'!AI445),\"\",'MIS - Pharmacy'!AI445)","v":""},"","","",{"$f":"IF(ISBLANK('MIS - Pharmacy'!V445),\"\",'MIS - Pharmacy'!V445)","v":""},"","","",{"$f":"IF(ISBLANK('MIS - Pharmacy'!J445),\"\",'MIS - Pharmacy'!J445)","v":""},{"$f":"IF(ISBLANK('MIS - Pharmacy'!AY445),\"\",'MIS - Pharmacy'!AY445)","v":""},{"$f":"IF(ISBLANK('MIS - Pharmacy'!BH445),\"\",'MIS - Pharmacy'!BH445)","v":""},"",""]
[{"$f":"IF(ISBLANK('MIS - Pharmacy'!A446), \"\",'MIS - Pharmacy'!A446)","v":""},{"$f":"IF(ISBLANK('MIS - Pharmacy'!B446),\"\",('MIS - Pharmacy'!B446&\"(\"&'MIS - Pharmacy'!D446&\")\"))","v":""},{"$f":"IF(ISBLANK('MIS - Pharmacy'!BI446), \"\", 'MIS - Pharmacy'!BI446)","v":""},{"$f":"IF(ISBLANK('MIS - Pharmacy'!U446), \"\", 'MIS - Pharmacy'!U446)","v":""},"","","","","","","",{"$f":"IF(ISBLANK('MIS - Pharmacy'!AC446),\"\",'MIS - Pharmacy'!AC446)","v":""},"",{"$f":"IF(ISBLANK('MIS - Pharmacy'!AD446),\"\",'MIS - Pharmacy'!AD446)","v":""},"","",{"$f":"IF('MIS - Pharmacy'!A446=\"\",\"\",SUM('MIS - Pharmacy'!K446+'MIS - Pharmacy'!L446))","v":""},"",{"$f":"IF('MIS - Pharmacy'!A446=\"\",\"\",('MIS - Pharmacy'!AF446+'MIS - Pharmacy'!AH446 +'MIS - Pharmacy'!AG446))","v":""},{"$f":"IF(ISBLANK('MIS - Pharmacy'!AI446),\"\",'MIS - Pharmacy'!AI446)","v":""},"","","",{"$f":"IF(ISBLANK('MIS - Pharmacy'!V446),\"\",'MIS - Pharmacy'!V446)","v":""},"","","",{"$f":"IF(ISBLANK('MIS - Pharmacy'!J446),\"\",'MIS - Pharmacy'!J446)","v":""},{"$f":"IF(ISBLANK('MIS - Pharmacy'!AY446),\"\",'MIS - Pharmacy'!AY446)","v":""},{"$f":"IF(ISBLANK('MIS - Pharmacy'!BH446),\"\",'MIS - Pharmacy'!BH446)","v":""},"",""]
[{"$f":"IF(ISBLANK('MIS - Pharmacy'!A447), \"\",'MIS - Pharmacy'!A447)","v":""},{"$f":"IF(ISBLANK('MIS - Pharmacy'!B447),\"\",('MIS - Pharmacy'!B447&\"(\"&'MIS - Pharmacy'!D447&\")\"))","v":""},{"$f":"IF(ISBLANK('MIS - Pharmacy'!BI447), \"\", 'MIS - Pharmacy'!BI447)","v":""},{"$f":"IF(ISBLANK('MIS - Pharmacy'!U447), \"\", 'MIS - Pharmacy'!U447)","v":""},"","","","","","","",{"$f":"IF(ISBLANK('MIS - Pharmacy'!AC447),\"\",'MIS - Pharmacy'!AC447)","v":""},"",{"$f":"IF(ISBLANK('MIS - Pharmacy'!AD447),\"\",'MIS - Pharmacy'!AD447)","v":""},"","",{"$f":"IF('MIS - Pharmacy'!A447=\"\",\"\",SUM('MIS - Pharmacy'!K447+'MIS - Pharmacy'!L447))","v":""},"",{"$f":"IF('MIS - Pharmacy'!A447=\"\",\"\",('MIS - Pharmacy'!AF447+'MIS - Pharmacy'!AH447 +'MIS - Pharmacy'!AG447))","v":""},{"$f":"IF(ISBLANK('MIS - Pharmacy'!AI447),\"\",'MIS - Pharmacy'!AI447)","v":""},"","","",{"$f":"IF(ISBLANK('MIS - Pharmacy'!V447),\"\",'MIS - Pharmacy'!V447)","v":""},"","","",{"$f":"IF(ISBLANK('MIS - Pharmacy'!J447),\"\",'MIS - Pharmacy'!J447)","v":""},{"$f":"IF(ISBLANK('MIS - Pharmacy'!AY447),\"\",'MIS - Pharmacy'!AY447)","v":""},{"$f":"IF(ISBLANK('MIS - Pharmacy'!BH447),\"\",'MIS - Pharmacy'!BH447)","v":""},"",""]
[{"$f":"IF(ISBLANK('MIS - Pharmacy'!A448), \"\",'MIS - Pharmacy'!A448)","v":""},{"$f":"IF(ISBLANK('MIS - Pharmacy'!B448),\"\",('MIS - Pharmacy'!B448&\"(\"&'MIS - Pharmacy'!D448&\")\"))","v":""},{"$f":"IF(ISBLANK('MIS - Pharmacy'!BI448), \"\", 'MIS - Pharmacy'!BI448)","v":""},{"$f":"IF(ISBLANK('MIS - Pharmacy'!U448), \"\", 'MIS - Pharmacy'!U448)","v":""},"","","","","","","",{"$f":"IF(ISBLANK('MIS - Pharmacy'!AC448),\"\",'MIS - Pharmacy'!AC448)","v":""},"",{"$f":"IF(ISBLANK('MIS - Pharmacy'!AD448),\"\",'MIS - Pharmacy'!AD448)","v":""},"","",{"$f":"IF('MIS - Pharmacy'!A448=\"\",\"\",SUM('MIS - Pharmacy'!K448+'MIS - Pharmacy'!L448))","v":""},"",{"$f":"IF('MIS - Pharmacy'!A448=\"\",\"\",('MIS - Pharmacy'!AF448+'MIS - Pharmacy'!AH448 +'MIS - Pharmacy'!AG448))","v":""},{"$f":"IF(ISBLANK('MIS - Pharmacy'!AI448),\"\",'MIS - Pharmacy'!AI448)","v":""},"","","",{"$f":"IF(ISBLANK('MIS - Pharmacy'!V448),\"\",'MIS - Pharmacy'!V448)","v":""},"","","",{"$f":"IF(ISBLANK('MIS - Pharmacy'!J448),\"\",'MIS - Pharmacy'!J448)","v":""},{"$f":"IF(ISBLANK('MIS - Pharmacy'!AY448),\"\",'MIS - Pharmacy'!AY448)","v":""},{"$f":"IF(ISBLANK('MIS - Pharmacy'!BH448),\"\",'MIS - Pharmacy'!BH448)","v":""},"",""]
[{"$f":"IF(ISBLANK('MIS - Pharmacy'!A449), \"\",'MIS - Pharmacy'!A449)","v":""},{"$f":"IF(ISBLANK('MIS - Pharmacy'!B449),\"\",('MIS - Pharmacy'!B449&\"(\"&'MIS - Pharmacy'!D449&\")\"))","v":""},{"$f":"IF(ISBLANK('MIS - Pharmacy'!BI449), \"\", 'MIS - Pharmacy'!BI449)","v":""},{"$f":"IF(ISBLANK('MIS - Pharmacy'!U449), \"\", 'MIS - Pharmacy'!U449)","v":""},"","","","","","","",{"$f":"IF(ISBLANK('MIS - Pharmacy'!AC449),\"\",'MIS - Pharmacy'!AC449)","v":""},"",{"$f":"IF(ISBLANK('MIS - Pharmacy'!AD449),\"\",'MIS - Pharmacy'!AD449)","v":""},"","",{"$f":"IF('MIS - Pharmacy'!A449=\"\",\"\",SUM('MIS - Pharmacy'!K449+'MIS - Pharmacy'!L449))","v":""},"",{"$f":"IF('MIS - Pharmacy'!A449=\"\",\"\",('MIS - Pharmacy'!AF449+'MIS - Pharmacy'!AH449 +'MIS - Pharmacy'!AG449))","v":""},{"$f":"IF(ISBLANK('MIS - Pharmacy'!AI449),\"\",'MIS - Pharmacy'!AI449)","v":""},"","","",{"$f":"IF(ISBLANK('MIS - Pharmacy'!V449),\"\",'MIS - Pharmacy'!V449)","v":""},"","","",{"$f":"IF(ISBLANK('MIS - Pharmacy'!J449),\"\",'MIS - Pharmacy'!J449)","v":""},{"$f":"IF(ISBLANK('MIS - Pharmacy'!AY449),\"\",'MIS - Pharmacy'!AY449)","v":""},{"$f":"IF(ISBLANK('MIS - Pharmacy'!BH449),\"\",'MIS - Pharmacy'!BH449)","v":""},"",""]
[{"$f":"IF(ISBLANK('MIS - Pharmacy'!A450), \"\",'MIS - Pharmacy'!A450)","v":""},{"$f":"IF(ISBLANK('MIS - Pharmacy'!B450),\"\",('MIS - Pharmacy'!B450&\"(\"&'MIS - Pharmacy'!D450&\")\"))","v":""},{"$f":"IF(ISBLANK('MIS - Pharmacy'!BI450), \"\", 'MIS - Pharmacy'!BI450)","v":""},{"$f":"IF(ISBLANK('MIS - Pharmacy'!U450), \"\", 'MIS - Pharmacy'!U450)","v":""},"","","","","","","",{"$f":"IF(ISBLANK('MIS - Pharmacy'!AC450),\"\",'MIS - Pharmacy'!AC450)","v":""},"",{"$f":"IF(ISBLANK('MIS - Pharmacy'!AD450),\"\",'MIS - Pharmacy'!AD450)","v":""},"","",{"$f":"IF('MIS - Pharmacy'!A450=\"\",\"\",SUM('MIS - Pharmacy'!K450+'MIS - Pharmacy'!L450))","v":""},"",{"$f":"IF('MIS - Pharmacy'!A450=\"\",\"\",('MIS - Pharmacy'!AF450+'MIS - Pharmacy'!AH450 +'MIS - Pharmacy'!AG450))","v":""},{"$f":"IF(ISBLANK('MIS - Pharmacy'!AI450),\"\",'MIS - Pharmacy'!AI450)","v":""},"","","",{"$f":"IF(ISBLANK('MIS - Pharmacy'!V450),\"\",'MIS - Pharmacy'!V450)","v":""},"","","",{"$f":"IF(ISBLANK('MIS - Pharmacy'!J450),\"\",'MIS - Pharmacy'!J450)","v":""},{"$f":"IF(ISBLANK('MIS - Pharmacy'!AY450),\"\",'MIS - Pharmacy'!AY450)","v":""},{"$f":"IF(ISBLANK('MIS - Pharmacy'!BH450),\"\",'MIS - Pharmacy'!BH450)","v":""},"",""]
[{"$f":"IF(ISBLANK('MIS - Pharmacy'!A451), \"\",'MIS - Pharmacy'!A451)","v":""},{"$f":"IF(ISBLANK('MIS - Pharmacy'!B451),\"\",('MIS - Pharmacy'!B451&\"(\"&'MIS - Pharmacy'!D451&\")\"))","v":""},{"$f":"IF(ISBLANK('MIS - Pharmacy'!BI451), \"\", 'MIS - Pharmacy'!BI451)","v":""},{"$f":"IF(ISBLANK('MIS - Pharmacy'!U451), \"\", 'MIS - Pharmacy'!U451)","v":""},"","","","","","","",{"$f":"IF(ISBLANK('MIS - Pharmacy'!AC451),\"\",'MIS - Pharmacy'!AC451)","v":""},"",{"$f":"IF(ISBLANK('MIS - Pharmacy'!AD451),\"\",'MIS - Pharmacy'!AD451)","v":""},"","",{"$f":"IF('MIS - Pharmacy'!A451=\"\",\"\",SUM('MIS - Pharmacy'!K451+'MIS - Pharmacy'!L451))","v":""},"",{"$f":"IF('MIS - Pharmacy'!A451=\"\",\"\",('MIS - Pharmacy'!AF451+'MIS - Pharmacy'!AH451 +'MIS - Pharmacy'!AG451))","v":""},{"$f":"IF(ISBLANK('MIS - Pharmacy'!AI451),\"\",'MIS - Pharmacy'!AI451)","v":""},"","","",{"$f":"IF(ISBLANK('MIS - Pharmacy'!V451),\"\",'MIS - Pharmacy'!V451)","v":""},"","","",{"$f":"IF(ISBLANK('MIS - Pharmacy'!J451),\"\",'MIS - Pharmacy'!J451)","v":""},{"$f":"IF(ISBLANK('MIS - Pharmacy'!AY451),\"\",'MIS - Pharmacy'!AY451)","v":""},{"$f":"IF(ISBLANK('MIS - Pharmacy'!BH451),\"\",'MIS - Pharmacy'!BH451)","v":""},"",""]
[{"$f":"IF(ISBLANK('MIS - Pharmacy'!A452), \"\",'MIS - Pharmacy'!A452)","v":""},{"$f":"IF(ISBLANK('MIS - Pharmacy'!B452),\"\",('MIS - Pharmacy'!B452&\"(\"&'MIS - Pharmacy'!D452&\")\"))","v":""},{"$f":"IF(ISBLANK('MIS - Pharmacy'!BI452), \"\", 'MIS - Pharmacy'!BI452)","v":""},{"$f":"IF(ISBLANK('MIS - Pharmacy'!U452), \"\", 'MIS - Pharmacy'!U452)","v":""},"",{"$f":"IF(D461=\"\",\"\",D461*12)","v":""},{"$f":"IF(Q461=\"\",\"\",IF(Q461 = 0, 0, D461/Q461*1000))","v":""},"","",{"$f":"IF(D461=0,0,IF(D461=\"\",\"\",D461/Q461))","v":""},{"$f":"IF(D461=0,0,IF(D461=\"\",\"\",D461/X461))","v":""},{"$f":"IF(ISBLANK('MIS - Pharmacy'!AC452),\"\",'MIS - Pharmacy'!AC452)","v":""},"",{"$f":"IF(ISBLANK('MIS - Pharmacy'!AD452),\"\",'MIS - Pharmacy'!AD452)","v":""},"",{"$f":"IF(L461=\"\",\"\",IF(X461=0,0,L461/X461))","v":""},{"$f":"IF('MIS - Pharmacy'!A452=\"\",\"\",SUM('MIS - Pharmacy'!K452+'MIS - Pharmacy'!L452))","v":""},"",{"$f":"IF('MIS - Pharmacy'!A452=\"\",\"\",('MIS - Pharmacy'!AF452+'MIS - Pharmacy'!AH452 +'MIS - Pharmacy'!AG452))","v":""},{"$f":"IF(ISBLANK('MIS - Pharmacy'!AI452),\"\",'MIS - Pharmacy'!AI452)","v":""},"",{"$f":"IF(A461=\"\",\"\",IF(T461=0,0,T461/Q461*1000))","v":""},"",{"$f":"IF(ISBLANK('MIS - Pharmacy'!V452),\"\",'MIS - Pharmacy'!V452)","v":""},"","","",{"$f":"IF(ISBLANK('MIS - Pharmacy'!J452),\"\",'MIS - Pharmacy'!J452)","v":""},{"$f":"IF(ISBLANK('MIS - Pharmacy'!AY452),\"\",'MIS - Pharmacy'!AY452)","v":""},{"$f":"IF(ISBLANK('MIS - Pharmacy'!BH452),\"\",'MIS - Pharmacy'!BH452)","v":""},{"$f":"IF(A461=\"\",\"\",D461+L461)","v":""},""]
[{"$f":"IF(ISBLANK('MIS - Pharmacy'!A453), \"\",'MIS - Pharmacy'!A453)","v":""},{"$f":"IF(ISBLANK('MIS - Pharmacy'!B453),\"\",('MIS - Pharmacy'!B453&\"(\"&'MIS - Pharmacy'!D453&\")\"))","v":""},{"$f":"IF(ISBLANK('MIS - Pharmacy'!BI453), \"\", 'MIS - Pharmacy'!BI453)","v":""},{"$f":"IF(ISBLANK('MIS - Pharmacy'!U453), \"\", 'MIS - Pharmacy'!U453)","v":""},{"$f":"IF(D462=\"\",\"\",IF(D462<=D$9,\"Lower Outlier\",IF(D462<=D$5,\"Below Average\",IF(D462<=D$6,\"Lower Quartile Range\",IF(D462<=D$7,\"Upper Quartile Range\",IF(D462<=D$10,\"Above Average\",\"Upper Outlier\"))))))","v":""},"","",{"$f":"IF(D462=\"\",\"\",IF(X462=0,0,D462/Y462))","v":""},{"$f":"IF(A462=\"\",\"\",IF(D462=0,0,(D462*0.3)/Y462))","v":""},"","",{"$f":"IF(ISBLANK('MIS - Pharmacy'!AC453),\"\",'MIS - Pharmacy'!AC453)","v":""},{"$f":"IF(L462=\"\",\"\",IF(L462<=L$9,\"Lower Outlier\",IF(L462<=L$5,\"Below Average\",IF(L462<=L$6,\"Lower Quartile Range\",IF(L462<=L$7,\"Upper Quartile Range\",IF(L462<=L$10,\"Above Average\",\"Upper Outlier\"))))))","v":""},{"$f":"IF(ISBLANK('MIS - Pharmacy'!AD453),\"\",'MIS - Pharmacy'!AD453)","v":""},{"$f":"IF(N462=\"\",\"\",IF(N462=0,0,L462/N462*1000))","v":""},"",{"$f":"IF('MIS - Pharmacy'!A453=\"\",\"\",SUM('MIS - Pharmacy'!K453+'MIS - Pharmacy'!L453))","v":""},{"$f":"IF(Q462=\"\",\"\",IF(Q462<=Q$9,\"Lower Outlier\",IF(Q462<=Q$5,\"Below Average\",IF(Q462<=Q$6,\"Lower Quartile Range\",IF(Q462<=Q$7,\"Upper Quartile Range\",IF(Q462<=Q$10,\"Above Average\",\"Upper Outlier\"))))))","v":""},{"$f":"IF('MIS - Pharmacy'!A453=\"\",\"\",('MIS - Pharmacy'!AF453+'MIS - Pharmacy'!AH453 +'MIS - Pharmacy'!AG453))","v":""},{"$f":"IF(ISBLANK('MIS - Pharmacy'!AI453),\"\",'MIS - Pharmacy'!AI453)","v":""},{"$f":"IF(T462=\"\",\"\",IF(T462<=T$9,\"Lower Outlier\",IF(T462<=T$5,\"Below Average\",IF(T462<=T$6,\"Lower Quartile Range\",IF(T462<=T$7,\"Upper Quartile Range\",IF(T462<=T$10,\"Above Average\",\"Upper Outlier\"))))))","v":""},"",{"$f":"IF(V462=\"\",\"\",IF(S462 >0,(T462/S462*1000),0))","v":""},{"$f":"IF(ISBLANK('MIS - Pharmacy'!V453),\"\",'MIS - Pharmacy'!V453)","v":""},{"$f":"IF(X462=\"\",\"\",(X462/7)*$Y$3)","v":""},{"$f":"IF(X462=\"\",\"\",IF(X462<=X$9,\"Lower Outlier\",IF(X462<=X$5,\"Below Average\",IF(X462<=X$6,\"Lower Quartile Range\",IF(X462<=X$7,\"Upper Quartile Range\",IF(X462<=X$10,\"Above Average\",\"Upper Outlier\"))))))","v":""},{"$f":"IF(A462=\"\",\"\",IF(X462=0,0,Y462/Q462*1000))","v":""},{"$f":"IF(ISBLANK('MIS - Pharmacy'!J453),\"\",'MIS - Pharmacy'!J453)","v":""},{"$f":"IF(ISBLANK('MIS - Pharmacy'!AY453),\"\",'MIS - Pharmacy'!AY453)","v":""},{"$f":"IF(ISBLANK('MIS - Pharmacy'!BH453),\"\",'MIS - Pharmacy'!BH453)","v":""},"",{"$f":"IF(A462=\"\",\"\",IF(Y462=0,0,(AE462/Y462)*100))","v":""}]
[{"$f":"IF(ISBLANK('MIS - Pharmacy'!A454), \"\",'MIS - Pharmacy'!A454)","v":""},{"$f":"IF(ISBLANK('MIS - Pharmacy'!B454),\"\",('MIS - Pharmacy'!B454&\"(\"&'MIS - Pharmacy'!D454&\")\"))","v":""},{"$f":"IF(ISBLANK('MIS - Pharmacy'!BI454), \"\", 'MIS - Pharmacy'!BI454)","v":""},{"$f":"IF(ISBLANK('MIS - Pharmacy'!U454), \"\", 'MIS - Pharmacy'!U454)","v":""},"","","","","","","",{"$f":"IF(ISBLANK('MIS - Pharmacy'!AC454),\"\",'MIS - Pharmacy'!AC454)","v":""},"",{"$f":"IF(ISBLANK('MIS - Pharmacy'!AD454),\"\",'MIS - Pharmacy'!AD454)","v":""},"","",{"$f":"IF('MIS - Pharmacy'!A454=\"\",\"\",SUM('MIS - Pharmacy'!K454+'MIS - Pharmacy'!L454))","v":""},"",{"$f":"IF('MIS - Pharmacy'!A454=\"\",\"\",('MIS - Pharmacy'!AF454+'MIS - Pharmacy'!AH454 +'MIS - Pharmacy'!AG454))","v":""},{"$f":"IF(ISBLANK('MIS - Pharmacy'!AI454),\"\",'MIS - Pharmacy'!AI454)","v":""},"","","",{"$f":"IF(ISBLANK('MIS - Pharmacy'!V454),\"\",'MIS - Pharmacy'!V454)","v":""},"","","",{"$f":"IF(ISBLANK('MIS - Pharmacy'!J454),\"\",'MIS - Pharmacy'!J454)","v":""},{"$f":"IF(ISBLANK('MIS - Pharmacy'!AY454),\"\",'MIS - Pharmacy'!AY454)","v":""},{"$f":"IF(ISBLANK('MIS - Pharmacy'!BH454),\"\",'MIS - Pharmacy'!BH454)","v":""},"",""]
[{"$f":"IF(ISBLANK('MIS - Pharmacy'!A455), \"\",'MIS - Pharmacy'!A455)","v":""},{"$f":"IF(ISBLANK('MIS - Pharmacy'!B455),\"\",('MIS - Pharmacy'!B455&\"(\"&'MIS - Pharmacy'!D455&\")\"))","v":""},{"$f":"IF(ISBLANK('MIS - Pharmacy'!BI455), \"\", 'MIS - Pharmacy'!BI455)","v":""},{"$f":"IF(ISBLANK('MIS - Pharmacy'!U455), \"\", 'MIS - Pharmacy'!U455)","v":""},"","","","","","","",{"$f":"IF(ISBLANK('MIS - Pharmacy'!AC455),\"\",'MIS - Pharmacy'!AC455)","v":""},"",{"$f":"IF(ISBLANK('MIS - Pharmacy'!AD455),\"\",'MIS - Pharmacy'!AD455)","v":""},"","",{"$f":"IF('MIS - Pharmacy'!A455=\"\",\"\",SUM('MIS - Pharmacy'!K455+'MIS - Pharmacy'!L455))","v":""},"",{"$f":"IF('MIS - Pharmacy'!A455=\"\",\"\",('MIS - Pharmacy'!AF455+'MIS - Pharmacy'!AH455 +'MIS - Pharmacy'!AG455))","v":""},{"$f":"IF(ISBLANK('MIS - Pharmacy'!AI455),\"\",'MIS - Pharmacy'!AI455)","v":""},"","","",{"$f":"IF(ISBLANK('MIS - Pharmacy'!V455),\"\",'MIS - Pharmacy'!V455)","v":""},"","","",{"$f":"IF(ISBLANK('MIS - Pharmacy'!J455),\"\",'MIS - Pharmacy'!J455)","v":""},{"$f":"IF(ISBLANK('MIS - Pharmacy'!AY455),\"\",'MIS - Pharmacy'!AY455)","v":""},{"$f":"IF(ISBLANK('MIS - Pharmacy'!BH455),\"\",'MIS - Pharmacy'!BH455)","v":""},"",""]
[{"$f":"IF(ISBLANK('MIS - Pharmacy'!A456), \"\",'MIS - Pharmacy'!A456)","v":""},{"$f":"IF(ISBLANK('MIS - Pharmacy'!B456),\"\",('MIS - Pharmacy'!B456&\"(\"&'MIS - Pharmacy'!D456&\")\"))","v":""},{"$f":"IF(ISBLANK('MIS - Pharmacy'!BI456), \"\", 'MIS - Pharmacy'!BI456)","v":""},{"$f":"IF(ISBLANK('MIS - Pharmacy'!U456), \"\", 'MIS - Pharmacy'!U456)","v":""},"","","","","","","",{"$f":"IF(ISBLANK('MIS - Pharmacy'!AC456),\"\",'MIS - Pharmacy'!AC456)","v":""},"",{"$f":"IF(ISBLANK('MIS - Pharmacy'!AD456),\"\",'MIS - Pharmacy'!AD456)","v":""},"","",{"$f":"IF('MIS - Pharmacy'!A456=\"\",\"\",SUM('MIS - Pharmacy'!K456+'MIS - Pharmacy'!L456))","v":""},"",{"$f":"IF('MIS - Pharmacy'!A456=\"\",\"\",('MIS - Pharmacy'!AF456+'MIS - Pharmacy'!AH456 +'MIS - Pharmacy'!AG456))","v":""},{"$f":"IF(ISBLANK('MIS - Pharmacy'!AI456),\"\",'MIS - Pharmacy'!AI456)","v":""},"","","",{"$f":"IF(ISBLANK('MIS - Pharmacy'!V456),\"\",'MIS - Pharmacy'!V456)","v":""},"","","",{"$f":"IF(ISBLANK('MIS - Pharmacy'!J456),\"\",'MIS - Pharmacy'!J456)","v":""},{"$f":"IF(ISBLANK('MIS - Pharmacy'!AY456),\"\",'MIS - Pharmacy'!AY456)","v":""},{"$f":"IF(ISBLANK('MIS - Pharmacy'!BH456),\"\",'MIS - Pharmacy'!BH456)","v":""},"",""]
[{"$f":"IF(ISBLANK('MIS - Pharmacy'!A457), \"\",'MIS - Pharmacy'!A457)","v":""},{"$f":"IF(ISBLANK('MIS - Pharmacy'!B457),\"\",('MIS - Pharmacy'!B457&\"(\"&'MIS - Pharmacy'!D457&\")\"))","v":""},{"$f":"IF(ISBLANK('MIS - Pharmacy'!BI457), \"\", 'MIS - Pharmacy'!BI457)","v":""},{"$f":"IF(ISBLANK('MIS - Pharmacy'!U457), \"\", 'MIS - Pharmacy'!U457)","v":""},"","","","","","","",{"$f":"IF(ISBLANK('MIS - Pharmacy'!AC457),\"\",'MIS - Pharmacy'!AC457)","v":""},"",{"$f":"IF(ISBLANK('MIS - Pharmacy'!AD457),\"\",'MIS - Pharmacy'!AD457)","v":""},"","",{"$f":"IF('MIS - Pharmacy'!A457=\"\",\"\",SUM('MIS - Pharmacy'!K457+'MIS - Pharmacy'!L457))","v":""},"",{"$f":"IF('MIS - Pharmacy'!A457=\"\",\"\",('MIS - Pharmacy'!AF457+'MIS - Pharmacy'!AH457 +'MIS - Pharmacy'!AG457))","v":""},{"$f":"IF(ISBLANK('MIS - Pharmacy'!AI457),\"\",'MIS - Pharmacy'!AI457)","v":""},"","","",{"$f":"IF(ISBLANK('MIS - Pharmacy'!V457),\"\",'MIS - Pharmacy'!V457)","v":""},"","","",{"$f":"IF(ISBLANK('MIS - Pharmacy'!J457),\"\",'MIS - Pharmacy'!J457)","v":""},{"$f":"IF(ISBLANK('MIS - Pharmacy'!AY457),\"\",'MIS - Pharmacy'!AY457)","v":""},{"$f":"IF(ISBLANK('MIS - Pharmacy'!BH457),\"\",'MIS - Pharmacy'!BH457)","v":""},"",""]
[{"$f":"IF(ISBLANK('MIS - Pharmacy'!A458), \"\",'MIS - Pharmacy'!A458)","v":""},{"$f":"IF(ISBLANK('MIS - Pharmacy'!B458),\"\",('MIS - Pharmacy'!B458&\"(\"&'MIS - Pharmacy'!D458&\")\"))","v":""},{"$f":"IF(ISBLANK('MIS - Pharmacy'!BI458), \"\", 'MIS - Pharmacy'!BI458)","v":""},{"$f":"IF(ISBLANK('MIS - Pharmacy'!U458), \"\", 'MIS - Pharmacy'!U458)","v":""},"","","","","","","",{"$f":"IF(ISBLANK('MIS - Pharmacy'!AC458),\"\",'MIS - Pharmacy'!AC458)","v":""},"",{"$f":"IF(ISBLANK('MIS - Pharmacy'!AD458),\"\",'MIS - Pharmacy'!AD458)","v":""},"","",{"$f":"IF('MIS - Pharmacy'!A458=\"\",\"\",SUM('MIS - Pharmacy'!K458+'MIS - Pharmacy'!L458))","v":""},"",{"$f":"IF('MIS - Pharmacy'!A458=\"\",\"\",('MIS - Pharmacy'!AF458+'MIS - Pharmacy'!AH458 +'MIS - Pharmacy'!AG458))","v":""},{"$f":"IF(ISBLANK('MIS - Pharmacy'!AI458),\"\",'MIS - Pharmacy'!AI458)","v":""},"","","",{"$f":"IF(ISBLANK('MIS - Pharmacy'!V458),\"\",'MIS - Pharmacy'!V458)","v":""},"","","",{"$f":"IF(ISBLANK('MIS - Pharmacy'!J458),\"\",'MIS - Pharmacy'!J458)","v":""},{"$f":"IF(ISBLANK('MIS - Pharmacy'!AY458),\"\",'MIS - Pharmacy'!AY458)","v":""},{"$f":"IF(ISBLANK('MIS - Pharmacy'!BH458),\"\",'MIS - Pharmacy'!BH458)","v":""},"",""]
[{"$f":"IF(ISBLANK('MIS - Pharmacy'!A459), \"\",'MIS - Pharmacy'!A459)","v":""},{"$f":"IF(ISBLANK('MIS - Pharmacy'!B459),\"\",('MIS - Pharmacy'!B459&\"(\"&'MIS - Pharmacy'!D459&\")\"))","v":""},{"$f":"IF(ISBLANK('MIS - Pharmacy'!BI459), \"\", 'MIS - Pharmacy'!BI459)","v":""},{"$f":"IF(ISBLANK('MIS - Pharmacy'!U459), \"\", 'MIS - Pharmacy'!U459)","v":""},"","","","","","","",{"$f":"IF(ISBLANK('MIS - Pharmacy'!AC459),\"\",'MIS - Pharmacy'!AC459)","v":""},"",{"$f":"IF(ISBLANK('MIS - Pharmacy'!AD459),\"\",'MIS - Pharmacy'!AD459)","v":""},"","",{"$f":"IF('MIS - Pharmacy'!A459=\"\",\"\",SUM('MIS - Pharmacy'!K459+'MIS - Pharmacy'!L459))","v":""},"",{"$f":"IF('MIS - Pharmacy'!A459=\"\",\"\",('MIS - Pharmacy'!AF459+'MIS - Pharmacy'!AH459 +'MIS - Pharmacy'!AG459))","v":""},{"$f":"IF(ISBLANK('MIS - Pharmacy'!AI459),\"\",'MIS - Pharmacy'!AI459)","v":""},"","","",{"$f":"IF(ISBLANK('MIS - Pharmacy'!V459),\"\",'MIS - Pharmacy'!V459)","v":""},"","","",{"$f":"IF(ISBLANK('MIS - Pharmacy'!J459),\"\",'MIS - Pharmacy'!J459)","v":""},{"$f":"IF(ISBLANK('MIS - Pharmacy'!AY459),\"\",'MIS - Pharmacy'!AY459)","v":""},{"$f":"IF(ISBLANK('MIS - Pharmacy'!BH459),\"\",'MIS - Pharmacy'!BH459)","v":""},"",""]
[{"$f":"IF(ISBLANK('MIS - Pharmacy'!A460), \"\",'MIS - Pharmacy'!A460)","v":""},{"$f":"IF(ISBLANK('MIS - Pharmacy'!B460),\"\",('MIS - Pharmacy'!B460&\"(\"&'MIS - Pharmacy'!D460&\")\"))","v":""},{"$f":"IF(ISBLANK('MIS - Pharmacy'!BI460), \"\", 'MIS - Pharmacy'!BI460)","v":""},{"$f":"IF(ISBLANK('MIS - Pharmacy'!U460), \"\", 'MIS - Pharmacy'!U460)","v":""},"","","","","","","",{"$f":"IF(ISBLANK('MIS - Pharmacy'!AC460),\"\",'MIS - Pharmacy'!AC460)","v":""},"",{"$f":"IF(ISBLANK('MIS - Pharmacy'!AD460),\"\",'MIS - Pharmacy'!AD460)","v":""},"","",{"$f":"IF('MIS - Pharmacy'!A460=\"\",\"\",SUM('MIS - Pharmacy'!K460+'MIS - Pharmacy'!L460))","v":""},"",{"$f":"IF('MIS - Pharmacy'!A460=\"\",\"\",('MIS - Pharmacy'!AF460+'MIS - Pharmacy'!AH460 +'MIS - Pharmacy'!AG460))","v":""},{"$f":"IF(ISBLANK('MIS - Pharmacy'!AI460),\"\",'MIS - Pharmacy'!AI460)","v":""},"","","",{"$f":"IF(ISBLANK('MIS - Pharmacy'!V460),\"\",'MIS - Pharmacy'!V460)","v":""},"","","",{"$f":"IF(ISBLANK('MIS - Pharmacy'!J460),\"\",'MIS - Pharmacy'!J460)","v":""},{"$f":"IF(ISBLANK('MIS - Pharmacy'!AY460),\"\",'MIS - Pharmacy'!AY460)","v":""},{"$f":"IF(ISBLANK('MIS - Pharmacy'!BH460),\"\",'MIS - Pharmacy'!BH460)","v":""},"",""]
[{"$f":"IF(ISBLANK('MIS - Pharmacy'!A461), \"\",'MIS - Pharmacy'!A461)","v":""},{"$f":"IF(ISBLANK('MIS - Pharmacy'!B461),\"\",('MIS - Pharmacy'!B461&\"(\"&'MIS - Pharmacy'!D461&\")\"))","v":""},{"$f":"IF(ISBLANK('MIS - Pharmacy'!BI461), \"\", 'MIS - Pharmacy'!BI461)","v":""},{"$f":"IF(ISBLANK('MIS - Pharmacy'!U461), \"\", 'MIS - Pharmacy'!U461)","v":""},"","","","","","","",{"$f":"IF(ISBLANK('MIS - Pharmacy'!AC461),\"\",'MIS - Pharmacy'!AC461)","v":""},"",{"$f":"IF(ISBLANK('MIS - Pharmacy'!AD461),\"\",'MIS - Pharmacy'!AD461)","v":""},"","",{"$f":"IF('MIS - Pharmacy'!A461=\"\",\"\",SUM('MIS - Pharmacy'!K461+'MIS - Pharmacy'!L461))","v":""},"",{"$f":"IF('MIS - Pharmacy'!A461=\"\",\"\",('MIS - Pharmacy'!AF461+'MIS - Pharmacy'!AH461 +'MIS - Pharmacy'!AG461))","v":""},{"$f":"IF(ISBLANK('MIS - Pharmacy'!AI461),\"\",'MIS - Pharmacy'!AI461)","v":""},"","","",{"$f":"IF(ISBLANK('MIS - Pharmacy'!V461),\"\",'MIS - Pharmacy'!V461)","v":""},"","","",{"$f":"IF(ISBLANK('MIS - Pharmacy'!J461),\"\",'MIS - Pharmacy'!J461)","v":""},{"$f":"IF(ISBLANK('MIS - Pharmacy'!AY461),\"\",'MIS - Pharmacy'!AY461)","v":""},{"$f":"IF(ISBLANK('MIS - Pharmacy'!BH461),\"\",'MIS - Pharmacy'!BH461)","v":""},"",""]
[{"$f":"IF(ISBLANK('MIS - Pharmacy'!A462), \"\",'MIS - Pharmacy'!A462)","v":""},{"$f":"IF(ISBLANK('MIS - Pharmacy'!B462),\"\",('MIS - Pharmacy'!B462&\"(\"&'MIS - Pharmacy'!D462&\")\"))","v":""},{"$f":"IF(ISBLANK('MIS - Pharmacy'!BI462), \"\", 'MIS - Pharmacy'!BI462)","v":""},{"$f":"IF(ISBLANK('MIS - Pharmacy'!U462), \"\", 'MIS - Pharmacy'!U462)","v":""},"","","","","","","",{"$f":"IF(ISBLANK('MIS - Pharmacy'!AC462),\"\",'MIS - Pharmacy'!AC462)","v":""},"",{"$f":"IF(ISBLANK('MIS - Pharmacy'!AD462),\"\",'MIS - Pharmacy'!AD462)","v":""},"","",{"$f":"IF('MIS - Pharmacy'!A462=\"\",\"\",SUM('MIS - Pharmacy'!K462+'MIS - Pharmacy'!L462))","v":""},"",{"$f":"IF('MIS - Pharmacy'!A462=\"\",\"\",('MIS - Pharmacy'!AF462+'MIS - Pharmacy'!AH462 +'MIS - Pharmacy'!AG462))","v":""},{"$f":"IF(ISBLANK('MIS - Pharmacy'!AI462),\"\",'MIS - Pharmacy'!AI462)","v":""},"","","",{"$f":"IF(ISBLANK('MIS - Pharmacy'!V462),\"\",'MIS - Pharmacy'!V462)","v":""},"","","",{"$f":"IF(ISBLANK('MIS - Pharmacy'!J462),\"\",'MIS - Pharmacy'!J462)","v":""},{"$f":"IF(ISBLANK('MIS - Pharmacy'!AY462),\"\",'MIS - Pharmacy'!AY462)","v":""},{"$f":"IF(ISBLANK('MIS - Pharmacy'!BH462),\"\",'MIS - Pharmacy'!BH462)","v":""},"",""]
[{"$f":"IF(ISBLANK('MIS - Pharmacy'!A463), \"\",'MIS - Pharmacy'!A463)","v":""},{"$f":"IF(ISBLANK('MIS - Pharmacy'!B463),\"\",('MIS - Pharmacy'!B463&\"(\"&'MIS - Pharmacy'!D463&\")\"))","v":""},{"$f":"IF(ISBLANK('MIS - Pharmacy'!BI463), \"\", 'MIS - Pharmacy'!BI463)","v":""},{"$f":"IF(ISBLANK('MIS - Pharmacy'!U463), \"\", 'MIS - Pharmacy'!U463)","v":""},{"$f":"IF(D472=\"\",\"\",IF(D472<=D$9,\"Lower Outlier\",IF(D472<=D$5,\"Below Average\",IF(D472<=D$6,\"Lower Quartile Range\",IF(D472<=D$7,\"Upper Quartile Range\",IF(D472<=D$10,\"Above Average\",\"Upper Outlier\"))))))","v":""},{"$f":"IF(D472=\"\",\"\",D472*12)","v":""},{"$f":"IF(Q472=\"\",\"\",IF(Q472 = 0, 0, D472/Q472*1000))","v":""},"",{"$f":"IF(A472=\"\",\"\",IF(D472=0,0,(D472*0.3)/Y472))","v":""},{"$f":"IF(D472=0,0,IF(D472=\"\",\"\",D472/Q472))","v":""},{"$f":"IF(D472=0,0,IF(D472=\"\",\"\",D472/X472))","v":""},{"$f":"IF(ISBLANK('MIS - Pharmacy'!AC463),\"\",'MIS - Pharmacy'!AC463)","v":""},{"$f":"IF(L472=\"\",\"\",IF(L472<=L$9,\"Lower Outlier\",IF(L472<=L$5,\"Below Average\",IF(L472<=L$6,\"Lower Quartile Range\",IF(L472<=L$7,\"Upper Quartile Range\",IF(L472<=L$10,\"Above Average\",\"Upper Outlier\"))))))","v":""},{"$f":"IF(ISBLANK('MIS - Pharmacy'!AD463),\"\",'MIS - Pharmacy'!AD463)","v":""},{"$f":"IF(N472=\"\",\"\",IF(N472=0,0,L472/N472*1000))","v":""},{"$f":"IF(L472=\"\",\"\",IF(X472=0,0,L472/X472))","v":""},{"$f":"IF('MIS - Pharmacy'!A463=\"\",\"\",SUM('MIS - Pharmacy'!K463+'MIS - Pharmacy'!L463))","v":""},{"$f":"IF(Q472=\"\",\"\",IF(Q472<=Q$9,\"Lower Outlier\",IF(Q472<=Q$5,\"Below Average\",IF(Q472<=Q$6,\"Lower Quartile Range\",IF(Q472<=Q$7,\"Upper Quartile Range\",IF(Q472<=Q$10,\"Above Average\",\"Upper Outlier\"))))))","v":""},{"$f":"IF('MIS - Pharmacy'!A463=\"\",\"\",('MIS - Pharmacy'!AF463+'MIS - Pharmacy'!AH463 +'MIS - Pharmacy'!AG463))","v":""},{"$f":"IF(ISBLANK('MIS - Pharmacy'!AI463),\"\",'MIS - Pharmacy'!AI463)","v":""},{"$f":"IF(T472=\"\",\"\",IF(T472<=T$9,\"Lower Outlier\",IF(T472<=T$5,\"Below Average\",IF(T472<=T$6,\"Lower Quartile Range\",IF(T472<=T$7,\"Upper Quartile Range\",IF(T472<=T$10,\"Above Average\",\"Upper Outlier\"))))))","v":""},{"$f":"IF(A472=\"\",\"\",IF(T472=0,0,T472/Q472*1000))","v":""},{"$f":"IF(V472=\"\",\"\",IF(S472 >0,(T472/S472*1000),0))","v":""},{"$f":"IF(ISBLANK('MIS - Pharmacy'!V463),\"\",'MIS - Pharmacy'!V463)","v":""},{"$f":"IF(X472=\"\",\"\",(X472/7)*$Y$3)","v":""},{"$f":"IF(X472=\"\",\"\",IF(X472<=X$9,\"Lower Outlier\",IF(X472<=X$5,\"Below Average\",IF(X472<=X$6,\"Lower Quartile Range\",IF(X472<=X$7,\"Upper Quartile Range\",IF(X472<=X$10,\"Above Average\",\"Upper Outlier\"))))))","v":""},{"$f":"IF(A472=\"\",\"\",IF(X472=0,0,Y472/Q472*1000))","v":""},{"$f":"IF(ISBLANK('MIS - Pharmacy'!J463),\"\",'MIS - Pharmacy'!J463)","v":""},{"$f":"IF(ISBLANK('MIS - Pharmacy'!AY463),\"\",'MIS - Pharmacy'!AY463)","v":""},{"$f":"IF(ISBLANK('MIS - Pharmacy'!BH463),\"\",'MIS - Pharmacy'!BH463)","v":""},{"$f":"IF(A472=\"\",\"\",D472+L472)","v":""},{"$f":"IF(A472=\"\",\"\",IF(Y472=0,0,(AE472/Y472)*100))","v":""}]
[{"$f":"IF(ISBLANK('MIS - Pharmacy'!A464), \"\",'MIS - Pharmacy'!A464)","v":""},{"$f":"IF(ISBLANK('MIS - Pharmacy'!B464),\"\",('MIS - Pharmacy'!B464&\"(\"&'MIS - Pharmacy'!D464&\")\"))","v":""},{"$f":"IF(ISBLANK('MIS - Pharmacy'!BI464), \"\", 'MIS - Pharmacy'!BI464)","v":""},{"$f":"IF(ISBLANK('MIS - Pharmacy'!U464), \"\", 'MIS - Pharmacy'!U464)","v":""},"","","","","","","",{"$f":"IF(ISBLANK('MIS - Pharmacy'!AC464),\"\",'MIS - Pharmacy'!AC464)","v":""},"",{"$f":"IF(ISBLANK('MIS - Pharmacy'!AD464),\"\",'MIS - Pharmacy'!AD464)","v":""},"","",{"$f":"IF('MIS - Pharmacy'!A464=\"\",\"\",SUM('MIS - Pharmacy'!K464+'MIS - Pharmacy'!L464))","v":""},"",{"$f":"IF('MIS - Pharmacy'!A464=\"\",\"\",('MIS - Pharmacy'!AF464+'MIS - Pharmacy'!AH464 +'MIS - Pharmacy'!AG464))","v":""},{"$f":"IF(ISBLANK('MIS - Pharmacy'!AI464),\"\",'MIS - Pharmacy'!AI464)","v":""},"","","",{"$f":"IF(ISBLANK('MIS - Pharmacy'!V464),\"\",'MIS - Pharmacy'!V464)","v":""},"","","",{"$f":"IF(ISBLANK('MIS - Pharmacy'!J464),\"\",'MIS - Pharmacy'!J464)","v":""},{"$f":"IF(ISBLANK('MIS - Pharmacy'!AY464),\"\",'MIS - Pharmacy'!AY464)","v":""},{"$f":"IF(ISBLANK('MIS - Pharmacy'!BH464),\"\",'MIS - Pharmacy'!BH464)","v":""},"",""]
[{"$f":"IF(ISBLANK('MIS - Pharmacy'!A465), \"\",'MIS - Pharmacy'!A465)","v":""},{"$f":"IF(ISBLANK('MIS - Pharmacy'!B465),\"\",('MIS - Pharmacy'!B465&\"(\"&'MIS - Pharmacy'!D465&\")\"))","v":""},{"$f":"IF(ISBLANK('MIS - Pharmacy'!BI465), \"\", 'MIS - Pharmacy'!BI465)","v":""},{"$f":"IF(ISBLANK('MIS - Pharmacy'!U465), \"\", 'MIS - Pharmacy'!U465)","v":""},"","","","","","","",{"$f":"IF(ISBLANK('MIS - Pharmacy'!AC465),\"\",'MIS - Pharmacy'!AC465)","v":""},"",{"$f":"IF(ISBLANK('MIS - Pharmacy'!AD465),\"\",'MIS - Pharmacy'!AD465)","v":""},"","",{"$f":"IF('MIS - Pharmacy'!A465=\"\",\"\",SUM('MIS - Pharmacy'!K465+'MIS - Pharmacy'!L465))","v":""},"",{"$f":"IF('MIS - Pharmacy'!A465=\"\",\"\",('MIS - Pharmacy'!AF465+'MIS - Pharmacy'!AH465 +'MIS - Pharmacy'!AG465))","v":""},{"$f":"IF(ISBLANK('MIS - Pharmacy'!AI465),\"\",'MIS - Pharmacy'!AI465)","v":""},"","","",{"$f":"IF(ISBLANK('MIS - Pharmacy'!V465),\"\",'MIS - Pharmacy'!V465)","v":""},"","","",{"$f":"IF(ISBLANK('MIS - Pharmacy'!J465),\"\",'MIS - Pharmacy'!J465)","v":""},{"$f":"IF(ISBLANK('MIS - Pharmacy'!AY465),\"\",'MIS - Pharmacy'!AY465)","v":""},{"$f":"IF(ISBLANK('MIS - Pharmacy'!BH465),\"\",'MIS - Pharmacy'!BH465)","v":""},"",""]
[{"$f":"IF(ISBLANK('MIS - Pharmacy'!A466), \"\",'MIS - Pharmacy'!A466)","v":""},{"$f":"IF(ISBLANK('MIS - Pharmacy'!B466),\"\",('MIS - Pharmacy'!B466&\"(\"&'MIS - Pharmacy'!D466&\")\"))","v":""},{"$f":"IF(ISBLANK('MIS - Pharmacy'!BI466), \"\", 'MIS - Pharmacy'!BI466)","v":""},{"$f":"IF(ISBLANK('MIS - Pharmacy'!U466), \"\", 'MIS - Pharmacy'!U466)","v":""},"","","","","","","",{"$f":"IF(ISBLANK('MIS - Pharmacy'!AC466),\"\",'MIS - Pharmacy'!AC466)","v":""},"",{"$f":"IF(ISBLANK('MIS - Pharmacy'!AD466),\"\",'MIS - Pharmacy'!AD466)","v":""},"","",{"$f":"IF('MIS - Pharmacy'!A466=\"\",\"\",SUM('MIS - Pharmacy'!K466+'MIS - Pharmacy'!L466))","v":""},"",{"$f":"IF('MIS - Pharmacy'!A466=\"\",\"\",('MIS - Pharmacy'!AF466+'MIS - Pharmacy'!AH466 +'MIS - Pharmacy'!AG466))","v":""},{"$f":"IF(ISBLANK('MIS - Pharmacy'!AI466),\"\",'MIS - Pharmacy'!AI466)","v":""},"","","",{"$f":"IF(ISBLANK('MIS - Pharmacy'!V466),\"\",'MIS - Pharmacy'!V466)","v":""},"","","",{"$f":"IF(ISBLANK('MIS - Pharmacy'!J466),\"\",'MIS - Pharmacy'!J466)","v":""},{"$f":"IF(ISBLANK('MIS - Pharmacy'!AY466),\"\",'MIS - Pharmacy'!AY466)","v":""},{"$f":"IF(ISBLANK('MIS - Pharmacy'!BH466),\"\",'MIS - Pharmacy'!BH466)","v":""},"",""]
[{"$f":"IF(ISBLANK('MIS - Pharmacy'!A467), \"\",'MIS - Pharmacy'!A467)","v":""},{"$f":"IF(ISBLANK('MIS - Pharmacy'!B467),\"\",('MIS - Pharmacy'!B467&\"(\"&'MIS - Pharmacy'!D467&\")\"))","v":""},{"$f":"IF(ISBLANK('MIS - Pharmacy'!BI467), \"\", 'MIS - Pharmacy'!BI467)","v":""},{"$f":"IF(ISBLANK('MIS - Pharmacy'!U467), \"\", 'MIS - Pharmacy'!U467)","v":""},"","","","","","","",{"$f":"IF(ISBLANK('MIS - Pharmacy'!AC467),\"\",'MIS - Pharmacy'!AC467)","v":""},"",{"$f":"IF(ISBLANK('MIS - Pharmacy'!AD467),\"\",'MIS - Pharmacy'!AD467)","v":""},"","",{"$f":"IF('MIS - Pharmacy'!A467=\"\",\"\",SUM('MIS - Pharmacy'!K467+'MIS - Pharmacy'!L467))","v":""},"",{"$f":"IF('MIS - Pharmacy'!A467=\"\",\"\",('MIS - Pharmacy'!AF467+'MIS - Pharmacy'!AH467 +'MIS - Pharmacy'!AG467))","v":""},{"$f":"IF(ISBLANK('MIS - Pharmacy'!AI467),\"\",'MIS - Pharmacy'!AI467)","v":""},"","","",{"$f":"IF(ISBLANK('MIS - Pharmacy'!V467),\"\",'MIS - Pharmacy'!V467)","v":""},"","","",{"$f":"IF(ISBLANK('MIS - Pharmacy'!J467),\"\",'MIS - Pharmacy'!J467)","v":""},{"$f":"IF(ISBLANK('MIS - Pharmacy'!AY467),\"\",'MIS - Pharmacy'!AY467)","v":""},{"$f":"IF(ISBLANK('MIS - Pharmacy'!BH467),\"\",'MIS - Pharmacy'!BH467)","v":""},"",""]
[{"$f":"IF(ISBLANK('MIS - Pharmacy'!A468), \"\",'MIS - Pharmacy'!A468)","v":""},{"$f":"IF(ISBLANK('MIS - Pharmacy'!B468),\"\",('MIS - Pharmacy'!B468&\"(\"&'MIS - Pharmacy'!D468&\")\"))","v":""},{"$f":"IF(ISBLANK('MIS - Pharmacy'!BI468), \"\", 'MIS - Pharmacy'!BI468)","v":""},{"$f":"IF(ISBLANK('MIS - Pharmacy'!U468), \"\", 'MIS - Pharmacy'!U468)","v":""},"","","","","","","",{"$f":"IF(ISBLANK('MIS - Pharmacy'!AC468),\"\",'MIS - Pharmacy'!AC468)","v":""},"",{"$f":"IF(ISBLANK('MIS - Pharmacy'!AD468),\"\",'MIS - Pharmacy'!AD468)","v":""},"","",{"$f":"IF('MIS - Pharmacy'!A468=\"\",\"\",SUM('MIS - Pharmacy'!K468+'MIS - Pharmacy'!L468))","v":""},"",{"$f":"IF('MIS - Pharmacy'!A468=\"\",\"\",('MIS - Pharmacy'!AF468+'MIS - Pharmacy'!AH468 +'MIS - Pharmacy'!AG468))","v":""},{"$f":"IF(ISBLANK('MIS - Pharmacy'!AI468),\"\",'MIS - Pharmacy'!AI468)","v":""},"","","",{"$f":"IF(ISBLANK('MIS - Pharmacy'!V468),\"\",'MIS - Pharmacy'!V468)","v":""},"","","",{"$f":"IF(ISBLANK('MIS - Pharmacy'!J468),\"\",'MIS - Pharmacy'!J468)","v":""},{"$f":"IF(ISBLANK('MIS - Pharmacy'!AY468),\"\",'MIS - Pharmacy'!AY468)","v":""},{"$f":"IF(ISBLANK('MIS - Pharmacy'!BH468),\"\",'MIS - Pharmacy'!BH468)","v":""},"",""]
[{"$f":"IF(ISBLANK('MIS - Pharmacy'!A469), \"\",'MIS - Pharmacy'!A469)","v":""},{"$f":"IF(ISBLANK('MIS - Pharmacy'!B469),\"\",('MIS - Pharmacy'!B469&\"(\"&'MIS - Pharmacy'!D469&\")\"))","v":""},{"$f":"IF(ISBLANK('MIS - Pharmacy'!BI469), \"\", 'MIS - Pharmacy'!BI469)","v":""},{"$f":"IF(ISBLANK('MIS - Pharmacy'!U469), \"\", 'MIS - Pharmacy'!U469)","v":""},"","","","","","","",{"$f":"IF(ISBLANK('MIS - Pharmacy'!AC469),\"\",'MIS - Pharmacy'!AC469)","v":""},"",{"$f":"IF(ISBLANK('MIS - Pharmacy'!AD469),\"\",'MIS - Pharmacy'!AD469)","v":""},"","",{"$f":"IF('MIS - Pharmacy'!A469=\"\",\"\",SUM('MIS - Pharmacy'!K469+'MIS - Pharmacy'!L469))","v":""},"",{"$f":"IF('MIS - Pharmacy'!A469=\"\",\"\",('MIS - Pharmacy'!AF469+'MIS - Pharmacy'!AH469 +'MIS - Pharmacy'!AG469))","v":""},{"$f":"IF(ISBLANK('MIS - Pharmacy'!AI469),\"\",'MIS - Pharmacy'!AI469)","v":""},"","","",{"$f":"IF(ISBLANK('MIS - Pharmacy'!V469),\"\",'MIS - Pharmacy'!V469)","v":""},"","","",{"$f":"IF(ISBLANK('MIS - Pharmacy'!J469),\"\",'MIS - Pharmacy'!J469)","v":""},{"$f":"IF(ISBLANK('MIS - Pharmacy'!AY469),\"\",'MIS - Pharmacy'!AY469)","v":""},{"$f":"IF(ISBLANK('MIS - Pharmacy'!BH469),\"\",'MIS - Pharmacy'!BH469)","v":""},"",""]
[{"$f":"IF(ISBLANK('MIS - Pharmacy'!A470), \"\",'MIS - Pharmacy'!A470)","v":""},{"$f":"IF(ISBLANK('MIS - Pharmacy'!B470),\"\",('MIS - Pharmacy'!B470&\"(\"&'MIS - Pharmacy'!D470&\")\"))","v":""},{"$f":"IF(ISBLANK('MIS - Pharmacy'!BI470), \"\", 'MIS - Pharmacy'!BI470)","v":""},{"$f":"IF(ISBLANK('MIS - Pharmacy'!U470), \"\", 'MIS - Pharmacy'!U470)","v":""},"","","","","","","",{"$f":"IF(ISBLANK('MIS - Pharmacy'!AC470),\"\",'MIS - Pharmacy'!AC470)","v":""},"",{"$f":"IF(ISBLANK('MIS - Pharmacy'!AD470),\"\",'MIS - Pharmacy'!AD470)","v":""},"","",{"$f":"IF('MIS - Pharmacy'!A470=\"\",\"\",SUM('MIS - Pharmacy'!K470+'MIS - Pharmacy'!L470))","v":""},"",{"$f":"IF('MIS - Pharmacy'!A470=\"\",\"\",('MIS - Pharmacy'!AF470+'MIS - Pharmacy'!AH470 +'MIS - Pharmacy'!AG470))","v":""},{"$f":"IF(ISBLANK('MIS - Pharmacy'!AI470),\"\",'MIS - Pharmacy'!AI470)","v":""},"","","",{"$f":"IF(ISBLANK('MIS - Pharmacy'!V470),\"\",'MIS - Pharmacy'!V470)","v":""},"","","",{"$f":"IF(ISBLANK('MIS - Pharmacy'!J470),\"\",'MIS - Pharmacy'!J470)","v":""},{"$f":"IF(ISBLANK('MIS - Pharmacy'!AY470),\"\",'MIS - Pharmacy'!AY470)","v":""},{"$f":"IF(ISBLANK('MIS - Pharmacy'!BH470),\"\",'MIS - Pharmacy'!BH470)","v":""},"",""]
[{"$f":"IF(ISBLANK('MIS - Pharmacy'!A471), \"\",'MIS - Pharmacy'!A471)","v":""},{"$f":"IF(ISBLANK('MIS - Pharmacy'!B471),\"\",('MIS - Pharmacy'!B471&\"(\"&'MIS - Pharmacy'!D471&\")\"))","v":""},{"$f":"IF(ISBLANK('MIS - Pharmacy'!BI471), \"\", 'MIS - Pharmacy'!BI471)","v":""},{"$f":"IF(ISBLANK('MIS - Pharmacy'!U471), \"\", 'MIS - Pharmacy'!U471)","v":""},"","","","","","","",{"$f":"IF(ISBLANK('MIS - Pharmacy'!AC471),\"\",'MIS - Pharmacy'!AC471)","v":""},"",{"$f":"IF(ISBLANK('MIS - Pharmacy'!AD471),\"\",'MIS - Pharmacy'!AD471)","v":""},"","",{"$f":"IF('MIS - Pharmacy'!A471=\"\",\"\",SUM('MIS - Pharmacy'!K471+'MIS - Pharmacy'!L471))","v":""},"",{"$f":"IF('MIS - Pharmacy'!A471=\"\",\"\",('MIS - Pharmacy'!AF471+'MIS - Pharmacy'!AH471 +'MIS - Pharmacy'!AG471))","v":""},{"$f":"IF(ISBLANK('MIS - Pharmacy'!AI471),\"\",'MIS - Pharmacy'!AI471)","v":""},"","","",{"$f":"IF(ISBLANK('MIS - Pharmacy'!V471),\"\",'MIS - Pharmacy'!V471)","v":""},"","","",{"$f":"IF(ISBLANK('MIS - Pharmacy'!J471),\"\",'MIS - Pharmacy'!J471)","v":""},{"$f":"IF(ISBLANK('MIS - Pharmacy'!AY471),\"\",'MIS - Pharmacy'!AY471)","v":""},{"$f":"IF(ISBLANK('MIS - Pharmacy'!BH471),\"\",'MIS - Pharmacy'!BH471)","v":""},"",""]
[{"$f":"IF(ISBLANK('MIS - Pharmacy'!A472), \"\",'MIS - Pharmacy'!A472)","v":""},{"$f":"IF(ISBLANK('MIS - Pharmacy'!B472),\"\",('MIS - Pharmacy'!B472&\"(\"&'MIS - Pharmacy'!D472&\")\"))","v":""},{"$f":"IF(ISBLANK('MIS - Pharmacy'!BI472), \"\", 'MIS - Pharmacy'!BI472)","v":""},{"$f":"IF(ISBLANK('MIS - Pharmacy'!U472), \"\", 'MIS - Pharmacy'!U472)","v":""},"","","","","","","",{"$f":"IF(ISBLANK('MIS - Pharmacy'!AC472),\"\",'MIS - Pharmacy'!AC472)","v":""},"",{"$f":"IF(ISBLANK('MIS - Pharmacy'!AD472),\"\",'MIS - Pharmacy'!AD472)","v":""},"","",{"$f":"IF('MIS - Pharmacy'!A472=\"\",\"\",SUM('MIS - Pharmacy'!K472+'MIS - Pharmacy'!L472))","v":""},"",{"$f":"IF('MIS - Pharmacy'!A472=\"\",\"\",('MIS - Pharmacy'!AF472+'MIS - Pharmacy'!AH472 +'MIS - Pharmacy'!AG472))","v":""},{"$f":"IF(ISBLANK('MIS - Pharmacy'!AI472),\"\",'MIS - Pharmacy'!AI472)","v":""},"","","",{"$f":"IF(ISBLANK('MIS - Pharmacy'!V472),\"\",'MIS - Pharmacy'!V472)","v":""},"","","",{"$f":"IF(ISBLANK('MIS - Pharmacy'!J472),\"\",'MIS - Pharmacy'!J472)","v":""},{"$f":"IF(ISBLANK('MIS - Pharmacy'!AY472),\"\",'MIS - Pharmacy'!AY472)","v":""},{"$f":"IF(ISBLANK('MIS - Pharmacy'!BH472),\"\",'MIS - Pharmacy'!BH472)","v":""},"",""]
[{"$f":"IF(ISBLANK('MIS - Pharmacy'!A473), \"\",'MIS - Pharmacy'!A473)","v":""},{"$f":"IF(ISBLANK('MIS - Pharmacy'!B473),\"\",('MIS - Pharmacy'!B473&\"(\"&'MIS - Pharmacy'!D473&\")\"))","v":""},{"$f":"IF(ISBLANK('MIS - Pharmacy'!BI473), \"\", 'MIS - Pharmacy'!BI473)","v":""},{"$f":"IF(ISBLANK('MIS - Pharmacy'!U473), \"\", 'MIS - Pharmacy'!U473)","v":""},"","","","","","","",{"$f":"IF(ISBLANK('MIS - Pharmacy'!AC473),\"\",'MIS - Pharmacy'!AC473)","v":""},"",{"$f":"IF(ISBLANK('MIS - Pharmacy'!AD473),\"\",'MIS - Pharmacy'!AD473)","v":""},"","",{"$f":"IF('MIS - Pharmacy'!A473=\"\",\"\",SUM('MIS - Pharmacy'!K473+'MIS - Pharmacy'!L473))","v":""},"",{"$f":"IF('MIS - Pharmacy'!A473=\"\",\"\",('MIS - Pharmacy'!AF473+'MIS - Pharmacy'!AH473 +'MIS - Pharmacy'!AG473))","v":""},{"$f":"IF(ISBLANK('MIS - Pharmacy'!AI473),\"\",'MIS - Pharmacy'!AI473)","v":""},"","","",{"$f":"IF(ISBLANK('MIS - Pharmacy'!V473),\"\",'MIS - Pharmacy'!V473)","v":""},"","","",{"$f":"IF(ISBLANK('MIS - Pharmacy'!J473),\"\",'MIS - Pharmacy'!J473)","v":""},{"$f":"IF(ISBLANK('MIS - Pharmacy'!AY473),\"\",'MIS - Pharmacy'!AY473)","v":""},{"$f":"IF(ISBLANK('MIS - Pharmacy'!BH473),\"\",'MIS - Pharmacy'!BH473)","v":""},"",""]
[{"$f":"IF(ISBLANK('MIS - Pharmacy'!A474), \"\",'MIS - Pharmacy'!A474)","v":""},{"$f":"IF(ISBLANK('MIS - Pharmacy'!B474),\"\",('MIS - Pharmacy'!B474&\"(\"&'MIS - Pharmacy'!D474&\")\"))","v":""},{"$f":"IF(ISBLANK('MIS - Pharmacy'!BI474), \"\", 'MIS - Pharmacy'!BI474)","v":""},{"$f":"IF(ISBLANK('MIS - Pharmacy'!U474), \"\", 'MIS - Pharmacy'!U474)","v":""},"","","","","","","",{"$f":"IF(ISBLANK('MIS - Pharmacy'!AC474),\"\",'MIS - Pharmacy'!AC474)","v":""},"",{"$f":"IF(ISBLANK('MIS - Pharmacy'!AD474),\"\",'MIS - Pharmacy'!AD474)","v":""},"","",{"$f":"IF('MIS - Pharmacy'!A474=\"\",\"\",SUM('MIS - Pharmacy'!K474+'MIS - Pharmacy'!L474))","v":""},"",{"$f":"IF('MIS - Pharmacy'!A474=\"\",\"\",('MIS - Pharmacy'!AF474+'MIS - Pharmacy'!AH474 +'MIS - Pharmacy'!AG474))","v":""},{"$f":"IF(ISBLANK('MIS - Pharmacy'!AI474),\"\",'MIS - Pharmacy'!AI474)","v":""},"","","",{"$f":"IF(ISBLANK('MIS - Pharmacy'!V474),\"\",'MIS - Pharmacy'!V474)","v":""},"","","",{"$f":"IF(ISBLANK('MIS - Pharmacy'!J474),\"\",'MIS - Pharmacy'!J474)","v":""},{"$f":"IF(ISBLANK('MIS - Pharmacy'!AY474),\"\",'MIS - Pharmacy'!AY474)","v":""},{"$f":"IF(ISBLANK('MIS - Pharmacy'!BH474),\"\",'MIS - Pharmacy'!BH474)","v":""},"",""]
[{"$f":"IF(ISBLANK('MIS - Pharmacy'!A475), \"\",'MIS - Pharmacy'!A475)","v":""},{"$f":"IF(ISBLANK('MIS - Pharmacy'!B475),\"\",('MIS - Pharmacy'!B475&\"(\"&'MIS - Pharmacy'!D475&\")\"))","v":""},{"$f":"IF(ISBLANK('MIS - Pharmacy'!BI475), \"\", 'MIS - Pharmacy'!BI475)","v":""},{"$f":"IF(ISBLANK('MIS - Pharmacy'!U475), \"\", 'MIS - Pharmacy'!U475)","v":""},"","","","","","","",{"$f":"IF(ISBLANK('MIS - Pharmacy'!AC475),\"\",'MIS - Pharmacy'!AC475)","v":""},"",{"$f":"IF(ISBLANK('MIS - Pharmacy'!AD475),\"\",'MIS - Pharmacy'!AD475)","v":""},"","",{"$f":"IF('MIS - Pharmacy'!A475=\"\",\"\",SUM('MIS - Pharmacy'!K475+'MIS - Pharmacy'!L475))","v":""},"",{"$f":"IF('MIS - Pharmacy'!A475=\"\",\"\",('MIS - Pharmacy'!AF475+'MIS - Pharmacy'!AH475 +'MIS - Pharmacy'!AG475))","v":""},{"$f":"IF(ISBLANK('MIS - Pharmacy'!AI475),\"\",'MIS - Pharmacy'!AI475)","v":""},"","","",{"$f":"IF(ISBLANK('MIS - Pharmacy'!V475),\"\",'MIS - Pharmacy'!V475)","v":""},"","","",{"$f":"IF(ISBLANK('MIS - Pharmacy'!J475),\"\",'MIS - Pharmacy'!J475)","v":""},{"$f":"IF(ISBLANK('MIS - Pharmacy'!AY475),\"\",'MIS - Pharmacy'!AY475)","v":""},{"$f":"IF(ISBLANK('MIS - Pharmacy'!BH475),\"\",'MIS - Pharmacy'!BH475)","v":""},"",""]
[{"$f":"IF(ISBLANK('MIS - Pharmacy'!A476), \"\",'MIS - Pharmacy'!A476)","v":""},{"$f":"IF(ISBLANK('MIS - Pharmacy'!B476),\"\",('MIS - Pharmacy'!B476&\"(\"&'MIS - Pharmacy'!D476&\")\"))","v":""},{"$f":"IF(ISBLANK('MIS - Pharmacy'!BI476), \"\", 'MIS - Pharmacy'!BI476)","v":""},{"$f":"IF(ISBLANK('MIS - Pharmacy'!U476), \"\", 'MIS - Pharmacy'!U476)","v":""},"","","","","","","",{"$f":"IF(ISBLANK('MIS - Pharmacy'!AC476),\"\",'MIS - Pharmacy'!AC476)","v":""},"",{"$f":"IF(ISBLANK('MIS - Pharmacy'!AD476),\"\",'MIS - Pharmacy'!AD476)","v":""},"","",{"$f":"IF('MIS - Pharmacy'!A476=\"\",\"\",SUM('MIS - Pharmacy'!K476+'MIS - Pharmacy'!L476))","v":""},"",{"$f":"IF('MIS - Pharmacy'!A476=\"\",\"\",('MIS - Pharmacy'!AF476+'MIS - Pharmacy'!AH476 +'MIS - Pharmacy'!AG476))","v":""},{"$f":"IF(ISBLANK('MIS - Pharmacy'!AI476),\"\",'MIS - Pharmacy'!AI476)","v":""},"","","",{"$f":"IF(ISBLANK('MIS - Pharmacy'!V476),\"\",'MIS - Pharmacy'!V476)","v":""},"","","",{"$f":"IF(ISBLANK('MIS - Pharmacy'!J476),\"\",'MIS - Pharmacy'!J476)","v":""},{"$f":"IF(ISBLANK('MIS - Pharmacy'!AY476),\"\",'MIS - Pharmacy'!AY476)","v":""},{"$f":"IF(ISBLANK('MIS - Pharmacy'!BH476),\"\",'MIS - Pharmacy'!BH476)","v":""},"",""]
[{"$f":"IF(ISBLANK('MIS - Pharmacy'!A477), \"\",'MIS - Pharmacy'!A477)","v":""},{"$f":"IF(ISBLANK('MIS - Pharmacy'!B477),\"\",('MIS - Pharmacy'!B477&\"(\"&'MIS - Pharmacy'!D477&\")\"))","v":""},{"$f":"IF(ISBLANK('MIS - Pharmacy'!BI477), \"\", 'MIS - Pharmacy'!BI477)","v":""},{"$f":"IF(ISBLANK('MIS - Pharmacy'!U477), \"\", 'MIS - Pharmacy'!U477)","v":""},"","","","","","","",{"$f":"IF(ISBLANK('MIS - Pharmacy'!AC477),\"\",'MIS - Pharmacy'!AC477)","v":""},"",{"$f":"IF(ISBLANK('MIS - Pharmacy'!AD477),\"\",'MIS - Pharmacy'!AD477)","v":""},"","",{"$f":"IF('MIS - Pharmacy'!A477=\"\",\"\",SUM('MIS - Pharmacy'!K477+'MIS - Pharmacy'!L477))","v":""},"",{"$f":"IF('MIS - Pharmacy'!A477=\"\",\"\",('MIS - Pharmacy'!AF477+'MIS - Pharmacy'!AH477 +'MIS - Pharmacy'!AG477))","v":""},{"$f":"IF(ISBLANK('MIS - Pharmacy'!AI477),\"\",'MIS - Pharmacy'!AI477)","v":""},"","","",{"$f":"IF(ISBLANK('MIS - Pharmacy'!V477),\"\",'MIS - Pharmacy'!V477)","v":""},"","","",{"$f":"IF(ISBLANK('MIS - Pharmacy'!J477),\"\",'MIS - Pharmacy'!J477)","v":""},{"$f":"IF(ISBLANK('MIS - Pharmacy'!AY477),\"\",'MIS - Pharmacy'!AY477)","v":""},{"$f":"IF(ISBLANK('MIS - Pharmacy'!BH477),\"\",'MIS - Pharmacy'!BH477)","v":""},"",""]
[{"$f":"IF(ISBLANK('MIS - Pharmacy'!A478), \"\",'MIS - Pharmacy'!A478)","v":""},{"$f":"IF(ISBLANK('MIS - Pharmacy'!B478),\"\",('MIS - Pharmacy'!B478&\"(\"&'MIS - Pharmacy'!D478&\")\"))","v":""},{"$f":"IF(ISBLANK('MIS - Pharmacy'!BI478), \"\", 'MIS - Pharmacy'!BI478)","v":""},{"$f":"IF(ISBLANK('MIS - Pharmacy'!U478), \"\", 'MIS - Pharmacy'!U478)","v":""},"","","","","","","",{"$f":"IF(ISBLANK('MIS - Pharmacy'!AC478),\"\",'MIS - Pharmacy'!AC478)","v":""},"",{"$f":"IF(ISBLANK('MIS - Pharmacy'!AD478),\"\",'MIS - Pharmacy'!AD478)","v":""},"","",{"$f":"IF('MIS - Pharmacy'!A478=\"\",\"\",SUM('MIS - Pharmacy'!K478+'MIS - Pharmacy'!L478))","v":""},"",{"$f":"IF('MIS - Pharmacy'!A478=\"\",\"\",('MIS - Pharmacy'!AF478+'MIS - Pharmacy'!AH478 +'MIS - Pharmacy'!AG478))","v":""},{"$f":"IF(ISBLANK('MIS - Pharmacy'!AI478),\"\",'MIS - Pharmacy'!AI478)","v":""},"","","",{"$f":"IF(ISBLANK('MIS - Pharmacy'!V478),\"\",'MIS - Pharmacy'!V478)","v":""},"","","",{"$f":"IF(ISBLANK('MIS - Pharmacy'!J478),\"\",'MIS - Pharmacy'!J478)","v":""},{"$f":"IF(ISBLANK('MIS - Pharmacy'!AY478),\"\",'MIS - Pharmacy'!AY478)","v":""},{"$f":"IF(ISBLANK('MIS - Pharmacy'!BH478),\"\",'MIS - Pharmacy'!BH478)","v":""},"",""]
[{"$f":"IF(ISBLANK('MIS - Pharmacy'!A479), \"\",'MIS - Pharmacy'!A479)","v":""},{"$f":"IF(ISBLANK('MIS - Pharmacy'!B479),\"\",('MIS - Pharmacy'!B479&\"(\"&'MIS - Pharmacy'!D479&\")\"))","v":""},{"$f":"IF(ISBLANK('MIS - Pharmacy'!BI479), \"\", 'MIS - Pharmacy'!BI479)","v":""},{"$f":"IF(ISBLANK('MIS - Pharmacy'!U479), \"\", 'MIS - Pharmacy'!U479)","v":""},"","","","","","","",{"$f":"IF(ISBLANK('MIS - Pharmacy'!AC479),\"\",'MIS - Pharmacy'!AC479)","v":""},"",{"$f":"IF(ISBLANK('MIS - Pharmacy'!AD479),\"\",'MIS - Pharmacy'!AD479)","v":""},"","",{"$f":"IF('MIS - Pharmacy'!A479=\"\",\"\",SUM('MIS - Pharmacy'!K479+'MIS - Pharmacy'!L479))","v":""},"",{"$f":"IF('MIS - Pharmacy'!A479=\"\",\"\",('MIS - Pharmacy'!AF479+'MIS - Pharmacy'!AH479 +'MIS - Pharmacy'!AG479))","v":""},{"$f":"IF(ISBLANK('MIS - Pharmacy'!AI479),\"\",'MIS - Pharmacy'!AI479)","v":""},"","","",{"$f":"IF(ISBLANK('MIS - Pharmacy'!V479),\"\",'MIS - Pharmacy'!V479)","v":""},"","","",{"$f":"IF(ISBLANK('MIS - Pharmacy'!J479),\"\",'MIS - Pharmacy'!J479)","v":""},{"$f":"IF(ISBLANK('MIS - Pharmacy'!AY479),\"\",'MIS - Pharmacy'!AY479)","v":""},{"$f":"IF(ISBLANK('MIS - Pharmacy'!BH479),\"\",'MIS - Pharmacy'!BH479)","v":""},"",""]
[{"$f":"IF(ISBLANK('MIS - Pharmacy'!A480), \"\",'MIS - Pharmacy'!A480)","v":""},{"$f":"IF(ISBLANK('MIS - Pharmacy'!B480),\"\",('MIS - Pharmacy'!B480&\"(\"&'MIS - Pharmacy'!D480&\")\"))","v":""},{"$f":"IF(ISBLANK('MIS - Pharmacy'!BI480), \"\", 'MIS - Pharmacy'!BI480)","v":""},{"$f":"IF(ISBLANK('MIS - Pharmacy'!U480), \"\", 'MIS - Pharmacy'!U480)","v":""},"","","","","","","",{"$f":"IF(ISBLANK('MIS - Pharmacy'!AC480),\"\",'MIS - Pharmacy'!AC480)","v":""},"",{"$f":"IF(ISBLANK('MIS - Pharmacy'!AD480),\"\",'MIS - Pharmacy'!AD480)","v":""},"","",{"$f":"IF('MIS - Pharmacy'!A480=\"\",\"\",SUM('MIS - Pharmacy'!K480+'MIS - Pharmacy'!L480))","v":""},"",{"$f":"IF('MIS - Pharmacy'!A480=\"\",\"\",('MIS - Pharmacy'!AF480+'MIS - Pharmacy'!AH480 +'MIS - Pharmacy'!AG480))","v":""},{"$f":"IF(ISBLANK('MIS - Pharmacy'!AI480),\"\",'MIS - Pharmacy'!AI480)","v":""},"","","",{"$f":"IF(ISBLANK('MIS - Pharmacy'!V480),\"\",'MIS - Pharmacy'!V480)","v":""},"","","",{"$f":"IF(ISBLANK('MIS - Pharmacy'!J480),\"\",'MIS - Pharmacy'!J480)","v":""},{"$f":"IF(ISBLANK('MIS - Pharmacy'!AY480),\"\",'MIS - Pharmacy'!AY480)","v":""},{"$f":"IF(ISBLANK('MIS - Pharmacy'!BH480),\"\",'MIS - Pharmacy'!BH480)","v":""},"",""]
[{"$f":"IF(ISBLANK('MIS - Pharmacy'!A481), \"\",'MIS - Pharmacy'!A481)","v":""},{"$f":"IF(ISBLANK('MIS - Pharmacy'!B481),\"\",('MIS - Pharmacy'!B481&\"(\"&'MIS - Pharmacy'!D481&\")\"))","v":""},{"$f":"IF(ISBLANK('MIS - Pharmacy'!BI481), \"\", 'MIS - Pharmacy'!BI481)","v":""},{"$f":"IF(ISBLANK('MIS - Pharmacy'!U481), \"\", 'MIS - Pharmacy'!U481)","v":""},"","","","","","","",{"$f":"IF(ISBLANK('MIS - Pharmacy'!AC481),\"\",'MIS - Pharmacy'!AC481)","v":""},"",{"$f":"IF(ISBLANK('MIS - Pharmacy'!AD481),\"\",'MIS - Pharmacy'!AD481)","v":""},"","",{"$f":"IF('MIS - Pharmacy'!A481=\"\",\"\",SUM('MIS - Pharmacy'!K481+'MIS - Pharmacy'!L481))","v":""},"",{"$f":"IF('MIS - Pharmacy'!A481=\"\",\"\",('MIS - Pharmacy'!AF481+'MIS - Pharmacy'!AH481 +'MIS - Pharmacy'!AG481))","v":""},{"$f":"IF(ISBLANK('MIS - Pharmacy'!AI481),\"\",'MIS - Pharmacy'!AI481)","v":""},"","","",{"$f":"IF(ISBLANK('MIS - Pharmacy'!V481),\"\",'MIS - Pharmacy'!V481)","v":""},"","","",{"$f":"IF(ISBLANK('MIS - Pharmacy'!J481),\"\",'MIS - Pharmacy'!J481)","v":""},{"$f":"IF(ISBLANK('MIS - Pharmacy'!AY481),\"\",'MIS - Pharmacy'!AY481)","v":""},{"$f":"IF(ISBLANK('MIS - Pharmacy'!BH481),\"\",'MIS - Pharmacy'!BH481)","v":""},"",""]
[{"$f":"IF(ISBLANK('MIS - Pharmacy'!A482), \"\",'MIS - Pharmacy'!A482)","v":""},{"$f":"IF(ISBLANK('MIS - Pharmacy'!B482),\"\",('MIS - Pharmacy'!B482&\"(\"&'MIS - Pharmacy'!D482&\")\"))","v":""},{"$f":"IF(ISBLANK('MIS - Pharmacy'!BI482), \"\", 'MIS - Pharmacy'!BI482)","v":""},{"$f":"IF(ISBLANK('MIS - Pharmacy'!U482), \"\", 'MIS - Pharmacy'!U482)","v":""},"","","","","","","",{"$f":"IF(ISBLANK('MIS - Pharmacy'!AC482),\"\",'MIS - Pharmacy'!AC482)","v":""},"",{"$f":"IF(ISBLANK('MIS - Pharmacy'!AD482),\"\",'MIS - Pharmacy'!AD482)","v":""},"","",{"$f":"IF('MIS - Pharmacy'!A482=\"\",\"\",SUM('MIS - Pharmacy'!K482+'MIS - Pharmacy'!L482))","v":""},"",{"$f":"IF('MIS - Pharmacy'!A482=\"\",\"\",('MIS - Pharmacy'!AF482+'MIS - Pharmacy'!AH482 +'MIS - Pharmacy'!AG482))","v":""},{"$f":"IF(ISBLANK('MIS - Pharmacy'!AI482),\"\",'MIS - Pharmacy'!AI482)","v":""},"","","",{"$f":"IF(ISBLANK('MIS - Pharmacy'!V482),\"\",'MIS - Pharmacy'!V482)","v":""},"","","",{"$f":"IF(ISBLANK('MIS - Pharmacy'!J482),\"\",'MIS - Pharmacy'!J482)","v":""},{"$f":"IF(ISBLANK('MIS - Pharmacy'!AY482),\"\",'MIS - Pharmacy'!AY482)","v":""},{"$f":"IF(ISBLANK('MIS - Pharmacy'!BH482),\"\",'MIS - Pharmacy'!BH482)","v":""},"",""]
[{"$f":"IF(ISBLANK('MIS - Pharmacy'!A483), \"\",'MIS - Pharmacy'!A483)","v":""},{"$f":"IF(ISBLANK('MIS - Pharmacy'!B483),\"\",('MIS - Pharmacy'!B483&\"(\"&'MIS - Pharmacy'!D483&\")\"))","v":""},{"$f":"IF(ISBLANK('MIS - Pharmacy'!BI483), \"\", 'MIS - Pharmacy'!BI483)","v":""},{"$f":"IF(ISBLANK('MIS - Pharmacy'!U483), \"\", 'MIS - Pharmacy'!U483)","v":""},"","","","","","","",{"$f":"IF(ISBLANK('MIS - Pharmacy'!AC483),\"\",'MIS - Pharmacy'!AC483)","v":""},"",{"$f":"IF(ISBLANK('MIS - Pharmacy'!AD483),\"\",'MIS - Pharmacy'!AD483)","v":""},"","",{"$f":"IF('MIS - Pharmacy'!A483=\"\",\"\",SUM('MIS - Pharmacy'!K483+'MIS - Pharmacy'!L483))","v":""},"",{"$f":"IF('MIS - Pharmacy'!A483=\"\",\"\",('MIS - Pharmacy'!AF483+'MIS - Pharmacy'!AH483 +'MIS - Pharmacy'!AG483))","v":""},{"$f":"IF(ISBLANK('MIS - Pharmacy'!AI483),\"\",'MIS - Pharmacy'!AI483)","v":""},"","","",{"$f":"IF(ISBLANK('MIS - Pharmacy'!V483),\"\",'MIS - Pharmacy'!V483)","v":""},"","","",{"$f":"IF(ISBLANK('MIS - Pharmacy'!J483),\"\",'MIS - Pharmacy'!J483)","v":""},{"$f":"IF(ISBLANK('MIS - Pharmacy'!AY483),\"\",'MIS - Pharmacy'!AY483)","v":""},{"$f":"IF(ISBLANK('MIS - Pharmacy'!BH483),\"\",'MIS - Pharmacy'!BH483)","v":""},"",""]
[{"$f":"IF(ISBLANK('MIS - Pharmacy'!A484), \"\",'MIS - Pharmacy'!A484)","v":""},{"$f":"IF(ISBLANK('MIS - Pharmacy'!B484),\"\",('MIS - Pharmacy'!B484&\"(\"&'MIS - Pharmacy'!D484&\")\"))","v":""},{"$f":"IF(ISBLANK('MIS - Pharmacy'!BI484), \"\", 'MIS - Pharmacy'!BI484)","v":""},{"$f":"IF(ISBLANK('MIS - Pharmacy'!U484), \"\", 'MIS - Pharmacy'!U484)","v":""},"","","","","","","",{"$f":"IF(ISBLANK('MIS - Pharmacy'!AC484),\"\",'MIS - Pharmacy'!AC484)","v":""},"",{"$f":"IF(ISBLANK('MIS - Pharmacy'!AD484),\"\",'MIS - Pharmacy'!AD484)","v":""},"","",{"$f":"IF('MIS - Pharmacy'!A484=\"\",\"\",SUM('MIS - Pharmacy'!K484+'MIS - Pharmacy'!L484))","v":""},"",{"$f":"IF('MIS - Pharmacy'!A484=\"\",\"\",('MIS - Pharmacy'!AF484+'MIS - Pharmacy'!AH484 +'MIS - Pharmacy'!AG484))","v":""},{"$f":"IF(ISBLANK('MIS - Pharmacy'!AI484),\"\",'MIS - Pharmacy'!AI484)","v":""},"","","",{"$f":"IF(ISBLANK('MIS - Pharmacy'!V484),\"\",'MIS - Pharmacy'!V484)","v":""},"","","",{"$f":"IF(ISBLANK('MIS - Pharmacy'!J484),\"\",'MIS - Pharmacy'!J484)","v":""},{"$f":"IF(ISBLANK('MIS - Pharmacy'!AY484),\"\",'MIS - Pharmacy'!AY484)","v":""},{"$f":"IF(ISBLANK('MIS - Pharmacy'!BH484),\"\",'MIS - Pharmacy'!BH484)","v":""},"",""]
[{"$f":"IF(ISBLANK('MIS - Pharmacy'!A485), \"\",'MIS - Pharmacy'!A485)","v":""},{"$f":"IF(ISBLANK('MIS - Pharmacy'!B485),\"\",('MIS - Pharmacy'!B485&\"(\"&'MIS - Pharmacy'!D485&\")\"))","v":""},{"$f":"IF(ISBLANK('MIS - Pharmacy'!BI485), \"\", 'MIS - Pharmacy'!BI485)","v":""},{"$f":"IF(ISBLANK('MIS - Pharmacy'!U485), \"\", 'MIS - Pharmacy'!U485)","v":""},"","","","","","","",{"$f":"IF(ISBLANK('MIS - Pharmacy'!AC485),\"\",'MIS - Pharmacy'!AC485)","v":""},"",{"$f":"IF(ISBLANK('MIS - Pharmacy'!AD485),\"\",'MIS - Pharmacy'!AD485)","v":""},"","",{"$f":"IF('MIS - Pharmacy'!A485=\"\",\"\",SUM('MIS - Pharmacy'!K485+'MIS - Pharmacy'!L485))","v":""},"",{"$f":"IF('MIS - Pharmacy'!A485=\"\",\"\",('MIS - Pharmacy'!AF485+'MIS - Pharmacy'!AH485 +'MIS - Pharmacy'!AG485))","v":""},{"$f":"IF(ISBLANK('MIS - Pharmacy'!AI485),\"\",'MIS - Pharmacy'!AI485)","v":""},"","","",{"$f":"IF(ISBLANK('MIS - Pharmacy'!V485),\"\",'MIS - Pharmacy'!V485)","v":""},"","","",{"$f":"IF(ISBLANK('MIS - Pharmacy'!J485),\"\",'MIS - Pharmacy'!J485)","v":""},{"$f":"IF(ISBLANK('MIS - Pharmacy'!AY485),\"\",'MIS - Pharmacy'!AY485)","v":""},{"$f":"IF(ISBLANK('MIS - Pharmacy'!BH485),\"\",'MIS - Pharmacy'!BH485)","v":""},"",""]
[{"$f":"IF(ISBLANK('MIS - Pharmacy'!A486), \"\",'MIS - Pharmacy'!A486)","v":""},{"$f":"IF(ISBLANK('MIS - Pharmacy'!B486),\"\",('MIS - Pharmacy'!B486&\"(\"&'MIS - Pharmacy'!D486&\")\"))","v":""},{"$f":"IF(ISBLANK('MIS - Pharmacy'!BI486), \"\", 'MIS - Pharmacy'!BI486)","v":""},{"$f":"IF(ISBLANK('MIS - Pharmacy'!U486), \"\", 'MIS - Pharmacy'!U486)","v":""},"","","","","","","",{"$f":"IF(ISBLANK('MIS - Pharmacy'!AC486),\"\",'MIS - Pharmacy'!AC486)","v":""},"",{"$f":"IF(ISBLANK('MIS - Pharmacy'!AD486),\"\",'MIS - Pharmacy'!AD486)","v":""},"","",{"$f":"IF('MIS - Pharmacy'!A486=\"\",\"\",SUM('MIS - Pharmacy'!K486+'MIS - Pharmacy'!L486))","v":""},"",{"$f":"IF('MIS - Pharmacy'!A486=\"\",\"\",('MIS - Pharmacy'!AF486+'MIS - Pharmacy'!AH486 +'MIS - Pharmacy'!AG486))","v":""},{"$f":"IF(ISBLANK('MIS - Pharmacy'!AI486),\"\",'MIS - Pharmacy'!AI486)","v":""},"","","",{"$f":"IF(ISBLANK('MIS - Pharmacy'!V486),\"\",'MIS - Pharmacy'!V486)","v":""},"","","",{"$f":"IF(ISBLANK('MIS - Pharmacy'!J486),\"\",'MIS - Pharmacy'!J486)","v":""},{"$f":"IF(ISBLANK('MIS - Pharmacy'!AY486),\"\",'MIS - Pharmacy'!AY486)","v":""},{"$f":"IF(ISBLANK('MIS - Pharmacy'!BH486),\"\",'MIS - Pharmacy'!BH486)","v":""},"",""]
[{"$f":"IF(ISBLANK('MIS - Pharmacy'!A487), \"\",'MIS - Pharmacy'!A487)","v":""},{"$f":"IF(ISBLANK('MIS - Pharmacy'!B487),\"\",('MIS - Pharmacy'!B487&\"(\"&'MIS - Pharmacy'!D487&\")\"))","v":""},{"$f":"IF(ISBLANK('MIS - Pharmacy'!BI487), \"\", 'MIS - Pharmacy'!BI487)","v":""},{"$f":"IF(ISBLANK('MIS - Pharmacy'!U487), \"\", 'MIS - Pharmacy'!U487)","v":""},"","","","","","","",{"$f":"IF(ISBLANK('MIS - Pharmacy'!AC487),\"\",'MIS - Pharmacy'!AC487)","v":""},"",{"$f":"IF(ISBLANK('MIS - Pharmacy'!AD487),\"\",'MIS - Pharmacy'!AD487)","v":""},"","",{"$f":"IF('MIS - Pharmacy'!A487=\"\",\"\",SUM('MIS - Pharmacy'!K487+'MIS - Pharmacy'!L487))","v":""},"",{"$f":"IF('MIS - Pharmacy'!A487=\"\",\"\",('MIS - Pharmacy'!AF487+'MIS - Pharmacy'!AH487 +'MIS - Pharmacy'!AG487))","v":""},{"$f":"IF(ISBLANK('MIS - Pharmacy'!AI487),\"\",'MIS - Pharmacy'!AI487)","v":""},"","","",{"$f":"IF(ISBLANK('MIS - Pharmacy'!V487),\"\",'MIS - Pharmacy'!V487)","v":""},"","","",{"$f":"IF(ISBLANK('MIS - Pharmacy'!J487),\"\",'MIS - Pharmacy'!J487)","v":""},{"$f":"IF(ISBLANK('MIS - Pharmacy'!AY487),\"\",'MIS - Pharmacy'!AY487)","v":""},{"$f":"IF(ISBLANK('MIS - Pharmacy'!BH487),\"\",'MIS - Pharmacy'!BH487)","v":""},"",""]
[{"$f":"IF(ISBLANK('MIS - Pharmacy'!A488), \"\",'MIS - Pharmacy'!A488)","v":""},{"$f":"IF(ISBLANK('MIS - Pharmacy'!B488),\"\",('MIS - Pharmacy'!B488&\"(\"&'MIS - Pharmacy'!D488&\")\"))","v":""},{"$f":"IF(ISBLANK('MIS - Pharmacy'!BI488), \"\", 'MIS - Pharmacy'!BI488)","v":""},{"$f":"IF(ISBLANK('MIS - Pharmacy'!U488), \"\", 'MIS - Pharmacy'!U488)","v":""},"","","","","","","",{"$f":"IF(ISBLANK('MIS - Pharmacy'!AC488),\"\",'MIS - Pharmacy'!AC488)","v":""},"",{"$f":"IF(ISBLANK('MIS - Pharmacy'!AD488),\"\",'MIS - Pharmacy'!AD488)","v":""},"","",{"$f":"IF('MIS - Pharmacy'!A488=\"\",\"\",SUM('MIS - Pharmacy'!K488+'MIS - Pharmacy'!L488))","v":""},"",{"$f":"IF('MIS - Pharmacy'!A488=\"\",\"\",('MIS - Pharmacy'!AF488+'MIS - Pharmacy'!AH488 +'MIS - Pharmacy'!AG488))","v":""},{"$f":"IF(ISBLANK('MIS - Pharmacy'!AI488),\"\",'MIS - Pharmacy'!AI488)","v":""},"","","",{"$f":"IF(ISBLANK('MIS - Pharmacy'!V488),\"\",'MIS - Pharmacy'!V488)","v":""},"","","",{"$f":"IF(ISBLANK('MIS - Pharmacy'!J488),\"\",'MIS - Pharmacy'!J488)","v":""},{"$f":"IF(ISBLANK('MIS - Pharmacy'!AY488),\"\",'MIS - Pharmacy'!AY488)","v":""},{"$f":"IF(ISBLANK('MIS - Pharmacy'!BH488),\"\",'MIS - Pharmacy'!BH488)","v":""},"",""]
[{"$f":"IF(ISBLANK('MIS - Pharmacy'!A489), \"\",'MIS - Pharmacy'!A489)","v":""},{"$f":"IF(ISBLANK('MIS - Pharmacy'!B489),\"\",('MIS - Pharmacy'!B489&\"(\"&'MIS - Pharmacy'!D489&\")\"))","v":""},{"$f":"IF(ISBLANK('MIS - Pharmacy'!BI489), \"\", 'MIS - Pharmacy'!BI489)","v":""},{"$f":"IF(ISBLANK('MIS - Pharmacy'!U489), \"\", 'MIS - Pharmacy'!U489)","v":""},"","","","","","","",{"$f":"IF(ISBLANK('MIS - Pharmacy'!AC489),\"\",'MIS - Pharmacy'!AC489)","v":""},"",{"$f":"IF(ISBLANK('MIS - Pharmacy'!AD489),\"\",'MIS - Pharmacy'!AD489)","v":""},"","",{"$f":"IF('MIS - Pharmacy'!A489=\"\",\"\",SUM('MIS - Pharmacy'!K489+'MIS - Pharmacy'!L489))","v":""},"",{"$f":"IF('MIS - Pharmacy'!A489=\"\",\"\",('MIS - Pharmacy'!AF489+'MIS - Pharmacy'!AH489 +'MIS - Pharmacy'!AG489))","v":""},{"$f":"IF(ISBLANK('MIS - Pharmacy'!AI489),\"\",'MIS - Pharmacy'!AI489)","v":""},"","","",{"$f":"IF(ISBLANK('MIS - Pharmacy'!V489),\"\",'MIS - Pharmacy'!V489)","v":""},"","","",{"$f":"IF(ISBLANK('MIS - Pharmacy'!J489),\"\",'MIS - Pharmacy'!J489)","v":""},{"$f":"IF(ISBLANK('MIS - Pharmacy'!AY489),\"\",'MIS - Pharmacy'!AY489)","v":""},{"$f":"IF(ISBLANK('MIS - Pharmacy'!BH489),\"\",'MIS - Pharmacy'!BH489)","v":""},"",""]
[{"$f":"IF(ISBLANK('MIS - Pharmacy'!A490), \"\",'MIS - Pharmacy'!A490)","v":""},{"$f":"IF(ISBLANK('MIS - Pharmacy'!B490),\"\",('MIS - Pharmacy'!B490&\"(\"&'MIS - Pharmacy'!D490&\")\"))","v":""},{"$f":"IF(ISBLANK('MIS - Pharmacy'!BI490), \"\", 'MIS - Pharmacy'!BI490)","v":""},{"$f":"IF(ISBLANK('MIS - Pharmacy'!U490), \"\", 'MIS - Pharmacy'!U490)","v":""},"","","","","","","",{"$f":"IF(ISBLANK('MIS - Pharmacy'!AC490),\"\",'MIS - Pharmacy'!AC490)","v":""},"",{"$f":"IF(ISBLANK('MIS - Pharmacy'!AD490),\"\",'MIS - Pharmacy'!AD490)","v":""},"","",{"$f":"IF('MIS - Pharmacy'!A490=\"\",\"\",SUM('MIS - Pharmacy'!K490+'MIS - Pharmacy'!L490))","v":""},"",{"$f":"IF('MIS - Pharmacy'!A490=\"\",\"\",('MIS - Pharmacy'!AF490+'MIS - Pharmacy'!AH490 +'MIS - Pharmacy'!AG490))","v":""},{"$f":"IF(ISBLANK('MIS - Pharmacy'!AI490),\"\",'MIS - Pharmacy'!AI490)","v":""},"","","",{"$f":"IF(ISBLANK('MIS - Pharmacy'!V490),\"\",'MIS - Pharmacy'!V490)","v":""},"","","",{"$f":"IF(ISBLANK('MIS - Pharmacy'!J490),\"\",'MIS - Pharmacy'!J490)","v":""},{"$f":"IF(ISBLANK('MIS - Pharmacy'!AY490),\"\",'MIS - Pharmacy'!AY490)","v":""},{"$f":"IF(ISBLANK('MIS - Pharmacy'!BH490),\"\",'MIS - Pharmacy'!BH490)","v":""},"",""]
[{"$f":"IF(ISBLANK('MIS - Pharmacy'!A491), \"\",'MIS - Pharmacy'!A491)","v":""},{"$f":"IF(ISBLANK('MIS - Pharmacy'!B491),\"\",('MIS - Pharmacy'!B491&\"(\"&'MIS - Pharmacy'!D491&\")\"))","v":""},{"$f":"IF(ISBLANK('MIS - Pharmacy'!BI491), \"\", 'MIS - Pharmacy'!BI491)","v":""},{"$f":"IF(ISBLANK('MIS - Pharmacy'!U491), \"\", 'MIS - Pharmacy'!U491)","v":""},"","","","","","","",{"$f":"IF(ISBLANK('MIS - Pharmacy'!AC491),\"\",'MIS - Pharmacy'!AC491)","v":""},"",{"$f":"IF(ISBLANK('MIS - Pharmacy'!AD491),\"\",'MIS - Pharmacy'!AD491)","v":""},"","",{"$f":"IF('MIS - Pharmacy'!A491=\"\",\"\",SUM('MIS - Pharmacy'!K491+'MIS - Pharmacy'!L491))","v":""},"",{"$f":"IF('MIS - Pharmacy'!A491=\"\",\"\",('MIS - Pharmacy'!AF491+'MIS - Pharmacy'!AH491 +'MIS - Pharmacy'!AG491))","v":""},{"$f":"IF(ISBLANK('MIS - Pharmacy'!AI491),\"\",'MIS - Pharmacy'!AI491)","v":""},"","","",{"$f":"IF(ISBLANK('MIS - Pharmacy'!V491),\"\",'MIS - Pharmacy'!V491)","v":""},"","","",{"$f":"IF(ISBLANK('MIS - Pharmacy'!J491),\"\",'MIS - Pharmacy'!J491)","v":""},{"$f":"IF(ISBLANK('MIS - Pharmacy'!AY491),\"\",'MIS - Pharmacy'!AY491)","v":""},{"$f":"IF(ISBLANK('MIS - Pharmacy'!BH491),\"\",'MIS - Pharmacy'!BH491)","v":""},"",""]
[{"$f":"IF(ISBLANK('MIS - Pharmacy'!A492), \"\",'MIS - Pharmacy'!A492)","v":""},{"$f":"IF(ISBLANK('MIS - Pharmacy'!B492),\"\",('MIS - Pharmacy'!B492&\"(\"&'MIS - Pharmacy'!D492&\")\"))","v":""},{"$f":"IF(ISBLANK('MIS - Pharmacy'!BI492), \"\", 'MIS - Pharmacy'!BI492)","v":""},{"$f":"IF(ISBLANK('MIS - Pharmacy'!U492), \"\", 'MIS - Pharmacy'!U492)","v":""},"","","","","","","",{"$f":"IF(ISBLANK('MIS - Pharmacy'!AC492),\"\",'MIS - Pharmacy'!AC492)","v":""},"",{"$f":"IF(ISBLANK('MIS - Pharmacy'!AD492),\"\",'MIS - Pharmacy'!AD492)","v":""},"","",{"$f":"IF('MIS - Pharmacy'!A492=\"\",\"\",SUM('MIS - Pharmacy'!K492+'MIS - Pharmacy'!L492))","v":""},"",{"$f":"IF('MIS - Pharmacy'!A492=\"\",\"\",('MIS - Pharmacy'!AF492+'MIS - Pharmacy'!AH492 +'MIS - Pharmacy'!AG492))","v":""},{"$f":"IF(ISBLANK('MIS - Pharmacy'!AI492),\"\",'MIS - Pharmacy'!AI492)","v":""},"","","",{"$f":"IF(ISBLANK('MIS - Pharmacy'!V492),\"\",'MIS - Pharmacy'!V492)","v":""},"","","",{"$f":"IF(ISBLANK('MIS - Pharmacy'!J492),\"\",'MIS - Pharmacy'!J492)","v":""},{"$f":"IF(ISBLANK('MIS - Pharmacy'!AY492),\"\",'MIS - Pharmacy'!AY492)","v":""},{"$f":"IF(ISBLANK('MIS - Pharmacy'!BH492),\"\",'MIS - Pharmacy'!BH492)","v":""},"",""]
[{"$f":"IF(ISBLANK('MIS - Pharmacy'!A493), \"\",'MIS - Pharmacy'!A493)","v":""},{"$f":"IF(ISBLANK('MIS - Pharmacy'!B493),\"\",('MIS - Pharmacy'!B493&\"(\"&'MIS - Pharmacy'!D493&\")\"))","v":""},{"$f":"IF(ISBLANK('MIS - Pharmacy'!BI493), \"\", 'MIS - Pharmacy'!BI493)","v":""},{"$f":"IF(ISBLANK('MIS - Pharmacy'!U493), \"\", 'MIS - Pharmacy'!U493)","v":""},"","","","","","","",{"$f":"IF(ISBLANK('MIS - Pharmacy'!AC493),\"\",'MIS - Pharmacy'!AC493)","v":""},"",{"$f":"IF(ISBLANK('MIS - Pharmacy'!AD493),\"\",'MIS - Pharmacy'!AD493)","v":""},"","",{"$f":"IF('MIS - Pharmacy'!A493=\"\",\"\",SUM('MIS - Pharmacy'!K493+'MIS - Pharmacy'!L493))","v":""},"",{"$f":"IF('MIS - Pharmacy'!A493=\"\",\"\",('MIS - Pharmacy'!AF493+'MIS - Pharmacy'!AH493 +'MIS - Pharmacy'!AG493))","v":""},{"$f":"IF(ISBLANK('MIS - Pharmacy'!AI493),\"\",'MIS - Pharmacy'!AI493)","v":""},"","","",{"$f":"IF(ISBLANK('MIS - Pharmacy'!V493),\"\",'MIS - Pharmacy'!V493)","v":""},"","","",{"$f":"IF(ISBLANK('MIS - Pharmacy'!J493),\"\",'MIS - Pharmacy'!J493)","v":""},{"$f":"IF(ISBLANK('MIS - Pharmacy'!AY493),\"\",'MIS - Pharmacy'!AY493)","v":""},{"$f":"IF(ISBLANK('MIS - Pharmacy'!BH493),\"\",'MIS - Pharmacy'!BH493)","v":""},"",""]
[{"$f":"IF(ISBLANK('MIS - Pharmacy'!A494), \"\",'MIS - Pharmacy'!A494)","v":""},{"$f":"IF(ISBLANK('MIS - Pharmacy'!B494),\"\",('MIS - Pharmacy'!B494&\"(\"&'MIS - Pharmacy'!D494&\")\"))","v":""},{"$f":"IF(ISBLANK('MIS - Pharmacy'!BI494), \"\", 'MIS - Pharmacy'!BI494)","v":""},{"$f":"IF(ISBLANK('MIS - Pharmacy'!U494), \"\", 'MIS - Pharmacy'!U494)","v":""},"","","","","","","",{"$f":"IF(ISBLANK('MIS - Pharmacy'!AC494),\"\",'MIS - Pharmacy'!AC494)","v":""},"",{"$f":"IF(ISBLANK('MIS - Pharmacy'!AD494),\"\",'MIS - Pharmacy'!AD494)","v":""},"","",{"$f":"IF('MIS - Pharmacy'!A494=\"\",\"\",SUM('MIS - Pharmacy'!K494+'MIS - Pharmacy'!L494))","v":""},"",{"$f":"IF('MIS - Pharmacy'!A494=\"\",\"\",('MIS - Pharmacy'!AF494+'MIS - Pharmacy'!AH494 +'MIS - Pharmacy'!AG494))","v":""},{"$f":"IF(ISBLANK('MIS - Pharmacy'!AI494),\"\",'MIS - Pharmacy'!AI494)","v":""},"","","",{"$f":"IF(ISBLANK('MIS - Pharmacy'!V494),\"\",'MIS - Pharmacy'!V494)","v":""},"","","",{"$f":"IF(ISBLANK('MIS - Pharmacy'!J494),\"\",'MIS - Pharmacy'!J494)","v":""},{"$f":"IF(ISBLANK('MIS - Pharmacy'!AY494),\"\",'MIS - Pharmacy'!AY494)","v":""},{"$f":"IF(ISBLANK('MIS - Pharmacy'!BH494),\"\",'MIS - Pharmacy'!BH494)","v":""},"",""]
[{"$f":"IF(ISBLANK('MIS - Pharmacy'!A495), \"\",'MIS - Pharmacy'!A495)","v":""},{"$f":"IF(ISBLANK('MIS - Pharmacy'!B495),\"\",('MIS - Pharmacy'!B495&\"(\"&'MIS - Pharmacy'!D495&\")\"))","v":""},{"$f":"IF(ISBLANK('MIS - Pharmacy'!BI495), \"\", 'MIS - Pharmacy'!BI495)","v":""},{"$f":"IF(ISBLANK('MIS - Pharmacy'!U495), \"\", 'MIS - Pharmacy'!U495)","v":""},"","","","","","","",{"$f":"IF(ISBLANK('MIS - Pharmacy'!AC495),\"\",'MIS - Pharmacy'!AC495)","v":""},"",{"$f":"IF(ISBLANK('MIS - Pharmacy'!AD495),\"\",'MIS - Pharmacy'!AD495)","v":""},"","",{"$f":"IF('MIS - Pharmacy'!A495=\"\",\"\",SUM('MIS - Pharmacy'!K495+'MIS - Pharmacy'!L495))","v":""},"",{"$f":"IF('MIS - Pharmacy'!A495=\"\",\"\",('MIS - Pharmacy'!AF495+'MIS - Pharmacy'!AH495 +'MIS - Pharmacy'!AG495))","v":""},{"$f":"IF(ISBLANK('MIS - Pharmacy'!AI495),\"\",'MIS - Pharmacy'!AI495)","v":""},"","","",{"$f":"IF(ISBLANK('MIS - Pharmacy'!V495),\"\",'MIS - Pharmacy'!V495)","v":""},"","","",{"$f":"IF(ISBLANK('MIS - Pharmacy'!J495),\"\",'MIS - Pharmacy'!J495)","v":""},{"$f":"IF(ISBLANK('MIS - Pharmacy'!AY495),\"\",'MIS - Pharmacy'!AY495)","v":""},{"$f":"IF(ISBLANK('MIS - Pharmacy'!BH495),\"\",'MIS - Pharmacy'!BH495)","v":""},"",""]
[{"$f":"IF(ISBLANK('MIS - Pharmacy'!A496), \"\",'MIS - Pharmacy'!A496)","v":""},{"$f":"IF(ISBLANK('MIS - Pharmacy'!B496),\"\",('MIS - Pharmacy'!B496&\"(\"&'MIS - Pharmacy'!D496&\")\"))","v":""},{"$f":"IF(ISBLANK('MIS - Pharmacy'!BI496), \"\", 'MIS - Pharmacy'!BI496)","v":""},{"$f":"IF(ISBLANK('MIS - Pharmacy'!U496), \"\", 'MIS - Pharmacy'!U496)","v":""},"","","","","","","",{"$f":"IF(ISBLANK('MIS - Pharmacy'!AC496),\"\",'MIS - Pharmacy'!AC496)","v":""},"",{"$f":"IF(ISBLANK('MIS - Pharmacy'!AD496),\"\",'MIS - Pharmacy'!AD496)","v":""},"","",{"$f":"IF('MIS - Pharmacy'!A496=\"\",\"\",SUM('MIS - Pharmacy'!K496+'MIS - Pharmacy'!L496))","v":""},"",{"$f":"IF('MIS - Pharmacy'!A496=\"\",\"\",('MIS - Pharmacy'!AF496+'MIS - Pharmacy'!AH496 +'MIS - Pharmacy'!AG496))","v":""},{"$f":"IF(ISBLANK('MIS - Pharmacy'!AI496),\"\",'MIS - Pharmacy'!AI496)","v":""},"","","",{"$f":"IF(ISBLANK('MIS - Pharmacy'!V496),\"\",'MIS - Pharmacy'!V496)","v":""},"","","",{"$f":"IF(ISBLANK('MIS - Pharmacy'!J496),\"\",'MIS - Pharmacy'!J496)","v":""},{"$f":"IF(ISBLANK('MIS - Pharmacy'!AY496),\"\",'MIS - Pharmacy'!AY496)","v":""},{"$f":"IF(ISBLANK('MIS - Pharmacy'!BH496),\"\",'MIS - Pharmacy'!BH496)","v":""},"",""]
[{"$f":"IF(ISBLANK('MIS - Pharmacy'!A497), \"\",'MIS - Pharmacy'!A497)","v":""},{"$f":"IF(ISBLANK('MIS - Pharmacy'!B497),\"\",('MIS - Pharmacy'!B497&\"(\"&'MIS - Pharmacy'!D497&\")\"))","v":""},{"$f":"IF(ISBLANK('MIS - Pharmacy'!BI497), \"\", 'MIS - Pharmacy'!BI497)","v":""},{"$f":"IF(ISBLANK('MIS - Pharmacy'!U497), \"\", 'MIS - Pharmacy'!U497)","v":""},"","","","","","","",{"$f":"IF(ISBLANK('MIS - Pharmacy'!AC497),\"\",'MIS - Pharmacy'!AC497)","v":""},"",{"$f":"IF(ISBLANK('MIS - Pharmacy'!AD497),\"\",'MIS - Pharmacy'!AD497)","v":""},"","",{"$f":"IF('MIS - Pharmacy'!A497=\"\",\"\",SUM('MIS - Pharmacy'!K497+'MIS - Pharmacy'!L497))","v":""},"",{"$f":"IF('MIS - Pharmacy'!A497=\"\",\"\",('MIS - Pharmacy'!AF497+'MIS - Pharmacy'!AH497 +'MIS - Pharmacy'!AG497))","v":""},{"$f":"IF(ISBLANK('MIS - Pharmacy'!AI497),\"\",'MIS - Pharmacy'!AI497)","v":""},"","","",{"$f":"IF(ISBLANK('MIS - Pharmacy'!V497),\"\",'MIS - Pharmacy'!V497)","v":""},"","","",{"$f":"IF(ISBLANK('MIS - Pharmacy'!J497),\"\",'MIS - Pharmacy'!J497)","v":""},{"$f":"IF(ISBLANK('MIS - Pharmacy'!AY497),\"\",'MIS - Pharmacy'!AY497)","v":""},{"$f":"IF(ISBLANK('MIS - Pharmacy'!BH497),\"\",'MIS - Pharmacy'!BH497)","v":""},"",""]
[{"$f":"IF(ISBLANK('MIS - Pharmacy'!A498), \"\",'MIS - Pharmacy'!A498)","v":""},{"$f":"IF(ISBLANK('MIS - Pharmacy'!B498),\"\",('MIS - Pharmacy'!B498&\"(\"&'MIS - Pharmacy'!D498&\")\"))","v":""},{"$f":"IF(ISBLANK('MIS - Pharmacy'!BI498), \"\", 'MIS - Pharmacy'!BI498)","v":""},{"$f":"IF(ISBLANK('MIS - Pharmacy'!U498), \"\", 'MIS - Pharmacy'!U498)","v":""},"","","","","","","",{"$f":"IF(ISBLANK('MIS - Pharmacy'!AC498),\"\",'MIS - Pharmacy'!AC498)","v":""},"",{"$f":"IF(ISBLANK('MIS - Pharmacy'!AD498),\"\",'MIS - Pharmacy'!AD498)","v":""},"","",{"$f":"IF('MIS - Pharmacy'!A498=\"\",\"\",SUM('MIS - Pharmacy'!K498+'MIS - Pharmacy'!L498))","v":""},"",{"$f":"IF('MIS - Pharmacy'!A498=\"\",\"\",('MIS - Pharmacy'!AF498+'MIS - Pharmacy'!AH498 +'MIS - Pharmacy'!AG498))","v":""},{"$f":"IF(ISBLANK('MIS - Pharmacy'!AI498),\"\",'MIS - Pharmacy'!AI498)","v":""},"","","",{"$f":"IF(ISBLANK('MIS - Pharmacy'!V498),\"\",'MIS - Pharmacy'!V498)","v":""},"","","",{"$f":"IF(ISBLANK('MIS - Pharmacy'!J498),\"\",'MIS - Pharmacy'!J498)","v":""},{"$f":"IF(ISBLANK('MIS - Pharmacy'!AY498),\"\",'MIS - Pharmacy'!AY498)","v":""},{"$f":"IF(ISBLANK('MIS - Pharmacy'!BH498),\"\",'MIS - Pharmacy'!BH498)","v":""},"",""]
[{"$f":"IF(ISBLANK('MIS - Pharmacy'!A499), \"\",'MIS - Pharmacy'!A499)","v":""},{"$f":"IF(ISBLANK('MIS - Pharmacy'!B499),\"\",('MIS - Pharmacy'!B499&\"(\"&'MIS - Pharmacy'!D499&\")\"))","v":""},{"$f":"IF(ISBLANK('MIS - Pharmacy'!BI499), \"\", 'MIS - Pharmacy'!BI499)","v":""},{"$f":"IF(ISBLANK('MIS - Pharmacy'!U499), \"\", 'MIS - Pharmacy'!U499)","v":""},"","","","","","","",{"$f":"IF(ISBLANK('MIS - Pharmacy'!AC499),\"\",'MIS - Pharmacy'!AC499)","v":""},"",{"$f":"IF(ISBLANK('MIS - Pharmacy'!AD499),\"\",'MIS - Pharmacy'!AD499)","v":""},"","",{"$f":"IF('MIS - Pharmacy'!A499=\"\",\"\",SUM('MIS - Pharmacy'!K499+'MIS - Pharmacy'!L499))","v":""},"",{"$f":"IF('MIS - Pharmacy'!A499=\"\",\"\",('MIS - Pharmacy'!AF499+'MIS - Pharmacy'!AH499 +'MIS - Pharmacy'!AG499))","v":""},{"$f":"IF(ISBLANK('MIS - Pharmacy'!AI499),\"\",'MIS - Pharmacy'!AI499)","v":""},"","","",{"$f":"IF(ISBLANK('MIS - Pharmacy'!V499),\"\",'MIS - Pharmacy'!V499)","v":""},"","","",{"$f":"IF(ISBLANK('MIS - Pharmacy'!J499),\"\",'MIS - Pharmacy'!J499)","v":""},{"$f":"IF(ISBLANK('MIS - Pharmacy'!AY499),\"\",'MIS - Pharmacy'!AY499)","v":""},{"$f":"IF(ISBLANK('MIS - Pharmacy'!BH499),\"\",'MIS - Pharmacy'!BH499)","v":""},"",""]
[{"$f":"IF(ISBLANK('MIS - Pharmacy'!A500), \"\",'MIS - Pharmacy'!A500)","v":""},{"$f":"IF(ISBLANK('MIS - Pharmacy'!B500),\"\",('MIS - Pharmacy'!B500&\"(\"&'MIS - Pharmacy'!D500&\")\"))","v":""},{"$f":"IF(ISBLANK('MIS - Pharmacy'!BI500), \"\", 'MIS - Pharmacy'!BI500)","v":""},{"$f":"IF(ISBLANK('MIS - Pharmacy'!U500), \"\", 'MIS - Pharmacy'!U500)","v":""},"","","","","","","",{"$f":"IF(ISBLANK('MIS - Pharmacy'!AC500),\"\",'MIS - Pharmacy'!AC500)","v":""},"",{"$f":"IF(ISBLANK('MIS - Pharmacy'!AD500),\"\",'MIS - Pharmacy'!AD500)","v":""},"","",{"$f":"IF('MIS - Pharmacy'!A500=\"\",\"\",SUM('MIS - Pharmacy'!K500+'MIS - Pharmacy'!L500))","v":""},"",{"$f":"IF('MIS - Pharmacy'!A500=\"\",\"\",('MIS - Pharmacy'!AF500+'MIS - Pharmacy'!AH500 +'MIS - Pharmacy'!AG500))","v":""},{"$f":"IF(ISBLANK('MIS - Pharmacy'!AI500),\"\",'MIS - Pharmacy'!AI500)","v":""},"","","",{"$f":"IF(ISBLANK('MIS - Pharmacy'!V500),\"\",'MIS - Pharmacy'!V500)","v":""},"","","",{"$f":"IF(ISBLANK('MIS - Pharmacy'!J500),\"\",'MIS - Pharmacy'!J500)","v":""},{"$f":"IF(ISBLANK('MIS - Pharmacy'!AY500),\"\",'MIS - Pharmacy'!AY500)","v":""},{"$f":"IF(ISBLANK('MIS - Pharmacy'!BH500),\"\",'MIS - Pharmacy'!BH500)","v":""},"",""]
[{"$f":"IF(ISBLANK('MIS - Pharmacy'!A501), \"\",'MIS - Pharmacy'!A501)","v":""},{"$f":"IF(ISBLANK('MIS - Pharmacy'!B501),\"\",('MIS - Pharmacy'!B501&\"(\"&'MIS - Pharmacy'!D501&\")\"))","v":""},{"$f":"IF(ISBLANK('MIS - Pharmacy'!BI501), \"\", 'MIS - Pharmacy'!BI501)","v":""},{"$f":"IF(ISBLANK('MIS - Pharmacy'!U501), \"\", 'MIS - Pharmacy'!U501)","v":""},"","","","","","","",{"$f":"IF(ISBLANK('MIS - Pharmacy'!AC501),\"\",'MIS - Pharmacy'!AC501)","v":""},"",{"$f":"IF(ISBLANK('MIS - Pharmacy'!AD501),\"\",'MIS - Pharmacy'!AD501)","v":""},"","",{"$f":"IF('MIS - Pharmacy'!A501=\"\",\"\",SUM('MIS - Pharmacy'!K501+'MIS - Pharmacy'!L501))","v":""},"",{"$f":"IF('MIS - Pharmacy'!A501=\"\",\"\",('MIS - Pharmacy'!AF501+'MIS - Pharmacy'!AH501 +'MIS - Pharmacy'!AG501))","v":""},{"$f":"IF(ISBLANK('MIS - Pharmacy'!AI501),\"\",'MIS - Pharmacy'!AI501)","v":""},"","","",{"$f":"IF(ISBLANK('MIS - Pharmacy'!V501),\"\",'MIS - Pharmacy'!V501)","v":""},"","","",{"$f":"IF(ISBLANK('MIS - Pharmacy'!J501),\"\",'MIS - Pharmacy'!J501)","v":""},{"$f":"IF(ISBLANK('MIS - Pharmacy'!AY501),\"\",'MIS - Pharmacy'!AY501)","v":""},{"$f":"IF(ISBLANK('MIS - Pharmacy'!BH501),\"\",'MIS - Pharmacy'!BH501)","v":""},"",""]
[{"$f":"IF(ISBLANK('MIS - Pharmacy'!A502), \"\",'MIS - Pharmacy'!A502)","v":""},{"$f":"IF(ISBLANK('MIS - Pharmacy'!B502),\"\",('MIS - Pharmacy'!B502&\"(\"&'MIS - Pharmacy'!D502&\")\"))","v":""},{"$f":"IF(ISBLANK('MIS - Pharmacy'!BI502), \"\", 'MIS - Pharmacy'!BI502)","v":""},{"$f":"IF(ISBLANK('MIS - Pharmacy'!U502), \"\", 'MIS - Pharmacy'!U502)","v":""},"","","","","","","",{"$f":"IF(ISBLANK('MIS - Pharmacy'!AC502),\"\",'MIS - Pharmacy'!AC502)","v":""},"",{"$f":"IF(ISBLANK('MIS - Pharmacy'!AD502),\"\",'MIS - Pharmacy'!AD502)","v":""},"","",{"$f":"IF('MIS - Pharmacy'!A502=\"\",\"\",SUM('MIS - Pharmacy'!K502+'MIS - Pharmacy'!L502))","v":""},"",{"$f":"IF('MIS - Pharmacy'!A502=\"\",\"\",('MIS - Pharmacy'!AF502+'MIS - Pharmacy'!AH502 +'MIS - Pharmacy'!AG502))","v":""},{"$f":"IF(ISBLANK('MIS - Pharmacy'!AI502),\"\",'MIS - Pharmacy'!AI502)","v":""},"","","",{"$f":"IF(ISBLANK('MIS - Pharmacy'!V502),\"\",'MIS - Pharmacy'!V502)","v":""},"","","",{"$f":"IF(ISBLANK('MIS - Pharmacy'!J502),\"\",'MIS - Pharmacy'!J502)","v":""},{"$f":"IF(ISBLANK('MIS - Pharmacy'!AY502),\"\",'MIS - Pharmacy'!AY502)","v":""},{"$f":"IF(ISBLANK('MIS - Pharmacy'!BH502),\"\",'MIS - Pharmacy'!BH502)","v":""},"",""]
[{"$f":"IF(ISBLANK('MIS - Pharmacy'!A503), \"\",'MIS - Pharmacy'!A503)","v":""},{"$f":"IF(ISBLANK('MIS - Pharmacy'!B503),\"\",('MIS - Pharmacy'!B503&\"(\"&'MIS - Pharmacy'!D503&\")\"))","v":""},{"$f":"IF(ISBLANK('MIS - Pharmacy'!BI503), \"\", 'MIS - Pharmacy'!BI503)","v":""},{"$f":"IF(ISBLANK('MIS - Pharmacy'!U503), \"\", 'MIS - Pharmacy'!U503)","v":""},"","","","","","","",{"$f":"IF(ISBLANK('MIS - Pharmacy'!AC503),\"\",'MIS - Pharmacy'!AC503)","v":""},"",{"$f":"IF(ISBLANK('MIS - Pharmacy'!AD503),\"\",'MIS - Pharmacy'!AD503)","v":""},"","",{"$f":"IF('MIS - Pharmacy'!A503=\"\",\"\",SUM('MIS - Pharmacy'!K503+'MIS - Pharmacy'!L503))","v":""},"",{"$f":"IF('MIS - Pharmacy'!A503=\"\",\"\",('MIS - Pharmacy'!AF503+'MIS - Pharmacy'!AH503 +'MIS - Pharmacy'!AG503))","v":""},{"$f":"IF(ISBLANK('MIS - Pharmacy'!AI503),\"\",'MIS - Pharmacy'!AI503)","v":""},"","","",{"$f":"IF(ISBLANK('MIS - Pharmacy'!V503),\"\",'MIS - Pharmacy'!V503)","v":""},"","","",{"$f":"IF(ISBLANK('MIS - Pharmacy'!J503),\"\",'MIS - Pharmacy'!J503)","v":""},{"$f":"IF(ISBLANK('MIS - Pharmacy'!AY503),\"\",'MIS - Pharmacy'!AY503)","v":""},{"$f":"IF(ISBLANK('MIS - Pharmacy'!BH503),\"\",'MIS - Pharmacy'!BH503)","v":""},"",""]
[{"$f":"IF(ISBLANK('MIS - Pharmacy'!A504), \"\",'MIS - Pharmacy'!A504)","v":""},{"$f":"IF(ISBLANK('MIS - Pharmacy'!B504),\"\",('MIS - Pharmacy'!B504&\"(\"&'MIS - Pharmacy'!D504&\")\"))","v":""},{"$f":"IF(ISBLANK('MIS - Pharmacy'!BI504), \"\", 'MIS - Pharmacy'!BI504)","v":""},{"$f":"IF(ISBLANK('MIS - Pharmacy'!U504), \"\", 'MIS - Pharmacy'!U504)","v":""},"","","","","","","",{"$f":"IF(ISBLANK('MIS - Pharmacy'!AC504),\"\",'MIS - Pharmacy'!AC504)","v":""},"",{"$f":"IF(ISBLANK('MIS - Pharmacy'!AD504),\"\",'MIS - Pharmacy'!AD504)","v":""},"","",{"$f":"IF('MIS - Pharmacy'!A504=\"\",\"\",SUM('MIS - Pharmacy'!K504+'MIS - Pharmacy'!L504))","v":""},"",{"$f":"IF('MIS - Pharmacy'!A504=\"\",\"\",('MIS - Pharmacy'!AF504+'MIS - Pharmacy'!AH504 +'MIS - Pharmacy'!AG504))","v":""},{"$f":"IF(ISBLANK('MIS - Pharmacy'!AI504),\"\",'MIS - Pharmacy'!AI504)","v":""},"","","",{"$f":"IF(ISBLANK('MIS - Pharmacy'!V504),\"\",'MIS - Pharmacy'!V504)","v":""},"","","",{"$f":"IF(ISBLANK('MIS - Pharmacy'!J504),\"\",'MIS - Pharmacy'!J504)","v":""},{"$f":"IF(ISBLANK('MIS - Pharmacy'!AY504),\"\",'MIS - Pharmacy'!AY504)","v":""},{"$f":"IF(ISBLANK('MIS - Pharmacy'!BH504),\"\",'MIS - Pharmacy'!BH504)","v":""},"",""]
[{"$f":"IF(ISBLANK('MIS - Pharmacy'!A505), \"\",'MIS - Pharmacy'!A505)","v":""},{"$f":"IF(ISBLANK('MIS - Pharmacy'!B505),\"\",('MIS - Pharmacy'!B505&\"(\"&'MIS - Pharmacy'!D505&\")\"))","v":""},{"$f":"IF(ISBLANK('MIS - Pharmacy'!BI505), \"\", 'MIS - Pharmacy'!BI505)","v":""},{"$f":"IF(ISBLANK('MIS - Pharmacy'!U505), \"\", 'MIS - Pharmacy'!U505)","v":""},"","","","","","","",{"$f":"IF(ISBLANK('MIS - Pharmacy'!AC505),\"\",'MIS - Pharmacy'!AC505)","v":""},"",{"$f":"IF(ISBLANK('MIS - Pharmacy'!AD505),\"\",'MIS - Pharmacy'!AD505)","v":""},"","",{"$f":"IF('MIS - Pharmacy'!A505=\"\",\"\",SUM('MIS - Pharmacy'!K505+'MIS - Pharmacy'!L505))","v":""},"",{"$f":"IF('MIS - Pharmacy'!A505=\"\",\"\",('MIS - Pharmacy'!AF505+'MIS - Pharmacy'!AH505 +'MIS - Pharmacy'!AG505))","v":""},{"$f":"IF(ISBLANK('MIS - Pharmacy'!AI505),\"\",'MIS - Pharmacy'!AI505)","v":""},"","","",{"$f":"IF(ISBLANK('MIS - Pharmacy'!V505),\"\",'MIS - Pharmacy'!V505)","v":""},"","","",{"$f":"IF(ISBLANK('MIS - Pharmacy'!J505),\"\",'MIS - Pharmacy'!J505)","v":""},{"$f":"IF(ISBLANK('MIS - Pharmacy'!AY505),\"\",'MIS - Pharmacy'!AY505)","v":""},{"$f":"IF(ISBLANK('MIS - Pharmacy'!BH505),\"\",'MIS - Pharmacy'!BH505)","v":""},"",""]
[{"$f":"IF(ISBLANK('MIS - Pharmacy'!A506), \"\",'MIS - Pharmacy'!A506)","v":""},{"$f":"IF(ISBLANK('MIS - Pharmacy'!B506),\"\",('MIS - Pharmacy'!B506&\"(\"&'MIS - Pharmacy'!D506&\")\"))","v":""},{"$f":"IF(ISBLANK('MIS - Pharmacy'!BI506), \"\", 'MIS - Pharmacy'!BI506)","v":""},{"$f":"IF(ISBLANK('MIS - Pharmacy'!U506), \"\", 'MIS - Pharmacy'!U506)","v":""},"","","","","","","",{"$f":"IF(ISBLANK('MIS - Pharmacy'!AC506),\"\",'MIS - Pharmacy'!AC506)","v":""},"",{"$f":"IF(ISBLANK('MIS - Pharmacy'!AD506),\"\",'MIS - Pharmacy'!AD506)","v":""},"","",{"$f":"IF('MIS - Pharmacy'!A506=\"\",\"\",SUM('MIS - Pharmacy'!K506+'MIS - Pharmacy'!L506))","v":""},"",{"$f":"IF('MIS - Pharmacy'!A506=\"\",\"\",('MIS - Pharmacy'!AF506+'MIS - Pharmacy'!AH506 +'MIS - Pharmacy'!AG506))","v":""},{"$f":"IF(ISBLANK('MIS - Pharmacy'!AI506),\"\",'MIS - Pharmacy'!AI506)","v":""},"","","",{"$f":"IF(ISBLANK('MIS - Pharmacy'!V506),\"\",'MIS - Pharmacy'!V506)","v":""},"","","",{"$f":"IF(ISBLANK('MIS - Pharmacy'!J506),\"\",'MIS - Pharmacy'!J506)","v":""},{"$f":"IF(ISBLANK('MIS - Pharmacy'!AY506),\"\",'MIS - Pharmacy'!AY506)","v":""},{"$f":"IF(ISBLANK('MIS - Pharmacy'!BH506),\"\",'MIS - Pharmacy'!BH506)","v":""},"",""]
[{"$f":"IF(ISBLANK('MIS - Pharmacy'!A507), \"\",'MIS - Pharmacy'!A507)","v":""},{"$f":"IF(ISBLANK('MIS - Pharmacy'!B507),\"\",('MIS - Pharmacy'!B507&\"(\"&'MIS - Pharmacy'!D507&\")\"))","v":""},{"$f":"IF(ISBLANK('MIS - Pharmacy'!BI507), \"\", 'MIS - Pharmacy'!BI507)","v":""},{"$f":"IF(ISBLANK('MIS - Pharmacy'!U507), \"\", 'MIS - Pharmacy'!U507)","v":""},"","","","","","","",{"$f":"IF(ISBLANK('MIS - Pharmacy'!AC507),\"\",'MIS - Pharmacy'!AC507)","v":""},"",{"$f":"IF(ISBLANK('MIS - Pharmacy'!AD507),\"\",'MIS - Pharmacy'!AD507)","v":""},"","",{"$f":"IF('MIS - Pharmacy'!A507=\"\",\"\",SUM('MIS - Pharmacy'!K507+'MIS - Pharmacy'!L507))","v":""},"",{"$f":"IF('MIS - Pharmacy'!A507=\"\",\"\",('MIS - Pharmacy'!AF507+'MIS - Pharmacy'!AH507 +'MIS - Pharmacy'!AG507))","v":""},{"$f":"IF(ISBLANK('MIS - Pharmacy'!AI507),\"\",'MIS - Pharmacy'!AI507)","v":""},"","","",{"$f":"IF(ISBLANK('MIS - Pharmacy'!V507),\"\",'MIS - Pharmacy'!V507)","v":""},"","","",{"$f":"IF(ISBLANK('MIS - Pharmacy'!J507),\"\",'MIS - Pharmacy'!J507)","v":""},{"$f":"IF(ISBLANK('MIS - Pharmacy'!AY507),\"\",'MIS - Pharmacy'!AY507)","v":""},{"$f":"IF(ISBLANK('MIS - Pharmacy'!BH507),\"\",'MIS - Pharmacy'!BH507)","v":""},"",""]
[{"$f":"IF(ISBLANK('MIS - Pharmacy'!A508), \"\",'MIS - Pharmacy'!A508)","v":""},{"$f":"IF(ISBLANK('MIS - Pharmacy'!B508),\"\",('MIS - Pharmacy'!B508&\"(\"&'MIS - Pharmacy'!D508&\")\"))","v":""},{"$f":"IF(ISBLANK('MIS - Pharmacy'!BI508), \"\", 'MIS - Pharmacy'!BI508)","v":""},{"$f":"IF(ISBLANK('MIS - Pharmacy'!U508), \"\", 'MIS - Pharmacy'!U508)","v":""},"","","","","","","",{"$f":"IF(ISBLANK('MIS - Pharmacy'!AC508),\"\",'MIS - Pharmacy'!AC508)","v":""},"",{"$f":"IF(ISBLANK('MIS - Pharmacy'!AD508),\"\",'MIS - Pharmacy'!AD508)","v":""},"","",{"$f":"IF('MIS - Pharmacy'!A508=\"\",\"\",SUM('MIS - Pharmacy'!K508+'MIS - Pharmacy'!L508))","v":""},"",{"$f":"IF('MIS - Pharmacy'!A508=\"\",\"\",('MIS - Pharmacy'!AF508+'MIS - Pharmacy'!AH508 +'MIS - Pharmacy'!AG508))","v":""},{"$f":"IF(ISBLANK('MIS - Pharmacy'!AI508),\"\",'MIS - Pharmacy'!AI508)","v":""},"","","",{"$f":"IF(ISBLANK('MIS - Pharmacy'!V508),\"\",'MIS - Pharmacy'!V508)","v":""},"","","",{"$f":"IF(ISBLANK('MIS - Pharmacy'!J508),\"\",'MIS - Pharmacy'!J508)","v":""},{"$f":"IF(ISBLANK('MIS - Pharmacy'!AY508),\"\",'MIS - Pharmacy'!AY508)","v":""},{"$f":"IF(ISBLANK('MIS - Pharmacy'!BH508),\"\",'MIS - Pharmacy'!BH508)","v":""},"",""]
[{"$f":"IF(ISBLANK('MIS - Pharmacy'!A509), \"\",'MIS - Pharmacy'!A509)","v":""},{"$f":"IF(ISBLANK('MIS - Pharmacy'!B509),\"\",('MIS - Pharmacy'!B509&\"(\"&'MIS - Pharmacy'!D509&\")\"))","v":""},{"$f":"IF(ISBLANK('MIS - Pharmacy'!BI509), \"\", 'MIS - Pharmacy'!BI509)","v":""},{"$f":"IF(ISBLANK('MIS - Pharmacy'!U509), \"\", 'MIS - Pharmacy'!U509)","v":""},"","","","","","","",{"$f":"IF(ISBLANK('MIS - Pharmacy'!AC509),\"\",'MIS - Pharmacy'!AC509)","v":""},"",{"$f":"IF(ISBLANK('MIS - Pharmacy'!AD509),\"\",'MIS - Pharmacy'!AD509)","v":""},"","",{"$f":"IF('MIS - Pharmacy'!A509=\"\",\"\",SUM('MIS - Pharmacy'!K509+'MIS - Pharmacy'!L509))","v":""},"",{"$f":"IF('MIS - Pharmacy'!A509=\"\",\"\",('MIS - Pharmacy'!AF509+'MIS - Pharmacy'!AH509 +'MIS - Pharmacy'!AG509))","v":""},{"$f":"IF(ISBLANK('MIS - Pharmacy'!AI509),\"\",'MIS - Pharmacy'!AI509)","v":""},"","","",{"$f":"IF(ISBLANK('MIS - Pharmacy'!V509),\"\",'MIS - Pharmacy'!V509)","v":""},"","","",{"$f":"IF(ISBLANK('MIS - Pharmacy'!J509),\"\",'MIS - Pharmacy'!J509)","v":""},{"$f":"IF(ISBLANK('MIS - Pharmacy'!AY509),\"\",'MIS - Pharmacy'!AY509)","v":""},{"$f":"IF(ISBLANK('MIS - Pharmacy'!BH509),\"\",'MIS - Pharmacy'!BH509)","v":""},"",""]
[{"$f":"IF(ISBLANK('MIS - Pharmacy'!A510), \"\",'MIS - Pharmacy'!A510)","v":""},{"$f":"IF(ISBLANK('MIS - Pharmacy'!B510),\"\",('MIS - Pharmacy'!B510&\"(\"&'MIS - Pharmacy'!D510&\")\"))","v":""},{"$f":"IF(ISBLANK('MIS - Pharmacy'!BI510), \"\", 'MIS - Pharmacy'!BI510)","v":""},{"$f":"IF(ISBLANK('MIS - Pharmacy'!U510), \"\", 'MIS - Pharmacy'!U510)","v":""},"","","","","","","",{"$f":"IF(ISBLANK('MIS - Pharmacy'!AC510),\"\",'MIS - Pharmacy'!AC510)","v":""},"",{"$f":"IF(ISBLANK('MIS - Pharmacy'!AD510),\"\",'MIS - Pharmacy'!AD510)","v":""},"","",{"$f":"IF('MIS - Pharmacy'!A510=\"\",\"\",SUM('MIS - Pharmacy'!K510+'MIS - Pharmacy'!L510))","v":""},"",{"$f":"IF('MIS - Pharmacy'!A510=\"\",\"\",('MIS - Pharmacy'!AF510+'MIS - Pharmacy'!AH510 +'MIS - Pharmacy'!AG510))","v":""},{"$f":"IF(ISBLANK('MIS - Pharmacy'!AI510),\"\",'MIS - Pharmacy'!AI510)","v":""},"","","",{"$f":"IF(ISBLANK('MIS - Pharmacy'!V510),\"\",'MIS - Pharmacy'!V510)","v":""},"","","",{"$f":"IF(ISBLANK('MIS - Pharmacy'!J510),\"\",'MIS - Pharmacy'!J510)","v":""},{"$f":"IF(ISBLANK('MIS - Pharmacy'!AY510),\"\",'MIS - Pharmacy'!AY510)","v":""},{"$f":"IF(ISBLANK('MIS - Pharmacy'!BH510),\"\",'MIS - Pharmacy'!BH510)","v":""},"",""]
[{"$f":"IF(ISBLANK('MIS - Pharmacy'!A511), \"\",'MIS - Pharmacy'!A511)","v":""},{"$f":"IF(ISBLANK('MIS - Pharmacy'!B511),\"\",('MIS - Pharmacy'!B511&\"(\"&'MIS - Pharmacy'!D511&\")\"))","v":""},{"$f":"IF(ISBLANK('MIS - Pharmacy'!BI511), \"\", 'MIS - Pharmacy'!BI511)","v":""},{"$f":"IF(ISBLANK('MIS - Pharmacy'!U511), \"\", 'MIS - Pharmacy'!U511)","v":""},"","","","","","","",{"$f":"IF(ISBLANK('MIS - Pharmacy'!AC511),\"\",'MIS - Pharmacy'!AC511)","v":""},"",{"$f":"IF(ISBLANK('MIS - Pharmacy'!AD511),\"\",'MIS - Pharmacy'!AD511)","v":""},"","",{"$f":"IF('MIS - Pharmacy'!A511=\"\",\"\",SUM('MIS - Pharmacy'!K511+'MIS - Pharmacy'!L511))","v":""},"",{"$f":"IF('MIS - Pharmacy'!A511=\"\",\"\",('MIS - Pharmacy'!AF511+'MIS - Pharmacy'!AH511 +'MIS - Pharmacy'!AG511))","v":""},{"$f":"IF(ISBLANK('MIS - Pharmacy'!AI511),\"\",'MIS - Pharmacy'!AI511)","v":""},"","","",{"$f":"IF(ISBLANK('MIS - Pharmacy'!V511),\"\",'MIS - Pharmacy'!V511)","v":""},"","","",{"$f":"IF(ISBLANK('MIS - Pharmacy'!J511),\"\",'MIS - Pharmacy'!J511)","v":""},{"$f":"IF(ISBLANK('MIS - Pharmacy'!AY511),\"\",'MIS - Pharmacy'!AY511)","v":""},{"$f":"IF(ISBLANK('MIS - Pharmacy'!BH511),\"\",'MIS - Pharmacy'!BH511)","v":""},"",""]
[{"$f":"IF(ISBLANK('MIS - Pharmacy'!A512), \"\",'MIS - Pharmacy'!A512)","v":""},{"$f":"IF(ISBLANK('MIS - Pharmacy'!B512),\"\",('MIS - Pharmacy'!B512&\"(\"&'MIS - Pharmacy'!D512&\")\"))","v":""},{"$f":"IF(ISBLANK('MIS - Pharmacy'!BI512), \"\", 'MIS - Pharmacy'!BI512)","v":""},{"$f":"IF(ISBLANK('MIS - Pharmacy'!U512), \"\", 'MIS - Pharmacy'!U512)","v":""},"","","","","","","",{"$f":"IF(ISBLANK('MIS - Pharmacy'!AC512),\"\",'MIS - Pharmacy'!AC512)","v":""},"",{"$f":"IF(ISBLANK('MIS - Pharmacy'!AD512),\"\",'MIS - Pharmacy'!AD512)","v":""},"","",{"$f":"IF('MIS - Pharmacy'!A512=\"\",\"\",SUM('MIS - Pharmacy'!K512+'MIS - Pharmacy'!L512))","v":""},"",{"$f":"IF('MIS - Pharmacy'!A512=\"\",\"\",('MIS - Pharmacy'!AF512+'MIS - Pharmacy'!AH512 +'MIS - Pharmacy'!AG512))","v":""},{"$f":"IF(ISBLANK('MIS - Pharmacy'!AI512),\"\",'MIS - Pharmacy'!AI512)","v":""},"","","",{"$f":"IF(ISBLANK('MIS - Pharmacy'!V512),\"\",'MIS - Pharmacy'!V512)","v":""},"","","",{"$f":"IF(ISBLANK('MIS - Pharmacy'!J512),\"\",'MIS - Pharmacy'!J512)","v":""},{"$f":"IF(ISBLANK('MIS - Pharmacy'!AY512),\"\",'MIS - Pharmacy'!AY512)","v":""},{"$f":"IF(ISBLANK('MIS - Pharmacy'!BH512),\"\",'MIS - Pharmacy'!BH512)","v":""},"",""]
[{"$f":"IF(ISBLANK('MIS - Pharmacy'!A513), \"\",'MIS - Pharmacy'!A513)","v":""},{"$f":"IF(ISBLANK('MIS - Pharmacy'!B513),\"\",('MIS - Pharmacy'!B513&\"(\"&'MIS - Pharmacy'!D513&\")\"))","v":""},{"$f":"IF(ISBLANK('MIS - Pharmacy'!BI513), \"\", 'MIS - Pharmacy'!BI513)","v":""},{"$f":"IF(ISBLANK('MIS - Pharmacy'!U513), \"\", 'MIS - Pharmacy'!U513)","v":""},"","","","","","","",{"$f":"IF(ISBLANK('MIS - Pharmacy'!AC513),\"\",'MIS - Pharmacy'!AC513)","v":""},"",{"$f":"IF(ISBLANK('MIS - Pharmacy'!AD513),\"\",'MIS - Pharmacy'!AD513)","v":""},"","",{"$f":"IF('MIS - Pharmacy'!A513=\"\",\"\",SUM('MIS - Pharmacy'!K513+'MIS - Pharmacy'!L513))","v":""},"",{"$f":"IF('MIS - Pharmacy'!A513=\"\",\"\",('MIS - Pharmacy'!AF513+'MIS - Pharmacy'!AH513 +'MIS - Pharmacy'!AG513))","v":""},{"$f":"IF(ISBLANK('MIS - Pharmacy'!AI513),\"\",'MIS - Pharmacy'!AI513)","v":""},"","","",{"$f":"IF(ISBLANK('MIS - Pharmacy'!V513),\"\",'MIS - Pharmacy'!V513)","v":""},"","","",{"$f":"IF(ISBLANK('MIS - Pharmacy'!J513),\"\",'MIS - Pharmacy'!J513)","v":""},{"$f":"IF(ISBLANK('MIS - Pharmacy'!AY513),\"\",'MIS - Pharmacy'!AY513)","v":""},{"$f":"IF(ISBLANK('MIS - Pharmacy'!BH513),\"\",'MIS - Pharmacy'!BH513)","v":""},"",""]
[{"$f":"IF(ISBLANK('MIS - Pharmacy'!A514), \"\",'MIS - Pharmacy'!A514)","v":""},{"$f":"IF(ISBLANK('MIS - Pharmacy'!B514),\"\",('MIS - Pharmacy'!B514&\"(\"&'MIS - Pharmacy'!D514&\")\"))","v":""},{"$f":"IF(ISBLANK('MIS - Pharmacy'!BI514), \"\", 'MIS - Pharmacy'!BI514)","v":""},{"$f":"IF(ISBLANK('MIS - Pharmacy'!U514), \"\", 'MIS - Pharmacy'!U514)","v":""},"","","","","","","",{"$f":"IF(ISBLANK('MIS - Pharmacy'!AC514),\"\",'MIS - Pharmacy'!AC514)","v":""},"",{"$f":"IF(ISBLANK('MIS - Pharmacy'!AD514),\"\",'MIS - Pharmacy'!AD514)","v":""},"","",{"$f":"IF('MIS - Pharmacy'!A514=\"\",\"\",SUM('MIS - Pharmacy'!K514+'MIS - Pharmacy'!L514))","v":""},"",{"$f":"IF('MIS - Pharmacy'!A514=\"\",\"\",('MIS - Pharmacy'!AF514+'MIS - Pharmacy'!AH514 +'MIS - Pharmacy'!AG514))","v":""},{"$f":"IF(ISBLANK('MIS - Pharmacy'!AI514),\"\",'MIS - Pharmacy'!AI514)","v":""},"","","",{"$f":"IF(ISBLANK('MIS - Pharmacy'!V514),\"\",'MIS - Pharmacy'!V514)","v":""},"","","",{"$f":"IF(ISBLANK('MIS - Pharmacy'!J514),\"\",'MIS - Pharmacy'!J514)","v":""},{"$f":"IF(ISBLANK('MIS - Pharmacy'!AY514),\"\",'MIS - Pharmacy'!AY514)","v":""},{"$f":"IF(ISBLANK('MIS - Pharmacy'!BH514),\"\",'MIS - Pharmacy'!BH514)","v":""},"",""]
[{"$f":"IF(ISBLANK('MIS - Pharmacy'!A515), \"\",'MIS - Pharmacy'!A515)","v":""},{"$f":"IF(ISBLANK('MIS - Pharmacy'!B515),\"\",('MIS - Pharmacy'!B515&\"(\"&'MIS - Pharmacy'!D515&\")\"))","v":""},{"$f":"IF(ISBLANK('MIS - Pharmacy'!BI515), \"\", 'MIS - Pharmacy'!BI515)","v":""},{"$f":"IF(ISBLANK('MIS - Pharmacy'!U515), \"\", 'MIS - Pharmacy'!U515)","v":""},"","","","","","","",{"$f":"IF(ISBLANK('MIS - Pharmacy'!AC515),\"\",'MIS - Pharmacy'!AC515)","v":""},"",{"$f":"IF(ISBLANK('MIS - Pharmacy'!AD515),\"\",'MIS - Pharmacy'!AD515)","v":""},"","",{"$f":"IF('MIS - Pharmacy'!A515=\"\",\"\",SUM('MIS - Pharmacy'!K515+'MIS - Pharmacy'!L515))","v":""},"",{"$f":"IF('MIS - Pharmacy'!A515=\"\",\"\",('MIS - Pharmacy'!AF515+'MIS - Pharmacy'!AH515 +'MIS - Pharmacy'!AG515))","v":""},{"$f":"IF(ISBLANK('MIS - Pharmacy'!AI515),\"\",'MIS - Pharmacy'!AI515)","v":""},"","","",{"$f":"IF(ISBLANK('MIS - Pharmacy'!V515),\"\",'MIS - Pharmacy'!V515)","v":""},"","","",{"$f":"IF(ISBLANK('MIS - Pharmacy'!J515),\"\",'MIS - Pharmacy'!J515)","v":""},{"$f":"IF(ISBLANK('MIS - Pharmacy'!AY515),\"\",'MIS - Pharmacy'!AY515)","v":""},{"$f":"IF(ISBLANK('MIS - Pharmacy'!BH515),\"\",'MIS - Pharmacy'!BH515)","v":""},"",""]
[{"$f":"IF(ISBLANK('MIS - Pharmacy'!A516), \"\",'MIS - Pharmacy'!A516)","v":""},{"$f":"IF(ISBLANK('MIS - Pharmacy'!B516),\"\",('MIS - Pharmacy'!B516&\"(\"&'MIS - Pharmacy'!D516&\")\"))","v":""},{"$f":"IF(ISBLANK('MIS - Pharmacy'!BI516), \"\", 'MIS - Pharmacy'!BI516)","v":""},{"$f":"IF(ISBLANK('MIS - Pharmacy'!U516), \"\", 'MIS - Pharmacy'!U516)","v":""},"","","","","","","",{"$f":"IF(ISBLANK('MIS - Pharmacy'!AC516),\"\",'MIS - Pharmacy'!AC516)","v":""},"",{"$f":"IF(ISBLANK('MIS - Pharmacy'!AD516),\"\",'MIS - Pharmacy'!AD516)","v":""},"","",{"$f":"IF('MIS - Pharmacy'!A516=\"\",\"\",SUM('MIS - Pharmacy'!K516+'MIS - Pharmacy'!L516))","v":""},"",{"$f":"IF('MIS - Pharmacy'!A516=\"\",\"\",('MIS - Pharmacy'!AF516+'MIS - Pharmacy'!AH516 +'MIS - Pharmacy'!AG516))","v":""},{"$f":"IF(ISBLANK('MIS - Pharmacy'!AI516),\"\",'MIS - Pharmacy'!AI516)","v":""},"","","",{"$f":"IF(ISBLANK('MIS - Pharmacy'!V516),\"\",'MIS - Pharmacy'!V516)","v":""},"","","",{"$f":"IF(ISBLANK('MIS - Pharmacy'!J516),\"\",'MIS - Pharmacy'!J516)","v":""},{"$f":"IF(ISBLANK('MIS - Pharmacy'!AY516),\"\",'MIS - Pharmacy'!AY516)","v":""},{"$f":"IF(ISBLANK('MIS - Pharmacy'!BH516),\"\",'MIS - Pharmacy'!BH516)","v":""},"",""]
[{"$f":"IF(ISBLANK('MIS - Pharmacy'!A517), \"\",'MIS - Pharmacy'!A517)","v":""},{"$f":"IF(ISBLANK('MIS - Pharmacy'!B517),\"\",('MIS - Pharmacy'!B517&\"(\"&'MIS - Pharmacy'!D517&\")\"))","v":""},{"$f":"IF(ISBLANK('MIS - Pharmacy'!BI517), \"\", 'MIS - Pharmacy'!BI517)","v":""},{"$f":"IF(ISBLANK('MIS - Pharmacy'!U517), \"\", 'MIS - Pharmacy'!U517)","v":""},"","","",{"$f":"IF(D526=\"\",\"\",IF(X526=0,0,D526/Y526))","v":""},"","","",{"$f":"IF(ISBLANK('MIS - Pharmacy'!AC517),\"\",'MIS - Pharmacy'!AC517)","v":""},"",{"$f":"IF(ISBLANK('MIS - Pharmacy'!AD517),\"\",'MIS - Pharmacy'!AD517)","v":""},"","",{"$f":"IF('MIS - Pharmacy'!A517=\"\",\"\",SUM('MIS - Pharmacy'!K517+'MIS - Pharmacy'!L517))","v":""},"",{"$f":"IF('MIS - Pharmacy'!A517=\"\",\"\",('MIS - Pharmacy'!AF517+'MIS - Pharmacy'!AH517 +'MIS - Pharmacy'!AG517))","v":""},{"$f":"IF(ISBLANK('MIS - Pharmacy'!AI517),\"\",'MIS - Pharmacy'!AI517)","v":""},"","","",{"$f":"IF(ISBLANK('MIS - Pharmacy'!V517),\"\",'MIS - Pharmacy'!V517)","v":""},"","","",{"$f":"IF(ISBLANK('MIS - Pharmacy'!J517),\"\",'MIS - Pharmacy'!J517)","v":""},{"$f":"IF(ISBLANK('MIS - Pharmacy'!AY517),\"\",'MIS - Pharmacy'!AY517)","v":""},{"$f":"IF(ISBLANK('MIS - Pharmacy'!BH517),\"\",'MIS - Pharmacy'!BH517)","v":""},"",""]
[{"$f":"IF(ISBLANK('MIS - Pharmacy'!A518), \"\",'MIS - Pharmacy'!A518)","v":""},{"$f":"IF(ISBLANK('MIS - Pharmacy'!B518),\"\",('MIS - Pharmacy'!B518&\"(\"&'MIS - Pharmacy'!D518&\")\"))","v":""},{"$f":"IF(ISBLANK('MIS - Pharmacy'!BI518), \"\", 'MIS - Pharmacy'!BI518)","v":""},{"$f":"IF(ISBLANK('MIS - Pharmacy'!U518), \"\", 'MIS - Pharmacy'!U518)","v":""},"","","","","","","",{"$f":"IF(ISBLANK('MIS - Pharmacy'!AC518),\"\",'MIS - Pharmacy'!AC518)","v":""},"",{"$f":"IF(ISBLANK('MIS - Pharmacy'!AD518),\"\",'MIS - Pharmacy'!AD518)","v":""},"","",{"$f":"IF('MIS - Pharmacy'!A518=\"\",\"\",SUM('MIS - Pharmacy'!K518+'MIS - Pharmacy'!L518))","v":""},"",{"$f":"IF('MIS - Pharmacy'!A518=\"\",\"\",('MIS - Pharmacy'!AF518+'MIS - Pharmacy'!AH518 +'MIS - Pharmacy'!AG518))","v":""},{"$f":"IF(ISBLANK('MIS - Pharmacy'!AI518),\"\",'MIS - Pharmacy'!AI518)","v":""},"","","",{"$f":"IF(ISBLANK('MIS - Pharmacy'!V518),\"\",'MIS - Pharmacy'!V518)","v":""},"","","",{"$f":"IF(ISBLANK('MIS - Pharmacy'!J518),\"\",'MIS - Pharmacy'!J518)","v":""},{"$f":"IF(ISBLANK('MIS - Pharmacy'!AY518),\"\",'MIS - Pharmacy'!AY518)","v":""},{"$f":"IF(ISBLANK('MIS - Pharmacy'!BH518),\"\",'MIS - Pharmacy'!BH518)","v":""},"",""]
[{"$f":"IF(ISBLANK('MIS - Pharmacy'!A519), \"\",'MIS - Pharmacy'!A519)","v":""},{"$f":"IF(ISBLANK('MIS - Pharmacy'!B519),\"\",('MIS - Pharmacy'!B519&\"(\"&'MIS - Pharmacy'!D519&\")\"))","v":""},{"$f":"IF(ISBLANK('MIS - Pharmacy'!BI519), \"\", 'MIS - Pharmacy'!BI519)","v":""},{"$f":"IF(ISBLANK('MIS - Pharmacy'!U519), \"\", 'MIS - Pharmacy'!U519)","v":""},"","","","","","","",{"$f":"IF(ISBLANK('MIS - Pharmacy'!AC519),\"\",'MIS - Pharmacy'!AC519)","v":""},"",{"$f":"IF(ISBLANK('MIS - Pharmacy'!AD519),\"\",'MIS - Pharmacy'!AD519)","v":""},"","",{"$f":"IF('MIS - Pharmacy'!A519=\"\",\"\",SUM('MIS - Pharmacy'!K519+'MIS - Pharmacy'!L519))","v":""},"",{"$f":"IF('MIS - Pharmacy'!A519=\"\",\"\",('MIS - Pharmacy'!AF519+'MIS - Pharmacy'!AH519 +'MIS - Pharmacy'!AG519))","v":""},{"$f":"IF(ISBLANK('MIS - Pharmacy'!AI519),\"\",'MIS - Pharmacy'!AI519)","v":""},"","","",{"$f":"IF(ISBLANK('MIS - Pharmacy'!V519),\"\",'MIS - Pharmacy'!V519)","v":""},"","","",{"$f":"IF(ISBLANK('MIS - Pharmacy'!J519),\"\",'MIS - Pharmacy'!J519)","v":""},{"$f":"IF(ISBLANK('MIS - Pharmacy'!AY519),\"\",'MIS - Pharmacy'!AY519)","v":""},{"$f":"IF(ISBLANK('MIS - Pharmacy'!BH519),\"\",'MIS - Pharmacy'!BH519)","v":""},"",""]
[{"$f":"IF(ISBLANK('MIS - Pharmacy'!A520), \"\",'MIS - Pharmacy'!A520)","v":""},{"$f":"IF(ISBLANK('MIS - Pharmacy'!B520),\"\",('MIS - Pharmacy'!B520&\"(\"&'MIS - Pharmacy'!D520&\")\"))","v":""},{"$f":"IF(ISBLANK('MIS - Pharmacy'!BI520), \"\", 'MIS - Pharmacy'!BI520)","v":""},{"$f":"IF(ISBLANK('MIS - Pharmacy'!U520), \"\", 'MIS - Pharmacy'!U520)","v":""},"","","","","","","",{"$f":"IF(ISBLANK('MIS - Pharmacy'!AC520),\"\",'MIS - Pharmacy'!AC520)","v":""},"",{"$f":"IF(ISBLANK('MIS - Pharmacy'!AD520),\"\",'MIS - Pharmacy'!AD520)","v":""},"","",{"$f":"IF('MIS - Pharmacy'!A520=\"\",\"\",SUM('MIS - Pharmacy'!K520+'MIS - Pharmacy'!L520))","v":""},"",{"$f":"IF('MIS - Pharmacy'!A520=\"\",\"\",('MIS - Pharmacy'!AF520+'MIS - Pharmacy'!AH520 +'MIS - Pharmacy'!AG520))","v":""},{"$f":"IF(ISBLANK('MIS - Pharmacy'!AI520),\"\",'MIS - Pharmacy'!AI520)","v":""},"","","",{"$f":"IF(ISBLANK('MIS - Pharmacy'!V520),\"\",'MIS - Pharmacy'!V520)","v":""},"","","",{"$f":"IF(ISBLANK('MIS - Pharmacy'!J520),\"\",'MIS - Pharmacy'!J520)","v":""},{"$f":"IF(ISBLANK('MIS - Pharmacy'!AY520),\"\",'MIS - Pharmacy'!AY520)","v":""},{"$f":"IF(ISBLANK('MIS - Pharmacy'!BH520),\"\",'MIS - Pharmacy'!BH520)","v":""},"",""]
[{"$f":"IF(ISBLANK('MIS - Pharmacy'!A521), \"\",'MIS - Pharmacy'!A521)","v":""},{"$f":"IF(ISBLANK('MIS - Pharmacy'!B521),\"\",('MIS - Pharmacy'!B521&\"(\"&'MIS - Pharmacy'!D521&\")\"))","v":""},{"$f":"IF(ISBLANK('MIS - Pharmacy'!BI521), \"\", 'MIS - Pharmacy'!BI521)","v":""},{"$f":"IF(ISBLANK('MIS - Pharmacy'!U521), \"\", 'MIS - Pharmacy'!U521)","v":""},"","","","","","","",{"$f":"IF(ISBLANK('MIS - Pharmacy'!AC521),\"\",'MIS - Pharmacy'!AC521)","v":""},"",{"$f":"IF(ISBLANK('MIS - Pharmacy'!AD521),\"\",'MIS - Pharmacy'!AD521)","v":""},"","",{"$f":"IF('MIS - Pharmacy'!A521=\"\",\"\",SUM('MIS - Pharmacy'!K521+'MIS - Pharmacy'!L521))","v":""},"",{"$f":"IF('MIS - Pharmacy'!A521=\"\",\"\",('MIS - Pharmacy'!AF521+'MIS - Pharmacy'!AH521 +'MIS - Pharmacy'!AG521))","v":""},{"$f":"IF(ISBLANK('MIS - Pharmacy'!AI521),\"\",'MIS - Pharmacy'!AI521)","v":""},"","","",{"$f":"IF(ISBLANK('MIS - Pharmacy'!V521),\"\",'MIS - Pharmacy'!V521)","v":""},"","","",{"$f":"IF(ISBLANK('MIS - Pharmacy'!J521),\"\",'MIS - Pharmacy'!J521)","v":""},{"$f":"IF(ISBLANK('MIS - Pharmacy'!AY521),\"\",'MIS - Pharmacy'!AY521)","v":""},{"$f":"IF(ISBLANK('MIS - Pharmacy'!BH521),\"\",'MIS - Pharmacy'!BH521)","v":""},"",""]
[{"$f":"IF(ISBLANK('MIS - Pharmacy'!A522), \"\",'MIS - Pharmacy'!A522)","v":""},{"$f":"IF(ISBLANK('MIS - Pharmacy'!B522),\"\",('MIS - Pharmacy'!B522&\"(\"&'MIS - Pharmacy'!D522&\")\"))","v":""},{"$f":"IF(ISBLANK('MIS - Pharmacy'!BI522), \"\", 'MIS - Pharmacy'!BI522)","v":""},{"$f":"IF(ISBLANK('MIS - Pharmacy'!U522), \"\", 'MIS - Pharmacy'!U522)","v":""},"","","","","","","",{"$f":"IF(ISBLANK('MIS - Pharmacy'!AC522),\"\",'MIS - Pharmacy'!AC522)","v":""},"",{"$f":"IF(ISBLANK('MIS - Pharmacy'!AD522),\"\",'MIS - Pharmacy'!AD522)","v":""},"","",{"$f":"IF('MIS - Pharmacy'!A522=\"\",\"\",SUM('MIS - Pharmacy'!K522+'MIS - Pharmacy'!L522))","v":""},"",{"$f":"IF('MIS - Pharmacy'!A522=\"\",\"\",('MIS - Pharmacy'!AF522+'MIS - Pharmacy'!AH522 +'MIS - Pharmacy'!AG522))","v":""},{"$f":"IF(ISBLANK('MIS - Pharmacy'!AI522),\"\",'MIS - Pharmacy'!AI522)","v":""},"","","",{"$f":"IF(ISBLANK('MIS - Pharmacy'!V522),\"\",'MIS - Pharmacy'!V522)","v":""},"","","",{"$f":"IF(ISBLANK('MIS - Pharmacy'!J522),\"\",'MIS - Pharmacy'!J522)","v":""},{"$f":"IF(ISBLANK('MIS - Pharmacy'!AY522),\"\",'MIS - Pharmacy'!AY522)","v":""},{"$f":"IF(ISBLANK('MIS - Pharmacy'!BH522),\"\",'MIS - Pharmacy'!BH522)","v":""},"",""]
[{"$f":"IF(ISBLANK('MIS - Pharmacy'!A523), \"\",'MIS - Pharmacy'!A523)","v":""},{"$f":"IF(ISBLANK('MIS - Pharmacy'!B523),\"\",('MIS - Pharmacy'!B523&\"(\"&'MIS - Pharmacy'!D523&\")\"))","v":""},{"$f":"IF(ISBLANK('MIS - Pharmacy'!BI523), \"\", 'MIS - Pharmacy'!BI523)","v":""},{"$f":"IF(ISBLANK('MIS - Pharmacy'!U523), \"\", 'MIS - Pharmacy'!U523)","v":""},"","","","","","","",{"$f":"IF(ISBLANK('MIS - Pharmacy'!AC523),\"\",'MIS - Pharmacy'!AC523)","v":""},"",{"$f":"IF(ISBLANK('MIS - Pharmacy'!AD523),\"\",'MIS - Pharmacy'!AD523)","v":""},"","",{"$f":"IF('MIS - Pharmacy'!A523=\"\",\"\",SUM('MIS - Pharmacy'!K523+'MIS - Pharmacy'!L523))","v":""},"",{"$f":"IF('MIS - Pharmacy'!A523=\"\",\"\",('MIS - Pharmacy'!AF523+'MIS - Pharmacy'!AH523 +'MIS - Pharmacy'!AG523))","v":""},{"$f":"IF(ISBLANK('MIS - Pharmacy'!AI523),\"\",'MIS - Pharmacy'!AI523)","v":""},"","","",{"$f":"IF(ISBLANK('MIS - Pharmacy'!V523),\"\",'MIS - Pharmacy'!V523)","v":""},"","","",{"$f":"IF(ISBLANK('MIS - Pharmacy'!J523),\"\",'MIS - Pharmacy'!J523)","v":""},{"$f":"IF(ISBLANK('MIS - Pharmacy'!AY523),\"\",'MIS - Pharmacy'!AY523)","v":""},{"$f":"IF(ISBLANK('MIS - Pharmacy'!BH523),\"\",'MIS - Pharmacy'!BH523)","v":""},"",""]
[{"$f":"IF(ISBLANK('MIS - Pharmacy'!A524), \"\",'MIS - Pharmacy'!A524)","v":""},{"$f":"IF(ISBLANK('MIS - Pharmacy'!B524),\"\",('MIS - Pharmacy'!B524&\"(\"&'MIS - Pharmacy'!D524&\")\"))","v":""},{"$f":"IF(ISBLANK('MIS - Pharmacy'!BI524), \"\", 'MIS - Pharmacy'!BI524)","v":""},{"$f":"IF(ISBLANK('MIS - Pharmacy'!U524), \"\", 'MIS - Pharmacy'!U524)","v":""},"","","","","","","",{"$f":"IF(ISBLANK('MIS - Pharmacy'!AC524),\"\",'MIS - Pharmacy'!AC524)","v":""},"",{"$f":"IF(ISBLANK('MIS - Pharmacy'!AD524),\"\",'MIS - Pharmacy'!AD524)","v":""},"","",{"$f":"IF('MIS - Pharmacy'!A524=\"\",\"\",SUM('MIS - Pharmacy'!K524+'MIS - Pharmacy'!L524))","v":""},"",{"$f":"IF('MIS - Pharmacy'!A524=\"\",\"\",('MIS - Pharmacy'!AF524+'MIS - Pharmacy'!AH524 +'MIS - Pharmacy'!AG524))","v":""},{"$f":"IF(ISBLANK('MIS - Pharmacy'!AI524),\"\",'MIS - Pharmacy'!AI524)","v":""},"","","",{"$f":"IF(ISBLANK('MIS - Pharmacy'!V524),\"\",'MIS - Pharmacy'!V524)","v":""},"","","",{"$f":"IF(ISBLANK('MIS - Pharmacy'!J524),\"\",'MIS - Pharmacy'!J524)","v":""},{"$f":"IF(ISBLANK('MIS - Pharmacy'!AY524),\"\",'MIS - Pharmacy'!AY524)","v":""},{"$f":"IF(ISBLANK('MIS - Pharmacy'!BH524),\"\",'MIS - Pharmacy'!BH524)","v":""},"",""]
[{"$f":"IF(ISBLANK('MIS - Pharmacy'!A525), \"\",'MIS - Pharmacy'!A525)","v":""},{"$f":"IF(ISBLANK('MIS - Pharmacy'!B525),\"\",('MIS - Pharmacy'!B525&\"(\"&'MIS - Pharmacy'!D525&\")\"))","v":""},{"$f":"IF(ISBLANK('MIS - Pharmacy'!BI525), \"\", 'MIS - Pharmacy'!BI525)","v":""},{"$f":"IF(ISBLANK('MIS - Pharmacy'!U525), \"\", 'MIS - Pharmacy'!U525)","v":""},"","","","","","","",{"$f":"IF(ISBLANK('MIS - Pharmacy'!AC525),\"\",'MIS - Pharmacy'!AC525)","v":""},"",{"$f":"IF(ISBLANK('MIS - Pharmacy'!AD525),\"\",'MIS - Pharmacy'!AD525)","v":""},"","",{"$f":"IF('MIS - Pharmacy'!A525=\"\",\"\",SUM('MIS - Pharmacy'!K525+'MIS - Pharmacy'!L525))","v":""},"",{"$f":"IF('MIS - Pharmacy'!A525=\"\",\"\",('MIS - Pharmacy'!AF525+'MIS - Pharmacy'!AH525 +'MIS - Pharmacy'!AG525))","v":""},{"$f":"IF(ISBLANK('MIS - Pharmacy'!AI525),\"\",'MIS - Pharmacy'!AI525)","v":""},"","","",{"$f":"IF(ISBLANK('MIS - Pharmacy'!V525),\"\",'MIS - Pharmacy'!V525)","v":""},"","","",{"$f":"IF(ISBLANK('MIS - Pharmacy'!J525),\"\",'MIS - Pharmacy'!J525)","v":""},{"$f":"IF(ISBLANK('MIS - Pharmacy'!AY525),\"\",'MIS - Pharmacy'!AY525)","v":""},{"$f":"IF(ISBLANK('MIS - Pharmacy'!BH525),\"\",'MIS - Pharmacy'!BH525)","v":""},"",""]
[{"$f":"IF(ISBLANK('MIS - Pharmacy'!A526), \"\",'MIS - Pharmacy'!A526)","v":""},{"$f":"IF(ISBLANK('MIS - Pharmacy'!B526),\"\",('MIS - Pharmacy'!B526&\"(\"&'MIS - Pharmacy'!D526&\")\"))","v":""},{"$f":"IF(ISBLANK('MIS - Pharmacy'!BI526), \"\", 'MIS - Pharmacy'!BI526)","v":""},{"$f":"IF(ISBLANK('MIS - Pharmacy'!U526), \"\", 'MIS - Pharmacy'!U526)","v":""},"","","","","","","",{"$f":"IF(ISBLANK('MIS - Pharmacy'!AC526),\"\",'MIS - Pharmacy'!AC526)","v":""},"",{"$f":"IF(ISBLANK('MIS - Pharmacy'!AD526),\"\",'MIS - Pharmacy'!AD526)","v":""},"","",{"$f":"IF('MIS - Pharmacy'!A526=\"\",\"\",SUM('MIS - Pharmacy'!K526+'MIS - Pharmacy'!L526))","v":""},"",{"$f":"IF('MIS - Pharmacy'!A526=\"\",\"\",('MIS - Pharmacy'!AF526+'MIS - Pharmacy'!AH526 +'MIS - Pharmacy'!AG526))","v":""},{"$f":"IF(ISBLANK('MIS - Pharmacy'!AI526),\"\",'MIS - Pharmacy'!AI526)","v":""},"","","",{"$f":"IF(ISBLANK('MIS - Pharmacy'!V526),\"\",'MIS - Pharmacy'!V526)","v":""},"","","",{"$f":"IF(ISBLANK('MIS - Pharmacy'!J526),\"\",'MIS - Pharmacy'!J526)","v":""},{"$f":"IF(ISBLANK('MIS - Pharmacy'!AY526),\"\",'MIS - Pharmacy'!AY526)","v":""},{"$f":"IF(ISBLANK('MIS - Pharmacy'!BH526),\"\",'MIS - Pharmacy'!BH526)","v":""},"",""]
[{"$f":"IF(ISBLANK('MIS - Pharmacy'!A527), \"\",'MIS - Pharmacy'!A527)","v":""},{"$f":"IF(ISBLANK('MIS - Pharmacy'!B527),\"\",('MIS - Pharmacy'!B527&\"(\"&'MIS - Pharmacy'!D527&\")\"))","v":""},{"$f":"IF(ISBLANK('MIS - Pharmacy'!BI527), \"\", 'MIS - Pharmacy'!BI527)","v":""},{"$f":"IF(ISBLANK('MIS - Pharmacy'!U527), \"\", 'MIS - Pharmacy'!U527)","v":""},{"$f":"IF(D536=\"\",\"\",IF(D536<=D$9,\"Lower Outlier\",IF(D536<=D$5,\"Below Average\",IF(D536<=D$6,\"Lower Quartile Range\",IF(D536<=D$7,\"Upper Quartile Range\",IF(D536<=D$10,\"Above Average\",\"Upper Outlier\"))))))","v":""},{"$f":"IF(D536=\"\",\"\",D536*12)","v":""},{"$f":"IF(Q536=\"\",\"\",IF(Q536 = 0, 0, D536/Q536*1000))","v":""},"",{"$f":"IF(A536=\"\",\"\",IF(D536=0,0,(D536*0.3)/Y536))","v":""},{"$f":"IF(D536=0,0,IF(D536=\"\",\"\",D536/Q536))","v":""},{"$f":"IF(D536=0,0,IF(D536=\"\",\"\",D536/X536))","v":""},{"$f":"IF(ISBLANK('MIS - Pharmacy'!AC527),\"\",'MIS - Pharmacy'!AC527)","v":""},{"$f":"IF(L536=\"\",\"\",IF(L536<=L$9,\"Lower Outlier\",IF(L536<=L$5,\"Below Average\",IF(L536<=L$6,\"Lower Quartile Range\",IF(L536<=L$7,\"Upper Quartile Range\",IF(L536<=L$10,\"Above Average\",\"Upper Outlier\"))))))","v":""},{"$f":"IF(ISBLANK('MIS - Pharmacy'!AD527),\"\",'MIS - Pharmacy'!AD527)","v":""},{"$f":"IF(N536=\"\",\"\",IF(N536=0,0,L536/N536*1000))","v":""},{"$f":"IF(L536=\"\",\"\",IF(X536=0,0,L536/X536))","v":""},{"$f":"IF('MIS - Pharmacy'!A527=\"\",\"\",SUM('MIS - Pharmacy'!K527+'MIS - Pharmacy'!L527))","v":""},{"$f":"IF(Q536=\"\",\"\",IF(Q536<=Q$9,\"Lower Outlier\",IF(Q536<=Q$5,\"Below Average\",IF(Q536<=Q$6,\"Lower Quartile Range\",IF(Q536<=Q$7,\"Upper Quartile Range\",IF(Q536<=Q$10,\"Above Average\",\"Upper Outlier\"))))))","v":""},{"$f":"IF('MIS - Pharmacy'!A527=\"\",\"\",('MIS - Pharmacy'!AF527+'MIS - Pharmacy'!AH527 +'MIS - Pharmacy'!AG527))","v":""},{"$f":"IF(ISBLANK('MIS - Pharmacy'!AI527),\"\",'MIS - Pharmacy'!AI527)","v":""},{"$f":"IF(T536=\"\",\"\",IF(T536<=T$9,\"Lower Outlier\",IF(T536<=T$5,\"Below Average\",IF(T536<=T$6,\"Lower Quartile Range\",IF(T536<=T$7,\"Upper Quartile Range\",IF(T536<=T$10,\"Above Average\",\"Upper Outlier\"))))))","v":""},{"$f":"IF(A536=\"\",\"\",IF(T536=0,0,T536/Q536*1000))","v":""},{"$f":"IF(V536=\"\",\"\",IF(S536 >0,(T536/S536*1000),0))","v":""},{"$f":"IF(ISBLANK('MIS - Pharmacy'!V527),\"\",'MIS - Pharmacy'!V527)","v":""},{"$f":"IF(X536=\"\",\"\",(X536/7)*$Y$3)","v":""},{"$f":"IF(X536=\"\",\"\",IF(X536<=X$9,\"Lower Outlier\",IF(X536<=X$5,\"Below Average\",IF(X536<=X$6,\"Lower Quartile Range\",IF(X536<=X$7,\"Upper Quartile Range\",IF(X536<=X$10,\"Above Average\",\"Upper Outlier\"))))))","v":""},{"$f":"IF(A536=\"\",\"\",IF(X536=0,0,Y536/Q536*1000))","v":""},{"$f":"IF(ISBLANK('MIS - Pharmacy'!J527),\"\",'MIS - Pharmacy'!J527)","v":""},{"$f":"IF(ISBLANK('MIS - Pharmacy'!AY527),\"\",'MIS - Pharmacy'!AY527)","v":""},{"$f":"IF(ISBLANK('MIS - Pharmacy'!BH527),\"\",'MIS - Pharmacy'!BH527)","v":""},{"$f":"IF(A536=\"\",\"\",D536+L536)","v":""},{"$f":"IF(A536=\"\",\"\",IF(Y536=0,0,(AE536/Y536)*100))","v":""}]
[{"$f":"IF(ISBLANK('MIS - Pharmacy'!A528), \"\",'MIS - Pharmacy'!A528)","v":""},{"$f":"IF(ISBLANK('MIS - Pharmacy'!B528),\"\",('MIS - Pharmacy'!B528&\"(\"&'MIS - Pharmacy'!D528&\")\"))","v":""},{"$f":"IF(ISBLANK('MIS - Pharmacy'!BI528), \"\", 'MIS - Pharmacy'!BI528)","v":""},{"$f":"IF(ISBLANK('MIS - Pharmacy'!U528), \"\", 'MIS - Pharmacy'!U528)","v":""},"","","","","","","",{"$f":"IF(ISBLANK('MIS - Pharmacy'!AC528),\"\",'MIS - Pharmacy'!AC528)","v":""},"",{"$f":"IF(ISBLANK('MIS - Pharmacy'!AD528),\"\",'MIS - Pharmacy'!AD528)","v":""},"","",{"$f":"IF('MIS - Pharmacy'!A528=\"\",\"\",SUM('MIS - Pharmacy'!K528+'MIS - Pharmacy'!L528))","v":""},"",{"$f":"IF('MIS - Pharmacy'!A528=\"\",\"\",('MIS - Pharmacy'!AF528+'MIS - Pharmacy'!AH528 +'MIS - Pharmacy'!AG528))","v":""},{"$f":"IF(ISBLANK('MIS - Pharmacy'!AI528),\"\",'MIS - Pharmacy'!AI528)","v":""},"","","",{"$f":"IF(ISBLANK('MIS - Pharmacy'!V528),\"\",'MIS - Pharmacy'!V528)","v":""},"","","",{"$f":"IF(ISBLANK('MIS - Pharmacy'!J528),\"\",'MIS - Pharmacy'!J528)","v":""},{"$f":"IF(ISBLANK('MIS - Pharmacy'!AY528),\"\",'MIS - Pharmacy'!AY528)","v":""},{"$f":"IF(ISBLANK('MIS - Pharmacy'!BH528),\"\",'MIS - Pharmacy'!BH528)","v":""},"",""]
[{"$f":"IF(ISBLANK('MIS - Pharmacy'!A529), \"\",'MIS - Pharmacy'!A529)","v":""},{"$f":"IF(ISBLANK('MIS - Pharmacy'!B529),\"\",('MIS - Pharmacy'!B529&\"(\"&'MIS - Pharmacy'!D529&\")\"))","v":""},{"$f":"IF(ISBLANK('MIS - Pharmacy'!BI529), \"\", 'MIS - Pharmacy'!BI529)","v":""},{"$f":"IF(ISBLANK('MIS - Pharmacy'!U529), \"\", 'MIS - Pharmacy'!U529)","v":""},"","","","","","","",{"$f":"IF(ISBLANK('MIS - Pharmacy'!AC529),\"\",'MIS - Pharmacy'!AC529)","v":""},"",{"$f":"IF(ISBLANK('MIS - Pharmacy'!AD529),\"\",'MIS - Pharmacy'!AD529)","v":""},"","",{"$f":"IF('MIS - Pharmacy'!A529=\"\",\"\",SUM('MIS - Pharmacy'!K529+'MIS - Pharmacy'!L529))","v":""},"",{"$f":"IF('MIS - Pharmacy'!A529=\"\",\"\",('MIS - Pharmacy'!AF529+'MIS - Pharmacy'!AH529 +'MIS - Pharmacy'!AG529))","v":""},{"$f":"IF(ISBLANK('MIS - Pharmacy'!AI529),\"\",'MIS - Pharmacy'!AI529)","v":""},"","","",{"$f":"IF(ISBLANK('MIS - Pharmacy'!V529),\"\",'MIS - Pharmacy'!V529)","v":""},"","","",{"$f":"IF(ISBLANK('MIS - Pharmacy'!J529),\"\",'MIS - Pharmacy'!J529)","v":""},{"$f":"IF(ISBLANK('MIS - Pharmacy'!AY529),\"\",'MIS - Pharmacy'!AY529)","v":""},{"$f":"IF(ISBLANK('MIS - Pharmacy'!BH529),\"\",'MIS - Pharmacy'!BH529)","v":""},"",""]
[{"$f":"IF(ISBLANK('MIS - Pharmacy'!A530), \"\",'MIS - Pharmacy'!A530)","v":""},{"$f":"IF(ISBLANK('MIS - Pharmacy'!B530),\"\",('MIS - Pharmacy'!B530&\"(\"&'MIS - Pharmacy'!D530&\")\"))","v":""},{"$f":"IF(ISBLANK('MIS - Pharmacy'!BI530), \"\", 'MIS - Pharmacy'!BI530)","v":""},{"$f":"IF(ISBLANK('MIS - Pharmacy'!U530), \"\", 'MIS - Pharmacy'!U530)","v":""},"","","","","","","",{"$f":"IF(ISBLANK('MIS - Pharmacy'!AC530),\"\",'MIS - Pharmacy'!AC530)","v":""},"",{"$f":"IF(ISBLANK('MIS - Pharmacy'!AD530),\"\",'MIS - Pharmacy'!AD530)","v":""},"","",{"$f":"IF('MIS - Pharmacy'!A530=\"\",\"\",SUM('MIS - Pharmacy'!K530+'MIS - Pharmacy'!L530))","v":""},"",{"$f":"IF('MIS - Pharmacy'!A530=\"\",\"\",('MIS - Pharmacy'!AF530+'MIS - Pharmacy'!AH530 +'MIS - Pharmacy'!AG530))","v":""},{"$f":"IF(ISBLANK('MIS - Pharmacy'!AI530),\"\",'MIS - Pharmacy'!AI530)","v":""},"","","",{"$f":"IF(ISBLANK('MIS - Pharmacy'!V530),\"\",'MIS - Pharmacy'!V530)","v":""},"","","",{"$f":"IF(ISBLANK('MIS - Pharmacy'!J530),\"\",'MIS - Pharmacy'!J530)","v":""},{"$f":"IF(ISBLANK('MIS - Pharmacy'!AY530),\"\",'MIS - Pharmacy'!AY530)","v":""},{"$f":"IF(ISBLANK('MIS - Pharmacy'!BH530),\"\",'MIS - Pharmacy'!BH530)","v":""},"",""]
[{"$f":"IF(ISBLANK('MIS - Pharmacy'!A531), \"\",'MIS - Pharmacy'!A531)","v":""},{"$f":"IF(ISBLANK('MIS - Pharmacy'!B531),\"\",('MIS - Pharmacy'!B531&\"(\"&'MIS - Pharmacy'!D531&\")\"))","v":""},{"$f":"IF(ISBLANK('MIS - Pharmacy'!BI531), \"\", 'MIS - Pharmacy'!BI531)","v":""},{"$f":"IF(ISBLANK('MIS - Pharmacy'!U531), \"\", 'MIS - Pharmacy'!U531)","v":""},"","","","","","","",{"$f":"IF(ISBLANK('MIS - Pharmacy'!AC531),\"\",'MIS - Pharmacy'!AC531)","v":""},"",{"$f":"IF(ISBLANK('MIS - Pharmacy'!AD531),\"\",'MIS - Pharmacy'!AD531)","v":""},"","",{"$f":"IF('MIS - Pharmacy'!A531=\"\",\"\",SUM('MIS - Pharmacy'!K531+'MIS - Pharmacy'!L531))","v":""},"",{"$f":"IF('MIS - Pharmacy'!A531=\"\",\"\",('MIS - Pharmacy'!AF531+'MIS - Pharmacy'!AH531 +'MIS - Pharmacy'!AG531))","v":""},{"$f":"IF(ISBLANK('MIS - Pharmacy'!AI531),\"\",'MIS - Pharmacy'!AI531)","v":""},"","","",{"$f":"IF(ISBLANK('MIS - Pharmacy'!V531),\"\",'MIS - Pharmacy'!V531)","v":""},"","","",{"$f":"IF(ISBLANK('MIS - Pharmacy'!J531),\"\",'MIS - Pharmacy'!J531)","v":""},{"$f":"IF(ISBLANK('MIS - Pharmacy'!AY531),\"\",'MIS - Pharmacy'!AY531)","v":""},{"$f":"IF(ISBLANK('MIS - Pharmacy'!BH531),\"\",'MIS - Pharmacy'!BH531)","v":""},"",""]
[{"$f":"IF(ISBLANK('MIS - Pharmacy'!A532), \"\",'MIS - Pharmacy'!A532)","v":""},{"$f":"IF(ISBLANK('MIS - Pharmacy'!B532),\"\",('MIS - Pharmacy'!B532&\"(\"&'MIS - Pharmacy'!D532&\")\"))","v":""},{"$f":"IF(ISBLANK('MIS - Pharmacy'!BI532), \"\", 'MIS - Pharmacy'!BI532)","v":""},{"$f":"IF(ISBLANK('MIS - Pharmacy'!U532), \"\", 'MIS - Pharmacy'!U532)","v":""},"","","","","","","",{"$f":"IF(ISBLANK('MIS - Pharmacy'!AC532),\"\",'MIS - Pharmacy'!AC532)","v":""},"",{"$f":"IF(ISBLANK('MIS - Pharmacy'!AD532),\"\",'MIS - Pharmacy'!AD532)","v":""},"","",{"$f":"IF('MIS - Pharmacy'!A532=\"\",\"\",SUM('MIS - Pharmacy'!K532+'MIS - Pharmacy'!L532))","v":""},"",{"$f":"IF('MIS - Pharmacy'!A532=\"\",\"\",('MIS - Pharmacy'!AF532+'MIS - Pharmacy'!AH532 +'MIS - Pharmacy'!AG532))","v":""},{"$f":"IF(ISBLANK('MIS - Pharmacy'!AI532),\"\",'MIS - Pharmacy'!AI532)","v":""},"","","",{"$f":"IF(ISBLANK('MIS - Pharmacy'!V532),\"\",'MIS - Pharmacy'!V532)","v":""},"","","",{"$f":"IF(ISBLANK('MIS - Pharmacy'!J532),\"\",'MIS - Pharmacy'!J532)","v":""},{"$f":"IF(ISBLANK('MIS - Pharmacy'!AY532),\"\",'MIS - Pharmacy'!AY532)","v":""},{"$f":"IF(ISBLANK('MIS - Pharmacy'!BH532),\"\",'MIS - Pharmacy'!BH532)","v":""},"",""]
[{"$f":"IF(ISBLANK('MIS - Pharmacy'!A533), \"\",'MIS - Pharmacy'!A533)","v":""},{"$f":"IF(ISBLANK('MIS - Pharmacy'!B533),\"\",('MIS - Pharmacy'!B533&\"(\"&'MIS - Pharmacy'!D533&\")\"))","v":""},{"$f":"IF(ISBLANK('MIS - Pharmacy'!BI533), \"\", 'MIS - Pharmacy'!BI533)","v":""},{"$f":"IF(ISBLANK('MIS - Pharmacy'!U533), \"\", 'MIS - Pharmacy'!U533)","v":""},"","","","","","","",{"$f":"IF(ISBLANK('MIS - Pharmacy'!AC533),\"\",'MIS - Pharmacy'!AC533)","v":""},"",{"$f":"IF(ISBLANK('MIS - Pharmacy'!AD533),\"\",'MIS - Pharmacy'!AD533)","v":""},"","",{"$f":"IF('MIS - Pharmacy'!A533=\"\",\"\",SUM('MIS - Pharmacy'!K533+'MIS - Pharmacy'!L533))","v":""},"",{"$f":"IF('MIS - Pharmacy'!A533=\"\",\"\",('MIS - Pharmacy'!AF533+'MIS - Pharmacy'!AH533 +'MIS - Pharmacy'!AG533))","v":""},{"$f":"IF(ISBLANK('MIS - Pharmacy'!AI533),\"\",'MIS - Pharmacy'!AI533)","v":""},"","","",{"$f":"IF(ISBLANK('MIS - Pharmacy'!V533),\"\",'MIS - Pharmacy'!V533)","v":""},"","","",{"$f":"IF(ISBLANK('MIS - Pharmacy'!J533),\"\",'MIS - Pharmacy'!J533)","v":""},{"$f":"IF(ISBLANK('MIS - Pharmacy'!AY533),\"\",'MIS - Pharmacy'!AY533)","v":""},{"$f":"IF(ISBLANK('MIS - Pharmacy'!BH533),\"\",'MIS - Pharmacy'!BH533)","v":""},"",""]
[{"$f":"IF(ISBLANK('MIS - Pharmacy'!A534), \"\",'MIS - Pharmacy'!A534)","v":""},{"$f":"IF(ISBLANK('MIS - Pharmacy'!B534),\"\",('MIS - Pharmacy'!B534&\"(\"&'MIS - Pharmacy'!D534&\")\"))","v":""},{"$f":"IF(ISBLANK('MIS - Pharmacy'!BI534), \"\", 'MIS - Pharmacy'!BI534)","v":""},{"$f":"IF(ISBLANK('MIS - Pharmacy'!U534), \"\", 'MIS - Pharmacy'!U534)","v":""},"","","","","","","",{"$f":"IF(ISBLANK('MIS - Pharmacy'!AC534),\"\",'MIS - Pharmacy'!AC534)","v":""},"",{"$f":"IF(ISBLANK('MIS - Pharmacy'!AD534),\"\",'MIS - Pharmacy'!AD534)","v":""},"","",{"$f":"IF('MIS - Pharmacy'!A534=\"\",\"\",SUM('MIS - Pharmacy'!K534+'MIS - Pharmacy'!L534))","v":""},"",{"$f":"IF('MIS - Pharmacy'!A534=\"\",\"\",('MIS - Pharmacy'!AF534+'MIS - Pharmacy'!AH534 +'MIS - Pharmacy'!AG534))","v":""},{"$f":"IF(ISBLANK('MIS - Pharmacy'!AI534),\"\",'MIS - Pharmacy'!AI534)","v":""},"","","",{"$f":"IF(ISBLANK('MIS - Pharmacy'!V534),\"\",'MIS - Pharmacy'!V534)","v":""},"","","",{"$f":"IF(ISBLANK('MIS - Pharmacy'!J534),\"\",'MIS - Pharmacy'!J534)","v":""},{"$f":"IF(ISBLANK('MIS - Pharmacy'!AY534),\"\",'MIS - Pharmacy'!AY534)","v":""},{"$f":"IF(ISBLANK('MIS - Pharmacy'!BH534),\"\",'MIS - Pharmacy'!BH534)","v":""},"",""]
[{"$f":"IF(ISBLANK('MIS - Pharmacy'!A535), \"\",'MIS - Pharmacy'!A535)","v":""},{"$f":"IF(ISBLANK('MIS - Pharmacy'!B535),\"\",('MIS - Pharmacy'!B535&\"(\"&'MIS - Pharmacy'!D535&\")\"))","v":""},{"$f":"IF(ISBLANK('MIS - Pharmacy'!BI535), \"\", 'MIS - Pharmacy'!BI535)","v":""},{"$f":"IF(ISBLANK('MIS - Pharmacy'!U535), \"\", 'MIS - Pharmacy'!U535)","v":""},"","","","","","","",{"$f":"IF(ISBLANK('MIS - Pharmacy'!AC535),\"\",'MIS - Pharmacy'!AC535)","v":""},"",{"$f":"IF(ISBLANK('MIS - Pharmacy'!AD535),\"\",'MIS - Pharmacy'!AD535)","v":""},"","",{"$f":"IF('MIS - Pharmacy'!A535=\"\",\"\",SUM('MIS - Pharmacy'!K535+'MIS - Pharmacy'!L535))","v":""},"",{"$f":"IF('MIS - Pharmacy'!A535=\"\",\"\",('MIS - Pharmacy'!AF535+'MIS - Pharmacy'!AH535 +'MIS - Pharmacy'!AG535))","v":""},{"$f":"IF(ISBLANK('MIS - Pharmacy'!AI535),\"\",'MIS - Pharmacy'!AI535)","v":""},"","","",{"$f":"IF(ISBLANK('MIS - Pharmacy'!V535),\"\",'MIS - Pharmacy'!V535)","v":""},"","","",{"$f":"IF(ISBLANK('MIS - Pharmacy'!J535),\"\",'MIS - Pharmacy'!J535)","v":""},{"$f":"IF(ISBLANK('MIS - Pharmacy'!AY535),\"\",'MIS - Pharmacy'!AY535)","v":""},{"$f":"IF(ISBLANK('MIS - Pharmacy'!BH535),\"\",'MIS - Pharmacy'!BH535)","v":""},"",""]
[{"$f":"IF(ISBLANK('MIS - Pharmacy'!A536), \"\",'MIS - Pharmacy'!A536)","v":""},{"$f":"IF(ISBLANK('MIS - Pharmacy'!B536),\"\",('MIS - Pharmacy'!B536&\"(\"&'MIS - Pharmacy'!D536&\")\"))","v":""},{"$f":"IF(ISBLANK('MIS - Pharmacy'!BI536), \"\", 'MIS - Pharmacy'!BI536)","v":""},{"$f":"IF(ISBLANK('MIS - Pharmacy'!U536), \"\", 'MIS - Pharmacy'!U536)","v":""},"","","","","","","",{"$f":"IF(ISBLANK('MIS - Pharmacy'!AC536),\"\",'MIS - Pharmacy'!AC536)","v":""},"",{"$f":"IF(ISBLANK('MIS - Pharmacy'!AD536),\"\",'MIS - Pharmacy'!AD536)","v":""},"","",{"$f":"IF('MIS - Pharmacy'!A536=\"\",\"\",SUM('MIS - Pharmacy'!K536+'MIS - Pharmacy'!L536))","v":""},"",{"$f":"IF('MIS - Pharmacy'!A536=\"\",\"\",('MIS - Pharmacy'!AF536+'MIS - Pharmacy'!AH536 +'MIS - Pharmacy'!AG536))","v":""},{"$f":"IF(ISBLANK('MIS - Pharmacy'!AI536),\"\",'MIS - Pharmacy'!AI536)","v":""},"","","",{"$f":"IF(ISBLANK('MIS - Pharmacy'!V536),\"\",'MIS - Pharmacy'!V536)","v":""},"","","",{"$f":"IF(ISBLANK('MIS - Pharmacy'!J536),\"\",'MIS - Pharmacy'!J536)","v":""},{"$f":"IF(ISBLANK('MIS - Pharmacy'!AY536),\"\",'MIS - Pharmacy'!AY536)","v":""},{"$f":"IF(ISBLANK('MIS - Pharmacy'!BH536),\"\",'MIS - Pharmacy'!BH536)","v":""},"",""]
[{"$f":"IF(ISBLANK('MIS - Pharmacy'!A537), \"\",'MIS - Pharmacy'!A537)","v":""},{"$f":"IF(ISBLANK('MIS - Pharmacy'!B537),\"\",('MIS - Pharmacy'!B537&\"(\"&'MIS - Pharmacy'!D537&\")\"))","v":""},{"$f":"IF(ISBLANK('MIS - Pharmacy'!BI537), \"\", 'MIS - Pharmacy'!BI537)","v":""},{"$f":"IF(ISBLANK('MIS - Pharmacy'!U537), \"\", 'MIS - Pharmacy'!U537)","v":""},"","","","","","","",{"$f":"IF(ISBLANK('MIS - Pharmacy'!AC537),\"\",'MIS - Pharmacy'!AC537)","v":""},"",{"$f":"IF(ISBLANK('MIS - Pharmacy'!AD537),\"\",'MIS - Pharmacy'!AD537)","v":""},"","",{"$f":"IF('MIS - Pharmacy'!A537=\"\",\"\",SUM('MIS - Pharmacy'!K537+'MIS - Pharmacy'!L537))","v":""},"",{"$f":"IF('MIS - Pharmacy'!A537=\"\",\"\",('MIS - Pharmacy'!AF537+'MIS - Pharmacy'!AH537 +'MIS - Pharmacy'!AG537))","v":""},{"$f":"IF(ISBLANK('MIS - Pharmacy'!AI537),\"\",'MIS - Pharmacy'!AI537)","v":""},"","","",{"$f":"IF(ISBLANK('MIS - Pharmacy'!V537),\"\",'MIS - Pharmacy'!V537)","v":""},"","","",{"$f":"IF(ISBLANK('MIS - Pharmacy'!J537),\"\",'MIS - Pharmacy'!J537)","v":""},{"$f":"IF(ISBLANK('MIS - Pharmacy'!AY537),\"\",'MIS - Pharmacy'!AY537)","v":""},{"$f":"IF(ISBLANK('MIS - Pharmacy'!BH537),\"\",'MIS - Pharmacy'!BH537)","v":""},"",""]
[{"$f":"IF(ISBLANK('MIS - Pharmacy'!A538), \"\",'MIS - Pharmacy'!A538)","v":""},{"$f":"IF(ISBLANK('MIS - Pharmacy'!B538),\"\",('MIS - Pharmacy'!B538&\"(\"&'MIS - Pharmacy'!D538&\")\"))","v":""},{"$f":"IF(ISBLANK('MIS - Pharmacy'!BI538), \"\", 'MIS - Pharmacy'!BI538)","v":""},{"$f":"IF(ISBLANK('MIS - Pharmacy'!U538), \"\", 'MIS - Pharmacy'!U538)","v":""},"","","","","","","",{"$f":"IF(ISBLANK('MIS - Pharmacy'!AC538),\"\",'MIS - Pharmacy'!AC538)","v":""},"",{"$f":"IF(ISBLANK('MIS - Pharmacy'!AD538),\"\",'MIS - Pharmacy'!AD538)","v":""},"","",{"$f":"IF('MIS - Pharmacy'!A538=\"\",\"\",SUM('MIS - Pharmacy'!K538+'MIS - Pharmacy'!L538))","v":""},"",{"$f":"IF('MIS - Pharmacy'!A538=\"\",\"\",('MIS - Pharmacy'!AF538+'MIS - Pharmacy'!AH538 +'MIS - Pharmacy'!AG538))","v":""},{"$f":"IF(ISBLANK('MIS - Pharmacy'!AI538),\"\",'MIS - Pharmacy'!AI538)","v":""},"","","",{"$f":"IF(ISBLANK('MIS - Pharmacy'!V538),\"\",'MIS - Pharmacy'!V538)","v":""},"","","",{"$f":"IF(ISBLANK('MIS - Pharmacy'!J538),\"\",'MIS - Pharmacy'!J538)","v":""},{"$f":"IF(ISBLANK('MIS - Pharmacy'!AY538),\"\",'MIS - Pharmacy'!AY538)","v":""},{"$f":"IF(ISBLANK('MIS - Pharmacy'!BH538),\"\",'MIS - Pharmacy'!BH538)","v":""},"",""]
[{"$f":"IF(ISBLANK('MIS - Pharmacy'!A539), \"\",'MIS - Pharmacy'!A539)","v":""},{"$f":"IF(ISBLANK('MIS - Pharmacy'!B539),\"\",('MIS - Pharmacy'!B539&\"(\"&'MIS - Pharmacy'!D539&\")\"))","v":""},{"$f":"IF(ISBLANK('MIS - Pharmacy'!BI539), \"\", 'MIS - Pharmacy'!BI539)","v":""},{"$f":"IF(ISBLANK('MIS - Pharmacy'!U539), \"\", 'MIS - Pharmacy'!U539)","v":""},"","","","","","","",{"$f":"IF(ISBLANK('MIS - Pharmacy'!AC539),\"\",'MIS - Pharmacy'!AC539)","v":""},"",{"$f":"IF(ISBLANK('MIS - Pharmacy'!AD539),\"\",'MIS - Pharmacy'!AD539)","v":""},"","",{"$f":"IF('MIS - Pharmacy'!A539=\"\",\"\",SUM('MIS - Pharmacy'!K539+'MIS - Pharmacy'!L539))","v":""},"",{"$f":"IF('MIS - Pharmacy'!A539=\"\",\"\",('MIS - Pharmacy'!AF539+'MIS - Pharmacy'!AH539 +'MIS - Pharmacy'!AG539))","v":""},{"$f":"IF(ISBLANK('MIS - Pharmacy'!AI539),\"\",'MIS - Pharmacy'!AI539)","v":""},"","","",{"$f":"IF(ISBLANK('MIS - Pharmacy'!V539),\"\",'MIS - Pharmacy'!V539)","v":""},"","","",{"$f":"IF(ISBLANK('MIS - Pharmacy'!J539),\"\",'MIS - Pharmacy'!J539)","v":""},{"$f":"IF(ISBLANK('MIS - Pharmacy'!AY539),\"\",'MIS - Pharmacy'!AY539)","v":""},{"$f":"IF(ISBLANK('MIS - Pharmacy'!BH539),\"\",'MIS - Pharmacy'!BH539)","v":""},"",""]
[{"$f":"IF(ISBLANK('MIS - Pharmacy'!A540), \"\",'MIS - Pharmacy'!A540)","v":""},{"$f":"IF(ISBLANK('MIS - Pharmacy'!B540),\"\",('MIS - Pharmacy'!B540&\"(\"&'MIS - Pharmacy'!D540&\")\"))","v":""},{"$f":"IF(ISBLANK('MIS - Pharmacy'!BI540), \"\", 'MIS - Pharmacy'!BI540)","v":""},{"$f":"IF(ISBLANK('MIS - Pharmacy'!U540), \"\", 'MIS - Pharmacy'!U540)","v":""},"","","","","","","",{"$f":"IF(ISBLANK('MIS - Pharmacy'!AC540),\"\",'MIS - Pharmacy'!AC540)","v":""},"",{"$f":"IF(ISBLANK('MIS - Pharmacy'!AD540),\"\",'MIS - Pharmacy'!AD540)","v":""},"","",{"$f":"IF('MIS - Pharmacy'!A540=\"\",\"\",SUM('MIS - Pharmacy'!K540+'MIS - Pharmacy'!L540))","v":""},"",{"$f":"IF('MIS - Pharmacy'!A540=\"\",\"\",('MIS - Pharmacy'!AF540+'MIS - Pharmacy'!AH540 +'MIS - Pharmacy'!AG540))","v":""},{"$f":"IF(ISBLANK('MIS - Pharmacy'!AI540),\"\",'MIS - Pharmacy'!AI540)","v":""},"","","",{"$f":"IF(ISBLANK('MIS - Pharmacy'!V540),\"\",'MIS - Pharmacy'!V540)","v":""},"","","",{"$f":"IF(ISBLANK('MIS - Pharmacy'!J540),\"\",'MIS - Pharmacy'!J540)","v":""},{"$f":"IF(ISBLANK('MIS - Pharmacy'!AY540),\"\",'MIS - Pharmacy'!AY540)","v":""},{"$f":"IF(ISBLANK('MIS - Pharmacy'!BH540),\"\",'MIS - Pharmacy'!BH540)","v":""},"",""]
[{"$f":"IF(ISBLANK('MIS - Pharmacy'!A541), \"\",'MIS - Pharmacy'!A541)","v":""},{"$f":"IF(ISBLANK('MIS - Pharmacy'!B541),\"\",('MIS - Pharmacy'!B541&\"(\"&'MIS - Pharmacy'!D541&\")\"))","v":""},{"$f":"IF(ISBLANK('MIS - Pharmacy'!BI541), \"\", 'MIS - Pharmacy'!BI541)","v":""},{"$f":"IF(ISBLANK('MIS - Pharmacy'!U541), \"\", 'MIS - Pharmacy'!U541)","v":""},"","","","","","","",{"$f":"IF(ISBLANK('MIS - Pharmacy'!AC541),\"\",'MIS - Pharmacy'!AC541)","v":""},"",{"$f":"IF(ISBLANK('MIS - Pharmacy'!AD541),\"\",'MIS - Pharmacy'!AD541)","v":""},"","",{"$f":"IF('MIS - Pharmacy'!A541=\"\",\"\",SUM('MIS - Pharmacy'!K541+'MIS - Pharmacy'!L541))","v":""},"",{"$f":"IF('MIS - Pharmacy'!A541=\"\",\"\",('MIS - Pharmacy'!AF541+'MIS - Pharmacy'!AH541 +'MIS - Pharmacy'!AG541))","v":""},{"$f":"IF(ISBLANK('MIS - Pharmacy'!AI541),\"\",'MIS - Pharmacy'!AI541)","v":""},"","","",{"$f":"IF(ISBLANK('MIS - Pharmacy'!V541),\"\",'MIS - Pharmacy'!V541)","v":""},"","","",{"$f":"IF(ISBLANK('MIS - Pharmacy'!J541),\"\",'MIS - Pharmacy'!J541)","v":""},{"$f":"IF(ISBLANK('MIS - Pharmacy'!AY541),\"\",'MIS - Pharmacy'!AY541)","v":""},{"$f":"IF(ISBLANK('MIS - Pharmacy'!BH541),\"\",'MIS - Pharmacy'!BH541)","v":""},"",""]
[{"$f":"IF(ISBLANK('MIS - Pharmacy'!A542), \"\",'MIS - Pharmacy'!A542)","v":""},{"$f":"IF(ISBLANK('MIS - Pharmacy'!B542),\"\",('MIS - Pharmacy'!B542&\"(\"&'MIS - Pharmacy'!D542&\")\"))","v":""},{"$f":"IF(ISBLANK('MIS - Pharmacy'!BI542), \"\", 'MIS - Pharmacy'!BI542)","v":""},{"$f":"IF(ISBLANK('MIS - Pharmacy'!U542), \"\", 'MIS - Pharmacy'!U542)","v":""},"","","","","","","",{"$f":"IF(ISBLANK('MIS - Pharmacy'!AC542),\"\",'MIS - Pharmacy'!AC542)","v":""},"",{"$f":"IF(ISBLANK('MIS - Pharmacy'!AD542),\"\",'MIS - Pharmacy'!AD542)","v":""},"","",{"$f":"IF('MIS - Pharmacy'!A542=\"\",\"\",SUM('MIS - Pharmacy'!K542+'MIS - Pharmacy'!L542))","v":""},"",{"$f":"IF('MIS - Pharmacy'!A542=\"\",\"\",('MIS - Pharmacy'!AF542+'MIS - Pharmacy'!AH542 +'MIS - Pharmacy'!AG542))","v":""},{"$f":"IF(ISBLANK('MIS - Pharmacy'!AI542),\"\",'MIS - Pharmacy'!AI542)","v":""},"","","",{"$f":"IF(ISBLANK('MIS - Pharmacy'!V542),\"\",'MIS - Pharmacy'!V542)","v":""},"","","",{"$f":"IF(ISBLANK('MIS - Pharmacy'!J542),\"\",'MIS - Pharmacy'!J542)","v":""},{"$f":"IF(ISBLANK('MIS - Pharmacy'!AY542),\"\",'MIS - Pharmacy'!AY542)","v":""},{"$f":"IF(ISBLANK('MIS - Pharmacy'!BH542),\"\",'MIS - Pharmacy'!BH542)","v":""},"",""]
[{"$f":"IF(ISBLANK('MIS - Pharmacy'!A543), \"\",'MIS - Pharmacy'!A543)","v":""},{"$f":"IF(ISBLANK('MIS - Pharmacy'!B543),\"\",('MIS - Pharmacy'!B543&\"(\"&'MIS - Pharmacy'!D543&\")\"))","v":""},{"$f":"IF(ISBLANK('MIS - Pharmacy'!BI543), \"\", 'MIS - Pharmacy'!BI543)","v":""},{"$f":"IF(ISBLANK('MIS - Pharmacy'!U543), \"\", 'MIS - Pharmacy'!U543)","v":""},"","","","","","","",{"$f":"IF(ISBLANK('MIS - Pharmacy'!AC543),\"\",'MIS - Pharmacy'!AC543)","v":""},"",{"$f":"IF(ISBLANK('MIS - Pharmacy'!AD543),\"\",'MIS - Pharmacy'!AD543)","v":""},"","",{"$f":"IF('MIS - Pharmacy'!A543=\"\",\"\",SUM('MIS - Pharmacy'!K543+'MIS - Pharmacy'!L543))","v":""},"",{"$f":"IF('MIS - Pharmacy'!A543=\"\",\"\",('MIS - Pharmacy'!AF543+'MIS - Pharmacy'!AH543 +'MIS - Pharmacy'!AG543))","v":""},{"$f":"IF(ISBLANK('MIS - Pharmacy'!AI543),\"\",'MIS - Pharmacy'!AI543)","v":""},"","","",{"$f":"IF(ISBLANK('MIS - Pharmacy'!V543),\"\",'MIS - Pharmacy'!V543)","v":""},"","","",{"$f":"IF(ISBLANK('MIS - Pharmacy'!J543),\"\",'MIS - Pharmacy'!J543)","v":""},{"$f":"IF(ISBLANK('MIS - Pharmacy'!AY543),\"\",'MIS - Pharmacy'!AY543)","v":""},{"$f":"IF(ISBLANK('MIS - Pharmacy'!BH543),\"\",'MIS - Pharmacy'!BH543)","v":""},"",""]
[{"$f":"IF(ISBLANK('MIS - Pharmacy'!A544), \"\",'MIS - Pharmacy'!A544)","v":""},{"$f":"IF(ISBLANK('MIS - Pharmacy'!B544),\"\",('MIS - Pharmacy'!B544&\"(\"&'MIS - Pharmacy'!D544&\")\"))","v":""},{"$f":"IF(ISBLANK('MIS - Pharmacy'!BI544), \"\", 'MIS - Pharmacy'!BI544)","v":""},{"$f":"IF(ISBLANK('MIS - Pharmacy'!U544), \"\", 'MIS - Pharmacy'!U544)","v":""},"","","","","","","",{"$f":"IF(ISBLANK('MIS - Pharmacy'!AC544),\"\",'MIS - Pharmacy'!AC544)","v":""},"",{"$f":"IF(ISBLANK('MIS - Pharmacy'!AD544),\"\",'MIS - Pharmacy'!AD544)","v":""},"","",{"$f":"IF('MIS - Pharmacy'!A544=\"\",\"\",SUM('MIS - Pharmacy'!K544+'MIS - Pharmacy'!L544))","v":""},"",{"$f":"IF('MIS - Pharmacy'!A544=\"\",\"\",('MIS - Pharmacy'!AF544+'MIS - Pharmacy'!AH544 +'MIS - Pharmacy'!AG544))","v":""},{"$f":"IF(ISBLANK('MIS - Pharmacy'!AI544),\"\",'MIS - Pharmacy'!AI544)","v":""},"","","",{"$f":"IF(ISBLANK('MIS - Pharmacy'!V544),\"\",'MIS - Pharmacy'!V544)","v":""},"","","",{"$f":"IF(ISBLANK('MIS - Pharmacy'!J544),\"\",'MIS - Pharmacy'!J544)","v":""},{"$f":"IF(ISBLANK('MIS - Pharmacy'!AY544),\"\",'MIS - Pharmacy'!AY544)","v":""},{"$f":"IF(ISBLANK('MIS - Pharmacy'!BH544),\"\",'MIS - Pharmacy'!BH544)","v":""},"",""]
[{"$f":"IF(ISBLANK('MIS - Pharmacy'!A545), \"\",'MIS - Pharmacy'!A545)","v":""},{"$f":"IF(ISBLANK('MIS - Pharmacy'!B545),\"\",('MIS - Pharmacy'!B545&\"(\"&'MIS - Pharmacy'!D545&\")\"))","v":""},{"$f":"IF(ISBLANK('MIS - Pharmacy'!BI545), \"\", 'MIS - Pharmacy'!BI545)","v":""},{"$f":"IF(ISBLANK('MIS - Pharmacy'!U545), \"\", 'MIS - Pharmacy'!U545)","v":""},"","","","","","","",{"$f":"IF(ISBLANK('MIS - Pharmacy'!AC545),\"\",'MIS - Pharmacy'!AC545)","v":""},"",{"$f":"IF(ISBLANK('MIS - Pharmacy'!AD545),\"\",'MIS - Pharmacy'!AD545)","v":""},"","",{"$f":"IF('MIS - Pharmacy'!A545=\"\",\"\",SUM('MIS - Pharmacy'!K545+'MIS - Pharmacy'!L545))","v":""},"",{"$f":"IF('MIS - Pharmacy'!A545=\"\",\"\",('MIS - Pharmacy'!AF545+'MIS - Pharmacy'!AH545 +'MIS - Pharmacy'!AG545))","v":""},{"$f":"IF(ISBLANK('MIS - Pharmacy'!AI545),\"\",'MIS - Pharmacy'!AI545)","v":""},"","","",{"$f":"IF(ISBLANK('MIS - Pharmacy'!V545),\"\",'MIS - Pharmacy'!V545)","v":""},"","","",{"$f":"IF(ISBLANK('MIS - Pharmacy'!J545),\"\",'MIS - Pharmacy'!J545)","v":""},{"$f":"IF(ISBLANK('MIS - Pharmacy'!AY545),\"\",'MIS - Pharmacy'!AY545)","v":""},{"$f":"IF(ISBLANK('MIS - Pharmacy'!BH545),\"\",'MIS - Pharmacy'!BH545)","v":""},"",""]
[{"$f":"IF(ISBLANK('MIS - Pharmacy'!A546), \"\",'MIS - Pharmacy'!A546)","v":""},{"$f":"IF(ISBLANK('MIS - Pharmacy'!B546),\"\",('MIS - Pharmacy'!B546&\"(\"&'MIS - Pharmacy'!D546&\")\"))","v":""},{"$f":"IF(ISBLANK('MIS - Pharmacy'!BI546), \"\", 'MIS - Pharmacy'!BI546)","v":""},{"$f":"IF(ISBLANK('MIS - Pharmacy'!U546), \"\", 'MIS - Pharmacy'!U546)","v":""},"","","","","","","",{"$f":"IF(ISBLANK('MIS - Pharmacy'!AC546),\"\",'MIS - Pharmacy'!AC546)","v":""},"",{"$f":"IF(ISBLANK('MIS - Pharmacy'!AD546),\"\",'MIS - Pharmacy'!AD546)","v":""},"","",{"$f":"IF('MIS - Pharmacy'!A546=\"\",\"\",SUM('MIS - Pharmacy'!K546+'MIS - Pharmacy'!L546))","v":""},"",{"$f":"IF('MIS - Pharmacy'!A546=\"\",\"\",('MIS - Pharmacy'!AF546+'MIS - Pharmacy'!AH546 +'MIS - Pharmacy'!AG546))","v":""},{"$f":"IF(ISBLANK('MIS - Pharmacy'!AI546),\"\",'MIS - Pharmacy'!AI546)","v":""},"","","",{"$f":"IF(ISBLANK('MIS - Pharmacy'!V546),\"\",'MIS - Pharmacy'!V546)","v":""},"","","",{"$f":"IF(ISBLANK('MIS - Pharmacy'!J546),\"\",'MIS - Pharmacy'!J546)","v":""},{"$f":"IF(ISBLANK('MIS - Pharmacy'!AY546),\"\",'MIS - Pharmacy'!AY546)","v":""},{"$f":"IF(ISBLANK('MIS - Pharmacy'!BH546),\"\",'MIS - Pharmacy'!BH546)","v":""},"",""]
[{"$f":"IF(ISBLANK('MIS - Pharmacy'!A547), \"\",'MIS - Pharmacy'!A547)","v":""},{"$f":"IF(ISBLANK('MIS - Pharmacy'!B547),\"\",('MIS - Pharmacy'!B547&\"(\"&'MIS - Pharmacy'!D547&\")\"))","v":""},{"$f":"IF(ISBLANK('MIS - Pharmacy'!BI547), \"\", 'MIS - Pharmacy'!BI547)","v":""},{"$f":"IF(ISBLANK('MIS - Pharmacy'!U547), \"\", 'MIS - Pharmacy'!U547)","v":""},"","","","","","","",{"$f":"IF(ISBLANK('MIS - Pharmacy'!AC547),\"\",'MIS - Pharmacy'!AC547)","v":""},"",{"$f":"IF(ISBLANK('MIS - Pharmacy'!AD547),\"\",'MIS - Pharmacy'!AD547)","v":""},"","",{"$f":"IF('MIS - Pharmacy'!A547=\"\",\"\",SUM('MIS - Pharmacy'!K547+'MIS - Pharmacy'!L547))","v":""},"",{"$f":"IF('MIS - Pharmacy'!A547=\"\",\"\",('MIS - Pharmacy'!AF547+'MIS - Pharmacy'!AH547 +'MIS - Pharmacy'!AG547))","v":""},{"$f":"IF(ISBLANK('MIS - Pharmacy'!AI547),\"\",'MIS - Pharmacy'!AI547)","v":""},"","","",{"$f":"IF(ISBLANK('MIS - Pharmacy'!V547),\"\",'MIS - Pharmacy'!V547)","v":""},"","","",{"$f":"IF(ISBLANK('MIS - Pharmacy'!J547),\"\",'MIS - Pharmacy'!J547)","v":""},{"$f":"IF(ISBLANK('MIS - Pharmacy'!AY547),\"\",'MIS - Pharmacy'!AY547)","v":""},{"$f":"IF(ISBLANK('MIS - Pharmacy'!BH547),\"\",'MIS - Pharmacy'!BH547)","v":""},"",""]
[{"$f":"IF(ISBLANK('MIS - Pharmacy'!A548), \"\",'MIS - Pharmacy'!A548)","v":""},{"$f":"IF(ISBLANK('MIS - Pharmacy'!B548),\"\",('MIS - Pharmacy'!B548&\"(\"&'MIS - Pharmacy'!D548&\")\"))","v":""},{"$f":"IF(ISBLANK('MIS - Pharmacy'!BI548), \"\", 'MIS - Pharmacy'!BI548)","v":""},{"$f":"IF(ISBLANK('MIS - Pharmacy'!U548), \"\", 'MIS - Pharmacy'!U548)","v":""},"","","","","","","",{"$f":"IF(ISBLANK('MIS - Pharmacy'!AC548),\"\",'MIS - Pharmacy'!AC548)","v":""},"",{"$f":"IF(ISBLANK('MIS - Pharmacy'!AD548),\"\",'MIS - Pharmacy'!AD548)","v":""},"","",{"$f":"IF('MIS - Pharmacy'!A548=\"\",\"\",SUM('MIS - Pharmacy'!K548+'MIS - Pharmacy'!L548))","v":""},"",{"$f":"IF('MIS - Pharmacy'!A548=\"\",\"\",('MIS - Pharmacy'!AF548+'MIS - Pharmacy'!AH548 +'MIS - Pharmacy'!AG548))","v":""},{"$f":"IF(ISBLANK('MIS - Pharmacy'!AI548),\"\",'MIS - Pharmacy'!AI548)","v":""},"","","",{"$f":"IF(ISBLANK('MIS - Pharmacy'!V548),\"\",'MIS - Pharmacy'!V548)","v":""},"","","",{"$f":"IF(ISBLANK('MIS - Pharmacy'!J548),\"\",'MIS - Pharmacy'!J548)","v":""},{"$f":"IF(ISBLANK('MIS - Pharmacy'!AY548),\"\",'MIS - Pharmacy'!AY548)","v":""},{"$f":"IF(ISBLANK('MIS - Pharmacy'!BH548),\"\",'MIS - Pharmacy'!BH548)","v":""},"",""]
[{"$f":"IF(ISBLANK('MIS - Pharmacy'!A549), \"\",'MIS - Pharmacy'!A549)","v":""},{"$f":"IF(ISBLANK('MIS - Pharmacy'!B549),\"\",('MIS - Pharmacy'!B549&\"(\"&'MIS - Pharmacy'!D549&\")\"))","v":""},{"$f":"IF(ISBLANK('MIS - Pharmacy'!BI549), \"\", 'MIS - Pharmacy'!BI549)","v":""},{"$f":"IF(ISBLANK('MIS - Pharmacy'!U549), \"\", 'MIS - Pharmacy'!U549)","v":""},"","","","","","","",{"$f":"IF(ISBLANK('MIS - Pharmacy'!AC549),\"\",'MIS - Pharmacy'!AC549)","v":""},"",{"$f":"IF(ISBLANK('MIS - Pharmacy'!AD549),\"\",'MIS - Pharmacy'!AD549)","v":""},"","",{"$f":"IF('MIS - Pharmacy'!A549=\"\",\"\",SUM('MIS - Pharmacy'!K549+'MIS - Pharmacy'!L549))","v":""},"",{"$f":"IF('MIS - Pharmacy'!A549=\"\",\"\",('MIS - Pharmacy'!AF549+'MIS - Pharmacy'!AH549 +'MIS - Pharmacy'!AG549))","v":""},{"$f":"IF(ISBLANK('MIS - Pharmacy'!AI549),\"\",'MIS - Pharmacy'!AI549)","v":""},"","","",{"$f":"IF(ISBLANK('MIS - Pharmacy'!V549),\"\",'MIS - Pharmacy'!V549)","v":""},"","","",{"$f":"IF(ISBLANK('MIS - Pharmacy'!J549),\"\",'MIS - Pharmacy'!J549)","v":""},{"$f":"IF(ISBLANK('MIS - Pharmacy'!AY549),\"\",'MIS - Pharmacy'!AY549)","v":""},{"$f":"IF(ISBLANK('MIS - Pharmacy'!BH549),\"\",'MIS - Pharmacy'!BH549)","v":""},"",""]
[{"$f":"IF(ISBLANK('MIS - Pharmacy'!A550), \"\",'MIS - Pharmacy'!A550)","v":""},{"$f":"IF(ISBLANK('MIS - Pharmacy'!B550),\"\",('MIS - Pharmacy'!B550&\"(\"&'MIS - Pharmacy'!D550&\")\"))","v":""},{"$f":"IF(ISBLANK('MIS - Pharmacy'!BI550), \"\", 'MIS - Pharmacy'!BI550)","v":""},{"$f":"IF(ISBLANK('MIS - Pharmacy'!U550), \"\", 'MIS - Pharmacy'!U550)","v":""},"","","","","","","",{"$f":"IF(ISBLANK('MIS - Pharmacy'!AC550),\"\",'MIS - Pharmacy'!AC550)","v":""},"",{"$f":"IF(ISBLANK('MIS - Pharmacy'!AD550),\"\",'MIS - Pharmacy'!AD550)","v":""},"","",{"$f":"IF('MIS - Pharmacy'!A550=\"\",\"\",SUM('MIS - Pharmacy'!K550+'MIS - Pharmacy'!L550))","v":""},"",{"$f":"IF('MIS - Pharmacy'!A550=\"\",\"\",('MIS - Pharmacy'!AF550+'MIS - Pharmacy'!AH550 +'MIS - Pharmacy'!AG550))","v":""},{"$f":"IF(ISBLANK('MIS - Pharmacy'!AI550),\"\",'MIS - Pharmacy'!AI550)","v":""},"","","",{"$f":"IF(ISBLANK('MIS - Pharmacy'!V550),\"\",'MIS - Pharmacy'!V550)","v":""},"","","",{"$f":"IF(ISBLANK('MIS - Pharmacy'!J550),\"\",'MIS - Pharmacy'!J550)","v":""},{"$f":"IF(ISBLANK('MIS - Pharmacy'!AY550),\"\",'MIS - Pharmacy'!AY550)","v":""},{"$f":"IF(ISBLANK('MIS - Pharmacy'!BH550),\"\",'MIS - Pharmacy'!BH550)","v":""},"",""]
[{"$f":"IF(ISBLANK('MIS - Pharmacy'!A551), \"\",'MIS - Pharmacy'!A551)","v":""},{"$f":"IF(ISBLANK('MIS - Pharmacy'!B551),\"\",('MIS - Pharmacy'!B551&\"(\"&'MIS - Pharmacy'!D551&\")\"))","v":""},{"$f":"IF(ISBLANK('MIS - Pharmacy'!BI551), \"\", 'MIS - Pharmacy'!BI551)","v":""},{"$f":"IF(ISBLANK('MIS - Pharmacy'!U551), \"\", 'MIS - Pharmacy'!U551)","v":""},"","","","","","","",{"$f":"IF(ISBLANK('MIS - Pharmacy'!AC551),\"\",'MIS - Pharmacy'!AC551)","v":""},"",{"$f":"IF(ISBLANK('MIS - Pharmacy'!AD551),\"\",'MIS - Pharmacy'!AD551)","v":""},"","",{"$f":"IF('MIS - Pharmacy'!A551=\"\",\"\",SUM('MIS - Pharmacy'!K551+'MIS - Pharmacy'!L551))","v":""},"",{"$f":"IF('MIS - Pharmacy'!A551=\"\",\"\",('MIS - Pharmacy'!AF551+'MIS - Pharmacy'!AH551 +'MIS - Pharmacy'!AG551))","v":""},{"$f":"IF(ISBLANK('MIS - Pharmacy'!AI551),\"\",'MIS - Pharmacy'!AI551)","v":""},"","","",{"$f":"IF(ISBLANK('MIS - Pharmacy'!V551),\"\",'MIS - Pharmacy'!V551)","v":""},"","","",{"$f":"IF(ISBLANK('MIS - Pharmacy'!J551),\"\",'MIS - Pharmacy'!J551)","v":""},{"$f":"IF(ISBLANK('MIS - Pharmacy'!AY551),\"\",'MIS - Pharmacy'!AY551)","v":""},{"$f":"IF(ISBLANK('MIS - Pharmacy'!BH551),\"\",'MIS - Pharmacy'!BH551)","v":""},"",""]
[{"$f":"IF(ISBLANK('MIS - Pharmacy'!A552), \"\",'MIS - Pharmacy'!A552)","v":""},{"$f":"IF(ISBLANK('MIS - Pharmacy'!B552),\"\",('MIS - Pharmacy'!B552&\"(\"&'MIS - Pharmacy'!D552&\")\"))","v":""},{"$f":"IF(ISBLANK('MIS - Pharmacy'!BI552), \"\", 'MIS - Pharmacy'!BI552)","v":""},{"$f":"IF(ISBLANK('MIS - Pharmacy'!U552), \"\", 'MIS - Pharmacy'!U552)","v":""},"","","","","","","",{"$f":"IF(ISBLANK('MIS - Pharmacy'!AC552),\"\",'MIS - Pharmacy'!AC552)","v":""},"",{"$f":"IF(ISBLANK('MIS - Pharmacy'!AD552),\"\",'MIS - Pharmacy'!AD552)","v":""},"","",{"$f":"IF('MIS - Pharmacy'!A552=\"\",\"\",SUM('MIS - Pharmacy'!K552+'MIS - Pharmacy'!L552))","v":""},"",{"$f":"IF('MIS - Pharmacy'!A552=\"\",\"\",('MIS - Pharmacy'!AF552+'MIS - Pharmacy'!AH552 +'MIS - Pharmacy'!AG552))","v":""},{"$f":"IF(ISBLANK('MIS - Pharmacy'!AI552),\"\",'MIS - Pharmacy'!AI552)","v":""},"","","",{"$f":"IF(ISBLANK('MIS - Pharmacy'!V552),\"\",'MIS - Pharmacy'!V552)","v":""},"","","",{"$f":"IF(ISBLANK('MIS - Pharmacy'!J552),\"\",'MIS - Pharmacy'!J552)","v":""},{"$f":"IF(ISBLANK('MIS - Pharmacy'!AY552),\"\",'MIS - Pharmacy'!AY552)","v":""},{"$f":"IF(ISBLANK('MIS - Pharmacy'!BH552),\"\",'MIS - Pharmacy'!BH552)","v":""},"",""]
[{"$f":"IF(ISBLANK('MIS - Pharmacy'!A553), \"\",'MIS - Pharmacy'!A553)","v":""},{"$f":"IF(ISBLANK('MIS - Pharmacy'!B553),\"\",('MIS - Pharmacy'!B553&\"(\"&'MIS - Pharmacy'!D553&\")\"))","v":""},{"$f":"IF(ISBLANK('MIS - Pharmacy'!BI553), \"\", 'MIS - Pharmacy'!BI553)","v":""},{"$f":"IF(ISBLANK('MIS - Pharmacy'!U553), \"\", 'MIS - Pharmacy'!U553)","v":""},"","","","","","","",{"$f":"IF(ISBLANK('MIS - Pharmacy'!AC553),\"\",'MIS - Pharmacy'!AC553)","v":""},"",{"$f":"IF(ISBLANK('MIS - Pharmacy'!AD553),\"\",'MIS - Pharmacy'!AD553)","v":""},"","",{"$f":"IF('MIS - Pharmacy'!A553=\"\",\"\",SUM('MIS - Pharmacy'!K553+'MIS - Pharmacy'!L553))","v":""},"",{"$f":"IF('MIS - Pharmacy'!A553=\"\",\"\",('MIS - Pharmacy'!AF553+'MIS - Pharmacy'!AH553 +'MIS - Pharmacy'!AG553))","v":""},{"$f":"IF(ISBLANK('MIS - Pharmacy'!AI553),\"\",'MIS - Pharmacy'!AI553)","v":""},"","","",{"$f":"IF(ISBLANK('MIS - Pharmacy'!V553),\"\",'MIS - Pharmacy'!V553)","v":""},"","","",{"$f":"IF(ISBLANK('MIS - Pharmacy'!J553),\"\",'MIS - Pharmacy'!J553)","v":""},{"$f":"IF(ISBLANK('MIS - Pharmacy'!AY553),\"\",'MIS - Pharmacy'!AY553)","v":""},{"$f":"IF(ISBLANK('MIS - Pharmacy'!BH553),\"\",'MIS - Pharmacy'!BH553)","v":""},"",""]
[{"$f":"IF(ISBLANK('MIS - Pharmacy'!A554), \"\",'MIS - Pharmacy'!A554)","v":""},{"$f":"IF(ISBLANK('MIS - Pharmacy'!B554),\"\",('MIS - Pharmacy'!B554&\"(\"&'MIS - Pharmacy'!D554&\")\"))","v":""},{"$f":"IF(ISBLANK('MIS - Pharmacy'!BI554), \"\", 'MIS - Pharmacy'!BI554)","v":""},{"$f":"IF(ISBLANK('MIS - Pharmacy'!U554), \"\", 'MIS - Pharmacy'!U554)","v":""},"","","","","","","",{"$f":"IF(ISBLANK('MIS - Pharmacy'!AC554),\"\",'MIS - Pharmacy'!AC554)","v":""},"",{"$f":"IF(ISBLANK('MIS - Pharmacy'!AD554),\"\",'MIS - Pharmacy'!AD554)","v":""},"","",{"$f":"IF('MIS - Pharmacy'!A554=\"\",\"\",SUM('MIS - Pharmacy'!K554+'MIS - Pharmacy'!L554))","v":""},"",{"$f":"IF('MIS - Pharmacy'!A554=\"\",\"\",('MIS - Pharmacy'!AF554+'MIS - Pharmacy'!AH554 +'MIS - Pharmacy'!AG554))","v":""},{"$f":"IF(ISBLANK('MIS - Pharmacy'!AI554),\"\",'MIS - Pharmacy'!AI554)","v":""},"","","",{"$f":"IF(ISBLANK('MIS - Pharmacy'!V554),\"\",'MIS - Pharmacy'!V554)","v":""},"","","",{"$f":"IF(ISBLANK('MIS - Pharmacy'!J554),\"\",'MIS - Pharmacy'!J554)","v":""},{"$f":"IF(ISBLANK('MIS - Pharmacy'!AY554),\"\",'MIS - Pharmacy'!AY554)","v":""},{"$f":"IF(ISBLANK('MIS - Pharmacy'!BH554),\"\",'MIS - Pharmacy'!BH554)","v":""},"",""]
[{"$f":"IF(ISBLANK('MIS - Pharmacy'!A555), \"\",'MIS - Pharmacy'!A555)","v":""},{"$f":"IF(ISBLANK('MIS - Pharmacy'!B555),\"\",('MIS - Pharmacy'!B555&\"(\"&'MIS - Pharmacy'!D555&\")\"))","v":""},{"$f":"IF(ISBLANK('MIS - Pharmacy'!BI555), \"\", 'MIS - Pharmacy'!BI555)","v":""},{"$f":"IF(ISBLANK('MIS - Pharmacy'!U555), \"\", 'MIS - Pharmacy'!U555)","v":""},"","","","","","","",{"$f":"IF(ISBLANK('MIS - Pharmacy'!AC555),\"\",'MIS - Pharmacy'!AC555)","v":""},"",{"$f":"IF(ISBLANK('MIS - Pharmacy'!AD555),\"\",'MIS - Pharmacy'!AD555)","v":""},"","",{"$f":"IF('MIS - Pharmacy'!A555=\"\",\"\",SUM('MIS - Pharmacy'!K555+'MIS - Pharmacy'!L555))","v":""},"",{"$f":"IF('MIS - Pharmacy'!A555=\"\",\"\",('MIS - Pharmacy'!AF555+'MIS - Pharmacy'!AH555 +'MIS - Pharmacy'!AG555))","v":""},{"$f":"IF(ISBLANK('MIS - Pharmacy'!AI555),\"\",'MIS - Pharmacy'!AI555)","v":""},"","","",{"$f":"IF(ISBLANK('MIS - Pharmacy'!V555),\"\",'MIS - Pharmacy'!V555)","v":""},"","","",{"$f":"IF(ISBLANK('MIS - Pharmacy'!J555),\"\",'MIS - Pharmacy'!J555)","v":""},{"$f":"IF(ISBLANK('MIS - Pharmacy'!AY555),\"\",'MIS - Pharmacy'!AY555)","v":""},{"$f":"IF(ISBLANK('MIS - Pharmacy'!BH555),\"\",'MIS - Pharmacy'!BH555)","v":""},"",""]
[{"$f":"IF(ISBLANK('MIS - Pharmacy'!A556), \"\",'MIS - Pharmacy'!A556)","v":""},{"$f":"IF(ISBLANK('MIS - Pharmacy'!B556),\"\",('MIS - Pharmacy'!B556&\"(\"&'MIS - Pharmacy'!D556&\")\"))","v":""},{"$f":"IF(ISBLANK('MIS - Pharmacy'!BI556), \"\", 'MIS - Pharmacy'!BI556)","v":""},{"$f":"IF(ISBLANK('MIS - Pharmacy'!U556), \"\", 'MIS - Pharmacy'!U556)","v":""},"","","","","","","",{"$f":"IF(ISBLANK('MIS - Pharmacy'!AC556),\"\",'MIS - Pharmacy'!AC556)","v":""},"",{"$f":"IF(ISBLANK('MIS - Pharmacy'!AD556),\"\",'MIS - Pharmacy'!AD556)","v":""},"","",{"$f":"IF('MIS - Pharmacy'!A556=\"\",\"\",SUM('MIS - Pharmacy'!K556+'MIS - Pharmacy'!L556))","v":""},"",{"$f":"IF('MIS - Pharmacy'!A556=\"\",\"\",('MIS - Pharmacy'!AF556+'MIS - Pharmacy'!AH556 +'MIS - Pharmacy'!AG556))","v":""},{"$f":"IF(ISBLANK('MIS - Pharmacy'!AI556),\"\",'MIS - Pharmacy'!AI556)","v":""},"","","",{"$f":"IF(ISBLANK('MIS - Pharmacy'!V556),\"\",'MIS - Pharmacy'!V556)","v":""},"","","",{"$f":"IF(ISBLANK('MIS - Pharmacy'!J556),\"\",'MIS - Pharmacy'!J556)","v":""},{"$f":"IF(ISBLANK('MIS - Pharmacy'!AY556),\"\",'MIS - Pharmacy'!AY556)","v":""},{"$f":"IF(ISBLANK('MIS - Pharmacy'!BH556),\"\",'MIS - Pharmacy'!BH556)","v":""},"",""]
[{"$f":"IF(ISBLANK('MIS - Pharmacy'!A557), \"\",'MIS - Pharmacy'!A557)","v":""},{"$f":"IF(ISBLANK('MIS - Pharmacy'!B557),\"\",('MIS - Pharmacy'!B557&\"(\"&'MIS - Pharmacy'!D557&\")\"))","v":""},{"$f":"IF(ISBLANK('MIS - Pharmacy'!BI557), \"\", 'MIS - Pharmacy'!BI557)","v":""},{"$f":"IF(ISBLANK('MIS - Pharmacy'!U557), \"\", 'MIS - Pharmacy'!U557)","v":""},"","","","","","","",{"$f":"IF(ISBLANK('MIS - Pharmacy'!AC557),\"\",'MIS - Pharmacy'!AC557)","v":""},"",{"$f":"IF(ISBLANK('MIS - Pharmacy'!AD557),\"\",'MIS - Pharmacy'!AD557)","v":""},"","",{"$f":"IF('MIS - Pharmacy'!A557=\"\",\"\",SUM('MIS - Pharmacy'!K557+'MIS - Pharmacy'!L557))","v":""},"",{"$f":"IF('MIS - Pharmacy'!A557=\"\",\"\",('MIS - Pharmacy'!AF557+'MIS - Pharmacy'!AH557 +'MIS - Pharmacy'!AG557))","v":""},{"$f":"IF(ISBLANK('MIS - Pharmacy'!AI557),\"\",'MIS - Pharmacy'!AI557)","v":""},"","","",{"$f":"IF(ISBLANK('MIS - Pharmacy'!V557),\"\",'MIS - Pharmacy'!V557)","v":""},"","","",{"$f":"IF(ISBLANK('MIS - Pharmacy'!J557),\"\",'MIS - Pharmacy'!J557)","v":""},{"$f":"IF(ISBLANK('MIS - Pharmacy'!AY557),\"\",'MIS - Pharmacy'!AY557)","v":""},{"$f":"IF(ISBLANK('MIS - Pharmacy'!BH557),\"\",'MIS - Pharmacy'!BH557)","v":""},"",""]
[{"$f":"IF(ISBLANK('MIS - Pharmacy'!A558), \"\",'MIS - Pharmacy'!A558)","v":""},{"$f":"IF(ISBLANK('MIS - Pharmacy'!B558),\"\",('MIS - Pharmacy'!B558&\"(\"&'MIS - Pharmacy'!D558&\")\"))","v":""},{"$f":"IF(ISBLANK('MIS - Pharmacy'!BI558), \"\", 'MIS - Pharmacy'!BI558)","v":""},{"$f":"IF(ISBLANK('MIS - Pharmacy'!U558), \"\", 'MIS - Pharmacy'!U558)","v":""},"","","","","","","",{"$f":"IF(ISBLANK('MIS - Pharmacy'!AC558),\"\",'MIS - Pharmacy'!AC558)","v":""},"",{"$f":"IF(ISBLANK('MIS - Pharmacy'!AD558),\"\",'MIS - Pharmacy'!AD558)","v":""},"","",{"$f":"IF('MIS - Pharmacy'!A558=\"\",\"\",SUM('MIS - Pharmacy'!K558+'MIS - Pharmacy'!L558))","v":""},"",{"$f":"IF('MIS - Pharmacy'!A558=\"\",\"\",('MIS - Pharmacy'!AF558+'MIS - Pharmacy'!AH558 +'MIS - Pharmacy'!AG558))","v":""},{"$f":"IF(ISBLANK('MIS - Pharmacy'!AI558),\"\",'MIS - Pharmacy'!AI558)","v":""},"","","",{"$f":"IF(ISBLANK('MIS - Pharmacy'!V558),\"\",'MIS - Pharmacy'!V558)","v":""},"","","",{"$f":"IF(ISBLANK('MIS - Pharmacy'!J558),\"\",'MIS - Pharmacy'!J558)","v":""},{"$f":"IF(ISBLANK('MIS - Pharmacy'!AY558),\"\",'MIS - Pharmacy'!AY558)","v":""},{"$f":"IF(ISBLANK('MIS - Pharmacy'!BH558),\"\",'MIS - Pharmacy'!BH558)","v":""},"",""]
[{"$f":"IF(ISBLANK('MIS - Pharmacy'!A559), \"\",'MIS - Pharmacy'!A559)","v":""},{"$f":"IF(ISBLANK('MIS - Pharmacy'!B559),\"\",('MIS - Pharmacy'!B559&\"(\"&'MIS - Pharmacy'!D559&\")\"))","v":""},{"$f":"IF(ISBLANK('MIS - Pharmacy'!BI559), \"\", 'MIS - Pharmacy'!BI559)","v":""},{"$f":"IF(ISBLANK('MIS - Pharmacy'!U559), \"\", 'MIS - Pharmacy'!U559)","v":""},"","","","","","","",{"$f":"IF(ISBLANK('MIS - Pharmacy'!AC559),\"\",'MIS - Pharmacy'!AC559)","v":""},"",{"$f":"IF(ISBLANK('MIS - Pharmacy'!AD559),\"\",'MIS - Pharmacy'!AD559)","v":""},"","",{"$f":"IF('MIS - Pharmacy'!A559=\"\",\"\",SUM('MIS - Pharmacy'!K559+'MIS - Pharmacy'!L559))","v":""},"",{"$f":"IF('MIS - Pharmacy'!A559=\"\",\"\",('MIS - Pharmacy'!AF559+'MIS - Pharmacy'!AH559 +'MIS - Pharmacy'!AG559))","v":""},{"$f":"IF(ISBLANK('MIS - Pharmacy'!AI559),\"\",'MIS - Pharmacy'!AI559)","v":""},"","","",{"$f":"IF(ISBLANK('MIS - Pharmacy'!V559),\"\",'MIS - Pharmacy'!V559)","v":""},"","","",{"$f":"IF(ISBLANK('MIS - Pharmacy'!J559),\"\",'MIS - Pharmacy'!J559)","v":""},{"$f":"IF(ISBLANK('MIS - Pharmacy'!AY559),\"\",'MIS - Pharmacy'!AY559)","v":""},{"$f":"IF(ISBLANK('MIS - Pharmacy'!BH559),\"\",'MIS - Pharmacy'!BH559)","v":""},"",""]
[{"$f":"IF(ISBLANK('MIS - Pharmacy'!A560), \"\",'MIS - Pharmacy'!A560)","v":""},{"$f":"IF(ISBLANK('MIS - Pharmacy'!B560),\"\",('MIS - Pharmacy'!B560&\"(\"&'MIS - Pharmacy'!D560&\")\"))","v":""},{"$f":"IF(ISBLANK('MIS - Pharmacy'!BI560), \"\", 'MIS - Pharmacy'!BI560)","v":""},{"$f":"IF(ISBLANK('MIS - Pharmacy'!U560), \"\", 'MIS - Pharmacy'!U560)","v":""},"","","","","","","",{"$f":"IF(ISBLANK('MIS - Pharmacy'!AC560),\"\",'MIS - Pharmacy'!AC560)","v":""},"",{"$f":"IF(ISBLANK('MIS - Pharmacy'!AD560),\"\",'MIS - Pharmacy'!AD560)","v":""},"","",{"$f":"IF('MIS - Pharmacy'!A560=\"\",\"\",SUM('MIS - Pharmacy'!K560+'MIS - Pharmacy'!L560))","v":""},"",{"$f":"IF('MIS - Pharmacy'!A560=\"\",\"\",('MIS - Pharmacy'!AF560+'MIS - Pharmacy'!AH560 +'MIS - Pharmacy'!AG560))","v":""},{"$f":"IF(ISBLANK('MIS - Pharmacy'!AI560),\"\",'MIS - Pharmacy'!AI560)","v":""},"","","",{"$f":"IF(ISBLANK('MIS - Pharmacy'!V560),\"\",'MIS - Pharmacy'!V560)","v":""},"","","",{"$f":"IF(ISBLANK('MIS - Pharmacy'!J560),\"\",'MIS - Pharmacy'!J560)","v":""},{"$f":"IF(ISBLANK('MIS - Pharmacy'!AY560),\"\",'MIS - Pharmacy'!AY560)","v":""},{"$f":"IF(ISBLANK('MIS - Pharmacy'!BH560),\"\",'MIS - Pharmacy'!BH560)","v":""},"",""]
[{"$f":"IF(ISBLANK('MIS - Pharmacy'!A561), \"\",'MIS - Pharmacy'!A561)","v":""},{"$f":"IF(ISBLANK('MIS - Pharmacy'!B561),\"\",('MIS - Pharmacy'!B561&\"(\"&'MIS - Pharmacy'!D561&\")\"))","v":""},{"$f":"IF(ISBLANK('MIS - Pharmacy'!BI561), \"\", 'MIS - Pharmacy'!BI561)","v":""},{"$f":"IF(ISBLANK('MIS - Pharmacy'!U561), \"\", 'MIS - Pharmacy'!U561)","v":""},"","","","","","","",{"$f":"IF(ISBLANK('MIS - Pharmacy'!AC561),\"\",'MIS - Pharmacy'!AC561)","v":""},"",{"$f":"IF(ISBLANK('MIS - Pharmacy'!AD561),\"\",'MIS - Pharmacy'!AD561)","v":""},"","",{"$f":"IF('MIS - Pharmacy'!A561=\"\",\"\",SUM('MIS - Pharmacy'!K561+'MIS - Pharmacy'!L561))","v":""},"",{"$f":"IF('MIS - Pharmacy'!A561=\"\",\"\",('MIS - Pharmacy'!AF561+'MIS - Pharmacy'!AH561 +'MIS - Pharmacy'!AG561))","v":""},{"$f":"IF(ISBLANK('MIS - Pharmacy'!AI561),\"\",'MIS - Pharmacy'!AI561)","v":""},"","","",{"$f":"IF(ISBLANK('MIS - Pharmacy'!V561),\"\",'MIS - Pharmacy'!V561)","v":""},"","","",{"$f":"IF(ISBLANK('MIS - Pharmacy'!J561),\"\",'MIS - Pharmacy'!J561)","v":""},{"$f":"IF(ISBLANK('MIS - Pharmacy'!AY561),\"\",'MIS - Pharmacy'!AY561)","v":""},{"$f":"IF(ISBLANK('MIS - Pharmacy'!BH561),\"\",'MIS - Pharmacy'!BH561)","v":""},"",""]
[{"$f":"IF(ISBLANK('MIS - Pharmacy'!A562), \"\",'MIS - Pharmacy'!A562)","v":""},{"$f":"IF(ISBLANK('MIS - Pharmacy'!B562),\"\",('MIS - Pharmacy'!B562&\"(\"&'MIS - Pharmacy'!D562&\")\"))","v":""},{"$f":"IF(ISBLANK('MIS - Pharmacy'!BI562), \"\", 'MIS - Pharmacy'!BI562)","v":""},{"$f":"IF(ISBLANK('MIS - Pharmacy'!U562), \"\", 'MIS - Pharmacy'!U562)","v":""},"","","","","","","",{"$f":"IF(ISBLANK('MIS - Pharmacy'!AC562),\"\",'MIS - Pharmacy'!AC562)","v":""},"",{"$f":"IF(ISBLANK('MIS - Pharmacy'!AD562),\"\",'MIS - Pharmacy'!AD562)","v":""},"","",{"$f":"IF('MIS - Pharmacy'!A562=\"\",\"\",SUM('MIS - Pharmacy'!K562+'MIS - Pharmacy'!L562))","v":""},"",{"$f":"IF('MIS - Pharmacy'!A562=\"\",\"\",('MIS - Pharmacy'!AF562+'MIS - Pharmacy'!AH562 +'MIS - Pharmacy'!AG562))","v":""},{"$f":"IF(ISBLANK('MIS - Pharmacy'!AI562),\"\",'MIS - Pharmacy'!AI562)","v":""},"","","",{"$f":"IF(ISBLANK('MIS - Pharmacy'!V562),\"\",'MIS - Pharmacy'!V562)","v":""},"","","",{"$f":"IF(ISBLANK('MIS - Pharmacy'!J562),\"\",'MIS - Pharmacy'!J562)","v":""},{"$f":"IF(ISBLANK('MIS - Pharmacy'!AY562),\"\",'MIS - Pharmacy'!AY562)","v":""},{"$f":"IF(ISBLANK('MIS - Pharmacy'!BH562),\"\",'MIS - Pharmacy'!BH562)","v":""},"",""]
[{"$f":"IF(ISBLANK('MIS - Pharmacy'!A563), \"\",'MIS - Pharmacy'!A563)","v":""},{"$f":"IF(ISBLANK('MIS - Pharmacy'!B563),\"\",('MIS - Pharmacy'!B563&\"(\"&'MIS - Pharmacy'!D563&\")\"))","v":""},{"$f":"IF(ISBLANK('MIS - Pharmacy'!BI563), \"\", 'MIS - Pharmacy'!BI563)","v":""},{"$f":"IF(ISBLANK('MIS - Pharmacy'!U563), \"\", 'MIS - Pharmacy'!U563)","v":""},"","","","","","","",{"$f":"IF(ISBLANK('MIS - Pharmacy'!AC563),\"\",'MIS - Pharmacy'!AC563)","v":""},"",{"$f":"IF(ISBLANK('MIS - Pharmacy'!AD563),\"\",'MIS - Pharmacy'!AD563)","v":""},"","",{"$f":"IF('MIS - Pharmacy'!A563=\"\",\"\",SUM('MIS - Pharmacy'!K563+'MIS - Pharmacy'!L563))","v":""},"",{"$f":"IF('MIS - Pharmacy'!A563=\"\",\"\",('MIS - Pharmacy'!AF563+'MIS - Pharmacy'!AH563 +'MIS - Pharmacy'!AG563))","v":""},{"$f":"IF(ISBLANK('MIS - Pharmacy'!AI563),\"\",'MIS - Pharmacy'!AI563)","v":""},"","","",{"$f":"IF(ISBLANK('MIS - Pharmacy'!V563),\"\",'MIS - Pharmacy'!V563)","v":""},"","","",{"$f":"IF(ISBLANK('MIS - Pharmacy'!J563),\"\",'MIS - Pharmacy'!J563)","v":""},{"$f":"IF(ISBLANK('MIS - Pharmacy'!AY563),\"\",'MIS - Pharmacy'!AY563)","v":""},{"$f":"IF(ISBLANK('MIS - Pharmacy'!BH563),\"\",'MIS - Pharmacy'!BH563)","v":""},"",""]
[{"$f":"IF(ISBLANK('MIS - Pharmacy'!A564), \"\",'MIS - Pharmacy'!A564)","v":""},{"$f":"IF(ISBLANK('MIS - Pharmacy'!B564),\"\",('MIS - Pharmacy'!B564&\"(\"&'MIS - Pharmacy'!D564&\")\"))","v":""},{"$f":"IF(ISBLANK('MIS - Pharmacy'!BI564), \"\", 'MIS - Pharmacy'!BI564)","v":""},{"$f":"IF(ISBLANK('MIS - Pharmacy'!U564), \"\", 'MIS - Pharmacy'!U564)","v":""},"","","","","","","",{"$f":"IF(ISBLANK('MIS - Pharmacy'!AC564),\"\",'MIS - Pharmacy'!AC564)","v":""},"",{"$f":"IF(ISBLANK('MIS - Pharmacy'!AD564),\"\",'MIS - Pharmacy'!AD564)","v":""},"","",{"$f":"IF('MIS - Pharmacy'!A564=\"\",\"\",SUM('MIS - Pharmacy'!K564+'MIS - Pharmacy'!L564))","v":""},"",{"$f":"IF('MIS - Pharmacy'!A564=\"\",\"\",('MIS - Pharmacy'!AF564+'MIS - Pharmacy'!AH564 +'MIS - Pharmacy'!AG564))","v":""},{"$f":"IF(ISBLANK('MIS - Pharmacy'!AI564),\"\",'MIS - Pharmacy'!AI564)","v":""},"","","",{"$f":"IF(ISBLANK('MIS - Pharmacy'!V564),\"\",'MIS - Pharmacy'!V564)","v":""},"","","",{"$f":"IF(ISBLANK('MIS - Pharmacy'!J564),\"\",'MIS - Pharmacy'!J564)","v":""},{"$f":"IF(ISBLANK('MIS - Pharmacy'!AY564),\"\",'MIS - Pharmacy'!AY564)","v":""},{"$f":"IF(ISBLANK('MIS - Pharmacy'!BH564),\"\",'MIS - Pharmacy'!BH564)","v":""},"",""]
[{"$f":"IF(ISBLANK('MIS - Pharmacy'!A565), \"\",'MIS - Pharmacy'!A565)","v":""},{"$f":"IF(ISBLANK('MIS - Pharmacy'!B565),\"\",('MIS - Pharmacy'!B565&\"(\"&'MIS - Pharmacy'!D565&\")\"))","v":""},{"$f":"IF(ISBLANK('MIS - Pharmacy'!BI565), \"\", 'MIS - Pharmacy'!BI565)","v":""},{"$f":"IF(ISBLANK('MIS - Pharmacy'!U565), \"\", 'MIS - Pharmacy'!U565)","v":""},"","","","","","","",{"$f":"IF(ISBLANK('MIS - Pharmacy'!AC565),\"\",'MIS - Pharmacy'!AC565)","v":""},"",{"$f":"IF(ISBLANK('MIS - Pharmacy'!AD565),\"\",'MIS - Pharmacy'!AD565)","v":""},"","",{"$f":"IF('MIS - Pharmacy'!A565=\"\",\"\",SUM('MIS - Pharmacy'!K565+'MIS - Pharmacy'!L565))","v":""},"",{"$f":"IF('MIS - Pharmacy'!A565=\"\",\"\",('MIS - Pharmacy'!AF565+'MIS - Pharmacy'!AH565 +'MIS - Pharmacy'!AG565))","v":""},{"$f":"IF(ISBLANK('MIS - Pharmacy'!AI565),\"\",'MIS - Pharmacy'!AI565)","v":""},"","","",{"$f":"IF(ISBLANK('MIS - Pharmacy'!V565),\"\",'MIS - Pharmacy'!V565)","v":""},"","","",{"$f":"IF(ISBLANK('MIS - Pharmacy'!J565),\"\",'MIS - Pharmacy'!J565)","v":""},{"$f":"IF(ISBLANK('MIS - Pharmacy'!AY565),\"\",'MIS - Pharmacy'!AY565)","v":""},{"$f":"IF(ISBLANK('MIS - Pharmacy'!BH565),\"\",'MIS - Pharmacy'!BH565)","v":""},"",""]
[{"$f":"IF(ISBLANK('MIS - Pharmacy'!A566), \"\",'MIS - Pharmacy'!A566)","v":""},{"$f":"IF(ISBLANK('MIS - Pharmacy'!B566),\"\",('MIS - Pharmacy'!B566&\"(\"&'MIS - Pharmacy'!D566&\")\"))","v":""},{"$f":"IF(ISBLANK('MIS - Pharmacy'!BI566), \"\", 'MIS - Pharmacy'!BI566)","v":""},{"$f":"IF(ISBLANK('MIS - Pharmacy'!U566), \"\", 'MIS - Pharmacy'!U566)","v":""},"","","","","","","",{"$f":"IF(ISBLANK('MIS - Pharmacy'!AC566),\"\",'MIS - Pharmacy'!AC566)","v":""},"",{"$f":"IF(ISBLANK('MIS - Pharmacy'!AD566),\"\",'MIS - Pharmacy'!AD566)","v":""},"","",{"$f":"IF('MIS - Pharmacy'!A566=\"\",\"\",SUM('MIS - Pharmacy'!K566+'MIS - Pharmacy'!L566))","v":""},"",{"$f":"IF('MIS - Pharmacy'!A566=\"\",\"\",('MIS - Pharmacy'!AF566+'MIS - Pharmacy'!AH566 +'MIS - Pharmacy'!AG566))","v":""},{"$f":"IF(ISBLANK('MIS - Pharmacy'!AI566),\"\",'MIS - Pharmacy'!AI566)","v":""},"","","",{"$f":"IF(ISBLANK('MIS - Pharmacy'!V566),\"\",'MIS - Pharmacy'!V566)","v":""},"","","",{"$f":"IF(ISBLANK('MIS - Pharmacy'!J566),\"\",'MIS - Pharmacy'!J566)","v":""},{"$f":"IF(ISBLANK('MIS - Pharmacy'!AY566),\"\",'MIS - Pharmacy'!AY566)","v":""},{"$f":"IF(ISBLANK('MIS - Pharmacy'!BH566),\"\",'MIS - Pharmacy'!BH566)","v":""},"",""]
[{"$f":"IF(ISBLANK('MIS - Pharmacy'!A567), \"\",'MIS - Pharmacy'!A567)","v":""},{"$f":"IF(ISBLANK('MIS - Pharmacy'!B567),\"\",('MIS - Pharmacy'!B567&\"(\"&'MIS - Pharmacy'!D567&\")\"))","v":""},{"$f":"IF(ISBLANK('MIS - Pharmacy'!BI567), \"\", 'MIS - Pharmacy'!BI567)","v":""},{"$f":"IF(ISBLANK('MIS - Pharmacy'!U567), \"\", 'MIS - Pharmacy'!U567)","v":""},"","","","","","","",{"$f":"IF(ISBLANK('MIS - Pharmacy'!AC567),\"\",'MIS - Pharmacy'!AC567)","v":""},"",{"$f":"IF(ISBLANK('MIS - Pharmacy'!AD567),\"\",'MIS - Pharmacy'!AD567)","v":""},"","",{"$f":"IF('MIS - Pharmacy'!A567=\"\",\"\",SUM('MIS - Pharmacy'!K567+'MIS - Pharmacy'!L567))","v":""},"",{"$f":"IF('MIS - Pharmacy'!A567=\"\",\"\",('MIS - Pharmacy'!AF567+'MIS - Pharmacy'!AH567 +'MIS - Pharmacy'!AG567))","v":""},{"$f":"IF(ISBLANK('MIS - Pharmacy'!AI567),\"\",'MIS - Pharmacy'!AI567)","v":""},"","","",{"$f":"IF(ISBLANK('MIS - Pharmacy'!V567),\"\",'MIS - Pharmacy'!V567)","v":""},"","","",{"$f":"IF(ISBLANK('MIS - Pharmacy'!J567),\"\",'MIS - Pharmacy'!J567)","v":""},{"$f":"IF(ISBLANK('MIS - Pharmacy'!AY567),\"\",'MIS - Pharmacy'!AY567)","v":""},{"$f":"IF(ISBLANK('MIS - Pharmacy'!BH567),\"\",'MIS - Pharmacy'!BH567)","v":""},"",""]
[{"$f":"IF(ISBLANK('MIS - Pharmacy'!A568), \"\",'MIS - Pharmacy'!A568)","v":""},{"$f":"IF(ISBLANK('MIS - Pharmacy'!B568),\"\",('MIS - Pharmacy'!B568&\"(\"&'MIS - Pharmacy'!D568&\")\"))","v":""},{"$f":"IF(ISBLANK('MIS - Pharmacy'!BI568), \"\", 'MIS - Pharmacy'!BI568)","v":""},{"$f":"IF(ISBLANK('MIS - Pharmacy'!U568), \"\", 'MIS - Pharmacy'!U568)","v":""},"","","","","","","",{"$f":"IF(ISBLANK('MIS - Pharmacy'!AC568),\"\",'MIS - Pharmacy'!AC568)","v":""},"",{"$f":"IF(ISBLANK('MIS - Pharmacy'!AD568),\"\",'MIS - Pharmacy'!AD568)","v":""},"","",{"$f":"IF('MIS - Pharmacy'!A568=\"\",\"\",SUM('MIS - Pharmacy'!K568+'MIS - Pharmacy'!L568))","v":""},"",{"$f":"IF('MIS - Pharmacy'!A568=\"\",\"\",('MIS - Pharmacy'!AF568+'MIS - Pharmacy'!AH568 +'MIS - Pharmacy'!AG568))","v":""},{"$f":"IF(ISBLANK('MIS - Pharmacy'!AI568),\"\",'MIS - Pharmacy'!AI568)","v":""},"","","",{"$f":"IF(ISBLANK('MIS - Pharmacy'!V568),\"\",'MIS - Pharmacy'!V568)","v":""},"","","",{"$f":"IF(ISBLANK('MIS - Pharmacy'!J568),\"\",'MIS - Pharmacy'!J568)","v":""},{"$f":"IF(ISBLANK('MIS - Pharmacy'!AY568),\"\",'MIS - Pharmacy'!AY568)","v":""},{"$f":"IF(ISBLANK('MIS - Pharmacy'!BH568),\"\",'MIS - Pharmacy'!BH568)","v":""},"",""]
[{"$f":"IF(ISBLANK('MIS - Pharmacy'!A569), \"\",'MIS - Pharmacy'!A569)","v":""},{"$f":"IF(ISBLANK('MIS - Pharmacy'!B569),\"\",('MIS - Pharmacy'!B569&\"(\"&'MIS - Pharmacy'!D569&\")\"))","v":""},{"$f":"IF(ISBLANK('MIS - Pharmacy'!BI569), \"\", 'MIS - Pharmacy'!BI569)","v":""},{"$f":"IF(ISBLANK('MIS - Pharmacy'!U569), \"\", 'MIS - Pharmacy'!U569)","v":""},"","","","","","","",{"$f":"IF(ISBLANK('MIS - Pharmacy'!AC569),\"\",'MIS - Pharmacy'!AC569)","v":""},"",{"$f":"IF(ISBLANK('MIS - Pharmacy'!AD569),\"\",'MIS - Pharmacy'!AD569)","v":""},"","",{"$f":"IF('MIS - Pharmacy'!A569=\"\",\"\",SUM('MIS - Pharmacy'!K569+'MIS - Pharmacy'!L569))","v":""},"",{"$f":"IF('MIS - Pharmacy'!A569=\"\",\"\",('MIS - Pharmacy'!AF569+'MIS - Pharmacy'!AH569 +'MIS - Pharmacy'!AG569))","v":""},{"$f":"IF(ISBLANK('MIS - Pharmacy'!AI569),\"\",'MIS - Pharmacy'!AI569)","v":""},"","","",{"$f":"IF(ISBLANK('MIS - Pharmacy'!V569),\"\",'MIS - Pharmacy'!V569)","v":""},"","","",{"$f":"IF(ISBLANK('MIS - Pharmacy'!J569),\"\",'MIS - Pharmacy'!J569)","v":""},{"$f":"IF(ISBLANK('MIS - Pharmacy'!AY569),\"\",'MIS - Pharmacy'!AY569)","v":""},{"$f":"IF(ISBLANK('MIS - Pharmacy'!BH569),\"\",'MIS - Pharmacy'!BH569)","v":""},"",""]
[{"$f":"IF(ISBLANK('MIS - Pharmacy'!A570), \"\",'MIS - Pharmacy'!A570)","v":""},{"$f":"IF(ISBLANK('MIS - Pharmacy'!B570),\"\",('MIS - Pharmacy'!B570&\"(\"&'MIS - Pharmacy'!D570&\")\"))","v":""},{"$f":"IF(ISBLANK('MIS - Pharmacy'!BI570), \"\", 'MIS - Pharmacy'!BI570)","v":""},{"$f":"IF(ISBLANK('MIS - Pharmacy'!U570), \"\", 'MIS - Pharmacy'!U570)","v":""},"","","","","","","",{"$f":"IF(ISBLANK('MIS - Pharmacy'!AC570),\"\",'MIS - Pharmacy'!AC570)","v":""},"",{"$f":"IF(ISBLANK('MIS - Pharmacy'!AD570),\"\",'MIS - Pharmacy'!AD570)","v":""},"","",{"$f":"IF('MIS - Pharmacy'!A570=\"\",\"\",SUM('MIS - Pharmacy'!K570+'MIS - Pharmacy'!L570))","v":""},"",{"$f":"IF('MIS - Pharmacy'!A570=\"\",\"\",('MIS - Pharmacy'!AF570+'MIS - Pharmacy'!AH570 +'MIS - Pharmacy'!AG570))","v":""},{"$f":"IF(ISBLANK('MIS - Pharmacy'!AI570),\"\",'MIS - Pharmacy'!AI570)","v":""},"","","",{"$f":"IF(ISBLANK('MIS - Pharmacy'!V570),\"\",'MIS - Pharmacy'!V570)","v":""},"","","",{"$f":"IF(ISBLANK('MIS - Pharmacy'!J570),\"\",'MIS - Pharmacy'!J570)","v":""},{"$f":"IF(ISBLANK('MIS - Pharmacy'!AY570),\"\",'MIS - Pharmacy'!AY570)","v":""},{"$f":"IF(ISBLANK('MIS - Pharmacy'!BH570),\"\",'MIS - Pharmacy'!BH570)","v":""},"",""]
[{"$f":"IF(ISBLANK('MIS - Pharmacy'!A571), \"\",'MIS - Pharmacy'!A571)","v":""},{"$f":"IF(ISBLANK('MIS - Pharmacy'!B571),\"\",('MIS - Pharmacy'!B571&\"(\"&'MIS - Pharmacy'!D571&\")\"))","v":""},{"$f":"IF(ISBLANK('MIS - Pharmacy'!BI571), \"\", 'MIS - Pharmacy'!BI571)","v":""},{"$f":"IF(ISBLANK('MIS - Pharmacy'!U571), \"\", 'MIS - Pharmacy'!U571)","v":""},"","","","","","","",{"$f":"IF(ISBLANK('MIS - Pharmacy'!AC571),\"\",'MIS - Pharmacy'!AC571)","v":""},"",{"$f":"IF(ISBLANK('MIS - Pharmacy'!AD571),\"\",'MIS - Pharmacy'!AD571)","v":""},"","",{"$f":"IF('MIS - Pharmacy'!A571=\"\",\"\",SUM('MIS - Pharmacy'!K571+'MIS - Pharmacy'!L571))","v":""},"",{"$f":"IF('MIS - Pharmacy'!A571=\"\",\"\",('MIS - Pharmacy'!AF571+'MIS - Pharmacy'!AH571 +'MIS - Pharmacy'!AG571))","v":""},{"$f":"IF(ISBLANK('MIS - Pharmacy'!AI571),\"\",'MIS - Pharmacy'!AI571)","v":""},"","","",{"$f":"IF(ISBLANK('MIS - Pharmacy'!V571),\"\",'MIS - Pharmacy'!V571)","v":""},"","","",{"$f":"IF(ISBLANK('MIS - Pharmacy'!J571),\"\",'MIS - Pharmacy'!J571)","v":""},{"$f":"IF(ISBLANK('MIS - Pharmacy'!AY571),\"\",'MIS - Pharmacy'!AY571)","v":""},{"$f":"IF(ISBLANK('MIS - Pharmacy'!BH571),\"\",'MIS - Pharmacy'!BH571)","v":""},"",""]
[{"$f":"IF(ISBLANK('MIS - Pharmacy'!A572), \"\",'MIS - Pharmacy'!A572)","v":""},{"$f":"IF(ISBLANK('MIS - Pharmacy'!B572),\"\",('MIS - Pharmacy'!B572&\"(\"&'MIS - Pharmacy'!D572&\")\"))","v":""},{"$f":"IF(ISBLANK('MIS - Pharmacy'!BI572), \"\", 'MIS - Pharmacy'!BI572)","v":""},{"$f":"IF(ISBLANK('MIS - Pharmacy'!U572), \"\", 'MIS - Pharmacy'!U572)","v":""},"","","","","","","",{"$f":"IF(ISBLANK('MIS - Pharmacy'!AC572),\"\",'MIS - Pharmacy'!AC572)","v":""},"",{"$f":"IF(ISBLANK('MIS - Pharmacy'!AD572),\"\",'MIS - Pharmacy'!AD572)","v":""},"","",{"$f":"IF('MIS - Pharmacy'!A572=\"\",\"\",SUM('MIS - Pharmacy'!K572+'MIS - Pharmacy'!L572))","v":""},"",{"$f":"IF('MIS - Pharmacy'!A572=\"\",\"\",('MIS - Pharmacy'!AF572+'MIS - Pharmacy'!AH572 +'MIS - Pharmacy'!AG572))","v":""},{"$f":"IF(ISBLANK('MIS - Pharmacy'!AI572),\"\",'MIS - Pharmacy'!AI572)","v":""},"","","",{"$f":"IF(ISBLANK('MIS - Pharmacy'!V572),\"\",'MIS - Pharmacy'!V572)","v":""},"","","",{"$f":"IF(ISBLANK('MIS - Pharmacy'!J572),\"\",'MIS - Pharmacy'!J572)","v":""},{"$f":"IF(ISBLANK('MIS - Pharmacy'!AY572),\"\",'MIS - Pharmacy'!AY572)","v":""},{"$f":"IF(ISBLANK('MIS - Pharmacy'!BH572),\"\",'MIS - Pharmacy'!BH572)","v":""},"",""]
[{"$f":"IF(ISBLANK('MIS - Pharmacy'!A573), \"\",'MIS - Pharmacy'!A573)","v":""},{"$f":"IF(ISBLANK('MIS - Pharmacy'!B573),\"\",('MIS - Pharmacy'!B573&\"(\"&'MIS - Pharmacy'!D573&\")\"))","v":""},{"$f":"IF(ISBLANK('MIS - Pharmacy'!BI573), \"\", 'MIS - Pharmacy'!BI573)","v":""},{"$f":"IF(ISBLANK('MIS - Pharmacy'!U573), \"\", 'MIS - Pharmacy'!U573)","v":""},"","","","","","","",{"$f":"IF(ISBLANK('MIS - Pharmacy'!AC573),\"\",'MIS - Pharmacy'!AC573)","v":""},"",{"$f":"IF(ISBLANK('MIS - Pharmacy'!AD573),\"\",'MIS - Pharmacy'!AD573)","v":""},"","",{"$f":"IF('MIS - Pharmacy'!A573=\"\",\"\",SUM('MIS - Pharmacy'!K573+'MIS - Pharmacy'!L573))","v":""},"",{"$f":"IF('MIS - Pharmacy'!A573=\"\",\"\",('MIS - Pharmacy'!AF573+'MIS - Pharmacy'!AH573 +'MIS - Pharmacy'!AG573))","v":""},{"$f":"IF(ISBLANK('MIS - Pharmacy'!AI573),\"\",'MIS - Pharmacy'!AI573)","v":""},"","","",{"$f":"IF(ISBLANK('MIS - Pharmacy'!V573),\"\",'MIS - Pharmacy'!V573)","v":""},"","","",{"$f":"IF(ISBLANK('MIS - Pharmacy'!J573),\"\",'MIS - Pharmacy'!J573)","v":""},{"$f":"IF(ISBLANK('MIS - Pharmacy'!AY573),\"\",'MIS - Pharmacy'!AY573)","v":""},{"$f":"IF(ISBLANK('MIS - Pharmacy'!BH573),\"\",'MIS - Pharmacy'!BH573)","v":""},"",""]
[{"$f":"IF(ISBLANK('MIS - Pharmacy'!A574), \"\",'MIS - Pharmacy'!A574)","v":""},{"$f":"IF(ISBLANK('MIS - Pharmacy'!B574),\"\",('MIS - Pharmacy'!B574&\"(\"&'MIS - Pharmacy'!D574&\")\"))","v":""},{"$f":"IF(ISBLANK('MIS - Pharmacy'!BI574), \"\", 'MIS - Pharmacy'!BI574)","v":""},{"$f":"IF(ISBLANK('MIS - Pharmacy'!U574), \"\", 'MIS - Pharmacy'!U574)","v":""},"","","","","","","",{"$f":"IF(ISBLANK('MIS - Pharmacy'!AC574),\"\",'MIS - Pharmacy'!AC574)","v":""},"",{"$f":"IF(ISBLANK('MIS - Pharmacy'!AD574),\"\",'MIS - Pharmacy'!AD574)","v":""},"","",{"$f":"IF('MIS - Pharmacy'!A574=\"\",\"\",SUM('MIS - Pharmacy'!K574+'MIS - Pharmacy'!L574))","v":""},"",{"$f":"IF('MIS - Pharmacy'!A574=\"\",\"\",('MIS - Pharmacy'!AF574+'MIS - Pharmacy'!AH574 +'MIS - Pharmacy'!AG574))","v":""},{"$f":"IF(ISBLANK('MIS - Pharmacy'!AI574),\"\",'MIS - Pharmacy'!AI574)","v":""},"","","",{"$f":"IF(ISBLANK('MIS - Pharmacy'!V574),\"\",'MIS - Pharmacy'!V574)","v":""},"","","",{"$f":"IF(ISBLANK('MIS - Pharmacy'!J574),\"\",'MIS - Pharmacy'!J574)","v":""},{"$f":"IF(ISBLANK('MIS - Pharmacy'!AY574),\"\",'MIS - Pharmacy'!AY574)","v":""},{"$f":"IF(ISBLANK('MIS - Pharmacy'!BH574),\"\",'MIS - Pharmacy'!BH574)","v":""},"",""]
[{"$f":"IF(ISBLANK('MIS - Pharmacy'!A575), \"\",'MIS - Pharmacy'!A575)","v":""},{"$f":"IF(ISBLANK('MIS - Pharmacy'!B575),\"\",('MIS - Pharmacy'!B575&\"(\"&'MIS - Pharmacy'!D575&\")\"))","v":""},{"$f":"IF(ISBLANK('MIS - Pharmacy'!BI575), \"\", 'MIS - Pharmacy'!BI575)","v":""},{"$f":"IF(ISBLANK('MIS - Pharmacy'!U575), \"\", 'MIS - Pharmacy'!U575)","v":""},"","","","","","","",{"$f":"IF(ISBLANK('MIS - Pharmacy'!AC575),\"\",'MIS - Pharmacy'!AC575)","v":""},"",{"$f":"IF(ISBLANK('MIS - Pharmacy'!AD575),\"\",'MIS - Pharmacy'!AD575)","v":""},"","",{"$f":"IF('MIS - Pharmacy'!A575=\"\",\"\",SUM('MIS - Pharmacy'!K575+'MIS - Pharmacy'!L575))","v":""},"",{"$f":"IF('MIS - Pharmacy'!A575=\"\",\"\",('MIS - Pharmacy'!AF575+'MIS - Pharmacy'!AH575 +'MIS - Pharmacy'!AG575))","v":""},{"$f":"IF(ISBLANK('MIS - Pharmacy'!AI575),\"\",'MIS - Pharmacy'!AI575)","v":""},"","","",{"$f":"IF(ISBLANK('MIS - Pharmacy'!V575),\"\",'MIS - Pharmacy'!V575)","v":""},"","","",{"$f":"IF(ISBLANK('MIS - Pharmacy'!J575),\"\",'MIS - Pharmacy'!J575)","v":""},{"$f":"IF(ISBLANK('MIS - Pharmacy'!AY575),\"\",'MIS - Pharmacy'!AY575)","v":""},{"$f":"IF(ISBLANK('MIS - Pharmacy'!BH575),\"\",'MIS - Pharmacy'!BH575)","v":""},"",""]
[{"$f":"IF(ISBLANK('MIS - Pharmacy'!A576), \"\",'MIS - Pharmacy'!A576)","v":""},{"$f":"IF(ISBLANK('MIS - Pharmacy'!B576),\"\",('MIS - Pharmacy'!B576&\"(\"&'MIS - Pharmacy'!D576&\")\"))","v":""},{"$f":"IF(ISBLANK('MIS - Pharmacy'!BI576), \"\", 'MIS - Pharmacy'!BI576)","v":""},{"$f":"IF(ISBLANK('MIS - Pharmacy'!U576), \"\", 'MIS - Pharmacy'!U576)","v":""},"","","","","","","",{"$f":"IF(ISBLANK('MIS - Pharmacy'!AC576),\"\",'MIS - Pharmacy'!AC576)","v":""},"",{"$f":"IF(ISBLANK('MIS - Pharmacy'!AD576),\"\",'MIS - Pharmacy'!AD576)","v":""},"","",{"$f":"IF('MIS - Pharmacy'!A576=\"\",\"\",SUM('MIS - Pharmacy'!K576+'MIS - Pharmacy'!L576))","v":""},"",{"$f":"IF('MIS - Pharmacy'!A576=\"\",\"\",('MIS - Pharmacy'!AF576+'MIS - Pharmacy'!AH576 +'MIS - Pharmacy'!AG576))","v":""},{"$f":"IF(ISBLANK('MIS - Pharmacy'!AI576),\"\",'MIS - Pharmacy'!AI576)","v":""},"","","",{"$f":"IF(ISBLANK('MIS - Pharmacy'!V576),\"\",'MIS - Pharmacy'!V576)","v":""},"","","",{"$f":"IF(ISBLANK('MIS - Pharmacy'!J576),\"\",'MIS - Pharmacy'!J576)","v":""},{"$f":"IF(ISBLANK('MIS - Pharmacy'!AY576),\"\",'MIS - Pharmacy'!AY576)","v":""},{"$f":"IF(ISBLANK('MIS - Pharmacy'!BH576),\"\",'MIS - Pharmacy'!BH576)","v":""},"",""]
[{"$f":"IF(ISBLANK('MIS - Pharmacy'!A577), \"\",'MIS - Pharmacy'!A577)","v":""},{"$f":"IF(ISBLANK('MIS - Pharmacy'!B577),\"\",('MIS - Pharmacy'!B577&\"(\"&'MIS - Pharmacy'!D577&\")\"))","v":""},{"$f":"IF(ISBLANK('MIS - Pharmacy'!BI577), \"\", 'MIS - Pharmacy'!BI577)","v":""},{"$f":"IF(ISBLANK('MIS - Pharmacy'!U577), \"\", 'MIS - Pharmacy'!U577)","v":""},"","","","","","","",{"$f":"IF(ISBLANK('MIS - Pharmacy'!AC577),\"\",'MIS - Pharmacy'!AC577)","v":""},"",{"$f":"IF(ISBLANK('MIS - Pharmacy'!AD577),\"\",'MIS - Pharmacy'!AD577)","v":""},"","",{"$f":"IF('MIS - Pharmacy'!A577=\"\",\"\",SUM('MIS - Pharmacy'!K577+'MIS - Pharmacy'!L577))","v":""},"",{"$f":"IF('MIS - Pharmacy'!A577=\"\",\"\",('MIS - Pharmacy'!AF577+'MIS - Pharmacy'!AH577 +'MIS - Pharmacy'!AG577))","v":""},{"$f":"IF(ISBLANK('MIS - Pharmacy'!AI577),\"\",'MIS - Pharmacy'!AI577)","v":""},"","","",{"$f":"IF(ISBLANK('MIS - Pharmacy'!V577),\"\",'MIS - Pharmacy'!V577)","v":""},"","","",{"$f":"IF(ISBLANK('MIS - Pharmacy'!J577),\"\",'MIS - Pharmacy'!J577)","v":""},{"$f":"IF(ISBLANK('MIS - Pharmacy'!AY577),\"\",'MIS - Pharmacy'!AY577)","v":""},{"$f":"IF(ISBLANK('MIS - Pharmacy'!BH577),\"\",'MIS - Pharmacy'!BH577)","v":""},"",""]
[{"$f":"IF(ISBLANK('MIS - Pharmacy'!A578), \"\",'MIS - Pharmacy'!A578)","v":""},{"$f":"IF(ISBLANK('MIS - Pharmacy'!B578),\"\",('MIS - Pharmacy'!B578&\"(\"&'MIS - Pharmacy'!D578&\")\"))","v":""},{"$f":"IF(ISBLANK('MIS - Pharmacy'!BI578), \"\", 'MIS - Pharmacy'!BI578)","v":""},{"$f":"IF(ISBLANK('MIS - Pharmacy'!U578), \"\", 'MIS - Pharmacy'!U578)","v":""},"","","","","","","",{"$f":"IF(ISBLANK('MIS - Pharmacy'!AC578),\"\",'MIS - Pharmacy'!AC578)","v":""},"",{"$f":"IF(ISBLANK('MIS - Pharmacy'!AD578),\"\",'MIS - Pharmacy'!AD578)","v":""},"","",{"$f":"IF('MIS - Pharmacy'!A578=\"\",\"\",SUM('MIS - Pharmacy'!K578+'MIS - Pharmacy'!L578))","v":""},"",{"$f":"IF('MIS - Pharmacy'!A578=\"\",\"\",('MIS - Pharmacy'!AF578+'MIS - Pharmacy'!AH578 +'MIS - Pharmacy'!AG578))","v":""},{"$f":"IF(ISBLANK('MIS - Pharmacy'!AI578),\"\",'MIS - Pharmacy'!AI578)","v":""},"","","",{"$f":"IF(ISBLANK('MIS - Pharmacy'!V578),\"\",'MIS - Pharmacy'!V578)","v":""},"","","",{"$f":"IF(ISBLANK('MIS - Pharmacy'!J578),\"\",'MIS - Pharmacy'!J578)","v":""},{"$f":"IF(ISBLANK('MIS - Pharmacy'!AY578),\"\",'MIS - Pharmacy'!AY578)","v":""},{"$f":"IF(ISBLANK('MIS - Pharmacy'!BH578),\"\",'MIS - Pharmacy'!BH578)","v":""},"",""]
[{"$f":"IF(ISBLANK('MIS - Pharmacy'!A579), \"\",'MIS - Pharmacy'!A579)","v":""},{"$f":"IF(ISBLANK('MIS - Pharmacy'!B579),\"\",('MIS - Pharmacy'!B579&\"(\"&'MIS - Pharmacy'!D579&\")\"))","v":""},{"$f":"IF(ISBLANK('MIS - Pharmacy'!BI579), \"\", 'MIS - Pharmacy'!BI579)","v":""},{"$f":"IF(ISBLANK('MIS - Pharmacy'!U579), \"\", 'MIS - Pharmacy'!U579)","v":""},"","","","","","","",{"$f":"IF(ISBLANK('MIS - Pharmacy'!AC579),\"\",'MIS - Pharmacy'!AC579)","v":""},"",{"$f":"IF(ISBLANK('MIS - Pharmacy'!AD579),\"\",'MIS - Pharmacy'!AD579)","v":""},"","",{"$f":"IF('MIS - Pharmacy'!A579=\"\",\"\",SUM('MIS - Pharmacy'!K579+'MIS - Pharmacy'!L579))","v":""},"",{"$f":"IF('MIS - Pharmacy'!A579=\"\",\"\",('MIS - Pharmacy'!AF579+'MIS - Pharmacy'!AH579 +'MIS - Pharmacy'!AG579))","v":""},{"$f":"IF(ISBLANK('MIS - Pharmacy'!AI579),\"\",'MIS - Pharmacy'!AI579)","v":""},"","","",{"$f":"IF(ISBLANK('MIS - Pharmacy'!V579),\"\",'MIS - Pharmacy'!V579)","v":""},"","","",{"$f":"IF(ISBLANK('MIS - Pharmacy'!J579),\"\",'MIS - Pharmacy'!J579)","v":""},{"$f":"IF(ISBLANK('MIS - Pharmacy'!AY579),\"\",'MIS - Pharmacy'!AY579)","v":""},{"$f":"IF(ISBLANK('MIS - Pharmacy'!BH579),\"\",'MIS - Pharmacy'!BH579)","v":""},"",""]
[{"$f":"IF(ISBLANK('MIS - Pharmacy'!A580), \"\",'MIS - Pharmacy'!A580)","v":""},{"$f":"IF(ISBLANK('MIS - Pharmacy'!B580),\"\",('MIS - Pharmacy'!B580&\"(\"&'MIS - Pharmacy'!D580&\")\"))","v":""},{"$f":"IF(ISBLANK('MIS - Pharmacy'!BI580), \"\", 'MIS - Pharmacy'!BI580)","v":""},{"$f":"IF(ISBLANK('MIS - Pharmacy'!U580), \"\", 'MIS - Pharmacy'!U580)","v":""},"","","","","","","",{"$f":"IF(ISBLANK('MIS - Pharmacy'!AC580),\"\",'MIS - Pharmacy'!AC580)","v":""},"",{"$f":"IF(ISBLANK('MIS - Pharmacy'!AD580),\"\",'MIS - Pharmacy'!AD580)","v":""},"","",{"$f":"IF('MIS - Pharmacy'!A580=\"\",\"\",SUM('MIS - Pharmacy'!K580+'MIS - Pharmacy'!L580))","v":""},"",{"$f":"IF('MIS - Pharmacy'!A580=\"\",\"\",('MIS - Pharmacy'!AF580+'MIS - Pharmacy'!AH580 +'MIS - Pharmacy'!AG580))","v":""},{"$f":"IF(ISBLANK('MIS - Pharmacy'!AI580),\"\",'MIS - Pharmacy'!AI580)","v":""},"","","",{"$f":"IF(ISBLANK('MIS - Pharmacy'!V580),\"\",'MIS - Pharmacy'!V580)","v":""},"","","",{"$f":"IF(ISBLANK('MIS - Pharmacy'!J580),\"\",'MIS - Pharmacy'!J580)","v":""},{"$f":"IF(ISBLANK('MIS - Pharmacy'!AY580),\"\",'MIS - Pharmacy'!AY580)","v":""},{"$f":"IF(ISBLANK('MIS - Pharmacy'!BH580),\"\",'MIS - Pharmacy'!BH580)","v":""},"",""]
[{"$f":"IF(ISBLANK('MIS - Pharmacy'!A581), \"\",'MIS - Pharmacy'!A581)","v":""},{"$f":"IF(ISBLANK('MIS - Pharmacy'!B581),\"\",('MIS - Pharmacy'!B581&\"(\"&'MIS - Pharmacy'!D581&\")\"))","v":""},{"$f":"IF(ISBLANK('MIS - Pharmacy'!BI581), \"\", 'MIS - Pharmacy'!BI581)","v":""},{"$f":"IF(ISBLANK('MIS - Pharmacy'!U581), \"\", 'MIS - Pharmacy'!U581)","v":""},"","","",{"$f":"IF(D590=\"\",\"\",IF(X590=0,0,D590/Y590))","v":""},"","","",{"$f":"IF(ISBLANK('MIS - Pharmacy'!AC581),\"\",'MIS - Pharmacy'!AC581)","v":""},"",{"$f":"IF(ISBLANK('MIS - Pharmacy'!AD581),\"\",'MIS - Pharmacy'!AD581)","v":""},"","",{"$f":"IF('MIS - Pharmacy'!A581=\"\",\"\",SUM('MIS - Pharmacy'!K581+'MIS - Pharmacy'!L581))","v":""},"",{"$f":"IF('MIS - Pharmacy'!A581=\"\",\"\",('MIS - Pharmacy'!AF581+'MIS - Pharmacy'!AH581 +'MIS - Pharmacy'!AG581))","v":""},{"$f":"IF(ISBLANK('MIS - Pharmacy'!AI581),\"\",'MIS - Pharmacy'!AI581)","v":""},"","","",{"$f":"IF(ISBLANK('MIS - Pharmacy'!V581),\"\",'MIS - Pharmacy'!V581)","v":""},"","","",{"$f":"IF(ISBLANK('MIS - Pharmacy'!J581),\"\",'MIS - Pharmacy'!J581)","v":""},{"$f":"IF(ISBLANK('MIS - Pharmacy'!AY581),\"\",'MIS - Pharmacy'!AY581)","v":""},{"$f":"IF(ISBLANK('MIS - Pharmacy'!BH581),\"\",'MIS - Pharmacy'!BH581)","v":""},"",""]
[{"$f":"IF(ISBLANK('MIS - Pharmacy'!A582), \"\",'MIS - Pharmacy'!A582)","v":""},{"$f":"IF(ISBLANK('MIS - Pharmacy'!B582),\"\",('MIS - Pharmacy'!B582&\"(\"&'MIS - Pharmacy'!D582&\")\"))","v":""},{"$f":"IF(ISBLANK('MIS - Pharmacy'!BI582), \"\", 'MIS - Pharmacy'!BI582)","v":""},{"$f":"IF(ISBLANK('MIS - Pharmacy'!U582), \"\", 'MIS - Pharmacy'!U582)","v":""},"","","","","","","",{"$f":"IF(ISBLANK('MIS - Pharmacy'!AC582),\"\",'MIS - Pharmacy'!AC582)","v":""},"",{"$f":"IF(ISBLANK('MIS - Pharmacy'!AD582),\"\",'MIS - Pharmacy'!AD582)","v":""},"","",{"$f":"IF('MIS - Pharmacy'!A582=\"\",\"\",SUM('MIS - Pharmacy'!K582+'MIS - Pharmacy'!L582))","v":""},"",{"$f":"IF('MIS - Pharmacy'!A582=\"\",\"\",('MIS - Pharmacy'!AF582+'MIS - Pharmacy'!AH582 +'MIS - Pharmacy'!AG582))","v":""},{"$f":"IF(ISBLANK('MIS - Pharmacy'!AI582),\"\",'MIS - Pharmacy'!AI582)","v":""},"","","",{"$f":"IF(ISBLANK('MIS - Pharmacy'!V582),\"\",'MIS - Pharmacy'!V582)","v":""},"","","",{"$f":"IF(ISBLANK('MIS - Pharmacy'!J582),\"\",'MIS - Pharmacy'!J582)","v":""},{"$f":"IF(ISBLANK('MIS - Pharmacy'!AY582),\"\",'MIS - Pharmacy'!AY582)","v":""},{"$f":"IF(ISBLANK('MIS - Pharmacy'!BH582),\"\",'MIS - Pharmacy'!BH582)","v":""},"",""]
[{"$f":"IF(ISBLANK('MIS - Pharmacy'!A583), \"\",'MIS - Pharmacy'!A583)","v":""},{"$f":"IF(ISBLANK('MIS - Pharmacy'!B583),\"\",('MIS - Pharmacy'!B583&\"(\"&'MIS - Pharmacy'!D583&\")\"))","v":""},{"$f":"IF(ISBLANK('MIS - Pharmacy'!BI583), \"\", 'MIS - Pharmacy'!BI583)","v":""},{"$f":"IF(ISBLANK('MIS - Pharmacy'!U583), \"\", 'MIS - Pharmacy'!U583)","v":""},"","","","","","","",{"$f":"IF(ISBLANK('MIS - Pharmacy'!AC583),\"\",'MIS - Pharmacy'!AC583)","v":""},"",{"$f":"IF(ISBLANK('MIS - Pharmacy'!AD583),\"\",'MIS - Pharmacy'!AD583)","v":""},"","",{"$f":"IF('MIS - Pharmacy'!A583=\"\",\"\",SUM('MIS - Pharmacy'!K583+'MIS - Pharmacy'!L583))","v":""},"",{"$f":"IF('MIS - Pharmacy'!A583=\"\",\"\",('MIS - Pharmacy'!AF583+'MIS - Pharmacy'!AH583 +'MIS - Pharmacy'!AG583))","v":""},{"$f":"IF(ISBLANK('MIS - Pharmacy'!AI583),\"\",'MIS - Pharmacy'!AI583)","v":""},"","","",{"$f":"IF(ISBLANK('MIS - Pharmacy'!V583),\"\",'MIS - Pharmacy'!V583)","v":""},"","","",{"$f":"IF(ISBLANK('MIS - Pharmacy'!J583),\"\",'MIS - Pharmacy'!J583)","v":""},{"$f":"IF(ISBLANK('MIS - Pharmacy'!AY583),\"\",'MIS - Pharmacy'!AY583)","v":""},{"$f":"IF(ISBLANK('MIS - Pharmacy'!BH583),\"\",'MIS - Pharmacy'!BH583)","v":""},"",""]
[{"$f":"IF(ISBLANK('MIS - Pharmacy'!A584), \"\",'MIS - Pharmacy'!A584)","v":""},{"$f":"IF(ISBLANK('MIS - Pharmacy'!B584),\"\",('MIS - Pharmacy'!B584&\"(\"&'MIS - Pharmacy'!D584&\")\"))","v":""},{"$f":"IF(ISBLANK('MIS - Pharmacy'!BI584), \"\", 'MIS - Pharmacy'!BI584)","v":""},{"$f":"IF(ISBLANK('MIS - Pharmacy'!U584), \"\", 'MIS - Pharmacy'!U584)","v":""},"","","","","","","",{"$f":"IF(ISBLANK('MIS - Pharmacy'!AC584),\"\",'MIS - Pharmacy'!AC584)","v":""},"",{"$f":"IF(ISBLANK('MIS - Pharmacy'!AD584),\"\",'MIS - Pharmacy'!AD584)","v":""},"","",{"$f":"IF('MIS - Pharmacy'!A584=\"\",\"\",SUM('MIS - Pharmacy'!K584+'MIS - Pharmacy'!L584))","v":""},"",{"$f":"IF('MIS - Pharmacy'!A584=\"\",\"\",('MIS - Pharmacy'!AF584+'MIS - Pharmacy'!AH584 +'MIS - Pharmacy'!AG584))","v":""},{"$f":"IF(ISBLANK('MIS - Pharmacy'!AI584),\"\",'MIS - Pharmacy'!AI584)","v":""},"","","",{"$f":"IF(ISBLANK('MIS - Pharmacy'!V584),\"\",'MIS - Pharmacy'!V584)","v":""},"","","",{"$f":"IF(ISBLANK('MIS - Pharmacy'!J584),\"\",'MIS - Pharmacy'!J584)","v":""},{"$f":"IF(ISBLANK('MIS - Pharmacy'!AY584),\"\",'MIS - Pharmacy'!AY584)","v":""},{"$f":"IF(ISBLANK('MIS - Pharmacy'!BH584),\"\",'MIS - Pharmacy'!BH584)","v":""},"",""]
[{"$f":"IF(ISBLANK('MIS - Pharmacy'!A585), \"\",'MIS - Pharmacy'!A585)","v":""},{"$f":"IF(ISBLANK('MIS - Pharmacy'!B585),\"\",('MIS - Pharmacy'!B585&\"(\"&'MIS - Pharmacy'!D585&\")\"))","v":""},{"$f":"IF(ISBLANK('MIS - Pharmacy'!BI585), \"\", 'MIS - Pharmacy'!BI585)","v":""},{"$f":"IF(ISBLANK('MIS - Pharmacy'!U585), \"\", 'MIS - Pharmacy'!U585)","v":""},"","","","","","","",{"$f":"IF(ISBLANK('MIS - Pharmacy'!AC585),\"\",'MIS - Pharmacy'!AC585)","v":""},"",{"$f":"IF(ISBLANK('MIS - Pharmacy'!AD585),\"\",'MIS - Pharmacy'!AD585)","v":""},"","",{"$f":"IF('MIS - Pharmacy'!A585=\"\",\"\",SUM('MIS - Pharmacy'!K585+'MIS - Pharmacy'!L585))","v":""},"",{"$f":"IF('MIS - Pharmacy'!A585=\"\",\"\",('MIS - Pharmacy'!AF585+'MIS - Pharmacy'!AH585 +'MIS - Pharmacy'!AG585))","v":""},{"$f":"IF(ISBLANK('MIS - Pharmacy'!AI585),\"\",'MIS - Pharmacy'!AI585)","v":""},"","","",{"$f":"IF(ISBLANK('MIS - Pharmacy'!V585),\"\",'MIS - Pharmacy'!V585)","v":""},"","","",{"$f":"IF(ISBLANK('MIS - Pharmacy'!J585),\"\",'MIS - Pharmacy'!J585)","v":""},{"$f":"IF(ISBLANK('MIS - Pharmacy'!AY585),\"\",'MIS - Pharmacy'!AY585)","v":""},{"$f":"IF(ISBLANK('MIS - Pharmacy'!BH585),\"\",'MIS - Pharmacy'!BH585)","v":""},"",""]
[{"$f":"IF(ISBLANK('MIS - Pharmacy'!A586), \"\",'MIS - Pharmacy'!A586)","v":""},{"$f":"IF(ISBLANK('MIS - Pharmacy'!B586),\"\",('MIS - Pharmacy'!B586&\"(\"&'MIS - Pharmacy'!D586&\")\"))","v":""},{"$f":"IF(ISBLANK('MIS - Pharmacy'!BI586), \"\", 'MIS - Pharmacy'!BI586)","v":""},{"$f":"IF(ISBLANK('MIS - Pharmacy'!U586), \"\", 'MIS - Pharmacy'!U586)","v":""},"","","","","","","",{"$f":"IF(ISBLANK('MIS - Pharmacy'!AC586),\"\",'MIS - Pharmacy'!AC586)","v":""},"",{"$f":"IF(ISBLANK('MIS - Pharmacy'!AD586),\"\",'MIS - Pharmacy'!AD586)","v":""},"","",{"$f":"IF('MIS - Pharmacy'!A586=\"\",\"\",SUM('MIS - Pharmacy'!K586+'MIS - Pharmacy'!L586))","v":""},"",{"$f":"IF('MIS - Pharmacy'!A586=\"\",\"\",('MIS - Pharmacy'!AF586+'MIS - Pharmacy'!AH586 +'MIS - Pharmacy'!AG586))","v":""},{"$f":"IF(ISBLANK('MIS - Pharmacy'!AI586),\"\",'MIS - Pharmacy'!AI586)","v":""},"","","",{"$f":"IF(ISBLANK('MIS - Pharmacy'!V586),\"\",'MIS - Pharmacy'!V586)","v":""},"","","",{"$f":"IF(ISBLANK('MIS - Pharmacy'!J586),\"\",'MIS - Pharmacy'!J586)","v":""},{"$f":"IF(ISBLANK('MIS - Pharmacy'!AY586),\"\",'MIS - Pharmacy'!AY586)","v":""},{"$f":"IF(ISBLANK('MIS - Pharmacy'!BH586),\"\",'MIS - Pharmacy'!BH586)","v":""},"",""]
[{"$f":"IF(ISBLANK('MIS - Pharmacy'!A587), \"\",'MIS - Pharmacy'!A587)","v":""},{"$f":"IF(ISBLANK('MIS - Pharmacy'!B587),\"\",('MIS - Pharmacy'!B587&\"(\"&'MIS - Pharmacy'!D587&\")\"))","v":""},{"$f":"IF(ISBLANK('MIS - Pharmacy'!BI587), \"\", 'MIS - Pharmacy'!BI587)","v":""},{"$f":"IF(ISBLANK('MIS - Pharmacy'!U587), \"\", 'MIS - Pharmacy'!U587)","v":""},"","","","","","","",{"$f":"IF(ISBLANK('MIS - Pharmacy'!AC587),\"\",'MIS - Pharmacy'!AC587)","v":""},"",{"$f":"IF(ISBLANK('MIS - Pharmacy'!AD587),\"\",'MIS - Pharmacy'!AD587)","v":""},"","",{"$f":"IF('MIS - Pharmacy'!A587=\"\",\"\",SUM('MIS - Pharmacy'!K587+'MIS - Pharmacy'!L587))","v":""},"",{"$f":"IF('MIS - Pharmacy'!A587=\"\",\"\",('MIS - Pharmacy'!AF587+'MIS - Pharmacy'!AH587 +'MIS - Pharmacy'!AG587))","v":""},{"$f":"IF(ISBLANK('MIS - Pharmacy'!AI587),\"\",'MIS - Pharmacy'!AI587)","v":""},"","","",{"$f":"IF(ISBLANK('MIS - Pharmacy'!V587),\"\",'MIS - Pharmacy'!V587)","v":""},"","","",{"$f":"IF(ISBLANK('MIS - Pharmacy'!J587),\"\",'MIS - Pharmacy'!J587)","v":""},{"$f":"IF(ISBLANK('MIS - Pharmacy'!AY587),\"\",'MIS - Pharmacy'!AY587)","v":""},{"$f":"IF(ISBLANK('MIS - Pharmacy'!BH587),\"\",'MIS - Pharmacy'!BH587)","v":""},"",""]
[{"$f":"IF(ISBLANK('MIS - Pharmacy'!A588), \"\",'MIS - Pharmacy'!A588)","v":""},{"$f":"IF(ISBLANK('MIS - Pharmacy'!B588),\"\",('MIS - Pharmacy'!B588&\"(\"&'MIS - Pharmacy'!D588&\")\"))","v":""},{"$f":"IF(ISBLANK('MIS - Pharmacy'!BI588), \"\", 'MIS - Pharmacy'!BI588)","v":""},{"$f":"IF(ISBLANK('MIS - Pharmacy'!U588), \"\", 'MIS - Pharmacy'!U588)","v":""},"","","","","","","",{"$f":"IF(ISBLANK('MIS - Pharmacy'!AC588),\"\",'MIS - Pharmacy'!AC588)","v":""},"",{"$f":"IF(ISBLANK('MIS - Pharmacy'!AD588),\"\",'MIS - Pharmacy'!AD588)","v":""},"","",{"$f":"IF('MIS - Pharmacy'!A588=\"\",\"\",SUM('MIS - Pharmacy'!K588+'MIS - Pharmacy'!L588))","v":""},"",{"$f":"IF('MIS - Pharmacy'!A588=\"\",\"\",('MIS - Pharmacy'!AF588+'MIS - Pharmacy'!AH588 +'MIS - Pharmacy'!AG588))","v":""},{"$f":"IF(ISBLANK('MIS - Pharmacy'!AI588),\"\",'MIS - Pharmacy'!AI588)","v":""},"","","",{"$f":"IF(ISBLANK('MIS - Pharmacy'!V588),\"\",'MIS - Pharmacy'!V588)","v":""},"","","",{"$f":"IF(ISBLANK('MIS - Pharmacy'!J588),\"\",'MIS - Pharmacy'!J588)","v":""},{"$f":"IF(ISBLANK('MIS - Pharmacy'!AY588),\"\",'MIS - Pharmacy'!AY588)","v":""},{"$f":"IF(ISBLANK('MIS - Pharmacy'!BH588),\"\",'MIS - Pharmacy'!BH588)","v":""},"",""]
[{"$f":"IF(ISBLANK('MIS - Pharmacy'!A589), \"\",'MIS - Pharmacy'!A589)","v":""},{"$f":"IF(ISBLANK('MIS - Pharmacy'!B589),\"\",('MIS - Pharmacy'!B589&\"(\"&'MIS - Pharmacy'!D589&\")\"))","v":""},{"$f":"IF(ISBLANK('MIS - Pharmacy'!BI589), \"\", 'MIS - Pharmacy'!BI589)","v":""},{"$f":"IF(ISBLANK('MIS - Pharmacy'!U589), \"\", 'MIS - Pharmacy'!U589)","v":""},"","","","","","","",{"$f":"IF(ISBLANK('MIS - Pharmacy'!AC589),\"\",'MIS - Pharmacy'!AC589)","v":""},"",{"$f":"IF(ISBLANK('MIS - Pharmacy'!AD589),\"\",'MIS - Pharmacy'!AD589)","v":""},"","",{"$f":"IF('MIS - Pharmacy'!A589=\"\",\"\",SUM('MIS - Pharmacy'!K589+'MIS - Pharmacy'!L589))","v":""},"",{"$f":"IF('MIS - Pharmacy'!A589=\"\",\"\",('MIS - Pharmacy'!AF589+'MIS - Pharmacy'!AH589 +'MIS - Pharmacy'!AG589))","v":""},{"$f":"IF(ISBLANK('MIS - Pharmacy'!AI589),\"\",'MIS - Pharmacy'!AI589)","v":""},"","","",{"$f":"IF(ISBLANK('MIS - Pharmacy'!V589),\"\",'MIS - Pharmacy'!V589)","v":""},"","","",{"$f":"IF(ISBLANK('MIS - Pharmacy'!J589),\"\",'MIS - Pharmacy'!J589)","v":""},{"$f":"IF(ISBLANK('MIS - Pharmacy'!AY589),\"\",'MIS - Pharmacy'!AY589)","v":""},{"$f":"IF(ISBLANK('MIS - Pharmacy'!BH589),\"\",'MIS - Pharmacy'!BH589)","v":""},"",""]
[{"$f":"IF(ISBLANK('MIS - Pharmacy'!A590), \"\",'MIS - Pharmacy'!A590)","v":""},{"$f":"IF(ISBLANK('MIS - Pharmacy'!B590),\"\",('MIS - Pharmacy'!B590&\"(\"&'MIS - Pharmacy'!D590&\")\"))","v":""},{"$f":"IF(ISBLANK('MIS - Pharmacy'!BI590), \"\", 'MIS - Pharmacy'!BI590)","v":""},{"$f":"IF(ISBLANK('MIS - Pharmacy'!U590), \"\", 'MIS - Pharmacy'!U590)","v":""},"","","","","","","",{"$f":"IF(ISBLANK('MIS - Pharmacy'!AC590),\"\",'MIS - Pharmacy'!AC590)","v":""},"",{"$f":"IF(ISBLANK('MIS - Pharmacy'!AD590),\"\",'MIS - Pharmacy'!AD590)","v":""},"","",{"$f":"IF('MIS - Pharmacy'!A590=\"\",\"\",SUM('MIS - Pharmacy'!K590+'MIS - Pharmacy'!L590))","v":""},"",{"$f":"IF('MIS - Pharmacy'!A590=\"\",\"\",('MIS - Pharmacy'!AF590+'MIS - Pharmacy'!AH590 +'MIS - Pharmacy'!AG590))","v":""},{"$f":"IF(ISBLANK('MIS - Pharmacy'!AI590),\"\",'MIS - Pharmacy'!AI590)","v":""},"","","",{"$f":"IF(ISBLANK('MIS - Pharmacy'!V590),\"\",'MIS - Pharmacy'!V590)","v":""},"","","",{"$f":"IF(ISBLANK('MIS - Pharmacy'!J590),\"\",'MIS - Pharmacy'!J590)","v":""},{"$f":"IF(ISBLANK('MIS - Pharmacy'!AY590),\"\",'MIS - Pharmacy'!AY590)","v":""},{"$f":"IF(ISBLANK('MIS - Pharmacy'!BH590),\"\",'MIS - Pharmacy'!BH590)","v":""},"",""]
[{"$f":"IF(ISBLANK('MIS - Pharmacy'!A591), \"\",'MIS - Pharmacy'!A591)","v":""},{"$f":"IF(ISBLANK('MIS - Pharmacy'!B591),\"\",('MIS - Pharmacy'!B591&\"(\"&'MIS - Pharmacy'!D591&\")\"))","v":""},{"$f":"IF(ISBLANK('MIS - Pharmacy'!BI591), \"\", 'MIS - Pharmacy'!BI591)","v":""},{"$f":"IF(ISBLANK('MIS - Pharmacy'!U591), \"\", 'MIS - Pharmacy'!U591)","v":""},{"$f":"IF(D600=\"\",\"\",IF(D600<=D$9,\"Lower Outlier\",IF(D600<=D$5,\"Below Average\",IF(D600<=D$6,\"Lower Quartile Range\",IF(D600<=D$7,\"Upper Quartile Range\",IF(D600<=D$10,\"Above Average\",\"Upper Outlier\"))))))","v":""},{"$f":"IF(D600=\"\",\"\",D600*12)","v":""},{"$f":"IF(Q600=\"\",\"\",IF(Q600 = 0, 0, D600/Q600*1000))","v":""},"",{"$f":"IF(A600=\"\",\"\",IF(D600=0,0,(D600*0.3)/Y600))","v":""},{"$f":"IF(D600=0,0,IF(D600=\"\",\"\",D600/Q600))","v":""},{"$f":"IF(D600=0,0,IF(D600=\"\",\"\",D600/X600))","v":""},{"$f":"IF(ISBLANK('MIS - Pharmacy'!AC591),\"\",'MIS - Pharmacy'!AC591)","v":""},{"$f":"IF(L600=\"\",\"\",IF(L600<=L$9,\"Lower Outlier\",IF(L600<=L$5,\"Below Average\",IF(L600<=L$6,\"Lower Quartile Range\",IF(L600<=L$7,\"Upper Quartile Range\",IF(L600<=L$10,\"Above Average\",\"Upper Outlier\"))))))","v":""},{"$f":"IF(ISBLANK('MIS - Pharmacy'!AD591),\"\",'MIS - Pharmacy'!AD591)","v":""},{"$f":"IF(N600=\"\",\"\",IF(N600=0,0,L600/N600*1000))","v":""},{"$f":"IF(L600=\"\",\"\",IF(X600=0,0,L600/X600))","v":""},{"$f":"IF('MIS - Pharmacy'!A591=\"\",\"\",SUM('MIS - Pharmacy'!K591+'MIS - Pharmacy'!L591))","v":""},{"$f":"IF(Q600=\"\",\"\",IF(Q600<=Q$9,\"Lower Outlier\",IF(Q600<=Q$5,\"Below Average\",IF(Q600<=Q$6,\"Lower Quartile Range\",IF(Q600<=Q$7,\"Upper Quartile Range\",IF(Q600<=Q$10,\"Above Average\",\"Upper Outlier\"))))))","v":""},{"$f":"IF('MIS - Pharmacy'!A591=\"\",\"\",('MIS - Pharmacy'!AF591+'MIS - Pharmacy'!AH591 +'MIS - Pharmacy'!AG591))","v":""},{"$f":"IF(ISBLANK('MIS - Pharmacy'!AI591),\"\",'MIS - Pharmacy'!AI591)","v":""},{"$f":"IF(T600=\"\",\"\",IF(T600<=T$9,\"Lower Outlier\",IF(T600<=T$5,\"Below Average\",IF(T600<=T$6,\"Lower Quartile Range\",IF(T600<=T$7,\"Upper Quartile Range\",IF(T600<=T$10,\"Above Average\",\"Upper Outlier\"))))))","v":""},{"$f":"IF(A600=\"\",\"\",IF(T600=0,0,T600/Q600*1000))","v":""},{"$f":"IF(V600=\"\",\"\",IF(S600 >0,(T600/S600*1000),0))","v":""},{"$f":"IF(ISBLANK('MIS - Pharmacy'!V591),\"\",'MIS - Pharmacy'!V591)","v":""},{"$f":"IF(X600=\"\",\"\",(X600/7)*$Y$3)","v":""},{"$f":"IF(X600=\"\",\"\",IF(X600<=X$9,\"Lower Outlier\",IF(X600<=X$5,\"Below Average\",IF(X600<=X$6,\"Lower Quartile Range\",IF(X600<=X$7,\"Upper Quartile Range\",IF(X600<=X$10,\"Above Average\",\"Upper Outlier\"))))))","v":""},{"$f":"IF(A600=\"\",\"\",IF(X600=0,0,Y600/Q600*1000))","v":""},{"$f":"IF(ISBLANK('MIS - Pharmacy'!J591),\"\",'MIS - Pharmacy'!J591)","v":""},{"$f":"IF(ISBLANK('MIS - Pharmacy'!AY591),\"\",'MIS - Pharmacy'!AY591)","v":""},{"$f":"IF(ISBLANK('MIS - Pharmacy'!BH591),\"\",'MIS - Pharmacy'!BH591)","v":""},{"$f":"IF(A600=\"\",\"\",D600+L600)","v":""},{"$f":"IF(A600=\"\",\"\",IF(Y600=0,0,(AE600/Y600)*100))","v":""}]
[{"$f":"IF(ISBLANK('MIS - Pharmacy'!A592), \"\",'MIS - Pharmacy'!A592)","v":""},{"$f":"IF(ISBLANK('MIS - Pharmacy'!B592),\"\",('MIS - Pharmacy'!B592&\"(\"&'MIS - Pharmacy'!D592&\")\"))","v":""},{"$f":"IF(ISBLANK('MIS - Pharmacy'!BI592), \"\", 'MIS - Pharmacy'!BI592)","v":""},{"$f":"IF(ISBLANK('MIS - Pharmacy'!U592), \"\", 'MIS - Pharmacy'!U592)","v":""},"","","","","","","",{"$f":"IF(ISBLANK('MIS - Pharmacy'!AC592),\"\",'MIS - Pharmacy'!AC592)","v":""},"",{"$f":"IF(ISBLANK('MIS - Pharmacy'!AD592),\"\",'MIS - Pharmacy'!AD592)","v":""},"","",{"$f":"IF('MIS - Pharmacy'!A592=\"\",\"\",SUM('MIS - Pharmacy'!K592+'MIS - Pharmacy'!L592))","v":""},"",{"$f":"IF('MIS - Pharmacy'!A592=\"\",\"\",('MIS - Pharmacy'!AF592+'MIS - Pharmacy'!AH592 +'MIS - Pharmacy'!AG592))","v":""},{"$f":"IF(ISBLANK('MIS - Pharmacy'!AI592),\"\",'MIS - Pharmacy'!AI592)","v":""},"","","",{"$f":"IF(ISBLANK('MIS - Pharmacy'!V592),\"\",'MIS - Pharmacy'!V592)","v":""},"","","",{"$f":"IF(ISBLANK('MIS - Pharmacy'!J592),\"\",'MIS - Pharmacy'!J592)","v":""},{"$f":"IF(ISBLANK('MIS - Pharmacy'!AY592),\"\",'MIS - Pharmacy'!AY592)","v":""},{"$f":"IF(ISBLANK('MIS - Pharmacy'!BH592),\"\",'MIS - Pharmacy'!BH592)","v":""},"",""]
[{"$f":"IF(ISBLANK('MIS - Pharmacy'!A593), \"\",'MIS - Pharmacy'!A593)","v":""},{"$f":"IF(ISBLANK('MIS - Pharmacy'!B593),\"\",('MIS - Pharmacy'!B593&\"(\"&'MIS - Pharmacy'!D593&\")\"))","v":""},{"$f":"IF(ISBLANK('MIS - Pharmacy'!BI593), \"\", 'MIS - Pharmacy'!BI593)","v":""},{"$f":"IF(ISBLANK('MIS - Pharmacy'!U593), \"\", 'MIS - Pharmacy'!U593)","v":""},"","","","","","","",{"$f":"IF(ISBLANK('MIS - Pharmacy'!AC593),\"\",'MIS - Pharmacy'!AC593)","v":""},"",{"$f":"IF(ISBLANK('MIS - Pharmacy'!AD593),\"\",'MIS - Pharmacy'!AD593)","v":""},"","",{"$f":"IF('MIS - Pharmacy'!A593=\"\",\"\",SUM('MIS - Pharmacy'!K593+'MIS - Pharmacy'!L593))","v":""},"",{"$f":"IF('MIS - Pharmacy'!A593=\"\",\"\",('MIS - Pharmacy'!AF593+'MIS - Pharmacy'!AH593 +'MIS - Pharmacy'!AG593))","v":""},{"$f":"IF(ISBLANK('MIS - Pharmacy'!AI593),\"\",'MIS - Pharmacy'!AI593)","v":""},"","","",{"$f":"IF(ISBLANK('MIS - Pharmacy'!V593),\"\",'MIS - Pharmacy'!V593)","v":""},"","","",{"$f":"IF(ISBLANK('MIS - Pharmacy'!J593),\"\",'MIS - Pharmacy'!J593)","v":""},{"$f":"IF(ISBLANK('MIS - Pharmacy'!AY593),\"\",'MIS - Pharmacy'!AY593)","v":""},{"$f":"IF(ISBLANK('MIS - Pharmacy'!BH593),\"\",'MIS - Pharmacy'!BH593)","v":""},"",""]
[{"$f":"IF(ISBLANK('MIS - Pharmacy'!A594), \"\",'MIS - Pharmacy'!A594)","v":""},{"$f":"IF(ISBLANK('MIS - Pharmacy'!B594),\"\",('MIS - Pharmacy'!B594&\"(\"&'MIS - Pharmacy'!D594&\")\"))","v":""},{"$f":"IF(ISBLANK('MIS - Pharmacy'!BI594), \"\", 'MIS - Pharmacy'!BI594)","v":""},{"$f":"IF(ISBLANK('MIS - Pharmacy'!U594), \"\", 'MIS - Pharmacy'!U594)","v":""},"","","","","","","",{"$f":"IF(ISBLANK('MIS - Pharmacy'!AC594),\"\",'MIS - Pharmacy'!AC594)","v":""},"",{"$f":"IF(ISBLANK('MIS - Pharmacy'!AD594),\"\",'MIS - Pharmacy'!AD594)","v":""},"","",{"$f":"IF('MIS - Pharmacy'!A594=\"\",\"\",SUM('MIS - Pharmacy'!K594+'MIS - Pharmacy'!L594))","v":""},"",{"$f":"IF('MIS - Pharmacy'!A594=\"\",\"\",('MIS - Pharmacy'!AF594+'MIS - Pharmacy'!AH594 +'MIS - Pharmacy'!AG594))","v":""},{"$f":"IF(ISBLANK('MIS - Pharmacy'!AI594),\"\",'MIS - Pharmacy'!AI594)","v":""},"","","",{"$f":"IF(ISBLANK('MIS - Pharmacy'!V594),\"\",'MIS - Pharmacy'!V594)","v":""},"","","",{"$f":"IF(ISBLANK('MIS - Pharmacy'!J594),\"\",'MIS - Pharmacy'!J594)","v":""},{"$f":"IF(ISBLANK('MIS - Pharmacy'!AY594),\"\",'MIS - Pharmacy'!AY594)","v":""},{"$f":"IF(ISBLANK('MIS - Pharmacy'!BH594),\"\",'MIS - Pharmacy'!BH594)","v":""},"",""]
[{"$f":"IF(ISBLANK('MIS - Pharmacy'!A595), \"\",'MIS - Pharmacy'!A595)","v":""},{"$f":"IF(ISBLANK('MIS - Pharmacy'!B595),\"\",('MIS - Pharmacy'!B595&\"(\"&'MIS - Pharmacy'!D595&\")\"))","v":""},{"$f":"IF(ISBLANK('MIS - Pharmacy'!BI595), \"\", 'MIS - Pharmacy'!BI595)","v":""},{"$f":"IF(ISBLANK('MIS - Pharmacy'!U595), \"\", 'MIS - Pharmacy'!U595)","v":""},"","","","","","","",{"$f":"IF(ISBLANK('MIS - Pharmacy'!AC595),\"\",'MIS - Pharmacy'!AC595)","v":""},"",{"$f":"IF(ISBLANK('MIS - Pharmacy'!AD595),\"\",'MIS - Pharmacy'!AD595)","v":""},"","",{"$f":"IF('MIS - Pharmacy'!A595=\"\",\"\",SUM('MIS - Pharmacy'!K595+'MIS - Pharmacy'!L595))","v":""},"",{"$f":"IF('MIS - Pharmacy'!A595=\"\",\"\",('MIS - Pharmacy'!AF595+'MIS - Pharmacy'!AH595 +'MIS - Pharmacy'!AG595))","v":""},{"$f":"IF(ISBLANK('MIS - Pharmacy'!AI595),\"\",'MIS - Pharmacy'!AI595)","v":""},"","","",{"$f":"IF(ISBLANK('MIS - Pharmacy'!V595),\"\",'MIS - Pharmacy'!V595)","v":""},"","","",{"$f":"IF(ISBLANK('MIS - Pharmacy'!J595),\"\",'MIS - Pharmacy'!J595)","v":""},{"$f":"IF(ISBLANK('MIS - Pharmacy'!AY595),\"\",'MIS - Pharmacy'!AY595)","v":""},{"$f":"IF(ISBLANK('MIS - Pharmacy'!BH595),\"\",'MIS - Pharmacy'!BH595)","v":""},"",""]
[{"$f":"IF(ISBLANK('MIS - Pharmacy'!A596), \"\",'MIS - Pharmacy'!A596)","v":""},{"$f":"IF(ISBLANK('MIS - Pharmacy'!B596),\"\",('MIS - Pharmacy'!B596&\"(\"&'MIS - Pharmacy'!D596&\")\"))","v":""},{"$f":"IF(ISBLANK('MIS - Pharmacy'!BI596), \"\", 'MIS - Pharmacy'!BI596)","v":""},{"$f":"IF(ISBLANK('MIS - Pharmacy'!U596), \"\", 'MIS - Pharmacy'!U596)","v":""},"","","","","","","",{"$f":"IF(ISBLANK('MIS - Pharmacy'!AC596),\"\",'MIS - Pharmacy'!AC596)","v":""},"",{"$f":"IF(ISBLANK('MIS - Pharmacy'!AD596),\"\",'MIS - Pharmacy'!AD596)","v":""},"","",{"$f":"IF('MIS - Pharmacy'!A596=\"\",\"\",SUM('MIS - Pharmacy'!K596+'MIS - Pharmacy'!L596))","v":""},"",{"$f":"IF('MIS - Pharmacy'!A596=\"\",\"\",('MIS - Pharmacy'!AF596+'MIS - Pharmacy'!AH596 +'MIS - Pharmacy'!AG596))","v":""},{"$f":"IF(ISBLANK('MIS - Pharmacy'!AI596),\"\",'MIS - Pharmacy'!AI596)","v":""},"","","",{"$f":"IF(ISBLANK('MIS - Pharmacy'!V596),\"\",'MIS - Pharmacy'!V596)","v":""},"","","",{"$f":"IF(ISBLANK('MIS - Pharmacy'!J596),\"\",'MIS - Pharmacy'!J596)","v":""},{"$f":"IF(ISBLANK('MIS - Pharmacy'!AY596),\"\",'MIS - Pharmacy'!AY596)","v":""},{"$f":"IF(ISBLANK('MIS - Pharmacy'!BH596),\"\",'MIS - Pharmacy'!BH596)","v":""},"",""]
[{"$f":"IF(ISBLANK('MIS - Pharmacy'!A597), \"\",'MIS - Pharmacy'!A597)","v":""},{"$f":"IF(ISBLANK('MIS - Pharmacy'!B597),\"\",('MIS - Pharmacy'!B597&\"(\"&'MIS - Pharmacy'!D597&\")\"))","v":""},{"$f":"IF(ISBLANK('MIS - Pharmacy'!BI597), \"\", 'MIS - Pharmacy'!BI597)","v":""},{"$f":"IF(ISBLANK('MIS - Pharmacy'!U597), \"\", 'MIS - Pharmacy'!U597)","v":""},"","","","","","","",{"$f":"IF(ISBLANK('MIS - Pharmacy'!AC597),\"\",'MIS - Pharmacy'!AC597)","v":""},"",{"$f":"IF(ISBLANK('MIS - Pharmacy'!AD597),\"\",'MIS - Pharmacy'!AD597)","v":""},"","",{"$f":"IF('MIS - Pharmacy'!A597=\"\",\"\",SUM('MIS - Pharmacy'!K597+'MIS - Pharmacy'!L597))","v":""},"",{"$f":"IF('MIS - Pharmacy'!A597=\"\",\"\",('MIS - Pharmacy'!AF597+'MIS - Pharmacy'!AH597 +'MIS - Pharmacy'!AG597))","v":""},{"$f":"IF(ISBLANK('MIS - Pharmacy'!AI597),\"\",'MIS - Pharmacy'!AI597)","v":""},"","","",{"$f":"IF(ISBLANK('MIS - Pharmacy'!V597),\"\",'MIS - Pharmacy'!V597)","v":""},"","","",{"$f":"IF(ISBLANK('MIS - Pharmacy'!J597),\"\",'MIS - Pharmacy'!J597)","v":""},{"$f":"IF(ISBLANK('MIS - Pharmacy'!AY597),\"\",'MIS - Pharmacy'!AY597)","v":""},{"$f":"IF(ISBLANK('MIS - Pharmacy'!BH597),\"\",'MIS - Pharmacy'!BH597)","v":""},"",""]
[{"$f":"IF(ISBLANK('MIS - Pharmacy'!A598), \"\",'MIS - Pharmacy'!A598)","v":""},{"$f":"IF(ISBLANK('MIS - Pharmacy'!B598),\"\",('MIS - Pharmacy'!B598&\"(\"&'MIS - Pharmacy'!D598&\")\"))","v":""},{"$f":"IF(ISBLANK('MIS - Pharmacy'!BI598), \"\", 'MIS - Pharmacy'!BI598)","v":""},{"$f":"IF(ISBLANK('MIS - Pharmacy'!U598), \"\", 'MIS - Pharmacy'!U598)","v":""},"","","","","","","",{"$f":"IF(ISBLANK('MIS - Pharmacy'!AC598),\"\",'MIS - Pharmacy'!AC598)","v":""},"",{"$f":"IF(ISBLANK('MIS - Pharmacy'!AD598),\"\",'MIS - Pharmacy'!AD598)","v":""},"","",{"$f":"IF('MIS - Pharmacy'!A598=\"\",\"\",SUM('MIS - Pharmacy'!K598+'MIS - Pharmacy'!L598))","v":""},"",{"$f":"IF('MIS - Pharmacy'!A598=\"\",\"\",('MIS - Pharmacy'!AF598+'MIS - Pharmacy'!AH598 +'MIS - Pharmacy'!AG598))","v":""},{"$f":"IF(ISBLANK('MIS - Pharmacy'!AI598),\"\",'MIS - Pharmacy'!AI598)","v":""},"","","",{"$f":"IF(ISBLANK('MIS - Pharmacy'!V598),\"\",'MIS - Pharmacy'!V598)","v":""},"","","",{"$f":"IF(ISBLANK('MIS - Pharmacy'!J598),\"\",'MIS - Pharmacy'!J598)","v":""},{"$f":"IF(ISBLANK('MIS - Pharmacy'!AY598),\"\",'MIS - Pharmacy'!AY598)","v":""},{"$f":"IF(ISBLANK('MIS - Pharmacy'!BH598),\"\",'MIS - Pharmacy'!BH598)","v":""},"",""]
[{"$f":"IF(ISBLANK('MIS - Pharmacy'!A599), \"\",'MIS - Pharmacy'!A599)","v":""},{"$f":"IF(ISBLANK('MIS - Pharmacy'!B599),\"\",('MIS - Pharmacy'!B599&\"(\"&'MIS - Pharmacy'!D599&\")\"))","v":""},{"$f":"IF(ISBLANK('MIS - Pharmacy'!BI599), \"\", 'MIS - Pharmacy'!BI599)","v":""},{"$f":"IF(ISBLANK('MIS - Pharmacy'!U599), \"\", 'MIS - Pharmacy'!U599)","v":""},"","","","","","","",{"$f":"IF(ISBLANK('MIS - Pharmacy'!AC599),\"\",'MIS - Pharmacy'!AC599)","v":""},"",{"$f":"IF(ISBLANK('MIS - Pharmacy'!AD599),\"\",'MIS - Pharmacy'!AD599)","v":""},"","",{"$f":"IF('MIS - Pharmacy'!A599=\"\",\"\",SUM('MIS - Pharmacy'!K599+'MIS - Pharmacy'!L599))","v":""},"",{"$f":"IF('MIS - Pharmacy'!A599=\"\",\"\",('MIS - Pharmacy'!AF599+'MIS - Pharmacy'!AH599 +'MIS - Pharmacy'!AG599))","v":""},{"$f":"IF(ISBLANK('MIS - Pharmacy'!AI599),\"\",'MIS - Pharmacy'!AI599)","v":""},"","","",{"$f":"IF(ISBLANK('MIS - Pharmacy'!V599),\"\",'MIS - Pharmacy'!V599)","v":""},"","","",{"$f":"IF(ISBLANK('MIS - Pharmacy'!J599),\"\",'MIS - Pharmacy'!J599)","v":""},{"$f":"IF(ISBLANK('MIS - Pharmacy'!AY599),\"\",'MIS - Pharmacy'!AY599)","v":""},{"$f":"IF(ISBLANK('MIS - Pharmacy'!BH599),\"\",'MIS - Pharmacy'!BH599)","v":""},"",""]
[{"$f":"IF(ISBLANK('MIS - Pharmacy'!A600), \"\",'MIS - Pharmacy'!A600)","v":""},{"$f":"IF(ISBLANK('MIS - Pharmacy'!B600),\"\",('MIS - Pharmacy'!B600&\"(\"&'MIS - Pharmacy'!D600&\")\"))","v":""},{"$f":"IF(ISBLANK('MIS - Pharmacy'!BI600), \"\", 'MIS - Pharmacy'!BI600)","v":""},{"$f":"IF(ISBLANK('MIS - Pharmacy'!U600), \"\", 'MIS - Pharmacy'!U600)","v":""},"","","","","","","",{"$f":"IF(ISBLANK('MIS - Pharmacy'!AC600),\"\",'MIS - Pharmacy'!AC600)","v":""},"",{"$f":"IF(ISBLANK('MIS - Pharmacy'!AD600),\"\",'MIS - Pharmacy'!AD600)","v":""},"","",{"$f":"IF('MIS - Pharmacy'!A600=\"\",\"\",SUM('MIS - Pharmacy'!K600+'MIS - Pharmacy'!L600))","v":""},"",{"$f":"IF('MIS - Pharmacy'!A600=\"\",\"\",('MIS - Pharmacy'!AF600+'MIS - Pharmacy'!AH600 +'MIS - Pharmacy'!AG600))","v":""},{"$f":"IF(ISBLANK('MIS - Pharmacy'!AI600),\"\",'MIS - Pharmacy'!AI600)","v":""},"","","",{"$f":"IF(ISBLANK('MIS - Pharmacy'!V600),\"\",'MIS - Pharmacy'!V600)","v":""},"","","",{"$f":"IF(ISBLANK('MIS - Pharmacy'!J600),\"\",'MIS - Pharmacy'!J600)","v":""},{"$f":"IF(ISBLANK('MIS - Pharmacy'!AY600),\"\",'MIS - Pharmacy'!AY600)","v":""},{"$f":"IF(ISBLANK('MIS - Pharmacy'!BH600),\"\",'MIS - Pharmacy'!BH600)","v":""},"",""]
[{"$f":"IF(ISBLANK('MIS - Pharmacy'!A601), \"\",'MIS - Pharmacy'!A601)","v":""},{"$f":"IF(ISBLANK('MIS - Pharmacy'!B601),\"\",('MIS - Pharmacy'!B601&\"(\"&'MIS - Pharmacy'!D601&\")\"))","v":""},{"$f":"IF(ISBLANK('MIS - Pharmacy'!BI601), \"\", 'MIS - Pharmacy'!BI601)","v":""},{"$f":"IF(ISBLANK('MIS - Pharmacy'!U601), \"\", 'MIS - Pharmacy'!U601)","v":""},"","","","","","","",{"$f":"IF(ISBLANK('MIS - Pharmacy'!AC601),\"\",'MIS - Pharmacy'!AC601)","v":""},"",{"$f":"IF(ISBLANK('MIS - Pharmacy'!AD601),\"\",'MIS - Pharmacy'!AD601)","v":""},"","",{"$f":"IF('MIS - Pharmacy'!A601=\"\",\"\",SUM('MIS - Pharmacy'!K601+'MIS - Pharmacy'!L601))","v":""},"",{"$f":"IF('MIS - Pharmacy'!A601=\"\",\"\",('MIS - Pharmacy'!AF601+'MIS - Pharmacy'!AH601 +'MIS - Pharmacy'!AG601))","v":""},{"$f":"IF(ISBLANK('MIS - Pharmacy'!AI601),\"\",'MIS - Pharmacy'!AI601)","v":""},"","","",{"$f":"IF(ISBLANK('MIS - Pharmacy'!V601),\"\",'MIS - Pharmacy'!V601)","v":""},"","","",{"$f":"IF(ISBLANK('MIS - Pharmacy'!J601),\"\",'MIS - Pharmacy'!J601)","v":""},{"$f":"IF(ISBLANK('MIS - Pharmacy'!AY601),\"\",'MIS - Pharmacy'!AY601)","v":""},{"$f":"IF(ISBLANK('MIS - Pharmacy'!BH601),\"\",'MIS - Pharmacy'!BH601)","v":""},"",""]
[{"$f":"IF(ISBLANK('MIS - Pharmacy'!A602), \"\",'MIS - Pharmacy'!A602)","v":""},{"$f":"IF(ISBLANK('MIS - Pharmacy'!B602),\"\",('MIS - Pharmacy'!B602&\"(\"&'MIS - Pharmacy'!D602&\")\"))","v":""},{"$f":"IF(ISBLANK('MIS - Pharmacy'!BI602), \"\", 'MIS - Pharmacy'!BI602)","v":""},{"$f":"IF(ISBLANK('MIS - Pharmacy'!U602), \"\", 'MIS - Pharmacy'!U602)","v":""},"","","","","","","",{"$f":"IF(ISBLANK('MIS - Pharmacy'!AC602),\"\",'MIS - Pharmacy'!AC602)","v":""},"",{"$f":"IF(ISBLANK('MIS - Pharmacy'!AD602),\"\",'MIS - Pharmacy'!AD602)","v":""},"","",{"$f":"IF('MIS - Pharmacy'!A602=\"\",\"\",SUM('MIS - Pharmacy'!K602+'MIS - Pharmacy'!L602))","v":""},"",{"$f":"IF('MIS - Pharmacy'!A602=\"\",\"\",('MIS - Pharmacy'!AF602+'MIS - Pharmacy'!AH602 +'MIS - Pharmacy'!AG602))","v":""},{"$f":"IF(ISBLANK('MIS - Pharmacy'!AI602),\"\",'MIS - Pharmacy'!AI602)","v":""},"","","",{"$f":"IF(ISBLANK('MIS - Pharmacy'!V602),\"\",'MIS - Pharmacy'!V602)","v":""},"","","",{"$f":"IF(ISBLANK('MIS - Pharmacy'!J602),\"\",'MIS - Pharmacy'!J602)","v":""},{"$f":"IF(ISBLANK('MIS - Pharmacy'!AY602),\"\",'MIS - Pharmacy'!AY602)","v":""},{"$f":"IF(ISBLANK('MIS - Pharmacy'!BH602),\"\",'MIS - Pharmacy'!BH602)","v":""},"",""]
[{"$f":"IF(ISBLANK('MIS - Pharmacy'!A603), \"\",'MIS - Pharmacy'!A603)","v":""},{"$f":"IF(ISBLANK('MIS - Pharmacy'!B603),\"\",('MIS - Pharmacy'!B603&\"(\"&'MIS - Pharmacy'!D603&\")\"))","v":""},{"$f":"IF(ISBLANK('MIS - Pharmacy'!BI603), \"\", 'MIS - Pharmacy'!BI603)","v":""},{"$f":"IF(ISBLANK('MIS - Pharmacy'!U603), \"\", 'MIS - Pharmacy'!U603)","v":""},"","","","","","","",{"$f":"IF(ISBLANK('MIS - Pharmacy'!AC603),\"\",'MIS - Pharmacy'!AC603)","v":""},"",{"$f":"IF(ISBLANK('MIS - Pharmacy'!AD603),\"\",'MIS - Pharmacy'!AD603)","v":""},"","",{"$f":"IF('MIS - Pharmacy'!A603=\"\",\"\",SUM('MIS - Pharmacy'!K603+'MIS - Pharmacy'!L603))","v":""},"",{"$f":"IF('MIS - Pharmacy'!A603=\"\",\"\",('MIS - Pharmacy'!AF603+'MIS - Pharmacy'!AH603 +'MIS - Pharmacy'!AG603))","v":""},{"$f":"IF(ISBLANK('MIS - Pharmacy'!AI603),\"\",'MIS - Pharmacy'!AI603)","v":""},"","","",{"$f":"IF(ISBLANK('MIS - Pharmacy'!V603),\"\",'MIS - Pharmacy'!V603)","v":""},"","","",{"$f":"IF(ISBLANK('MIS - Pharmacy'!J603),\"\",'MIS - Pharmacy'!J603)","v":""},{"$f":"IF(ISBLANK('MIS - Pharmacy'!AY603),\"\",'MIS - Pharmacy'!AY603)","v":""},{"$f":"IF(ISBLANK('MIS - Pharmacy'!BH603),\"\",'MIS - Pharmacy'!BH603)","v":""},"",""]
[{"$f":"IF(ISBLANK('MIS - Pharmacy'!A604), \"\",'MIS - Pharmacy'!A604)","v":""},{"$f":"IF(ISBLANK('MIS - Pharmacy'!B604),\"\",('MIS - Pharmacy'!B604&\"(\"&'MIS - Pharmacy'!D604&\")\"))","v":""},{"$f":"IF(ISBLANK('MIS - Pharmacy'!BI604), \"\", 'MIS - Pharmacy'!BI604)","v":""},{"$f":"IF(ISBLANK('MIS - Pharmacy'!U604), \"\", 'MIS - Pharmacy'!U604)","v":""},"","","","","","","",{"$f":"IF(ISBLANK('MIS - Pharmacy'!AC604),\"\",'MIS - Pharmacy'!AC604)","v":""},"",{"$f":"IF(ISBLANK('MIS - Pharmacy'!AD604),\"\",'MIS - Pharmacy'!AD604)","v":""},"","",{"$f":"IF('MIS - Pharmacy'!A604=\"\",\"\",SUM('MIS - Pharmacy'!K604+'MIS - Pharmacy'!L604))","v":""},"",{"$f":"IF('MIS - Pharmacy'!A604=\"\",\"\",('MIS - Pharmacy'!AF604+'MIS - Pharmacy'!AH604 +'MIS - Pharmacy'!AG604))","v":""},{"$f":"IF(ISBLANK('MIS - Pharmacy'!AI604),\"\",'MIS - Pharmacy'!AI604)","v":""},"","","",{"$f":"IF(ISBLANK('MIS - Pharmacy'!V604),\"\",'MIS - Pharmacy'!V604)","v":""},"","","",{"$f":"IF(ISBLANK('MIS - Pharmacy'!J604),\"\",'MIS - Pharmacy'!J604)","v":""},{"$f":"IF(ISBLANK('MIS - Pharmacy'!AY604),\"\",'MIS - Pharmacy'!AY604)","v":""},{"$f":"IF(ISBLANK('MIS - Pharmacy'!BH604),\"\",'MIS - Pharmacy'!BH604)","v":""},"",""]
[{"$f":"IF(ISBLANK('MIS - Pharmacy'!A605), \"\",'MIS - Pharmacy'!A605)","v":""},{"$f":"IF(ISBLANK('MIS - Pharmacy'!B605),\"\",('MIS - Pharmacy'!B605&\"(\"&'MIS - Pharmacy'!D605&\")\"))","v":""},{"$f":"IF(ISBLANK('MIS - Pharmacy'!BI605), \"\", 'MIS - Pharmacy'!BI605)","v":""},{"$f":"IF(ISBLANK('MIS - Pharmacy'!U605), \"\", 'MIS - Pharmacy'!U605)","v":""},"","","","","","","",{"$f":"IF(ISBLANK('MIS - Pharmacy'!AC605),\"\",'MIS - Pharmacy'!AC605)","v":""},"",{"$f":"IF(ISBLANK('MIS - Pharmacy'!AD605),\"\",'MIS - Pharmacy'!AD605)","v":""},"","",{"$f":"IF('MIS - Pharmacy'!A605=\"\",\"\",SUM('MIS - Pharmacy'!K605+'MIS - Pharmacy'!L605))","v":""},"",{"$f":"IF('MIS - Pharmacy'!A605=\"\",\"\",('MIS - Pharmacy'!AF605+'MIS - Pharmacy'!AH605 +'MIS - Pharmacy'!AG605))","v":""},{"$f":"IF(ISBLANK('MIS - Pharmacy'!AI605),\"\",'MIS - Pharmacy'!AI605)","v":""},"","","",{"$f":"IF(ISBLANK('MIS - Pharmacy'!V605),\"\",'MIS - Pharmacy'!V605)","v":""},"","","",{"$f":"IF(ISBLANK('MIS - Pharmacy'!J605),\"\",'MIS - Pharmacy'!J605)","v":""},{"$f":"IF(ISBLANK('MIS - Pharmacy'!AY605),\"\",'MIS - Pharmacy'!AY605)","v":""},{"$f":"IF(ISBLANK('MIS - Pharmacy'!BH605),\"\",'MIS - Pharmacy'!BH605)","v":""},"",""]
[{"$f":"IF(ISBLANK('MIS - Pharmacy'!A606), \"\",'MIS - Pharmacy'!A606)","v":""},{"$f":"IF(ISBLANK('MIS - Pharmacy'!B606),\"\",('MIS - Pharmacy'!B606&\"(\"&'MIS - Pharmacy'!D606&\")\"))","v":""},{"$f":"IF(ISBLANK('MIS - Pharmacy'!BI606), \"\", 'MIS - Pharmacy'!BI606)","v":""},{"$f":"IF(ISBLANK('MIS - Pharmacy'!U606), \"\", 'MIS - Pharmacy'!U606)","v":""},"","","","","","","",{"$f":"IF(ISBLANK('MIS - Pharmacy'!AC606),\"\",'MIS - Pharmacy'!AC606)","v":""},"",{"$f":"IF(ISBLANK('MIS - Pharmacy'!AD606),\"\",'MIS - Pharmacy'!AD606)","v":""},"","",{"$f":"IF('MIS - Pharmacy'!A606=\"\",\"\",SUM('MIS - Pharmacy'!K606+'MIS - Pharmacy'!L606))","v":""},"",{"$f":"IF('MIS - Pharmacy'!A606=\"\",\"\",('MIS - Pharmacy'!AF606+'MIS - Pharmacy'!AH606 +'MIS - Pharmacy'!AG606))","v":""},{"$f":"IF(ISBLANK('MIS - Pharmacy'!AI606),\"\",'MIS - Pharmacy'!AI606)","v":""},"","","",{"$f":"IF(ISBLANK('MIS - Pharmacy'!V606),\"\",'MIS - Pharmacy'!V606)","v":""},"","","",{"$f":"IF(ISBLANK('MIS - Pharmacy'!J606),\"\",'MIS - Pharmacy'!J606)","v":""},{"$f":"IF(ISBLANK('MIS - Pharmacy'!AY606),\"\",'MIS - Pharmacy'!AY606)","v":""},{"$f":"IF(ISBLANK('MIS - Pharmacy'!BH606),\"\",'MIS - Pharmacy'!BH606)","v":""},"",""]
[{"$f":"IF(ISBLANK('MIS - Pharmacy'!A607), \"\",'MIS - Pharmacy'!A607)","v":""},{"$f":"IF(ISBLANK('MIS - Pharmacy'!B607),\"\",('MIS - Pharmacy'!B607&\"(\"&'MIS - Pharmacy'!D607&\")\"))","v":""},{"$f":"IF(ISBLANK('MIS - Pharmacy'!BI607), \"\", 'MIS - Pharmacy'!BI607)","v":""},{"$f":"IF(ISBLANK('MIS - Pharmacy'!U607), \"\", 'MIS - Pharmacy'!U607)","v":""},"","","","","","","",{"$f":"IF(ISBLANK('MIS - Pharmacy'!AC607),\"\",'MIS - Pharmacy'!AC607)","v":""},"",{"$f":"IF(ISBLANK('MIS - Pharmacy'!AD607),\"\",'MIS - Pharmacy'!AD607)","v":""},"","",{"$f":"IF('MIS - Pharmacy'!A607=\"\",\"\",SUM('MIS - Pharmacy'!K607+'MIS - Pharmacy'!L607))","v":""},"",{"$f":"IF('MIS - Pharmacy'!A607=\"\",\"\",('MIS - Pharmacy'!AF607+'MIS - Pharmacy'!AH607 +'MIS - Pharmacy'!AG607))","v":""},{"$f":"IF(ISBLANK('MIS - Pharmacy'!AI607),\"\",'MIS - Pharmacy'!AI607)","v":""},"","","",{"$f":"IF(ISBLANK('MIS - Pharmacy'!V607),\"\",'MIS - Pharmacy'!V607)","v":""},"","","",{"$f":"IF(ISBLANK('MIS - Pharmacy'!J607),\"\",'MIS - Pharmacy'!J607)","v":""},{"$f":"IF(ISBLANK('MIS - Pharmacy'!AY607),\"\",'MIS - Pharmacy'!AY607)","v":""},{"$f":"IF(ISBLANK('MIS - Pharmacy'!BH607),\"\",'MIS - Pharmacy'!BH607)","v":""},"",""]
[{"$f":"IF(ISBLANK('MIS - Pharmacy'!A608), \"\",'MIS - Pharmacy'!A608)","v":""},{"$f":"IF(ISBLANK('MIS - Pharmacy'!B608),\"\",('MIS - Pharmacy'!B608&\"(\"&'MIS - Pharmacy'!D608&\")\"))","v":""},{"$f":"IF(ISBLANK('MIS - Pharmacy'!BI608), \"\", 'MIS - Pharmacy'!BI608)","v":""},{"$f":"IF(ISBLANK('MIS - Pharmacy'!U608), \"\", 'MIS - Pharmacy'!U608)","v":""},"","","","","","","",{"$f":"IF(ISBLANK('MIS - Pharmacy'!AC608),\"\",'MIS - Pharmacy'!AC608)","v":""},"",{"$f":"IF(ISBLANK('MIS - Pharmacy'!AD608),\"\",'MIS - Pharmacy'!AD608)","v":""},"","",{"$f":"IF('MIS - Pharmacy'!A608=\"\",\"\",SUM('MIS - Pharmacy'!K608+'MIS - Pharmacy'!L608))","v":""},"",{"$f":"IF('MIS - Pharmacy'!A608=\"\",\"\",('MIS - Pharmacy'!AF608+'MIS - Pharmacy'!AH608 +'MIS - Pharmacy'!AG608))","v":""},{"$f":"IF(ISBLANK('MIS - Pharmacy'!AI608),\"\",'MIS - Pharmacy'!AI608)","v":""},"","","",{"$f":"IF(ISBLANK('MIS - Pharmacy'!V608),\"\",'MIS - Pharmacy'!V608)","v":""},"","","",{"$f":"IF(ISBLANK('MIS - Pharmacy'!J608),\"\",'MIS - Pharmacy'!J608)","v":""},{"$f":"IF(ISBLANK('MIS - Pharmacy'!AY608),\"\",'MIS - Pharmacy'!AY608)","v":""},{"$f":"IF(ISBLANK('MIS - Pharmacy'!BH608),\"\",'MIS - Pharmacy'!BH608)","v":""},"",""]
[{"$f":"IF(ISBLANK('MIS - Pharmacy'!A609), \"\",'MIS - Pharmacy'!A609)","v":""},{"$f":"IF(ISBLANK('MIS - Pharmacy'!B609),\"\",('MIS - Pharmacy'!B609&\"(\"&'MIS - Pharmacy'!D609&\")\"))","v":""},{"$f":"IF(ISBLANK('MIS - Pharmacy'!BI609), \"\", 'MIS - Pharmacy'!BI609)","v":""},{"$f":"IF(ISBLANK('MIS - Pharmacy'!U609), \"\", 'MIS - Pharmacy'!U609)","v":""},"","","","","","","",{"$f":"IF(ISBLANK('MIS - Pharmacy'!AC609),\"\",'MIS - Pharmacy'!AC609)","v":""},"",{"$f":"IF(ISBLANK('MIS - Pharmacy'!AD609),\"\",'MIS - Pharmacy'!AD609)","v":""},"","",{"$f":"IF('MIS - Pharmacy'!A609=\"\",\"\",SUM('MIS - Pharmacy'!K609+'MIS - Pharmacy'!L609))","v":""},"",{"$f":"IF('MIS - Pharmacy'!A609=\"\",\"\",('MIS - Pharmacy'!AF609+'MIS - Pharmacy'!AH609 +'MIS - Pharmacy'!AG609))","v":""},{"$f":"IF(ISBLANK('MIS - Pharmacy'!AI609),\"\",'MIS - Pharmacy'!AI609)","v":""},"","","",{"$f":"IF(ISBLANK('MIS - Pharmacy'!V609),\"\",'MIS - Pharmacy'!V609)","v":""},"","","",{"$f":"IF(ISBLANK('MIS - Pharmacy'!J609),\"\",'MIS - Pharmacy'!J609)","v":""},{"$f":"IF(ISBLANK('MIS - Pharmacy'!AY609),\"\",'MIS - Pharmacy'!AY609)","v":""},{"$f":"IF(ISBLANK('MIS - Pharmacy'!BH609),\"\",'MIS - Pharmacy'!BH609)","v":""},"",""]
[{"$f":"IF(ISBLANK('MIS - Pharmacy'!A610), \"\",'MIS - Pharmacy'!A610)","v":""},{"$f":"IF(ISBLANK('MIS - Pharmacy'!B610),\"\",('MIS - Pharmacy'!B610&\"(\"&'MIS - Pharmacy'!D610&\")\"))","v":""},{"$f":"IF(ISBLANK('MIS - Pharmacy'!BI610), \"\", 'MIS - Pharmacy'!BI610)","v":""},{"$f":"IF(ISBLANK('MIS - Pharmacy'!U610), \"\", 'MIS - Pharmacy'!U610)","v":""},"","","","","","","",{"$f":"IF(ISBLANK('MIS - Pharmacy'!AC610),\"\",'MIS - Pharmacy'!AC610)","v":""},"",{"$f":"IF(ISBLANK('MIS - Pharmacy'!AD610),\"\",'MIS - Pharmacy'!AD610)","v":""},"","",{"$f":"IF('MIS - Pharmacy'!A610=\"\",\"\",SUM('MIS - Pharmacy'!K610+'MIS - Pharmacy'!L610))","v":""},"",{"$f":"IF('MIS - Pharmacy'!A610=\"\",\"\",('MIS - Pharmacy'!AF610+'MIS - Pharmacy'!AH610 +'MIS - Pharmacy'!AG610))","v":""},{"$f":"IF(ISBLANK('MIS - Pharmacy'!AI610),\"\",'MIS - Pharmacy'!AI610)","v":""},"","","",{"$f":"IF(ISBLANK('MIS - Pharmacy'!V610),\"\",'MIS - Pharmacy'!V610)","v":""},"","","",{"$f":"IF(ISBLANK('MIS - Pharmacy'!J610),\"\",'MIS - Pharmacy'!J610)","v":""},{"$f":"IF(ISBLANK('MIS - Pharmacy'!AY610),\"\",'MIS - Pharmacy'!AY610)","v":""},{"$f":"IF(ISBLANK('MIS - Pharmacy'!BH610),\"\",'MIS - Pharmacy'!BH610)","v":""},"",""]
[{"$f":"IF(ISBLANK('MIS - Pharmacy'!A611), \"\",'MIS - Pharmacy'!A611)","v":""},{"$f":"IF(ISBLANK('MIS - Pharmacy'!B611),\"\",('MIS - Pharmacy'!B611&\"(\"&'MIS - Pharmacy'!D611&\")\"))","v":""},{"$f":"IF(ISBLANK('MIS - Pharmacy'!BI611), \"\", 'MIS - Pharmacy'!BI611)","v":""},{"$f":"IF(ISBLANK('MIS - Pharmacy'!U611), \"\", 'MIS - Pharmacy'!U611)","v":""},"","","","","","","",{"$f":"IF(ISBLANK('MIS - Pharmacy'!AC611),\"\",'MIS - Pharmacy'!AC611)","v":""},"",{"$f":"IF(ISBLANK('MIS - Pharmacy'!AD611),\"\",'MIS - Pharmacy'!AD611)","v":""},"","",{"$f":"IF('MIS - Pharmacy'!A611=\"\",\"\",SUM('MIS - Pharmacy'!K611+'MIS - Pharmacy'!L611))","v":""},"",{"$f":"IF('MIS - Pharmacy'!A611=\"\",\"\",('MIS - Pharmacy'!AF611+'MIS - Pharmacy'!AH611 +'MIS - Pharmacy'!AG611))","v":""},{"$f":"IF(ISBLANK('MIS - Pharmacy'!AI611),\"\",'MIS - Pharmacy'!AI611)","v":""},"","","",{"$f":"IF(ISBLANK('MIS - Pharmacy'!V611),\"\",'MIS - Pharmacy'!V611)","v":""},"","","",{"$f":"IF(ISBLANK('MIS - Pharmacy'!J611),\"\",'MIS - Pharmacy'!J611)","v":""},{"$f":"IF(ISBLANK('MIS - Pharmacy'!AY611),\"\",'MIS - Pharmacy'!AY611)","v":""},{"$f":"IF(ISBLANK('MIS - Pharmacy'!BH611),\"\",'MIS - Pharmacy'!BH611)","v":""},"",""]
[{"$f":"IF(ISBLANK('MIS - Pharmacy'!A612), \"\",'MIS - Pharmacy'!A612)","v":""},{"$f":"IF(ISBLANK('MIS - Pharmacy'!B612),\"\",('MIS - Pharmacy'!B612&\"(\"&'MIS - Pharmacy'!D612&\")\"))","v":""},{"$f":"IF(ISBLANK('MIS - Pharmacy'!BI612), \"\", 'MIS - Pharmacy'!BI612)","v":""},{"$f":"IF(ISBLANK('MIS - Pharmacy'!U612), \"\", 'MIS - Pharmacy'!U612)","v":""},"","","","","","","",{"$f":"IF(ISBLANK('MIS - Pharmacy'!AC612),\"\",'MIS - Pharmacy'!AC612)","v":""},"",{"$f":"IF(ISBLANK('MIS - Pharmacy'!AD612),\"\",'MIS - Pharmacy'!AD612)","v":""},"","",{"$f":"IF('MIS - Pharmacy'!A612=\"\",\"\",SUM('MIS - Pharmacy'!K612+'MIS - Pharmacy'!L612))","v":""},"",{"$f":"IF('MIS - Pharmacy'!A612=\"\",\"\",('MIS - Pharmacy'!AF612+'MIS - Pharmacy'!AH612 +'MIS - Pharmacy'!AG612))","v":""},{"$f":"IF(ISBLANK('MIS - Pharmacy'!AI612),\"\",'MIS - Pharmacy'!AI612)","v":""},"","","",{"$f":"IF(ISBLANK('MIS - Pharmacy'!V612),\"\",'MIS - Pharmacy'!V612)","v":""},"","","",{"$f":"IF(ISBLANK('MIS - Pharmacy'!J612),\"\",'MIS - Pharmacy'!J612)","v":""},{"$f":"IF(ISBLANK('MIS - Pharmacy'!AY612),\"\",'MIS - Pharmacy'!AY612)","v":""},{"$f":"IF(ISBLANK('MIS - Pharmacy'!BH612),\"\",'MIS - Pharmacy'!BH612)","v":""},"",""]
[{"$f":"IF(ISBLANK('MIS - Pharmacy'!A613), \"\",'MIS - Pharmacy'!A613)","v":""},{"$f":"IF(ISBLANK('MIS - Pharmacy'!B613),\"\",('MIS - Pharmacy'!B613&\"(\"&'MIS - Pharmacy'!D613&\")\"))","v":""},{"$f":"IF(ISBLANK('MIS - Pharmacy'!BI613), \"\", 'MIS - Pharmacy'!BI613)","v":""},{"$f":"IF(ISBLANK('MIS - Pharmacy'!U613), \"\", 'MIS - Pharmacy'!U613)","v":""},"","","","","","","",{"$f":"IF(ISBLANK('MIS - Pharmacy'!AC613),\"\",'MIS - Pharmacy'!AC613)","v":""},"",{"$f":"IF(ISBLANK('MIS - Pharmacy'!AD613),\"\",'MIS - Pharmacy'!AD613)","v":""},"","",{"$f":"IF('MIS - Pharmacy'!A613=\"\",\"\",SUM('MIS - Pharmacy'!K613+'MIS - Pharmacy'!L613))","v":""},"",{"$f":"IF('MIS - Pharmacy'!A613=\"\",\"\",('MIS - Pharmacy'!AF613+'MIS - Pharmacy'!AH613 +'MIS - Pharmacy'!AG613))","v":""},{"$f":"IF(ISBLANK('MIS - Pharmacy'!AI613),\"\",'MIS - Pharmacy'!AI613)","v":""},"","","",{"$f":"IF(ISBLANK('MIS - Pharmacy'!V613),\"\",'MIS - Pharmacy'!V613)","v":""},"","","",{"$f":"IF(ISBLANK('MIS - Pharmacy'!J613),\"\",'MIS - Pharmacy'!J613)","v":""},{"$f":"IF(ISBLANK('MIS - Pharmacy'!AY613),\"\",'MIS - Pharmacy'!AY613)","v":""},{"$f":"IF(ISBLANK('MIS - Pharmacy'!BH613),\"\",'MIS - Pharmacy'!BH613)","v":""},"",""]
[{"$f":"IF(ISBLANK('MIS - Pharmacy'!A614), \"\",'MIS - Pharmacy'!A614)","v":""},{"$f":"IF(ISBLANK('MIS - Pharmacy'!B614),\"\",('MIS - Pharmacy'!B614&\"(\"&'MIS - Pharmacy'!D614&\")\"))","v":""},{"$f":"IF(ISBLANK('MIS - Pharmacy'!BI614), \"\", 'MIS - Pharmacy'!BI614)","v":""},{"$f":"IF(ISBLANK('MIS - Pharmacy'!U614), \"\", 'MIS - Pharmacy'!U614)","v":""},"","","","","","","",{"$f":"IF(ISBLANK('MIS - Pharmacy'!AC614),\"\",'MIS - Pharmacy'!AC614)","v":""},"",{"$f":"IF(ISBLANK('MIS - Pharmacy'!AD614),\"\",'MIS - Pharmacy'!AD614)","v":""},"","",{"$f":"IF('MIS - Pharmacy'!A614=\"\",\"\",SUM('MIS - Pharmacy'!K614+'MIS - Pharmacy'!L614))","v":""},"",{"$f":"IF('MIS - Pharmacy'!A614=\"\",\"\",('MIS - Pharmacy'!AF614+'MIS - Pharmacy'!AH614 +'MIS - Pharmacy'!AG614))","v":""},{"$f":"IF(ISBLANK('MIS - Pharmacy'!AI614),\"\",'MIS - Pharmacy'!AI614)","v":""},"","","",{"$f":"IF(ISBLANK('MIS - Pharmacy'!V614),\"\",'MIS - Pharmacy'!V614)","v":""},"","","",{"$f":"IF(ISBLANK('MIS - Pharmacy'!J614),\"\",'MIS - Pharmacy'!J614)","v":""},{"$f":"IF(ISBLANK('MIS - Pharmacy'!AY614),\"\",'MIS - Pharmacy'!AY614)","v":""},{"$f":"IF(ISBLANK('MIS - Pharmacy'!BH614),\"\",'MIS - Pharmacy'!BH614)","v":""},"",""]
[{"$f":"IF(ISBLANK('MIS - Pharmacy'!A615), \"\",'MIS - Pharmacy'!A615)","v":""},{"$f":"IF(ISBLANK('MIS - Pharmacy'!B615),\"\",('MIS - Pharmacy'!B615&\"(\"&'MIS - Pharmacy'!D615&\")\"))","v":""},{"$f":"IF(ISBLANK('MIS - Pharmacy'!BI615), \"\", 'MIS - Pharmacy'!BI615)","v":""},{"$f":"IF(ISBLANK('MIS - Pharmacy'!U615), \"\", 'MIS - Pharmacy'!U615)","v":""},"","","","","","","",{"$f":"IF(ISBLANK('MIS - Pharmacy'!AC615),\"\",'MIS - Pharmacy'!AC615)","v":""},"",{"$f":"IF(ISBLANK('MIS - Pharmacy'!AD615),\"\",'MIS - Pharmacy'!AD615)","v":""},"","",{"$f":"IF('MIS - Pharmacy'!A615=\"\",\"\",SUM('MIS - Pharmacy'!K615+'MIS - Pharmacy'!L615))","v":""},"",{"$f":"IF('MIS - Pharmacy'!A615=\"\",\"\",('MIS - Pharmacy'!AF615+'MIS - Pharmacy'!AH615 +'MIS - Pharmacy'!AG615))","v":""},{"$f":"IF(ISBLANK('MIS - Pharmacy'!AI615),\"\",'MIS - Pharmacy'!AI615)","v":""},"","","",{"$f":"IF(ISBLANK('MIS - Pharmacy'!V615),\"\",'MIS - Pharmacy'!V615)","v":""},"","","",{"$f":"IF(ISBLANK('MIS - Pharmacy'!J615),\"\",'MIS - Pharmacy'!J615)","v":""},{"$f":"IF(ISBLANK('MIS - Pharmacy'!AY615),\"\",'MIS - Pharmacy'!AY615)","v":""},{"$f":"IF(ISBLANK('MIS - Pharmacy'!BH615),\"\",'MIS - Pharmacy'!BH615)","v":""},"",""]
[{"$f":"IF(ISBLANK('MIS - Pharmacy'!A616), \"\",'MIS - Pharmacy'!A616)","v":""},{"$f":"IF(ISBLANK('MIS - Pharmacy'!B616),\"\",('MIS - Pharmacy'!B616&\"(\"&'MIS - Pharmacy'!D616&\")\"))","v":""},{"$f":"IF(ISBLANK('MIS - Pharmacy'!BI616), \"\", 'MIS - Pharmacy'!BI616)","v":""},{"$f":"IF(ISBLANK('MIS - Pharmacy'!U616), \"\", 'MIS - Pharmacy'!U616)","v":""},"","","","","","","",{"$f":"IF(ISBLANK('MIS - Pharmacy'!AC616),\"\",'MIS - Pharmacy'!AC616)","v":""},"",{"$f":"IF(ISBLANK('MIS - Pharmacy'!AD616),\"\",'MIS - Pharmacy'!AD616)","v":""},"","",{"$f":"IF('MIS - Pharmacy'!A616=\"\",\"\",SUM('MIS - Pharmacy'!K616+'MIS - Pharmacy'!L616))","v":""},"",{"$f":"IF('MIS - Pharmacy'!A616=\"\",\"\",('MIS - Pharmacy'!AF616+'MIS - Pharmacy'!AH616 +'MIS - Pharmacy'!AG616))","v":""},{"$f":"IF(ISBLANK('MIS - Pharmacy'!AI616),\"\",'MIS - Pharmacy'!AI616)","v":""},"","","",{"$f":"IF(ISBLANK('MIS - Pharmacy'!V616),\"\",'MIS - Pharmacy'!V616)","v":""},"","","",{"$f":"IF(ISBLANK('MIS - Pharmacy'!J616),\"\",'MIS - Pharmacy'!J616)","v":""},{"$f":"IF(ISBLANK('MIS - Pharmacy'!AY616),\"\",'MIS - Pharmacy'!AY616)","v":""},{"$f":"IF(ISBLANK('MIS - Pharmacy'!BH616),\"\",'MIS - Pharmacy'!BH616)","v":""},"",""]
[{"$f":"IF(ISBLANK('MIS - Pharmacy'!A617), \"\",'MIS - Pharmacy'!A617)","v":""},{"$f":"IF(ISBLANK('MIS - Pharmacy'!B617),\"\",('MIS - Pharmacy'!B617&\"(\"&'MIS - Pharmacy'!D617&\")\"))","v":""},{"$f":"IF(ISBLANK('MIS - Pharmacy'!BI617), \"\", 'MIS - Pharmacy'!BI617)","v":""},{"$f":"IF(ISBLANK('MIS - Pharmacy'!U617), \"\", 'MIS - Pharmacy'!U617)","v":""},"","","","","","","",{"$f":"IF(ISBLANK('MIS - Pharmacy'!AC617),\"\",'MIS - Pharmacy'!AC617)","v":""},"",{"$f":"IF(ISBLANK('MIS - Pharmacy'!AD617),\"\",'MIS - Pharmacy'!AD617)","v":""},"","",{"$f":"IF('MIS - Pharmacy'!A617=\"\",\"\",SUM('MIS - Pharmacy'!K617+'MIS - Pharmacy'!L617))","v":""},"",{"$f":"IF('MIS - Pharmacy'!A617=\"\",\"\",('MIS - Pharmacy'!AF617+'MIS - Pharmacy'!AH617 +'MIS - Pharmacy'!AG617))","v":""},{"$f":"IF(ISBLANK('MIS - Pharmacy'!AI617),\"\",'MIS - Pharmacy'!AI617)","v":""},"","","",{"$f":"IF(ISBLANK('MIS - Pharmacy'!V617),\"\",'MIS - Pharmacy'!V617)","v":""},"","","",{"$f":"IF(ISBLANK('MIS - Pharmacy'!J617),\"\",'MIS - Pharmacy'!J617)","v":""},{"$f":"IF(ISBLANK('MIS - Pharmacy'!AY617),\"\",'MIS - Pharmacy'!AY617)","v":""},{"$f":"IF(ISBLANK('MIS - Pharmacy'!BH617),\"\",'MIS - Pharmacy'!BH617)","v":""},"",""]
[{"$f":"IF(ISBLANK('MIS - Pharmacy'!A618), \"\",'MIS - Pharmacy'!A618)","v":""},{"$f":"IF(ISBLANK('MIS - Pharmacy'!B618),\"\",('MIS - Pharmacy'!B618&\"(\"&'MIS - Pharmacy'!D618&\")\"))","v":""},{"$f":"IF(ISBLANK('MIS - Pharmacy'!BI618), \"\", 'MIS - Pharmacy'!BI618)","v":""},{"$f":"IF(ISBLANK('MIS - Pharmacy'!U618), \"\", 'MIS - Pharmacy'!U618)","v":""},"","","","","","","",{"$f":"IF(ISBLANK('MIS - Pharmacy'!AC618),\"\",'MIS - Pharmacy'!AC618)","v":""},"",{"$f":"IF(ISBLANK('MIS - Pharmacy'!AD618),\"\",'MIS - Pharmacy'!AD618)","v":""},"","",{"$f":"IF('MIS - Pharmacy'!A618=\"\",\"\",SUM('MIS - Pharmacy'!K618+'MIS - Pharmacy'!L618))","v":""},"",{"$f":"IF('MIS - Pharmacy'!A618=\"\",\"\",('MIS - Pharmacy'!AF618+'MIS - Pharmacy'!AH618 +'MIS - Pharmacy'!AG618))","v":""},{"$f":"IF(ISBLANK('MIS - Pharmacy'!AI618),\"\",'MIS - Pharmacy'!AI618)","v":""},"","","",{"$f":"IF(ISBLANK('MIS - Pharmacy'!V618),\"\",'MIS - Pharmacy'!V618)","v":""},"","","",{"$f":"IF(ISBLANK('MIS - Pharmacy'!J618),\"\",'MIS - Pharmacy'!J618)","v":""},{"$f":"IF(ISBLANK('MIS - Pharmacy'!AY618),\"\",'MIS - Pharmacy'!AY618)","v":""},{"$f":"IF(ISBLANK('MIS - Pharmacy'!BH618),\"\",'MIS - Pharmacy'!BH618)","v":""},"",""]
[{"$f":"IF(ISBLANK('MIS - Pharmacy'!A619), \"\",'MIS - Pharmacy'!A619)","v":""},{"$f":"IF(ISBLANK('MIS - Pharmacy'!B619),\"\",('MIS - Pharmacy'!B619&\"(\"&'MIS - Pharmacy'!D619&\")\"))","v":""},{"$f":"IF(ISBLANK('MIS - Pharmacy'!BI619), \"\", 'MIS - Pharmacy'!BI619)","v":""},{"$f":"IF(ISBLANK('MIS - Pharmacy'!U619), \"\", 'MIS - Pharmacy'!U619)","v":""},"","","","","","","",{"$f":"IF(ISBLANK('MIS - Pharmacy'!AC619),\"\",'MIS - Pharmacy'!AC619)","v":""},"",{"$f":"IF(ISBLANK('MIS - Pharmacy'!AD619),\"\",'MIS - Pharmacy'!AD619)","v":""},"","",{"$f":"IF('MIS - Pharmacy'!A619=\"\",\"\",SUM('MIS - Pharmacy'!K619+'MIS - Pharmacy'!L619))","v":""},"",{"$f":"IF('MIS - Pharmacy'!A619=\"\",\"\",('MIS - Pharmacy'!AF619+'MIS - Pharmacy'!AH619 +'MIS - Pharmacy'!AG619))","v":""},{"$f":"IF(ISBLANK('MIS - Pharmacy'!AI619),\"\",'MIS - Pharmacy'!AI619)","v":""},"","","",{"$f":"IF(ISBLANK('MIS - Pharmacy'!V619),\"\",'MIS - Pharmacy'!V619)","v":""},"","","",{"$f":"IF(ISBLANK('MIS - Pharmacy'!J619),\"\",'MIS - Pharmacy'!J619)","v":""},{"$f":"IF(ISBLANK('MIS - Pharmacy'!AY619),\"\",'MIS - Pharmacy'!AY619)","v":""},{"$f":"IF(ISBLANK('MIS - Pharmacy'!BH619),\"\",'MIS - Pharmacy'!BH619)","v":""},"",""]
[{"$f":"IF(ISBLANK('MIS - Pharmacy'!A620), \"\",'MIS - Pharmacy'!A620)","v":""},{"$f":"IF(ISBLANK('MIS - Pharmacy'!B620),\"\",('MIS - Pharmacy'!B620&\"(\"&'MIS - Pharmacy'!D620&\")\"))","v":""},{"$f":"IF(ISBLANK('MIS - Pharmacy'!BI620), \"\", 'MIS - Pharmacy'!BI620)","v":""},{"$f":"IF(ISBLANK('MIS - Pharmacy'!U620), \"\", 'MIS - Pharmacy'!U620)","v":""},"","","","","","","",{"$f":"IF(ISBLANK('MIS - Pharmacy'!AC620),\"\",'MIS - Pharmacy'!AC620)","v":""},"",{"$f":"IF(ISBLANK('MIS - Pharmacy'!AD620),\"\",'MIS - Pharmacy'!AD620)","v":""},"","",{"$f":"IF('MIS - Pharmacy'!A620=\"\",\"\",SUM('MIS - Pharmacy'!K620+'MIS - Pharmacy'!L620))","v":""},"",{"$f":"IF('MIS - Pharmacy'!A620=\"\",\"\",('MIS - Pharmacy'!AF620+'MIS - Pharmacy'!AH620 +'MIS - Pharmacy'!AG620))","v":""},{"$f":"IF(ISBLANK('MIS - Pharmacy'!AI620),\"\",'MIS - Pharmacy'!AI620)","v":""},"","","",{"$f":"IF(ISBLANK('MIS - Pharmacy'!V620),\"\",'MIS - Pharmacy'!V620)","v":""},"","","",{"$f":"IF(ISBLANK('MIS - Pharmacy'!J620),\"\",'MIS - Pharmacy'!J620)","v":""},{"$f":"IF(ISBLANK('MIS - Pharmacy'!AY620),\"\",'MIS - Pharmacy'!AY620)","v":""},{"$f":"IF(ISBLANK('MIS - Pharmacy'!BH620),\"\",'MIS - Pharmacy'!BH620)","v":""},"",""]
[{"$f":"IF(ISBLANK('MIS - Pharmacy'!A621), \"\",'MIS - Pharmacy'!A621)","v":""},{"$f":"IF(ISBLANK('MIS - Pharmacy'!B621),\"\",('MIS - Pharmacy'!B621&\"(\"&'MIS - Pharmacy'!D621&\")\"))","v":""},{"$f":"IF(ISBLANK('MIS - Pharmacy'!BI621), \"\", 'MIS - Pharmacy'!BI621)","v":""},{"$f":"IF(ISBLANK('MIS - Pharmacy'!U621), \"\", 'MIS - Pharmacy'!U621)","v":""},"","","","","","","",{"$f":"IF(ISBLANK('MIS - Pharmacy'!AC621),\"\",'MIS - Pharmacy'!AC621)","v":""},"",{"$f":"IF(ISBLANK('MIS - Pharmacy'!AD621),\"\",'MIS - Pharmacy'!AD621)","v":""},"","",{"$f":"IF('MIS - Pharmacy'!A621=\"\",\"\",SUM('MIS - Pharmacy'!K621+'MIS - Pharmacy'!L621))","v":""},"",{"$f":"IF('MIS - Pharmacy'!A621=\"\",\"\",('MIS - Pharmacy'!AF621+'MIS - Pharmacy'!AH621 +'MIS - Pharmacy'!AG621))","v":""},{"$f":"IF(ISBLANK('MIS - Pharmacy'!AI621),\"\",'MIS - Pharmacy'!AI621)","v":""},"","","",{"$f":"IF(ISBLANK('MIS - Pharmacy'!V621),\"\",'MIS - Pharmacy'!V621)","v":""},"","","",{"$f":"IF(ISBLANK('MIS - Pharmacy'!J621),\"\",'MIS - Pharmacy'!J621)","v":""},{"$f":"IF(ISBLANK('MIS - Pharmacy'!AY621),\"\",'MIS - Pharmacy'!AY621)","v":""},{"$f":"IF(ISBLANK('MIS - Pharmacy'!BH621),\"\",'MIS - Pharmacy'!BH621)","v":""},"",""]
[{"$f":"IF(ISBLANK('MIS - Pharmacy'!A622), \"\",'MIS - Pharmacy'!A622)","v":""},{"$f":"IF(ISBLANK('MIS - Pharmacy'!B622),\"\",('MIS - Pharmacy'!B622&\"(\"&'MIS - Pharmacy'!D622&\")\"))","v":""},{"$f":"IF(ISBLANK('MIS - Pharmacy'!BI622), \"\", 'MIS - Pharmacy'!BI622)","v":""},{"$f":"IF(ISBLANK('MIS - Pharmacy'!U622), \"\", 'MIS - Pharmacy'!U622)","v":""},"","","","","","","",{"$f":"IF(ISBLANK('MIS - Pharmacy'!AC622),\"\",'MIS - Pharmacy'!AC622)","v":""},"",{"$f":"IF(ISBLANK('MIS - Pharmacy'!AD622),\"\",'MIS - Pharmacy'!AD622)","v":""},"","",{"$f":"IF('MIS - Pharmacy'!A622=\"\",\"\",SUM('MIS - Pharmacy'!K622+'MIS - Pharmacy'!L622))","v":""},"",{"$f":"IF('MIS - Pharmacy'!A622=\"\",\"\",('MIS - Pharmacy'!AF622+'MIS - Pharmacy'!AH622 +'MIS - Pharmacy'!AG622))","v":""},{"$f":"IF(ISBLANK('MIS - Pharmacy'!AI622),\"\",'MIS - Pharmacy'!AI622)","v":""},"","","",{"$f":"IF(ISBLANK('MIS - Pharmacy'!V622),\"\",'MIS - Pharmacy'!V622)","v":""},"","","",{"$f":"IF(ISBLANK('MIS - Pharmacy'!J622),\"\",'MIS - Pharmacy'!J622)","v":""},{"$f":"IF(ISBLANK('MIS - Pharmacy'!AY622),\"\",'MIS - Pharmacy'!AY622)","v":""},{"$f":"IF(ISBLANK('MIS - Pharmacy'!BH622),\"\",'MIS - Pharmacy'!BH622)","v":""},"",""]
[{"$f":"IF(ISBLANK('MIS - Pharmacy'!A623), \"\",'MIS - Pharmacy'!A623)","v":""},{"$f":"IF(ISBLANK('MIS - Pharmacy'!B623),\"\",('MIS - Pharmacy'!B623&\"(\"&'MIS - Pharmacy'!D623&\")\"))","v":""},{"$f":"IF(ISBLANK('MIS - Pharmacy'!BI623), \"\", 'MIS - Pharmacy'!BI623)","v":""},{"$f":"IF(ISBLANK('MIS - Pharmacy'!U623), \"\", 'MIS - Pharmacy'!U623)","v":""},"","","","","","","",{"$f":"IF(ISBLANK('MIS - Pharmacy'!AC623),\"\",'MIS - Pharmacy'!AC623)","v":""},"",{"$f":"IF(ISBLANK('MIS - Pharmacy'!AD623),\"\",'MIS - Pharmacy'!AD623)","v":""},"","",{"$f":"IF('MIS - Pharmacy'!A623=\"\",\"\",SUM('MIS - Pharmacy'!K623+'MIS - Pharmacy'!L623))","v":""},"",{"$f":"IF('MIS - Pharmacy'!A623=\"\",\"\",('MIS - Pharmacy'!AF623+'MIS - Pharmacy'!AH623 +'MIS - Pharmacy'!AG623))","v":""},{"$f":"IF(ISBLANK('MIS - Pharmacy'!AI623),\"\",'MIS - Pharmacy'!AI623)","v":""},"","","",{"$f":"IF(ISBLANK('MIS - Pharmacy'!V623),\"\",'MIS - Pharmacy'!V623)","v":""},"","","",{"$f":"IF(ISBLANK('MIS - Pharmacy'!J623),\"\",'MIS - Pharmacy'!J623)","v":""},{"$f":"IF(ISBLANK('MIS - Pharmacy'!AY623),\"\",'MIS - Pharmacy'!AY623)","v":""},{"$f":"IF(ISBLANK('MIS - Pharmacy'!BH623),\"\",'MIS - Pharmacy'!BH623)","v":""},"",""]
[{"$f":"IF(ISBLANK('MIS - Pharmacy'!A624), \"\",'MIS - Pharmacy'!A624)","v":""},{"$f":"IF(ISBLANK('MIS - Pharmacy'!B624),\"\",('MIS - Pharmacy'!B624&\"(\"&'MIS - Pharmacy'!D624&\")\"))","v":""},{"$f":"IF(ISBLANK('MIS - Pharmacy'!BI624), \"\", 'MIS - Pharmacy'!BI624)","v":""},{"$f":"IF(ISBLANK('MIS - Pharmacy'!U624), \"\", 'MIS - Pharmacy'!U624)","v":""},"","","","","","","",{"$f":"IF(ISBLANK('MIS - Pharmacy'!AC624),\"\",'MIS - Pharmacy'!AC624)","v":""},"",{"$f":"IF(ISBLANK('MIS - Pharmacy'!AD624),\"\",'MIS - Pharmacy'!AD624)","v":""},"","",{"$f":"IF('MIS - Pharmacy'!A624=\"\",\"\",SUM('MIS - Pharmacy'!K624+'MIS - Pharmacy'!L624))","v":""},"",{"$f":"IF('MIS - Pharmacy'!A624=\"\",\"\",('MIS - Pharmacy'!AF624+'MIS - Pharmacy'!AH624 +'MIS - Pharmacy'!AG624))","v":""},{"$f":"IF(ISBLANK('MIS - Pharmacy'!AI624),\"\",'MIS - Pharmacy'!AI624)","v":""},"","","",{"$f":"IF(ISBLANK('MIS - Pharmacy'!V624),\"\",'MIS - Pharmacy'!V624)","v":""},"","","",{"$f":"IF(ISBLANK('MIS - Pharmacy'!J624),\"\",'MIS - Pharmacy'!J624)","v":""},{"$f":"IF(ISBLANK('MIS - Pharmacy'!AY624),\"\",'MIS - Pharmacy'!AY624)","v":""},{"$f":"IF(ISBLANK('MIS - Pharmacy'!BH624),\"\",'MIS - Pharmacy'!BH624)","v":""},"",""]
[{"$f":"IF(ISBLANK('MIS - Pharmacy'!A625), \"\",'MIS - Pharmacy'!A625)","v":""},{"$f":"IF(ISBLANK('MIS - Pharmacy'!B625),\"\",('MIS - Pharmacy'!B625&\"(\"&'MIS - Pharmacy'!D625&\")\"))","v":""},{"$f":"IF(ISBLANK('MIS - Pharmacy'!BI625), \"\", 'MIS - Pharmacy'!BI625)","v":""},{"$f":"IF(ISBLANK('MIS - Pharmacy'!U625), \"\", 'MIS - Pharmacy'!U625)","v":""},"","","","","","","",{"$f":"IF(ISBLANK('MIS - Pharmacy'!AC625),\"\",'MIS - Pharmacy'!AC625)","v":""},"",{"$f":"IF(ISBLANK('MIS - Pharmacy'!AD625),\"\",'MIS - Pharmacy'!AD625)","v":""},"","",{"$f":"IF('MIS - Pharmacy'!A625=\"\",\"\",SUM('MIS - Pharmacy'!K625+'MIS - Pharmacy'!L625))","v":""},"",{"$f":"IF('MIS - Pharmacy'!A625=\"\",\"\",('MIS - Pharmacy'!AF625+'MIS - Pharmacy'!AH625 +'MIS - Pharmacy'!AG625))","v":""},{"$f":"IF(ISBLANK('MIS - Pharmacy'!AI625),\"\",'MIS - Pharmacy'!AI625)","v":""},"","","",{"$f":"IF(ISBLANK('MIS - Pharmacy'!V625),\"\",'MIS - Pharmacy'!V625)","v":""},"","","",{"$f":"IF(ISBLANK('MIS - Pharmacy'!J625),\"\",'MIS - Pharmacy'!J625)","v":""},{"$f":"IF(ISBLANK('MIS - Pharmacy'!AY625),\"\",'MIS - Pharmacy'!AY625)","v":""},{"$f":"IF(ISBLANK('MIS - Pharmacy'!BH625),\"\",'MIS - Pharmacy'!BH625)","v":""},"",""]
[{"$f":"IF(ISBLANK('MIS - Pharmacy'!A626), \"\",'MIS - Pharmacy'!A626)","v":""},{"$f":"IF(ISBLANK('MIS - Pharmacy'!B626),\"\",('MIS - Pharmacy'!B626&\"(\"&'MIS - Pharmacy'!D626&\")\"))","v":""},{"$f":"IF(ISBLANK('MIS - Pharmacy'!BI626), \"\", 'MIS - Pharmacy'!BI626)","v":""},{"$f":"IF(ISBLANK('MIS - Pharmacy'!U626), \"\", 'MIS - Pharmacy'!U626)","v":""},"","","","","","","",{"$f":"IF(ISBLANK('MIS - Pharmacy'!AC626),\"\",'MIS - Pharmacy'!AC626)","v":""},"",{"$f":"IF(ISBLANK('MIS - Pharmacy'!AD626),\"\",'MIS - Pharmacy'!AD626)","v":""},"","",{"$f":"IF('MIS - Pharmacy'!A626=\"\",\"\",SUM('MIS - Pharmacy'!K626+'MIS - Pharmacy'!L626))","v":""},"",{"$f":"IF('MIS - Pharmacy'!A626=\"\",\"\",('MIS - Pharmacy'!AF626+'MIS - Pharmacy'!AH626 +'MIS - Pharmacy'!AG626))","v":""},{"$f":"IF(ISBLANK('MIS - Pharmacy'!AI626),\"\",'MIS - Pharmacy'!AI626)","v":""},"","","",{"$f":"IF(ISBLANK('MIS - Pharmacy'!V626),\"\",'MIS - Pharmacy'!V626)","v":""},"","","",{"$f":"IF(ISBLANK('MIS - Pharmacy'!J626),\"\",'MIS - Pharmacy'!J626)","v":""},{"$f":"IF(ISBLANK('MIS - Pharmacy'!AY626),\"\",'MIS - Pharmacy'!AY626)","v":""},{"$f":"IF(ISBLANK('MIS - Pharmacy'!BH626),\"\",'MIS - Pharmacy'!BH626)","v":""},"",""]
[{"$f":"IF(ISBLANK('MIS - Pharmacy'!A627), \"\",'MIS - Pharmacy'!A627)","v":""},{"$f":"IF(ISBLANK('MIS - Pharmacy'!B627),\"\",('MIS - Pharmacy'!B627&\"(\"&'MIS - Pharmacy'!D627&\")\"))","v":""},{"$f":"IF(ISBLANK('MIS - Pharmacy'!BI627), \"\", 'MIS - Pharmacy'!BI627)","v":""},{"$f":"IF(ISBLANK('MIS - Pharmacy'!U627), \"\", 'MIS - Pharmacy'!U627)","v":""},"","","","","","","",{"$f":"IF(ISBLANK('MIS - Pharmacy'!AC627),\"\",'MIS - Pharmacy'!AC627)","v":""},"",{"$f":"IF(ISBLANK('MIS - Pharmacy'!AD627),\"\",'MIS - Pharmacy'!AD627)","v":""},"","",{"$f":"IF('MIS - Pharmacy'!A627=\"\",\"\",SUM('MIS - Pharmacy'!K627+'MIS - Pharmacy'!L627))","v":""},"",{"$f":"IF('MIS - Pharmacy'!A627=\"\",\"\",('MIS - Pharmacy'!AF627+'MIS - Pharmacy'!AH627 +'MIS - Pharmacy'!AG627))","v":""},{"$f":"IF(ISBLANK('MIS - Pharmacy'!AI627),\"\",'MIS - Pharmacy'!AI627)","v":""},"","","",{"$f":"IF(ISBLANK('MIS - Pharmacy'!V627),\"\",'MIS - Pharmacy'!V627)","v":""},"","","",{"$f":"IF(ISBLANK('MIS - Pharmacy'!J627),\"\",'MIS - Pharmacy'!J627)","v":""},{"$f":"IF(ISBLANK('MIS - Pharmacy'!AY627),\"\",'MIS - Pharmacy'!AY627)","v":""},{"$f":"IF(ISBLANK('MIS - Pharmacy'!BH627),\"\",'MIS - Pharmacy'!BH627)","v":""},"",""]
[{"$f":"IF(ISBLANK('MIS - Pharmacy'!A628), \"\",'MIS - Pharmacy'!A628)","v":""},{"$f":"IF(ISBLANK('MIS - Pharmacy'!B628),\"\",('MIS - Pharmacy'!B628&\"(\"&'MIS - Pharmacy'!D628&\")\"))","v":""},{"$f":"IF(ISBLANK('MIS - Pharmacy'!BI628), \"\", 'MIS - Pharmacy'!BI628)","v":""},{"$f":"IF(ISBLANK('MIS - Pharmacy'!U628), \"\", 'MIS - Pharmacy'!U628)","v":""},"","","","","","","",{"$f":"IF(ISBLANK('MIS - Pharmacy'!AC628),\"\",'MIS - Pharmacy'!AC628)","v":""},"",{"$f":"IF(ISBLANK('MIS - Pharmacy'!AD628),\"\",'MIS - Pharmacy'!AD628)","v":""},"","",{"$f":"IF('MIS - Pharmacy'!A628=\"\",\"\",SUM('MIS - Pharmacy'!K628+'MIS - Pharmacy'!L628))","v":""},"",{"$f":"IF('MIS - Pharmacy'!A628=\"\",\"\",('MIS - Pharmacy'!AF628+'MIS - Pharmacy'!AH628 +'MIS - Pharmacy'!AG628))","v":""},{"$f":"IF(ISBLANK('MIS - Pharmacy'!AI628),\"\",'MIS - Pharmacy'!AI628)","v":""},"","","",{"$f":"IF(ISBLANK('MIS - Pharmacy'!V628),\"\",'MIS - Pharmacy'!V628)","v":""},"","","",{"$f":"IF(ISBLANK('MIS - Pharmacy'!J628),\"\",'MIS - Pharmacy'!J628)","v":""},{"$f":"IF(ISBLANK('MIS - Pharmacy'!AY628),\"\",'MIS - Pharmacy'!AY628)","v":""},{"$f":"IF(ISBLANK('MIS - Pharmacy'!BH628),\"\",'MIS - Pharmacy'!BH628)","v":""},"",""]
[{"$f":"IF(ISBLANK('MIS - Pharmacy'!A629), \"\",'MIS - Pharmacy'!A629)","v":""},{"$f":"IF(ISBLANK('MIS - Pharmacy'!B629),\"\",('MIS - Pharmacy'!B629&\"(\"&'MIS - Pharmacy'!D629&\")\"))","v":""},{"$f":"IF(ISBLANK('MIS - Pharmacy'!BI629), \"\", 'MIS - Pharmacy'!BI629)","v":""},{"$f":"IF(ISBLANK('MIS - Pharmacy'!U629), \"\", 'MIS - Pharmacy'!U629)","v":""},"","","","","","","",{"$f":"IF(ISBLANK('MIS - Pharmacy'!AC629),\"\",'MIS - Pharmacy'!AC629)","v":""},"",{"$f":"IF(ISBLANK('MIS - Pharmacy'!AD629),\"\",'MIS - Pharmacy'!AD629)","v":""},"","",{"$f":"IF('MIS - Pharmacy'!A629=\"\",\"\",SUM('MIS - Pharmacy'!K629+'MIS - Pharmacy'!L629))","v":""},"",{"$f":"IF('MIS - Pharmacy'!A629=\"\",\"\",('MIS - Pharmacy'!AF629+'MIS - Pharmacy'!AH629 +'MIS - Pharmacy'!AG629))","v":""},{"$f":"IF(ISBLANK('MIS - Pharmacy'!AI629),\"\",'MIS - Pharmacy'!AI629)","v":""},"","","",{"$f":"IF(ISBLANK('MIS - Pharmacy'!V629),\"\",'MIS - Pharmacy'!V629)","v":""},"","","",{"$f":"IF(ISBLANK('MIS - Pharmacy'!J629),\"\",'MIS - Pharmacy'!J629)","v":""},{"$f":"IF(ISBLANK('MIS - Pharmacy'!AY629),\"\",'MIS - Pharmacy'!AY629)","v":""},{"$f":"IF(ISBLANK('MIS - Pharmacy'!BH629),\"\",'MIS - Pharmacy'!BH629)","v":""},"",""]
[{"$f":"IF(ISBLANK('MIS - Pharmacy'!A630), \"\",'MIS - Pharmacy'!A630)","v":""},{"$f":"IF(ISBLANK('MIS - Pharmacy'!B630),\"\",('MIS - Pharmacy'!B630&\"(\"&'MIS - Pharmacy'!D630&\")\"))","v":""},{"$f":"IF(ISBLANK('MIS - Pharmacy'!BI630), \"\", 'MIS - Pharmacy'!BI630)","v":""},{"$f":"IF(ISBLANK('MIS - Pharmacy'!U630), \"\", 'MIS - Pharmacy'!U630)","v":""},"","","","","","","",{"$f":"IF(ISBLANK('MIS - Pharmacy'!AC630),\"\",'MIS - Pharmacy'!AC630)","v":""},"",{"$f":"IF(ISBLANK('MIS - Pharmacy'!AD630),\"\",'MIS - Pharmacy'!AD630)","v":""},"","",{"$f":"IF('MIS - Pharmacy'!A630=\"\",\"\",SUM('MIS - Pharmacy'!K630+'MIS - Pharmacy'!L630))","v":""},"",{"$f":"IF('MIS - Pharmacy'!A630=\"\",\"\",('MIS - Pharmacy'!AF630+'MIS - Pharmacy'!AH630 +'MIS - Pharmacy'!AG630))","v":""},{"$f":"IF(ISBLANK('MIS - Pharmacy'!AI630),\"\",'MIS - Pharmacy'!AI630)","v":""},"","","",{"$f":"IF(ISBLANK('MIS - Pharmacy'!V630),\"\",'MIS - Pharmacy'!V630)","v":""},"","","",{"$f":"IF(ISBLANK('MIS - Pharmacy'!J630),\"\",'MIS - Pharmacy'!J630)","v":""},{"$f":"IF(ISBLANK('MIS - Pharmacy'!AY630),\"\",'MIS - Pharmacy'!AY630)","v":""},{"$f":"IF(ISBLANK('MIS - Pharmacy'!BH630),\"\",'MIS - Pharmacy'!BH630)","v":""},"",""]
[{"$f":"IF(ISBLANK('MIS - Pharmacy'!A631), \"\",'MIS - Pharmacy'!A631)","v":""},{"$f":"IF(ISBLANK('MIS - Pharmacy'!B631),\"\",('MIS - Pharmacy'!B631&\"(\"&'MIS - Pharmacy'!D631&\")\"))","v":""},{"$f":"IF(ISBLANK('MIS - Pharmacy'!BI631), \"\", 'MIS - Pharmacy'!BI631)","v":""},{"$f":"IF(ISBLANK('MIS - Pharmacy'!U631), \"\", 'MIS - Pharmacy'!U631)","v":""},"","","","","","","",{"$f":"IF(ISBLANK('MIS - Pharmacy'!AC631),\"\",'MIS - Pharmacy'!AC631)","v":""},"",{"$f":"IF(ISBLANK('MIS - Pharmacy'!AD631),\"\",'MIS - Pharmacy'!AD631)","v":""},"","",{"$f":"IF('MIS - Pharmacy'!A631=\"\",\"\",SUM('MIS - Pharmacy'!K631+'MIS - Pharmacy'!L631))","v":""},"",{"$f":"IF('MIS - Pharmacy'!A631=\"\",\"\",('MIS - Pharmacy'!AF631+'MIS - Pharmacy'!AH631 +'MIS - Pharmacy'!AG631))","v":""},{"$f":"IF(ISBLANK('MIS - Pharmacy'!AI631),\"\",'MIS - Pharmacy'!AI631)","v":""},"","","",{"$f":"IF(ISBLANK('MIS - Pharmacy'!V631),\"\",'MIS - Pharmacy'!V631)","v":""},"","","",{"$f":"IF(ISBLANK('MIS - Pharmacy'!J631),\"\",'MIS - Pharmacy'!J631)","v":""},{"$f":"IF(ISBLANK('MIS - Pharmacy'!AY631),\"\",'MIS - Pharmacy'!AY631)","v":""},{"$f":"IF(ISBLANK('MIS - Pharmacy'!BH631),\"\",'MIS - Pharmacy'!BH631)","v":""},"",""]
[{"$f":"IF(ISBLANK('MIS - Pharmacy'!A632), \"\",'MIS - Pharmacy'!A632)","v":""},{"$f":"IF(ISBLANK('MIS - Pharmacy'!B632),\"\",('MIS - Pharmacy'!B632&\"(\"&'MIS - Pharmacy'!D632&\")\"))","v":""},{"$f":"IF(ISBLANK('MIS - Pharmacy'!BI632), \"\", 'MIS - Pharmacy'!BI632)","v":""},{"$f":"IF(ISBLANK('MIS - Pharmacy'!U632), \"\", 'MIS - Pharmacy'!U632)","v":""},"","","","","","","",{"$f":"IF(ISBLANK('MIS - Pharmacy'!AC632),\"\",'MIS - Pharmacy'!AC632)","v":""},"",{"$f":"IF(ISBLANK('MIS - Pharmacy'!AD632),\"\",'MIS - Pharmacy'!AD632)","v":""},"","",{"$f":"IF('MIS - Pharmacy'!A632=\"\",\"\",SUM('MIS - Pharmacy'!K632+'MIS - Pharmacy'!L632))","v":""},"",{"$f":"IF('MIS - Pharmacy'!A632=\"\",\"\",('MIS - Pharmacy'!AF632+'MIS - Pharmacy'!AH632 +'MIS - Pharmacy'!AG632))","v":""},{"$f":"IF(ISBLANK('MIS - Pharmacy'!AI632),\"\",'MIS - Pharmacy'!AI632)","v":""},"","","",{"$f":"IF(ISBLANK('MIS - Pharmacy'!V632),\"\",'MIS - Pharmacy'!V632)","v":""},"","","",{"$f":"IF(ISBLANK('MIS - Pharmacy'!J632),\"\",'MIS - Pharmacy'!J632)","v":""},{"$f":"IF(ISBLANK('MIS - Pharmacy'!AY632),\"\",'MIS - Pharmacy'!AY632)","v":""},{"$f":"IF(ISBLANK('MIS - Pharmacy'!BH632),\"\",'MIS - Pharmacy'!BH632)","v":""},"",""]
[{"$f":"IF(ISBLANK('MIS - Pharmacy'!A633), \"\",'MIS - Pharmacy'!A633)","v":""},{"$f":"IF(ISBLANK('MIS - Pharmacy'!B633),\"\",('MIS - Pharmacy'!B633&\"(\"&'MIS - Pharmacy'!D633&\")\"))","v":""},{"$f":"IF(ISBLANK('MIS - Pharmacy'!BI633), \"\", 'MIS - Pharmacy'!BI633)","v":""},{"$f":"IF(ISBLANK('MIS - Pharmacy'!U633), \"\", 'MIS - Pharmacy'!U633)","v":""},"","","","","","","",{"$f":"IF(ISBLANK('MIS - Pharmacy'!AC633),\"\",'MIS - Pharmacy'!AC633)","v":""},"",{"$f":"IF(ISBLANK('MIS - Pharmacy'!AD633),\"\",'MIS - Pharmacy'!AD633)","v":""},"","",{"$f":"IF('MIS - Pharmacy'!A633=\"\",\"\",SUM('MIS - Pharmacy'!K633+'MIS - Pharmacy'!L633))","v":""},"",{"$f":"IF('MIS - Pharmacy'!A633=\"\",\"\",('MIS - Pharmacy'!AF633+'MIS - Pharmacy'!AH633 +'MIS - Pharmacy'!AG633))","v":""},{"$f":"IF(ISBLANK('MIS - Pharmacy'!AI633),\"\",'MIS - Pharmacy'!AI633)","v":""},"","","",{"$f":"IF(ISBLANK('MIS - Pharmacy'!V633),\"\",'MIS - Pharmacy'!V633)","v":""},"","","",{"$f":"IF(ISBLANK('MIS - Pharmacy'!J633),\"\",'MIS - Pharmacy'!J633)","v":""},{"$f":"IF(ISBLANK('MIS - Pharmacy'!AY633),\"\",'MIS - Pharmacy'!AY633)","v":""},{"$f":"IF(ISBLANK('MIS - Pharmacy'!BH633),\"\",'MIS - Pharmacy'!BH633)","v":""},"",""]
[{"$f":"IF(ISBLANK('MIS - Pharmacy'!A634), \"\",'MIS - Pharmacy'!A634)","v":""},{"$f":"IF(ISBLANK('MIS - Pharmacy'!B634),\"\",('MIS - Pharmacy'!B634&\"(\"&'MIS - Pharmacy'!D634&\")\"))","v":""},{"$f":"IF(ISBLANK('MIS - Pharmacy'!BI634), \"\", 'MIS - Pharmacy'!BI634)","v":""},{"$f":"IF(ISBLANK('MIS - Pharmacy'!U634), \"\", 'MIS - Pharmacy'!U634)","v":""},"","","","","","","",{"$f":"IF(ISBLANK('MIS - Pharmacy'!AC634),\"\",'MIS - Pharmacy'!AC634)","v":""},"",{"$f":"IF(ISBLANK('MIS - Pharmacy'!AD634),\"\",'MIS - Pharmacy'!AD634)","v":""},"","",{"$f":"IF('MIS - Pharmacy'!A634=\"\",\"\",SUM('MIS - Pharmacy'!K634+'MIS - Pharmacy'!L634))","v":""},"",{"$f":"IF('MIS - Pharmacy'!A634=\"\",\"\",('MIS - Pharmacy'!AF634+'MIS - Pharmacy'!AH634 +'MIS - Pharmacy'!AG634))","v":""},{"$f":"IF(ISBLANK('MIS - Pharmacy'!AI634),\"\",'MIS - Pharmacy'!AI634)","v":""},"","","",{"$f":"IF(ISBLANK('MIS - Pharmacy'!V634),\"\",'MIS - Pharmacy'!V634)","v":""},"","","",{"$f":"IF(ISBLANK('MIS - Pharmacy'!J634),\"\",'MIS - Pharmacy'!J634)","v":""},{"$f":"IF(ISBLANK('MIS - Pharmacy'!AY634),\"\",'MIS - Pharmacy'!AY634)","v":""},{"$f":"IF(ISBLANK('MIS - Pharmacy'!BH634),\"\",'MIS - Pharmacy'!BH634)","v":""},"",""]
[{"$f":"IF(ISBLANK('MIS - Pharmacy'!A635), \"\",'MIS - Pharmacy'!A635)","v":""},{"$f":"IF(ISBLANK('MIS - Pharmacy'!B635),\"\",('MIS - Pharmacy'!B635&\"(\"&'MIS - Pharmacy'!D635&\")\"))","v":""},{"$f":"IF(ISBLANK('MIS - Pharmacy'!BI635), \"\", 'MIS - Pharmacy'!BI635)","v":""},{"$f":"IF(ISBLANK('MIS - Pharmacy'!U635), \"\", 'MIS - Pharmacy'!U635)","v":""},"","","","","","","",{"$f":"IF(ISBLANK('MIS - Pharmacy'!AC635),\"\",'MIS - Pharmacy'!AC635)","v":""},"",{"$f":"IF(ISBLANK('MIS - Pharmacy'!AD635),\"\",'MIS - Pharmacy'!AD635)","v":""},"","",{"$f":"IF('MIS - Pharmacy'!A635=\"\",\"\",SUM('MIS - Pharmacy'!K635+'MIS - Pharmacy'!L635))","v":""},"",{"$f":"IF('MIS - Pharmacy'!A635=\"\",\"\",('MIS - Pharmacy'!AF635+'MIS - Pharmacy'!AH635 +'MIS - Pharmacy'!AG635))","v":""},{"$f":"IF(ISBLANK('MIS - Pharmacy'!AI635),\"\",'MIS - Pharmacy'!AI635)","v":""},"","","",{"$f":"IF(ISBLANK('MIS - Pharmacy'!V635),\"\",'MIS - Pharmacy'!V635)","v":""},"","","",{"$f":"IF(ISBLANK('MIS - Pharmacy'!J635),\"\",'MIS - Pharmacy'!J635)","v":""},{"$f":"IF(ISBLANK('MIS - Pharmacy'!AY635),\"\",'MIS - Pharmacy'!AY635)","v":""},{"$f":"IF(ISBLANK('MIS - Pharmacy'!BH635),\"\",'MIS - Pharmacy'!BH635)","v":""},"",""]
[{"$f":"IF(ISBLANK('MIS - Pharmacy'!A636), \"\",'MIS - Pharmacy'!A636)","v":""},{"$f":"IF(ISBLANK('MIS - Pharmacy'!B636),\"\",('MIS - Pharmacy'!B636&\"(\"&'MIS - Pharmacy'!D636&\")\"))","v":""},{"$f":"IF(ISBLANK('MIS - Pharmacy'!BI636), \"\", 'MIS - Pharmacy'!BI636)","v":""},{"$f":"IF(ISBLANK('MIS - Pharmacy'!U636), \"\", 'MIS - Pharmacy'!U636)","v":""},"","","","","","","",{"$f":"IF(ISBLANK('MIS - Pharmacy'!AC636),\"\",'MIS - Pharmacy'!AC636)","v":""},"",{"$f":"IF(ISBLANK('MIS - Pharmacy'!AD636),\"\",'MIS - Pharmacy'!AD636)","v":""},"","",{"$f":"IF('MIS - Pharmacy'!A636=\"\",\"\",SUM('MIS - Pharmacy'!K636+'MIS - Pharmacy'!L636))","v":""},"",{"$f":"IF('MIS - Pharmacy'!A636=\"\",\"\",('MIS - Pharmacy'!AF636+'MIS - Pharmacy'!AH636 +'MIS - Pharmacy'!AG636))","v":""},{"$f":"IF(ISBLANK('MIS - Pharmacy'!AI636),\"\",'MIS - Pharmacy'!AI636)","v":""},"","","",{"$f":"IF(ISBLANK('MIS - Pharmacy'!V636),\"\",'MIS - Pharmacy'!V636)","v":""},"","","",{"$f":"IF(ISBLANK('MIS - Pharmacy'!J636),\"\",'MIS - Pharmacy'!J636)","v":""},{"$f":"IF(ISBLANK('MIS - Pharmacy'!AY636),\"\",'MIS - Pharmacy'!AY636)","v":""},{"$f":"IF(ISBLANK('MIS - Pharmacy'!BH636),\"\",'MIS - Pharmacy'!BH636)","v":""},"",""]
[{"$f":"IF(ISBLANK('MIS - Pharmacy'!A637), \"\",'MIS - Pharmacy'!A637)","v":""},{"$f":"IF(ISBLANK('MIS - Pharmacy'!B637),\"\",('MIS - Pharmacy'!B637&\"(\"&'MIS - Pharmacy'!D637&\")\"))","v":""},{"$f":"IF(ISBLANK('MIS - Pharmacy'!BI637), \"\", 'MIS - Pharmacy'!BI637)","v":""},{"$f":"IF(ISBLANK('MIS - Pharmacy'!U637), \"\", 'MIS - Pharmacy'!U637)","v":""},"","","","","","","",{"$f":"IF(ISBLANK('MIS - Pharmacy'!AC637),\"\",'MIS - Pharmacy'!AC637)","v":""},"",{"$f":"IF(ISBLANK('MIS - Pharmacy'!AD637),\"\",'MIS - Pharmacy'!AD637)","v":""},"","",{"$f":"IF('MIS - Pharmacy'!A637=\"\",\"\",SUM('MIS - Pharmacy'!K637+'MIS - Pharmacy'!L637))","v":""},"",{"$f":"IF('MIS - Pharmacy'!A637=\"\",\"\",('MIS - Pharmacy'!AF637+'MIS - Pharmacy'!AH637 +'MIS - Pharmacy'!AG637))","v":""},{"$f":"IF(ISBLANK('MIS - Pharmacy'!AI637),\"\",'MIS - Pharmacy'!AI637)","v":""},"","","",{"$f":"IF(ISBLANK('MIS - Pharmacy'!V637),\"\",'MIS - Pharmacy'!V637)","v":""},"","","",{"$f":"IF(ISBLANK('MIS - Pharmacy'!J637),\"\",'MIS - Pharmacy'!J637)","v":""},{"$f":"IF(ISBLANK('MIS - Pharmacy'!AY637),\"\",'MIS - Pharmacy'!AY637)","v":""},{"$f":"IF(ISBLANK('MIS - Pharmacy'!BH637),\"\",'MIS - Pharmacy'!BH637)","v":""},"",""]
[{"$f":"IF(ISBLANK('MIS - Pharmacy'!A638), \"\",'MIS - Pharmacy'!A638)","v":""},{"$f":"IF(ISBLANK('MIS - Pharmacy'!B638),\"\",('MIS - Pharmacy'!B638&\"(\"&'MIS - Pharmacy'!D638&\")\"))","v":""},{"$f":"IF(ISBLANK('MIS - Pharmacy'!BI638), \"\", 'MIS - Pharmacy'!BI638)","v":""},{"$f":"IF(ISBLANK('MIS - Pharmacy'!U638), \"\", 'MIS - Pharmacy'!U638)","v":""},"","","","","","","",{"$f":"IF(ISBLANK('MIS - Pharmacy'!AC638),\"\",'MIS - Pharmacy'!AC638)","v":""},"",{"$f":"IF(ISBLANK('MIS - Pharmacy'!AD638),\"\",'MIS - Pharmacy'!AD638)","v":""},"","",{"$f":"IF('MIS - Pharmacy'!A638=\"\",\"\",SUM('MIS - Pharmacy'!K638+'MIS - Pharmacy'!L638))","v":""},"",{"$f":"IF('MIS - Pharmacy'!A638=\"\",\"\",('MIS - Pharmacy'!AF638+'MIS - Pharmacy'!AH638 +'MIS - Pharmacy'!AG638))","v":""},{"$f":"IF(ISBLANK('MIS - Pharmacy'!AI638),\"\",'MIS - Pharmacy'!AI638)","v":""},"","","",{"$f":"IF(ISBLANK('MIS - Pharmacy'!V638),\"\",'MIS - Pharmacy'!V638)","v":""},"","","",{"$f":"IF(ISBLANK('MIS - Pharmacy'!J638),\"\",'MIS - Pharmacy'!J638)","v":""},{"$f":"IF(ISBLANK('MIS - Pharmacy'!AY638),\"\",'MIS - Pharmacy'!AY638)","v":""},{"$f":"IF(ISBLANK('MIS - Pharmacy'!BH638),\"\",'MIS - Pharmacy'!BH638)","v":""},"",""]
[{"$f":"IF(ISBLANK('MIS - Pharmacy'!A639), \"\",'MIS - Pharmacy'!A639)","v":""},{"$f":"IF(ISBLANK('MIS - Pharmacy'!B639),\"\",('MIS - Pharmacy'!B639&\"(\"&'MIS - Pharmacy'!D639&\")\"))","v":""},{"$f":"IF(ISBLANK('MIS - Pharmacy'!BI639), \"\", 'MIS - Pharmacy'!BI639)","v":""},{"$f":"IF(ISBLANK('MIS - Pharmacy'!U639), \"\", 'MIS - Pharmacy'!U639)","v":""},"","","","","","","",{"$f":"IF(ISBLANK('MIS - Pharmacy'!AC639),\"\",'MIS - Pharmacy'!AC639)","v":""},"",{"$f":"IF(ISBLANK('MIS - Pharmacy'!AD639),\"\",'MIS - Pharmacy'!AD639)","v":""},"","",{"$f":"IF('MIS - Pharmacy'!A639=\"\",\"\",SUM('MIS - Pharmacy'!K639+'MIS - Pharmacy'!L639))","v":""},"",{"$f":"IF('MIS - Pharmacy'!A639=\"\",\"\",('MIS - Pharmacy'!AF639+'MIS - Pharmacy'!AH639 +'MIS - Pharmacy'!AG639))","v":""},{"$f":"IF(ISBLANK('MIS - Pharmacy'!AI639),\"\",'MIS - Pharmacy'!AI639)","v":""},"","","",{"$f":"IF(ISBLANK('MIS - Pharmacy'!V639),\"\",'MIS - Pharmacy'!V639)","v":""},"","","",{"$f":"IF(ISBLANK('MIS - Pharmacy'!J639),\"\",'MIS - Pharmacy'!J639)","v":""},{"$f":"IF(ISBLANK('MIS - Pharmacy'!AY639),\"\",'MIS - Pharmacy'!AY639)","v":""},{"$f":"IF(ISBLANK('MIS - Pharmacy'!BH639),\"\",'MIS - Pharmacy'!BH639)","v":""},"",""]
[{"$f":"IF(ISBLANK('MIS - Pharmacy'!A640), \"\",'MIS - Pharmacy'!A640)","v":""},{"$f":"IF(ISBLANK('MIS - Pharmacy'!B640),\"\",('MIS - Pharmacy'!B640&\"(\"&'MIS - Pharmacy'!D640&\")\"))","v":""},{"$f":"IF(ISBLANK('MIS - Pharmacy'!BI640), \"\", 'MIS - Pharmacy'!BI640)","v":""},{"$f":"IF(ISBLANK('MIS - Pharmacy'!U640), \"\", 'MIS - Pharmacy'!U640)","v":""},"","","","","","","",{"$f":"IF(ISBLANK('MIS - Pharmacy'!AC640),\"\",'MIS - Pharmacy'!AC640)","v":""},"",{"$f":"IF(ISBLANK('MIS - Pharmacy'!AD640),\"\",'MIS - Pharmacy'!AD640)","v":""},"","",{"$f":"IF('MIS - Pharmacy'!A640=\"\",\"\",SUM('MIS - Pharmacy'!K640+'MIS - Pharmacy'!L640))","v":""},"",{"$f":"IF('MIS - Pharmacy'!A640=\"\",\"\",('MIS - Pharmacy'!AF640+'MIS - Pharmacy'!AH640 +'MIS - Pharmacy'!AG640))","v":""},{"$f":"IF(ISBLANK('MIS - Pharmacy'!AI640),\"\",'MIS - Pharmacy'!AI640)","v":""},"","","",{"$f":"IF(ISBLANK('MIS - Pharmacy'!V640),\"\",'MIS - Pharmacy'!V640)","v":""},"","","",{"$f":"IF(ISBLANK('MIS - Pharmacy'!J640),\"\",'MIS - Pharmacy'!J640)","v":""},{"$f":"IF(ISBLANK('MIS - Pharmacy'!AY640),\"\",'MIS - Pharmacy'!AY640)","v":""},{"$f":"IF(ISBLANK('MIS - Pharmacy'!BH640),\"\",'MIS - Pharmacy'!BH640)","v":""},"",""]
[{"$f":"IF(ISBLANK('MIS - Pharmacy'!A641), \"\",'MIS - Pharmacy'!A641)","v":""},{"$f":"IF(ISBLANK('MIS - Pharmacy'!B641),\"\",('MIS - Pharmacy'!B641&\"(\"&'MIS - Pharmacy'!D641&\")\"))","v":""},{"$f":"IF(ISBLANK('MIS - Pharmacy'!BI641), \"\", 'MIS - Pharmacy'!BI641)","v":""},{"$f":"IF(ISBLANK('MIS - Pharmacy'!U641), \"\", 'MIS - Pharmacy'!U641)","v":""},"","","","","","","",{"$f":"IF(ISBLANK('MIS - Pharmacy'!AC641),\"\",'MIS - Pharmacy'!AC641)","v":""},"",{"$f":"IF(ISBLANK('MIS - Pharmacy'!AD641),\"\",'MIS - Pharmacy'!AD641)","v":""},"","",{"$f":"IF('MIS - Pharmacy'!A641=\"\",\"\",SUM('MIS - Pharmacy'!K641+'MIS - Pharmacy'!L641))","v":""},"",{"$f":"IF('MIS - Pharmacy'!A641=\"\",\"\",('MIS - Pharmacy'!AF641+'MIS - Pharmacy'!AH641 +'MIS - Pharmacy'!AG641))","v":""},{"$f":"IF(ISBLANK('MIS - Pharmacy'!AI641),\"\",'MIS - Pharmacy'!AI641)","v":""},"","","",{"$f":"IF(ISBLANK('MIS - Pharmacy'!V641),\"\",'MIS - Pharmacy'!V641)","v":""},"","","",{"$f":"IF(ISBLANK('MIS - Pharmacy'!J641),\"\",'MIS - Pharmacy'!J641)","v":""},{"$f":"IF(ISBLANK('MIS - Pharmacy'!AY641),\"\",'MIS - Pharmacy'!AY641)","v":""},{"$f":"IF(ISBLANK('MIS - Pharmacy'!BH641),\"\",'MIS - Pharmacy'!BH641)","v":""},"",""]
[{"$f":"IF(ISBLANK('MIS - Pharmacy'!A642), \"\",'MIS - Pharmacy'!A642)","v":""},{"$f":"IF(ISBLANK('MIS - Pharmacy'!B642),\"\",('MIS - Pharmacy'!B642&\"(\"&'MIS - Pharmacy'!D642&\")\"))","v":""},{"$f":"IF(ISBLANK('MIS - Pharmacy'!BI642), \"\", 'MIS - Pharmacy'!BI642)","v":""},{"$f":"IF(ISBLANK('MIS - Pharmacy'!U642), \"\", 'MIS - Pharmacy'!U642)","v":""},"","","","","","","",{"$f":"IF(ISBLANK('MIS - Pharmacy'!AC642),\"\",'MIS - Pharmacy'!AC642)","v":""},"",{"$f":"IF(ISBLANK('MIS - Pharmacy'!AD642),\"\",'MIS - Pharmacy'!AD642)","v":""},"","",{"$f":"IF('MIS - Pharmacy'!A642=\"\",\"\",SUM('MIS - Pharmacy'!K642+'MIS - Pharmacy'!L642))","v":""},"",{"$f":"IF('MIS - Pharmacy'!A642=\"\",\"\",('MIS - Pharmacy'!AF642+'MIS - Pharmacy'!AH642 +'MIS - Pharmacy'!AG642))","v":""},{"$f":"IF(ISBLANK('MIS - Pharmacy'!AI642),\"\",'MIS - Pharmacy'!AI642)","v":""},"","","",{"$f":"IF(ISBLANK('MIS - Pharmacy'!V642),\"\",'MIS - Pharmacy'!V642)","v":""},"","","",{"$f":"IF(ISBLANK('MIS - Pharmacy'!J642),\"\",'MIS - Pharmacy'!J642)","v":""},{"$f":"IF(ISBLANK('MIS - Pharmacy'!AY642),\"\",'MIS - Pharmacy'!AY642)","v":""},{"$f":"IF(ISBLANK('MIS - Pharmacy'!BH642),\"\",'MIS - Pharmacy'!BH642)","v":""},"",""]
[{"$f":"IF(ISBLANK('MIS - Pharmacy'!A643), \"\",'MIS - Pharmacy'!A643)","v":""},{"$f":"IF(ISBLANK('MIS - Pharmacy'!B643),\"\",('MIS - Pharmacy'!B643&\"(\"&'MIS - Pharmacy'!D643&\")\"))","v":""},{"$f":"IF(ISBLANK('MIS - Pharmacy'!BI643), \"\", 'MIS - Pharmacy'!BI643)","v":""},{"$f":"IF(ISBLANK('MIS - Pharmacy'!U643), \"\", 'MIS - Pharmacy'!U643)","v":""},"","","","","","","",{"$f":"IF(ISBLANK('MIS - Pharmacy'!AC643),\"\",'MIS - Pharmacy'!AC643)","v":""},"",{"$f":"IF(ISBLANK('MIS - Pharmacy'!AD643),\"\",'MIS - Pharmacy'!AD643)","v":""},"","",{"$f":"IF('MIS - Pharmacy'!A643=\"\",\"\",SUM('MIS - Pharmacy'!K643+'MIS - Pharmacy'!L643))","v":""},"",{"$f":"IF('MIS - Pharmacy'!A643=\"\",\"\",('MIS - Pharmacy'!AF643+'MIS - Pharmacy'!AH643 +'MIS - Pharmacy'!AG643))","v":""},{"$f":"IF(ISBLANK('MIS - Pharmacy'!AI643),\"\",'MIS - Pharmacy'!AI643)","v":""},"","","",{"$f":"IF(ISBLANK('MIS - Pharmacy'!V643),\"\",'MIS - Pharmacy'!V643)","v":""},"","","",{"$f":"IF(ISBLANK('MIS - Pharmacy'!J643),\"\",'MIS - Pharmacy'!J643)","v":""},{"$f":"IF(ISBLANK('MIS - Pharmacy'!AY643),\"\",'MIS - Pharmacy'!AY643)","v":""},{"$f":"IF(ISBLANK('MIS - Pharmacy'!BH643),\"\",'MIS - Pharmacy'!BH643)","v":""},"",""]
[{"$f":"IF(ISBLANK('MIS - Pharmacy'!A644), \"\",'MIS - Pharmacy'!A644)","v":""},{"$f":"IF(ISBLANK('MIS - Pharmacy'!B644),\"\",('MIS - Pharmacy'!B644&\"(\"&'MIS - Pharmacy'!D644&\")\"))","v":""},{"$f":"IF(ISBLANK('MIS - Pharmacy'!BI644), \"\", 'MIS - Pharmacy'!BI644)","v":""},{"$f":"IF(ISBLANK('MIS - Pharmacy'!U644), \"\", 'MIS - Pharmacy'!U644)","v":""},"","","","","","","",{"$f":"IF(ISBLANK('MIS - Pharmacy'!AC644),\"\",'MIS - Pharmacy'!AC644)","v":""},"",{"$f":"IF(ISBLANK('MIS - Pharmacy'!AD644),\"\",'MIS - Pharmacy'!AD644)","v":""},"","",{"$f":"IF('MIS - Pharmacy'!A644=\"\",\"\",SUM('MIS - Pharmacy'!K644+'MIS - Pharmacy'!L644))","v":""},"",{"$f":"IF('MIS - Pharmacy'!A644=\"\",\"\",('MIS - Pharmacy'!AF644+'MIS - Pharmacy'!AH644 +'MIS - Pharmacy'!AG644))","v":""},{"$f":"IF(ISBLANK('MIS - Pharmacy'!AI644),\"\",'MIS - Pharmacy'!AI644)","v":""},"","","",{"$f":"IF(ISBLANK('MIS - Pharmacy'!V644),\"\",'MIS - Pharmacy'!V644)","v":""},"","","",{"$f":"IF(ISBLANK('MIS - Pharmacy'!J644),\"\",'MIS - Pharmacy'!J644)","v":""},{"$f":"IF(ISBLANK('MIS - Pharmacy'!AY644),\"\",'MIS - Pharmacy'!AY644)","v":""},{"$f":"IF(ISBLANK('MIS - Pharmacy'!BH644),\"\",'MIS - Pharmacy'!BH644)","v":""},"",""]
[{"$f":"IF(ISBLANK('MIS - Pharmacy'!A645), \"\",'MIS - Pharmacy'!A645)","v":""},{"$f":"IF(ISBLANK('MIS - Pharmacy'!B645),\"\",('MIS - Pharmacy'!B645&\"(\"&'MIS - Pharmacy'!D645&\")\"))","v":""},{"$f":"IF(ISBLANK('MIS - Pharmacy'!BI645), \"\", 'MIS - Pharmacy'!BI645)","v":""},{"$f":"IF(ISBLANK('MIS - Pharmacy'!U645), \"\", 'MIS - Pharmacy'!U645)","v":""},"","","",{"$f":"IF(D654=\"\",\"\",IF(X654=0,0,D654/Y654))","v":""},"","","",{"$f":"IF(ISBLANK('MIS - Pharmacy'!AC645),\"\",'MIS - Pharmacy'!AC645)","v":""},"",{"$f":"IF(ISBLANK('MIS - Pharmacy'!AD645),\"\",'MIS - Pharmacy'!AD645)","v":""},"","",{"$f":"IF('MIS - Pharmacy'!A645=\"\",\"\",SUM('MIS - Pharmacy'!K645+'MIS - Pharmacy'!L645))","v":""},"",{"$f":"IF('MIS - Pharmacy'!A645=\"\",\"\",('MIS - Pharmacy'!AF645+'MIS - Pharmacy'!AH645 +'MIS - Pharmacy'!AG645))","v":""},{"$f":"IF(ISBLANK('MIS - Pharmacy'!AI645),\"\",'MIS - Pharmacy'!AI645)","v":""},"","","",{"$f":"IF(ISBLANK('MIS - Pharmacy'!V645),\"\",'MIS - Pharmacy'!V645)","v":""},"","","",{"$f":"IF(ISBLANK('MIS - Pharmacy'!J645),\"\",'MIS - Pharmacy'!J645)","v":""},{"$f":"IF(ISBLANK('MIS - Pharmacy'!AY645),\"\",'MIS - Pharmacy'!AY645)","v":""},{"$f":"IF(ISBLANK('MIS - Pharmacy'!BH645),\"\",'MIS - Pharmacy'!BH645)","v":""},"",""]
[{"$f":"IF(ISBLANK('MIS - Pharmacy'!A646), \"\",'MIS - Pharmacy'!A646)","v":""},{"$f":"IF(ISBLANK('MIS - Pharmacy'!B646),\"\",('MIS - Pharmacy'!B646&\"(\"&'MIS - Pharmacy'!D646&\")\"))","v":""},{"$f":"IF(ISBLANK('MIS - Pharmacy'!BI646), \"\", 'MIS - Pharmacy'!BI646)","v":""},{"$f":"IF(ISBLANK('MIS - Pharmacy'!U646), \"\", 'MIS - Pharmacy'!U646)","v":""},"","","","","","","",{"$f":"IF(ISBLANK('MIS - Pharmacy'!AC646),\"\",'MIS - Pharmacy'!AC646)","v":""},"",{"$f":"IF(ISBLANK('MIS - Pharmacy'!AD646),\"\",'MIS - Pharmacy'!AD646)","v":""},"","",{"$f":"IF('MIS - Pharmacy'!A646=\"\",\"\",SUM('MIS - Pharmacy'!K646+'MIS - Pharmacy'!L646))","v":""},"",{"$f":"IF('MIS - Pharmacy'!A646=\"\",\"\",('MIS - Pharmacy'!AF646+'MIS - Pharmacy'!AH646 +'MIS - Pharmacy'!AG646))","v":""},{"$f":"IF(ISBLANK('MIS - Pharmacy'!AI646),\"\",'MIS - Pharmacy'!AI646)","v":""},"","","",{"$f":"IF(ISBLANK('MIS - Pharmacy'!V646),\"\",'MIS - Pharmacy'!V646)","v":""},"","","",{"$f":"IF(ISBLANK('MIS - Pharmacy'!J646),\"\",'MIS - Pharmacy'!J646)","v":""},{"$f":"IF(ISBLANK('MIS - Pharmacy'!AY646),\"\",'MIS - Pharmacy'!AY646)","v":""},{"$f":"IF(ISBLANK('MIS - Pharmacy'!BH646),\"\",'MIS - Pharmacy'!BH646)","v":""},"",""]
[{"$f":"IF(ISBLANK('MIS - Pharmacy'!A647), \"\",'MIS - Pharmacy'!A647)","v":""},{"$f":"IF(ISBLANK('MIS - Pharmacy'!B647),\"\",('MIS - Pharmacy'!B647&\"(\"&'MIS - Pharmacy'!D647&\")\"))","v":""},{"$f":"IF(ISBLANK('MIS - Pharmacy'!BI647), \"\", 'MIS - Pharmacy'!BI647)","v":""},{"$f":"IF(ISBLANK('MIS - Pharmacy'!U647), \"\", 'MIS - Pharmacy'!U647)","v":""},"","","","","","","",{"$f":"IF(ISBLANK('MIS - Pharmacy'!AC647),\"\",'MIS - Pharmacy'!AC647)","v":""},"",{"$f":"IF(ISBLANK('MIS - Pharmacy'!AD647),\"\",'MIS - Pharmacy'!AD647)","v":""},"","",{"$f":"IF('MIS - Pharmacy'!A647=\"\",\"\",SUM('MIS - Pharmacy'!K647+'MIS - Pharmacy'!L647))","v":""},"",{"$f":"IF('MIS - Pharmacy'!A647=\"\",\"\",('MIS - Pharmacy'!AF647+'MIS - Pharmacy'!AH647 +'MIS - Pharmacy'!AG647))","v":""},{"$f":"IF(ISBLANK('MIS - Pharmacy'!AI647),\"\",'MIS - Pharmacy'!AI647)","v":""},"","","",{"$f":"IF(ISBLANK('MIS - Pharmacy'!V647),\"\",'MIS - Pharmacy'!V647)","v":""},"","","",{"$f":"IF(ISBLANK('MIS - Pharmacy'!J647),\"\",'MIS - Pharmacy'!J647)","v":""},{"$f":"IF(ISBLANK('MIS - Pharmacy'!AY647),\"\",'MIS - Pharmacy'!AY647)","v":""},{"$f":"IF(ISBLANK('MIS - Pharmacy'!BH647),\"\",'MIS - Pharmacy'!BH647)","v":""},"",""]
[{"$f":"IF(ISBLANK('MIS - Pharmacy'!A648), \"\",'MIS - Pharmacy'!A648)","v":""},{"$f":"IF(ISBLANK('MIS - Pharmacy'!B648),\"\",('MIS - Pharmacy'!B648&\"(\"&'MIS - Pharmacy'!D648&\")\"))","v":""},{"$f":"IF(ISBLANK('MIS - Pharmacy'!BI648), \"\", 'MIS - Pharmacy'!BI648)","v":""},{"$f":"IF(ISBLANK('MIS - Pharmacy'!U648), \"\", 'MIS - Pharmacy'!U648)","v":""},"","","","","","","",{"$f":"IF(ISBLANK('MIS - Pharmacy'!AC648),\"\",'MIS - Pharmacy'!AC648)","v":""},"",{"$f":"IF(ISBLANK('MIS - Pharmacy'!AD648),\"\",'MIS - Pharmacy'!AD648)","v":""},"","",{"$f":"IF('MIS - Pharmacy'!A648=\"\",\"\",SUM('MIS - Pharmacy'!K648+'MIS - Pharmacy'!L648))","v":""},"",{"$f":"IF('MIS - Pharmacy'!A648=\"\",\"\",('MIS - Pharmacy'!AF648+'MIS - Pharmacy'!AH648 +'MIS - Pharmacy'!AG648))","v":""},{"$f":"IF(ISBLANK('MIS - Pharmacy'!AI648),\"\",'MIS - Pharmacy'!AI648)","v":""},"","","",{"$f":"IF(ISBLANK('MIS - Pharmacy'!V648),\"\",'MIS - Pharmacy'!V648)","v":""},"","","",{"$f":"IF(ISBLANK('MIS - Pharmacy'!J648),\"\",'MIS - Pharmacy'!J648)","v":""},{"$f":"IF(ISBLANK('MIS - Pharmacy'!AY648),\"\",'MIS - Pharmacy'!AY648)","v":""},{"$f":"IF(ISBLANK('MIS - Pharmacy'!BH648),\"\",'MIS - Pharmacy'!BH648)","v":""},"",""]
[{"$f":"IF(ISBLANK('MIS - Pharmacy'!A649), \"\",'MIS - Pharmacy'!A649)","v":""},{"$f":"IF(ISBLANK('MIS - Pharmacy'!B649),\"\",('MIS - Pharmacy'!B649&\"(\"&'MIS - Pharmacy'!D649&\")\"))","v":""},{"$f":"IF(ISBLANK('MIS - Pharmacy'!BI649), \"\", 'MIS - Pharmacy'!BI649)","v":""},{"$f":"IF(ISBLANK('MIS - Pharmacy'!U649), \"\", 'MIS - Pharmacy'!U649)","v":""},"","","","","","","",{"$f":"IF(ISBLANK('MIS - Pharmacy'!AC649),\"\",'MIS - Pharmacy'!AC649)","v":""},"",{"$f":"IF(ISBLANK('MIS - Pharmacy'!AD649),\"\",'MIS - Pharmacy'!AD649)","v":""},"","",{"$f":"IF('MIS - Pharmacy'!A649=\"\",\"\",SUM('MIS - Pharmacy'!K649+'MIS - Pharmacy'!L649))","v":""},"",{"$f":"IF('MIS - Pharmacy'!A649=\"\",\"\",('MIS - Pharmacy'!AF649+'MIS - Pharmacy'!AH649 +'MIS - Pharmacy'!AG649))","v":""},{"$f":"IF(ISBLANK('MIS - Pharmacy'!AI649),\"\",'MIS - Pharmacy'!AI649)","v":""},"","","",{"$f":"IF(ISBLANK('MIS - Pharmacy'!V649),\"\",'MIS - Pharmacy'!V649)","v":""},"","","",{"$f":"IF(ISBLANK('MIS - Pharmacy'!J649),\"\",'MIS - Pharmacy'!J649)","v":""},{"$f":"IF(ISBLANK('MIS - Pharmacy'!AY649),\"\",'MIS - Pharmacy'!AY649)","v":""},{"$f":"IF(ISBLANK('MIS - Pharmacy'!BH649),\"\",'MIS - Pharmacy'!BH649)","v":""},"",""]
[{"$f":"IF(ISBLANK('MIS - Pharmacy'!A650), \"\",'MIS - Pharmacy'!A650)","v":""},{"$f":"IF(ISBLANK('MIS - Pharmacy'!B650),\"\",('MIS - Pharmacy'!B650&\"(\"&'MIS - Pharmacy'!D650&\")\"))","v":""},{"$f":"IF(ISBLANK('MIS - Pharmacy'!BI650), \"\", 'MIS - Pharmacy'!BI650)","v":""},{"$f":"IF(ISBLANK('MIS - Pharmacy'!U650), \"\", 'MIS - Pharmacy'!U650)","v":""},"","","","","","","",{"$f":"IF(ISBLANK('MIS - Pharmacy'!AC650),\"\",'MIS - Pharmacy'!AC650)","v":""},"",{"$f":"IF(ISBLANK('MIS - Pharmacy'!AD650),\"\",'MIS - Pharmacy'!AD650)","v":""},"","",{"$f":"IF('MIS - Pharmacy'!A650=\"\",\"\",SUM('MIS - Pharmacy'!K650+'MIS - Pharmacy'!L650))","v":""},"",{"$f":"IF('MIS - Pharmacy'!A650=\"\",\"\",('MIS - Pharmacy'!AF650+'MIS - Pharmacy'!AH650 +'MIS - Pharmacy'!AG650))","v":""},{"$f":"IF(ISBLANK('MIS - Pharmacy'!AI650),\"\",'MIS - Pharmacy'!AI650)","v":""},"","","",{"$f":"IF(ISBLANK('MIS - Pharmacy'!V650),\"\",'MIS - Pharmacy'!V650)","v":""},"","","",{"$f":"IF(ISBLANK('MIS - Pharmacy'!J650),\"\",'MIS - Pharmacy'!J650)","v":""},{"$f":"IF(ISBLANK('MIS - Pharmacy'!AY650),\"\",'MIS - Pharmacy'!AY650)","v":""},{"$f":"IF(ISBLANK('MIS - Pharmacy'!BH650),\"\",'MIS - Pharmacy'!BH650)","v":""},"",""]
[{"$f":"IF(ISBLANK('MIS - Pharmacy'!A651), \"\",'MIS - Pharmacy'!A651)","v":""},{"$f":"IF(ISBLANK('MIS - Pharmacy'!B651),\"\",('MIS - Pharmacy'!B651&\"(\"&'MIS - Pharmacy'!D651&\")\"))","v":""},{"$f":"IF(ISBLANK('MIS - Pharmacy'!BI651), \"\", 'MIS - Pharmacy'!BI651)","v":""},{"$f":"IF(ISBLANK('MIS - Pharmacy'!U651), \"\", 'MIS - Pharmacy'!U651)","v":""},"","","","","","","",{"$f":"IF(ISBLANK('MIS - Pharmacy'!AC651),\"\",'MIS - Pharmacy'!AC651)","v":""},"",{"$f":"IF(ISBLANK('MIS - Pharmacy'!AD651),\"\",'MIS - Pharmacy'!AD651)","v":""},"","",{"$f":"IF('MIS - Pharmacy'!A651=\"\",\"\",SUM('MIS - Pharmacy'!K651+'MIS - Pharmacy'!L651))","v":""},"",{"$f":"IF('MIS - Pharmacy'!A651=\"\",\"\",('MIS - Pharmacy'!AF651+'MIS - Pharmacy'!AH651 +'MIS - Pharmacy'!AG651))","v":""},{"$f":"IF(ISBLANK('MIS - Pharmacy'!AI651),\"\",'MIS - Pharmacy'!AI651)","v":""},"","","",{"$f":"IF(ISBLANK('MIS - Pharmacy'!V651),\"\",'MIS - Pharmacy'!V651)","v":""},"","","",{"$f":"IF(ISBLANK('MIS - Pharmacy'!J651),\"\",'MIS - Pharmacy'!J651)","v":""},{"$f":"IF(ISBLANK('MIS - Pharmacy'!AY651),\"\",'MIS - Pharmacy'!AY651)","v":""},{"$f":"IF(ISBLANK('MIS - Pharmacy'!BH651),\"\",'MIS - Pharmacy'!BH651)","v":""},"",""]
[{"$f":"IF(ISBLANK('MIS - Pharmacy'!A652), \"\",'MIS - Pharmacy'!A652)","v":""},{"$f":"IF(ISBLANK('MIS - Pharmacy'!B652),\"\",('MIS - Pharmacy'!B652&\"(\"&'MIS - Pharmacy'!D652&\")\"))","v":""},{"$f":"IF(ISBLANK('MIS - Pharmacy'!BI652), \"\", 'MIS - Pharmacy'!BI652)","v":""},{"$f":"IF(ISBLANK('MIS - Pharmacy'!U652), \"\", 'MIS - Pharmacy'!U652)","v":""},"","","","","","","",{"$f":"IF(ISBLANK('MIS - Pharmacy'!AC652),\"\",'MIS - Pharmacy'!AC652)","v":""},"",{"$f":"IF(ISBLANK('MIS - Pharmacy'!AD652),\"\",'MIS - Pharmacy'!AD652)","v":""},"","",{"$f":"IF('MIS - Pharmacy'!A652=\"\",\"\",SUM('MIS - Pharmacy'!K652+'MIS - Pharmacy'!L652))","v":""},"",{"$f":"IF('MIS - Pharmacy'!A652=\"\",\"\",('MIS - Pharmacy'!AF652+'MIS - Pharmacy'!AH652 +'MIS - Pharmacy'!AG652))","v":""},{"$f":"IF(ISBLANK('MIS - Pharmacy'!AI652),\"\",'MIS - Pharmacy'!AI652)","v":""},"","","",{"$f":"IF(ISBLANK('MIS - Pharmacy'!V652),\"\",'MIS - Pharmacy'!V652)","v":""},"","","",{"$f":"IF(ISBLANK('MIS - Pharmacy'!J652),\"\",'MIS - Pharmacy'!J652)","v":""},{"$f":"IF(ISBLANK('MIS - Pharmacy'!AY652),\"\",'MIS - Pharmacy'!AY652)","v":""},{"$f":"IF(ISBLANK('MIS - Pharmacy'!BH652),\"\",'MIS - Pharmacy'!BH652)","v":""},"",""]
[{"$f":"IF(ISBLANK('MIS - Pharmacy'!A653), \"\",'MIS - Pharmacy'!A653)","v":""},{"$f":"IF(ISBLANK('MIS - Pharmacy'!B653),\"\",('MIS - Pharmacy'!B653&\"(\"&'MIS - Pharmacy'!D653&\")\"))","v":""},{"$f":"IF(ISBLANK('MIS - Pharmacy'!BI653), \"\", 'MIS - Pharmacy'!BI653)","v":""},{"$f":"IF(ISBLANK('MIS - Pharmacy'!U653), \"\", 'MIS - Pharmacy'!U653)","v":""},"","","","","","","",{"$f":"IF(ISBLANK('MIS - Pharmacy'!AC653),\"\",'MIS - Pharmacy'!AC653)","v":""},"",{"$f":"IF(ISBLANK('MIS - Pharmacy'!AD653),\"\",'MIS - Pharmacy'!AD653)","v":""},"","",{"$f":"IF('MIS - Pharmacy'!A653=\"\",\"\",SUM('MIS - Pharmacy'!K653+'MIS - Pharmacy'!L653))","v":""},"",{"$f":"IF('MIS - Pharmacy'!A653=\"\",\"\",('MIS - Pharmacy'!AF653+'MIS - Pharmacy'!AH653 +'MIS - Pharmacy'!AG653))","v":""},{"$f":"IF(ISBLANK('MIS - Pharmacy'!AI653),\"\",'MIS - Pharmacy'!AI653)","v":""},"","","",{"$f":"IF(ISBLANK('MIS - Pharmacy'!V653),\"\",'MIS - Pharmacy'!V653)","v":""},"","","",{"$f":"IF(ISBLANK('MIS - Pharmacy'!J653),\"\",'MIS - Pharmacy'!J653)","v":""},{"$f":"IF(ISBLANK('MIS - Pharmacy'!AY653),\"\",'MIS - Pharmacy'!AY653)","v":""},{"$f":"IF(ISBLANK('MIS - Pharmacy'!BH653),\"\",'MIS - Pharmacy'!BH653)","v":""},"",""]
[{"$f":"IF(ISBLANK('MIS - Pharmacy'!A654), \"\",'MIS - Pharmacy'!A654)","v":""},{"$f":"IF(ISBLANK('MIS - Pharmacy'!B654),\"\",('MIS - Pharmacy'!B654&\"(\"&'MIS - Pharmacy'!D654&\")\"))","v":""},{"$f":"IF(ISBLANK('MIS - Pharmacy'!BI654), \"\", 'MIS - Pharmacy'!BI654)","v":""},{"$f":"IF(ISBLANK('MIS - Pharmacy'!U654), \"\", 'MIS - Pharmacy'!U654)","v":""},"","","","","","","",{"$f":"IF(ISBLANK('MIS - Pharmacy'!AC654),\"\",'MIS - Pharmacy'!AC654)","v":""},"",{"$f":"IF(ISBLANK('MIS - Pharmacy'!AD654),\"\",'MIS - Pharmacy'!AD654)","v":""},"","",{"$f":"IF('MIS - Pharmacy'!A654=\"\",\"\",SUM('MIS - Pharmacy'!K654+'MIS - Pharmacy'!L654))","v":""},"",{"$f":"IF('MIS - Pharmacy'!A654=\"\",\"\",('MIS - Pharmacy'!AF654+'MIS - Pharmacy'!AH654 +'MIS - Pharmacy'!AG654))","v":""},{"$f":"IF(ISBLANK('MIS - Pharmacy'!AI654),\"\",'MIS - Pharmacy'!AI654)","v":""},"","","",{"$f":"IF(ISBLANK('MIS - Pharmacy'!V654),\"\",'MIS - Pharmacy'!V654)","v":""},"","","",{"$f":"IF(ISBLANK('MIS - Pharmacy'!J654),\"\",'MIS - Pharmacy'!J654)","v":""},{"$f":"IF(ISBLANK('MIS - Pharmacy'!AY654),\"\",'MIS - Pharmacy'!AY654)","v":""},{"$f":"IF(ISBLANK('MIS - Pharmacy'!BH654),\"\",'MIS - Pharmacy'!BH654)","v":""},"",""]
[{"$f":"IF(ISBLANK('MIS - Pharmacy'!A655), \"\",'MIS - Pharmacy'!A655)","v":""},{"$f":"IF(ISBLANK('MIS - Pharmacy'!B655),\"\",('MIS - Pharmacy'!B655&\"(\"&'MIS - Pharmacy'!D655&\")\"))","v":""},{"$f":"IF(ISBLANK('MIS - Pharmacy'!BI655), \"\", 'MIS - Pharmacy'!BI655)","v":""},{"$f":"IF(ISBLANK('MIS - Pharmacy'!U655), \"\", 'MIS - Pharmacy'!U655)","v":""},{"$f":"IF(D664=\"\",\"\",IF(D664<=D$9,\"Lower Outlier\",IF(D664<=D$5,\"Below Average\",IF(D664<=D$6,\"Lower Quartile Range\",IF(D664<=D$7,\"Upper Quartile Range\",IF(D664<=D$10,\"Above Average\",\"Upper Outlier\"))))))","v":""},{"$f":"IF(D664=\"\",\"\",D664*12)","v":""},{"$f":"IF(Q664=\"\",\"\",IF(Q664 = 0, 0, D664/Q664*1000))","v":""},"",{"$f":"IF(A664=\"\",\"\",IF(D664=0,0,(D664*0.3)/Y664))","v":""},{"$f":"IF(D664=0,0,IF(D664=\"\",\"\",D664/Q664))","v":""},{"$f":"IF(D664=0,0,IF(D664=\"\",\"\",D664/X664))","v":""},{"$f":"IF(ISBLANK('MIS - Pharmacy'!AC655),\"\",'MIS - Pharmacy'!AC655)","v":""},{"$f":"IF(L664=\"\",\"\",IF(L664<=L$9,\"Lower Outlier\",IF(L664<=L$5,\"Below Average\",IF(L664<=L$6,\"Lower Quartile Range\",IF(L664<=L$7,\"Upper Quartile Range\",IF(L664<=L$10,\"Above Average\",\"Upper Outlier\"))))))","v":""},{"$f":"IF(ISBLANK('MIS - Pharmacy'!AD655),\"\",'MIS - Pharmacy'!AD655)","v":""},{"$f":"IF(N664=\"\",\"\",IF(N664=0,0,L664/N664*1000))","v":""},{"$f":"IF(L664=\"\",\"\",IF(X664=0,0,L664/X664))","v":""},{"$f":"IF('MIS - Pharmacy'!A655=\"\",\"\",SUM('MIS - Pharmacy'!K655+'MIS - Pharmacy'!L655))","v":""},{"$f":"IF(Q664=\"\",\"\",IF(Q664<=Q$9,\"Lower Outlier\",IF(Q664<=Q$5,\"Below Average\",IF(Q664<=Q$6,\"Lower Quartile Range\",IF(Q664<=Q$7,\"Upper Quartile Range\",IF(Q664<=Q$10,\"Above Average\",\"Upper Outlier\"))))))","v":""},{"$f":"IF('MIS - Pharmacy'!A655=\"\",\"\",('MIS - Pharmacy'!AF655+'MIS - Pharmacy'!AH655 +'MIS - Pharmacy'!AG655))","v":""},{"$f":"IF(ISBLANK('MIS - Pharmacy'!AI655),\"\",'MIS - Pharmacy'!AI655)","v":""},{"$f":"IF(T664=\"\",\"\",IF(T664<=T$9,\"Lower Outlier\",IF(T664<=T$5,\"Below Average\",IF(T664<=T$6,\"Lower Quartile Range\",IF(T664<=T$7,\"Upper Quartile Range\",IF(T664<=T$10,\"Above Average\",\"Upper Outlier\"))))))","v":""},{"$f":"IF(A664=\"\",\"\",IF(T664=0,0,T664/Q664*1000))","v":""},{"$f":"IF(V664=\"\",\"\",IF(S664 >0,(T664/S664*1000),0))","v":""},{"$f":"IF(ISBLANK('MIS - Pharmacy'!V655),\"\",'MIS - Pharmacy'!V655)","v":""},{"$f":"IF(X664=\"\",\"\",(X664/7)*$Y$3)","v":""},{"$f":"IF(X664=\"\",\"\",IF(X664<=X$9,\"Lower Outlier\",IF(X664<=X$5,\"Below Average\",IF(X664<=X$6,\"Lower Quartile Range\",IF(X664<=X$7,\"Upper Quartile Range\",IF(X664<=X$10,\"Above Average\",\"Upper Outlier\"))))))","v":""},{"$f":"IF(A664=\"\",\"\",IF(X664=0,0,Y664/Q664*1000))","v":""},{"$f":"IF(ISBLANK('MIS - Pharmacy'!J655),\"\",'MIS - Pharmacy'!J655)","v":""},{"$f":"IF(ISBLANK('MIS - Pharmacy'!AY655),\"\",'MIS - Pharmacy'!AY655)","v":""},{"$f":"IF(ISBLANK('MIS - Pharmacy'!BH655),\"\",'MIS - Pharmacy'!BH655)","v":""},{"$f":"IF(A664=\"\",\"\",D664+L664)","v":""},{"$f":"IF(A664=\"\",\"\",IF(Y664=0,0,(AE664/Y664)*100))","v":""}]
[{"$f":"IF(ISBLANK('MIS - Pharmacy'!A656), \"\",'MIS - Pharmacy'!A656)","v":""},{"$f":"IF(ISBLANK('MIS - Pharmacy'!B656),\"\",('MIS - Pharmacy'!B656&\"(\"&'MIS - Pharmacy'!D656&\")\"))","v":""},{"$f":"IF(ISBLANK('MIS - Pharmacy'!BI656), \"\", 'MIS - Pharmacy'!BI656)","v":""},{"$f":"IF(ISBLANK('MIS - Pharmacy'!U656), \"\", 'MIS - Pharmacy'!U656)","v":""},"","","","","","","",{"$f":"IF(ISBLANK('MIS - Pharmacy'!AC656),\"\",'MIS - Pharmacy'!AC656)","v":""},"",{"$f":"IF(ISBLANK('MIS - Pharmacy'!AD656),\"\",'MIS - Pharmacy'!AD656)","v":""},"","",{"$f":"IF('MIS - Pharmacy'!A656=\"\",\"\",SUM('MIS - Pharmacy'!K656+'MIS - Pharmacy'!L656))","v":""},"",{"$f":"IF('MIS - Pharmacy'!A656=\"\",\"\",('MIS - Pharmacy'!AF656+'MIS - Pharmacy'!AH656 +'MIS - Pharmacy'!AG656))","v":""},{"$f":"IF(ISBLANK('MIS - Pharmacy'!AI656),\"\",'MIS - Pharmacy'!AI656)","v":""},"","","",{"$f":"IF(ISBLANK('MIS - Pharmacy'!V656),\"\",'MIS - Pharmacy'!V656)","v":""},"","","",{"$f":"IF(ISBLANK('MIS - Pharmacy'!J656),\"\",'MIS - Pharmacy'!J656)","v":""},{"$f":"IF(ISBLANK('MIS - Pharmacy'!AY656),\"\",'MIS - Pharmacy'!AY656)","v":""},{"$f":"IF(ISBLANK('MIS - Pharmacy'!BH656),\"\",'MIS - Pharmacy'!BH656)","v":""},"",""]
[{"$f":"IF(ISBLANK('MIS - Pharmacy'!A657), \"\",'MIS - Pharmacy'!A657)","v":""},{"$f":"IF(ISBLANK('MIS - Pharmacy'!B657),\"\",('MIS - Pharmacy'!B657&\"(\"&'MIS - Pharmacy'!D657&\")\"))","v":""},{"$f":"IF(ISBLANK('MIS - Pharmacy'!BI657), \"\", 'MIS - Pharmacy'!BI657)","v":""},{"$f":"IF(ISBLANK('MIS - Pharmacy'!U657), \"\", 'MIS - Pharmacy'!U657)","v":""},"","","","","","","",{"$f":"IF(ISBLANK('MIS - Pharmacy'!AC657),\"\",'MIS - Pharmacy'!AC657)","v":""},"",{"$f":"IF(ISBLANK('MIS - Pharmacy'!AD657),\"\",'MIS - Pharmacy'!AD657)","v":""},"","",{"$f":"IF('MIS - Pharmacy'!A657=\"\",\"\",SUM('MIS - Pharmacy'!K657+'MIS - Pharmacy'!L657))","v":""},"",{"$f":"IF('MIS - Pharmacy'!A657=\"\",\"\",('MIS - Pharmacy'!AF657+'MIS - Pharmacy'!AH657 +'MIS - Pharmacy'!AG657))","v":""},{"$f":"IF(ISBLANK('MIS - Pharmacy'!AI657),\"\",'MIS - Pharmacy'!AI657)","v":""},"","","",{"$f":"IF(ISBLANK('MIS - Pharmacy'!V657),\"\",'MIS - Pharmacy'!V657)","v":""},"","","",{"$f":"IF(ISBLANK('MIS - Pharmacy'!J657),\"\",'MIS - Pharmacy'!J657)","v":""},{"$f":"IF(ISBLANK('MIS - Pharmacy'!AY657),\"\",'MIS - Pharmacy'!AY657)","v":""},{"$f":"IF(ISBLANK('MIS - Pharmacy'!BH657),\"\",'MIS - Pharmacy'!BH657)","v":""},"",""]
[{"$f":"IF(ISBLANK('MIS - Pharmacy'!A658), \"\",'MIS - Pharmacy'!A658)","v":""},{"$f":"IF(ISBLANK('MIS - Pharmacy'!B658),\"\",('MIS - Pharmacy'!B658&\"(\"&'MIS - Pharmacy'!D658&\")\"))","v":""},{"$f":"IF(ISBLANK('MIS - Pharmacy'!BI658), \"\", 'MIS - Pharmacy'!BI658)","v":""},{"$f":"IF(ISBLANK('MIS - Pharmacy'!U658), \"\", 'MIS - Pharmacy'!U658)","v":""},"","","","","","","",{"$f":"IF(ISBLANK('MIS - Pharmacy'!AC658),\"\",'MIS - Pharmacy'!AC658)","v":""},"",{"$f":"IF(ISBLANK('MIS - Pharmacy'!AD658),\"\",'MIS - Pharmacy'!AD658)","v":""},"","",{"$f":"IF('MIS - Pharmacy'!A658=\"\",\"\",SUM('MIS - Pharmacy'!K658+'MIS - Pharmacy'!L658))","v":""},"",{"$f":"IF('MIS - Pharmacy'!A658=\"\",\"\",('MIS - Pharmacy'!AF658+'MIS - Pharmacy'!AH658 +'MIS - Pharmacy'!AG658))","v":""},{"$f":"IF(ISBLANK('MIS - Pharmacy'!AI658),\"\",'MIS - Pharmacy'!AI658)","v":""},"","","",{"$f":"IF(ISBLANK('MIS - Pharmacy'!V658),\"\",'MIS - Pharmacy'!V658)","v":""},"","","",{"$f":"IF(ISBLANK('MIS - Pharmacy'!J658),\"\",'MIS - Pharmacy'!J658)","v":""},{"$f":"IF(ISBLANK('MIS - Pharmacy'!AY658),\"\",'MIS - Pharmacy'!AY658)","v":""},{"$f":"IF(ISBLANK('MIS - Pharmacy'!BH658),\"\",'MIS - Pharmacy'!BH658)","v":""},"",""]
[{"$f":"IF(ISBLANK('MIS - Pharmacy'!A659), \"\",'MIS - Pharmacy'!A659)","v":""},{"$f":"IF(ISBLANK('MIS - Pharmacy'!B659),\"\",('MIS - Pharmacy'!B659&\"(\"&'MIS - Pharmacy'!D659&\")\"))","v":""},{"$f":"IF(ISBLANK('MIS - Pharmacy'!BI659), \"\", 'MIS - Pharmacy'!BI659)","v":""},{"$f":"IF(ISBLANK('MIS - Pharmacy'!U659), \"\", 'MIS - Pharmacy'!U659)","v":""},"","","","","","","",{"$f":"IF(ISBLANK('MIS - Pharmacy'!AC659),\"\",'MIS - Pharmacy'!AC659)","v":""},"",{"$f":"IF(ISBLANK('MIS - Pharmacy'!AD659),\"\",'MIS - Pharmacy'!AD659)","v":""},"","",{"$f":"IF('MIS - Pharmacy'!A659=\"\",\"\",SUM('MIS - Pharmacy'!K659+'MIS - Pharmacy'!L659))","v":""},"",{"$f":"IF('MIS - Pharmacy'!A659=\"\",\"\",('MIS - Pharmacy'!AF659+'MIS - Pharmacy'!AH659 +'MIS - Pharmacy'!AG659))","v":""},{"$f":"IF(ISBLANK('MIS - Pharmacy'!AI659),\"\",'MIS - Pharmacy'!AI659)","v":""},"","","",{"$f":"IF(ISBLANK('MIS - Pharmacy'!V659),\"\",'MIS - Pharmacy'!V659)","v":""},"","","",{"$f":"IF(ISBLANK('MIS - Pharmacy'!J659),\"\",'MIS - Pharmacy'!J659)","v":""},{"$f":"IF(ISBLANK('MIS - Pharmacy'!AY659),\"\",'MIS - Pharmacy'!AY659)","v":""},{"$f":"IF(ISBLANK('MIS - Pharmacy'!BH659),\"\",'MIS - Pharmacy'!BH659)","v":""},"",""]
[{"$f":"IF(ISBLANK('MIS - Pharmacy'!A660), \"\",'MIS - Pharmacy'!A660)","v":""},{"$f":"IF(ISBLANK('MIS - Pharmacy'!B660),\"\",('MIS - Pharmacy'!B660&\"(\"&'MIS - Pharmacy'!D660&\")\"))","v":""},{"$f":"IF(ISBLANK('MIS - Pharmacy'!BI660), \"\", 'MIS - Pharmacy'!BI660)","v":""},{"$f":"IF(ISBLANK('MIS - Pharmacy'!U660), \"\", 'MIS - Pharmacy'!U660)","v":""},"","","","","","","",{"$f":"IF(ISBLANK('MIS - Pharmacy'!AC660),\"\",'MIS - Pharmacy'!AC660)","v":""},"",{"$f":"IF(ISBLANK('MIS - Pharmacy'!AD660),\"\",'MIS - Pharmacy'!AD660)","v":""},"","",{"$f":"IF('MIS - Pharmacy'!A660=\"\",\"\",SUM('MIS - Pharmacy'!K660+'MIS - Pharmacy'!L660))","v":""},"",{"$f":"IF('MIS - Pharmacy'!A660=\"\",\"\",('MIS - Pharmacy'!AF660+'MIS - Pharmacy'!AH660 +'MIS - Pharmacy'!AG660))","v":""},{"$f":"IF(ISBLANK('MIS - Pharmacy'!AI660),\"\",'MIS - Pharmacy'!AI660)","v":""},"","","",{"$f":"IF(ISBLANK('MIS - Pharmacy'!V660),\"\",'MIS - Pharmacy'!V660)","v":""},"","","",{"$f":"IF(ISBLANK('MIS - Pharmacy'!J660),\"\",'MIS - Pharmacy'!J660)","v":""},{"$f":"IF(ISBLANK('MIS - Pharmacy'!AY660),\"\",'MIS - Pharmacy'!AY660)","v":""},{"$f":"IF(ISBLANK('MIS - Pharmacy'!BH660),\"\",'MIS - Pharmacy'!BH660)","v":""},"",""]
[{"$f":"IF(ISBLANK('MIS - Pharmacy'!A661), \"\",'MIS - Pharmacy'!A661)","v":""},{"$f":"IF(ISBLANK('MIS - Pharmacy'!B661),\"\",('MIS - Pharmacy'!B661&\"(\"&'MIS - Pharmacy'!D661&\")\"))","v":""},{"$f":"IF(ISBLANK('MIS - Pharmacy'!BI661), \"\", 'MIS - Pharmacy'!BI661)","v":""},{"$f":"IF(ISBLANK('MIS - Pharmacy'!U661), \"\", 'MIS - Pharmacy'!U661)","v":""},"","","","","","","",{"$f":"IF(ISBLANK('MIS - Pharmacy'!AC661),\"\",'MIS - Pharmacy'!AC661)","v":""},"",{"$f":"IF(ISBLANK('MIS - Pharmacy'!AD661),\"\",'MIS - Pharmacy'!AD661)","v":""},"","",{"$f":"IF('MIS - Pharmacy'!A661=\"\",\"\",SUM('MIS - Pharmacy'!K661+'MIS - Pharmacy'!L661))","v":""},"",{"$f":"IF('MIS - Pharmacy'!A661=\"\",\"\",('MIS - Pharmacy'!AF661+'MIS - Pharmacy'!AH661 +'MIS - Pharmacy'!AG661))","v":""},{"$f":"IF(ISBLANK('MIS - Pharmacy'!AI661),\"\",'MIS - Pharmacy'!AI661)","v":""},"","","",{"$f":"IF(ISBLANK('MIS - Pharmacy'!V661),\"\",'MIS - Pharmacy'!V661)","v":""},"","","",{"$f":"IF(ISBLANK('MIS - Pharmacy'!J661),\"\",'MIS - Pharmacy'!J661)","v":""},{"$f":"IF(ISBLANK('MIS - Pharmacy'!AY661),\"\",'MIS - Pharmacy'!AY661)","v":""},{"$f":"IF(ISBLANK('MIS - Pharmacy'!BH661),\"\",'MIS - Pharmacy'!BH661)","v":""},"",""]
[{"$f":"IF(ISBLANK('MIS - Pharmacy'!A662), \"\",'MIS - Pharmacy'!A662)","v":""},{"$f":"IF(ISBLANK('MIS - Pharmacy'!B662),\"\",('MIS - Pharmacy'!B662&\"(\"&'MIS - Pharmacy'!D662&\")\"))","v":""},{"$f":"IF(ISBLANK('MIS - Pharmacy'!BI662), \"\", 'MIS - Pharmacy'!BI662)","v":""},{"$f":"IF(ISBLANK('MIS - Pharmacy'!U662), \"\", 'MIS - Pharmacy'!U662)","v":""},"","","","","","","",{"$f":"IF(ISBLANK('MIS - Pharmacy'!AC662),\"\",'MIS - Pharmacy'!AC662)","v":""},"",{"$f":"IF(ISBLANK('MIS - Pharmacy'!AD662),\"\",'MIS - Pharmacy'!AD662)","v":""},"","",{"$f":"IF('MIS - Pharmacy'!A662=\"\",\"\",SUM('MIS - Pharmacy'!K662+'MIS - Pharmacy'!L662))","v":""},"",{"$f":"IF('MIS - Pharmacy'!A662=\"\",\"\",('MIS - Pharmacy'!AF662+'MIS - Pharmacy'!AH662 +'MIS - Pharmacy'!AG662))","v":""},{"$f":"IF(ISBLANK('MIS - Pharmacy'!AI662),\"\",'MIS - Pharmacy'!AI662)","v":""},"","","",{"$f":"IF(ISBLANK('MIS - Pharmacy'!V662),\"\",'MIS - Pharmacy'!V662)","v":""},"","","",{"$f":"IF(ISBLANK('MIS - Pharmacy'!J662),\"\",'MIS - Pharmacy'!J662)","v":""},{"$f":"IF(ISBLANK('MIS - Pharmacy'!AY662),\"\",'MIS - Pharmacy'!AY662)","v":""},{"$f":"IF(ISBLANK('MIS - Pharmacy'!BH662),\"\",'MIS - Pharmacy'!BH662)","v":""},"",""]
[{"$f":"IF(ISBLANK('MIS - Pharmacy'!A663), \"\",'MIS - Pharmacy'!A663)","v":""},{"$f":"IF(ISBLANK('MIS - Pharmacy'!B663),\"\",('MIS - Pharmacy'!B663&\"(\"&'MIS - Pharmacy'!D663&\")\"))","v":""},{"$f":"IF(ISBLANK('MIS - Pharmacy'!BI663), \"\", 'MIS - Pharmacy'!BI663)","v":""},{"$f":"IF(ISBLANK('MIS - Pharmacy'!U663), \"\", 'MIS - Pharmacy'!U663)","v":""},"","","","","","","",{"$f":"IF(ISBLANK('MIS - Pharmacy'!AC663),\"\",'MIS - Pharmacy'!AC663)","v":""},"",{"$f":"IF(ISBLANK('MIS - Pharmacy'!AD663),\"\",'MIS - Pharmacy'!AD663)","v":""},"","",{"$f":"IF('MIS - Pharmacy'!A663=\"\",\"\",SUM('MIS - Pharmacy'!K663+'MIS - Pharmacy'!L663))","v":""},"",{"$f":"IF('MIS - Pharmacy'!A663=\"\",\"\",('MIS - Pharmacy'!AF663+'MIS - Pharmacy'!AH663 +'MIS - Pharmacy'!AG663))","v":""},{"$f":"IF(ISBLANK('MIS - Pharmacy'!AI663),\"\",'MIS - Pharmacy'!AI663)","v":""},"","","",{"$f":"IF(ISBLANK('MIS - Pharmacy'!V663),\"\",'MIS - Pharmacy'!V663)","v":""},"","","",{"$f":"IF(ISBLANK('MIS - Pharmacy'!J663),\"\",'MIS - Pharmacy'!J663)","v":""},{"$f":"IF(ISBLANK('MIS - Pharmacy'!AY663),\"\",'MIS - Pharmacy'!AY663)","v":""},{"$f":"IF(ISBLANK('MIS - Pharmacy'!BH663),\"\",'MIS - Pharmacy'!BH663)","v":""},"",""]
[{"$f":"IF(ISBLANK('MIS - Pharmacy'!A664), \"\",'MIS - Pharmacy'!A664)","v":""},{"$f":"IF(ISBLANK('MIS - Pharmacy'!B664),\"\",('MIS - Pharmacy'!B664&\"(\"&'MIS - Pharmacy'!D664&\")\"))","v":""},{"$f":"IF(ISBLANK('MIS - Pharmacy'!BI664), \"\", 'MIS - Pharmacy'!BI664)","v":""},{"$f":"IF(ISBLANK('MIS - Pharmacy'!U664), \"\", 'MIS - Pharmacy'!U664)","v":""},"","","","","","","",{"$f":"IF(ISBLANK('MIS - Pharmacy'!AC664),\"\",'MIS - Pharmacy'!AC664)","v":""},"",{"$f":"IF(ISBLANK('MIS - Pharmacy'!AD664),\"\",'MIS - Pharmacy'!AD664)","v":""},"","",{"$f":"IF('MIS - Pharmacy'!A664=\"\",\"\",SUM('MIS - Pharmacy'!K664+'MIS - Pharmacy'!L664))","v":""},"",{"$f":"IF('MIS - Pharmacy'!A664=\"\",\"\",('MIS - Pharmacy'!AF664+'MIS - Pharmacy'!AH664 +'MIS - Pharmacy'!AG664))","v":""},{"$f":"IF(ISBLANK('MIS - Pharmacy'!AI664),\"\",'MIS - Pharmacy'!AI664)","v":""},"","","",{"$f":"IF(ISBLANK('MIS - Pharmacy'!V664),\"\",'MIS - Pharmacy'!V664)","v":""},"","","",{"$f":"IF(ISBLANK('MIS - Pharmacy'!J664),\"\",'MIS - Pharmacy'!J664)","v":""},{"$f":"IF(ISBLANK('MIS - Pharmacy'!AY664),\"\",'MIS - Pharmacy'!AY664)","v":""},{"$f":"IF(ISBLANK('MIS - Pharmacy'!BH664),\"\",'MIS - Pharmacy'!BH664)","v":""},"",""]
[{"$f":"IF(ISBLANK('MIS - Pharmacy'!A665), \"\",'MIS - Pharmacy'!A665)","v":""},{"$f":"IF(ISBLANK('MIS - Pharmacy'!B665),\"\",('MIS - Pharmacy'!B665&\"(\"&'MIS - Pharmacy'!D665&\")\"))","v":""},{"$f":"IF(ISBLANK('MIS - Pharmacy'!BI665), \"\", 'MIS - Pharmacy'!BI665)","v":""},{"$f":"IF(ISBLANK('MIS - Pharmacy'!U665), \"\", 'MIS - Pharmacy'!U665)","v":""},"","","","","","","",{"$f":"IF(ISBLANK('MIS - Pharmacy'!AC665),\"\",'MIS - Pharmacy'!AC665)","v":""},"",{"$f":"IF(ISBLANK('MIS - Pharmacy'!AD665),\"\",'MIS - Pharmacy'!AD665)","v":""},"","",{"$f":"IF('MIS - Pharmacy'!A665=\"\",\"\",SUM('MIS - Pharmacy'!K665+'MIS - Pharmacy'!L665))","v":""},"",{"$f":"IF('MIS - Pharmacy'!A665=\"\",\"\",('MIS - Pharmacy'!AF665+'MIS - Pharmacy'!AH665 +'MIS - Pharmacy'!AG665))","v":""},{"$f":"IF(ISBLANK('MIS - Pharmacy'!AI665),\"\",'MIS - Pharmacy'!AI665)","v":""},"","","",{"$f":"IF(ISBLANK('MIS - Pharmacy'!V665),\"\",'MIS - Pharmacy'!V665)","v":""},"","","",{"$f":"IF(ISBLANK('MIS - Pharmacy'!J665),\"\",'MIS - Pharmacy'!J665)","v":""},{"$f":"IF(ISBLANK('MIS - Pharmacy'!AY665),\"\",'MIS - Pharmacy'!AY665)","v":""},{"$f":"IF(ISBLANK('MIS - Pharmacy'!BH665),\"\",'MIS - Pharmacy'!BH665)","v":""},"",""]
[{"$f":"IF(ISBLANK('MIS - Pharmacy'!A666), \"\",'MIS - Pharmacy'!A666)","v":""},{"$f":"IF(ISBLANK('MIS - Pharmacy'!B666),\"\",('MIS - Pharmacy'!B666&\"(\"&'MIS - Pharmacy'!D666&\")\"))","v":""},{"$f":"IF(ISBLANK('MIS - Pharmacy'!BI666), \"\", 'MIS - Pharmacy'!BI666)","v":""},{"$f":"IF(ISBLANK('MIS - Pharmacy'!U666), \"\", 'MIS - Pharmacy'!U666)","v":""},"","","","","","","",{"$f":"IF(ISBLANK('MIS - Pharmacy'!AC666),\"\",'MIS - Pharmacy'!AC666)","v":""},"",{"$f":"IF(ISBLANK('MIS - Pharmacy'!AD666),\"\",'MIS - Pharmacy'!AD666)","v":""},"","",{"$f":"IF('MIS - Pharmacy'!A666=\"\",\"\",SUM('MIS - Pharmacy'!K666+'MIS - Pharmacy'!L666))","v":""},"",{"$f":"IF('MIS - Pharmacy'!A666=\"\",\"\",('MIS - Pharmacy'!AF666+'MIS - Pharmacy'!AH666 +'MIS - Pharmacy'!AG666))","v":""},{"$f":"IF(ISBLANK('MIS - Pharmacy'!AI666),\"\",'MIS - Pharmacy'!AI666)","v":""},"","","",{"$f":"IF(ISBLANK('MIS - Pharmacy'!V666),\"\",'MIS - Pharmacy'!V666)","v":""},"","","",{"$f":"IF(ISBLANK('MIS - Pharmacy'!J666),\"\",'MIS - Pharmacy'!J666)","v":""},{"$f":"IF(ISBLANK('MIS - Pharmacy'!AY666),\"\",'MIS - Pharmacy'!AY666)","v":""},{"$f":"IF(ISBLANK('MIS - Pharmacy'!BH666),\"\",'MIS - Pharmacy'!BH666)","v":""},"",""]
[{"$f":"IF(ISBLANK('MIS - Pharmacy'!A667), \"\",'MIS - Pharmacy'!A667)","v":""},{"$f":"IF(ISBLANK('MIS - Pharmacy'!B667),\"\",('MIS - Pharmacy'!B667&\"(\"&'MIS - Pharmacy'!D667&\")\"))","v":""},{"$f":"IF(ISBLANK('MIS - Pharmacy'!BI667), \"\", 'MIS - Pharmacy'!BI667)","v":""},{"$f":"IF(ISBLANK('MIS - Pharmacy'!U667), \"\", 'MIS - Pharmacy'!U667)","v":""},"","","","","","","",{"$f":"IF(ISBLANK('MIS - Pharmacy'!AC667),\"\",'MIS - Pharmacy'!AC667)","v":""},"",{"$f":"IF(ISBLANK('MIS - Pharmacy'!AD667),\"\",'MIS - Pharmacy'!AD667)","v":""},"","",{"$f":"IF('MIS - Pharmacy'!A667=\"\",\"\",SUM('MIS - Pharmacy'!K667+'MIS - Pharmacy'!L667))","v":""},"",{"$f":"IF('MIS - Pharmacy'!A667=\"\",\"\",('MIS - Pharmacy'!AF667+'MIS - Pharmacy'!AH667 +'MIS - Pharmacy'!AG667))","v":""},{"$f":"IF(ISBLANK('MIS - Pharmacy'!AI667),\"\",'MIS - Pharmacy'!AI667)","v":""},"","","",{"$f":"IF(ISBLANK('MIS - Pharmacy'!V667),\"\",'MIS - Pharmacy'!V667)","v":""},"","","",{"$f":"IF(ISBLANK('MIS - Pharmacy'!J667),\"\",'MIS - Pharmacy'!J667)","v":""},{"$f":"IF(ISBLANK('MIS - Pharmacy'!AY667),\"\",'MIS - Pharmacy'!AY667)","v":""},{"$f":"IF(ISBLANK('MIS - Pharmacy'!BH667),\"\",'MIS - Pharmacy'!BH667)","v":""},"",""]
[{"$f":"IF(ISBLANK('MIS - Pharmacy'!A668), \"\",'MIS - Pharmacy'!A668)","v":""},{"$f":"IF(ISBLANK('MIS - Pharmacy'!B668),\"\",('MIS - Pharmacy'!B668&\"(\"&'MIS - Pharmacy'!D668&\")\"))","v":""},{"$f":"IF(ISBLANK('MIS - Pharmacy'!BI668), \"\", 'MIS - Pharmacy'!BI668)","v":""},{"$f":"IF(ISBLANK('MIS - Pharmacy'!U668), \"\", 'MIS - Pharmacy'!U668)","v":""},"","","","","","","",{"$f":"IF(ISBLANK('MIS - Pharmacy'!AC668),\"\",'MIS - Pharmacy'!AC668)","v":""},"",{"$f":"IF(ISBLANK('MIS - Pharmacy'!AD668),\"\",'MIS - Pharmacy'!AD668)","v":""},"","",{"$f":"IF('MIS - Pharmacy'!A668=\"\",\"\",SUM('MIS - Pharmacy'!K668+'MIS - Pharmacy'!L668))","v":""},"",{"$f":"IF('MIS - Pharmacy'!A668=\"\",\"\",('MIS - Pharmacy'!AF668+'MIS - Pharmacy'!AH668 +'MIS - Pharmacy'!AG668))","v":""},{"$f":"IF(ISBLANK('MIS - Pharmacy'!AI668),\"\",'MIS - Pharmacy'!AI668)","v":""},"","","",{"$f":"IF(ISBLANK('MIS - Pharmacy'!V668),\"\",'MIS - Pharmacy'!V668)","v":""},"","","",{"$f":"IF(ISBLANK('MIS - Pharmacy'!J668),\"\",'MIS - Pharmacy'!J668)","v":""},{"$f":"IF(ISBLANK('MIS - Pharmacy'!AY668),\"\",'MIS - Pharmacy'!AY668)","v":""},{"$f":"IF(ISBLANK('MIS - Pharmacy'!BH668),\"\",'MIS - Pharmacy'!BH668)","v":""},"",""]
[{"$f":"IF(ISBLANK('MIS - Pharmacy'!A669), \"\",'MIS - Pharmacy'!A669)","v":""},{"$f":"IF(ISBLANK('MIS - Pharmacy'!B669),\"\",('MIS - Pharmacy'!B669&\"(\"&'MIS - Pharmacy'!D669&\")\"))","v":""},{"$f":"IF(ISBLANK('MIS - Pharmacy'!BI669), \"\", 'MIS - Pharmacy'!BI669)","v":""},{"$f":"IF(ISBLANK('MIS - Pharmacy'!U669), \"\", 'MIS - Pharmacy'!U669)","v":""},"","","","","","","",{"$f":"IF(ISBLANK('MIS - Pharmacy'!AC669),\"\",'MIS - Pharmacy'!AC669)","v":""},"",{"$f":"IF(ISBLANK('MIS - Pharmacy'!AD669),\"\",'MIS - Pharmacy'!AD669)","v":""},"","",{"$f":"IF('MIS - Pharmacy'!A669=\"\",\"\",SUM('MIS - Pharmacy'!K669+'MIS - Pharmacy'!L669))","v":""},"",{"$f":"IF('MIS - Pharmacy'!A669=\"\",\"\",('MIS - Pharmacy'!AF669+'MIS - Pharmacy'!AH669 +'MIS - Pharmacy'!AG669))","v":""},{"$f":"IF(ISBLANK('MIS - Pharmacy'!AI669),\"\",'MIS - Pharmacy'!AI669)","v":""},"","","",{"$f":"IF(ISBLANK('MIS - Pharmacy'!V669),\"\",'MIS - Pharmacy'!V669)","v":""},"","","",{"$f":"IF(ISBLANK('MIS - Pharmacy'!J669),\"\",'MIS - Pharmacy'!J669)","v":""},{"$f":"IF(ISBLANK('MIS - Pharmacy'!AY669),\"\",'MIS - Pharmacy'!AY669)","v":""},{"$f":"IF(ISBLANK('MIS - Pharmacy'!BH669),\"\",'MIS - Pharmacy'!BH669)","v":""},"",""]
[{"$f":"IF(ISBLANK('MIS - Pharmacy'!A670), \"\",'MIS - Pharmacy'!A670)","v":""},{"$f":"IF(ISBLANK('MIS - Pharmacy'!B670),\"\",('MIS - Pharmacy'!B670&\"(\"&'MIS - Pharmacy'!D670&\")\"))","v":""},{"$f":"IF(ISBLANK('MIS - Pharmacy'!BI670), \"\", 'MIS - Pharmacy'!BI670)","v":""},{"$f":"IF(ISBLANK('MIS - Pharmacy'!U670), \"\", 'MIS - Pharmacy'!U670)","v":""},"","","","","","","",{"$f":"IF(ISBLANK('MIS - Pharmacy'!AC670),\"\",'MIS - Pharmacy'!AC670)","v":""},"",{"$f":"IF(ISBLANK('MIS - Pharmacy'!AD670),\"\",'MIS - Pharmacy'!AD670)","v":""},"","",{"$f":"IF('MIS - Pharmacy'!A670=\"\",\"\",SUM('MIS - Pharmacy'!K670+'MIS - Pharmacy'!L670))","v":""},"",{"$f":"IF('MIS - Pharmacy'!A670=\"\",\"\",('MIS - Pharmacy'!AF670+'MIS - Pharmacy'!AH670 +'MIS - Pharmacy'!AG670))","v":""},{"$f":"IF(ISBLANK('MIS - Pharmacy'!AI670),\"\",'MIS - Pharmacy'!AI670)","v":""},"","","",{"$f":"IF(ISBLANK('MIS - Pharmacy'!V670),\"\",'MIS - Pharmacy'!V670)","v":""},"","","",{"$f":"IF(ISBLANK('MIS - Pharmacy'!J670),\"\",'MIS - Pharmacy'!J670)","v":""},{"$f":"IF(ISBLANK('MIS - Pharmacy'!AY670),\"\",'MIS - Pharmacy'!AY670)","v":""},{"$f":"IF(ISBLANK('MIS - Pharmacy'!BH670),\"\",'MIS - Pharmacy'!BH670)","v":""},"",""]
[{"$f":"IF(ISBLANK('MIS - Pharmacy'!A671), \"\",'MIS - Pharmacy'!A671)","v":""},{"$f":"IF(ISBLANK('MIS - Pharmacy'!B671),\"\",('MIS - Pharmacy'!B671&\"(\"&'MIS - Pharmacy'!D671&\")\"))","v":""},{"$f":"IF(ISBLANK('MIS - Pharmacy'!BI671), \"\", 'MIS - Pharmacy'!BI671)","v":""},{"$f":"IF(ISBLANK('MIS - Pharmacy'!U671), \"\", 'MIS - Pharmacy'!U671)","v":""},"","","","","","","",{"$f":"IF(ISBLANK('MIS - Pharmacy'!AC671),\"\",'MIS - Pharmacy'!AC671)","v":""},"",{"$f":"IF(ISBLANK('MIS - Pharmacy'!AD671),\"\",'MIS - Pharmacy'!AD671)","v":""},"","",{"$f":"IF('MIS - Pharmacy'!A671=\"\",\"\",SUM('MIS - Pharmacy'!K671+'MIS - Pharmacy'!L671))","v":""},"",{"$f":"IF('MIS - Pharmacy'!A671=\"\",\"\",('MIS - Pharmacy'!AF671+'MIS - Pharmacy'!AH671 +'MIS - Pharmacy'!AG671))","v":""},{"$f":"IF(ISBLANK('MIS - Pharmacy'!AI671),\"\",'MIS - Pharmacy'!AI671)","v":""},"","","",{"$f":"IF(ISBLANK('MIS - Pharmacy'!V671),\"\",'MIS - Pharmacy'!V671)","v":""},"","","",{"$f":"IF(ISBLANK('MIS - Pharmacy'!J671),\"\",'MIS - Pharmacy'!J671)","v":""},{"$f":"IF(ISBLANK('MIS - Pharmacy'!AY671),\"\",'MIS - Pharmacy'!AY671)","v":""},{"$f":"IF(ISBLANK('MIS - Pharmacy'!BH671),\"\",'MIS - Pharmacy'!BH671)","v":""},"",""]
[{"$f":"IF(ISBLANK('MIS - Pharmacy'!A672), \"\",'MIS - Pharmacy'!A672)","v":""},{"$f":"IF(ISBLANK('MIS - Pharmacy'!B672),\"\",('MIS - Pharmacy'!B672&\"(\"&'MIS - Pharmacy'!D672&\")\"))","v":""},{"$f":"IF(ISBLANK('MIS - Pharmacy'!BI672), \"\", 'MIS - Pharmacy'!BI672)","v":""},{"$f":"IF(ISBLANK('MIS - Pharmacy'!U672), \"\", 'MIS - Pharmacy'!U672)","v":""},"","","","","","","",{"$f":"IF(ISBLANK('MIS - Pharmacy'!AC672),\"\",'MIS - Pharmacy'!AC672)","v":""},"",{"$f":"IF(ISBLANK('MIS - Pharmacy'!AD672),\"\",'MIS - Pharmacy'!AD672)","v":""},"","",{"$f":"IF('MIS - Pharmacy'!A672=\"\",\"\",SUM('MIS - Pharmacy'!K672+'MIS - Pharmacy'!L672))","v":""},"",{"$f":"IF('MIS - Pharmacy'!A672=\"\",\"\",('MIS - Pharmacy'!AF672+'MIS - Pharmacy'!AH672 +'MIS - Pharmacy'!AG672))","v":""},{"$f":"IF(ISBLANK('MIS - Pharmacy'!AI672),\"\",'MIS - Pharmacy'!AI672)","v":""},"","","",{"$f":"IF(ISBLANK('MIS - Pharmacy'!V672),\"\",'MIS - Pharmacy'!V672)","v":""},"","","",{"$f":"IF(ISBLANK('MIS - Pharmacy'!J672),\"\",'MIS - Pharmacy'!J672)","v":""},{"$f":"IF(ISBLANK('MIS - Pharmacy'!AY672),\"\",'MIS - Pharmacy'!AY672)","v":""},{"$f":"IF(ISBLANK('MIS - Pharmacy'!BH672),\"\",'MIS - Pharmacy'!BH672)","v":""},"",""]
[{"$f":"IF(ISBLANK('MIS - Pharmacy'!A673), \"\",'MIS - Pharmacy'!A673)","v":""},{"$f":"IF(ISBLANK('MIS - Pharmacy'!B673),\"\",('MIS - Pharmacy'!B673&\"(\"&'MIS - Pharmacy'!D673&\")\"))","v":""},{"$f":"IF(ISBLANK('MIS - Pharmacy'!BI673), \"\", 'MIS - Pharmacy'!BI673)","v":""},{"$f":"IF(ISBLANK('MIS - Pharmacy'!U673), \"\", 'MIS - Pharmacy'!U673)","v":""},"","","","","","","",{"$f":"IF(ISBLANK('MIS - Pharmacy'!AC673),\"\",'MIS - Pharmacy'!AC673)","v":""},"",{"$f":"IF(ISBLANK('MIS - Pharmacy'!AD673),\"\",'MIS - Pharmacy'!AD673)","v":""},"","",{"$f":"IF('MIS - Pharmacy'!A673=\"\",\"\",SUM('MIS - Pharmacy'!K673+'MIS - Pharmacy'!L673))","v":""},"",{"$f":"IF('MIS - Pharmacy'!A673=\"\",\"\",('MIS - Pharmacy'!AF673+'MIS - Pharmacy'!AH673 +'MIS - Pharmacy'!AG673))","v":""},{"$f":"IF(ISBLANK('MIS - Pharmacy'!AI673),\"\",'MIS - Pharmacy'!AI673)","v":""},"","","",{"$f":"IF(ISBLANK('MIS - Pharmacy'!V673),\"\",'MIS - Pharmacy'!V673)","v":""},"","","",{"$f":"IF(ISBLANK('MIS - Pharmacy'!J673),\"\",'MIS - Pharmacy'!J673)","v":""},{"$f":"IF(ISBLANK('MIS - Pharmacy'!AY673),\"\",'MIS - Pharmacy'!AY673)","v":""},{"$f":"IF(ISBLANK('MIS - Pharmacy'!BH673),\"\",'MIS - Pharmacy'!BH673)","v":""},"",""]
[{"$f":"IF(ISBLANK('MIS - Pharmacy'!A674), \"\",'MIS - Pharmacy'!A674)","v":""},{"$f":"IF(ISBLANK('MIS - Pharmacy'!B674),\"\",('MIS - Pharmacy'!B674&\"(\"&'MIS - Pharmacy'!D674&\")\"))","v":""},{"$f":"IF(ISBLANK('MIS - Pharmacy'!BI674), \"\", 'MIS - Pharmacy'!BI674)","v":""},{"$f":"IF(ISBLANK('MIS - Pharmacy'!U674), \"\", 'MIS - Pharmacy'!U674)","v":""},"","","","","","","",{"$f":"IF(ISBLANK('MIS - Pharmacy'!AC674),\"\",'MIS - Pharmacy'!AC674)","v":""},"",{"$f":"IF(ISBLANK('MIS - Pharmacy'!AD674),\"\",'MIS - Pharmacy'!AD674)","v":""},"","",{"$f":"IF('MIS - Pharmacy'!A674=\"\",\"\",SUM('MIS - Pharmacy'!K674+'MIS - Pharmacy'!L674))","v":""},"",{"$f":"IF('MIS - Pharmacy'!A674=\"\",\"\",('MIS - Pharmacy'!AF674+'MIS - Pharmacy'!AH674 +'MIS - Pharmacy'!AG674))","v":""},{"$f":"IF(ISBLANK('MIS - Pharmacy'!AI674),\"\",'MIS - Pharmacy'!AI674)","v":""},"","","",{"$f":"IF(ISBLANK('MIS - Pharmacy'!V674),\"\",'MIS - Pharmacy'!V674)","v":""},"","","",{"$f":"IF(ISBLANK('MIS - Pharmacy'!J674),\"\",'MIS - Pharmacy'!J674)","v":""},{"$f":"IF(ISBLANK('MIS - Pharmacy'!AY674),\"\",'MIS - Pharmacy'!AY674)","v":""},{"$f":"IF(ISBLANK('MIS - Pharmacy'!BH674),\"\",'MIS - Pharmacy'!BH674)","v":""},"",""]
[{"$f":"IF(ISBLANK('MIS - Pharmacy'!A675), \"\",'MIS - Pharmacy'!A675)","v":""},{"$f":"IF(ISBLANK('MIS - Pharmacy'!B675),\"\",('MIS - Pharmacy'!B675&\"(\"&'MIS - Pharmacy'!D675&\")\"))","v":""},{"$f":"IF(ISBLANK('MIS - Pharmacy'!BI675), \"\", 'MIS - Pharmacy'!BI675)","v":""},{"$f":"IF(ISBLANK('MIS - Pharmacy'!U675), \"\", 'MIS - Pharmacy'!U675)","v":""},"","","","","","","",{"$f":"IF(ISBLANK('MIS - Pharmacy'!AC675),\"\",'MIS - Pharmacy'!AC675)","v":""},"",{"$f":"IF(ISBLANK('MIS - Pharmacy'!AD675),\"\",'MIS - Pharmacy'!AD675)","v":""},"","",{"$f":"IF('MIS - Pharmacy'!A675=\"\",\"\",SUM('MIS - Pharmacy'!K675+'MIS - Pharmacy'!L675))","v":""},"",{"$f":"IF('MIS - Pharmacy'!A675=\"\",\"\",('MIS - Pharmacy'!AF675+'MIS - Pharmacy'!AH675 +'MIS - Pharmacy'!AG675))","v":""},{"$f":"IF(ISBLANK('MIS - Pharmacy'!AI675),\"\",'MIS - Pharmacy'!AI675)","v":""},"","","",{"$f":"IF(ISBLANK('MIS - Pharmacy'!V675),\"\",'MIS - Pharmacy'!V675)","v":""},"","","",{"$f":"IF(ISBLANK('MIS - Pharmacy'!J675),\"\",'MIS - Pharmacy'!J675)","v":""},{"$f":"IF(ISBLANK('MIS - Pharmacy'!AY675),\"\",'MIS - Pharmacy'!AY675)","v":""},{"$f":"IF(ISBLANK('MIS - Pharmacy'!BH675),\"\",'MIS - Pharmacy'!BH675)","v":""},"",""]
[{"$f":"IF(ISBLANK('MIS - Pharmacy'!A676), \"\",'MIS - Pharmacy'!A676)","v":""},{"$f":"IF(ISBLANK('MIS - Pharmacy'!B676),\"\",('MIS - Pharmacy'!B676&\"(\"&'MIS - Pharmacy'!D676&\")\"))","v":""},{"$f":"IF(ISBLANK('MIS - Pharmacy'!BI676), \"\", 'MIS - Pharmacy'!BI676)","v":""},{"$f":"IF(ISBLANK('MIS - Pharmacy'!U676), \"\", 'MIS - Pharmacy'!U676)","v":""},"","","","","","","",{"$f":"IF(ISBLANK('MIS - Pharmacy'!AC676),\"\",'MIS - Pharmacy'!AC676)","v":""},"",{"$f":"IF(ISBLANK('MIS - Pharmacy'!AD676),\"\",'MIS - Pharmacy'!AD676)","v":""},"","",{"$f":"IF('MIS - Pharmacy'!A676=\"\",\"\",SUM('MIS - Pharmacy'!K676+'MIS - Pharmacy'!L676))","v":""},"",{"$f":"IF('MIS - Pharmacy'!A676=\"\",\"\",('MIS - Pharmacy'!AF676+'MIS - Pharmacy'!AH676 +'MIS - Pharmacy'!AG676))","v":""},{"$f":"IF(ISBLANK('MIS - Pharmacy'!AI676),\"\",'MIS - Pharmacy'!AI676)","v":""},"","","",{"$f":"IF(ISBLANK('MIS - Pharmacy'!V676),\"\",'MIS - Pharmacy'!V676)","v":""},"","","",{"$f":"IF(ISBLANK('MIS - Pharmacy'!J676),\"\",'MIS - Pharmacy'!J676)","v":""},{"$f":"IF(ISBLANK('MIS - Pharmacy'!AY676),\"\",'MIS - Pharmacy'!AY676)","v":""},{"$f":"IF(ISBLANK('MIS - Pharmacy'!BH676),\"\",'MIS - Pharmacy'!BH676)","v":""},"",""]
[{"$f":"IF(ISBLANK('MIS - Pharmacy'!A677), \"\",'MIS - Pharmacy'!A677)","v":""},{"$f":"IF(ISBLANK('MIS - Pharmacy'!B677),\"\",('MIS - Pharmacy'!B677&\"(\"&'MIS - Pharmacy'!D677&\")\"))","v":""},{"$f":"IF(ISBLANK('MIS - Pharmacy'!BI677), \"\", 'MIS - Pharmacy'!BI677)","v":""},{"$f":"IF(ISBLANK('MIS - Pharmacy'!U677), \"\", 'MIS - Pharmacy'!U677)","v":""},"","","","","","","",{"$f":"IF(ISBLANK('MIS - Pharmacy'!AC677),\"\",'MIS - Pharmacy'!AC677)","v":""},"",{"$f":"IF(ISBLANK('MIS - Pharmacy'!AD677),\"\",'MIS - Pharmacy'!AD677)","v":""},"","",{"$f":"IF('MIS - Pharmacy'!A677=\"\",\"\",SUM('MIS - Pharmacy'!K677+'MIS - Pharmacy'!L677))","v":""},"",{"$f":"IF('MIS - Pharmacy'!A677=\"\",\"\",('MIS - Pharmacy'!AF677+'MIS - Pharmacy'!AH677 +'MIS - Pharmacy'!AG677))","v":""},{"$f":"IF(ISBLANK('MIS - Pharmacy'!AI677),\"\",'MIS - Pharmacy'!AI677)","v":""},"","","",{"$f":"IF(ISBLANK('MIS - Pharmacy'!V677),\"\",'MIS - Pharmacy'!V677)","v":""},"","","",{"$f":"IF(ISBLANK('MIS - Pharmacy'!J677),\"\",'MIS - Pharmacy'!J677)","v":""},{"$f":"IF(ISBLANK('MIS - Pharmacy'!AY677),\"\",'MIS - Pharmacy'!AY677)","v":""},{"$f":"IF(ISBLANK('MIS - Pharmacy'!BH677),\"\",'MIS - Pharmacy'!BH677)","v":""},"",""]
[{"$f":"IF(ISBLANK('MIS - Pharmacy'!A678), \"\",'MIS - Pharmacy'!A678)","v":""},{"$f":"IF(ISBLANK('MIS - Pharmacy'!B678),\"\",('MIS - Pharmacy'!B678&\"(\"&'MIS - Pharmacy'!D678&\")\"))","v":""},{"$f":"IF(ISBLANK('MIS - Pharmacy'!BI678), \"\", 'MIS - Pharmacy'!BI678)","v":""},{"$f":"IF(ISBLANK('MIS - Pharmacy'!U678), \"\", 'MIS - Pharmacy'!U678)","v":""},"","","","","","","",{"$f":"IF(ISBLANK('MIS - Pharmacy'!AC678),\"\",'MIS - Pharmacy'!AC678)","v":""},"",{"$f":"IF(ISBLANK('MIS - Pharmacy'!AD678),\"\",'MIS - Pharmacy'!AD678)","v":""},"","",{"$f":"IF('MIS - Pharmacy'!A678=\"\",\"\",SUM('MIS - Pharmacy'!K678+'MIS - Pharmacy'!L678))","v":""},"",{"$f":"IF('MIS - Pharmacy'!A678=\"\",\"\",('MIS - Pharmacy'!AF678+'MIS - Pharmacy'!AH678 +'MIS - Pharmacy'!AG678))","v":""},{"$f":"IF(ISBLANK('MIS - Pharmacy'!AI678),\"\",'MIS - Pharmacy'!AI678)","v":""},"","","",{"$f":"IF(ISBLANK('MIS - Pharmacy'!V678),\"\",'MIS - Pharmacy'!V678)","v":""},"","","",{"$f":"IF(ISBLANK('MIS - Pharmacy'!J678),\"\",'MIS - Pharmacy'!J678)","v":""},{"$f":"IF(ISBLANK('MIS - Pharmacy'!AY678),\"\",'MIS - Pharmacy'!AY678)","v":""},{"$f":"IF(ISBLANK('MIS - Pharmacy'!BH678),\"\",'MIS - Pharmacy'!BH678)","v":""},"",""]
[{"$f":"IF(ISBLANK('MIS - Pharmacy'!A679), \"\",'MIS - Pharmacy'!A679)","v":""},{"$f":"IF(ISBLANK('MIS - Pharmacy'!B679),\"\",('MIS - Pharmacy'!B679&\"(\"&'MIS - Pharmacy'!D679&\")\"))","v":""},{"$f":"IF(ISBLANK('MIS - Pharmacy'!BI679), \"\", 'MIS - Pharmacy'!BI679)","v":""},{"$f":"IF(ISBLANK('MIS - Pharmacy'!U679), \"\", 'MIS - Pharmacy'!U679)","v":""},"","","","","","","",{"$f":"IF(ISBLANK('MIS - Pharmacy'!AC679),\"\",'MIS - Pharmacy'!AC679)","v":""},"",{"$f":"IF(ISBLANK('MIS - Pharmacy'!AD679),\"\",'MIS - Pharmacy'!AD679)","v":""},"","",{"$f":"IF('MIS - Pharmacy'!A679=\"\",\"\",SUM('MIS - Pharmacy'!K679+'MIS - Pharmacy'!L679))","v":""},"",{"$f":"IF('MIS - Pharmacy'!A679=\"\",\"\",('MIS - Pharmacy'!AF679+'MIS - Pharmacy'!AH679 +'MIS - Pharmacy'!AG679))","v":""},{"$f":"IF(ISBLANK('MIS - Pharmacy'!AI679),\"\",'MIS - Pharmacy'!AI679)","v":""},"","","",{"$f":"IF(ISBLANK('MIS - Pharmacy'!V679),\"\",'MIS - Pharmacy'!V679)","v":""},"","","",{"$f":"IF(ISBLANK('MIS - Pharmacy'!J679),\"\",'MIS - Pharmacy'!J679)","v":""},{"$f":"IF(ISBLANK('MIS - Pharmacy'!AY679),\"\",'MIS - Pharmacy'!AY679)","v":""},{"$f":"IF(ISBLANK('MIS - Pharmacy'!BH679),\"\",'MIS - Pharmacy'!BH679)","v":""},"",""]
[{"$f":"IF(ISBLANK('MIS - Pharmacy'!A680), \"\",'MIS - Pharmacy'!A680)","v":""},{"$f":"IF(ISBLANK('MIS - Pharmacy'!B680),\"\",('MIS - Pharmacy'!B680&\"(\"&'MIS - Pharmacy'!D680&\")\"))","v":""},{"$f":"IF(ISBLANK('MIS - Pharmacy'!BI680), \"\", 'MIS - Pharmacy'!BI680)","v":""},{"$f":"IF(ISBLANK('MIS - Pharmacy'!U680), \"\", 'MIS - Pharmacy'!U680)","v":""},"","","","","","","",{"$f":"IF(ISBLANK('MIS - Pharmacy'!AC680),\"\",'MIS - Pharmacy'!AC680)","v":""},"",{"$f":"IF(ISBLANK('MIS - Pharmacy'!AD680),\"\",'MIS - Pharmacy'!AD680)","v":""},"","",{"$f":"IF('MIS - Pharmacy'!A680=\"\",\"\",SUM('MIS - Pharmacy'!K680+'MIS - Pharmacy'!L680))","v":""},"",{"$f":"IF('MIS - Pharmacy'!A680=\"\",\"\",('MIS - Pharmacy'!AF680+'MIS - Pharmacy'!AH680 +'MIS - Pharmacy'!AG680))","v":""},{"$f":"IF(ISBLANK('MIS - Pharmacy'!AI680),\"\",'MIS - Pharmacy'!AI680)","v":""},"","","",{"$f":"IF(ISBLANK('MIS - Pharmacy'!V680),\"\",'MIS - Pharmacy'!V680)","v":""},"","","",{"$f":"IF(ISBLANK('MIS - Pharmacy'!J680),\"\",'MIS - Pharmacy'!J680)","v":""},{"$f":"IF(ISBLANK('MIS - Pharmacy'!AY680),\"\",'MIS - Pharmacy'!AY680)","v":""},{"$f":"IF(ISBLANK('MIS - Pharmacy'!BH680),\"\",'MIS - Pharmacy'!BH680)","v":""},"",""]
[{"$f":"IF(ISBLANK('MIS - Pharmacy'!A681), \"\",'MIS - Pharmacy'!A681)","v":""},{"$f":"IF(ISBLANK('MIS - Pharmacy'!B681),\"\",('MIS - Pharmacy'!B681&\"(\"&'MIS - Pharmacy'!D681&\")\"))","v":""},{"$f":"IF(ISBLANK('MIS - Pharmacy'!BI681), \"\", 'MIS - Pharmacy'!BI681)","v":""},{"$f":"IF(ISBLANK('MIS - Pharmacy'!U681), \"\", 'MIS - Pharmacy'!U681)","v":""},"","","","","","","",{"$f":"IF(ISBLANK('MIS - Pharmacy'!AC681),\"\",'MIS - Pharmacy'!AC681)","v":""},"",{"$f":"IF(ISBLANK('MIS - Pharmacy'!AD681),\"\",'MIS - Pharmacy'!AD681)","v":""},"","",{"$f":"IF('MIS - Pharmacy'!A681=\"\",\"\",SUM('MIS - Pharmacy'!K681+'MIS - Pharmacy'!L681))","v":""},"",{"$f":"IF('MIS - Pharmacy'!A681=\"\",\"\",('MIS - Pharmacy'!AF681+'MIS - Pharmacy'!AH681 +'MIS - Pharmacy'!AG681))","v":""},{"$f":"IF(ISBLANK('MIS - Pharmacy'!AI681),\"\",'MIS - Pharmacy'!AI681)","v":""},"","","",{"$f":"IF(ISBLANK('MIS - Pharmacy'!V681),\"\",'MIS - Pharmacy'!V681)","v":""},"","","",{"$f":"IF(ISBLANK('MIS - Pharmacy'!J681),\"\",'MIS - Pharmacy'!J681)","v":""},{"$f":"IF(ISBLANK('MIS - Pharmacy'!AY681),\"\",'MIS - Pharmacy'!AY681)","v":""},{"$f":"IF(ISBLANK('MIS - Pharmacy'!BH681),\"\",'MIS - Pharmacy'!BH681)","v":""},"",""]
[{"$f":"IF(ISBLANK('MIS - Pharmacy'!A682), \"\",'MIS - Pharmacy'!A682)","v":""},{"$f":"IF(ISBLANK('MIS - Pharmacy'!B682),\"\",('MIS - Pharmacy'!B682&\"(\"&'MIS - Pharmacy'!D682&\")\"))","v":""},{"$f":"IF(ISBLANK('MIS - Pharmacy'!BI682), \"\", 'MIS - Pharmacy'!BI682)","v":""},{"$f":"IF(ISBLANK('MIS - Pharmacy'!U682), \"\", 'MIS - Pharmacy'!U682)","v":""},"","","","","","","",{"$f":"IF(ISBLANK('MIS - Pharmacy'!AC682),\"\",'MIS - Pharmacy'!AC682)","v":""},"",{"$f":"IF(ISBLANK('MIS - Pharmacy'!AD682),\"\",'MIS - Pharmacy'!AD682)","v":""},"","",{"$f":"IF('MIS - Pharmacy'!A682=\"\",\"\",SUM('MIS - Pharmacy'!K682+'MIS - Pharmacy'!L682))","v":""},"",{"$f":"IF('MIS - Pharmacy'!A682=\"\",\"\",('MIS - Pharmacy'!AF682+'MIS - Pharmacy'!AH682 +'MIS - Pharmacy'!AG682))","v":""},{"$f":"IF(ISBLANK('MIS - Pharmacy'!AI682),\"\",'MIS - Pharmacy'!AI682)","v":""},"","","",{"$f":"IF(ISBLANK('MIS - Pharmacy'!V682),\"\",'MIS - Pharmacy'!V682)","v":""},"","","",{"$f":"IF(ISBLANK('MIS - Pharmacy'!J682),\"\",'MIS - Pharmacy'!J682)","v":""},{"$f":"IF(ISBLANK('MIS - Pharmacy'!AY682),\"\",'MIS - Pharmacy'!AY682)","v":""},{"$f":"IF(ISBLANK('MIS - Pharmacy'!BH682),\"\",'MIS - Pharmacy'!BH682)","v":""},"",""]
[{"$f":"IF(ISBLANK('MIS - Pharmacy'!A683), \"\",'MIS - Pharmacy'!A683)","v":""},{"$f":"IF(ISBLANK('MIS - Pharmacy'!B683),\"\",('MIS - Pharmacy'!B683&\"(\"&'MIS - Pharmacy'!D683&\")\"))","v":""},{"$f":"IF(ISBLANK('MIS - Pharmacy'!BI683), \"\", 'MIS - Pharmacy'!BI683)","v":""},{"$f":"IF(ISBLANK('MIS - Pharmacy'!U683), \"\", 'MIS - Pharmacy'!U683)","v":""},"","","","","","","",{"$f":"IF(ISBLANK('MIS - Pharmacy'!AC683),\"\",'MIS - Pharmacy'!AC683)","v":""},"",{"$f":"IF(ISBLANK('MIS - Pharmacy'!AD683),\"\",'MIS - Pharmacy'!AD683)","v":""},"","",{"$f":"IF('MIS - Pharmacy'!A683=\"\",\"\",SUM('MIS - Pharmacy'!K683+'MIS - Pharmacy'!L683))","v":""},"",{"$f":"IF('MIS - Pharmacy'!A683=\"\",\"\",('MIS - Pharmacy'!AF683+'MIS - Pharmacy'!AH683 +'MIS - Pharmacy'!AG683))","v":""},{"$f":"IF(ISBLANK('MIS - Pharmacy'!AI683),\"\",'MIS - Pharmacy'!AI683)","v":""},"","","",{"$f":"IF(ISBLANK('MIS - Pharmacy'!V683),\"\",'MIS - Pharmacy'!V683)","v":""},"","","",{"$f":"IF(ISBLANK('MIS - Pharmacy'!J683),\"\",'MIS - Pharmacy'!J683)","v":""},{"$f":"IF(ISBLANK('MIS - Pharmacy'!AY683),\"\",'MIS - Pharmacy'!AY683)","v":""},{"$f":"IF(ISBLANK('MIS - Pharmacy'!BH683),\"\",'MIS - Pharmacy'!BH683)","v":""},"",""]
[{"$f":"IF(ISBLANK('MIS - Pharmacy'!A684), \"\",'MIS - Pharmacy'!A684)","v":""},{"$f":"IF(ISBLANK('MIS - Pharmacy'!B684),\"\",('MIS - Pharmacy'!B684&\"(\"&'MIS - Pharmacy'!D684&\")\"))","v":""},{"$f":"IF(ISBLANK('MIS - Pharmacy'!BI684), \"\", 'MIS - Pharmacy'!BI684)","v":""},{"$f":"IF(ISBLANK('MIS - Pharmacy'!U684), \"\", 'MIS - Pharmacy'!U684)","v":""},"","","","","","","",{"$f":"IF(ISBLANK('MIS - Pharmacy'!AC684),\"\",'MIS - Pharmacy'!AC684)","v":""},"",{"$f":"IF(ISBLANK('MIS - Pharmacy'!AD684),\"\",'MIS - Pharmacy'!AD684)","v":""},"","",{"$f":"IF('MIS - Pharmacy'!A684=\"\",\"\",SUM('MIS - Pharmacy'!K684+'MIS - Pharmacy'!L684))","v":""},"",{"$f":"IF('MIS - Pharmacy'!A684=\"\",\"\",('MIS - Pharmacy'!AF684+'MIS - Pharmacy'!AH684 +'MIS - Pharmacy'!AG684))","v":""},{"$f":"IF(ISBLANK('MIS - Pharmacy'!AI684),\"\",'MIS - Pharmacy'!AI684)","v":""},"","","",{"$f":"IF(ISBLANK('MIS - Pharmacy'!V684),\"\",'MIS - Pharmacy'!V684)","v":""},"","","",{"$f":"IF(ISBLANK('MIS - Pharmacy'!J684),\"\",'MIS - Pharmacy'!J684)","v":""},{"$f":"IF(ISBLANK('MIS - Pharmacy'!AY684),\"\",'MIS - Pharmacy'!AY684)","v":""},{"$f":"IF(ISBLANK('MIS - Pharmacy'!BH684),\"\",'MIS - Pharmacy'!BH684)","v":""},"",""]
[{"$f":"IF(ISBLANK('MIS - Pharmacy'!A685), \"\",'MIS - Pharmacy'!A685)","v":""},{"$f":"IF(ISBLANK('MIS - Pharmacy'!B685),\"\",('MIS - Pharmacy'!B685&\"(\"&'MIS - Pharmacy'!D685&\")\"))","v":""},{"$f":"IF(ISBLANK('MIS - Pharmacy'!BI685), \"\", 'MIS - Pharmacy'!BI685)","v":""},{"$f":"IF(ISBLANK('MIS - Pharmacy'!U685), \"\", 'MIS - Pharmacy'!U685)","v":""},"","","","","","","",{"$f":"IF(ISBLANK('MIS - Pharmacy'!AC685),\"\",'MIS - Pharmacy'!AC685)","v":""},"",{"$f":"IF(ISBLANK('MIS - Pharmacy'!AD685),\"\",'MIS - Pharmacy'!AD685)","v":""},"","",{"$f":"IF('MIS - Pharmacy'!A685=\"\",\"\",SUM('MIS - Pharmacy'!K685+'MIS - Pharmacy'!L685))","v":""},"",{"$f":"IF('MIS - Pharmacy'!A685=\"\",\"\",('MIS - Pharmacy'!AF685+'MIS - Pharmacy'!AH685 +'MIS - Pharmacy'!AG685))","v":""},{"$f":"IF(ISBLANK('MIS - Pharmacy'!AI685),\"\",'MIS - Pharmacy'!AI685)","v":""},"","","",{"$f":"IF(ISBLANK('MIS - Pharmacy'!V685),\"\",'MIS - Pharmacy'!V685)","v":""},"","","",{"$f":"IF(ISBLANK('MIS - Pharmacy'!J685),\"\",'MIS - Pharmacy'!J685)","v":""},{"$f":"IF(ISBLANK('MIS - Pharmacy'!AY685),\"\",'MIS - Pharmacy'!AY685)","v":""},{"$f":"IF(ISBLANK('MIS - Pharmacy'!BH685),\"\",'MIS - Pharmacy'!BH685)","v":""},"",""]
[{"$f":"IF(ISBLANK('MIS - Pharmacy'!A686), \"\",'MIS - Pharmacy'!A686)","v":""},{"$f":"IF(ISBLANK('MIS - Pharmacy'!B686),\"\",('MIS - Pharmacy'!B686&\"(\"&'MIS - Pharmacy'!D686&\")\"))","v":""},{"$f":"IF(ISBLANK('MIS - Pharmacy'!BI686), \"\", 'MIS - Pharmacy'!BI686)","v":""},{"$f":"IF(ISBLANK('MIS - Pharmacy'!U686), \"\", 'MIS - Pharmacy'!U686)","v":""},"","","","","","","",{"$f":"IF(ISBLANK('MIS - Pharmacy'!AC686),\"\",'MIS - Pharmacy'!AC686)","v":""},"",{"$f":"IF(ISBLANK('MIS - Pharmacy'!AD686),\"\",'MIS - Pharmacy'!AD686)","v":""},"","",{"$f":"IF('MIS - Pharmacy'!A686=\"\",\"\",SUM('MIS - Pharmacy'!K686+'MIS - Pharmacy'!L686))","v":""},"",{"$f":"IF('MIS - Pharmacy'!A686=\"\",\"\",('MIS - Pharmacy'!AF686+'MIS - Pharmacy'!AH686 +'MIS - Pharmacy'!AG686))","v":""},{"$f":"IF(ISBLANK('MIS - Pharmacy'!AI686),\"\",'MIS - Pharmacy'!AI686)","v":""},"","","",{"$f":"IF(ISBLANK('MIS - Pharmacy'!V686),\"\",'MIS - Pharmacy'!V686)","v":""},"","","",{"$f":"IF(ISBLANK('MIS - Pharmacy'!J686),\"\",'MIS - Pharmacy'!J686)","v":""},{"$f":"IF(ISBLANK('MIS - Pharmacy'!AY686),\"\",'MIS - Pharmacy'!AY686)","v":""},{"$f":"IF(ISBLANK('MIS - Pharmacy'!BH686),\"\",'MIS - Pharmacy'!BH686)","v":""},"",""]
[{"$f":"IF(ISBLANK('MIS - Pharmacy'!A687), \"\",'MIS - Pharmacy'!A687)","v":""},{"$f":"IF(ISBLANK('MIS - Pharmacy'!B687),\"\",('MIS - Pharmacy'!B687&\"(\"&'MIS - Pharmacy'!D687&\")\"))","v":""},{"$f":"IF(ISBLANK('MIS - Pharmacy'!BI687), \"\", 'MIS - Pharmacy'!BI687)","v":""},{"$f":"IF(ISBLANK('MIS - Pharmacy'!U687), \"\", 'MIS - Pharmacy'!U687)","v":""},"","","","","","","",{"$f":"IF(ISBLANK('MIS - Pharmacy'!AC687),\"\",'MIS - Pharmacy'!AC687)","v":""},"",{"$f":"IF(ISBLANK('MIS - Pharmacy'!AD687),\"\",'MIS - Pharmacy'!AD687)","v":""},"","",{"$f":"IF('MIS - Pharmacy'!A687=\"\",\"\",SUM('MIS - Pharmacy'!K687+'MIS - Pharmacy'!L687))","v":""},"",{"$f":"IF('MIS - Pharmacy'!A687=\"\",\"\",('MIS - Pharmacy'!AF687+'MIS - Pharmacy'!AH687 +'MIS - Pharmacy'!AG687))","v":""},{"$f":"IF(ISBLANK('MIS - Pharmacy'!AI687),\"\",'MIS - Pharmacy'!AI687)","v":""},"","","",{"$f":"IF(ISBLANK('MIS - Pharmacy'!V687),\"\",'MIS - Pharmacy'!V687)","v":""},"","","",{"$f":"IF(ISBLANK('MIS - Pharmacy'!J687),\"\",'MIS - Pharmacy'!J687)","v":""},{"$f":"IF(ISBLANK('MIS - Pharmacy'!AY687),\"\",'MIS - Pharmacy'!AY687)","v":""},{"$f":"IF(ISBLANK('MIS - Pharmacy'!BH687),\"\",'MIS - Pharmacy'!BH687)","v":""},"",""]
[{"$f":"IF(ISBLANK('MIS - Pharmacy'!A688), \"\",'MIS - Pharmacy'!A688)","v":""},{"$f":"IF(ISBLANK('MIS - Pharmacy'!B688),\"\",('MIS - Pharmacy'!B688&\"(\"&'MIS - Pharmacy'!D688&\")\"))","v":""},{"$f":"IF(ISBLANK('MIS - Pharmacy'!BI688), \"\", 'MIS - Pharmacy'!BI688)","v":""},{"$f":"IF(ISBLANK('MIS - Pharmacy'!U688), \"\", 'MIS - Pharmacy'!U688)","v":""},"","","","","","","",{"$f":"IF(ISBLANK('MIS - Pharmacy'!AC688),\"\",'MIS - Pharmacy'!AC688)","v":""},"",{"$f":"IF(ISBLANK('MIS - Pharmacy'!AD688),\"\",'MIS - Pharmacy'!AD688)","v":""},"","",{"$f":"IF('MIS - Pharmacy'!A688=\"\",\"\",SUM('MIS - Pharmacy'!K688+'MIS - Pharmacy'!L688))","v":""},"",{"$f":"IF('MIS - Pharmacy'!A688=\"\",\"\",('MIS - Pharmacy'!AF688+'MIS - Pharmacy'!AH688 +'MIS - Pharmacy'!AG688))","v":""},{"$f":"IF(ISBLANK('MIS - Pharmacy'!AI688),\"\",'MIS - Pharmacy'!AI688)","v":""},"","","",{"$f":"IF(ISBLANK('MIS - Pharmacy'!V688),\"\",'MIS - Pharmacy'!V688)","v":""},"","","",{"$f":"IF(ISBLANK('MIS - Pharmacy'!J688),\"\",'MIS - Pharmacy'!J688)","v":""},{"$f":"IF(ISBLANK('MIS - Pharmacy'!AY688),\"\",'MIS - Pharmacy'!AY688)","v":""},{"$f":"IF(ISBLANK('MIS - Pharmacy'!BH688),\"\",'MIS - Pharmacy'!BH688)","v":""},"",""]
[{"$f":"IF(ISBLANK('MIS - Pharmacy'!A689), \"\",'MIS - Pharmacy'!A689)","v":""},{"$f":"IF(ISBLANK('MIS - Pharmacy'!B689),\"\",('MIS - Pharmacy'!B689&\"(\"&'MIS - Pharmacy'!D689&\")\"))","v":""},{"$f":"IF(ISBLANK('MIS - Pharmacy'!BI689), \"\", 'MIS - Pharmacy'!BI689)","v":""},{"$f":"IF(ISBLANK('MIS - Pharmacy'!U689), \"\", 'MIS - Pharmacy'!U689)","v":""},"","","","","","","",{"$f":"IF(ISBLANK('MIS - Pharmacy'!AC689),\"\",'MIS - Pharmacy'!AC689)","v":""},"",{"$f":"IF(ISBLANK('MIS - Pharmacy'!AD689),\"\",'MIS - Pharmacy'!AD689)","v":""},"","",{"$f":"IF('MIS - Pharmacy'!A689=\"\",\"\",SUM('MIS - Pharmacy'!K689+'MIS - Pharmacy'!L689))","v":""},"",{"$f":"IF('MIS - Pharmacy'!A689=\"\",\"\",('MIS - Pharmacy'!AF689+'MIS - Pharmacy'!AH689 +'MIS - Pharmacy'!AG689))","v":""},{"$f":"IF(ISBLANK('MIS - Pharmacy'!AI689),\"\",'MIS - Pharmacy'!AI689)","v":""},"","","",{"$f":"IF(ISBLANK('MIS - Pharmacy'!V689),\"\",'MIS - Pharmacy'!V689)","v":""},"","","",{"$f":"IF(ISBLANK('MIS - Pharmacy'!J689),\"\",'MIS - Pharmacy'!J689)","v":""},{"$f":"IF(ISBLANK('MIS - Pharmacy'!AY689),\"\",'MIS - Pharmacy'!AY689)","v":""},{"$f":"IF(ISBLANK('MIS - Pharmacy'!BH689),\"\",'MIS - Pharmacy'!BH689)","v":""},"",""]
[{"$f":"IF(ISBLANK('MIS - Pharmacy'!A690), \"\",'MIS - Pharmacy'!A690)","v":""},{"$f":"IF(ISBLANK('MIS - Pharmacy'!B690),\"\",('MIS - Pharmacy'!B690&\"(\"&'MIS - Pharmacy'!D690&\")\"))","v":""},{"$f":"IF(ISBLANK('MIS - Pharmacy'!BI690), \"\", 'MIS - Pharmacy'!BI690)","v":""},{"$f":"IF(ISBLANK('MIS - Pharmacy'!U690), \"\", 'MIS - Pharmacy'!U690)","v":""},"","","","","","","",{"$f":"IF(ISBLANK('MIS - Pharmacy'!AC690),\"\",'MIS - Pharmacy'!AC690)","v":""},"",{"$f":"IF(ISBLANK('MIS - Pharmacy'!AD690),\"\",'MIS - Pharmacy'!AD690)","v":""},"","",{"$f":"IF('MIS - Pharmacy'!A690=\"\",\"\",SUM('MIS - Pharmacy'!K690+'MIS - Pharmacy'!L690))","v":""},"",{"$f":"IF('MIS - Pharmacy'!A690=\"\",\"\",('MIS - Pharmacy'!AF690+'MIS - Pharmacy'!AH690 +'MIS - Pharmacy'!AG690))","v":""},{"$f":"IF(ISBLANK('MIS - Pharmacy'!AI690),\"\",'MIS - Pharmacy'!AI690)","v":""},"","","",{"$f":"IF(ISBLANK('MIS - Pharmacy'!V690),\"\",'MIS - Pharmacy'!V690)","v":""},"","","",{"$f":"IF(ISBLANK('MIS - Pharmacy'!J690),\"\",'MIS - Pharmacy'!J690)","v":""},{"$f":"IF(ISBLANK('MIS - Pharmacy'!AY690),\"\",'MIS - Pharmacy'!AY690)","v":""},{"$f":"IF(ISBLANK('MIS - Pharmacy'!BH690),\"\",'MIS - Pharmacy'!BH690)","v":""},"",""]
[{"$f":"IF(ISBLANK('MIS - Pharmacy'!A691), \"\",'MIS - Pharmacy'!A691)","v":""},{"$f":"IF(ISBLANK('MIS - Pharmacy'!B691),\"\",('MIS - Pharmacy'!B691&\"(\"&'MIS - Pharmacy'!D691&\")\"))","v":""},{"$f":"IF(ISBLANK('MIS - Pharmacy'!BI691), \"\", 'MIS - Pharmacy'!BI691)","v":""},{"$f":"IF(ISBLANK('MIS - Pharmacy'!U691), \"\", 'MIS - Pharmacy'!U691)","v":""},"","","","","","","",{"$f":"IF(ISBLANK('MIS - Pharmacy'!AC691),\"\",'MIS - Pharmacy'!AC691)","v":""},"",{"$f":"IF(ISBLANK('MIS - Pharmacy'!AD691),\"\",'MIS - Pharmacy'!AD691)","v":""},"","",{"$f":"IF('MIS - Pharmacy'!A691=\"\",\"\",SUM('MIS - Pharmacy'!K691+'MIS - Pharmacy'!L691))","v":""},"",{"$f":"IF('MIS - Pharmacy'!A691=\"\",\"\",('MIS - Pharmacy'!AF691+'MIS - Pharmacy'!AH691 +'MIS - Pharmacy'!AG691))","v":""},{"$f":"IF(ISBLANK('MIS - Pharmacy'!AI691),\"\",'MIS - Pharmacy'!AI691)","v":""},"","","",{"$f":"IF(ISBLANK('MIS - Pharmacy'!V691),\"\",'MIS - Pharmacy'!V691)","v":""},"","","",{"$f":"IF(ISBLANK('MIS - Pharmacy'!J691),\"\",'MIS - Pharmacy'!J691)","v":""},{"$f":"IF(ISBLANK('MIS - Pharmacy'!AY691),\"\",'MIS - Pharmacy'!AY691)","v":""},{"$f":"IF(ISBLANK('MIS - Pharmacy'!BH691),\"\",'MIS - Pharmacy'!BH691)","v":""},"",""]
[{"$f":"IF(ISBLANK('MIS - Pharmacy'!A692), \"\",'MIS - Pharmacy'!A692)","v":""},{"$f":"IF(ISBLANK('MIS - Pharmacy'!B692),\"\",('MIS - Pharmacy'!B692&\"(\"&'MIS - Pharmacy'!D692&\")\"))","v":""},{"$f":"IF(ISBLANK('MIS - Pharmacy'!BI692), \"\", 'MIS - Pharmacy'!BI692)","v":""},{"$f":"IF(ISBLANK('MIS - Pharmacy'!U692), \"\", 'MIS - Pharmacy'!U692)","v":""},"","","","","","","",{"$f":"IF(ISBLANK('MIS - Pharmacy'!AC692),\"\",'MIS - Pharmacy'!AC692)","v":""},"",{"$f":"IF(ISBLANK('MIS - Pharmacy'!AD692),\"\",'MIS - Pharmacy'!AD692)","v":""},"","",{"$f":"IF('MIS - Pharmacy'!A692=\"\",\"\",SUM('MIS - Pharmacy'!K692+'MIS - Pharmacy'!L692))","v":""},"",{"$f":"IF('MIS - Pharmacy'!A692=\"\",\"\",('MIS - Pharmacy'!AF692+'MIS - Pharmacy'!AH692 +'MIS - Pharmacy'!AG692))","v":""},{"$f":"IF(ISBLANK('MIS - Pharmacy'!AI692),\"\",'MIS - Pharmacy'!AI692)","v":""},"","","",{"$f":"IF(ISBLANK('MIS - Pharmacy'!V692),\"\",'MIS - Pharmacy'!V692)","v":""},"","","",{"$f":"IF(ISBLANK('MIS - Pharmacy'!J692),\"\",'MIS - Pharmacy'!J692)","v":""},{"$f":"IF(ISBLANK('MIS - Pharmacy'!AY692),\"\",'MIS - Pharmacy'!AY692)","v":""},{"$f":"IF(ISBLANK('MIS - Pharmacy'!BH692),\"\",'MIS - Pharmacy'!BH692)","v":""},"",""]
[{"$f":"IF(ISBLANK('MIS - Pharmacy'!A693), \"\",'MIS - Pharmacy'!A693)","v":""},{"$f":"IF(ISBLANK('MIS - Pharmacy'!B693),\"\",('MIS - Pharmacy'!B693&\"(\"&'MIS - Pharmacy'!D693&\")\"))","v":""},{"$f":"IF(ISBLANK('MIS - Pharmacy'!BI693), \"\", 'MIS - Pharmacy'!BI693)","v":""},{"$f":"IF(ISBLANK('MIS - Pharmacy'!U693), \"\", 'MIS - Pharmacy'!U693)","v":""},"","","","","","","",{"$f":"IF(ISBLANK('MIS - Pharmacy'!AC693),\"\",'MIS - Pharmacy'!AC693)","v":""},"",{"$f":"IF(ISBLANK('MIS - Pharmacy'!AD693),\"\",'MIS - Pharmacy'!AD693)","v":""},"","",{"$f":"IF('MIS - Pharmacy'!A693=\"\",\"\",SUM('MIS - Pharmacy'!K693+'MIS - Pharmacy'!L693))","v":""},"",{"$f":"IF('MIS - Pharmacy'!A693=\"\",\"\",('MIS - Pharmacy'!AF693+'MIS - Pharmacy'!AH693 +'MIS - Pharmacy'!AG693))","v":""},{"$f":"IF(ISBLANK('MIS - Pharmacy'!AI693),\"\",'MIS - Pharmacy'!AI693)","v":""},"","","",{"$f":"IF(ISBLANK('MIS - Pharmacy'!V693),\"\",'MIS - Pharmacy'!V693)","v":""},"","","",{"$f":"IF(ISBLANK('MIS - Pharmacy'!J693),\"\",'MIS - Pharmacy'!J693)","v":""},{"$f":"IF(ISBLANK('MIS - Pharmacy'!AY693),\"\",'MIS - Pharmacy'!AY693)","v":""},{"$f":"IF(ISBLANK('MIS - Pharmacy'!BH693),\"\",'MIS - Pharmacy'!BH693)","v":""},"",""]
[{"$f":"IF(ISBLANK('MIS - Pharmacy'!A694), \"\",'MIS - Pharmacy'!A694)","v":""},{"$f":"IF(ISBLANK('MIS - Pharmacy'!B694),\"\",('MIS - Pharmacy'!B694&\"(\"&'MIS - Pharmacy'!D694&\")\"))","v":""},{"$f":"IF(ISBLANK('MIS - Pharmacy'!BI694), \"\", 'MIS - Pharmacy'!BI694)","v":""},{"$f":"IF(ISBLANK('MIS - Pharmacy'!U694), \"\", 'MIS - Pharmacy'!U694)","v":""},"","","","","","","",{"$f":"IF(ISBLANK('MIS - Pharmacy'!AC694),\"\",'MIS - Pharmacy'!AC694)","v":""},"",{"$f":"IF(ISBLANK('MIS - Pharmacy'!AD694),\"\",'MIS - Pharmacy'!AD694)","v":""},"","",{"$f":"IF('MIS - Pharmacy'!A694=\"\",\"\",SUM('MIS - Pharmacy'!K694+'MIS - Pharmacy'!L694))","v":""},"",{"$f":"IF('MIS - Pharmacy'!A694=\"\",\"\",('MIS - Pharmacy'!AF694+'MIS - Pharmacy'!AH694 +'MIS - Pharmacy'!AG694))","v":""},{"$f":"IF(ISBLANK('MIS - Pharmacy'!AI694),\"\",'MIS - Pharmacy'!AI694)","v":""},"","","",{"$f":"IF(ISBLANK('MIS - Pharmacy'!V694),\"\",'MIS - Pharmacy'!V694)","v":""},"","","",{"$f":"IF(ISBLANK('MIS - Pharmacy'!J694),\"\",'MIS - Pharmacy'!J694)","v":""},{"$f":"IF(ISBLANK('MIS - Pharmacy'!AY694),\"\",'MIS - Pharmacy'!AY694)","v":""},{"$f":"IF(ISBLANK('MIS - Pharmacy'!BH694),\"\",'MIS - Pharmacy'!BH694)","v":""},"",""]
[{"$f":"IF(ISBLANK('MIS - Pharmacy'!A695), \"\",'MIS - Pharmacy'!A695)","v":""},{"$f":"IF(ISBLANK('MIS - Pharmacy'!B695),\"\",('MIS - Pharmacy'!B695&\"(\"&'MIS - Pharmacy'!D695&\")\"))","v":""},{"$f":"IF(ISBLANK('MIS - Pharmacy'!BI695), \"\", 'MIS - Pharmacy'!BI695)","v":""},{"$f":"IF(ISBLANK('MIS - Pharmacy'!U695), \"\", 'MIS - Pharmacy'!U695)","v":""},"","","","","","","",{"$f":"IF(ISBLANK('MIS - Pharmacy'!AC695),\"\",'MIS - Pharmacy'!AC695)","v":""},"",{"$f":"IF(ISBLANK('MIS - Pharmacy'!AD695),\"\",'MIS - Pharmacy'!AD695)","v":""},"","",{"$f":"IF('MIS - Pharmacy'!A695=\"\",\"\",SUM('MIS - Pharmacy'!K695+'MIS - Pharmacy'!L695))","v":""},"",{"$f":"IF('MIS - Pharmacy'!A695=\"\",\"\",('MIS - Pharmacy'!AF695+'MIS - Pharmacy'!AH695 +'MIS - Pharmacy'!AG695))","v":""},{"$f":"IF(ISBLANK('MIS - Pharmacy'!AI695),\"\",'MIS - Pharmacy'!AI695)","v":""},"","","",{"$f":"IF(ISBLANK('MIS - Pharmacy'!V695),\"\",'MIS - Pharmacy'!V695)","v":""},"","","",{"$f":"IF(ISBLANK('MIS - Pharmacy'!J695),\"\",'MIS - Pharmacy'!J695)","v":""},{"$f":"IF(ISBLANK('MIS - Pharmacy'!AY695),\"\",'MIS - Pharmacy'!AY695)","v":""},{"$f":"IF(ISBLANK('MIS - Pharmacy'!BH695),\"\",'MIS - Pharmacy'!BH695)","v":""},"",""]
[{"$f":"IF(ISBLANK('MIS - Pharmacy'!A696), \"\",'MIS - Pharmacy'!A696)","v":""},{"$f":"IF(ISBLANK('MIS - Pharmacy'!B696),\"\",('MIS - Pharmacy'!B696&\"(\"&'MIS - Pharmacy'!D696&\")\"))","v":""},{"$f":"IF(ISBLANK('MIS - Pharmacy'!BI696), \"\", 'MIS - Pharmacy'!BI696)","v":""},{"$f":"IF(ISBLANK('MIS - Pharmacy'!U696), \"\", 'MIS - Pharmacy'!U696)","v":""},"","","","","","","",{"$f":"IF(ISBLANK('MIS - Pharmacy'!AC696),\"\",'MIS - Pharmacy'!AC696)","v":""},"",{"$f":"IF(ISBLANK('MIS - Pharmacy'!AD696),\"\",'MIS - Pharmacy'!AD696)","v":""},"","",{"$f":"IF('MIS - Pharmacy'!A696=\"\",\"\",SUM('MIS - Pharmacy'!K696+'MIS - Pharmacy'!L696))","v":""},"",{"$f":"IF('MIS - Pharmacy'!A696=\"\",\"\",('MIS - Pharmacy'!AF696+'MIS - Pharmacy'!AH696 +'MIS - Pharmacy'!AG696))","v":""},{"$f":"IF(ISBLANK('MIS - Pharmacy'!AI696),\"\",'MIS - Pharmacy'!AI696)","v":""},"","","",{"$f":"IF(ISBLANK('MIS - Pharmacy'!V696),\"\",'MIS - Pharmacy'!V696)","v":""},"","","",{"$f":"IF(ISBLANK('MIS - Pharmacy'!J696),\"\",'MIS - Pharmacy'!J696)","v":""},{"$f":"IF(ISBLANK('MIS - Pharmacy'!AY696),\"\",'MIS - Pharmacy'!AY696)","v":""},{"$f":"IF(ISBLANK('MIS - Pharmacy'!BH696),\"\",'MIS - Pharmacy'!BH696)","v":""},"",""]
[{"$f":"IF(ISBLANK('MIS - Pharmacy'!A697), \"\",'MIS - Pharmacy'!A697)","v":""},{"$f":"IF(ISBLANK('MIS - Pharmacy'!B697),\"\",('MIS - Pharmacy'!B697&\"(\"&'MIS - Pharmacy'!D697&\")\"))","v":""},{"$f":"IF(ISBLANK('MIS - Pharmacy'!BI697), \"\", 'MIS - Pharmacy'!BI697)","v":""},{"$f":"IF(ISBLANK('MIS - Pharmacy'!U697), \"\", 'MIS - Pharmacy'!U697)","v":""},"","","","","","","",{"$f":"IF(ISBLANK('MIS - Pharmacy'!AC697),\"\",'MIS - Pharmacy'!AC697)","v":""},"",{"$f":"IF(ISBLANK('MIS - Pharmacy'!AD697),\"\",'MIS - Pharmacy'!AD697)","v":""},"","",{"$f":"IF('MIS - Pharmacy'!A697=\"\",\"\",SUM('MIS - Pharmacy'!K697+'MIS - Pharmacy'!L697))","v":""},"",{"$f":"IF('MIS - Pharmacy'!A697=\"\",\"\",('MIS - Pharmacy'!AF697+'MIS - Pharmacy'!AH697 +'MIS - Pharmacy'!AG697))","v":""},{"$f":"IF(ISBLANK('MIS - Pharmacy'!AI697),\"\",'MIS - Pharmacy'!AI697)","v":""},"","","",{"$f":"IF(ISBLANK('MIS - Pharmacy'!V697),\"\",'MIS - Pharmacy'!V697)","v":""},"","","",{"$f":"IF(ISBLANK('MIS - Pharmacy'!J697),\"\",'MIS - Pharmacy'!J697)","v":""},{"$f":"IF(ISBLANK('MIS - Pharmacy'!AY697),\"\",'MIS - Pharmacy'!AY697)","v":""},{"$f":"IF(ISBLANK('MIS - Pharmacy'!BH697),\"\",'MIS - Pharmacy'!BH697)","v":""},"",""]
[{"$f":"IF(ISBLANK('MIS - Pharmacy'!A698), \"\",'MIS - Pharmacy'!A698)","v":""},{"$f":"IF(ISBLANK('MIS - Pharmacy'!B698),\"\",('MIS - Pharmacy'!B698&\"(\"&'MIS - Pharmacy'!D698&\")\"))","v":""},{"$f":"IF(ISBLANK('MIS - Pharmacy'!BI698), \"\", 'MIS - Pharmacy'!BI698)","v":""},{"$f":"IF(ISBLANK('MIS - Pharmacy'!U698), \"\", 'MIS - Pharmacy'!U698)","v":""},"","","","","","","",{"$f":"IF(ISBLANK('MIS - Pharmacy'!AC698),\"\",'MIS - Pharmacy'!AC698)","v":""},"",{"$f":"IF(ISBLANK('MIS - Pharmacy'!AD698),\"\",'MIS - Pharmacy'!AD698)","v":""},"","",{"$f":"IF('MIS - Pharmacy'!A698=\"\",\"\",SUM('MIS - Pharmacy'!K698+'MIS - Pharmacy'!L698))","v":""},"",{"$f":"IF('MIS - Pharmacy'!A698=\"\",\"\",('MIS - Pharmacy'!AF698+'MIS - Pharmacy'!AH698 +'MIS - Pharmacy'!AG698))","v":""},{"$f":"IF(ISBLANK('MIS - Pharmacy'!AI698),\"\",'MIS - Pharmacy'!AI698)","v":""},"","","",{"$f":"IF(ISBLANK('MIS - Pharmacy'!V698),\"\",'MIS - Pharmacy'!V698)","v":""},"","","",{"$f":"IF(ISBLANK('MIS - Pharmacy'!J698),\"\",'MIS - Pharmacy'!J698)","v":""},{"$f":"IF(ISBLANK('MIS - Pharmacy'!AY698),\"\",'MIS - Pharmacy'!AY698)","v":""},{"$f":"IF(ISBLANK('MIS - Pharmacy'!BH698),\"\",'MIS - Pharmacy'!BH698)","v":""},"",""]
[{"$f":"IF(ISBLANK('MIS - Pharmacy'!A699), \"\",'MIS - Pharmacy'!A699)","v":""},{"$f":"IF(ISBLANK('MIS - Pharmacy'!B699),\"\",('MIS - Pharmacy'!B699&\"(\"&'MIS - Pharmacy'!D699&\")\"))","v":""},{"$f":"IF(ISBLANK('MIS - Pharmacy'!BI699), \"\", 'MIS - Pharmacy'!BI699)","v":""},{"$f":"IF(ISBLANK('MIS - Pharmacy'!U699), \"\", 'MIS - Pharmacy'!U699)","v":""},"","","","","","","",{"$f":"IF(ISBLANK('MIS - Pharmacy'!AC699),\"\",'MIS - Pharmacy'!AC699)","v":""},"",{"$f":"IF(ISBLANK('MIS - Pharmacy'!AD699),\"\",'MIS - Pharmacy'!AD699)","v":""},"","",{"$f":"IF('MIS - Pharmacy'!A699=\"\",\"\",SUM('MIS - Pharmacy'!K699+'MIS - Pharmacy'!L699))","v":""},"",{"$f":"IF('MIS - Pharmacy'!A699=\"\",\"\",('MIS - Pharmacy'!AF699+'MIS - Pharmacy'!AH699 +'MIS - Pharmacy'!AG699))","v":""},{"$f":"IF(ISBLANK('MIS - Pharmacy'!AI699),\"\",'MIS - Pharmacy'!AI699)","v":""},"","","",{"$f":"IF(ISBLANK('MIS - Pharmacy'!V699),\"\",'MIS - Pharmacy'!V699)","v":""},"","","",{"$f":"IF(ISBLANK('MIS - Pharmacy'!J699),\"\",'MIS - Pharmacy'!J699)","v":""},{"$f":"IF(ISBLANK('MIS - Pharmacy'!AY699),\"\",'MIS - Pharmacy'!AY699)","v":""},{"$f":"IF(ISBLANK('MIS - Pharmacy'!BH699),\"\",'MIS - Pharmacy'!BH699)","v":""},"",""]
[{"$f":"IF(ISBLANK('MIS - Pharmacy'!A700), \"\",'MIS - Pharmacy'!A700)","v":""},{"$f":"IF(ISBLANK('MIS - Pharmacy'!B700),\"\",('MIS - Pharmacy'!B700&\"(\"&'MIS - Pharmacy'!D700&\")\"))","v":""},{"$f":"IF(ISBLANK('MIS - Pharmacy'!BI700), \"\", 'MIS - Pharmacy'!BI700)","v":""},{"$f":"IF(ISBLANK('MIS - Pharmacy'!U700), \"\", 'MIS - Pharmacy'!U700)","v":""},"","","","","","","",{"$f":"IF(ISBLANK('MIS - Pharmacy'!AC700),\"\",'MIS - Pharmacy'!AC700)","v":""},"",{"$f":"IF(ISBLANK('MIS - Pharmacy'!AD700),\"\",'MIS - Pharmacy'!AD700)","v":""},"","",{"$f":"IF('MIS - Pharmacy'!A700=\"\",\"\",SUM('MIS - Pharmacy'!K700+'MIS - Pharmacy'!L700))","v":""},"",{"$f":"IF('MIS - Pharmacy'!A700=\"\",\"\",('MIS - Pharmacy'!AF700+'MIS - Pharmacy'!AH700 +'MIS - Pharmacy'!AG700))","v":""},{"$f":"IF(ISBLANK('MIS - Pharmacy'!AI700),\"\",'MIS - Pharmacy'!AI700)","v":""},"","","",{"$f":"IF(ISBLANK('MIS - Pharmacy'!V700),\"\",'MIS - Pharmacy'!V700)","v":""},"","","",{"$f":"IF(ISBLANK('MIS - Pharmacy'!J700),\"\",'MIS - Pharmacy'!J700)","v":""},{"$f":"IF(ISBLANK('MIS - Pharmacy'!AY700),\"\",'MIS - Pharmacy'!AY700)","v":""},{"$f":"IF(ISBLANK('MIS - Pharmacy'!BH700),\"\",'MIS - Pharmacy'!BH700)","v":""},"",""]
[{"$f":"IF(ISBLANK('MIS - Pharmacy'!A701), \"\",'MIS - Pharmacy'!A701)","v":""},{"$f":"IF(ISBLANK('MIS - Pharmacy'!B701),\"\",('MIS - Pharmacy'!B701&\"(\"&'MIS - Pharmacy'!D701&\")\"))","v":""},{"$f":"IF(ISBLANK('MIS - Pharmacy'!BI701), \"\", 'MIS - Pharmacy'!BI701)","v":""},{"$f":"IF(ISBLANK('MIS - Pharmacy'!U701), \"\", 'MIS - Pharmacy'!U701)","v":""},"","","","","","","",{"$f":"IF(ISBLANK('MIS - Pharmacy'!AC701),\"\",'MIS - Pharmacy'!AC701)","v":""},"",{"$f":"IF(ISBLANK('MIS - Pharmacy'!AD701),\"\",'MIS - Pharmacy'!AD701)","v":""},"","",{"$f":"IF('MIS - Pharmacy'!A701=\"\",\"\",SUM('MIS - Pharmacy'!K701+'MIS - Pharmacy'!L701))","v":""},"",{"$f":"IF('MIS - Pharmacy'!A701=\"\",\"\",('MIS - Pharmacy'!AF701+'MIS - Pharmacy'!AH701 +'MIS - Pharmacy'!AG701))","v":""},{"$f":"IF(ISBLANK('MIS - Pharmacy'!AI701),\"\",'MIS - Pharmacy'!AI701)","v":""},"","","",{"$f":"IF(ISBLANK('MIS - Pharmacy'!V701),\"\",'MIS - Pharmacy'!V701)","v":""},"","","",{"$f":"IF(ISBLANK('MIS - Pharmacy'!J701),\"\",'MIS - Pharmacy'!J701)","v":""},{"$f":"IF(ISBLANK('MIS - Pharmacy'!AY701),\"\",'MIS - Pharmacy'!AY701)","v":""},{"$f":"IF(ISBLANK('MIS - Pharmacy'!BH701),\"\",'MIS - Pharmacy'!BH701)","v":""},"",""]
[{"$f":"IF(ISBLANK('MIS - Pharmacy'!A702), \"\",'MIS - Pharmacy'!A702)","v":""},{"$f":"IF(ISBLANK('MIS - Pharmacy'!B702),\"\",('MIS - Pharmacy'!B702&\"(\"&'MIS - Pharmacy'!D702&\")\"))","v":""},{"$f":"IF(ISBLANK('MIS - Pharmacy'!BI702), \"\", 'MIS - Pharmacy'!BI702)","v":""},{"$f":"IF(ISBLANK('MIS - Pharmacy'!U702), \"\", 'MIS - Pharmacy'!U702)","v":""},"","","","","","","",{"$f":"IF(ISBLANK('MIS - Pharmacy'!AC702),\"\",'MIS - Pharmacy'!AC702)","v":""},"",{"$f":"IF(ISBLANK('MIS - Pharmacy'!AD702),\"\",'MIS - Pharmacy'!AD702)","v":""},"","",{"$f":"IF('MIS - Pharmacy'!A702=\"\",\"\",SUM('MIS - Pharmacy'!K702+'MIS - Pharmacy'!L702))","v":""},"",{"$f":"IF('MIS - Pharmacy'!A702=\"\",\"\",('MIS - Pharmacy'!AF702+'MIS - Pharmacy'!AH702 +'MIS - Pharmacy'!AG702))","v":""},{"$f":"IF(ISBLANK('MIS - Pharmacy'!AI702),\"\",'MIS - Pharmacy'!AI702)","v":""},"","","",{"$f":"IF(ISBLANK('MIS - Pharmacy'!V702),\"\",'MIS - Pharmacy'!V702)","v":""},"","","",{"$f":"IF(ISBLANK('MIS - Pharmacy'!J702),\"\",'MIS - Pharmacy'!J702)","v":""},{"$f":"IF(ISBLANK('MIS - Pharmacy'!AY702),\"\",'MIS - Pharmacy'!AY702)","v":""},{"$f":"IF(ISBLANK('MIS - Pharmacy'!BH702),\"\",'MIS - Pharmacy'!BH702)","v":""},"",""]
[{"$f":"IF(ISBLANK('MIS - Pharmacy'!A703), \"\",'MIS - Pharmacy'!A703)","v":""},{"$f":"IF(ISBLANK('MIS - Pharmacy'!B703),\"\",('MIS - Pharmacy'!B703&\"(\"&'MIS - Pharmacy'!D703&\")\"))","v":""},{"$f":"IF(ISBLANK('MIS - Pharmacy'!BI703), \"\", 'MIS - Pharmacy'!BI703)","v":""},{"$f":"IF(ISBLANK('MIS - Pharmacy'!U703), \"\", 'MIS - Pharmacy'!U703)","v":""},"","","","","","","",{"$f":"IF(ISBLANK('MIS - Pharmacy'!AC703),\"\",'MIS - Pharmacy'!AC703)","v":""},"",{"$f":"IF(ISBLANK('MIS - Pharmacy'!AD703),\"\",'MIS - Pharmacy'!AD703)","v":""},"","",{"$f":"IF('MIS - Pharmacy'!A703=\"\",\"\",SUM('MIS - Pharmacy'!K703+'MIS - Pharmacy'!L703))","v":""},"",{"$f":"IF('MIS - Pharmacy'!A703=\"\",\"\",('MIS - Pharmacy'!AF703+'MIS - Pharmacy'!AH703 +'MIS - Pharmacy'!AG703))","v":""},{"$f":"IF(ISBLANK('MIS - Pharmacy'!AI703),\"\",'MIS - Pharmacy'!AI703)","v":""},"","","",{"$f":"IF(ISBLANK('MIS - Pharmacy'!V703),\"\",'MIS - Pharmacy'!V703)","v":""},"","","",{"$f":"IF(ISBLANK('MIS - Pharmacy'!J703),\"\",'MIS - Pharmacy'!J703)","v":""},{"$f":"IF(ISBLANK('MIS - Pharmacy'!AY703),\"\",'MIS - Pharmacy'!AY703)","v":""},{"$f":"IF(ISBLANK('MIS - Pharmacy'!BH703),\"\",'MIS - Pharmacy'!BH703)","v":""},"",""]
[{"$f":"IF(ISBLANK('MIS - Pharmacy'!A704), \"\",'MIS - Pharmacy'!A704)","v":""},{"$f":"IF(ISBLANK('MIS - Pharmacy'!B704),\"\",('MIS - Pharmacy'!B704&\"(\"&'MIS - Pharmacy'!D704&\")\"))","v":""},{"$f":"IF(ISBLANK('MIS - Pharmacy'!BI704), \"\", 'MIS - Pharmacy'!BI704)","v":""},{"$f":"IF(ISBLANK('MIS - Pharmacy'!U704), \"\", 'MIS - Pharmacy'!U704)","v":""},"","","","","","","",{"$f":"IF(ISBLANK('MIS - Pharmacy'!AC704),\"\",'MIS - Pharmacy'!AC704)","v":""},"",{"$f":"IF(ISBLANK('MIS - Pharmacy'!AD704),\"\",'MIS - Pharmacy'!AD704)","v":""},"","",{"$f":"IF('MIS - Pharmacy'!A704=\"\",\"\",SUM('MIS - Pharmacy'!K704+'MIS - Pharmacy'!L704))","v":""},"",{"$f":"IF('MIS - Pharmacy'!A704=\"\",\"\",('MIS - Pharmacy'!AF704+'MIS - Pharmacy'!AH704 +'MIS - Pharmacy'!AG704))","v":""},{"$f":"IF(ISBLANK('MIS - Pharmacy'!AI704),\"\",'MIS - Pharmacy'!AI704)","v":""},"","","",{"$f":"IF(ISBLANK('MIS - Pharmacy'!V704),\"\",'MIS - Pharmacy'!V704)","v":""},"","","",{"$f":"IF(ISBLANK('MIS - Pharmacy'!J704),\"\",'MIS - Pharmacy'!J704)","v":""},{"$f":"IF(ISBLANK('MIS - Pharmacy'!AY704),\"\",'MIS - Pharmacy'!AY704)","v":""},{"$f":"IF(ISBLANK('MIS - Pharmacy'!BH704),\"\",'MIS - Pharmacy'!BH704)","v":""},"",""]
[{"$f":"IF(ISBLANK('MIS - Pharmacy'!A705), \"\",'MIS - Pharmacy'!A705)","v":""},{"$f":"IF(ISBLANK('MIS - Pharmacy'!B705),\"\",('MIS - Pharmacy'!B705&\"(\"&'MIS - Pharmacy'!D705&\")\"))","v":""},{"$f":"IF(ISBLANK('MIS - Pharmacy'!BI705), \"\", 'MIS - Pharmacy'!BI705)","v":""},{"$f":"IF(ISBLANK('MIS - Pharmacy'!U705), \"\", 'MIS - Pharmacy'!U705)","v":""},"","","","","","","",{"$f":"IF(ISBLANK('MIS - Pharmacy'!AC705),\"\",'MIS - Pharmacy'!AC705)","v":""},"",{"$f":"IF(ISBLANK('MIS - Pharmacy'!AD705),\"\",'MIS - Pharmacy'!AD705)","v":""},"","",{"$f":"IF('MIS - Pharmacy'!A705=\"\",\"\",SUM('MIS - Pharmacy'!K705+'MIS - Pharmacy'!L705))","v":""},"",{"$f":"IF('MIS - Pharmacy'!A705=\"\",\"\",('MIS - Pharmacy'!AF705+'MIS - Pharmacy'!AH705 +'MIS - Pharmacy'!AG705))","v":""},{"$f":"IF(ISBLANK('MIS - Pharmacy'!AI705),\"\",'MIS - Pharmacy'!AI705)","v":""},"","","",{"$f":"IF(ISBLANK('MIS - Pharmacy'!V705),\"\",'MIS - Pharmacy'!V705)","v":""},"","","",{"$f":"IF(ISBLANK('MIS - Pharmacy'!J705),\"\",'MIS - Pharmacy'!J705)","v":""},{"$f":"IF(ISBLANK('MIS - Pharmacy'!AY705),\"\",'MIS - Pharmacy'!AY705)","v":""},{"$f":"IF(ISBLANK('MIS - Pharmacy'!BH705),\"\",'MIS - Pharmacy'!BH705)","v":""},"",""]
[{"$f":"IF(ISBLANK('MIS - Pharmacy'!A706), \"\",'MIS - Pharmacy'!A706)","v":""},{"$f":"IF(ISBLANK('MIS - Pharmacy'!B706),\"\",('MIS - Pharmacy'!B706&\"(\"&'MIS - Pharmacy'!D706&\")\"))","v":""},{"$f":"IF(ISBLANK('MIS - Pharmacy'!BI706), \"\", 'MIS - Pharmacy'!BI706)","v":""},{"$f":"IF(ISBLANK('MIS - Pharmacy'!U706), \"\", 'MIS - Pharmacy'!U706)","v":""},"","","","","","","",{"$f":"IF(ISBLANK('MIS - Pharmacy'!AC706),\"\",'MIS - Pharmacy'!AC706)","v":""},"",{"$f":"IF(ISBLANK('MIS - Pharmacy'!AD706),\"\",'MIS - Pharmacy'!AD706)","v":""},"","",{"$f":"IF('MIS - Pharmacy'!A706=\"\",\"\",SUM('MIS - Pharmacy'!K706+'MIS - Pharmacy'!L706))","v":""},"",{"$f":"IF('MIS - Pharmacy'!A706=\"\",\"\",('MIS - Pharmacy'!AF706+'MIS - Pharmacy'!AH706 +'MIS - Pharmacy'!AG706))","v":""},{"$f":"IF(ISBLANK('MIS - Pharmacy'!AI706),\"\",'MIS - Pharmacy'!AI706)","v":""},"","","",{"$f":"IF(ISBLANK('MIS - Pharmacy'!V706),\"\",'MIS - Pharmacy'!V706)","v":""},"","","",{"$f":"IF(ISBLANK('MIS - Pharmacy'!J706),\"\",'MIS - Pharmacy'!J706)","v":""},{"$f":"IF(ISBLANK('MIS - Pharmacy'!AY706),\"\",'MIS - Pharmacy'!AY706)","v":""},{"$f":"IF(ISBLANK('MIS - Pharmacy'!BH706),\"\",'MIS - Pharmacy'!BH706)","v":""},"",""]
[{"$f":"IF(ISBLANK('MIS - Pharmacy'!A707), \"\",'MIS - Pharmacy'!A707)","v":""},{"$f":"IF(ISBLANK('MIS - Pharmacy'!B707),\"\",('MIS - Pharmacy'!B707&\"(\"&'MIS - Pharmacy'!D707&\")\"))","v":""},{"$f":"IF(ISBLANK('MIS - Pharmacy'!BI707), \"\", 'MIS - Pharmacy'!BI707)","v":""},{"$f":"IF(ISBLANK('MIS - Pharmacy'!U707), \"\", 'MIS - Pharmacy'!U707)","v":""},"","","","","","","",{"$f":"IF(ISBLANK('MIS - Pharmacy'!AC707),\"\",'MIS - Pharmacy'!AC707)","v":""},"",{"$f":"IF(ISBLANK('MIS - Pharmacy'!AD707),\"\",'MIS - Pharmacy'!AD707)","v":""},"","",{"$f":"IF('MIS - Pharmacy'!A707=\"\",\"\",SUM('MIS - Pharmacy'!K707+'MIS - Pharmacy'!L707))","v":""},"",{"$f":"IF('MIS - Pharmacy'!A707=\"\",\"\",('MIS - Pharmacy'!AF707+'MIS - Pharmacy'!AH707 +'MIS - Pharmacy'!AG707))","v":""},{"$f":"IF(ISBLANK('MIS - Pharmacy'!AI707),\"\",'MIS - Pharmacy'!AI707)","v":""},"","","",{"$f":"IF(ISBLANK('MIS - Pharmacy'!V707),\"\",'MIS - Pharmacy'!V707)","v":""},"","","",{"$f":"IF(ISBLANK('MIS - Pharmacy'!J707),\"\",'MIS - Pharmacy'!J707)","v":""},{"$f":"IF(ISBLANK('MIS - Pharmacy'!AY707),\"\",'MIS - Pharmacy'!AY707)","v":""},{"$f":"IF(ISBLANK('MIS - Pharmacy'!BH707),\"\",'MIS - Pharmacy'!BH707)","v":""},"",""]
[{"$f":"IF(ISBLANK('MIS - Pharmacy'!A708), \"\",'MIS - Pharmacy'!A708)","v":""},{"$f":"IF(ISBLANK('MIS - Pharmacy'!B708),\"\",('MIS - Pharmacy'!B708&\"(\"&'MIS - Pharmacy'!D708&\")\"))","v":""},{"$f":"IF(ISBLANK('MIS - Pharmacy'!BI708), \"\", 'MIS - Pharmacy'!BI708)","v":""},{"$f":"IF(ISBLANK('MIS - Pharmacy'!U708), \"\", 'MIS - Pharmacy'!U708)","v":""},"","","","","","","",{"$f":"IF(ISBLANK('MIS - Pharmacy'!AC708),\"\",'MIS - Pharmacy'!AC708)","v":""},"",{"$f":"IF(ISBLANK('MIS - Pharmacy'!AD708),\"\",'MIS - Pharmacy'!AD708)","v":""},"","",{"$f":"IF('MIS - Pharmacy'!A708=\"\",\"\",SUM('MIS - Pharmacy'!K708+'MIS - Pharmacy'!L708))","v":""},"",{"$f":"IF('MIS - Pharmacy'!A708=\"\",\"\",('MIS - Pharmacy'!AF708+'MIS - Pharmacy'!AH708 +'MIS - Pharmacy'!AG708))","v":""},{"$f":"IF(ISBLANK('MIS - Pharmacy'!AI708),\"\",'MIS - Pharmacy'!AI708)","v":""},"","","",{"$f":"IF(ISBLANK('MIS - Pharmacy'!V708),\"\",'MIS - Pharmacy'!V708)","v":""},"","","",{"$f":"IF(ISBLANK('MIS - Pharmacy'!J708),\"\",'MIS - Pharmacy'!J708)","v":""},{"$f":"IF(ISBLANK('MIS - Pharmacy'!AY708),\"\",'MIS - Pharmacy'!AY708)","v":""},{"$f":"IF(ISBLANK('MIS - Pharmacy'!BH708),\"\",'MIS - Pharmacy'!BH708)","v":""},"",""]
[{"$f":"IF(ISBLANK('MIS - Pharmacy'!A709), \"\",'MIS - Pharmacy'!A709)","v":""},{"$f":"IF(ISBLANK('MIS - Pharmacy'!B709),\"\",('MIS - Pharmacy'!B709&\"(\"&'MIS - Pharmacy'!D709&\")\"))","v":""},{"$f":"IF(ISBLANK('MIS - Pharmacy'!BI709), \"\", 'MIS - Pharmacy'!BI709)","v":""},{"$f":"IF(ISBLANK('MIS - Pharmacy'!U709), \"\", 'MIS - Pharmacy'!U709)","v":""},"","","",{"$f":"IF(D718=\"\",\"\",IF(X718=0,0,D718/Y718))","v":""},"","","",{"$f":"IF(ISBLANK('MIS - Pharmacy'!AC709),\"\",'MIS - Pharmacy'!AC709)","v":""},"",{"$f":"IF(ISBLANK('MIS - Pharmacy'!AD709),\"\",'MIS - Pharmacy'!AD709)","v":""},"","",{"$f":"IF('MIS - Pharmacy'!A709=\"\",\"\",SUM('MIS - Pharmacy'!K709+'MIS - Pharmacy'!L709))","v":""},"",{"$f":"IF('MIS - Pharmacy'!A709=\"\",\"\",('MIS - Pharmacy'!AF709+'MIS - Pharmacy'!AH709 +'MIS - Pharmacy'!AG709))","v":""},{"$f":"IF(ISBLANK('MIS - Pharmacy'!AI709),\"\",'MIS - Pharmacy'!AI709)","v":""},"","","",{"$f":"IF(ISBLANK('MIS - Pharmacy'!V709),\"\",'MIS - Pharmacy'!V709)","v":""},"","","",{"$f":"IF(ISBLANK('MIS - Pharmacy'!J709),\"\",'MIS - Pharmacy'!J709)","v":""},{"$f":"IF(ISBLANK('MIS - Pharmacy'!AY709),\"\",'MIS - Pharmacy'!AY709)","v":""},{"$f":"IF(ISBLANK('MIS - Pharmacy'!BH709),\"\",'MIS - Pharmacy'!BH709)","v":""},"",""]
[{"$f":"IF(ISBLANK('MIS - Pharmacy'!A710), \"\",'MIS - Pharmacy'!A710)","v":""},{"$f":"IF(ISBLANK('MIS - Pharmacy'!B710),\"\",('MIS - Pharmacy'!B710&\"(\"&'MIS - Pharmacy'!D710&\")\"))","v":""},{"$f":"IF(ISBLANK('MIS - Pharmacy'!BI710), \"\", 'MIS - Pharmacy'!BI710)","v":""},{"$f":"IF(ISBLANK('MIS - Pharmacy'!U710), \"\", 'MIS - Pharmacy'!U710)","v":""},"","","","","","","",{"$f":"IF(ISBLANK('MIS - Pharmacy'!AC710),\"\",'MIS - Pharmacy'!AC710)","v":""},"",{"$f":"IF(ISBLANK('MIS - Pharmacy'!AD710),\"\",'MIS - Pharmacy'!AD710)","v":""},"","",{"$f":"IF('MIS - Pharmacy'!A710=\"\",\"\",SUM('MIS - Pharmacy'!K710+'MIS - Pharmacy'!L710))","v":""},"",{"$f":"IF('MIS - Pharmacy'!A710=\"\",\"\",('MIS - Pharmacy'!AF710+'MIS - Pharmacy'!AH710 +'MIS - Pharmacy'!AG710))","v":""},{"$f":"IF(ISBLANK('MIS - Pharmacy'!AI710),\"\",'MIS - Pharmacy'!AI710)","v":""},"","","",{"$f":"IF(ISBLANK('MIS - Pharmacy'!V710),\"\",'MIS - Pharmacy'!V710)","v":""},"","","",{"$f":"IF(ISBLANK('MIS - Pharmacy'!J710),\"\",'MIS - Pharmacy'!J710)","v":""},{"$f":"IF(ISBLANK('MIS - Pharmacy'!AY710),\"\",'MIS - Pharmacy'!AY710)","v":""},{"$f":"IF(ISBLANK('MIS - Pharmacy'!BH710),\"\",'MIS - Pharmacy'!BH710)","v":""},"",""]
[{"$f":"IF(ISBLANK('MIS - Pharmacy'!A711), \"\",'MIS - Pharmacy'!A711)","v":""},{"$f":"IF(ISBLANK('MIS - Pharmacy'!B711),\"\",('MIS - Pharmacy'!B711&\"(\"&'MIS - Pharmacy'!D711&\")\"))","v":""},{"$f":"IF(ISBLANK('MIS - Pharmacy'!BI711), \"\", 'MIS - Pharmacy'!BI711)","v":""},{"$f":"IF(ISBLANK('MIS - Pharmacy'!U711), \"\", 'MIS - Pharmacy'!U711)","v":""},"","","","","","","",{"$f":"IF(ISBLANK('MIS - Pharmacy'!AC711),\"\",'MIS - Pharmacy'!AC711)","v":""},"",{"$f":"IF(ISBLANK('MIS - Pharmacy'!AD711),\"\",'MIS - Pharmacy'!AD711)","v":""},"","",{"$f":"IF('MIS - Pharmacy'!A711=\"\",\"\",SUM('MIS - Pharmacy'!K711+'MIS - Pharmacy'!L711))","v":""},"",{"$f":"IF('MIS - Pharmacy'!A711=\"\",\"\",('MIS - Pharmacy'!AF711+'MIS - Pharmacy'!AH711 +'MIS - Pharmacy'!AG711))","v":""},{"$f":"IF(ISBLANK('MIS - Pharmacy'!AI711),\"\",'MIS - Pharmacy'!AI711)","v":""},"","","",{"$f":"IF(ISBLANK('MIS - Pharmacy'!V711),\"\",'MIS - Pharmacy'!V711)","v":""},"","","",{"$f":"IF(ISBLANK('MIS - Pharmacy'!J711),\"\",'MIS - Pharmacy'!J711)","v":""},{"$f":"IF(ISBLANK('MIS - Pharmacy'!AY711),\"\",'MIS - Pharmacy'!AY711)","v":""},{"$f":"IF(ISBLANK('MIS - Pharmacy'!BH711),\"\",'MIS - Pharmacy'!BH711)","v":""},"",""]
[{"$f":"IF(ISBLANK('MIS - Pharmacy'!A712), \"\",'MIS - Pharmacy'!A712)","v":""},{"$f":"IF(ISBLANK('MIS - Pharmacy'!B712),\"\",('MIS - Pharmacy'!B712&\"(\"&'MIS - Pharmacy'!D712&\")\"))","v":""},{"$f":"IF(ISBLANK('MIS - Pharmacy'!BI712), \"\", 'MIS - Pharmacy'!BI712)","v":""},{"$f":"IF(ISBLANK('MIS - Pharmacy'!U712), \"\", 'MIS - Pharmacy'!U712)","v":""},"","","","","","","",{"$f":"IF(ISBLANK('MIS - Pharmacy'!AC712),\"\",'MIS - Pharmacy'!AC712)","v":""},"",{"$f":"IF(ISBLANK('MIS - Pharmacy'!AD712),\"\",'MIS - Pharmacy'!AD712)","v":""},"","",{"$f":"IF('MIS - Pharmacy'!A712=\"\",\"\",SUM('MIS - Pharmacy'!K712+'MIS - Pharmacy'!L712))","v":""},"",{"$f":"IF('MIS - Pharmacy'!A712=\"\",\"\",('MIS - Pharmacy'!AF712+'MIS - Pharmacy'!AH712 +'MIS - Pharmacy'!AG712))","v":""},{"$f":"IF(ISBLANK('MIS - Pharmacy'!AI712),\"\",'MIS - Pharmacy'!AI712)","v":""},"","","",{"$f":"IF(ISBLANK('MIS - Pharmacy'!V712),\"\",'MIS - Pharmacy'!V712)","v":""},"","","",{"$f":"IF(ISBLANK('MIS - Pharmacy'!J712),\"\",'MIS - Pharmacy'!J712)","v":""},{"$f":"IF(ISBLANK('MIS - Pharmacy'!AY712),\"\",'MIS - Pharmacy'!AY712)","v":""},{"$f":"IF(ISBLANK('MIS - Pharmacy'!BH712),\"\",'MIS - Pharmacy'!BH712)","v":""},"",""]
[{"$f":"IF(ISBLANK('MIS - Pharmacy'!A713), \"\",'MIS - Pharmacy'!A713)","v":""},{"$f":"IF(ISBLANK('MIS - Pharmacy'!B713),\"\",('MIS - Pharmacy'!B713&\"(\"&'MIS - Pharmacy'!D713&\")\"))","v":""},{"$f":"IF(ISBLANK('MIS - Pharmacy'!BI713), \"\", 'MIS - Pharmacy'!BI713)","v":""},{"$f":"IF(ISBLANK('MIS - Pharmacy'!U713), \"\", 'MIS - Pharmacy'!U713)","v":""},"","","","","","","",{"$f":"IF(ISBLANK('MIS - Pharmacy'!AC713),\"\",'MIS - Pharmacy'!AC713)","v":""},"",{"$f":"IF(ISBLANK('MIS - Pharmacy'!AD713),\"\",'MIS - Pharmacy'!AD713)","v":""},"","",{"$f":"IF('MIS - Pharmacy'!A713=\"\",\"\",SUM('MIS - Pharmacy'!K713+'MIS - Pharmacy'!L713))","v":""},"",{"$f":"IF('MIS - Pharmacy'!A713=\"\",\"\",('MIS - Pharmacy'!AF713+'MIS - Pharmacy'!AH713 +'MIS - Pharmacy'!AG713))","v":""},{"$f":"IF(ISBLANK('MIS - Pharmacy'!AI713),\"\",'MIS - Pharmacy'!AI713)","v":""},"","","",{"$f":"IF(ISBLANK('MIS - Pharmacy'!V713),\"\",'MIS - Pharmacy'!V713)","v":""},"","","",{"$f":"IF(ISBLANK('MIS - Pharmacy'!J713),\"\",'MIS - Pharmacy'!J713)","v":""},{"$f":"IF(ISBLANK('MIS - Pharmacy'!AY713),\"\",'MIS - Pharmacy'!AY713)","v":""},{"$f":"IF(ISBLANK('MIS - Pharmacy'!BH713),\"\",'MIS - Pharmacy'!BH713)","v":""},"",""]
[{"$f":"IF(ISBLANK('MIS - Pharmacy'!A714), \"\",'MIS - Pharmacy'!A714)","v":""},{"$f":"IF(ISBLANK('MIS - Pharmacy'!B714),\"\",('MIS - Pharmacy'!B714&\"(\"&'MIS - Pharmacy'!D714&\")\"))","v":""},{"$f":"IF(ISBLANK('MIS - Pharmacy'!BI714), \"\", 'MIS - Pharmacy'!BI714)","v":""},{"$f":"IF(ISBLANK('MIS - Pharmacy'!U714), \"\", 'MIS - Pharmacy'!U714)","v":""},"","","","","","","",{"$f":"IF(ISBLANK('MIS - Pharmacy'!AC714),\"\",'MIS - Pharmacy'!AC714)","v":""},"",{"$f":"IF(ISBLANK('MIS - Pharmacy'!AD714),\"\",'MIS - Pharmacy'!AD714)","v":""},"","",{"$f":"IF('MIS - Pharmacy'!A714=\"\",\"\",SUM('MIS - Pharmacy'!K714+'MIS - Pharmacy'!L714))","v":""},"",{"$f":"IF('MIS - Pharmacy'!A714=\"\",\"\",('MIS - Pharmacy'!AF714+'MIS - Pharmacy'!AH714 +'MIS - Pharmacy'!AG714))","v":""},{"$f":"IF(ISBLANK('MIS - Pharmacy'!AI714),\"\",'MIS - Pharmacy'!AI714)","v":""},"","","",{"$f":"IF(ISBLANK('MIS - Pharmacy'!V714),\"\",'MIS - Pharmacy'!V714)","v":""},"","","",{"$f":"IF(ISBLANK('MIS - Pharmacy'!J714),\"\",'MIS - Pharmacy'!J714)","v":""},{"$f":"IF(ISBLANK('MIS - Pharmacy'!AY714),\"\",'MIS - Pharmacy'!AY714)","v":""},{"$f":"IF(ISBLANK('MIS - Pharmacy'!BH714),\"\",'MIS - Pharmacy'!BH714)","v":""},"",""]
[{"$f":"IF(ISBLANK('MIS - Pharmacy'!A715), \"\",'MIS - Pharmacy'!A715)","v":""},{"$f":"IF(ISBLANK('MIS - Pharmacy'!B715),\"\",('MIS - Pharmacy'!B715&\"(\"&'MIS - Pharmacy'!D715&\")\"))","v":""},{"$f":"IF(ISBLANK('MIS - Pharmacy'!BI715), \"\", 'MIS - Pharmacy'!BI715)","v":""},{"$f":"IF(ISBLANK('MIS - Pharmacy'!U715), \"\", 'MIS - Pharmacy'!U715)","v":""},"","","","","","","",{"$f":"IF(ISBLANK('MIS - Pharmacy'!AC715),\"\",'MIS - Pharmacy'!AC715)","v":""},"",{"$f":"IF(ISBLANK('MIS - Pharmacy'!AD715),\"\",'MIS - Pharmacy'!AD715)","v":""},"","",{"$f":"IF('MIS - Pharmacy'!A715=\"\",\"\",SUM('MIS - Pharmacy'!K715+'MIS - Pharmacy'!L715))","v":""},"",{"$f":"IF('MIS - Pharmacy'!A715=\"\",\"\",('MIS - Pharmacy'!AF715+'MIS - Pharmacy'!AH715 +'MIS - Pharmacy'!AG715))","v":""},{"$f":"IF(ISBLANK('MIS - Pharmacy'!AI715),\"\",'MIS - Pharmacy'!AI715)","v":""},"","","",{"$f":"IF(ISBLANK('MIS - Pharmacy'!V715),\"\",'MIS - Pharmacy'!V715)","v":""},"","","",{"$f":"IF(ISBLANK('MIS - Pharmacy'!J715),\"\",'MIS - Pharmacy'!J715)","v":""},{"$f":"IF(ISBLANK('MIS - Pharmacy'!AY715),\"\",'MIS - Pharmacy'!AY715)","v":""},{"$f":"IF(ISBLANK('MIS - Pharmacy'!BH715),\"\",'MIS - Pharmacy'!BH715)","v":""},"",""]
[{"$f":"IF(ISBLANK('MIS - Pharmacy'!A716), \"\",'MIS - Pharmacy'!A716)","v":""},{"$f":"IF(ISBLANK('MIS - Pharmacy'!B716),\"\",('MIS - Pharmacy'!B716&\"(\"&'MIS - Pharmacy'!D716&\")\"))","v":""},{"$f":"IF(ISBLANK('MIS - Pharmacy'!BI716), \"\", 'MIS - Pharmacy'!BI716)","v":""},{"$f":"IF(ISBLANK('MIS - Pharmacy'!U716), \"\", 'MIS - Pharmacy'!U716)","v":""},"","","","","","","",{"$f":"IF(ISBLANK('MIS - Pharmacy'!AC716),\"\",'MIS - Pharmacy'!AC716)","v":""},"",{"$f":"IF(ISBLANK('MIS - Pharmacy'!AD716),\"\",'MIS - Pharmacy'!AD716)","v":""},"","",{"$f":"IF('MIS - Pharmacy'!A716=\"\",\"\",SUM('MIS - Pharmacy'!K716+'MIS - Pharmacy'!L716))","v":""},"",{"$f":"IF('MIS - Pharmacy'!A716=\"\",\"\",('MIS - Pharmacy'!AF716+'MIS - Pharmacy'!AH716 +'MIS - Pharmacy'!AG716))","v":""},{"$f":"IF(ISBLANK('MIS - Pharmacy'!AI716),\"\",'MIS - Pharmacy'!AI716)","v":""},"","","",{"$f":"IF(ISBLANK('MIS - Pharmacy'!V716),\"\",'MIS - Pharmacy'!V716)","v":""},"","","",{"$f":"IF(ISBLANK('MIS - Pharmacy'!J716),\"\",'MIS - Pharmacy'!J716)","v":""},{"$f":"IF(ISBLANK('MIS - Pharmacy'!AY716),\"\",'MIS - Pharmacy'!AY716)","v":""},{"$f":"IF(ISBLANK('MIS - Pharmacy'!BH716),\"\",'MIS - Pharmacy'!BH716)","v":""},"",""]
[{"$f":"IF(ISBLANK('MIS - Pharmacy'!A717), \"\",'MIS - Pharmacy'!A717)","v":""},{"$f":"IF(ISBLANK('MIS - Pharmacy'!B717),\"\",('MIS - Pharmacy'!B717&\"(\"&'MIS - Pharmacy'!D717&\")\"))","v":""},{"$f":"IF(ISBLANK('MIS - Pharmacy'!BI717), \"\", 'MIS - Pharmacy'!BI717)","v":""},{"$f":"IF(ISBLANK('MIS - Pharmacy'!U717), \"\", 'MIS - Pharmacy'!U717)","v":""},"","","","","","","",{"$f":"IF(ISBLANK('MIS - Pharmacy'!AC717),\"\",'MIS - Pharmacy'!AC717)","v":""},"",{"$f":"IF(ISBLANK('MIS - Pharmacy'!AD717),\"\",'MIS - Pharmacy'!AD717)","v":""},"","",{"$f":"IF('MIS - Pharmacy'!A717=\"\",\"\",SUM('MIS - Pharmacy'!K717+'MIS - Pharmacy'!L717))","v":""},"",{"$f":"IF('MIS - Pharmacy'!A717=\"\",\"\",('MIS - Pharmacy'!AF717+'MIS - Pharmacy'!AH717 +'MIS - Pharmacy'!AG717))","v":""},{"$f":"IF(ISBLANK('MIS - Pharmacy'!AI717),\"\",'MIS - Pharmacy'!AI717)","v":""},"","","",{"$f":"IF(ISBLANK('MIS - Pharmacy'!V717),\"\",'MIS - Pharmacy'!V717)","v":""},"","","",{"$f":"IF(ISBLANK('MIS - Pharmacy'!J717),\"\",'MIS - Pharmacy'!J717)","v":""},{"$f":"IF(ISBLANK('MIS - Pharmacy'!AY717),\"\",'MIS - Pharmacy'!AY717)","v":""},{"$f":"IF(ISBLANK('MIS - Pharmacy'!BH717),\"\",'MIS - Pharmacy'!BH717)","v":""},"",""]
[{"$f":"IF(ISBLANK('MIS - Pharmacy'!A718), \"\",'MIS - Pharmacy'!A718)","v":""},{"$f":"IF(ISBLANK('MIS - Pharmacy'!B718),\"\",('MIS - Pharmacy'!B718&\"(\"&'MIS - Pharmacy'!D718&\")\"))","v":""},{"$f":"IF(ISBLANK('MIS - Pharmacy'!BI718), \"\", 'MIS - Pharmacy'!BI718)","v":""},{"$f":"IF(ISBLANK('MIS - Pharmacy'!U718), \"\", 'MIS - Pharmacy'!U718)","v":""},"","","","","","","",{"$f":"IF(ISBLANK('MIS - Pharmacy'!AC718),\"\",'MIS - Pharmacy'!AC718)","v":""},"",{"$f":"IF(ISBLANK('MIS - Pharmacy'!AD718),\"\",'MIS - Pharmacy'!AD718)","v":""},"","",{"$f":"IF('MIS - Pharmacy'!A718=\"\",\"\",SUM('MIS - Pharmacy'!K718+'MIS - Pharmacy'!L718))","v":""},"",{"$f":"IF('MIS - Pharmacy'!A718=\"\",\"\",('MIS - Pharmacy'!AF718+'MIS - Pharmacy'!AH718 +'MIS - Pharmacy'!AG718))","v":""},{"$f":"IF(ISBLANK('MIS - Pharmacy'!AI718),\"\",'MIS - Pharmacy'!AI718)","v":""},"","","",{"$f":"IF(ISBLANK('MIS - Pharmacy'!V718),\"\",'MIS - Pharmacy'!V718)","v":""},"","","",{"$f":"IF(ISBLANK('MIS - Pharmacy'!J718),\"\",'MIS - Pharmacy'!J718)","v":""},{"$f":"IF(ISBLANK('MIS - Pharmacy'!AY718),\"\",'MIS - Pharmacy'!AY718)","v":""},{"$f":"IF(ISBLANK('MIS - Pharmacy'!BH718),\"\",'MIS - Pharmacy'!BH718)","v":""},"",""]
[{"$f":"IF(ISBLANK('MIS - Pharmacy'!A719), \"\",'MIS - Pharmacy'!A719)","v":""},{"$f":"IF(ISBLANK('MIS - Pharmacy'!B719),\"\",('MIS - Pharmacy'!B719&\"(\"&'MIS - Pharmacy'!D719&\")\"))","v":""},{"$f":"IF(ISBLANK('MIS - Pharmacy'!BI719), \"\", 'MIS - Pharmacy'!BI719)","v":""},{"$f":"IF(ISBLANK('MIS - Pharmacy'!U719), \"\", 'MIS - Pharmacy'!U719)","v":""},{"$f":"IF(D728=\"\",\"\",IF(D728<=D$9,\"Lower Outlier\",IF(D728<=D$5,\"Below Average\",IF(D728<=D$6,\"Lower Quartile Range\",IF(D728<=D$7,\"Upper Quartile Range\",IF(D728<=D$10,\"Above Average\",\"Upper Outlier\"))))))","v":""},{"$f":"IF(D728=\"\",\"\",D728*12)","v":""},{"$f":"IF(Q728=\"\",\"\",IF(Q728 = 0, 0, D728/Q728*1000))","v":""},"",{"$f":"IF(A728=\"\",\"\",IF(D728=0,0,(D728*0.3)/Y728))","v":""},{"$f":"IF(D728=0,0,IF(D728=\"\",\"\",D728/Q728))","v":""},{"$f":"IF(D728=0,0,IF(D728=\"\",\"\",D728/X728))","v":""},{"$f":"IF(ISBLANK('MIS - Pharmacy'!AC719),\"\",'MIS - Pharmacy'!AC719)","v":""},{"$f":"IF(L728=\"\",\"\",IF(L728<=L$9,\"Lower Outlier\",IF(L728<=L$5,\"Below Average\",IF(L728<=L$6,\"Lower Quartile Range\",IF(L728<=L$7,\"Upper Quartile Range\",IF(L728<=L$10,\"Above Average\",\"Upper Outlier\"))))))","v":""},{"$f":"IF(ISBLANK('MIS - Pharmacy'!AD719),\"\",'MIS - Pharmacy'!AD719)","v":""},{"$f":"IF(N728=\"\",\"\",IF(N728=0,0,L728/N728*1000))","v":""},{"$f":"IF(L728=\"\",\"\",IF(X728=0,0,L728/X728))","v":""},{"$f":"IF('MIS - Pharmacy'!A719=\"\",\"\",SUM('MIS - Pharmacy'!K719+'MIS - Pharmacy'!L719))","v":""},{"$f":"IF(Q728=\"\",\"\",IF(Q728<=Q$9,\"Lower Outlier\",IF(Q728<=Q$5,\"Below Average\",IF(Q728<=Q$6,\"Lower Quartile Range\",IF(Q728<=Q$7,\"Upper Quartile Range\",IF(Q728<=Q$10,\"Above Average\",\"Upper Outlier\"))))))","v":""},{"$f":"IF('MIS - Pharmacy'!A719=\"\",\"\",('MIS - Pharmacy'!AF719+'MIS - Pharmacy'!AH719 +'MIS - Pharmacy'!AG719))","v":""},{"$f":"IF(ISBLANK('MIS - Pharmacy'!AI719),\"\",'MIS - Pharmacy'!AI719)","v":""},{"$f":"IF(T728=\"\",\"\",IF(T728<=T$9,\"Lower Outlier\",IF(T728<=T$5,\"Below Average\",IF(T728<=T$6,\"Lower Quartile Range\",IF(T728<=T$7,\"Upper Quartile Range\",IF(T728<=T$10,\"Above Average\",\"Upper Outlier\"))))))","v":""},{"$f":"IF(A728=\"\",\"\",IF(T728=0,0,T728/Q728*1000))","v":""},{"$f":"IF(V728=\"\",\"\",IF(S728 >0,(T728/S728*1000),0))","v":""},{"$f":"IF(ISBLANK('MIS - Pharmacy'!V719),\"\",'MIS - Pharmacy'!V719)","v":""},{"$f":"IF(X728=\"\",\"\",(X728/7)*$Y$3)","v":""},{"$f":"IF(X728=\"\",\"\",IF(X728<=X$9,\"Lower Outlier\",IF(X728<=X$5,\"Below Average\",IF(X728<=X$6,\"Lower Quartile Range\",IF(X728<=X$7,\"Upper Quartile Range\",IF(X728<=X$10,\"Above Average\",\"Upper Outlier\"))))))","v":""},{"$f":"IF(A728=\"\",\"\",IF(X728=0,0,Y728/Q728*1000))","v":""},{"$f":"IF(ISBLANK('MIS - Pharmacy'!J719),\"\",'MIS - Pharmacy'!J719)","v":""},{"$f":"IF(ISBLANK('MIS - Pharmacy'!AY719),\"\",'MIS - Pharmacy'!AY719)","v":""},{"$f":"IF(ISBLANK('MIS - Pharmacy'!BH719),\"\",'MIS - Pharmacy'!BH719)","v":""},{"$f":"IF(A728=\"\",\"\",D728+L728)","v":""},{"$f":"IF(A728=\"\",\"\",IF(Y728=0,0,(AE728/Y728)*100))","v":""}]
[{"$f":"IF(ISBLANK('MIS - Pharmacy'!A720), \"\",'MIS - Pharmacy'!A720)","v":""},{"$f":"IF(ISBLANK('MIS - Pharmacy'!B720),\"\",('MIS - Pharmacy'!B720&\"(\"&'MIS - Pharmacy'!D720&\")\"))","v":""},{"$f":"IF(ISBLANK('MIS - Pharmacy'!BI720), \"\", 'MIS - Pharmacy'!BI720)","v":""},{"$f":"IF(ISBLANK('MIS - Pharmacy'!U720), \"\", 'MIS - Pharmacy'!U720)","v":""},"","","","","","","",{"$f":"IF(ISBLANK('MIS - Pharmacy'!AC720),\"\",'MIS - Pharmacy'!AC720)","v":""},"",{"$f":"IF(ISBLANK('MIS - Pharmacy'!AD720),\"\",'MIS - Pharmacy'!AD720)","v":""},"","",{"$f":"IF('MIS - Pharmacy'!A720=\"\",\"\",SUM('MIS - Pharmacy'!K720+'MIS - Pharmacy'!L720))","v":""},"",{"$f":"IF('MIS - Pharmacy'!A720=\"\",\"\",('MIS - Pharmacy'!AF720+'MIS - Pharmacy'!AH720 +'MIS - Pharmacy'!AG720))","v":""},{"$f":"IF(ISBLANK('MIS - Pharmacy'!AI720),\"\",'MIS - Pharmacy'!AI720)","v":""},"","","",{"$f":"IF(ISBLANK('MIS - Pharmacy'!V720),\"\",'MIS - Pharmacy'!V720)","v":""},"","","",{"$f":"IF(ISBLANK('MIS - Pharmacy'!J720),\"\",'MIS - Pharmacy'!J720)","v":""},{"$f":"IF(ISBLANK('MIS - Pharmacy'!AY720),\"\",'MIS - Pharmacy'!AY720)","v":""},{"$f":"IF(ISBLANK('MIS - Pharmacy'!BH720),\"\",'MIS - Pharmacy'!BH720)","v":""},"",""]
[{"$f":"IF(ISBLANK('MIS - Pharmacy'!A721), \"\",'MIS - Pharmacy'!A721)","v":""},{"$f":"IF(ISBLANK('MIS - Pharmacy'!B721),\"\",('MIS - Pharmacy'!B721&\"(\"&'MIS - Pharmacy'!D721&\")\"))","v":""},{"$f":"IF(ISBLANK('MIS - Pharmacy'!BI721), \"\", 'MIS - Pharmacy'!BI721)","v":""},{"$f":"IF(ISBLANK('MIS - Pharmacy'!U721), \"\", 'MIS - Pharmacy'!U721)","v":""},"","","","","","","",{"$f":"IF(ISBLANK('MIS - Pharmacy'!AC721),\"\",'MIS - Pharmacy'!AC721)","v":""},"",{"$f":"IF(ISBLANK('MIS - Pharmacy'!AD721),\"\",'MIS - Pharmacy'!AD721)","v":""},"","",{"$f":"IF('MIS - Pharmacy'!A721=\"\",\"\",SUM('MIS - Pharmacy'!K721+'MIS - Pharmacy'!L721))","v":""},"",{"$f":"IF('MIS - Pharmacy'!A721=\"\",\"\",('MIS - Pharmacy'!AF721+'MIS - Pharmacy'!AH721 +'MIS - Pharmacy'!AG721))","v":""},{"$f":"IF(ISBLANK('MIS - Pharmacy'!AI721),\"\",'MIS - Pharmacy'!AI721)","v":""},"","","",{"$f":"IF(ISBLANK('MIS - Pharmacy'!V721),\"\",'MIS - Pharmacy'!V721)","v":""},"","","",{"$f":"IF(ISBLANK('MIS - Pharmacy'!J721),\"\",'MIS - Pharmacy'!J721)","v":""},{"$f":"IF(ISBLANK('MIS - Pharmacy'!AY721),\"\",'MIS - Pharmacy'!AY721)","v":""},{"$f":"IF(ISBLANK('MIS - Pharmacy'!BH721),\"\",'MIS - Pharmacy'!BH721)","v":""},"",""]
[{"$f":"IF(ISBLANK('MIS - Pharmacy'!A722), \"\",'MIS - Pharmacy'!A722)","v":""},{"$f":"IF(ISBLANK('MIS - Pharmacy'!B722),\"\",('MIS - Pharmacy'!B722&\"(\"&'MIS - Pharmacy'!D722&\")\"))","v":""},{"$f":"IF(ISBLANK('MIS - Pharmacy'!BI722), \"\", 'MIS - Pharmacy'!BI722)","v":""},{"$f":"IF(ISBLANK('MIS - Pharmacy'!U722), \"\", 'MIS - Pharmacy'!U722)","v":""},"","","","","","","",{"$f":"IF(ISBLANK('MIS - Pharmacy'!AC722),\"\",'MIS - Pharmacy'!AC722)","v":""},"",{"$f":"IF(ISBLANK('MIS - Pharmacy'!AD722),\"\",'MIS - Pharmacy'!AD722)","v":""},"","",{"$f":"IF('MIS - Pharmacy'!A722=\"\",\"\",SUM('MIS - Pharmacy'!K722+'MIS - Pharmacy'!L722))","v":""},"",{"$f":"IF('MIS - Pharmacy'!A722=\"\",\"\",('MIS - Pharmacy'!AF722+'MIS - Pharmacy'!AH722 +'MIS - Pharmacy'!AG722))","v":""},{"$f":"IF(ISBLANK('MIS - Pharmacy'!AI722),\"\",'MIS - Pharmacy'!AI722)","v":""},"","","",{"$f":"IF(ISBLANK('MIS - Pharmacy'!V722),\"\",'MIS - Pharmacy'!V722)","v":""},"","","",{"$f":"IF(ISBLANK('MIS - Pharmacy'!J722),\"\",'MIS - Pharmacy'!J722)","v":""},{"$f":"IF(ISBLANK('MIS - Pharmacy'!AY722),\"\",'MIS - Pharmacy'!AY722)","v":""},{"$f":"IF(ISBLANK('MIS - Pharmacy'!BH722),\"\",'MIS - Pharmacy'!BH722)","v":""},"",""]
[{"$f":"IF(ISBLANK('MIS - Pharmacy'!A723), \"\",'MIS - Pharmacy'!A723)","v":""},{"$f":"IF(ISBLANK('MIS - Pharmacy'!B723),\"\",('MIS - Pharmacy'!B723&\"(\"&'MIS - Pharmacy'!D723&\")\"))","v":""},{"$f":"IF(ISBLANK('MIS - Pharmacy'!BI723), \"\", 'MIS - Pharmacy'!BI723)","v":""},{"$f":"IF(ISBLANK('MIS - Pharmacy'!U723), \"\", 'MIS - Pharmacy'!U723)","v":""},"","","","","","","",{"$f":"IF(ISBLANK('MIS - Pharmacy'!AC723),\"\",'MIS - Pharmacy'!AC723)","v":""},"",{"$f":"IF(ISBLANK('MIS - Pharmacy'!AD723),\"\",'MIS - Pharmacy'!AD723)","v":""},"","",{"$f":"IF('MIS - Pharmacy'!A723=\"\",\"\",SUM('MIS - Pharmacy'!K723+'MIS - Pharmacy'!L723))","v":""},"",{"$f":"IF('MIS - Pharmacy'!A723=\"\",\"\",('MIS - Pharmacy'!AF723+'MIS - Pharmacy'!AH723 +'MIS - Pharmacy'!AG723))","v":""},{"$f":"IF(ISBLANK('MIS - Pharmacy'!AI723),\"\",'MIS - Pharmacy'!AI723)","v":""},"","","",{"$f":"IF(ISBLANK('MIS - Pharmacy'!V723),\"\",'MIS - Pharmacy'!V723)","v":""},"","","",{"$f":"IF(ISBLANK('MIS - Pharmacy'!J723),\"\",'MIS - Pharmacy'!J723)","v":""},{"$f":"IF(ISBLANK('MIS - Pharmacy'!AY723),\"\",'MIS - Pharmacy'!AY723)","v":""},{"$f":"IF(ISBLANK('MIS - Pharmacy'!BH723),\"\",'MIS - Pharmacy'!BH723)","v":""},"",""]
[{"$f":"IF(ISBLANK('MIS - Pharmacy'!A724), \"\",'MIS - Pharmacy'!A724)","v":""},{"$f":"IF(ISBLANK('MIS - Pharmacy'!B724),\"\",('MIS - Pharmacy'!B724&\"(\"&'MIS - Pharmacy'!D724&\")\"))","v":""},{"$f":"IF(ISBLANK('MIS - Pharmacy'!BI724), \"\", 'MIS - Pharmacy'!BI724)","v":""},{"$f":"IF(ISBLANK('MIS - Pharmacy'!U724), \"\", 'MIS - Pharmacy'!U724)","v":""},"","","","","","","",{"$f":"IF(ISBLANK('MIS - Pharmacy'!AC724),\"\",'MIS - Pharmacy'!AC724)","v":""},"",{"$f":"IF(ISBLANK('MIS - Pharmacy'!AD724),\"\",'MIS - Pharmacy'!AD724)","v":""},"","",{"$f":"IF('MIS - Pharmacy'!A724=\"\",\"\",SUM('MIS - Pharmacy'!K724+'MIS - Pharmacy'!L724))","v":""},"",{"$f":"IF('MIS - Pharmacy'!A724=\"\",\"\",('MIS - Pharmacy'!AF724+'MIS - Pharmacy'!AH724 +'MIS - Pharmacy'!AG724))","v":""},{"$f":"IF(ISBLANK('MIS - Pharmacy'!AI724),\"\",'MIS - Pharmacy'!AI724)","v":""},"","","",{"$f":"IF(ISBLANK('MIS - Pharmacy'!V724),\"\",'MIS - Pharmacy'!V724)","v":""},"","","",{"$f":"IF(ISBLANK('MIS - Pharmacy'!J724),\"\",'MIS - Pharmacy'!J724)","v":""},{"$f":"IF(ISBLANK('MIS - Pharmacy'!AY724),\"\",'MIS - Pharmacy'!AY724)","v":""},{"$f":"IF(ISBLANK('MIS - Pharmacy'!BH724),\"\",'MIS - Pharmacy'!BH724)","v":""},"",""]
[{"$f":"IF(ISBLANK('MIS - Pharmacy'!A725), \"\",'MIS - Pharmacy'!A725)","v":""},{"$f":"IF(ISBLANK('MIS - Pharmacy'!B725),\"\",('MIS - Pharmacy'!B725&\"(\"&'MIS - Pharmacy'!D725&\")\"))","v":""},{"$f":"IF(ISBLANK('MIS - Pharmacy'!BI725), \"\", 'MIS - Pharmacy'!BI725)","v":""},{"$f":"IF(ISBLANK('MIS - Pharmacy'!U725), \"\", 'MIS - Pharmacy'!U725)","v":""},"","","","","","","",{"$f":"IF(ISBLANK('MIS - Pharmacy'!AC725),\"\",'MIS - Pharmacy'!AC725)","v":""},"",{"$f":"IF(ISBLANK('MIS - Pharmacy'!AD725),\"\",'MIS - Pharmacy'!AD725)","v":""},"","",{"$f":"IF('MIS - Pharmacy'!A725=\"\",\"\",SUM('MIS - Pharmacy'!K725+'MIS - Pharmacy'!L725))","v":""},"",{"$f":"IF('MIS - Pharmacy'!A725=\"\",\"\",('MIS - Pharmacy'!AF725+'MIS - Pharmacy'!AH725 +'MIS - Pharmacy'!AG725))","v":""},{"$f":"IF(ISBLANK('MIS - Pharmacy'!AI725),\"\",'MIS - Pharmacy'!AI725)","v":""},"","","",{"$f":"IF(ISBLANK('MIS - Pharmacy'!V725),\"\",'MIS - Pharmacy'!V725)","v":""},"","","",{"$f":"IF(ISBLANK('MIS - Pharmacy'!J725),\"\",'MIS - Pharmacy'!J725)","v":""},{"$f":"IF(ISBLANK('MIS - Pharmacy'!AY725),\"\",'MIS - Pharmacy'!AY725)","v":""},{"$f":"IF(ISBLANK('MIS - Pharmacy'!BH725),\"\",'MIS - Pharmacy'!BH725)","v":""},"",""]
[{"$f":"IF(ISBLANK('MIS - Pharmacy'!A726), \"\",'MIS - Pharmacy'!A726)","v":""},{"$f":"IF(ISBLANK('MIS - Pharmacy'!B726),\"\",('MIS - Pharmacy'!B726&\"(\"&'MIS - Pharmacy'!D726&\")\"))","v":""},{"$f":"IF(ISBLANK('MIS - Pharmacy'!BI726), \"\", 'MIS - Pharmacy'!BI726)","v":""},{"$f":"IF(ISBLANK('MIS - Pharmacy'!U726), \"\", 'MIS - Pharmacy'!U726)","v":""},"","","","","","","",{"$f":"IF(ISBLANK('MIS - Pharmacy'!AC726),\"\",'MIS - Pharmacy'!AC726)","v":""},"",{"$f":"IF(ISBLANK('MIS - Pharmacy'!AD726),\"\",'MIS - Pharmacy'!AD726)","v":""},"","",{"$f":"IF('MIS - Pharmacy'!A726=\"\",\"\",SUM('MIS - Pharmacy'!K726+'MIS - Pharmacy'!L726))","v":""},"",{"$f":"IF('MIS - Pharmacy'!A726=\"\",\"\",('MIS - Pharmacy'!AF726+'MIS - Pharmacy'!AH726 +'MIS - Pharmacy'!AG726))","v":""},{"$f":"IF(ISBLANK('MIS - Pharmacy'!AI726),\"\",'MIS - Pharmacy'!AI726)","v":""},"","","",{"$f":"IF(ISBLANK('MIS - Pharmacy'!V726),\"\",'MIS - Pharmacy'!V726)","v":""},"","","",{"$f":"IF(ISBLANK('MIS - Pharmacy'!J726),\"\",'MIS - Pharmacy'!J726)","v":""},{"$f":"IF(ISBLANK('MIS - Pharmacy'!AY726),\"\",'MIS - Pharmacy'!AY726)","v":""},{"$f":"IF(ISBLANK('MIS - Pharmacy'!BH726),\"\",'MIS - Pharmacy'!BH726)","v":""},"",""]
[{"$f":"IF(ISBLANK('MIS - Pharmacy'!A727), \"\",'MIS - Pharmacy'!A727)","v":""},{"$f":"IF(ISBLANK('MIS - Pharmacy'!B727),\"\",('MIS - Pharmacy'!B727&\"(\"&'MIS - Pharmacy'!D727&\")\"))","v":""},{"$f":"IF(ISBLANK('MIS - Pharmacy'!BI727), \"\", 'MIS - Pharmacy'!BI727)","v":""},{"$f":"IF(ISBLANK('MIS - Pharmacy'!U727), \"\", 'MIS - Pharmacy'!U727)","v":""},"","","","","","","",{"$f":"IF(ISBLANK('MIS - Pharmacy'!AC727),\"\",'MIS - Pharmacy'!AC727)","v":""},"",{"$f":"IF(ISBLANK('MIS - Pharmacy'!AD727),\"\",'MIS - Pharmacy'!AD727)","v":""},"","",{"$f":"IF('MIS - Pharmacy'!A727=\"\",\"\",SUM('MIS - Pharmacy'!K727+'MIS - Pharmacy'!L727))","v":""},"",{"$f":"IF('MIS - Pharmacy'!A727=\"\",\"\",('MIS - Pharmacy'!AF727+'MIS - Pharmacy'!AH727 +'MIS - Pharmacy'!AG727))","v":""},{"$f":"IF(ISBLANK('MIS - Pharmacy'!AI727),\"\",'MIS - Pharmacy'!AI727)","v":""},"","","",{"$f":"IF(ISBLANK('MIS - Pharmacy'!V727),\"\",'MIS - Pharmacy'!V727)","v":""},"","","",{"$f":"IF(ISBLANK('MIS - Pharmacy'!J727),\"\",'MIS - Pharmacy'!J727)","v":""},{"$f":"IF(ISBLANK('MIS - Pharmacy'!AY727),\"\",'MIS - Pharmacy'!AY727)","v":""},{"$f":"IF(ISBLANK('MIS - Pharmacy'!BH727),\"\",'MIS - Pharmacy'!BH727)","v":""},"",""]
[{"$f":"IF(ISBLANK('MIS - Pharmacy'!A728), \"\",'MIS - Pharmacy'!A728)","v":""},{"$f":"IF(ISBLANK('MIS - Pharmacy'!B728),\"\",('MIS - Pharmacy'!B728&\"(\"&'MIS - Pharmacy'!D728&\")\"))","v":""},{"$f":"IF(ISBLANK('MIS - Pharmacy'!BI728), \"\", 'MIS - Pharmacy'!BI728)","v":""},{"$f":"IF(ISBLANK('MIS - Pharmacy'!U728), \"\", 'MIS - Pharmacy'!U728)","v":""},"","","","","","","",{"$f":"IF(ISBLANK('MIS - Pharmacy'!AC728),\"\",'MIS - Pharmacy'!AC728)","v":""},"",{"$f":"IF(ISBLANK('MIS - Pharmacy'!AD728),\"\",'MIS - Pharmacy'!AD728)","v":""},"","",{"$f":"IF('MIS - Pharmacy'!A728=\"\",\"\",SUM('MIS - Pharmacy'!K728+'MIS - Pharmacy'!L728))","v":""},"",{"$f":"IF('MIS - Pharmacy'!A728=\"\",\"\",('MIS - Pharmacy'!AF728+'MIS - Pharmacy'!AH728 +'MIS - Pharmacy'!AG728))","v":""},{"$f":"IF(ISBLANK('MIS - Pharmacy'!AI728),\"\",'MIS - Pharmacy'!AI728)","v":""},"","","",{"$f":"IF(ISBLANK('MIS - Pharmacy'!V728),\"\",'MIS - Pharmacy'!V728)","v":""},"","","",{"$f":"IF(ISBLANK('MIS - Pharmacy'!J728),\"\",'MIS - Pharmacy'!J728)","v":""},{"$f":"IF(ISBLANK('MIS - Pharmacy'!AY728),\"\",'MIS - Pharmacy'!AY728)","v":""},{"$f":"IF(ISBLANK('MIS - Pharmacy'!BH728),\"\",'MIS - Pharmacy'!BH728)","v":""},"",""]
[{"$f":"IF(ISBLANK('MIS - Pharmacy'!A729), \"\",'MIS - Pharmacy'!A729)","v":""},{"$f":"IF(ISBLANK('MIS - Pharmacy'!B729),\"\",('MIS - Pharmacy'!B729&\"(\"&'MIS - Pharmacy'!D729&\")\"))","v":""},{"$f":"IF(ISBLANK('MIS - Pharmacy'!BI729), \"\", 'MIS - Pharmacy'!BI729)","v":""},{"$f":"IF(ISBLANK('MIS - Pharmacy'!U729), \"\", 'MIS - Pharmacy'!U729)","v":""},"","","","","","","",{"$f":"IF(ISBLANK('MIS - Pharmacy'!AC729),\"\",'MIS - Pharmacy'!AC729)","v":""},"",{"$f":"IF(ISBLANK('MIS - Pharmacy'!AD729),\"\",'MIS - Pharmacy'!AD729)","v":""},"","",{"$f":"IF('MIS - Pharmacy'!A729=\"\",\"\",SUM('MIS - Pharmacy'!K729+'MIS - Pharmacy'!L729))","v":""},"",{"$f":"IF('MIS - Pharmacy'!A729=\"\",\"\",('MIS - Pharmacy'!AF729+'MIS - Pharmacy'!AH729 +'MIS - Pharmacy'!AG729))","v":""},{"$f":"IF(ISBLANK('MIS - Pharmacy'!AI729),\"\",'MIS - Pharmacy'!AI729)","v":""},"","","",{"$f":"IF(ISBLANK('MIS - Pharmacy'!V729),\"\",'MIS - Pharmacy'!V729)","v":""},"","","",{"$f":"IF(ISBLANK('MIS - Pharmacy'!J729),\"\",'MIS - Pharmacy'!J729)","v":""},{"$f":"IF(ISBLANK('MIS - Pharmacy'!AY729),\"\",'MIS - Pharmacy'!AY729)","v":""},{"$f":"IF(ISBLANK('MIS - Pharmacy'!BH729),\"\",'MIS - Pharmacy'!BH729)","v":""},"",""]
[{"$f":"IF(ISBLANK('MIS - Pharmacy'!A730), \"\",'MIS - Pharmacy'!A730)","v":""},{"$f":"IF(ISBLANK('MIS - Pharmacy'!B730),\"\",('MIS - Pharmacy'!B730&\"(\"&'MIS - Pharmacy'!D730&\")\"))","v":""},{"$f":"IF(ISBLANK('MIS - Pharmacy'!BI730), \"\", 'MIS - Pharmacy'!BI730)","v":""},{"$f":"IF(ISBLANK('MIS - Pharmacy'!U730), \"\", 'MIS - Pharmacy'!U730)","v":""},"","","","","","","",{"$f":"IF(ISBLANK('MIS - Pharmacy'!AC730),\"\",'MIS - Pharmacy'!AC730)","v":""},"",{"$f":"IF(ISBLANK('MIS - Pharmacy'!AD730),\"\",'MIS - Pharmacy'!AD730)","v":""},"","",{"$f":"IF('MIS - Pharmacy'!A730=\"\",\"\",SUM('MIS - Pharmacy'!K730+'MIS - Pharmacy'!L730))","v":""},"",{"$f":"IF('MIS - Pharmacy'!A730=\"\",\"\",('MIS - Pharmacy'!AF730+'MIS - Pharmacy'!AH730 +'MIS - Pharmacy'!AG730))","v":""},{"$f":"IF(ISBLANK('MIS - Pharmacy'!AI730),\"\",'MIS - Pharmacy'!AI730)","v":""},"","","",{"$f":"IF(ISBLANK('MIS - Pharmacy'!V730),\"\",'MIS - Pharmacy'!V730)","v":""},"","","",{"$f":"IF(ISBLANK('MIS - Pharmacy'!J730),\"\",'MIS - Pharmacy'!J730)","v":""},{"$f":"IF(ISBLANK('MIS - Pharmacy'!AY730),\"\",'MIS - Pharmacy'!AY730)","v":""},{"$f":"IF(ISBLANK('MIS - Pharmacy'!BH730),\"\",'MIS - Pharmacy'!BH730)","v":""},"",""]
[{"$f":"IF(ISBLANK('MIS - Pharmacy'!A731), \"\",'MIS - Pharmacy'!A731)","v":""},{"$f":"IF(ISBLANK('MIS - Pharmacy'!B731),\"\",('MIS - Pharmacy'!B731&\"(\"&'MIS - Pharmacy'!D731&\")\"))","v":""},{"$f":"IF(ISBLANK('MIS - Pharmacy'!BI731), \"\", 'MIS - Pharmacy'!BI731)","v":""},{"$f":"IF(ISBLANK('MIS - Pharmacy'!U731), \"\", 'MIS - Pharmacy'!U731)","v":""},"","","","","","","",{"$f":"IF(ISBLANK('MIS - Pharmacy'!AC731),\"\",'MIS - Pharmacy'!AC731)","v":""},"",{"$f":"IF(ISBLANK('MIS - Pharmacy'!AD731),\"\",'MIS - Pharmacy'!AD731)","v":""},"","",{"$f":"IF('MIS - Pharmacy'!A731=\"\",\"\",SUM('MIS - Pharmacy'!K731+'MIS - Pharmacy'!L731))","v":""},"",{"$f":"IF('MIS - Pharmacy'!A731=\"\",\"\",('MIS - Pharmacy'!AF731+'MIS - Pharmacy'!AH731 +'MIS - Pharmacy'!AG731))","v":""},{"$f":"IF(ISBLANK('MIS - Pharmacy'!AI731),\"\",'MIS - Pharmacy'!AI731)","v":""},"","","",{"$f":"IF(ISBLANK('MIS - Pharmacy'!V731),\"\",'MIS - Pharmacy'!V731)","v":""},"","","",{"$f":"IF(ISBLANK('MIS - Pharmacy'!J731),\"\",'MIS - Pharmacy'!J731)","v":""},{"$f":"IF(ISBLANK('MIS - Pharmacy'!AY731),\"\",'MIS - Pharmacy'!AY731)","v":""},{"$f":"IF(ISBLANK('MIS - Pharmacy'!BH731),\"\",'MIS - Pharmacy'!BH731)","v":""},"",""]
[{"$f":"IF(ISBLANK('MIS - Pharmacy'!A732), \"\",'MIS - Pharmacy'!A732)","v":""},{"$f":"IF(ISBLANK('MIS - Pharmacy'!B732),\"\",('MIS - Pharmacy'!B732&\"(\"&'MIS - Pharmacy'!D732&\")\"))","v":""},{"$f":"IF(ISBLANK('MIS - Pharmacy'!BI732), \"\", 'MIS - Pharmacy'!BI732)","v":""},{"$f":"IF(ISBLANK('MIS - Pharmacy'!U732), \"\", 'MIS - Pharmacy'!U732)","v":""},"","","","","","","",{"$f":"IF(ISBLANK('MIS - Pharmacy'!AC732),\"\",'MIS - Pharmacy'!AC732)","v":""},"",{"$f":"IF(ISBLANK('MIS - Pharmacy'!AD732),\"\",'MIS - Pharmacy'!AD732)","v":""},"","",{"$f":"IF('MIS - Pharmacy'!A732=\"\",\"\",SUM('MIS - Pharmacy'!K732+'MIS - Pharmacy'!L732))","v":""},"",{"$f":"IF('MIS - Pharmacy'!A732=\"\",\"\",('MIS - Pharmacy'!AF732+'MIS - Pharmacy'!AH732 +'MIS - Pharmacy'!AG732))","v":""},{"$f":"IF(ISBLANK('MIS - Pharmacy'!AI732),\"\",'MIS - Pharmacy'!AI732)","v":""},"","","",{"$f":"IF(ISBLANK('MIS - Pharmacy'!V732),\"\",'MIS - Pharmacy'!V732)","v":""},"","","",{"$f":"IF(ISBLANK('MIS - Pharmacy'!J732),\"\",'MIS - Pharmacy'!J732)","v":""},{"$f":"IF(ISBLANK('MIS - Pharmacy'!AY732),\"\",'MIS - Pharmacy'!AY732)","v":""},{"$f":"IF(ISBLANK('MIS - Pharmacy'!BH732),\"\",'MIS - Pharmacy'!BH732)","v":""},"",""]
[{"$f":"IF(ISBLANK('MIS - Pharmacy'!A733), \"\",'MIS - Pharmacy'!A733)","v":""},{"$f":"IF(ISBLANK('MIS - Pharmacy'!B733),\"\",('MIS - Pharmacy'!B733&\"(\"&'MIS - Pharmacy'!D733&\")\"))","v":""},{"$f":"IF(ISBLANK('MIS - Pharmacy'!BI733), \"\", 'MIS - Pharmacy'!BI733)","v":""},{"$f":"IF(ISBLANK('MIS - Pharmacy'!U733), \"\", 'MIS - Pharmacy'!U733)","v":""},"","","","","","","",{"$f":"IF(ISBLANK('MIS - Pharmacy'!AC733),\"\",'MIS - Pharmacy'!AC733)","v":""},"",{"$f":"IF(ISBLANK('MIS - Pharmacy'!AD733),\"\",'MIS - Pharmacy'!AD733)","v":""},"","",{"$f":"IF('MIS - Pharmacy'!A733=\"\",\"\",SUM('MIS - Pharmacy'!K733+'MIS - Pharmacy'!L733))","v":""},"",{"$f":"IF('MIS - Pharmacy'!A733=\"\",\"\",('MIS - Pharmacy'!AF733+'MIS - Pharmacy'!AH733 +'MIS - Pharmacy'!AG733))","v":""},{"$f":"IF(ISBLANK('MIS - Pharmacy'!AI733),\"\",'MIS - Pharmacy'!AI733)","v":""},"","","",{"$f":"IF(ISBLANK('MIS - Pharmacy'!V733),\"\",'MIS - Pharmacy'!V733)","v":""},"","","",{"$f":"IF(ISBLANK('MIS - Pharmacy'!J733),\"\",'MIS - Pharmacy'!J733)","v":""},{"$f":"IF(ISBLANK('MIS - Pharmacy'!AY733),\"\",'MIS - Pharmacy'!AY733)","v":""},{"$f":"IF(ISBLANK('MIS - Pharmacy'!BH733),\"\",'MIS - Pharmacy'!BH733)","v":""},"",""]
[{"$f":"IF(ISBLANK('MIS - Pharmacy'!A734), \"\",'MIS - Pharmacy'!A734)","v":""},{"$f":"IF(ISBLANK('MIS - Pharmacy'!B734),\"\",('MIS - Pharmacy'!B734&\"(\"&'MIS - Pharmacy'!D734&\")\"))","v":""},{"$f":"IF(ISBLANK('MIS - Pharmacy'!BI734), \"\", 'MIS - Pharmacy'!BI734)","v":""},{"$f":"IF(ISBLANK('MIS - Pharmacy'!U734), \"\", 'MIS - Pharmacy'!U734)","v":""},"","","","","","","",{"$f":"IF(ISBLANK('MIS - Pharmacy'!AC734),\"\",'MIS - Pharmacy'!AC734)","v":""},"",{"$f":"IF(ISBLANK('MIS - Pharmacy'!AD734),\"\",'MIS - Pharmacy'!AD734)","v":""},"","",{"$f":"IF('MIS - Pharmacy'!A734=\"\",\"\",SUM('MIS - Pharmacy'!K734+'MIS - Pharmacy'!L734))","v":""},"",{"$f":"IF('MIS - Pharmacy'!A734=\"\",\"\",('MIS - Pharmacy'!AF734+'MIS - Pharmacy'!AH734 +'MIS - Pharmacy'!AG734))","v":""},{"$f":"IF(ISBLANK('MIS - Pharmacy'!AI734),\"\",'MIS - Pharmacy'!AI734)","v":""},"","","",{"$f":"IF(ISBLANK('MIS - Pharmacy'!V734),\"\",'MIS - Pharmacy'!V734)","v":""},"","","",{"$f":"IF(ISBLANK('MIS - Pharmacy'!J734),\"\",'MIS - Pharmacy'!J734)","v":""},{"$f":"IF(ISBLANK('MIS - Pharmacy'!AY734),\"\",'MIS - Pharmacy'!AY734)","v":""},{"$f":"IF(ISBLANK('MIS - Pharmacy'!BH734),\"\",'MIS - Pharmacy'!BH734)","v":""},"",""]
[{"$f":"IF(ISBLANK('MIS - Pharmacy'!A735), \"\",'MIS - Pharmacy'!A735)","v":""},{"$f":"IF(ISBLANK('MIS - Pharmacy'!B735),\"\",('MIS - Pharmacy'!B735&\"(\"&'MIS - Pharmacy'!D735&\")\"))","v":""},{"$f":"IF(ISBLANK('MIS - Pharmacy'!BI735), \"\", 'MIS - Pharmacy'!BI735)","v":""},{"$f":"IF(ISBLANK('MIS - Pharmacy'!U735), \"\", 'MIS - Pharmacy'!U735)","v":""},"","","","","","","",{"$f":"IF(ISBLANK('MIS - Pharmacy'!AC735),\"\",'MIS - Pharmacy'!AC735)","v":""},"",{"$f":"IF(ISBLANK('MIS - Pharmacy'!AD735),\"\",'MIS - Pharmacy'!AD735)","v":""},"","",{"$f":"IF('MIS - Pharmacy'!A735=\"\",\"\",SUM('MIS - Pharmacy'!K735+'MIS - Pharmacy'!L735))","v":""},"",{"$f":"IF('MIS - Pharmacy'!A735=\"\",\"\",('MIS - Pharmacy'!AF735+'MIS - Pharmacy'!AH735 +'MIS - Pharmacy'!AG735))","v":""},{"$f":"IF(ISBLANK('MIS - Pharmacy'!AI735),\"\",'MIS - Pharmacy'!AI735)","v":""},"","","",{"$f":"IF(ISBLANK('MIS - Pharmacy'!V735),\"\",'MIS - Pharmacy'!V735)","v":""},"","","",{"$f":"IF(ISBLANK('MIS - Pharmacy'!J735),\"\",'MIS - Pharmacy'!J735)","v":""},{"$f":"IF(ISBLANK('MIS - Pharmacy'!AY735),\"\",'MIS - Pharmacy'!AY735)","v":""},{"$f":"IF(ISBLANK('MIS - Pharmacy'!BH735),\"\",'MIS - Pharmacy'!BH735)","v":""},"",""]
[{"$f":"IF(ISBLANK('MIS - Pharmacy'!A736), \"\",'MIS - Pharmacy'!A736)","v":""},{"$f":"IF(ISBLANK('MIS - Pharmacy'!B736),\"\",('MIS - Pharmacy'!B736&\"(\"&'MIS - Pharmacy'!D736&\")\"))","v":""},{"$f":"IF(ISBLANK('MIS - Pharmacy'!BI736), \"\", 'MIS - Pharmacy'!BI736)","v":""},{"$f":"IF(ISBLANK('MIS - Pharmacy'!U736), \"\", 'MIS - Pharmacy'!U736)","v":""},"","","","","","","",{"$f":"IF(ISBLANK('MIS - Pharmacy'!AC736),\"\",'MIS - Pharmacy'!AC736)","v":""},"",{"$f":"IF(ISBLANK('MIS - Pharmacy'!AD736),\"\",'MIS - Pharmacy'!AD736)","v":""},"","",{"$f":"IF('MIS - Pharmacy'!A736=\"\",\"\",SUM('MIS - Pharmacy'!K736+'MIS - Pharmacy'!L736))","v":""},"",{"$f":"IF('MIS - Pharmacy'!A736=\"\",\"\",('MIS - Pharmacy'!AF736+'MIS - Pharmacy'!AH736 +'MIS - Pharmacy'!AG736))","v":""},{"$f":"IF(ISBLANK('MIS - Pharmacy'!AI736),\"\",'MIS - Pharmacy'!AI736)","v":""},"","","",{"$f":"IF(ISBLANK('MIS - Pharmacy'!V736),\"\",'MIS - Pharmacy'!V736)","v":""},"","","",{"$f":"IF(ISBLANK('MIS - Pharmacy'!J736),\"\",'MIS - Pharmacy'!J736)","v":""},{"$f":"IF(ISBLANK('MIS - Pharmacy'!AY736),\"\",'MIS - Pharmacy'!AY736)","v":""},{"$f":"IF(ISBLANK('MIS - Pharmacy'!BH736),\"\",'MIS - Pharmacy'!BH736)","v":""},"",""]
[{"$f":"IF(ISBLANK('MIS - Pharmacy'!A737), \"\",'MIS - Pharmacy'!A737)","v":""},{"$f":"IF(ISBLANK('MIS - Pharmacy'!B737),\"\",('MIS - Pharmacy'!B737&\"(\"&'MIS - Pharmacy'!D737&\")\"))","v":""},{"$f":"IF(ISBLANK('MIS - Pharmacy'!BI737), \"\", 'MIS - Pharmacy'!BI737)","v":""},{"$f":"IF(ISBLANK('MIS - Pharmacy'!U737), \"\", 'MIS - Pharmacy'!U737)","v":""},"","","","","","","",{"$f":"IF(ISBLANK('MIS - Pharmacy'!AC737),\"\",'MIS - Pharmacy'!AC737)","v":""},"",{"$f":"IF(ISBLANK('MIS - Pharmacy'!AD737),\"\",'MIS - Pharmacy'!AD737)","v":""},"","",{"$f":"IF('MIS - Pharmacy'!A737=\"\",\"\",SUM('MIS - Pharmacy'!K737+'MIS - Pharmacy'!L737))","v":""},"",{"$f":"IF('MIS - Pharmacy'!A737=\"\",\"\",('MIS - Pharmacy'!AF737+'MIS - Pharmacy'!AH737 +'MIS - Pharmacy'!AG737))","v":""},{"$f":"IF(ISBLANK('MIS - Pharmacy'!AI737),\"\",'MIS - Pharmacy'!AI737)","v":""},"","","",{"$f":"IF(ISBLANK('MIS - Pharmacy'!V737),\"\",'MIS - Pharmacy'!V737)","v":""},"","","",{"$f":"IF(ISBLANK('MIS - Pharmacy'!J737),\"\",'MIS - Pharmacy'!J737)","v":""},{"$f":"IF(ISBLANK('MIS - Pharmacy'!AY737),\"\",'MIS - Pharmacy'!AY737)","v":""},{"$f":"IF(ISBLANK('MIS - Pharmacy'!BH737),\"\",'MIS - Pharmacy'!BH737)","v":""},"",""]
[{"$f":"IF(ISBLANK('MIS - Pharmacy'!A738), \"\",'MIS - Pharmacy'!A738)","v":""},{"$f":"IF(ISBLANK('MIS - Pharmacy'!B738),\"\",('MIS - Pharmacy'!B738&\"(\"&'MIS - Pharmacy'!D738&\")\"))","v":""},{"$f":"IF(ISBLANK('MIS - Pharmacy'!BI738), \"\", 'MIS - Pharmacy'!BI738)","v":""},{"$f":"IF(ISBLANK('MIS - Pharmacy'!U738), \"\", 'MIS - Pharmacy'!U738)","v":""},"","","","","","","",{"$f":"IF(ISBLANK('MIS - Pharmacy'!AC738),\"\",'MIS - Pharmacy'!AC738)","v":""},"",{"$f":"IF(ISBLANK('MIS - Pharmacy'!AD738),\"\",'MIS - Pharmacy'!AD738)","v":""},"","",{"$f":"IF('MIS - Pharmacy'!A738=\"\",\"\",SUM('MIS - Pharmacy'!K738+'MIS - Pharmacy'!L738))","v":""},"",{"$f":"IF('MIS - Pharmacy'!A738=\"\",\"\",('MIS - Pharmacy'!AF738+'MIS - Pharmacy'!AH738 +'MIS - Pharmacy'!AG738))","v":""},{"$f":"IF(ISBLANK('MIS - Pharmacy'!AI738),\"\",'MIS - Pharmacy'!AI738)","v":""},"","","",{"$f":"IF(ISBLANK('MIS - Pharmacy'!V738),\"\",'MIS - Pharmacy'!V738)","v":""},"","","",{"$f":"IF(ISBLANK('MIS - Pharmacy'!J738),\"\",'MIS - Pharmacy'!J738)","v":""},{"$f":"IF(ISBLANK('MIS - Pharmacy'!AY738),\"\",'MIS - Pharmacy'!AY738)","v":""},{"$f":"IF(ISBLANK('MIS - Pharmacy'!BH738),\"\",'MIS - Pharmacy'!BH738)","v":""},"",""]
[{"$f":"IF(ISBLANK('MIS - Pharmacy'!A739), \"\",'MIS - Pharmacy'!A739)","v":""},{"$f":"IF(ISBLANK('MIS - Pharmacy'!B739),\"\",('MIS - Pharmacy'!B739&\"(\"&'MIS - Pharmacy'!D739&\")\"))","v":""},{"$f":"IF(ISBLANK('MIS - Pharmacy'!BI739), \"\", 'MIS - Pharmacy'!BI739)","v":""},{"$f":"IF(ISBLANK('MIS - Pharmacy'!U739), \"\", 'MIS - Pharmacy'!U739)","v":""},"","","","","","","",{"$f":"IF(ISBLANK('MIS - Pharmacy'!AC739),\"\",'MIS - Pharmacy'!AC739)","v":""},"",{"$f":"IF(ISBLANK('MIS - Pharmacy'!AD739),\"\",'MIS - Pharmacy'!AD739)","v":""},"","",{"$f":"IF('MIS - Pharmacy'!A739=\"\",\"\",SUM('MIS - Pharmacy'!K739+'MIS - Pharmacy'!L739))","v":""},"",{"$f":"IF('MIS - Pharmacy'!A739=\"\",\"\",('MIS - Pharmacy'!AF739+'MIS - Pharmacy'!AH739 +'MIS - Pharmacy'!AG739))","v":""},{"$f":"IF(ISBLANK('MIS - Pharmacy'!AI739),\"\",'MIS - Pharmacy'!AI739)","v":""},"","","",{"$f":"IF(ISBLANK('MIS - Pharmacy'!V739),\"\",'MIS - Pharmacy'!V739)","v":""},"","","",{"$f":"IF(ISBLANK('MIS - Pharmacy'!J739),\"\",'MIS - Pharmacy'!J739)","v":""},{"$f":"IF(ISBLANK('MIS - Pharmacy'!AY739),\"\",'MIS - Pharmacy'!AY739)","v":""},{"$f":"IF(ISBLANK('MIS - Pharmacy'!BH739),\"\",'MIS - Pharmacy'!BH739)","v":""},"",""]
[{"$f":"IF(ISBLANK('MIS - Pharmacy'!A740), \"\",'MIS - Pharmacy'!A740)","v":""},{"$f":"IF(ISBLANK('MIS - Pharmacy'!B740),\"\",('MIS - Pharmacy'!B740&\"(\"&'MIS - Pharmacy'!D740&\")\"))","v":""},{"$f":"IF(ISBLANK('MIS - Pharmacy'!BI740), \"\", 'MIS - Pharmacy'!BI740)","v":""},{"$f":"IF(ISBLANK('MIS - Pharmacy'!U740), \"\", 'MIS - Pharmacy'!U740)","v":""},"","","","","","","",{"$f":"IF(ISBLANK('MIS - Pharmacy'!AC740),\"\",'MIS - Pharmacy'!AC740)","v":""},"",{"$f":"IF(ISBLANK('MIS - Pharmacy'!AD740),\"\",'MIS - Pharmacy'!AD740)","v":""},"","",{"$f":"IF('MIS - Pharmacy'!A740=\"\",\"\",SUM('MIS - Pharmacy'!K740+'MIS - Pharmacy'!L740))","v":""},"",{"$f":"IF('MIS - Pharmacy'!A740=\"\",\"\",('MIS - Pharmacy'!AF740+'MIS - Pharmacy'!AH740 +'MIS - Pharmacy'!AG740))","v":""},{"$f":"IF(ISBLANK('MIS - Pharmacy'!AI740),\"\",'MIS - Pharmacy'!AI740)","v":""},"","","",{"$f":"IF(ISBLANK('MIS - Pharmacy'!V740),\"\",'MIS - Pharmacy'!V740)","v":""},"","","",{"$f":"IF(ISBLANK('MIS - Pharmacy'!J740),\"\",'MIS - Pharmacy'!J740)","v":""},{"$f":"IF(ISBLANK('MIS - Pharmacy'!AY740),\"\",'MIS - Pharmacy'!AY740)","v":""},{"$f":"IF(ISBLANK('MIS - Pharmacy'!BH740),\"\",'MIS - Pharmacy'!BH740)","v":""},"",""]
[{"$f":"IF(ISBLANK('MIS - Pharmacy'!A741), \"\",'MIS - Pharmacy'!A741)","v":""},{"$f":"IF(ISBLANK('MIS - Pharmacy'!B741),\"\",('MIS - Pharmacy'!B741&\"(\"&'MIS - Pharmacy'!D741&\")\"))","v":""},{"$f":"IF(ISBLANK('MIS - Pharmacy'!BI741), \"\", 'MIS - Pharmacy'!BI741)","v":""},{"$f":"IF(ISBLANK('MIS - Pharmacy'!U741), \"\", 'MIS - Pharmacy'!U741)","v":""},"","","","","","","",{"$f":"IF(ISBLANK('MIS - Pharmacy'!AC741),\"\",'MIS - Pharmacy'!AC741)","v":""},"",{"$f":"IF(ISBLANK('MIS - Pharmacy'!AD741),\"\",'MIS - Pharmacy'!AD741)","v":""},"","",{"$f":"IF('MIS - Pharmacy'!A741=\"\",\"\",SUM('MIS - Pharmacy'!K741+'MIS - Pharmacy'!L741))","v":""},"",{"$f":"IF('MIS - Pharmacy'!A741=\"\",\"\",('MIS - Pharmacy'!AF741+'MIS - Pharmacy'!AH741 +'MIS - Pharmacy'!AG741))","v":""},{"$f":"IF(ISBLANK('MIS - Pharmacy'!AI741),\"\",'MIS - Pharmacy'!AI741)","v":""},"","","",{"$f":"IF(ISBLANK('MIS - Pharmacy'!V741),\"\",'MIS - Pharmacy'!V741)","v":""},"","","",{"$f":"IF(ISBLANK('MIS - Pharmacy'!J741),\"\",'MIS - Pharmacy'!J741)","v":""},{"$f":"IF(ISBLANK('MIS - Pharmacy'!AY741),\"\",'MIS - Pharmacy'!AY741)","v":""},{"$f":"IF(ISBLANK('MIS - Pharmacy'!BH741),\"\",'MIS - Pharmacy'!BH741)","v":""},"",""]
[{"$f":"IF(ISBLANK('MIS - Pharmacy'!A742), \"\",'MIS - Pharmacy'!A742)","v":""},{"$f":"IF(ISBLANK('MIS - Pharmacy'!B742),\"\",('MIS - Pharmacy'!B742&\"(\"&'MIS - Pharmacy'!D742&\")\"))","v":""},{"$f":"IF(ISBLANK('MIS - Pharmacy'!BI742), \"\", 'MIS - Pharmacy'!BI742)","v":""},{"$f":"IF(ISBLANK('MIS - Pharmacy'!U742), \"\", 'MIS - Pharmacy'!U742)","v":""},"","","","","","","",{"$f":"IF(ISBLANK('MIS - Pharmacy'!AC742),\"\",'MIS - Pharmacy'!AC742)","v":""},"",{"$f":"IF(ISBLANK('MIS - Pharmacy'!AD742),\"\",'MIS - Pharmacy'!AD742)","v":""},"","",{"$f":"IF('MIS - Pharmacy'!A742=\"\",\"\",SUM('MIS - Pharmacy'!K742+'MIS - Pharmacy'!L742))","v":""},"",{"$f":"IF('MIS - Pharmacy'!A742=\"\",\"\",('MIS - Pharmacy'!AF742+'MIS - Pharmacy'!AH742 +'MIS - Pharmacy'!AG742))","v":""},{"$f":"IF(ISBLANK('MIS - Pharmacy'!AI742),\"\",'MIS - Pharmacy'!AI742)","v":""},"","","",{"$f":"IF(ISBLANK('MIS - Pharmacy'!V742),\"\",'MIS - Pharmacy'!V742)","v":""},"","","",{"$f":"IF(ISBLANK('MIS - Pharmacy'!J742),\"\",'MIS - Pharmacy'!J742)","v":""},{"$f":"IF(ISBLANK('MIS - Pharmacy'!AY742),\"\",'MIS - Pharmacy'!AY742)","v":""},{"$f":"IF(ISBLANK('MIS - Pharmacy'!BH742),\"\",'MIS - Pharmacy'!BH742)","v":""},"",""]
[{"$f":"IF(ISBLANK('MIS - Pharmacy'!A743), \"\",'MIS - Pharmacy'!A743)","v":""},{"$f":"IF(ISBLANK('MIS - Pharmacy'!B743),\"\",('MIS - Pharmacy'!B743&\"(\"&'MIS - Pharmacy'!D743&\")\"))","v":""},{"$f":"IF(ISBLANK('MIS - Pharmacy'!BI743), \"\", 'MIS - Pharmacy'!BI743)","v":""},{"$f":"IF(ISBLANK('MIS - Pharmacy'!U743), \"\", 'MIS - Pharmacy'!U743)","v":""},"","","","","","","",{"$f":"IF(ISBLANK('MIS - Pharmacy'!AC743),\"\",'MIS - Pharmacy'!AC743)","v":""},"",{"$f":"IF(ISBLANK('MIS - Pharmacy'!AD743),\"\",'MIS - Pharmacy'!AD743)","v":""},"","",{"$f":"IF('MIS - Pharmacy'!A743=\"\",\"\",SUM('MIS - Pharmacy'!K743+'MIS - Pharmacy'!L743))","v":""},"",{"$f":"IF('MIS - Pharmacy'!A743=\"\",\"\",('MIS - Pharmacy'!AF743+'MIS - Pharmacy'!AH743 +'MIS - Pharmacy'!AG743))","v":""},{"$f":"IF(ISBLANK('MIS - Pharmacy'!AI743),\"\",'MIS - Pharmacy'!AI743)","v":""},"","","",{"$f":"IF(ISBLANK('MIS - Pharmacy'!V743),\"\",'MIS - Pharmacy'!V743)","v":""},"","","",{"$f":"IF(ISBLANK('MIS - Pharmacy'!J743),\"\",'MIS - Pharmacy'!J743)","v":""},{"$f":"IF(ISBLANK('MIS - Pharmacy'!AY743),\"\",'MIS - Pharmacy'!AY743)","v":""},{"$f":"IF(ISBLANK('MIS - Pharmacy'!BH743),\"\",'MIS - Pharmacy'!BH743)","v":""},"",""]
[{"$f":"IF(ISBLANK('MIS - Pharmacy'!A744), \"\",'MIS - Pharmacy'!A744)","v":""},{"$f":"IF(ISBLANK('MIS - Pharmacy'!B744),\"\",('MIS - Pharmacy'!B744&\"(\"&'MIS - Pharmacy'!D744&\")\"))","v":""},{"$f":"IF(ISBLANK('MIS - Pharmacy'!BI744), \"\", 'MIS - Pharmacy'!BI744)","v":""},{"$f":"IF(ISBLANK('MIS - Pharmacy'!U744), \"\", 'MIS - Pharmacy'!U744)","v":""},"","","","","","","",{"$f":"IF(ISBLANK('MIS - Pharmacy'!AC744),\"\",'MIS - Pharmacy'!AC744)","v":""},"",{"$f":"IF(ISBLANK('MIS - Pharmacy'!AD744),\"\",'MIS - Pharmacy'!AD744)","v":""},"","",{"$f":"IF('MIS - Pharmacy'!A744=\"\",\"\",SUM('MIS - Pharmacy'!K744+'MIS - Pharmacy'!L744))","v":""},"",{"$f":"IF('MIS - Pharmacy'!A744=\"\",\"\",('MIS - Pharmacy'!AF744+'MIS - Pharmacy'!AH744 +'MIS - Pharmacy'!AG744))","v":""},{"$f":"IF(ISBLANK('MIS - Pharmacy'!AI744),\"\",'MIS - Pharmacy'!AI744)","v":""},"","","",{"$f":"IF(ISBLANK('MIS - Pharmacy'!V744),\"\",'MIS - Pharmacy'!V744)","v":""},"","","",{"$f":"IF(ISBLANK('MIS - Pharmacy'!J744),\"\",'MIS - Pharmacy'!J744)","v":""},{"$f":"IF(ISBLANK('MIS - Pharmacy'!AY744),\"\",'MIS - Pharmacy'!AY744)","v":""},{"$f":"IF(ISBLANK('MIS - Pharmacy'!BH744),\"\",'MIS - Pharmacy'!BH744)","v":""},"",""]
[{"$f":"IF(ISBLANK('MIS - Pharmacy'!A745), \"\",'MIS - Pharmacy'!A745)","v":""},{"$f":"IF(ISBLANK('MIS - Pharmacy'!B745),\"\",('MIS - Pharmacy'!B745&\"(\"&'MIS - Pharmacy'!D745&\")\"))","v":""},{"$f":"IF(ISBLANK('MIS - Pharmacy'!BI745), \"\", 'MIS - Pharmacy'!BI745)","v":""},{"$f":"IF(ISBLANK('MIS - Pharmacy'!U745), \"\", 'MIS - Pharmacy'!U745)","v":""},"","","","","","","",{"$f":"IF(ISBLANK('MIS - Pharmacy'!AC745),\"\",'MIS - Pharmacy'!AC745)","v":""},"",{"$f":"IF(ISBLANK('MIS - Pharmacy'!AD745),\"\",'MIS - Pharmacy'!AD745)","v":""},"","",{"$f":"IF('MIS - Pharmacy'!A745=\"\",\"\",SUM('MIS - Pharmacy'!K745+'MIS - Pharmacy'!L745))","v":""},"",{"$f":"IF('MIS - Pharmacy'!A745=\"\",\"\",('MIS - Pharmacy'!AF745+'MIS - Pharmacy'!AH745 +'MIS - Pharmacy'!AG745))","v":""},{"$f":"IF(ISBLANK('MIS - Pharmacy'!AI745),\"\",'MIS - Pharmacy'!AI745)","v":""},"","","",{"$f":"IF(ISBLANK('MIS - Pharmacy'!V745),\"\",'MIS - Pharmacy'!V745)","v":""},"","","",{"$f":"IF(ISBLANK('MIS - Pharmacy'!J745),\"\",'MIS - Pharmacy'!J745)","v":""},{"$f":"IF(ISBLANK('MIS - Pharmacy'!AY745),\"\",'MIS - Pharmacy'!AY745)","v":""},{"$f":"IF(ISBLANK('MIS - Pharmacy'!BH745),\"\",'MIS - Pharmacy'!BH745)","v":""},"",""]
[{"$f":"IF(ISBLANK('MIS - Pharmacy'!A746), \"\",'MIS - Pharmacy'!A746)","v":""},{"$f":"IF(ISBLANK('MIS - Pharmacy'!B746),\"\",('MIS - Pharmacy'!B746&\"(\"&'MIS - Pharmacy'!D746&\")\"))","v":""},{"$f":"IF(ISBLANK('MIS - Pharmacy'!BI746), \"\", 'MIS - Pharmacy'!BI746)","v":""},{"$f":"IF(ISBLANK('MIS - Pharmacy'!U746), \"\", 'MIS - Pharmacy'!U746)","v":""},"","","","","","","",{"$f":"IF(ISBLANK('MIS - Pharmacy'!AC746),\"\",'MIS - Pharmacy'!AC746)","v":""},"",{"$f":"IF(ISBLANK('MIS - Pharmacy'!AD746),\"\",'MIS - Pharmacy'!AD746)","v":""},"","",{"$f":"IF('MIS - Pharmacy'!A746=\"\",\"\",SUM('MIS - Pharmacy'!K746+'MIS - Pharmacy'!L746))","v":""},"",{"$f":"IF('MIS - Pharmacy'!A746=\"\",\"\",('MIS - Pharmacy'!AF746+'MIS - Pharmacy'!AH746 +'MIS - Pharmacy'!AG746))","v":""},{"$f":"IF(ISBLANK('MIS - Pharmacy'!AI746),\"\",'MIS - Pharmacy'!AI746)","v":""},"","","",{"$f":"IF(ISBLANK('MIS - Pharmacy'!V746),\"\",'MIS - Pharmacy'!V746)","v":""},"","","",{"$f":"IF(ISBLANK('MIS - Pharmacy'!J746),\"\",'MIS - Pharmacy'!J746)","v":""},{"$f":"IF(ISBLANK('MIS - Pharmacy'!AY746),\"\",'MIS - Pharmacy'!AY746)","v":""},{"$f":"IF(ISBLANK('MIS - Pharmacy'!BH746),\"\",'MIS - Pharmacy'!BH746)","v":""},"",""]
[{"$f":"IF(ISBLANK('MIS - Pharmacy'!A747), \"\",'MIS - Pharmacy'!A747)","v":""},{"$f":"IF(ISBLANK('MIS - Pharmacy'!B747),\"\",('MIS - Pharmacy'!B747&\"(\"&'MIS - Pharmacy'!D747&\")\"))","v":""},{"$f":"IF(ISBLANK('MIS - Pharmacy'!BI747), \"\", 'MIS - Pharmacy'!BI747)","v":""},{"$f":"IF(ISBLANK('MIS - Pharmacy'!U747), \"\", 'MIS - Pharmacy'!U747)","v":""},"","","","","","","",{"$f":"IF(ISBLANK('MIS - Pharmacy'!AC747),\"\",'MIS - Pharmacy'!AC747)","v":""},"",{"$f":"IF(ISBLANK('MIS - Pharmacy'!AD747),\"\",'MIS - Pharmacy'!AD747)","v":""},"","",{"$f":"IF('MIS - Pharmacy'!A747=\"\",\"\",SUM('MIS - Pharmacy'!K747+'MIS - Pharmacy'!L747))","v":""},"",{"$f":"IF('MIS - Pharmacy'!A747=\"\",\"\",('MIS - Pharmacy'!AF747+'MIS - Pharmacy'!AH747 +'MIS - Pharmacy'!AG747))","v":""},{"$f":"IF(ISBLANK('MIS - Pharmacy'!AI747),\"\",'MIS - Pharmacy'!AI747)","v":""},"","","",{"$f":"IF(ISBLANK('MIS - Pharmacy'!V747),\"\",'MIS - Pharmacy'!V747)","v":""},"","","",{"$f":"IF(ISBLANK('MIS - Pharmacy'!J747),\"\",'MIS - Pharmacy'!J747)","v":""},{"$f":"IF(ISBLANK('MIS - Pharmacy'!AY747),\"\",'MIS - Pharmacy'!AY747)","v":""},{"$f":"IF(ISBLANK('MIS - Pharmacy'!BH747),\"\",'MIS - Pharmacy'!BH747)","v":""},"",""]
[{"$f":"IF(ISBLANK('MIS - Pharmacy'!A748), \"\",'MIS - Pharmacy'!A748)","v":""},{"$f":"IF(ISBLANK('MIS - Pharmacy'!B748),\"\",('MIS - Pharmacy'!B748&\"(\"&'MIS - Pharmacy'!D748&\")\"))","v":""},{"$f":"IF(ISBLANK('MIS - Pharmacy'!BI748), \"\", 'MIS - Pharmacy'!BI748)","v":""},{"$f":"IF(ISBLANK('MIS - Pharmacy'!U748), \"\", 'MIS - Pharmacy'!U748)","v":""},"","","","","","","",{"$f":"IF(ISBLANK('MIS - Pharmacy'!AC748),\"\",'MIS - Pharmacy'!AC748)","v":""},"",{"$f":"IF(ISBLANK('MIS - Pharmacy'!AD748),\"\",'MIS - Pharmacy'!AD748)","v":""},"","",{"$f":"IF('MIS - Pharmacy'!A748=\"\",\"\",SUM('MIS - Pharmacy'!K748+'MIS - Pharmacy'!L748))","v":""},"",{"$f":"IF('MIS - Pharmacy'!A748=\"\",\"\",('MIS - Pharmacy'!AF748+'MIS - Pharmacy'!AH748 +'MIS - Pharmacy'!AG748))","v":""},{"$f":"IF(ISBLANK('MIS - Pharmacy'!AI748),\"\",'MIS - Pharmacy'!AI748)","v":""},"","","",{"$f":"IF(ISBLANK('MIS - Pharmacy'!V748),\"\",'MIS - Pharmacy'!V748)","v":""},"","","",{"$f":"IF(ISBLANK('MIS - Pharmacy'!J748),\"\",'MIS - Pharmacy'!J748)","v":""},{"$f":"IF(ISBLANK('MIS - Pharmacy'!AY748),\"\",'MIS - Pharmacy'!AY748)","v":""},{"$f":"IF(ISBLANK('MIS - Pharmacy'!BH748),\"\",'MIS - Pharmacy'!BH748)","v":""},"",""]
[{"$f":"IF(ISBLANK('MIS - Pharmacy'!A749), \"\",'MIS - Pharmacy'!A749)","v":""},{"$f":"IF(ISBLANK('MIS - Pharmacy'!B749),\"\",('MIS - Pharmacy'!B749&\"(\"&'MIS - Pharmacy'!D749&\")\"))","v":""},{"$f":"IF(ISBLANK('MIS - Pharmacy'!BI749), \"\", 'MIS - Pharmacy'!BI749)","v":""},{"$f":"IF(ISBLANK('MIS - Pharmacy'!U749), \"\", 'MIS - Pharmacy'!U749)","v":""},"","","","","","","",{"$f":"IF(ISBLANK('MIS - Pharmacy'!AC749),\"\",'MIS - Pharmacy'!AC749)","v":""},"",{"$f":"IF(ISBLANK('MIS - Pharmacy'!AD749),\"\",'MIS - Pharmacy'!AD749)","v":""},"","",{"$f":"IF('MIS - Pharmacy'!A749=\"\",\"\",SUM('MIS - Pharmacy'!K749+'MIS - Pharmacy'!L749))","v":""},"",{"$f":"IF('MIS - Pharmacy'!A749=\"\",\"\",('MIS - Pharmacy'!AF749+'MIS - Pharmacy'!AH749 +'MIS - Pharmacy'!AG749))","v":""},{"$f":"IF(ISBLANK('MIS - Pharmacy'!AI749),\"\",'MIS - Pharmacy'!AI749)","v":""},"","","",{"$f":"IF(ISBLANK('MIS - Pharmacy'!V749),\"\",'MIS - Pharmacy'!V749)","v":""},"","","",{"$f":"IF(ISBLANK('MIS - Pharmacy'!J749),\"\",'MIS - Pharmacy'!J749)","v":""},{"$f":"IF(ISBLANK('MIS - Pharmacy'!AY749),\"\",'MIS - Pharmacy'!AY749)","v":""},{"$f":"IF(ISBLANK('MIS - Pharmacy'!BH749),\"\",'MIS - Pharmacy'!BH749)","v":""},"",""]
[{"$f":"IF(ISBLANK('MIS - Pharmacy'!A750), \"\",'MIS - Pharmacy'!A750)","v":""},{"$f":"IF(ISBLANK('MIS - Pharmacy'!B750),\"\",('MIS - Pharmacy'!B750&\"(\"&'MIS - Pharmacy'!D750&\")\"))","v":""},{"$f":"IF(ISBLANK('MIS - Pharmacy'!BI750), \"\", 'MIS - Pharmacy'!BI750)","v":""},{"$f":"IF(ISBLANK('MIS - Pharmacy'!U750), \"\", 'MIS - Pharmacy'!U750)","v":""},"","","","","","","",{"$f":"IF(ISBLANK('MIS - Pharmacy'!AC750),\"\",'MIS - Pharmacy'!AC750)","v":""},"",{"$f":"IF(ISBLANK('MIS - Pharmacy'!AD750),\"\",'MIS - Pharmacy'!AD750)","v":""},"","",{"$f":"IF('MIS - Pharmacy'!A750=\"\",\"\",SUM('MIS - Pharmacy'!K750+'MIS - Pharmacy'!L750))","v":""},"",{"$f":"IF('MIS - Pharmacy'!A750=\"\",\"\",('MIS - Pharmacy'!AF750+'MIS - Pharmacy'!AH750 +'MIS - Pharmacy'!AG750))","v":""},{"$f":"IF(ISBLANK('MIS - Pharmacy'!AI750),\"\",'MIS - Pharmacy'!AI750)","v":""},"","","",{"$f":"IF(ISBLANK('MIS - Pharmacy'!V750),\"\",'MIS - Pharmacy'!V750)","v":""},"","","",{"$f":"IF(ISBLANK('MIS - Pharmacy'!J750),\"\",'MIS - Pharmacy'!J750)","v":""},{"$f":"IF(ISBLANK('MIS - Pharmacy'!AY750),\"\",'MIS - Pharmacy'!AY750)","v":""},{"$f":"IF(ISBLANK('MIS - Pharmacy'!BH750),\"\",'MIS - Pharmacy'!BH750)","v":""},"",""]
[{"$f":"IF(ISBLANK('MIS - Pharmacy'!A751), \"\",'MIS - Pharmacy'!A751)","v":""},{"$f":"IF(ISBLANK('MIS - Pharmacy'!B751),\"\",('MIS - Pharmacy'!B751&\"(\"&'MIS - Pharmacy'!D751&\")\"))","v":""},{"$f":"IF(ISBLANK('MIS - Pharmacy'!BI751), \"\", 'MIS - Pharmacy'!BI751)","v":""},{"$f":"IF(ISBLANK('MIS - Pharmacy'!U751), \"\", 'MIS - Pharmacy'!U751)","v":""},"","","","","","","",{"$f":"IF(ISBLANK('MIS - Pharmacy'!AC751),\"\",'MIS - Pharmacy'!AC751)","v":""},"",{"$f":"IF(ISBLANK('MIS - Pharmacy'!AD751),\"\",'MIS - Pharmacy'!AD751)","v":""},"","",{"$f":"IF('MIS - Pharmacy'!A751=\"\",\"\",SUM('MIS - Pharmacy'!K751+'MIS - Pharmacy'!L751))","v":""},"",{"$f":"IF('MIS - Pharmacy'!A751=\"\",\"\",('MIS - Pharmacy'!AF751+'MIS - Pharmacy'!AH751 +'MIS - Pharmacy'!AG751))","v":""},{"$f":"IF(ISBLANK('MIS - Pharmacy'!AI751),\"\",'MIS - Pharmacy'!AI751)","v":""},"","","",{"$f":"IF(ISBLANK('MIS - Pharmacy'!V751),\"\",'MIS - Pharmacy'!V751)","v":""},"","","",{"$f":"IF(ISBLANK('MIS - Pharmacy'!J751),\"\",'MIS - Pharmacy'!J751)","v":""},{"$f":"IF(ISBLANK('MIS - Pharmacy'!AY751),\"\",'MIS - Pharmacy'!AY751)","v":""},{"$f":"IF(ISBLANK('MIS - Pharmacy'!BH751),\"\",'MIS - Pharmacy'!BH751)","v":""},"",""]
[{"$f":"IF(ISBLANK('MIS - Pharmacy'!A752), \"\",'MIS - Pharmacy'!A752)","v":""},{"$f":"IF(ISBLANK('MIS - Pharmacy'!B752),\"\",('MIS - Pharmacy'!B752&\"(\"&'MIS - Pharmacy'!D752&\")\"))","v":""},{"$f":"IF(ISBLANK('MIS - Pharmacy'!BI752), \"\", 'MIS - Pharmacy'!BI752)","v":""},{"$f":"IF(ISBLANK('MIS - Pharmacy'!U752), \"\", 'MIS - Pharmacy'!U752)","v":""},"","","","","","","",{"$f":"IF(ISBLANK('MIS - Pharmacy'!AC752),\"\",'MIS - Pharmacy'!AC752)","v":""},"",{"$f":"IF(ISBLANK('MIS - Pharmacy'!AD752),\"\",'MIS - Pharmacy'!AD752)","v":""},"","",{"$f":"IF('MIS - Pharmacy'!A752=\"\",\"\",SUM('MIS - Pharmacy'!K752+'MIS - Pharmacy'!L752))","v":""},"",{"$f":"IF('MIS - Pharmacy'!A752=\"\",\"\",('MIS - Pharmacy'!AF752+'MIS - Pharmacy'!AH752 +'MIS - Pharmacy'!AG752))","v":""},{"$f":"IF(ISBLANK('MIS - Pharmacy'!AI752),\"\",'MIS - Pharmacy'!AI752)","v":""},"","","",{"$f":"IF(ISBLANK('MIS - Pharmacy'!V752),\"\",'MIS - Pharmacy'!V752)","v":""},"","","",{"$f":"IF(ISBLANK('MIS - Pharmacy'!J752),\"\",'MIS - Pharmacy'!J752)","v":""},{"$f":"IF(ISBLANK('MIS - Pharmacy'!AY752),\"\",'MIS - Pharmacy'!AY752)","v":""},{"$f":"IF(ISBLANK('MIS - Pharmacy'!BH752),\"\",'MIS - Pharmacy'!BH752)","v":""},"",""]
[{"$f":"IF(ISBLANK('MIS - Pharmacy'!A753), \"\",'MIS - Pharmacy'!A753)","v":""},{"$f":"IF(ISBLANK('MIS - Pharmacy'!B753),\"\",('MIS - Pharmacy'!B753&\"(\"&'MIS - Pharmacy'!D753&\")\"))","v":""},{"$f":"IF(ISBLANK('MIS - Pharmacy'!BI753), \"\", 'MIS - Pharmacy'!BI753)","v":""},{"$f":"IF(ISBLANK('MIS - Pharmacy'!U753), \"\", 'MIS - Pharmacy'!U753)","v":""},"","","","","","","",{"$f":"IF(ISBLANK('MIS - Pharmacy'!AC753),\"\",'MIS - Pharmacy'!AC753)","v":""},"",{"$f":"IF(ISBLANK('MIS - Pharmacy'!AD753),\"\",'MIS - Pharmacy'!AD753)","v":""},"","",{"$f":"IF('MIS - Pharmacy'!A753=\"\",\"\",SUM('MIS - Pharmacy'!K753+'MIS - Pharmacy'!L753))","v":""},"",{"$f":"IF('MIS - Pharmacy'!A753=\"\",\"\",('MIS - Pharmacy'!AF753+'MIS - Pharmacy'!AH753 +'MIS - Pharmacy'!AG753))","v":""},{"$f":"IF(ISBLANK('MIS - Pharmacy'!AI753),\"\",'MIS - Pharmacy'!AI753)","v":""},"","","",{"$f":"IF(ISBLANK('MIS - Pharmacy'!V753),\"\",'MIS - Pharmacy'!V753)","v":""},"","","",{"$f":"IF(ISBLANK('MIS - Pharmacy'!J753),\"\",'MIS - Pharmacy'!J753)","v":""},{"$f":"IF(ISBLANK('MIS - Pharmacy'!AY753),\"\",'MIS - Pharmacy'!AY753)","v":""},{"$f":"IF(ISBLANK('MIS - Pharmacy'!BH753),\"\",'MIS - Pharmacy'!BH753)","v":""},"",""]
[{"$f":"IF(ISBLANK('MIS - Pharmacy'!A754), \"\",'MIS - Pharmacy'!A754)","v":""},{"$f":"IF(ISBLANK('MIS - Pharmacy'!B754),\"\",('MIS - Pharmacy'!B754&\"(\"&'MIS - Pharmacy'!D754&\")\"))","v":""},{"$f":"IF(ISBLANK('MIS - Pharmacy'!BI754), \"\", 'MIS - Pharmacy'!BI754)","v":""},{"$f":"IF(ISBLANK('MIS - Pharmacy'!U754), \"\", 'MIS - Pharmacy'!U754)","v":""},"","","","","","","",{"$f":"IF(ISBLANK('MIS - Pharmacy'!AC754),\"\",'MIS - Pharmacy'!AC754)","v":""},"",{"$f":"IF(ISBLANK('MIS - Pharmacy'!AD754),\"\",'MIS - Pharmacy'!AD754)","v":""},"","",{"$f":"IF('MIS - Pharmacy'!A754=\"\",\"\",SUM('MIS - Pharmacy'!K754+'MIS - Pharmacy'!L754))","v":""},"",{"$f":"IF('MIS - Pharmacy'!A754=\"\",\"\",('MIS - Pharmacy'!AF754+'MIS - Pharmacy'!AH754 +'MIS - Pharmacy'!AG754))","v":""},{"$f":"IF(ISBLANK('MIS - Pharmacy'!AI754),\"\",'MIS - Pharmacy'!AI754)","v":""},"","","",{"$f":"IF(ISBLANK('MIS - Pharmacy'!V754),\"\",'MIS - Pharmacy'!V754)","v":""},"","","",{"$f":"IF(ISBLANK('MIS - Pharmacy'!J754),\"\",'MIS - Pharmacy'!J754)","v":""},{"$f":"IF(ISBLANK('MIS - Pharmacy'!AY754),\"\",'MIS - Pharmacy'!AY754)","v":""},{"$f":"IF(ISBLANK('MIS - Pharmacy'!BH754),\"\",'MIS - Pharmacy'!BH754)","v":""},"",""]
[{"$f":"IF(ISBLANK('MIS - Pharmacy'!A755), \"\",'MIS - Pharmacy'!A755)","v":""},{"$f":"IF(ISBLANK('MIS - Pharmacy'!B755),\"\",('MIS - Pharmacy'!B755&\"(\"&'MIS - Pharmacy'!D755&\")\"))","v":""},{"$f":"IF(ISBLANK('MIS - Pharmacy'!BI755), \"\", 'MIS - Pharmacy'!BI755)","v":""},{"$f":"IF(ISBLANK('MIS - Pharmacy'!U755), \"\", 'MIS - Pharmacy'!U755)","v":""},"","","","","","","",{"$f":"IF(ISBLANK('MIS - Pharmacy'!AC755),\"\",'MIS - Pharmacy'!AC755)","v":""},"",{"$f":"IF(ISBLANK('MIS - Pharmacy'!AD755),\"\",'MIS - Pharmacy'!AD755)","v":""},"","",{"$f":"IF('MIS - Pharmacy'!A755=\"\",\"\",SUM('MIS - Pharmacy'!K755+'MIS - Pharmacy'!L755))","v":""},"",{"$f":"IF('MIS - Pharmacy'!A755=\"\",\"\",('MIS - Pharmacy'!AF755+'MIS - Pharmacy'!AH755 +'MIS - Pharmacy'!AG755))","v":""},{"$f":"IF(ISBLANK('MIS - Pharmacy'!AI755),\"\",'MIS - Pharmacy'!AI755)","v":""},"","","",{"$f":"IF(ISBLANK('MIS - Pharmacy'!V755),\"\",'MIS - Pharmacy'!V755)","v":""},"","","",{"$f":"IF(ISBLANK('MIS - Pharmacy'!J755),\"\",'MIS - Pharmacy'!J755)","v":""},{"$f":"IF(ISBLANK('MIS - Pharmacy'!AY755),\"\",'MIS - Pharmacy'!AY755)","v":""},{"$f":"IF(ISBLANK('MIS - Pharmacy'!BH755),\"\",'MIS - Pharmacy'!BH755)","v":""},"",""]
[{"$f":"IF(ISBLANK('MIS - Pharmacy'!A756), \"\",'MIS - Pharmacy'!A756)","v":""},{"$f":"IF(ISBLANK('MIS - Pharmacy'!B756),\"\",('MIS - Pharmacy'!B756&\"(\"&'MIS - Pharmacy'!D756&\")\"))","v":""},{"$f":"IF(ISBLANK('MIS - Pharmacy'!BI756), \"\", 'MIS - Pharmacy'!BI756)","v":""},{"$f":"IF(ISBLANK('MIS - Pharmacy'!U756), \"\", 'MIS - Pharmacy'!U756)","v":""},"","","","","","","",{"$f":"IF(ISBLANK('MIS - Pharmacy'!AC756),\"\",'MIS - Pharmacy'!AC756)","v":""},"",{"$f":"IF(ISBLANK('MIS - Pharmacy'!AD756),\"\",'MIS - Pharmacy'!AD756)","v":""},"","",{"$f":"IF('MIS - Pharmacy'!A756=\"\",\"\",SUM('MIS - Pharmacy'!K756+'MIS - Pharmacy'!L756))","v":""},"",{"$f":"IF('MIS - Pharmacy'!A756=\"\",\"\",('MIS - Pharmacy'!AF756+'MIS - Pharmacy'!AH756 +'MIS - Pharmacy'!AG756))","v":""},{"$f":"IF(ISBLANK('MIS - Pharmacy'!AI756),\"\",'MIS - Pharmacy'!AI756)","v":""},"","","",{"$f":"IF(ISBLANK('MIS - Pharmacy'!V756),\"\",'MIS - Pharmacy'!V756)","v":""},"","","",{"$f":"IF(ISBLANK('MIS - Pharmacy'!J756),\"\",'MIS - Pharmacy'!J756)","v":""},{"$f":"IF(ISBLANK('MIS - Pharmacy'!AY756),\"\",'MIS - Pharmacy'!AY756)","v":""},{"$f":"IF(ISBLANK('MIS - Pharmacy'!BH756),\"\",'MIS - Pharmacy'!BH756)","v":""},"",""]
[{"$f":"IF(ISBLANK('MIS - Pharmacy'!A757), \"\",'MIS - Pharmacy'!A757)","v":""},{"$f":"IF(ISBLANK('MIS - Pharmacy'!B757),\"\",('MIS - Pharmacy'!B757&\"(\"&'MIS - Pharmacy'!D757&\")\"))","v":""},{"$f":"IF(ISBLANK('MIS - Pharmacy'!BI757), \"\", 'MIS - Pharmacy'!BI757)","v":""},{"$f":"IF(ISBLANK('MIS - Pharmacy'!U757), \"\", 'MIS - Pharmacy'!U757)","v":""},"","","","","","","",{"$f":"IF(ISBLANK('MIS - Pharmacy'!AC757),\"\",'MIS - Pharmacy'!AC757)","v":""},"",{"$f":"IF(ISBLANK('MIS - Pharmacy'!AD757),\"\",'MIS - Pharmacy'!AD757)","v":""},"","",{"$f":"IF('MIS - Pharmacy'!A757=\"\",\"\",SUM('MIS - Pharmacy'!K757+'MIS - Pharmacy'!L757))","v":""},"",{"$f":"IF('MIS - Pharmacy'!A757=\"\",\"\",('MIS - Pharmacy'!AF757+'MIS - Pharmacy'!AH757 +'MIS - Pharmacy'!AG757))","v":""},{"$f":"IF(ISBLANK('MIS - Pharmacy'!AI757),\"\",'MIS - Pharmacy'!AI757)","v":""},"","","",{"$f":"IF(ISBLANK('MIS - Pharmacy'!V757),\"\",'MIS - Pharmacy'!V757)","v":""},"","","",{"$f":"IF(ISBLANK('MIS - Pharmacy'!J757),\"\",'MIS - Pharmacy'!J757)","v":""},{"$f":"IF(ISBLANK('MIS - Pharmacy'!AY757),\"\",'MIS - Pharmacy'!AY757)","v":""},{"$f":"IF(ISBLANK('MIS - Pharmacy'!BH757),\"\",'MIS - Pharmacy'!BH757)","v":""},"",""]
[{"$f":"IF(ISBLANK('MIS - Pharmacy'!A758), \"\",'MIS - Pharmacy'!A758)","v":""},{"$f":"IF(ISBLANK('MIS - Pharmacy'!B758),\"\",('MIS - Pharmacy'!B758&\"(\"&'MIS - Pharmacy'!D758&\")\"))","v":""},{"$f":"IF(ISBLANK('MIS - Pharmacy'!BI758), \"\", 'MIS - Pharmacy'!BI758)","v":""},{"$f":"IF(ISBLANK('MIS - Pharmacy'!U758), \"\", 'MIS - Pharmacy'!U758)","v":""},"","","","","","","",{"$f":"IF(ISBLANK('MIS - Pharmacy'!AC758),\"\",'MIS - Pharmacy'!AC758)","v":""},"",{"$f":"IF(ISBLANK('MIS - Pharmacy'!AD758),\"\",'MIS - Pharmacy'!AD758)","v":""},"","",{"$f":"IF('MIS - Pharmacy'!A758=\"\",\"\",SUM('MIS - Pharmacy'!K758+'MIS - Pharmacy'!L758))","v":""},"",{"$f":"IF('MIS - Pharmacy'!A758=\"\",\"\",('MIS - Pharmacy'!AF758+'MIS - Pharmacy'!AH758 +'MIS - Pharmacy'!AG758))","v":""},{"$f":"IF(ISBLANK('MIS - Pharmacy'!AI758),\"\",'MIS - Pharmacy'!AI758)","v":""},"","","",{"$f":"IF(ISBLANK('MIS - Pharmacy'!V758),\"\",'MIS - Pharmacy'!V758)","v":""},"","","",{"$f":"IF(ISBLANK('MIS - Pharmacy'!J758),\"\",'MIS - Pharmacy'!J758)","v":""},{"$f":"IF(ISBLANK('MIS - Pharmacy'!AY758),\"\",'MIS - Pharmacy'!AY758)","v":""},{"$f":"IF(ISBLANK('MIS - Pharmacy'!BH758),\"\",'MIS - Pharmacy'!BH758)","v":""},"",""]
[{"$f":"IF(ISBLANK('MIS - Pharmacy'!A759), \"\",'MIS - Pharmacy'!A759)","v":""},{"$f":"IF(ISBLANK('MIS - Pharmacy'!B759),\"\",('MIS - Pharmacy'!B759&\"(\"&'MIS - Pharmacy'!D759&\")\"))","v":""},{"$f":"IF(ISBLANK('MIS - Pharmacy'!BI759), \"\", 'MIS - Pharmacy'!BI759)","v":""},{"$f":"IF(ISBLANK('MIS - Pharmacy'!U759), \"\", 'MIS - Pharmacy'!U759)","v":""},"","","","","","","",{"$f":"IF(ISBLANK('MIS - Pharmacy'!AC759),\"\",'MIS - Pharmacy'!AC759)","v":""},"",{"$f":"IF(ISBLANK('MIS - Pharmacy'!AD759),\"\",'MIS - Pharmacy'!AD759)","v":""},"","",{"$f":"IF('MIS - Pharmacy'!A759=\"\",\"\",SUM('MIS - Pharmacy'!K759+'MIS - Pharmacy'!L759))","v":""},"",{"$f":"IF('MIS - Pharmacy'!A759=\"\",\"\",('MIS - Pharmacy'!AF759+'MIS - Pharmacy'!AH759 +'MIS - Pharmacy'!AG759))","v":""},{"$f":"IF(ISBLANK('MIS - Pharmacy'!AI759),\"\",'MIS - Pharmacy'!AI759)","v":""},"","","",{"$f":"IF(ISBLANK('MIS - Pharmacy'!V759),\"\",'MIS - Pharmacy'!V759)","v":""},"","","",{"$f":"IF(ISBLANK('MIS - Pharmacy'!J759),\"\",'MIS - Pharmacy'!J759)","v":""},{"$f":"IF(ISBLANK('MIS - Pharmacy'!AY759),\"\",'MIS - Pharmacy'!AY759)","v":""},{"$f":"IF(ISBLANK('MIS - Pharmacy'!BH759),\"\",'MIS - Pharmacy'!BH759)","v":""},"",""]
[{"$f":"IF(ISBLANK('MIS - Pharmacy'!A760), \"\",'MIS - Pharmacy'!A760)","v":""},{"$f":"IF(ISBLANK('MIS - Pharmacy'!B760),\"\",('MIS - Pharmacy'!B760&\"(\"&'MIS - Pharmacy'!D760&\")\"))","v":""},{"$f":"IF(ISBLANK('MIS - Pharmacy'!BI760), \"\", 'MIS - Pharmacy'!BI760)","v":""},{"$f":"IF(ISBLANK('MIS - Pharmacy'!U760), \"\", 'MIS - Pharmacy'!U760)","v":""},"","","","","","","",{"$f":"IF(ISBLANK('MIS - Pharmacy'!AC760),\"\",'MIS - Pharmacy'!AC760)","v":""},"",{"$f":"IF(ISBLANK('MIS - Pharmacy'!AD760),\"\",'MIS - Pharmacy'!AD760)","v":""},"","",{"$f":"IF('MIS - Pharmacy'!A760=\"\",\"\",SUM('MIS - Pharmacy'!K760+'MIS - Pharmacy'!L760))","v":""},"",{"$f":"IF('MIS - Pharmacy'!A760=\"\",\"\",('MIS - Pharmacy'!AF760+'MIS - Pharmacy'!AH760 +'MIS - Pharmacy'!AG760))","v":""},{"$f":"IF(ISBLANK('MIS - Pharmacy'!AI760),\"\",'MIS - Pharmacy'!AI760)","v":""},"","","",{"$f":"IF(ISBLANK('MIS - Pharmacy'!V760),\"\",'MIS - Pharmacy'!V760)","v":""},"","","",{"$f":"IF(ISBLANK('MIS - Pharmacy'!J760),\"\",'MIS - Pharmacy'!J760)","v":""},{"$f":"IF(ISBLANK('MIS - Pharmacy'!AY760),\"\",'MIS - Pharmacy'!AY760)","v":""},{"$f":"IF(ISBLANK('MIS - Pharmacy'!BH760),\"\",'MIS - Pharmacy'!BH760)","v":""},"",""]
[{"$f":"IF(ISBLANK('MIS - Pharmacy'!A761), \"\",'MIS - Pharmacy'!A761)","v":""},{"$f":"IF(ISBLANK('MIS - Pharmacy'!B761),\"\",('MIS - Pharmacy'!B761&\"(\"&'MIS - Pharmacy'!D761&\")\"))","v":""},{"$f":"IF(ISBLANK('MIS - Pharmacy'!BI761), \"\", 'MIS - Pharmacy'!BI761)","v":""},{"$f":"IF(ISBLANK('MIS - Pharmacy'!U761), \"\", 'MIS - Pharmacy'!U761)","v":""},"","","","","","","",{"$f":"IF(ISBLANK('MIS - Pharmacy'!AC761),\"\",'MIS - Pharmacy'!AC761)","v":""},"",{"$f":"IF(ISBLANK('MIS - Pharmacy'!AD761),\"\",'MIS - Pharmacy'!AD761)","v":""},"","",{"$f":"IF('MIS - Pharmacy'!A761=\"\",\"\",SUM('MIS - Pharmacy'!K761+'MIS - Pharmacy'!L761))","v":""},"",{"$f":"IF('MIS - Pharmacy'!A761=\"\",\"\",('MIS - Pharmacy'!AF761+'MIS - Pharmacy'!AH761 +'MIS - Pharmacy'!AG761))","v":""},{"$f":"IF(ISBLANK('MIS - Pharmacy'!AI761),\"\",'MIS - Pharmacy'!AI761)","v":""},"","","",{"$f":"IF(ISBLANK('MIS - Pharmacy'!V761),\"\",'MIS - Pharmacy'!V761)","v":""},"","","",{"$f":"IF(ISBLANK('MIS - Pharmacy'!J761),\"\",'MIS - Pharmacy'!J761)","v":""},{"$f":"IF(ISBLANK('MIS - Pharmacy'!AY761),\"\",'MIS - Pharmacy'!AY761)","v":""},{"$f":"IF(ISBLANK('MIS - Pharmacy'!BH761),\"\",'MIS - Pharmacy'!BH761)","v":""},"",""]
[{"$f":"IF(ISBLANK('MIS - Pharmacy'!A762), \"\",'MIS - Pharmacy'!A762)","v":""},{"$f":"IF(ISBLANK('MIS - Pharmacy'!B762),\"\",('MIS - Pharmacy'!B762&\"(\"&'MIS - Pharmacy'!D762&\")\"))","v":""},{"$f":"IF(ISBLANK('MIS - Pharmacy'!BI762), \"\", 'MIS - Pharmacy'!BI762)","v":""},{"$f":"IF(ISBLANK('MIS - Pharmacy'!U762), \"\", 'MIS - Pharmacy'!U762)","v":""},"","","","","","","",{"$f":"IF(ISBLANK('MIS - Pharmacy'!AC762),\"\",'MIS - Pharmacy'!AC762)","v":""},"",{"$f":"IF(ISBLANK('MIS - Pharmacy'!AD762),\"\",'MIS - Pharmacy'!AD762)","v":""},"","",{"$f":"IF('MIS - Pharmacy'!A762=\"\",\"\",SUM('MIS - Pharmacy'!K762+'MIS - Pharmacy'!L762))","v":""},"",{"$f":"IF('MIS - Pharmacy'!A762=\"\",\"\",('MIS - Pharmacy'!AF762+'MIS - Pharmacy'!AH762 +'MIS - Pharmacy'!AG762))","v":""},{"$f":"IF(ISBLANK('MIS - Pharmacy'!AI762),\"\",'MIS - Pharmacy'!AI762)","v":""},"","","",{"$f":"IF(ISBLANK('MIS - Pharmacy'!V762),\"\",'MIS - Pharmacy'!V762)","v":""},"","","",{"$f":"IF(ISBLANK('MIS - Pharmacy'!J762),\"\",'MIS - Pharmacy'!J762)","v":""},{"$f":"IF(ISBLANK('MIS - Pharmacy'!AY762),\"\",'MIS - Pharmacy'!AY762)","v":""},{"$f":"IF(ISBLANK('MIS - Pharmacy'!BH762),\"\",'MIS - Pharmacy'!BH762)","v":""},"",""]
[{"$f":"IF(ISBLANK('MIS - Pharmacy'!A763), \"\",'MIS - Pharmacy'!A763)","v":""},{"$f":"IF(ISBLANK('MIS - Pharmacy'!B763),\"\",('MIS - Pharmacy'!B763&\"(\"&'MIS - Pharmacy'!D763&\")\"))","v":""},{"$f":"IF(ISBLANK('MIS - Pharmacy'!BI763), \"\", 'MIS - Pharmacy'!BI763)","v":""},{"$f":"IF(ISBLANK('MIS - Pharmacy'!U763), \"\", 'MIS - Pharmacy'!U763)","v":""},"","","","","","","",{"$f":"IF(ISBLANK('MIS - Pharmacy'!AC763),\"\",'MIS - Pharmacy'!AC763)","v":""},"",{"$f":"IF(ISBLANK('MIS - Pharmacy'!AD763),\"\",'MIS - Pharmacy'!AD763)","v":""},"","",{"$f":"IF('MIS - Pharmacy'!A763=\"\",\"\",SUM('MIS - Pharmacy'!K763+'MIS - Pharmacy'!L763))","v":""},"",{"$f":"IF('MIS - Pharmacy'!A763=\"\",\"\",('MIS - Pharmacy'!AF763+'MIS - Pharmacy'!AH763 +'MIS - Pharmacy'!AG763))","v":""},{"$f":"IF(ISBLANK('MIS - Pharmacy'!AI763),\"\",'MIS - Pharmacy'!AI763)","v":""},"","","",{"$f":"IF(ISBLANK('MIS - Pharmacy'!V763),\"\",'MIS - Pharmacy'!V763)","v":""},"","","",{"$f":"IF(ISBLANK('MIS - Pharmacy'!J763),\"\",'MIS - Pharmacy'!J763)","v":""},{"$f":"IF(ISBLANK('MIS - Pharmacy'!AY763),\"\",'MIS - Pharmacy'!AY763)","v":""},{"$f":"IF(ISBLANK('MIS - Pharmacy'!BH763),\"\",'MIS - Pharmacy'!BH763)","v":""},"",""]
[{"$f":"IF(ISBLANK('MIS - Pharmacy'!A764), \"\",'MIS - Pharmacy'!A764)","v":""},{"$f":"IF(ISBLANK('MIS - Pharmacy'!B764),\"\",('MIS - Pharmacy'!B764&\"(\"&'MIS - Pharmacy'!D764&\")\"))","v":""},{"$f":"IF(ISBLANK('MIS - Pharmacy'!BI764), \"\", 'MIS - Pharmacy'!BI764)","v":""},{"$f":"IF(ISBLANK('MIS - Pharmacy'!U764), \"\", 'MIS - Pharmacy'!U764)","v":""},"","","","","","","",{"$f":"IF(ISBLANK('MIS - Pharmacy'!AC764),\"\",'MIS - Pharmacy'!AC764)","v":""},"",{"$f":"IF(ISBLANK('MIS - Pharmacy'!AD764),\"\",'MIS - Pharmacy'!AD764)","v":""},"","",{"$f":"IF('MIS - Pharmacy'!A764=\"\",\"\",SUM('MIS - Pharmacy'!K764+'MIS - Pharmacy'!L764))","v":""},"",{"$f":"IF('MIS - Pharmacy'!A764=\"\",\"\",('MIS - Pharmacy'!AF764+'MIS - Pharmacy'!AH764 +'MIS - Pharmacy'!AG764))","v":""},{"$f":"IF(ISBLANK('MIS - Pharmacy'!AI764),\"\",'MIS - Pharmacy'!AI764)","v":""},"","","",{"$f":"IF(ISBLANK('MIS - Pharmacy'!V764),\"\",'MIS - Pharmacy'!V764)","v":""},"","","",{"$f":"IF(ISBLANK('MIS - Pharmacy'!J764),\"\",'MIS - Pharmacy'!J764)","v":""},{"$f":"IF(ISBLANK('MIS - Pharmacy'!AY764),\"\",'MIS - Pharmacy'!AY764)","v":""},{"$f":"IF(ISBLANK('MIS - Pharmacy'!BH764),\"\",'MIS - Pharmacy'!BH764)","v":""},"",""]
[{"$f":"IF(ISBLANK('MIS - Pharmacy'!A765), \"\",'MIS - Pharmacy'!A765)","v":""},{"$f":"IF(ISBLANK('MIS - Pharmacy'!B765),\"\",('MIS - Pharmacy'!B765&\"(\"&'MIS - Pharmacy'!D765&\")\"))","v":""},{"$f":"IF(ISBLANK('MIS - Pharmacy'!BI765), \"\", 'MIS - Pharmacy'!BI765)","v":""},{"$f":"IF(ISBLANK('MIS - Pharmacy'!U765), \"\", 'MIS - Pharmacy'!U765)","v":""},"","","","","","","",{"$f":"IF(ISBLANK('MIS - Pharmacy'!AC765),\"\",'MIS - Pharmacy'!AC765)","v":""},"",{"$f":"IF(ISBLANK('MIS - Pharmacy'!AD765),\"\",'MIS - Pharmacy'!AD765)","v":""},"","",{"$f":"IF('MIS - Pharmacy'!A765=\"\",\"\",SUM('MIS - Pharmacy'!K765+'MIS - Pharmacy'!L765))","v":""},"",{"$f":"IF('MIS - Pharmacy'!A765=\"\",\"\",('MIS - Pharmacy'!AF765+'MIS - Pharmacy'!AH765 +'MIS - Pharmacy'!AG765))","v":""},{"$f":"IF(ISBLANK('MIS - Pharmacy'!AI765),\"\",'MIS - Pharmacy'!AI765)","v":""},"","","",{"$f":"IF(ISBLANK('MIS - Pharmacy'!V765),\"\",'MIS - Pharmacy'!V765)","v":""},"","","",{"$f":"IF(ISBLANK('MIS - Pharmacy'!J765),\"\",'MIS - Pharmacy'!J765)","v":""},{"$f":"IF(ISBLANK('MIS - Pharmacy'!AY765),\"\",'MIS - Pharmacy'!AY765)","v":""},{"$f":"IF(ISBLANK('MIS - Pharmacy'!BH765),\"\",'MIS - Pharmacy'!BH765)","v":""},"",""]
[{"$f":"IF(ISBLANK('MIS - Pharmacy'!A766), \"\",'MIS - Pharmacy'!A766)","v":""},{"$f":"IF(ISBLANK('MIS - Pharmacy'!B766),\"\",('MIS - Pharmacy'!B766&\"(\"&'MIS - Pharmacy'!D766&\")\"))","v":""},{"$f":"IF(ISBLANK('MIS - Pharmacy'!BI766), \"\", 'MIS - Pharmacy'!BI766)","v":""},{"$f":"IF(ISBLANK('MIS - Pharmacy'!U766), \"\", 'MIS - Pharmacy'!U766)","v":""},"","","","","","","",{"$f":"IF(ISBLANK('MIS - Pharmacy'!AC766),\"\",'MIS - Pharmacy'!AC766)","v":""},"",{"$f":"IF(ISBLANK('MIS - Pharmacy'!AD766),\"\",'MIS - Pharmacy'!AD766)","v":""},"","",{"$f":"IF('MIS - Pharmacy'!A766=\"\",\"\",SUM('MIS - Pharmacy'!K766+'MIS - Pharmacy'!L766))","v":""},"",{"$f":"IF('MIS - Pharmacy'!A766=\"\",\"\",('MIS - Pharmacy'!AF766+'MIS - Pharmacy'!AH766 +'MIS - Pharmacy'!AG766))","v":""},{"$f":"IF(ISBLANK('MIS - Pharmacy'!AI766),\"\",'MIS - Pharmacy'!AI766)","v":""},"","","",{"$f":"IF(ISBLANK('MIS - Pharmacy'!V766),\"\",'MIS - Pharmacy'!V766)","v":""},"","","",{"$f":"IF(ISBLANK('MIS - Pharmacy'!J766),\"\",'MIS - Pharmacy'!J766)","v":""},{"$f":"IF(ISBLANK('MIS - Pharmacy'!AY766),\"\",'MIS - Pharmacy'!AY766)","v":""},{"$f":"IF(ISBLANK('MIS - Pharmacy'!BH766),\"\",'MIS - Pharmacy'!BH766)","v":""},"",""]
[{"$f":"IF(ISBLANK('MIS - Pharmacy'!A767), \"\",'MIS - Pharmacy'!A767)","v":""},{"$f":"IF(ISBLANK('MIS - Pharmacy'!B767),\"\",('MIS - Pharmacy'!B767&\"(\"&'MIS - Pharmacy'!D767&\")\"))","v":""},{"$f":"IF(ISBLANK('MIS - Pharmacy'!BI767), \"\", 'MIS - Pharmacy'!BI767)","v":""},{"$f":"IF(ISBLANK('MIS - Pharmacy'!U767), \"\", 'MIS - Pharmacy'!U767)","v":""},"","","","","","","",{"$f":"IF(ISBLANK('MIS - Pharmacy'!AC767),\"\",'MIS - Pharmacy'!AC767)","v":""},"",{"$f":"IF(ISBLANK('MIS - Pharmacy'!AD767),\"\",'MIS - Pharmacy'!AD767)","v":""},"","",{"$f":"IF('MIS - Pharmacy'!A767=\"\",\"\",SUM('MIS - Pharmacy'!K767+'MIS - Pharmacy'!L767))","v":""},"",{"$f":"IF('MIS - Pharmacy'!A767=\"\",\"\",('MIS - Pharmacy'!AF767+'MIS - Pharmacy'!AH767 +'MIS - Pharmacy'!AG767))","v":""},{"$f":"IF(ISBLANK('MIS - Pharmacy'!AI767),\"\",'MIS - Pharmacy'!AI767)","v":""},"","","",{"$f":"IF(ISBLANK('MIS - Pharmacy'!V767),\"\",'MIS - Pharmacy'!V767)","v":""},"","","",{"$f":"IF(ISBLANK('MIS - Pharmacy'!J767),\"\",'MIS - Pharmacy'!J767)","v":""},{"$f":"IF(ISBLANK('MIS - Pharmacy'!AY767),\"\",'MIS - Pharmacy'!AY767)","v":""},{"$f":"IF(ISBLANK('MIS - Pharmacy'!BH767),\"\",'MIS - Pharmacy'!BH767)","v":""},"",""]
[{"$f":"IF(ISBLANK('MIS - Pharmacy'!A768), \"\",'MIS - Pharmacy'!A768)","v":""},{"$f":"IF(ISBLANK('MIS - Pharmacy'!B768),\"\",('MIS - Pharmacy'!B768&\"(\"&'MIS - Pharmacy'!D768&\")\"))","v":""},{"$f":"IF(ISBLANK('MIS - Pharmacy'!BI768), \"\", 'MIS - Pharmacy'!BI768)","v":""},{"$f":"IF(ISBLANK('MIS - Pharmacy'!U768), \"\", 'MIS - Pharmacy'!U768)","v":""},"","","","","","","",{"$f":"IF(ISBLANK('MIS - Pharmacy'!AC768),\"\",'MIS - Pharmacy'!AC768)","v":""},"",{"$f":"IF(ISBLANK('MIS - Pharmacy'!AD768),\"\",'MIS - Pharmacy'!AD768)","v":""},"","",{"$f":"IF('MIS - Pharmacy'!A768=\"\",\"\",SUM('MIS - Pharmacy'!K768+'MIS - Pharmacy'!L768))","v":""},"",{"$f":"IF('MIS - Pharmacy'!A768=\"\",\"\",('MIS - Pharmacy'!AF768+'MIS - Pharmacy'!AH768 +'MIS - Pharmacy'!AG768))","v":""},{"$f":"IF(ISBLANK('MIS - Pharmacy'!AI768),\"\",'MIS - Pharmacy'!AI768)","v":""},"","","",{"$f":"IF(ISBLANK('MIS - Pharmacy'!V768),\"\",'MIS - Pharmacy'!V768)","v":""},"","","",{"$f":"IF(ISBLANK('MIS - Pharmacy'!J768),\"\",'MIS - Pharmacy'!J768)","v":""},{"$f":"IF(ISBLANK('MIS - Pharmacy'!AY768),\"\",'MIS - Pharmacy'!AY768)","v":""},{"$f":"IF(ISBLANK('MIS - Pharmacy'!BH768),\"\",'MIS - Pharmacy'!BH768)","v":""},"",""]
[{"$f":"IF(ISBLANK('MIS - Pharmacy'!A769), \"\",'MIS - Pharmacy'!A769)","v":""},{"$f":"IF(ISBLANK('MIS - Pharmacy'!B769),\"\",('MIS - Pharmacy'!B769&\"(\"&'MIS - Pharmacy'!D769&\")\"))","v":""},{"$f":"IF(ISBLANK('MIS - Pharmacy'!BI769), \"\", 'MIS - Pharmacy'!BI769)","v":""},{"$f":"IF(ISBLANK('MIS - Pharmacy'!U769), \"\", 'MIS - Pharmacy'!U769)","v":""},"","","","","","","",{"$f":"IF(ISBLANK('MIS - Pharmacy'!AC769),\"\",'MIS - Pharmacy'!AC769)","v":""},"",{"$f":"IF(ISBLANK('MIS - Pharmacy'!AD769),\"\",'MIS - Pharmacy'!AD769)","v":""},"","",{"$f":"IF('MIS - Pharmacy'!A769=\"\",\"\",SUM('MIS - Pharmacy'!K769+'MIS - Pharmacy'!L769))","v":""},"",{"$f":"IF('MIS - Pharmacy'!A769=\"\",\"\",('MIS - Pharmacy'!AF769+'MIS - Pharmacy'!AH769 +'MIS - Pharmacy'!AG769))","v":""},{"$f":"IF(ISBLANK('MIS - Pharmacy'!AI769),\"\",'MIS - Pharmacy'!AI769)","v":""},"","","",{"$f":"IF(ISBLANK('MIS - Pharmacy'!V769),\"\",'MIS - Pharmacy'!V769)","v":""},"","","",{"$f":"IF(ISBLANK('MIS - Pharmacy'!J769),\"\",'MIS - Pharmacy'!J769)","v":""},{"$f":"IF(ISBLANK('MIS - Pharmacy'!AY769),\"\",'MIS - Pharmacy'!AY769)","v":""},{"$f":"IF(ISBLANK('MIS - Pharmacy'!BH769),\"\",'MIS - Pharmacy'!BH769)","v":""},"",""]
[{"$f":"IF(ISBLANK('MIS - Pharmacy'!A770), \"\",'MIS - Pharmacy'!A770)","v":""},{"$f":"IF(ISBLANK('MIS - Pharmacy'!B770),\"\",('MIS - Pharmacy'!B770&\"(\"&'MIS - Pharmacy'!D770&\")\"))","v":""},{"$f":"IF(ISBLANK('MIS - Pharmacy'!BI770), \"\", 'MIS - Pharmacy'!BI770)","v":""},{"$f":"IF(ISBLANK('MIS - Pharmacy'!U770), \"\", 'MIS - Pharmacy'!U770)","v":""},"","","","","","","",{"$f":"IF(ISBLANK('MIS - Pharmacy'!AC770),\"\",'MIS - Pharmacy'!AC770)","v":""},"",{"$f":"IF(ISBLANK('MIS - Pharmacy'!AD770),\"\",'MIS - Pharmacy'!AD770)","v":""},"","",{"$f":"IF('MIS - Pharmacy'!A770=\"\",\"\",SUM('MIS - Pharmacy'!K770+'MIS - Pharmacy'!L770))","v":""},"",{"$f":"IF('MIS - Pharmacy'!A770=\"\",\"\",('MIS - Pharmacy'!AF770+'MIS - Pharmacy'!AH770 +'MIS - Pharmacy'!AG770))","v":""},{"$f":"IF(ISBLANK('MIS - Pharmacy'!AI770),\"\",'MIS - Pharmacy'!AI770)","v":""},"","","",{"$f":"IF(ISBLANK('MIS - Pharmacy'!V770),\"\",'MIS - Pharmacy'!V770)","v":""},"","","",{"$f":"IF(ISBLANK('MIS - Pharmacy'!J770),\"\",'MIS - Pharmacy'!J770)","v":""},{"$f":"IF(ISBLANK('MIS - Pharmacy'!AY770),\"\",'MIS - Pharmacy'!AY770)","v":""},{"$f":"IF(ISBLANK('MIS - Pharmacy'!BH770),\"\",'MIS - Pharmacy'!BH770)","v":""},"",""]
[{"$f":"IF(ISBLANK('MIS - Pharmacy'!A771), \"\",'MIS - Pharmacy'!A771)","v":""},{"$f":"IF(ISBLANK('MIS - Pharmacy'!B771),\"\",('MIS - Pharmacy'!B771&\"(\"&'MIS - Pharmacy'!D771&\")\"))","v":""},{"$f":"IF(ISBLANK('MIS - Pharmacy'!BI771), \"\", 'MIS - Pharmacy'!BI771)","v":""},{"$f":"IF(ISBLANK('MIS - Pharmacy'!U771), \"\", 'MIS - Pharmacy'!U771)","v":""},"","","","","","","",{"$f":"IF(ISBLANK('MIS - Pharmacy'!AC771),\"\",'MIS - Pharmacy'!AC771)","v":""},"",{"$f":"IF(ISBLANK('MIS - Pharmacy'!AD771),\"\",'MIS - Pharmacy'!AD771)","v":""},"","",{"$f":"IF('MIS - Pharmacy'!A771=\"\",\"\",SUM('MIS - Pharmacy'!K771+'MIS - Pharmacy'!L771))","v":""},"",{"$f":"IF('MIS - Pharmacy'!A771=\"\",\"\",('MIS - Pharmacy'!AF771+'MIS - Pharmacy'!AH771 +'MIS - Pharmacy'!AG771))","v":""},{"$f":"IF(ISBLANK('MIS - Pharmacy'!AI771),\"\",'MIS - Pharmacy'!AI771)","v":""},"","","",{"$f":"IF(ISBLANK('MIS - Pharmacy'!V771),\"\",'MIS - Pharmacy'!V771)","v":""},"","","",{"$f":"IF(ISBLANK('MIS - Pharmacy'!J771),\"\",'MIS - Pharmacy'!J771)","v":""},{"$f":"IF(ISBLANK('MIS - Pharmacy'!AY771),\"\",'MIS - Pharmacy'!AY771)","v":""},{"$f":"IF(ISBLANK('MIS - Pharmacy'!BH771),\"\",'MIS - Pharmacy'!BH771)","v":""},"",""]
[{"$f":"IF(ISBLANK('MIS - Pharmacy'!A772), \"\",'MIS - Pharmacy'!A772)","v":""},{"$f":"IF(ISBLANK('MIS - Pharmacy'!B772),\"\",('MIS - Pharmacy'!B772&\"(\"&'MIS - Pharmacy'!D772&\")\"))","v":""},{"$f":"IF(ISBLANK('MIS - Pharmacy'!BI772), \"\", 'MIS - Pharmacy'!BI772)","v":""},{"$f":"IF(ISBLANK('MIS - Pharmacy'!U772), \"\", 'MIS - Pharmacy'!U772)","v":""},"","","","","","","",{"$f":"IF(ISBLANK('MIS - Pharmacy'!AC772),\"\",'MIS - Pharmacy'!AC772)","v":""},"",{"$f":"IF(ISBLANK('MIS - Pharmacy'!AD772),\"\",'MIS - Pharmacy'!AD772)","v":""},"","",{"$f":"IF('MIS - Pharmacy'!A772=\"\",\"\",SUM('MIS - Pharmacy'!K772+'MIS - Pharmacy'!L772))","v":""},"",{"$f":"IF('MIS - Pharmacy'!A772=\"\",\"\",('MIS - Pharmacy'!AF772+'MIS - Pharmacy'!AH772 +'MIS - Pharmacy'!AG772))","v":""},{"$f":"IF(ISBLANK('MIS - Pharmacy'!AI772),\"\",'MIS - Pharmacy'!AI772)","v":""},"","","",{"$f":"IF(ISBLANK('MIS - Pharmacy'!V772),\"\",'MIS - Pharmacy'!V772)","v":""},"","","",{"$f":"IF(ISBLANK('MIS - Pharmacy'!J772),\"\",'MIS - Pharmacy'!J772)","v":""},{"$f":"IF(ISBLANK('MIS - Pharmacy'!AY772),\"\",'MIS - Pharmacy'!AY772)","v":""},{"$f":"IF(ISBLANK('MIS - Pharmacy'!BH772),\"\",'MIS - Pharmacy'!BH772)","v":""},"",""]
[{"$f":"IF(ISBLANK('MIS - Pharmacy'!A773), \"\",'MIS - Pharmacy'!A773)","v":""},{"$f":"IF(ISBLANK('MIS - Pharmacy'!B773),\"\",('MIS - Pharmacy'!B773&\"(\"&'MIS - Pharmacy'!D773&\")\"))","v":""},{"$f":"IF(ISBLANK('MIS - Pharmacy'!BI773), \"\", 'MIS - Pharmacy'!BI773)","v":""},{"$f":"IF(ISBLANK('MIS - Pharmacy'!U773), \"\", 'MIS - Pharmacy'!U773)","v":""},"","","",{"$f":"IF(D782=\"\",\"\",IF(X782=0,0,D782/Y782))","v":""},"","","",{"$f":"IF(ISBLANK('MIS - Pharmacy'!AC773),\"\",'MIS - Pharmacy'!AC773)","v":""},"",{"$f":"IF(ISBLANK('MIS - Pharmacy'!AD773),\"\",'MIS - Pharmacy'!AD773)","v":""},"","",{"$f":"IF('MIS - Pharmacy'!A773=\"\",\"\",SUM('MIS - Pharmacy'!K773+'MIS - Pharmacy'!L773))","v":""},"",{"$f":"IF('MIS - Pharmacy'!A773=\"\",\"\",('MIS - Pharmacy'!AF773+'MIS - Pharmacy'!AH773 +'MIS - Pharmacy'!AG773))","v":""},{"$f":"IF(ISBLANK('MIS - Pharmacy'!AI773),\"\",'MIS - Pharmacy'!AI773)","v":""},"","","",{"$f":"IF(ISBLANK('MIS - Pharmacy'!V773),\"\",'MIS - Pharmacy'!V773)","v":""},"","","",{"$f":"IF(ISBLANK('MIS - Pharmacy'!J773),\"\",'MIS - Pharmacy'!J773)","v":""},{"$f":"IF(ISBLANK('MIS - Pharmacy'!AY773),\"\",'MIS - Pharmacy'!AY773)","v":""},{"$f":"IF(ISBLANK('MIS - Pharmacy'!BH773),\"\",'MIS - Pharmacy'!BH773)","v":""},"",""]
[{"$f":"IF(ISBLANK('MIS - Pharmacy'!A774), \"\",'MIS - Pharmacy'!A774)","v":""},{"$f":"IF(ISBLANK('MIS - Pharmacy'!B774),\"\",('MIS - Pharmacy'!B774&\"(\"&'MIS - Pharmacy'!D774&\")\"))","v":""},{"$f":"IF(ISBLANK('MIS - Pharmacy'!BI774), \"\", 'MIS - Pharmacy'!BI774)","v":""},{"$f":"IF(ISBLANK('MIS - Pharmacy'!U774), \"\", 'MIS - Pharmacy'!U774)","v":""},"","","","","","","",{"$f":"IF(ISBLANK('MIS - Pharmacy'!AC774),\"\",'MIS - Pharmacy'!AC774)","v":""},"",{"$f":"IF(ISBLANK('MIS - Pharmacy'!AD774),\"\",'MIS - Pharmacy'!AD774)","v":""},"","",{"$f":"IF('MIS - Pharmacy'!A774=\"\",\"\",SUM('MIS - Pharmacy'!K774+'MIS - Pharmacy'!L774))","v":""},"",{"$f":"IF('MIS - Pharmacy'!A774=\"\",\"\",('MIS - Pharmacy'!AF774+'MIS - Pharmacy'!AH774 +'MIS - Pharmacy'!AG774))","v":""},{"$f":"IF(ISBLANK('MIS - Pharmacy'!AI774),\"\",'MIS - Pharmacy'!AI774)","v":""},"","","",{"$f":"IF(ISBLANK('MIS - Pharmacy'!V774),\"\",'MIS - Pharmacy'!V774)","v":""},"","","",{"$f":"IF(ISBLANK('MIS - Pharmacy'!J774),\"\",'MIS - Pharmacy'!J774)","v":""},{"$f":"IF(ISBLANK('MIS - Pharmacy'!AY774),\"\",'MIS - Pharmacy'!AY774)","v":""},{"$f":"IF(ISBLANK('MIS - Pharmacy'!BH774),\"\",'MIS - Pharmacy'!BH774)","v":""},"",""]
[{"$f":"IF(ISBLANK('MIS - Pharmacy'!A775), \"\",'MIS - Pharmacy'!A775)","v":""},{"$f":"IF(ISBLANK('MIS - Pharmacy'!B775),\"\",('MIS - Pharmacy'!B775&\"(\"&'MIS - Pharmacy'!D775&\")\"))","v":""},{"$f":"IF(ISBLANK('MIS - Pharmacy'!BI775), \"\", 'MIS - Pharmacy'!BI775)","v":""},{"$f":"IF(ISBLANK('MIS - Pharmacy'!U775), \"\", 'MIS - Pharmacy'!U775)","v":""},"","","","","","","",{"$f":"IF(ISBLANK('MIS - Pharmacy'!AC775),\"\",'MIS - Pharmacy'!AC775)","v":""},"",{"$f":"IF(ISBLANK('MIS - Pharmacy'!AD775),\"\",'MIS - Pharmacy'!AD775)","v":""},"","",{"$f":"IF('MIS - Pharmacy'!A775=\"\",\"\",SUM('MIS - Pharmacy'!K775+'MIS - Pharmacy'!L775))","v":""},"",{"$f":"IF('MIS - Pharmacy'!A775=\"\",\"\",('MIS - Pharmacy'!AF775+'MIS - Pharmacy'!AH775 +'MIS - Pharmacy'!AG775))","v":""},{"$f":"IF(ISBLANK('MIS - Pharmacy'!AI775),\"\",'MIS - Pharmacy'!AI775)","v":""},"","","",{"$f":"IF(ISBLANK('MIS - Pharmacy'!V775),\"\",'MIS - Pharmacy'!V775)","v":""},"","","",{"$f":"IF(ISBLANK('MIS - Pharmacy'!J775),\"\",'MIS - Pharmacy'!J775)","v":""},{"$f":"IF(ISBLANK('MIS - Pharmacy'!AY775),\"\",'MIS - Pharmacy'!AY775)","v":""},{"$f":"IF(ISBLANK('MIS - Pharmacy'!BH775),\"\",'MIS - Pharmacy'!BH775)","v":""},"",""]
[{"$f":"IF(ISBLANK('MIS - Pharmacy'!A776), \"\",'MIS - Pharmacy'!A776)","v":""},{"$f":"IF(ISBLANK('MIS - Pharmacy'!B776),\"\",('MIS - Pharmacy'!B776&\"(\"&'MIS - Pharmacy'!D776&\")\"))","v":""},{"$f":"IF(ISBLANK('MIS - Pharmacy'!BI776), \"\", 'MIS - Pharmacy'!BI776)","v":""},{"$f":"IF(ISBLANK('MIS - Pharmacy'!U776), \"\", 'MIS - Pharmacy'!U776)","v":""},"","","","","","","",{"$f":"IF(ISBLANK('MIS - Pharmacy'!AC776),\"\",'MIS - Pharmacy'!AC776)","v":""},"",{"$f":"IF(ISBLANK('MIS - Pharmacy'!AD776),\"\",'MIS - Pharmacy'!AD776)","v":""},"","",{"$f":"IF('MIS - Pharmacy'!A776=\"\",\"\",SUM('MIS - Pharmacy'!K776+'MIS - Pharmacy'!L776))","v":""},"",{"$f":"IF('MIS - Pharmacy'!A776=\"\",\"\",('MIS - Pharmacy'!AF776+'MIS - Pharmacy'!AH776 +'MIS - Pharmacy'!AG776))","v":""},{"$f":"IF(ISBLANK('MIS - Pharmacy'!AI776),\"\",'MIS - Pharmacy'!AI776)","v":""},"","","",{"$f":"IF(ISBLANK('MIS - Pharmacy'!V776),\"\",'MIS - Pharmacy'!V776)","v":""},"","","",{"$f":"IF(ISBLANK('MIS - Pharmacy'!J776),\"\",'MIS - Pharmacy'!J776)","v":""},{"$f":"IF(ISBLANK('MIS - Pharmacy'!AY776),\"\",'MIS - Pharmacy'!AY776)","v":""},{"$f":"IF(ISBLANK('MIS - Pharmacy'!BH776),\"\",'MIS - Pharmacy'!BH776)","v":""},"",""]
[{"$f":"IF(ISBLANK('MIS - Pharmacy'!A777), \"\",'MIS - Pharmacy'!A777)","v":""},{"$f":"IF(ISBLANK('MIS - Pharmacy'!B777),\"\",('MIS - Pharmacy'!B777&\"(\"&'MIS - Pharmacy'!D777&\")\"))","v":""},{"$f":"IF(ISBLANK('MIS - Pharmacy'!BI777), \"\", 'MIS - Pharmacy'!BI777)","v":""},{"$f":"IF(ISBLANK('MIS - Pharmacy'!U777), \"\", 'MIS - Pharmacy'!U777)","v":""},"","","","","","","",{"$f":"IF(ISBLANK('MIS - Pharmacy'!AC777),\"\",'MIS - Pharmacy'!AC777)","v":""},"",{"$f":"IF(ISBLANK('MIS - Pharmacy'!AD777),\"\",'MIS - Pharmacy'!AD777)","v":""},"","",{"$f":"IF('MIS - Pharmacy'!A777=\"\",\"\",SUM('MIS - Pharmacy'!K777+'MIS - Pharmacy'!L777))","v":""},"",{"$f":"IF('MIS - Pharmacy'!A777=\"\",\"\",('MIS - Pharmacy'!AF777+'MIS - Pharmacy'!AH777 +'MIS - Pharmacy'!AG777))","v":""},{"$f":"IF(ISBLANK('MIS - Pharmacy'!AI777),\"\",'MIS - Pharmacy'!AI777)","v":""},"","","",{"$f":"IF(ISBLANK('MIS - Pharmacy'!V777),\"\",'MIS - Pharmacy'!V777)","v":""},"","","",{"$f":"IF(ISBLANK('MIS - Pharmacy'!J777),\"\",'MIS - Pharmacy'!J777)","v":""},{"$f":"IF(ISBLANK('MIS - Pharmacy'!AY777),\"\",'MIS - Pharmacy'!AY777)","v":""},{"$f":"IF(ISBLANK('MIS - Pharmacy'!BH777),\"\",'MIS - Pharmacy'!BH777)","v":""},"",""]
[{"$f":"IF(ISBLANK('MIS - Pharmacy'!A778), \"\",'MIS - Pharmacy'!A778)","v":""},{"$f":"IF(ISBLANK('MIS - Pharmacy'!B778),\"\",('MIS - Pharmacy'!B778&\"(\"&'MIS - Pharmacy'!D778&\")\"))","v":""},{"$f":"IF(ISBLANK('MIS - Pharmacy'!BI778), \"\", 'MIS - Pharmacy'!BI778)","v":""},{"$f":"IF(ISBLANK('MIS - Pharmacy'!U778), \"\", 'MIS - Pharmacy'!U778)","v":""},"","","","","","","",{"$f":"IF(ISBLANK('MIS - Pharmacy'!AC778),\"\",'MIS - Pharmacy'!AC778)","v":""},"",{"$f":"IF(ISBLANK('MIS - Pharmacy'!AD778),\"\",'MIS - Pharmacy'!AD778)","v":""},"","",{"$f":"IF('MIS - Pharmacy'!A778=\"\",\"\",SUM('MIS - Pharmacy'!K778+'MIS - Pharmacy'!L778))","v":""},"",{"$f":"IF('MIS - Pharmacy'!A778=\"\",\"\",('MIS - Pharmacy'!AF778+'MIS - Pharmacy'!AH778 +'MIS - Pharmacy'!AG778))","v":""},{"$f":"IF(ISBLANK('MIS - Pharmacy'!AI778),\"\",'MIS - Pharmacy'!AI778)","v":""},"","","",{"$f":"IF(ISBLANK('MIS - Pharmacy'!V778),\"\",'MIS - Pharmacy'!V778)","v":""},"","","",{"$f":"IF(ISBLANK('MIS - Pharmacy'!J778),\"\",'MIS - Pharmacy'!J778)","v":""},{"$f":"IF(ISBLANK('MIS - Pharmacy'!AY778),\"\",'MIS - Pharmacy'!AY778)","v":""},{"$f":"IF(ISBLANK('MIS - Pharmacy'!BH778),\"\",'MIS - Pharmacy'!BH778)","v":""},"",""]
[{"$f":"IF(ISBLANK('MIS - Pharmacy'!A779), \"\",'MIS - Pharmacy'!A779)","v":""},{"$f":"IF(ISBLANK('MIS - Pharmacy'!B779),\"\",('MIS - Pharmacy'!B779&\"(\"&'MIS - Pharmacy'!D779&\")\"))","v":""},{"$f":"IF(ISBLANK('MIS - Pharmacy'!BI779), \"\", 'MIS - Pharmacy'!BI779)","v":""},{"$f":"IF(ISBLANK('MIS - Pharmacy'!U779), \"\", 'MIS - Pharmacy'!U779)","v":""},"","","","","","","",{"$f":"IF(ISBLANK('MIS - Pharmacy'!AC779),\"\",'MIS - Pharmacy'!AC779)","v":""},"",{"$f":"IF(ISBLANK('MIS - Pharmacy'!AD779),\"\",'MIS - Pharmacy'!AD779)","v":""},"","",{"$f":"IF('MIS - Pharmacy'!A779=\"\",\"\",SUM('MIS - Pharmacy'!K779+'MIS - Pharmacy'!L779))","v":""},"",{"$f":"IF('MIS - Pharmacy'!A779=\"\",\"\",('MIS - Pharmacy'!AF779+'MIS - Pharmacy'!AH779 +'MIS - Pharmacy'!AG779))","v":""},{"$f":"IF(ISBLANK('MIS - Pharmacy'!AI779),\"\",'MIS - Pharmacy'!AI779)","v":""},"","","",{"$f":"IF(ISBLANK('MIS - Pharmacy'!V779),\"\",'MIS - Pharmacy'!V779)","v":""},"","","",{"$f":"IF(ISBLANK('MIS - Pharmacy'!J779),\"\",'MIS - Pharmacy'!J779)","v":""},{"$f":"IF(ISBLANK('MIS - Pharmacy'!AY779),\"\",'MIS - Pharmacy'!AY779)","v":""},{"$f":"IF(ISBLANK('MIS - Pharmacy'!BH779),\"\",'MIS - Pharmacy'!BH779)","v":""},"",""]
[{"$f":"IF(ISBLANK('MIS - Pharmacy'!A780), \"\",'MIS - Pharmacy'!A780)","v":""},{"$f":"IF(ISBLANK('MIS - Pharmacy'!B780),\"\",('MIS - Pharmacy'!B780&\"(\"&'MIS - Pharmacy'!D780&\")\"))","v":""},{"$f":"IF(ISBLANK('MIS - Pharmacy'!BI780), \"\", 'MIS - Pharmacy'!BI780)","v":""},{"$f":"IF(ISBLANK('MIS - Pharmacy'!U780), \"\", 'MIS - Pharmacy'!U780)","v":""},"","","","","","","",{"$f":"IF(ISBLANK('MIS - Pharmacy'!AC780),\"\",'MIS - Pharmacy'!AC780)","v":""},"",{"$f":"IF(ISBLANK('MIS - Pharmacy'!AD780),\"\",'MIS - Pharmacy'!AD780)","v":""},"","",{"$f":"IF('MIS - Pharmacy'!A780=\"\",\"\",SUM('MIS - Pharmacy'!K780+'MIS - Pharmacy'!L780))","v":""},"",{"$f":"IF('MIS - Pharmacy'!A780=\"\",\"\",('MIS - Pharmacy'!AF780+'MIS - Pharmacy'!AH780 +'MIS - Pharmacy'!AG780))","v":""},{"$f":"IF(ISBLANK('MIS - Pharmacy'!AI780),\"\",'MIS - Pharmacy'!AI780)","v":""},"","","",{"$f":"IF(ISBLANK('MIS - Pharmacy'!V780),\"\",'MIS - Pharmacy'!V780)","v":""},"","","",{"$f":"IF(ISBLANK('MIS - Pharmacy'!J780),\"\",'MIS - Pharmacy'!J780)","v":""},{"$f":"IF(ISBLANK('MIS - Pharmacy'!AY780),\"\",'MIS - Pharmacy'!AY780)","v":""},{"$f":"IF(ISBLANK('MIS - Pharmacy'!BH780),\"\",'MIS - Pharmacy'!BH780)","v":""},"",""]
[{"$f":"IF(ISBLANK('MIS - Pharmacy'!A781), \"\",'MIS - Pharmacy'!A781)","v":""},{"$f":"IF(ISBLANK('MIS - Pharmacy'!B781),\"\",('MIS - Pharmacy'!B781&\"(\"&'MIS - Pharmacy'!D781&\")\"))","v":""},{"$f":"IF(ISBLANK('MIS - Pharmacy'!BI781), \"\", 'MIS - Pharmacy'!BI781)","v":""},{"$f":"IF(ISBLANK('MIS - Pharmacy'!U781), \"\", 'MIS - Pharmacy'!U781)","v":""},"","","","","","","",{"$f":"IF(ISBLANK('MIS - Pharmacy'!AC781),\"\",'MIS - Pharmacy'!AC781)","v":""},"",{"$f":"IF(ISBLANK('MIS - Pharmacy'!AD781),\"\",'MIS - Pharmacy'!AD781)","v":""},"","",{"$f":"IF('MIS - Pharmacy'!A781=\"\",\"\",SUM('MIS - Pharmacy'!K781+'MIS - Pharmacy'!L781))","v":""},"",{"$f":"IF('MIS - Pharmacy'!A781=\"\",\"\",('MIS - Pharmacy'!AF781+'MIS - Pharmacy'!AH781 +'MIS - Pharmacy'!AG781))","v":""},{"$f":"IF(ISBLANK('MIS - Pharmacy'!AI781),\"\",'MIS - Pharmacy'!AI781)","v":""},"","","",{"$f":"IF(ISBLANK('MIS - Pharmacy'!V781),\"\",'MIS - Pharmacy'!V781)","v":""},"","","",{"$f":"IF(ISBLANK('MIS - Pharmacy'!J781),\"\",'MIS - Pharmacy'!J781)","v":""},{"$f":"IF(ISBLANK('MIS - Pharmacy'!AY781),\"\",'MIS - Pharmacy'!AY781)","v":""},{"$f":"IF(ISBLANK('MIS - Pharmacy'!BH781),\"\",'MIS - Pharmacy'!BH781)","v":""},"",""]
[{"$f":"IF(ISBLANK('MIS - Pharmacy'!A782), \"\",'MIS - Pharmacy'!A782)","v":""},{"$f":"IF(ISBLANK('MIS - Pharmacy'!B782),\"\",('MIS - Pharmacy'!B782&\"(\"&'MIS - Pharmacy'!D782&\")\"))","v":""},{"$f":"IF(ISBLANK('MIS - Pharmacy'!BI782), \"\", 'MIS - Pharmacy'!BI782)","v":""},{"$f":"IF(ISBLANK('MIS - Pharmacy'!U782), \"\", 'MIS - Pharmacy'!U782)","v":""},"","","","","","","",{"$f":"IF(ISBLANK('MIS - Pharmacy'!AC782),\"\",'MIS - Pharmacy'!AC782)","v":""},"",{"$f":"IF(ISBLANK('MIS - Pharmacy'!AD782),\"\",'MIS - Pharmacy'!AD782)","v":""},"","",{"$f":"IF('MIS - Pharmacy'!A782=\"\",\"\",SUM('MIS - Pharmacy'!K782+'MIS - Pharmacy'!L782))","v":""},"",{"$f":"IF('MIS - Pharmacy'!A782=\"\",\"\",('MIS - Pharmacy'!AF782+'MIS - Pharmacy'!AH782 +'MIS - Pharmacy'!AG782))","v":""},{"$f":"IF(ISBLANK('MIS - Pharmacy'!AI782),\"\",'MIS - Pharmacy'!AI782)","v":""},"","","",{"$f":"IF(ISBLANK('MIS - Pharmacy'!V782),\"\",'MIS - Pharmacy'!V782)","v":""},"","","",{"$f":"IF(ISBLANK('MIS - Pharmacy'!J782),\"\",'MIS - Pharmacy'!J782)","v":""},{"$f":"IF(ISBLANK('MIS - Pharmacy'!AY782),\"\",'MIS - Pharmacy'!AY782)","v":""},{"$f":"IF(ISBLANK('MIS - Pharmacy'!BH782),\"\",'MIS - Pharmacy'!BH782)","v":""},"",""]
[{"$f":"IF(ISBLANK('MIS - Pharmacy'!A783), \"\",'MIS - Pharmacy'!A783)","v":""},{"$f":"IF(ISBLANK('MIS - Pharmacy'!B783),\"\",('MIS - Pharmacy'!B783&\"(\"&'MIS - Pharmacy'!D783&\")\"))","v":""},{"$f":"IF(ISBLANK('MIS - Pharmacy'!BI783), \"\", 'MIS - Pharmacy'!BI783)","v":""},{"$f":"IF(ISBLANK('MIS - Pharmacy'!U783), \"\", 'MIS - Pharmacy'!U783)","v":""},{"$f":"IF(D792=\"\",\"\",IF(D792<=D$9,\"Lower Outlier\",IF(D792<=D$5,\"Below Average\",IF(D792<=D$6,\"Lower Quartile Range\",IF(D792<=D$7,\"Upper Quartile Range\",IF(D792<=D$10,\"Above Average\",\"Upper Outlier\"))))))","v":""},{"$f":"IF(D792=\"\",\"\",D792*12)","v":""},{"$f":"IF(Q792=\"\",\"\",IF(Q792 = 0, 0, D792/Q792*1000))","v":""},"",{"$f":"IF(A792=\"\",\"\",IF(D792=0,0,(D792*0.3)/Y792))","v":""},{"$f":"IF(D792=0,0,IF(D792=\"\",\"\",D792/Q792))","v":""},{"$f":"IF(D792=0,0,IF(D792=\"\",\"\",D792/X792))","v":""},{"$f":"IF(ISBLANK('MIS - Pharmacy'!AC783),\"\",'MIS - Pharmacy'!AC783)","v":""},{"$f":"IF(L792=\"\",\"\",IF(L792<=L$9,\"Lower Outlier\",IF(L792<=L$5,\"Below Average\",IF(L792<=L$6,\"Lower Quartile Range\",IF(L792<=L$7,\"Upper Quartile Range\",IF(L792<=L$10,\"Above Average\",\"Upper Outlier\"))))))","v":""},{"$f":"IF(ISBLANK('MIS - Pharmacy'!AD783),\"\",'MIS - Pharmacy'!AD783)","v":""},{"$f":"IF(N792=\"\",\"\",IF(N792=0,0,L792/N792*1000))","v":""},{"$f":"IF(L792=\"\",\"\",IF(X792=0,0,L792/X792))","v":""},{"$f":"IF('MIS - Pharmacy'!A783=\"\",\"\",SUM('MIS - Pharmacy'!K783+'MIS - Pharmacy'!L783))","v":""},{"$f":"IF(Q792=\"\",\"\",IF(Q792<=Q$9,\"Lower Outlier\",IF(Q792<=Q$5,\"Below Average\",IF(Q792<=Q$6,\"Lower Quartile Range\",IF(Q792<=Q$7,\"Upper Quartile Range\",IF(Q792<=Q$10,\"Above Average\",\"Upper Outlier\"))))))","v":""},{"$f":"IF('MIS - Pharmacy'!A783=\"\",\"\",('MIS - Pharmacy'!AF783+'MIS - Pharmacy'!AH783 +'MIS - Pharmacy'!AG783))","v":""},{"$f":"IF(ISBLANK('MIS - Pharmacy'!AI783),\"\",'MIS - Pharmacy'!AI783)","v":""},{"$f":"IF(T792=\"\",\"\",IF(T792<=T$9,\"Lower Outlier\",IF(T792<=T$5,\"Below Average\",IF(T792<=T$6,\"Lower Quartile Range\",IF(T792<=T$7,\"Upper Quartile Range\",IF(T792<=T$10,\"Above Average\",\"Upper Outlier\"))))))","v":""},{"$f":"IF(A792=\"\",\"\",IF(T792=0,0,T792/Q792*1000))","v":""},{"$f":"IF(V792=\"\",\"\",IF(S792 >0,(T792/S792*1000),0))","v":""},{"$f":"IF(ISBLANK('MIS - Pharmacy'!V783),\"\",'MIS - Pharmacy'!V783)","v":""},{"$f":"IF(X792=\"\",\"\",(X792/7)*$Y$3)","v":""},{"$f":"IF(X792=\"\",\"\",IF(X792<=X$9,\"Lower Outlier\",IF(X792<=X$5,\"Below Average\",IF(X792<=X$6,\"Lower Quartile Range\",IF(X792<=X$7,\"Upper Quartile Range\",IF(X792<=X$10,\"Above Average\",\"Upper Outlier\"))))))","v":""},{"$f":"IF(A792=\"\",\"\",IF(X792=0,0,Y792/Q792*1000))","v":""},{"$f":"IF(ISBLANK('MIS - Pharmacy'!J783),\"\",'MIS - Pharmacy'!J783)","v":""},{"$f":"IF(ISBLANK('MIS - Pharmacy'!AY783),\"\",'MIS - Pharmacy'!AY783)","v":""},{"$f":"IF(ISBLANK('MIS - Pharmacy'!BH783),\"\",'MIS - Pharmacy'!BH783)","v":""},{"$f":"IF(A792=\"\",\"\",D792+L792)","v":""},{"$f":"IF(A792=\"\",\"\",IF(Y792=0,0,(AE792/Y792)*100))","v":""}]
[{"$f":"IF(ISBLANK('MIS - Pharmacy'!A784), \"\",'MIS - Pharmacy'!A784)","v":""},{"$f":"IF(ISBLANK('MIS - Pharmacy'!B784),\"\",('MIS - Pharmacy'!B784&\"(\"&'MIS - Pharmacy'!D784&\")\"))","v":""},{"$f":"IF(ISBLANK('MIS - Pharmacy'!BI784), \"\", 'MIS - Pharmacy'!BI784)","v":""},{"$f":"IF(ISBLANK('MIS - Pharmacy'!U784), \"\", 'MIS - Pharmacy'!U784)","v":""},"","","","","","","",{"$f":"IF(ISBLANK('MIS - Pharmacy'!AC784),\"\",'MIS - Pharmacy'!AC784)","v":""},"",{"$f":"IF(ISBLANK('MIS - Pharmacy'!AD784),\"\",'MIS - Pharmacy'!AD784)","v":""},"","",{"$f":"IF('MIS - Pharmacy'!A784=\"\",\"\",SUM('MIS - Pharmacy'!K784+'MIS - Pharmacy'!L784))","v":""},"",{"$f":"IF('MIS - Pharmacy'!A784=\"\",\"\",('MIS - Pharmacy'!AF784+'MIS - Pharmacy'!AH784 +'MIS - Pharmacy'!AG784))","v":""},{"$f":"IF(ISBLANK('MIS - Pharmacy'!AI784),\"\",'MIS - Pharmacy'!AI784)","v":""},"","","",{"$f":"IF(ISBLANK('MIS - Pharmacy'!V784),\"\",'MIS - Pharmacy'!V784)","v":""},"","","",{"$f":"IF(ISBLANK('MIS - Pharmacy'!J784),\"\",'MIS - Pharmacy'!J784)","v":""},{"$f":"IF(ISBLANK('MIS - Pharmacy'!AY784),\"\",'MIS - Pharmacy'!AY784)","v":""},{"$f":"IF(ISBLANK('MIS - Pharmacy'!BH784),\"\",'MIS - Pharmacy'!BH784)","v":""},"",""]
[{"$f":"IF(ISBLANK('MIS - Pharmacy'!A785), \"\",'MIS - Pharmacy'!A785)","v":""},{"$f":"IF(ISBLANK('MIS - Pharmacy'!B785),\"\",('MIS - Pharmacy'!B785&\"(\"&'MIS - Pharmacy'!D785&\")\"))","v":""},{"$f":"IF(ISBLANK('MIS - Pharmacy'!BI785), \"\", 'MIS - Pharmacy'!BI785)","v":""},{"$f":"IF(ISBLANK('MIS - Pharmacy'!U785), \"\", 'MIS - Pharmacy'!U785)","v":""},"","","","","","","",{"$f":"IF(ISBLANK('MIS - Pharmacy'!AC785),\"\",'MIS - Pharmacy'!AC785)","v":""},"",{"$f":"IF(ISBLANK('MIS - Pharmacy'!AD785),\"\",'MIS - Pharmacy'!AD785)","v":""},"","",{"$f":"IF('MIS - Pharmacy'!A785=\"\",\"\",SUM('MIS - Pharmacy'!K785+'MIS - Pharmacy'!L785))","v":""},"",{"$f":"IF('MIS - Pharmacy'!A785=\"\",\"\",('MIS - Pharmacy'!AF785+'MIS - Pharmacy'!AH785 +'MIS - Pharmacy'!AG785))","v":""},{"$f":"IF(ISBLANK('MIS - Pharmacy'!AI785),\"\",'MIS - Pharmacy'!AI785)","v":""},"","","",{"$f":"IF(ISBLANK('MIS - Pharmacy'!V785),\"\",'MIS - Pharmacy'!V785)","v":""},"","","",{"$f":"IF(ISBLANK('MIS - Pharmacy'!J785),\"\",'MIS - Pharmacy'!J785)","v":""},{"$f":"IF(ISBLANK('MIS - Pharmacy'!AY785),\"\",'MIS - Pharmacy'!AY785)","v":""},{"$f":"IF(ISBLANK('MIS - Pharmacy'!BH785),\"\",'MIS - Pharmacy'!BH785)","v":""},"",""]
[{"$f":"IF(ISBLANK('MIS - Pharmacy'!A786), \"\",'MIS - Pharmacy'!A786)","v":""},{"$f":"IF(ISBLANK('MIS - Pharmacy'!B786),\"\",('MIS - Pharmacy'!B786&\"(\"&'MIS - Pharmacy'!D786&\")\"))","v":""},{"$f":"IF(ISBLANK('MIS - Pharmacy'!BI786), \"\", 'MIS - Pharmacy'!BI786)","v":""},{"$f":"IF(ISBLANK('MIS - Pharmacy'!U786), \"\", 'MIS - Pharmacy'!U786)","v":""},"","","","","","","",{"$f":"IF(ISBLANK('MIS - Pharmacy'!AC786),\"\",'MIS - Pharmacy'!AC786)","v":""},"",{"$f":"IF(ISBLANK('MIS - Pharmacy'!AD786),\"\",'MIS - Pharmacy'!AD786)","v":""},"","",{"$f":"IF('MIS - Pharmacy'!A786=\"\",\"\",SUM('MIS - Pharmacy'!K786+'MIS - Pharmacy'!L786))","v":""},"",{"$f":"IF('MIS - Pharmacy'!A786=\"\",\"\",('MIS - Pharmacy'!AF786+'MIS - Pharmacy'!AH786 +'MIS - Pharmacy'!AG786))","v":""},{"$f":"IF(ISBLANK('MIS - Pharmacy'!AI786),\"\",'MIS - Pharmacy'!AI786)","v":""},"","","",{"$f":"IF(ISBLANK('MIS - Pharmacy'!V786),\"\",'MIS - Pharmacy'!V786)","v":""},"","","",{"$f":"IF(ISBLANK('MIS - Pharmacy'!J786),\"\",'MIS - Pharmacy'!J786)","v":""},{"$f":"IF(ISBLANK('MIS - Pharmacy'!AY786),\"\",'MIS - Pharmacy'!AY786)","v":""},{"$f":"IF(ISBLANK('MIS - Pharmacy'!BH786),\"\",'MIS - Pharmacy'!BH786)","v":""},"",""]
[{"$f":"IF(ISBLANK('MIS - Pharmacy'!A787), \"\",'MIS - Pharmacy'!A787)","v":""},{"$f":"IF(ISBLANK('MIS - Pharmacy'!B787),\"\",('MIS - Pharmacy'!B787&\"(\"&'MIS - Pharmacy'!D787&\")\"))","v":""},{"$f":"IF(ISBLANK('MIS - Pharmacy'!BI787), \"\", 'MIS - Pharmacy'!BI787)","v":""},{"$f":"IF(ISBLANK('MIS - Pharmacy'!U787), \"\", 'MIS - Pharmacy'!U787)","v":""},"","","","","","","",{"$f":"IF(ISBLANK('MIS - Pharmacy'!AC787),\"\",'MIS - Pharmacy'!AC787)","v":""},"",{"$f":"IF(ISBLANK('MIS - Pharmacy'!AD787),\"\",'MIS - Pharmacy'!AD787)","v":""},"","",{"$f":"IF('MIS - Pharmacy'!A787=\"\",\"\",SUM('MIS - Pharmacy'!K787+'MIS - Pharmacy'!L787))","v":""},"",{"$f":"IF('MIS - Pharmacy'!A787=\"\",\"\",('MIS - Pharmacy'!AF787+'MIS - Pharmacy'!AH787 +'MIS - Pharmacy'!AG787))","v":""},{"$f":"IF(ISBLANK('MIS - Pharmacy'!AI787),\"\",'MIS - Pharmacy'!AI787)","v":""},"","","",{"$f":"IF(ISBLANK('MIS - Pharmacy'!V787),\"\",'MIS - Pharmacy'!V787)","v":""},"","","",{"$f":"IF(ISBLANK('MIS - Pharmacy'!J787),\"\",'MIS - Pharmacy'!J787)","v":""},{"$f":"IF(ISBLANK('MIS - Pharmacy'!AY787),\"\",'MIS - Pharmacy'!AY787)","v":""},{"$f":"IF(ISBLANK('MIS - Pharmacy'!BH787),\"\",'MIS - Pharmacy'!BH787)","v":""},"",""]
[{"$f":"IF(ISBLANK('MIS - Pharmacy'!A788), \"\",'MIS - Pharmacy'!A788)","v":""},{"$f":"IF(ISBLANK('MIS - Pharmacy'!B788),\"\",('MIS - Pharmacy'!B788&\"(\"&'MIS - Pharmacy'!D788&\")\"))","v":""},{"$f":"IF(ISBLANK('MIS - Pharmacy'!BI788), \"\", 'MIS - Pharmacy'!BI788)","v":""},{"$f":"IF(ISBLANK('MIS - Pharmacy'!U788), \"\", 'MIS - Pharmacy'!U788)","v":""},"","","","","","","",{"$f":"IF(ISBLANK('MIS - Pharmacy'!AC788),\"\",'MIS - Pharmacy'!AC788)","v":""},"",{"$f":"IF(ISBLANK('MIS - Pharmacy'!AD788),\"\",'MIS - Pharmacy'!AD788)","v":""},"","",{"$f":"IF('MIS - Pharmacy'!A788=\"\",\"\",SUM('MIS - Pharmacy'!K788+'MIS - Pharmacy'!L788))","v":""},"",{"$f":"IF('MIS - Pharmacy'!A788=\"\",\"\",('MIS - Pharmacy'!AF788+'MIS - Pharmacy'!AH788 +'MIS - Pharmacy'!AG788))","v":""},{"$f":"IF(ISBLANK('MIS - Pharmacy'!AI788),\"\",'MIS - Pharmacy'!AI788)","v":""},"","","",{"$f":"IF(ISBLANK('MIS - Pharmacy'!V788),\"\",'MIS - Pharmacy'!V788)","v":""},"","","",{"$f":"IF(ISBLANK('MIS - Pharmacy'!J788),\"\",'MIS - Pharmacy'!J788)","v":""},{"$f":"IF(ISBLANK('MIS - Pharmacy'!AY788),\"\",'MIS - Pharmacy'!AY788)","v":""},{"$f":"IF(ISBLANK('MIS - Pharmacy'!BH788),\"\",'MIS - Pharmacy'!BH788)","v":""},"",""]
[{"$f":"IF(ISBLANK('MIS - Pharmacy'!A789), \"\",'MIS - Pharmacy'!A789)","v":""},{"$f":"IF(ISBLANK('MIS - Pharmacy'!B789),\"\",('MIS - Pharmacy'!B789&\"(\"&'MIS - Pharmacy'!D789&\")\"))","v":""},{"$f":"IF(ISBLANK('MIS - Pharmacy'!BI789), \"\", 'MIS - Pharmacy'!BI789)","v":""},{"$f":"IF(ISBLANK('MIS - Pharmacy'!U789), \"\", 'MIS - Pharmacy'!U789)","v":""},"","","","","","","",{"$f":"IF(ISBLANK('MIS - Pharmacy'!AC789),\"\",'MIS - Pharmacy'!AC789)","v":""},"",{"$f":"IF(ISBLANK('MIS - Pharmacy'!AD789),\"\",'MIS - Pharmacy'!AD789)","v":""},"","",{"$f":"IF('MIS - Pharmacy'!A789=\"\",\"\",SUM('MIS - Pharmacy'!K789+'MIS - Pharmacy'!L789))","v":""},"",{"$f":"IF('MIS - Pharmacy'!A789=\"\",\"\",('MIS - Pharmacy'!AF789+'MIS - Pharmacy'!AH789 +'MIS - Pharmacy'!AG789))","v":""},{"$f":"IF(ISBLANK('MIS - Pharmacy'!AI789),\"\",'MIS - Pharmacy'!AI789)","v":""},"","","",{"$f":"IF(ISBLANK('MIS - Pharmacy'!V789),\"\",'MIS - Pharmacy'!V789)","v":""},"","","",{"$f":"IF(ISBLANK('MIS - Pharmacy'!J789),\"\",'MIS - Pharmacy'!J789)","v":""},{"$f":"IF(ISBLANK('MIS - Pharmacy'!AY789),\"\",'MIS - Pharmacy'!AY789)","v":""},{"$f":"IF(ISBLANK('MIS - Pharmacy'!BH789),\"\",'MIS - Pharmacy'!BH789)","v":""},"",""]
[{"$f":"IF(ISBLANK('MIS - Pharmacy'!A790), \"\",'MIS - Pharmacy'!A790)","v":""},{"$f":"IF(ISBLANK('MIS - Pharmacy'!B790),\"\",('MIS - Pharmacy'!B790&\"(\"&'MIS - Pharmacy'!D790&\")\"))","v":""},{"$f":"IF(ISBLANK('MIS - Pharmacy'!BI790), \"\", 'MIS - Pharmacy'!BI790)","v":""},{"$f":"IF(ISBLANK('MIS - Pharmacy'!U790), \"\", 'MIS - Pharmacy'!U790)","v":""},"","","","","","","",{"$f":"IF(ISBLANK('MIS - Pharmacy'!AC790),\"\",'MIS - Pharmacy'!AC790)","v":""},"",{"$f":"IF(ISBLANK('MIS - Pharmacy'!AD790),\"\",'MIS - Pharmacy'!AD790)","v":""},"","",{"$f":"IF('MIS - Pharmacy'!A790=\"\",\"\",SUM('MIS - Pharmacy'!K790+'MIS - Pharmacy'!L790))","v":""},"",{"$f":"IF('MIS - Pharmacy'!A790=\"\",\"\",('MIS - Pharmacy'!AF790+'MIS - Pharmacy'!AH790 +'MIS - Pharmacy'!AG790))","v":""},{"$f":"IF(ISBLANK('MIS - Pharmacy'!AI790),\"\",'MIS - Pharmacy'!AI790)","v":""},"","","",{"$f":"IF(ISBLANK('MIS - Pharmacy'!V790),\"\",'MIS - Pharmacy'!V790)","v":""},"","","",{"$f":"IF(ISBLANK('MIS - Pharmacy'!J790),\"\",'MIS - Pharmacy'!J790)","v":""},{"$f":"IF(ISBLANK('MIS - Pharmacy'!AY790),\"\",'MIS - Pharmacy'!AY790)","v":""},{"$f":"IF(ISBLANK('MIS - Pharmacy'!BH790),\"\",'MIS - Pharmacy'!BH790)","v":""},"",""]
[{"$f":"IF(ISBLANK('MIS - Pharmacy'!A791), \"\",'MIS - Pharmacy'!A791)","v":""},{"$f":"IF(ISBLANK('MIS - Pharmacy'!B791),\"\",('MIS - Pharmacy'!B791&\"(\"&'MIS - Pharmacy'!D791&\")\"))","v":""},{"$f":"IF(ISBLANK('MIS - Pharmacy'!BI791), \"\", 'MIS - Pharmacy'!BI791)","v":""},{"$f":"IF(ISBLANK('MIS - Pharmacy'!U791), \"\", 'MIS - Pharmacy'!U791)","v":""},"","","","","","","",{"$f":"IF(ISBLANK('MIS - Pharmacy'!AC791),\"\",'MIS - Pharmacy'!AC791)","v":""},"",{"$f":"IF(ISBLANK('MIS - Pharmacy'!AD791),\"\",'MIS - Pharmacy'!AD791)","v":""},"","",{"$f":"IF('MIS - Pharmacy'!A791=\"\",\"\",SUM('MIS - Pharmacy'!K791+'MIS - Pharmacy'!L791))","v":""},"",{"$f":"IF('MIS - Pharmacy'!A791=\"\",\"\",('MIS - Pharmacy'!AF791+'MIS - Pharmacy'!AH791 +'MIS - Pharmacy'!AG791))","v":""},{"$f":"IF(ISBLANK('MIS - Pharmacy'!AI791),\"\",'MIS - Pharmacy'!AI791)","v":""},"","","",{"$f":"IF(ISBLANK('MIS - Pharmacy'!V791),\"\",'MIS - Pharmacy'!V791)","v":""},"","","",{"$f":"IF(ISBLANK('MIS - Pharmacy'!J791),\"\",'MIS - Pharmacy'!J791)","v":""},{"$f":"IF(ISBLANK('MIS - Pharmacy'!AY791),\"\",'MIS - Pharmacy'!AY791)","v":""},{"$f":"IF(ISBLANK('MIS - Pharmacy'!BH791),\"\",'MIS - Pharmacy'!BH791)","v":""},"",""]
[{"$f":"IF(ISBLANK('MIS - Pharmacy'!A792), \"\",'MIS - Pharmacy'!A792)","v":""},{"$f":"IF(ISBLANK('MIS - Pharmacy'!B792),\"\",('MIS - Pharmacy'!B792&\"(\"&'MIS - Pharmacy'!D792&\")\"))","v":""},{"$f":"IF(ISBLANK('MIS - Pharmacy'!BI792), \"\", 'MIS - Pharmacy'!BI792)","v":""},{"$f":"IF(ISBLANK('MIS - Pharmacy'!U792), \"\", 'MIS - Pharmacy'!U792)","v":""},"","","","","","","",{"$f":"IF(ISBLANK('MIS - Pharmacy'!AC792),\"\",'MIS - Pharmacy'!AC792)","v":""},"",{"$f":"IF(ISBLANK('MIS - Pharmacy'!AD792),\"\",'MIS - Pharmacy'!AD792)","v":""},"","",{"$f":"IF('MIS - Pharmacy'!A792=\"\",\"\",SUM('MIS - Pharmacy'!K792+'MIS - Pharmacy'!L792))","v":""},"",{"$f":"IF('MIS - Pharmacy'!A792=\"\",\"\",('MIS - Pharmacy'!AF792+'MIS - Pharmacy'!AH792 +'MIS - Pharmacy'!AG792))","v":""},{"$f":"IF(ISBLANK('MIS - Pharmacy'!AI792),\"\",'MIS - Pharmacy'!AI792)","v":""},"","","",{"$f":"IF(ISBLANK('MIS - Pharmacy'!V792),\"\",'MIS - Pharmacy'!V792)","v":""},"","","",{"$f":"IF(ISBLANK('MIS - Pharmacy'!J792),\"\",'MIS - Pharmacy'!J792)","v":""},{"$f":"IF(ISBLANK('MIS - Pharmacy'!AY792),\"\",'MIS - Pharmacy'!AY792)","v":""},{"$f":"IF(ISBLANK('MIS - Pharmacy'!BH792),\"\",'MIS - Pharmacy'!BH792)","v":""},"",""]
[{"$f":"IF(ISBLANK('MIS - Pharmacy'!A793), \"\",'MIS - Pharmacy'!A793)","v":""},{"$f":"IF(ISBLANK('MIS - Pharmacy'!B793),\"\",('MIS - Pharmacy'!B793&\"(\"&'MIS - Pharmacy'!D793&\")\"))","v":""},{"$f":"IF(ISBLANK('MIS - Pharmacy'!BI793), \"\", 'MIS - Pharmacy'!BI793)","v":""},{"$f":"IF(ISBLANK('MIS - Pharmacy'!U793), \"\", 'MIS - Pharmacy'!U793)","v":""},"","","","","","","",{"$f":"IF(ISBLANK('MIS - Pharmacy'!AC793),\"\",'MIS - Pharmacy'!AC793)","v":""},"",{"$f":"IF(ISBLANK('MIS - Pharmacy'!AD793),\"\",'MIS - Pharmacy'!AD793)","v":""},"","",{"$f":"IF('MIS - Pharmacy'!A793=\"\",\"\",SUM('MIS - Pharmacy'!K793+'MIS - Pharmacy'!L793))","v":""},"",{"$f":"IF('MIS - Pharmacy'!A793=\"\",\"\",('MIS - Pharmacy'!AF793+'MIS - Pharmacy'!AH793 +'MIS - Pharmacy'!AG793))","v":""},{"$f":"IF(ISBLANK('MIS - Pharmacy'!AI793),\"\",'MIS - Pharmacy'!AI793)","v":""},"","","",{"$f":"IF(ISBLANK('MIS - Pharmacy'!V793),\"\",'MIS - Pharmacy'!V793)","v":""},"","","",{"$f":"IF(ISBLANK('MIS - Pharmacy'!J793),\"\",'MIS - Pharmacy'!J793)","v":""},{"$f":"IF(ISBLANK('MIS - Pharmacy'!AY793),\"\",'MIS - Pharmacy'!AY793)","v":""},{"$f":"IF(ISBLANK('MIS - Pharmacy'!BH793),\"\",'MIS - Pharmacy'!BH793)","v":""},"",""]
[{"$f":"IF(ISBLANK('MIS - Pharmacy'!A794), \"\",'MIS - Pharmacy'!A794)","v":""},{"$f":"IF(ISBLANK('MIS - Pharmacy'!B794),\"\",('MIS - Pharmacy'!B794&\"(\"&'MIS - Pharmacy'!D794&\")\"))","v":""},{"$f":"IF(ISBLANK('MIS - Pharmacy'!BI794), \"\", 'MIS - Pharmacy'!BI794)","v":""},{"$f":"IF(ISBLANK('MIS - Pharmacy'!U794), \"\", 'MIS - Pharmacy'!U794)","v":""},"","","","","","","",{"$f":"IF(ISBLANK('MIS - Pharmacy'!AC794),\"\",'MIS - Pharmacy'!AC794)","v":""},"",{"$f":"IF(ISBLANK('MIS - Pharmacy'!AD794),\"\",'MIS - Pharmacy'!AD794)","v":""},"","",{"$f":"IF('MIS - Pharmacy'!A794=\"\",\"\",SUM('MIS - Pharmacy'!K794+'MIS - Pharmacy'!L794))","v":""},"",{"$f":"IF('MIS - Pharmacy'!A794=\"\",\"\",('MIS - Pharmacy'!AF794+'MIS - Pharmacy'!AH794 +'MIS - Pharmacy'!AG794))","v":""},{"$f":"IF(ISBLANK('MIS - Pharmacy'!AI794),\"\",'MIS - Pharmacy'!AI794)","v":""},"","","",{"$f":"IF(ISBLANK('MIS - Pharmacy'!V794),\"\",'MIS - Pharmacy'!V794)","v":""},"","","",{"$f":"IF(ISBLANK('MIS - Pharmacy'!J794),\"\",'MIS - Pharmacy'!J794)","v":""},{"$f":"IF(ISBLANK('MIS - Pharmacy'!AY794),\"\",'MIS - Pharmacy'!AY794)","v":""},{"$f":"IF(ISBLANK('MIS - Pharmacy'!BH794),\"\",'MIS - Pharmacy'!BH794)","v":""},"",""]
[{"$f":"IF(ISBLANK('MIS - Pharmacy'!A795), \"\",'MIS - Pharmacy'!A795)","v":""},{"$f":"IF(ISBLANK('MIS - Pharmacy'!B795),\"\",('MIS - Pharmacy'!B795&\"(\"&'MIS - Pharmacy'!D795&\")\"))","v":""},{"$f":"IF(ISBLANK('MIS - Pharmacy'!BI795), \"\", 'MIS - Pharmacy'!BI795)","v":""},{"$f":"IF(ISBLANK('MIS - Pharmacy'!U795), \"\", 'MIS - Pharmacy'!U795)","v":""},"","","","","","","",{"$f":"IF(ISBLANK('MIS - Pharmacy'!AC795),\"\",'MIS - Pharmacy'!AC795)","v":""},"",{"$f":"IF(ISBLANK('MIS - Pharmacy'!AD795),\"\",'MIS - Pharmacy'!AD795)","v":""},"","",{"$f":"IF('MIS - Pharmacy'!A795=\"\",\"\",SUM('MIS - Pharmacy'!K795+'MIS - Pharmacy'!L795))","v":""},"",{"$f":"IF('MIS - Pharmacy'!A795=\"\",\"\",('MIS - Pharmacy'!AF795+'MIS - Pharmacy'!AH795 +'MIS - Pharmacy'!AG795))","v":""},{"$f":"IF(ISBLANK('MIS - Pharmacy'!AI795),\"\",'MIS - Pharmacy'!AI795)","v":""},"","","",{"$f":"IF(ISBLANK('MIS - Pharmacy'!V795),\"\",'MIS - Pharmacy'!V795)","v":""},"","","",{"$f":"IF(ISBLANK('MIS - Pharmacy'!J795),\"\",'MIS - Pharmacy'!J795)","v":""},{"$f":"IF(ISBLANK('MIS - Pharmacy'!AY795),\"\",'MIS - Pharmacy'!AY795)","v":""},{"$f":"IF(ISBLANK('MIS - Pharmacy'!BH795),\"\",'MIS - Pharmacy'!BH795)","v":""},"",""]
[{"$f":"IF(ISBLANK('MIS - Pharmacy'!A796), \"\",'MIS - Pharmacy'!A796)","v":""},{"$f":"IF(ISBLANK('MIS - Pharmacy'!B796),\"\",('MIS - Pharmacy'!B796&\"(\"&'MIS - Pharmacy'!D796&\")\"))","v":""},{"$f":"IF(ISBLANK('MIS - Pharmacy'!BI796), \"\", 'MIS - Pharmacy'!BI796)","v":""},{"$f":"IF(ISBLANK('MIS - Pharmacy'!U796), \"\", 'MIS - Pharmacy'!U796)","v":""},"","","","","","","",{"$f":"IF(ISBLANK('MIS - Pharmacy'!AC796),\"\",'MIS - Pharmacy'!AC796)","v":""},"",{"$f":"IF(ISBLANK('MIS - Pharmacy'!AD796),\"\",'MIS - Pharmacy'!AD796)","v":""},"","",{"$f":"IF('MIS - Pharmacy'!A796=\"\",\"\",SUM('MIS - Pharmacy'!K796+'MIS - Pharmacy'!L796))","v":""},"",{"$f":"IF('MIS - Pharmacy'!A796=\"\",\"\",('MIS - Pharmacy'!AF796+'MIS - Pharmacy'!AH796 +'MIS - Pharmacy'!AG796))","v":""},{"$f":"IF(ISBLANK('MIS - Pharmacy'!AI796),\"\",'MIS - Pharmacy'!AI796)","v":""},"","","",{"$f":"IF(ISBLANK('MIS - Pharmacy'!V796),\"\",'MIS - Pharmacy'!V796)","v":""},"","","",{"$f":"IF(ISBLANK('MIS - Pharmacy'!J796),\"\",'MIS - Pharmacy'!J796)","v":""},{"$f":"IF(ISBLANK('MIS - Pharmacy'!AY796),\"\",'MIS - Pharmacy'!AY796)","v":""},{"$f":"IF(ISBLANK('MIS - Pharmacy'!BH796),\"\",'MIS - Pharmacy'!BH796)","v":""},"",""]
[{"$f":"IF(ISBLANK('MIS - Pharmacy'!A797), \"\",'MIS - Pharmacy'!A797)","v":""},{"$f":"IF(ISBLANK('MIS - Pharmacy'!B797),\"\",('MIS - Pharmacy'!B797&\"(\"&'MIS - Pharmacy'!D797&\")\"))","v":""},{"$f":"IF(ISBLANK('MIS - Pharmacy'!BI797), \"\", 'MIS - Pharmacy'!BI797)","v":""},{"$f":"IF(ISBLANK('MIS - Pharmacy'!U797), \"\", 'MIS - Pharmacy'!U797)","v":""},"","","","","","","",{"$f":"IF(ISBLANK('MIS - Pharmacy'!AC797),\"\",'MIS - Pharmacy'!AC797)","v":""},"",{"$f":"IF(ISBLANK('MIS - Pharmacy'!AD797),\"\",'MIS - Pharmacy'!AD797)","v":""},"","",{"$f":"IF('MIS - Pharmacy'!A797=\"\",\"\",SUM('MIS - Pharmacy'!K797+'MIS - Pharmacy'!L797))","v":""},"",{"$f":"IF('MIS - Pharmacy'!A797=\"\",\"\",('MIS - Pharmacy'!AF797+'MIS - Pharmacy'!AH797 +'MIS - Pharmacy'!AG797))","v":""},{"$f":"IF(ISBLANK('MIS - Pharmacy'!AI797),\"\",'MIS - Pharmacy'!AI797)","v":""},"","","",{"$f":"IF(ISBLANK('MIS - Pharmacy'!V797),\"\",'MIS - Pharmacy'!V797)","v":""},"","","",{"$f":"IF(ISBLANK('MIS - Pharmacy'!J797),\"\",'MIS - Pharmacy'!J797)","v":""},{"$f":"IF(ISBLANK('MIS - Pharmacy'!AY797),\"\",'MIS - Pharmacy'!AY797)","v":""},{"$f":"IF(ISBLANK('MIS - Pharmacy'!BH797),\"\",'MIS - Pharmacy'!BH797)","v":""},"",""]
[{"$f":"IF(ISBLANK('MIS - Pharmacy'!A798), \"\",'MIS - Pharmacy'!A798)","v":""},{"$f":"IF(ISBLANK('MIS - Pharmacy'!B798),\"\",('MIS - Pharmacy'!B798&\"(\"&'MIS - Pharmacy'!D798&\")\"))","v":""},{"$f":"IF(ISBLANK('MIS - Pharmacy'!BI798), \"\", 'MIS - Pharmacy'!BI798)","v":""},{"$f":"IF(ISBLANK('MIS - Pharmacy'!U798), \"\", 'MIS - Pharmacy'!U798)","v":""},"","","","","","","",{"$f":"IF(ISBLANK('MIS - Pharmacy'!AC798),\"\",'MIS - Pharmacy'!AC798)","v":""},"",{"$f":"IF(ISBLANK('MIS - Pharmacy'!AD798),\"\",'MIS - Pharmacy'!AD798)","v":""},"","",{"$f":"IF('MIS - Pharmacy'!A798=\"\",\"\",SUM('MIS - Pharmacy'!K798+'MIS - Pharmacy'!L798))","v":""},"",{"$f":"IF('MIS - Pharmacy'!A798=\"\",\"\",('MIS - Pharmacy'!AF798+'MIS - Pharmacy'!AH798 +'MIS - Pharmacy'!AG798))","v":""},{"$f":"IF(ISBLANK('MIS - Pharmacy'!AI798),\"\",'MIS - Pharmacy'!AI798)","v":""},"","","",{"$f":"IF(ISBLANK('MIS - Pharmacy'!V798),\"\",'MIS - Pharmacy'!V798)","v":""},"","","",{"$f":"IF(ISBLANK('MIS - Pharmacy'!J798),\"\",'MIS - Pharmacy'!J798)","v":""},{"$f":"IF(ISBLANK('MIS - Pharmacy'!AY798),\"\",'MIS - Pharmacy'!AY798)","v":""},{"$f":"IF(ISBLANK('MIS - Pharmacy'!BH798),\"\",'MIS - Pharmacy'!BH798)","v":""},"",""]
[{"$f":"IF(ISBLANK('MIS - Pharmacy'!A799), \"\",'MIS - Pharmacy'!A799)","v":""},{"$f":"IF(ISBLANK('MIS - Pharmacy'!B799),\"\",('MIS - Pharmacy'!B799&\"(\"&'MIS - Pharmacy'!D799&\")\"))","v":""},{"$f":"IF(ISBLANK('MIS - Pharmacy'!BI799), \"\", 'MIS - Pharmacy'!BI799)","v":""},{"$f":"IF(ISBLANK('MIS - Pharmacy'!U799), \"\", 'MIS - Pharmacy'!U799)","v":""},"","","","","","","",{"$f":"IF(ISBLANK('MIS - Pharmacy'!AC799),\"\",'MIS - Pharmacy'!AC799)","v":""},"",{"$f":"IF(ISBLANK('MIS - Pharmacy'!AD799),\"\",'MIS - Pharmacy'!AD799)","v":""},"","",{"$f":"IF('MIS - Pharmacy'!A799=\"\",\"\",SUM('MIS - Pharmacy'!K799+'MIS - Pharmacy'!L799))","v":""},"",{"$f":"IF('MIS - Pharmacy'!A799=\"\",\"\",('MIS - Pharmacy'!AF799+'MIS - Pharmacy'!AH799 +'MIS - Pharmacy'!AG799))","v":""},{"$f":"IF(ISBLANK('MIS - Pharmacy'!AI799),\"\",'MIS - Pharmacy'!AI799)","v":""},"","","",{"$f":"IF(ISBLANK('MIS - Pharmacy'!V799),\"\",'MIS - Pharmacy'!V799)","v":""},"","","",{"$f":"IF(ISBLANK('MIS - Pharmacy'!J799),\"\",'MIS - Pharmacy'!J799)","v":""},{"$f":"IF(ISBLANK('MIS - Pharmacy'!AY799),\"\",'MIS - Pharmacy'!AY799)","v":""},{"$f":"IF(ISBLANK('MIS - Pharmacy'!BH799),\"\",'MIS - Pharmacy'!BH799)","v":""},"",""]
[{"$f":"IF(ISBLANK('MIS - Pharmacy'!A800), \"\",'MIS - Pharmacy'!A800)","v":""},{"$f":"IF(ISBLANK('MIS - Pharmacy'!B800),\"\",('MIS - Pharmacy'!B800&\"(\"&'MIS - Pharmacy'!D800&\")\"))","v":""},{"$f":"IF(ISBLANK('MIS - Pharmacy'!BI800), \"\", 'MIS - Pharmacy'!BI800)","v":""},{"$f":"IF(ISBLANK('MIS - Pharmacy'!U800), \"\", 'MIS - Pharmacy'!U800)","v":""},"","","","","","","",{"$f":"IF(ISBLANK('MIS - Pharmacy'!AC800),\"\",'MIS - Pharmacy'!AC800)","v":""},"",{"$f":"IF(ISBLANK('MIS - Pharmacy'!AD800),\"\",'MIS - Pharmacy'!AD800)","v":""},"","",{"$f":"IF('MIS - Pharmacy'!A800=\"\",\"\",SUM('MIS - Pharmacy'!K800+'MIS - Pharmacy'!L800))","v":""},"",{"$f":"IF('MIS - Pharmacy'!A800=\"\",\"\",('MIS - Pharmacy'!AF800+'MIS - Pharmacy'!AH800 +'MIS - Pharmacy'!AG800))","v":""},{"$f":"IF(ISBLANK('MIS - Pharmacy'!AI800),\"\",'MIS - Pharmacy'!AI800)","v":""},"","","",{"$f":"IF(ISBLANK('MIS - Pharmacy'!V800),\"\",'MIS - Pharmacy'!V800)","v":""},"","","",{"$f":"IF(ISBLANK('MIS - Pharmacy'!J800),\"\",'MIS - Pharmacy'!J800)","v":""},{"$f":"IF(ISBLANK('MIS - Pharmacy'!AY800),\"\",'MIS - Pharmacy'!AY800)","v":""},{"$f":"IF(ISBLANK('MIS - Pharmacy'!BH800),\"\",'MIS - Pharmacy'!BH800)","v":""},"",""]
[{"$f":"IF(ISBLANK('MIS - Pharmacy'!A801), \"\",'MIS - Pharmacy'!A801)","v":""},{"$f":"IF(ISBLANK('MIS - Pharmacy'!B801),\"\",('MIS - Pharmacy'!B801&\"(\"&'MIS - Pharmacy'!D801&\")\"))","v":""},{"$f":"IF(ISBLANK('MIS - Pharmacy'!BI801), \"\", 'MIS - Pharmacy'!BI801)","v":""},{"$f":"IF(ISBLANK('MIS - Pharmacy'!U801), \"\", 'MIS - Pharmacy'!U801)","v":""},"","","","","","","",{"$f":"IF(ISBLANK('MIS - Pharmacy'!AC801),\"\",'MIS - Pharmacy'!AC801)","v":""},"",{"$f":"IF(ISBLANK('MIS - Pharmacy'!AD801),\"\",'MIS - Pharmacy'!AD801)","v":""},"","",{"$f":"IF('MIS - Pharmacy'!A801=\"\",\"\",SUM('MIS - Pharmacy'!K801+'MIS - Pharmacy'!L801))","v":""},"",{"$f":"IF('MIS - Pharmacy'!A801=\"\",\"\",('MIS - Pharmacy'!AF801+'MIS - Pharmacy'!AH801 +'MIS - Pharmacy'!AG801))","v":""},{"$f":"IF(ISBLANK('MIS - Pharmacy'!AI801),\"\",'MIS - Pharmacy'!AI801)","v":""},"","","",{"$f":"IF(ISBLANK('MIS - Pharmacy'!V801),\"\",'MIS - Pharmacy'!V801)","v":""},"","","",{"$f":"IF(ISBLANK('MIS - Pharmacy'!J801),\"\",'MIS - Pharmacy'!J801)","v":""},{"$f":"IF(ISBLANK('MIS - Pharmacy'!AY801),\"\",'MIS - Pharmacy'!AY801)","v":""},{"$f":"IF(ISBLANK('MIS - Pharmacy'!BH801),\"\",'MIS - Pharmacy'!BH801)","v":""},"",""]
[{"$f":"IF(ISBLANK('MIS - Pharmacy'!A802), \"\",'MIS - Pharmacy'!A802)","v":""},{"$f":"IF(ISBLANK('MIS - Pharmacy'!B802),\"\",('MIS - Pharmacy'!B802&\"(\"&'MIS - Pharmacy'!D802&\")\"))","v":""},{"$f":"IF(ISBLANK('MIS - Pharmacy'!BI802), \"\", 'MIS - Pharmacy'!BI802)","v":""},{"$f":"IF(ISBLANK('MIS - Pharmacy'!U802), \"\", 'MIS - Pharmacy'!U802)","v":""},"","","","","","","",{"$f":"IF(ISBLANK('MIS - Pharmacy'!AC802),\"\",'MIS - Pharmacy'!AC802)","v":""},"",{"$f":"IF(ISBLANK('MIS - Pharmacy'!AD802),\"\",'MIS - Pharmacy'!AD802)","v":""},"","",{"$f":"IF('MIS - Pharmacy'!A802=\"\",\"\",SUM('MIS - Pharmacy'!K802+'MIS - Pharmacy'!L802))","v":""},"",{"$f":"IF('MIS - Pharmacy'!A802=\"\",\"\",('MIS - Pharmacy'!AF802+'MIS - Pharmacy'!AH802 +'MIS - Pharmacy'!AG802))","v":""},{"$f":"IF(ISBLANK('MIS - Pharmacy'!AI802),\"\",'MIS - Pharmacy'!AI802)","v":""},"","","",{"$f":"IF(ISBLANK('MIS - Pharmacy'!V802),\"\",'MIS - Pharmacy'!V802)","v":""},"","","",{"$f":"IF(ISBLANK('MIS - Pharmacy'!J802),\"\",'MIS - Pharmacy'!J802)","v":""},{"$f":"IF(ISBLANK('MIS - Pharmacy'!AY802),\"\",'MIS - Pharmacy'!AY802)","v":""},{"$f":"IF(ISBLANK('MIS - Pharmacy'!BH802),\"\",'MIS - Pharmacy'!BH802)","v":""},"",""]
[{"$f":"IF(ISBLANK('MIS - Pharmacy'!A803), \"\",'MIS - Pharmacy'!A803)","v":""},{"$f":"IF(ISBLANK('MIS - Pharmacy'!B803),\"\",('MIS - Pharmacy'!B803&\"(\"&'MIS - Pharmacy'!D803&\")\"))","v":""},{"$f":"IF(ISBLANK('MIS - Pharmacy'!BI803), \"\", 'MIS - Pharmacy'!BI803)","v":""},{"$f":"IF(ISBLANK('MIS - Pharmacy'!U803), \"\", 'MIS - Pharmacy'!U803)","v":""},"","","","","","","",{"$f":"IF(ISBLANK('MIS - Pharmacy'!AC803),\"\",'MIS - Pharmacy'!AC803)","v":""},"",{"$f":"IF(ISBLANK('MIS - Pharmacy'!AD803),\"\",'MIS - Pharmacy'!AD803)","v":""},"","",{"$f":"IF('MIS - Pharmacy'!A803=\"\",\"\",SUM('MIS - Pharmacy'!K803+'MIS - Pharmacy'!L803))","v":""},"",{"$f":"IF('MIS - Pharmacy'!A803=\"\",\"\",('MIS - Pharmacy'!AF803+'MIS - Pharmacy'!AH803 +'MIS - Pharmacy'!AG803))","v":""},{"$f":"IF(ISBLANK('MIS - Pharmacy'!AI803),\"\",'MIS - Pharmacy'!AI803)","v":""},"","","",{"$f":"IF(ISBLANK('MIS - Pharmacy'!V803),\"\",'MIS - Pharmacy'!V803)","v":""},"","","",{"$f":"IF(ISBLANK('MIS - Pharmacy'!J803),\"\",'MIS - Pharmacy'!J803)","v":""},{"$f":"IF(ISBLANK('MIS - Pharmacy'!AY803),\"\",'MIS - Pharmacy'!AY803)","v":""},{"$f":"IF(ISBLANK('MIS - Pharmacy'!BH803),\"\",'MIS - Pharmacy'!BH803)","v":""},"",""]
[{"$f":"IF(ISBLANK('MIS - Pharmacy'!A804), \"\",'MIS - Pharmacy'!A804)","v":""},{"$f":"IF(ISBLANK('MIS - Pharmacy'!B804),\"\",('MIS - Pharmacy'!B804&\"(\"&'MIS - Pharmacy'!D804&\")\"))","v":""},{"$f":"IF(ISBLANK('MIS - Pharmacy'!BI804), \"\", 'MIS - Pharmacy'!BI804)","v":""},{"$f":"IF(ISBLANK('MIS - Pharmacy'!U804), \"\", 'MIS - Pharmacy'!U804)","v":""},"","","","","","","",{"$f":"IF(ISBLANK('MIS - Pharmacy'!AC804),\"\",'MIS - Pharmacy'!AC804)","v":""},"",{"$f":"IF(ISBLANK('MIS - Pharmacy'!AD804),\"\",'MIS - Pharmacy'!AD804)","v":""},"","",{"$f":"IF('MIS - Pharmacy'!A804=\"\",\"\",SUM('MIS - Pharmacy'!K804+'MIS - Pharmacy'!L804))","v":""},"",{"$f":"IF('MIS - Pharmacy'!A804=\"\",\"\",('MIS - Pharmacy'!AF804+'MIS - Pharmacy'!AH804 +'MIS - Pharmacy'!AG804))","v":""},{"$f":"IF(ISBLANK('MIS - Pharmacy'!AI804),\"\",'MIS - Pharmacy'!AI804)","v":""},"","","",{"$f":"IF(ISBLANK('MIS - Pharmacy'!V804),\"\",'MIS - Pharmacy'!V804)","v":""},"","","",{"$f":"IF(ISBLANK('MIS - Pharmacy'!J804),\"\",'MIS - Pharmacy'!J804)","v":""},{"$f":"IF(ISBLANK('MIS - Pharmacy'!AY804),\"\",'MIS - Pharmacy'!AY804)","v":""},{"$f":"IF(ISBLANK('MIS - Pharmacy'!BH804),\"\",'MIS - Pharmacy'!BH804)","v":""},"",""]
[{"$f":"IF(ISBLANK('MIS - Pharmacy'!A805), \"\",'MIS - Pharmacy'!A805)","v":""},{"$f":"IF(ISBLANK('MIS - Pharmacy'!B805),\"\",('MIS - Pharmacy'!B805&\"(\"&'MIS - Pharmacy'!D805&\")\"))","v":""},{"$f":"IF(ISBLANK('MIS - Pharmacy'!BI805), \"\", 'MIS - Pharmacy'!BI805)","v":""},{"$f":"IF(ISBLANK('MIS - Pharmacy'!U805), \"\", 'MIS - Pharmacy'!U805)","v":""},"","","","","","","",{"$f":"IF(ISBLANK('MIS - Pharmacy'!AC805),\"\",'MIS - Pharmacy'!AC805)","v":""},"",{"$f":"IF(ISBLANK('MIS - Pharmacy'!AD805),\"\",'MIS - Pharmacy'!AD805)","v":""},"","",{"$f":"IF('MIS - Pharmacy'!A805=\"\",\"\",SUM('MIS - Pharmacy'!K805+'MIS - Pharmacy'!L805))","v":""},"",{"$f":"IF('MIS - Pharmacy'!A805=\"\",\"\",('MIS - Pharmacy'!AF805+'MIS - Pharmacy'!AH805 +'MIS - Pharmacy'!AG805))","v":""},{"$f":"IF(ISBLANK('MIS - Pharmacy'!AI805),\"\",'MIS - Pharmacy'!AI805)","v":""},"","","",{"$f":"IF(ISBLANK('MIS - Pharmacy'!V805),\"\",'MIS - Pharmacy'!V805)","v":""},"","","",{"$f":"IF(ISBLANK('MIS - Pharmacy'!J805),\"\",'MIS - Pharmacy'!J805)","v":""},{"$f":"IF(ISBLANK('MIS - Pharmacy'!AY805),\"\",'MIS - Pharmacy'!AY805)","v":""},{"$f":"IF(ISBLANK('MIS - Pharmacy'!BH805),\"\",'MIS - Pharmacy'!BH805)","v":""},"",""]
[{"$f":"IF(ISBLANK('MIS - Pharmacy'!A806), \"\",'MIS - Pharmacy'!A806)","v":""},{"$f":"IF(ISBLANK('MIS - Pharmacy'!B806),\"\",('MIS - Pharmacy'!B806&\"(\"&'MIS - Pharmacy'!D806&\")\"))","v":""},{"$f":"IF(ISBLANK('MIS - Pharmacy'!BI806), \"\", 'MIS - Pharmacy'!BI806)","v":""},{"$f":"IF(ISBLANK('MIS - Pharmacy'!U806), \"\", 'MIS - Pharmacy'!U806)","v":""},"","","","","","","",{"$f":"IF(ISBLANK('MIS - Pharmacy'!AC806),\"\",'MIS - Pharmacy'!AC806)","v":""},"",{"$f":"IF(ISBLANK('MIS - Pharmacy'!AD806),\"\",'MIS - Pharmacy'!AD806)","v":""},"","",{"$f":"IF('MIS - Pharmacy'!A806=\"\",\"\",SUM('MIS - Pharmacy'!K806+'MIS - Pharmacy'!L806))","v":""},"",{"$f":"IF('MIS - Pharmacy'!A806=\"\",\"\",('MIS - Pharmacy'!AF806+'MIS - Pharmacy'!AH806 +'MIS - Pharmacy'!AG806))","v":""},{"$f":"IF(ISBLANK('MIS - Pharmacy'!AI806),\"\",'MIS - Pharmacy'!AI806)","v":""},"","","",{"$f":"IF(ISBLANK('MIS - Pharmacy'!V806),\"\",'MIS - Pharmacy'!V806)","v":""},"","","",{"$f":"IF(ISBLANK('MIS - Pharmacy'!J806),\"\",'MIS - Pharmacy'!J806)","v":""},{"$f":"IF(ISBLANK('MIS - Pharmacy'!AY806),\"\",'MIS - Pharmacy'!AY806)","v":""},{"$f":"IF(ISBLANK('MIS - Pharmacy'!BH806),\"\",'MIS - Pharmacy'!BH806)","v":""},"",""]
[{"$f":"IF(ISBLANK('MIS - Pharmacy'!A807), \"\",'MIS - Pharmacy'!A807)","v":""},{"$f":"IF(ISBLANK('MIS - Pharmacy'!B807),\"\",('MIS - Pharmacy'!B807&\"(\"&'MIS - Pharmacy'!D807&\")\"))","v":""},{"$f":"IF(ISBLANK('MIS - Pharmacy'!BI807), \"\", 'MIS - Pharmacy'!BI807)","v":""},{"$f":"IF(ISBLANK('MIS - Pharmacy'!U807), \"\", 'MIS - Pharmacy'!U807)","v":""},"","","","","","","",{"$f":"IF(ISBLANK('MIS - Pharmacy'!AC807),\"\",'MIS - Pharmacy'!AC807)","v":""},"",{"$f":"IF(ISBLANK('MIS - Pharmacy'!AD807),\"\",'MIS - Pharmacy'!AD807)","v":""},"","",{"$f":"IF('MIS - Pharmacy'!A807=\"\",\"\",SUM('MIS - Pharmacy'!K807+'MIS - Pharmacy'!L807))","v":""},"",{"$f":"IF('MIS - Pharmacy'!A807=\"\",\"\",('MIS - Pharmacy'!AF807+'MIS - Pharmacy'!AH807 +'MIS - Pharmacy'!AG807))","v":""},{"$f":"IF(ISBLANK('MIS - Pharmacy'!AI807),\"\",'MIS - Pharmacy'!AI807)","v":""},"","","",{"$f":"IF(ISBLANK('MIS - Pharmacy'!V807),\"\",'MIS - Pharmacy'!V807)","v":""},"","","",{"$f":"IF(ISBLANK('MIS - Pharmacy'!J807),\"\",'MIS - Pharmacy'!J807)","v":""},{"$f":"IF(ISBLANK('MIS - Pharmacy'!AY807),\"\",'MIS - Pharmacy'!AY807)","v":""},{"$f":"IF(ISBLANK('MIS - Pharmacy'!BH807),\"\",'MIS - Pharmacy'!BH807)","v":""},"",""]
[{"$f":"IF(ISBLANK('MIS - Pharmacy'!A808), \"\",'MIS - Pharmacy'!A808)","v":""},{"$f":"IF(ISBLANK('MIS - Pharmacy'!B808),\"\",('MIS - Pharmacy'!B808&\"(\"&'MIS - Pharmacy'!D808&\")\"))","v":""},{"$f":"IF(ISBLANK('MIS - Pharmacy'!BI808), \"\", 'MIS - Pharmacy'!BI808)","v":""},{"$f":"IF(ISBLANK('MIS - Pharmacy'!U808), \"\", 'MIS - Pharmacy'!U808)","v":""},"","","","","","","",{"$f":"IF(ISBLANK('MIS - Pharmacy'!AC808),\"\",'MIS - Pharmacy'!AC808)","v":""},"",{"$f":"IF(ISBLANK('MIS - Pharmacy'!AD808),\"\",'MIS - Pharmacy'!AD808)","v":""},"","",{"$f":"IF('MIS - Pharmacy'!A808=\"\",\"\",SUM('MIS - Pharmacy'!K808+'MIS - Pharmacy'!L808))","v":""},"",{"$f":"IF('MIS - Pharmacy'!A808=\"\",\"\",('MIS - Pharmacy'!AF808+'MIS - Pharmacy'!AH808 +'MIS - Pharmacy'!AG808))","v":""},{"$f":"IF(ISBLANK('MIS - Pharmacy'!AI808),\"\",'MIS - Pharmacy'!AI808)","v":""},"","","",{"$f":"IF(ISBLANK('MIS - Pharmacy'!V808),\"\",'MIS - Pharmacy'!V808)","v":""},"","","",{"$f":"IF(ISBLANK('MIS - Pharmacy'!J808),\"\",'MIS - Pharmacy'!J808)","v":""},{"$f":"IF(ISBLANK('MIS - Pharmacy'!AY808),\"\",'MIS - Pharmacy'!AY808)","v":""},{"$f":"IF(ISBLANK('MIS - Pharmacy'!BH808),\"\",'MIS - Pharmacy'!BH808)","v":""},"",""]
[{"$f":"IF(ISBLANK('MIS - Pharmacy'!A809), \"\",'MIS - Pharmacy'!A809)","v":""},{"$f":"IF(ISBLANK('MIS - Pharmacy'!B809),\"\",('MIS - Pharmacy'!B809&\"(\"&'MIS - Pharmacy'!D809&\")\"))","v":""},{"$f":"IF(ISBLANK('MIS - Pharmacy'!BI809), \"\", 'MIS - Pharmacy'!BI809)","v":""},{"$f":"IF(ISBLANK('MIS - Pharmacy'!U809), \"\", 'MIS - Pharmacy'!U809)","v":""},"","","","","","","",{"$f":"IF(ISBLANK('MIS - Pharmacy'!AC809),\"\",'MIS - Pharmacy'!AC809)","v":""},"",{"$f":"IF(ISBLANK('MIS - Pharmacy'!AD809),\"\",'MIS - Pharmacy'!AD809)","v":""},"","",{"$f":"IF('MIS - Pharmacy'!A809=\"\",\"\",SUM('MIS - Pharmacy'!K809+'MIS - Pharmacy'!L809))","v":""},"",{"$f":"IF('MIS - Pharmacy'!A809=\"\",\"\",('MIS - Pharmacy'!AF809+'MIS - Pharmacy'!AH809 +'MIS - Pharmacy'!AG809))","v":""},{"$f":"IF(ISBLANK('MIS - Pharmacy'!AI809),\"\",'MIS - Pharmacy'!AI809)","v":""},"","","",{"$f":"IF(ISBLANK('MIS - Pharmacy'!V809),\"\",'MIS - Pharmacy'!V809)","v":""},"","","",{"$f":"IF(ISBLANK('MIS - Pharmacy'!J809),\"\",'MIS - Pharmacy'!J809)","v":""},{"$f":"IF(ISBLANK('MIS - Pharmacy'!AY809),\"\",'MIS - Pharmacy'!AY809)","v":""},{"$f":"IF(ISBLANK('MIS - Pharmacy'!BH809),\"\",'MIS - Pharmacy'!BH809)","v":""},"",""]
[{"$f":"IF(ISBLANK('MIS - Pharmacy'!A810), \"\",'MIS - Pharmacy'!A810)","v":""},{"$f":"IF(ISBLANK('MIS - Pharmacy'!B810),\"\",('MIS - Pharmacy'!B810&\"(\"&'MIS - Pharmacy'!D810&\")\"))","v":""},{"$f":"IF(ISBLANK('MIS - Pharmacy'!BI810), \"\", 'MIS - Pharmacy'!BI810)","v":""},{"$f":"IF(ISBLANK('MIS - Pharmacy'!U810), \"\", 'MIS - Pharmacy'!U810)","v":""},"","","","","","","",{"$f":"IF(ISBLANK('MIS - Pharmacy'!AC810),\"\",'MIS - Pharmacy'!AC810)","v":""},"",{"$f":"IF(ISBLANK('MIS - Pharmacy'!AD810),\"\",'MIS - Pharmacy'!AD810)","v":""},"","",{"$f":"IF('MIS - Pharmacy'!A810=\"\",\"\",SUM('MIS - Pharmacy'!K810+'MIS - Pharmacy'!L810))","v":""},"",{"$f":"IF('MIS - Pharmacy'!A810=\"\",\"\",('MIS - Pharmacy'!AF810+'MIS - Pharmacy'!AH810 +'MIS - Pharmacy'!AG810))","v":""},{"$f":"IF(ISBLANK('MIS - Pharmacy'!AI810),\"\",'MIS - Pharmacy'!AI810)","v":""},"","","",{"$f":"IF(ISBLANK('MIS - Pharmacy'!V810),\"\",'MIS - Pharmacy'!V810)","v":""},"","","",{"$f":"IF(ISBLANK('MIS - Pharmacy'!J810),\"\",'MIS - Pharmacy'!J810)","v":""},{"$f":"IF(ISBLANK('MIS - Pharmacy'!AY810),\"\",'MIS - Pharmacy'!AY810)","v":""},{"$f":"IF(ISBLANK('MIS - Pharmacy'!BH810),\"\",'MIS - Pharmacy'!BH810)","v":""},"",""]
[{"$f":"IF(ISBLANK('MIS - Pharmacy'!A811), \"\",'MIS - Pharmacy'!A811)","v":""},{"$f":"IF(ISBLANK('MIS - Pharmacy'!B811),\"\",('MIS - Pharmacy'!B811&\"(\"&'MIS - Pharmacy'!D811&\")\"))","v":""},{"$f":"IF(ISBLANK('MIS - Pharmacy'!BI811), \"\", 'MIS - Pharmacy'!BI811)","v":""},{"$f":"IF(ISBLANK('MIS - Pharmacy'!U811), \"\", 'MIS - Pharmacy'!U811)","v":""},"","","","","","","",{"$f":"IF(ISBLANK('MIS - Pharmacy'!AC811),\"\",'MIS - Pharmacy'!AC811)","v":""},"",{"$f":"IF(ISBLANK('MIS - Pharmacy'!AD811),\"\",'MIS - Pharmacy'!AD811)","v":""},"","",{"$f":"IF('MIS - Pharmacy'!A811=\"\",\"\",SUM('MIS - Pharmacy'!K811+'MIS - Pharmacy'!L811))","v":""},"",{"$f":"IF('MIS - Pharmacy'!A811=\"\",\"\",('MIS - Pharmacy'!AF811+'MIS - Pharmacy'!AH811 +'MIS - Pharmacy'!AG811))","v":""},{"$f":"IF(ISBLANK('MIS - Pharmacy'!AI811),\"\",'MIS - Pharmacy'!AI811)","v":""},"","","",{"$f":"IF(ISBLANK('MIS - Pharmacy'!V811),\"\",'MIS - Pharmacy'!V811)","v":""},"","","",{"$f":"IF(ISBLANK('MIS - Pharmacy'!J811),\"\",'MIS - Pharmacy'!J811)","v":""},{"$f":"IF(ISBLANK('MIS - Pharmacy'!AY811),\"\",'MIS - Pharmacy'!AY811)","v":""},{"$f":"IF(ISBLANK('MIS - Pharmacy'!BH811),\"\",'MIS - Pharmacy'!BH811)","v":""},"",""]
[{"$f":"IF(ISBLANK('MIS - Pharmacy'!A812), \"\",'MIS - Pharmacy'!A812)","v":""},{"$f":"IF(ISBLANK('MIS - Pharmacy'!B812),\"\",('MIS - Pharmacy'!B812&\"(\"&'MIS - Pharmacy'!D812&\")\"))","v":""},{"$f":"IF(ISBLANK('MIS - Pharmacy'!BI812), \"\", 'MIS - Pharmacy'!BI812)","v":""},{"$f":"IF(ISBLANK('MIS - Pharmacy'!U812), \"\", 'MIS - Pharmacy'!U812)","v":""},"","","","","","","",{"$f":"IF(ISBLANK('MIS - Pharmacy'!AC812),\"\",'MIS - Pharmacy'!AC812)","v":""},"",{"$f":"IF(ISBLANK('MIS - Pharmacy'!AD812),\"\",'MIS - Pharmacy'!AD812)","v":""},"","",{"$f":"IF('MIS - Pharmacy'!A812=\"\",\"\",SUM('MIS - Pharmacy'!K812+'MIS - Pharmacy'!L812))","v":""},"",{"$f":"IF('MIS - Pharmacy'!A812=\"\",\"\",('MIS - Pharmacy'!AF812+'MIS - Pharmacy'!AH812 +'MIS - Pharmacy'!AG812))","v":""},{"$f":"IF(ISBLANK('MIS - Pharmacy'!AI812),\"\",'MIS - Pharmacy'!AI812)","v":""},"","","",{"$f":"IF(ISBLANK('MIS - Pharmacy'!V812),\"\",'MIS - Pharmacy'!V812)","v":""},"","","",{"$f":"IF(ISBLANK('MIS - Pharmacy'!J812),\"\",'MIS - Pharmacy'!J812)","v":""},{"$f":"IF(ISBLANK('MIS - Pharmacy'!AY812),\"\",'MIS - Pharmacy'!AY812)","v":""},{"$f":"IF(ISBLANK('MIS - Pharmacy'!BH812),\"\",'MIS - Pharmacy'!BH812)","v":""},"",""]
[{"$f":"IF(ISBLANK('MIS - Pharmacy'!A813), \"\",'MIS - Pharmacy'!A813)","v":""},{"$f":"IF(ISBLANK('MIS - Pharmacy'!B813),\"\",('MIS - Pharmacy'!B813&\"(\"&'MIS - Pharmacy'!D813&\")\"))","v":""},{"$f":"IF(ISBLANK('MIS - Pharmacy'!BI813), \"\", 'MIS - Pharmacy'!BI813)","v":""},{"$f":"IF(ISBLANK('MIS - Pharmacy'!U813), \"\", 'MIS - Pharmacy'!U813)","v":""},"","","","","","","",{"$f":"IF(ISBLANK('MIS - Pharmacy'!AC813),\"\",'MIS - Pharmacy'!AC813)","v":""},"",{"$f":"IF(ISBLANK('MIS - Pharmacy'!AD813),\"\",'MIS - Pharmacy'!AD813)","v":""},"","",{"$f":"IF('MIS - Pharmacy'!A813=\"\",\"\",SUM('MIS - Pharmacy'!K813+'MIS - Pharmacy'!L813))","v":""},"",{"$f":"IF('MIS - Pharmacy'!A813=\"\",\"\",('MIS - Pharmacy'!AF813+'MIS - Pharmacy'!AH813 +'MIS - Pharmacy'!AG813))","v":""},{"$f":"IF(ISBLANK('MIS - Pharmacy'!AI813),\"\",'MIS - Pharmacy'!AI813)","v":""},"","","",{"$f":"IF(ISBLANK('MIS - Pharmacy'!V813),\"\",'MIS - Pharmacy'!V813)","v":""},"","","",{"$f":"IF(ISBLANK('MIS - Pharmacy'!J813),\"\",'MIS - Pharmacy'!J813)","v":""},{"$f":"IF(ISBLANK('MIS - Pharmacy'!AY813),\"\",'MIS - Pharmacy'!AY813)","v":""},{"$f":"IF(ISBLANK('MIS - Pharmacy'!BH813),\"\",'MIS - Pharmacy'!BH813)","v":""},"",""]
[{"$f":"IF(ISBLANK('MIS - Pharmacy'!A814), \"\",'MIS - Pharmacy'!A814)","v":""},{"$f":"IF(ISBLANK('MIS - Pharmacy'!B814),\"\",('MIS - Pharmacy'!B814&\"(\"&'MIS - Pharmacy'!D814&\")\"))","v":""},{"$f":"IF(ISBLANK('MIS - Pharmacy'!BI814), \"\", 'MIS - Pharmacy'!BI814)","v":""},{"$f":"IF(ISBLANK('MIS - Pharmacy'!U814), \"\", 'MIS - Pharmacy'!U814)","v":""},"","","","","","","",{"$f":"IF(ISBLANK('MIS - Pharmacy'!AC814),\"\",'MIS - Pharmacy'!AC814)","v":""},"",{"$f":"IF(ISBLANK('MIS - Pharmacy'!AD814),\"\",'MIS - Pharmacy'!AD814)","v":""},"","",{"$f":"IF('MIS - Pharmacy'!A814=\"\",\"\",SUM('MIS - Pharmacy'!K814+'MIS - Pharmacy'!L814))","v":""},"",{"$f":"IF('MIS - Pharmacy'!A814=\"\",\"\",('MIS - Pharmacy'!AF814+'MIS - Pharmacy'!AH814 +'MIS - Pharmacy'!AG814))","v":""},{"$f":"IF(ISBLANK('MIS - Pharmacy'!AI814),\"\",'MIS - Pharmacy'!AI814)","v":""},"","","",{"$f":"IF(ISBLANK('MIS - Pharmacy'!V814),\"\",'MIS - Pharmacy'!V814)","v":""},"","","",{"$f":"IF(ISBLANK('MIS - Pharmacy'!J814),\"\",'MIS - Pharmacy'!J814)","v":""},{"$f":"IF(ISBLANK('MIS - Pharmacy'!AY814),\"\",'MIS - Pharmacy'!AY814)","v":""},{"$f":"IF(ISBLANK('MIS - Pharmacy'!BH814),\"\",'MIS - Pharmacy'!BH814)","v":""},"",""]
[{"$f":"IF(ISBLANK('MIS - Pharmacy'!A815), \"\",'MIS - Pharmacy'!A815)","v":""},{"$f":"IF(ISBLANK('MIS - Pharmacy'!B815),\"\",('MIS - Pharmacy'!B815&\"(\"&'MIS - Pharmacy'!D815&\")\"))","v":""},{"$f":"IF(ISBLANK('MIS - Pharmacy'!BI815), \"\", 'MIS - Pharmacy'!BI815)","v":""},{"$f":"IF(ISBLANK('MIS - Pharmacy'!U815), \"\", 'MIS - Pharmacy'!U815)","v":""},"","","","","","","",{"$f":"IF(ISBLANK('MIS - Pharmacy'!AC815),\"\",'MIS - Pharmacy'!AC815)","v":""},"",{"$f":"IF(ISBLANK('MIS - Pharmacy'!AD815),\"\",'MIS - Pharmacy'!AD815)","v":""},"","",{"$f":"IF('MIS - Pharmacy'!A815=\"\",\"\",SUM('MIS - Pharmacy'!K815+'MIS - Pharmacy'!L815))","v":""},"",{"$f":"IF('MIS - Pharmacy'!A815=\"\",\"\",('MIS - Pharmacy'!AF815+'MIS - Pharmacy'!AH815 +'MIS - Pharmacy'!AG815))","v":""},{"$f":"IF(ISBLANK('MIS - Pharmacy'!AI815),\"\",'MIS - Pharmacy'!AI815)","v":""},"","","",{"$f":"IF(ISBLANK('MIS - Pharmacy'!V815),\"\",'MIS - Pharmacy'!V815)","v":""},"","","",{"$f":"IF(ISBLANK('MIS - Pharmacy'!J815),\"\",'MIS - Pharmacy'!J815)","v":""},{"$f":"IF(ISBLANK('MIS - Pharmacy'!AY815),\"\",'MIS - Pharmacy'!AY815)","v":""},{"$f":"IF(ISBLANK('MIS - Pharmacy'!BH815),\"\",'MIS - Pharmacy'!BH815)","v":""},"",""]
[{"$f":"IF(ISBLANK('MIS - Pharmacy'!A816), \"\",'MIS - Pharmacy'!A816)","v":""},{"$f":"IF(ISBLANK('MIS - Pharmacy'!B816),\"\",('MIS - Pharmacy'!B816&\"(\"&'MIS - Pharmacy'!D816&\")\"))","v":""},{"$f":"IF(ISBLANK('MIS - Pharmacy'!BI816), \"\", 'MIS - Pharmacy'!BI816)","v":""},{"$f":"IF(ISBLANK('MIS - Pharmacy'!U816), \"\", 'MIS - Pharmacy'!U816)","v":""},"","","","","","","",{"$f":"IF(ISBLANK('MIS - Pharmacy'!AC816),\"\",'MIS - Pharmacy'!AC816)","v":""},"",{"$f":"IF(ISBLANK('MIS - Pharmacy'!AD816),\"\",'MIS - Pharmacy'!AD816)","v":""},"","",{"$f":"IF('MIS - Pharmacy'!A816=\"\",\"\",SUM('MIS - Pharmacy'!K816+'MIS - Pharmacy'!L816))","v":""},"",{"$f":"IF('MIS - Pharmacy'!A816=\"\",\"\",('MIS - Pharmacy'!AF816+'MIS - Pharmacy'!AH816 +'MIS - Pharmacy'!AG816))","v":""},{"$f":"IF(ISBLANK('MIS - Pharmacy'!AI816),\"\",'MIS - Pharmacy'!AI816)","v":""},"","","",{"$f":"IF(ISBLANK('MIS - Pharmacy'!V816),\"\",'MIS - Pharmacy'!V816)","v":""},"","","",{"$f":"IF(ISBLANK('MIS - Pharmacy'!J816),\"\",'MIS - Pharmacy'!J816)","v":""},{"$f":"IF(ISBLANK('MIS - Pharmacy'!AY816),\"\",'MIS - Pharmacy'!AY816)","v":""},{"$f":"IF(ISBLANK('MIS - Pharmacy'!BH816),\"\",'MIS - Pharmacy'!BH816)","v":""},"",""]
[{"$f":"IF(ISBLANK('MIS - Pharmacy'!A817), \"\",'MIS - Pharmacy'!A817)","v":""},{"$f":"IF(ISBLANK('MIS - Pharmacy'!B817),\"\",('MIS - Pharmacy'!B817&\"(\"&'MIS - Pharmacy'!D817&\")\"))","v":""},{"$f":"IF(ISBLANK('MIS - Pharmacy'!BI817), \"\", 'MIS - Pharmacy'!BI817)","v":""},{"$f":"IF(ISBLANK('MIS - Pharmacy'!U817), \"\", 'MIS - Pharmacy'!U817)","v":""},"","","","","","","",{"$f":"IF(ISBLANK('MIS - Pharmacy'!AC817),\"\",'MIS - Pharmacy'!AC817)","v":""},"",{"$f":"IF(ISBLANK('MIS - Pharmacy'!AD817),\"\",'MIS - Pharmacy'!AD817)","v":""},"","",{"$f":"IF('MIS - Pharmacy'!A817=\"\",\"\",SUM('MIS - Pharmacy'!K817+'MIS - Pharmacy'!L817))","v":""},"",{"$f":"IF('MIS - Pharmacy'!A817=\"\",\"\",('MIS - Pharmacy'!AF817+'MIS - Pharmacy'!AH817 +'MIS - Pharmacy'!AG817))","v":""},{"$f":"IF(ISBLANK('MIS - Pharmacy'!AI817),\"\",'MIS - Pharmacy'!AI817)","v":""},"","","",{"$f":"IF(ISBLANK('MIS - Pharmacy'!V817),\"\",'MIS - Pharmacy'!V817)","v":""},"","","",{"$f":"IF(ISBLANK('MIS - Pharmacy'!J817),\"\",'MIS - Pharmacy'!J817)","v":""},{"$f":"IF(ISBLANK('MIS - Pharmacy'!AY817),\"\",'MIS - Pharmacy'!AY817)","v":""},{"$f":"IF(ISBLANK('MIS - Pharmacy'!BH817),\"\",'MIS - Pharmacy'!BH817)","v":""},"",""]
[{"$f":"IF(ISBLANK('MIS - Pharmacy'!A818), \"\",'MIS - Pharmacy'!A818)","v":""},{"$f":"IF(ISBLANK('MIS - Pharmacy'!B818),\"\",('MIS - Pharmacy'!B818&\"(\"&'MIS - Pharmacy'!D818&\")\"))","v":""},{"$f":"IF(ISBLANK('MIS - Pharmacy'!BI818), \"\", 'MIS - Pharmacy'!BI818)","v":""},{"$f":"IF(ISBLANK('MIS - Pharmacy'!U818), \"\", 'MIS - Pharmacy'!U818)","v":""},"","","","","","","",{"$f":"IF(ISBLANK('MIS - Pharmacy'!AC818),\"\",'MIS - Pharmacy'!AC818)","v":""},"",{"$f":"IF(ISBLANK('MIS - Pharmacy'!AD818),\"\",'MIS - Pharmacy'!AD818)","v":""},"","",{"$f":"IF('MIS - Pharmacy'!A818=\"\",\"\",SUM('MIS - Pharmacy'!K818+'MIS - Pharmacy'!L818))","v":""},"",{"$f":"IF('MIS - Pharmacy'!A818=\"\",\"\",('MIS - Pharmacy'!AF818+'MIS - Pharmacy'!AH818 +'MIS - Pharmacy'!AG818))","v":""},{"$f":"IF(ISBLANK('MIS - Pharmacy'!AI818),\"\",'MIS - Pharmacy'!AI818)","v":""},"","","",{"$f":"IF(ISBLANK('MIS - Pharmacy'!V818),\"\",'MIS - Pharmacy'!V818)","v":""},"","","",{"$f":"IF(ISBLANK('MIS - Pharmacy'!J818),\"\",'MIS - Pharmacy'!J818)","v":""},{"$f":"IF(ISBLANK('MIS - Pharmacy'!AY818),\"\",'MIS - Pharmacy'!AY818)","v":""},{"$f":"IF(ISBLANK('MIS - Pharmacy'!BH818),\"\",'MIS - Pharmacy'!BH818)","v":""},"",""]
[{"$f":"IF(ISBLANK('MIS - Pharmacy'!A819), \"\",'MIS - Pharmacy'!A819)","v":""},{"$f":"IF(ISBLANK('MIS - Pharmacy'!B819),\"\",('MIS - Pharmacy'!B819&\"(\"&'MIS - Pharmacy'!D819&\")\"))","v":""},{"$f":"IF(ISBLANK('MIS - Pharmacy'!BI819), \"\", 'MIS - Pharmacy'!BI819)","v":""},{"$f":"IF(ISBLANK('MIS - Pharmacy'!U819), \"\", 'MIS - Pharmacy'!U819)","v":""},"","","","","","","",{"$f":"IF(ISBLANK('MIS - Pharmacy'!AC819),\"\",'MIS - Pharmacy'!AC819)","v":""},"",{"$f":"IF(ISBLANK('MIS - Pharmacy'!AD819),\"\",'MIS - Pharmacy'!AD819)","v":""},"","",{"$f":"IF('MIS - Pharmacy'!A819=\"\",\"\",SUM('MIS - Pharmacy'!K819+'MIS - Pharmacy'!L819))","v":""},"",{"$f":"IF('MIS - Pharmacy'!A819=\"\",\"\",('MIS - Pharmacy'!AF819+'MIS - Pharmacy'!AH819 +'MIS - Pharmacy'!AG819))","v":""},{"$f":"IF(ISBLANK('MIS - Pharmacy'!AI819),\"\",'MIS - Pharmacy'!AI819)","v":""},"","","",{"$f":"IF(ISBLANK('MIS - Pharmacy'!V819),\"\",'MIS - Pharmacy'!V819)","v":""},"","","",{"$f":"IF(ISBLANK('MIS - Pharmacy'!J819),\"\",'MIS - Pharmacy'!J819)","v":""},{"$f":"IF(ISBLANK('MIS - Pharmacy'!AY819),\"\",'MIS - Pharmacy'!AY819)","v":""},{"$f":"IF(ISBLANK('MIS - Pharmacy'!BH819),\"\",'MIS - Pharmacy'!BH819)","v":""},"",""]
[{"$f":"IF(ISBLANK('MIS - Pharmacy'!A820), \"\",'MIS - Pharmacy'!A820)","v":""},{"$f":"IF(ISBLANK('MIS - Pharmacy'!B820),\"\",('MIS - Pharmacy'!B820&\"(\"&'MIS - Pharmacy'!D820&\")\"))","v":""},{"$f":"IF(ISBLANK('MIS - Pharmacy'!BI820), \"\", 'MIS - Pharmacy'!BI820)","v":""},{"$f":"IF(ISBLANK('MIS - Pharmacy'!U820), \"\", 'MIS - Pharmacy'!U820)","v":""},"","","","","","","",{"$f":"IF(ISBLANK('MIS - Pharmacy'!AC820),\"\",'MIS - Pharmacy'!AC820)","v":""},"",{"$f":"IF(ISBLANK('MIS - Pharmacy'!AD820),\"\",'MIS - Pharmacy'!AD820)","v":""},"","",{"$f":"IF('MIS - Pharmacy'!A820=\"\",\"\",SUM('MIS - Pharmacy'!K820+'MIS - Pharmacy'!L820))","v":""},"",{"$f":"IF('MIS - Pharmacy'!A820=\"\",\"\",('MIS - Pharmacy'!AF820+'MIS - Pharmacy'!AH820 +'MIS - Pharmacy'!AG820))","v":""},{"$f":"IF(ISBLANK('MIS - Pharmacy'!AI820),\"\",'MIS - Pharmacy'!AI820)","v":""},"","","",{"$f":"IF(ISBLANK('MIS - Pharmacy'!V820),\"\",'MIS - Pharmacy'!V820)","v":""},"","","",{"$f":"IF(ISBLANK('MIS - Pharmacy'!J820),\"\",'MIS - Pharmacy'!J820)","v":""},{"$f":"IF(ISBLANK('MIS - Pharmacy'!AY820),\"\",'MIS - Pharmacy'!AY820)","v":""},{"$f":"IF(ISBLANK('MIS - Pharmacy'!BH820),\"\",'MIS - Pharmacy'!BH820)","v":""},"",""]
[{"$f":"IF(ISBLANK('MIS - Pharmacy'!A821), \"\",'MIS - Pharmacy'!A821)","v":""},{"$f":"IF(ISBLANK('MIS - Pharmacy'!B821),\"\",('MIS - Pharmacy'!B821&\"(\"&'MIS - Pharmacy'!D821&\")\"))","v":""},{"$f":"IF(ISBLANK('MIS - Pharmacy'!BI821), \"\", 'MIS - Pharmacy'!BI821)","v":""},{"$f":"IF(ISBLANK('MIS - Pharmacy'!U821), \"\", 'MIS - Pharmacy'!U821)","v":""},"","","","","","","",{"$f":"IF(ISBLANK('MIS - Pharmacy'!AC821),\"\",'MIS - Pharmacy'!AC821)","v":""},"",{"$f":"IF(ISBLANK('MIS - Pharmacy'!AD821),\"\",'MIS - Pharmacy'!AD821)","v":""},"","",{"$f":"IF('MIS - Pharmacy'!A821=\"\",\"\",SUM('MIS - Pharmacy'!K821+'MIS - Pharmacy'!L821))","v":""},"",{"$f":"IF('MIS - Pharmacy'!A821=\"\",\"\",('MIS - Pharmacy'!AF821+'MIS - Pharmacy'!AH821 +'MIS - Pharmacy'!AG821))","v":""},{"$f":"IF(ISBLANK('MIS - Pharmacy'!AI821),\"\",'MIS - Pharmacy'!AI821)","v":""},"","","",{"$f":"IF(ISBLANK('MIS - Pharmacy'!V821),\"\",'MIS - Pharmacy'!V821)","v":""},"","","",{"$f":"IF(ISBLANK('MIS - Pharmacy'!J821),\"\",'MIS - Pharmacy'!J821)","v":""},{"$f":"IF(ISBLANK('MIS - Pharmacy'!AY821),\"\",'MIS - Pharmacy'!AY821)","v":""},{"$f":"IF(ISBLANK('MIS - Pharmacy'!BH821),\"\",'MIS - Pharmacy'!BH821)","v":""},"",""]
[{"$f":"IF(ISBLANK('MIS - Pharmacy'!A822), \"\",'MIS - Pharmacy'!A822)","v":""},{"$f":"IF(ISBLANK('MIS - Pharmacy'!B822),\"\",('MIS - Pharmacy'!B822&\"(\"&'MIS - Pharmacy'!D822&\")\"))","v":""},{"$f":"IF(ISBLANK('MIS - Pharmacy'!BI822), \"\", 'MIS - Pharmacy'!BI822)","v":""},{"$f":"IF(ISBLANK('MIS - Pharmacy'!U822), \"\", 'MIS - Pharmacy'!U822)","v":""},"","","","","","","",{"$f":"IF(ISBLANK('MIS - Pharmacy'!AC822),\"\",'MIS - Pharmacy'!AC822)","v":""},"",{"$f":"IF(ISBLANK('MIS - Pharmacy'!AD822),\"\",'MIS - Pharmacy'!AD822)","v":""},"","",{"$f":"IF('MIS - Pharmacy'!A822=\"\",\"\",SUM('MIS - Pharmacy'!K822+'MIS - Pharmacy'!L822))","v":""},"",{"$f":"IF('MIS - Pharmacy'!A822=\"\",\"\",('MIS - Pharmacy'!AF822+'MIS - Pharmacy'!AH822 +'MIS - Pharmacy'!AG822))","v":""},{"$f":"IF(ISBLANK('MIS - Pharmacy'!AI822),\"\",'MIS - Pharmacy'!AI822)","v":""},"","","",{"$f":"IF(ISBLANK('MIS - Pharmacy'!V822),\"\",'MIS - Pharmacy'!V822)","v":""},"","","",{"$f":"IF(ISBLANK('MIS - Pharmacy'!J822),\"\",'MIS - Pharmacy'!J822)","v":""},{"$f":"IF(ISBLANK('MIS - Pharmacy'!AY822),\"\",'MIS - Pharmacy'!AY822)","v":""},{"$f":"IF(ISBLANK('MIS - Pharmacy'!BH822),\"\",'MIS - Pharmacy'!BH822)","v":""},"",""]
[{"$f":"IF(ISBLANK('MIS - Pharmacy'!A823), \"\",'MIS - Pharmacy'!A823)","v":""},{"$f":"IF(ISBLANK('MIS - Pharmacy'!B823),\"\",('MIS - Pharmacy'!B823&\"(\"&'MIS - Pharmacy'!D823&\")\"))","v":""},{"$f":"IF(ISBLANK('MIS - Pharmacy'!BI823), \"\", 'MIS - Pharmacy'!BI823)","v":""},{"$f":"IF(ISBLANK('MIS - Pharmacy'!U823), \"\", 'MIS - Pharmacy'!U823)","v":""},"","","","","","","",{"$f":"IF(ISBLANK('MIS - Pharmacy'!AC823),\"\",'MIS - Pharmacy'!AC823)","v":""},"",{"$f":"IF(ISBLANK('MIS - Pharmacy'!AD823),\"\",'MIS - Pharmacy'!AD823)","v":""},"","",{"$f":"IF('MIS - Pharmacy'!A823=\"\",\"\",SUM('MIS - Pharmacy'!K823+'MIS - Pharmacy'!L823))","v":""},"",{"$f":"IF('MIS - Pharmacy'!A823=\"\",\"\",('MIS - Pharmacy'!AF823+'MIS - Pharmacy'!AH823 +'MIS - Pharmacy'!AG823))","v":""},{"$f":"IF(ISBLANK('MIS - Pharmacy'!AI823),\"\",'MIS - Pharmacy'!AI823)","v":""},"","","",{"$f":"IF(ISBLANK('MIS - Pharmacy'!V823),\"\",'MIS - Pharmacy'!V823)","v":""},"","","",{"$f":"IF(ISBLANK('MIS - Pharmacy'!J823),\"\",'MIS - Pharmacy'!J823)","v":""},{"$f":"IF(ISBLANK('MIS - Pharmacy'!AY823),\"\",'MIS - Pharmacy'!AY823)","v":""},{"$f":"IF(ISBLANK('MIS - Pharmacy'!BH823),\"\",'MIS - Pharmacy'!BH823)","v":""},"",""]
[{"$f":"IF(ISBLANK('MIS - Pharmacy'!A824), \"\",'MIS - Pharmacy'!A824)","v":""},{"$f":"IF(ISBLANK('MIS - Pharmacy'!B824),\"\",('MIS - Pharmacy'!B824&\"(\"&'MIS - Pharmacy'!D824&\")\"))","v":""},{"$f":"IF(ISBLANK('MIS - Pharmacy'!BI824), \"\", 'MIS - Pharmacy'!BI824)","v":""},{"$f":"IF(ISBLANK('MIS - Pharmacy'!U824), \"\", 'MIS - Pharmacy'!U824)","v":""},"","","","","","","",{"$f":"IF(ISBLANK('MIS - Pharmacy'!AC824),\"\",'MIS - Pharmacy'!AC824)","v":""},"",{"$f":"IF(ISBLANK('MIS - Pharmacy'!AD824),\"\",'MIS - Pharmacy'!AD824)","v":""},"","",{"$f":"IF('MIS - Pharmacy'!A824=\"\",\"\",SUM('MIS - Pharmacy'!K824+'MIS - Pharmacy'!L824))","v":""},"",{"$f":"IF('MIS - Pharmacy'!A824=\"\",\"\",('MIS - Pharmacy'!AF824+'MIS - Pharmacy'!AH824 +'MIS - Pharmacy'!AG824))","v":""},{"$f":"IF(ISBLANK('MIS - Pharmacy'!AI824),\"\",'MIS - Pharmacy'!AI824)","v":""},"","","",{"$f":"IF(ISBLANK('MIS - Pharmacy'!V824),\"\",'MIS - Pharmacy'!V824)","v":""},"","","",{"$f":"IF(ISBLANK('MIS - Pharmacy'!J824),\"\",'MIS - Pharmacy'!J824)","v":""},{"$f":"IF(ISBLANK('MIS - Pharmacy'!AY824),\"\",'MIS - Pharmacy'!AY824)","v":""},{"$f":"IF(ISBLANK('MIS - Pharmacy'!BH824),\"\",'MIS - Pharmacy'!BH824)","v":""},"",""]
[{"$f":"IF(ISBLANK('MIS - Pharmacy'!A825), \"\",'MIS - Pharmacy'!A825)","v":""},{"$f":"IF(ISBLANK('MIS - Pharmacy'!B825),\"\",('MIS - Pharmacy'!B825&\"(\"&'MIS - Pharmacy'!D825&\")\"))","v":""},{"$f":"IF(ISBLANK('MIS - Pharmacy'!BI825), \"\", 'MIS - Pharmacy'!BI825)","v":""},{"$f":"IF(ISBLANK('MIS - Pharmacy'!U825), \"\", 'MIS - Pharmacy'!U825)","v":""},"","","","","","","",{"$f":"IF(ISBLANK('MIS - Pharmacy'!AC825),\"\",'MIS - Pharmacy'!AC825)","v":""},"",{"$f":"IF(ISBLANK('MIS - Pharmacy'!AD825),\"\",'MIS - Pharmacy'!AD825)","v":""},"","",{"$f":"IF('MIS - Pharmacy'!A825=\"\",\"\",SUM('MIS - Pharmacy'!K825+'MIS - Pharmacy'!L825))","v":""},"",{"$f":"IF('MIS - Pharmacy'!A825=\"\",\"\",('MIS - Pharmacy'!AF825+'MIS - Pharmacy'!AH825 +'MIS - Pharmacy'!AG825))","v":""},{"$f":"IF(ISBLANK('MIS - Pharmacy'!AI825),\"\",'MIS - Pharmacy'!AI825)","v":""},"","","",{"$f":"IF(ISBLANK('MIS - Pharmacy'!V825),\"\",'MIS - Pharmacy'!V825)","v":""},"","","",{"$f":"IF(ISBLANK('MIS - Pharmacy'!J825),\"\",'MIS - Pharmacy'!J825)","v":""},{"$f":"IF(ISBLANK('MIS - Pharmacy'!AY825),\"\",'MIS - Pharmacy'!AY825)","v":""},{"$f":"IF(ISBLANK('MIS - Pharmacy'!BH825),\"\",'MIS - Pharmacy'!BH825)","v":""},"",""]
[{"$f":"IF(ISBLANK('MIS - Pharmacy'!A826), \"\",'MIS - Pharmacy'!A826)","v":""},{"$f":"IF(ISBLANK('MIS - Pharmacy'!B826),\"\",('MIS - Pharmacy'!B826&\"(\"&'MIS - Pharmacy'!D826&\")\"))","v":""},{"$f":"IF(ISBLANK('MIS - Pharmacy'!BI826), \"\", 'MIS - Pharmacy'!BI826)","v":""},{"$f":"IF(ISBLANK('MIS - Pharmacy'!U826), \"\", 'MIS - Pharmacy'!U826)","v":""},"","","","","","","",{"$f":"IF(ISBLANK('MIS - Pharmacy'!AC826),\"\",'MIS - Pharmacy'!AC826)","v":""},"",{"$f":"IF(ISBLANK('MIS - Pharmacy'!AD826),\"\",'MIS - Pharmacy'!AD826)","v":""},"","",{"$f":"IF('MIS - Pharmacy'!A826=\"\",\"\",SUM('MIS - Pharmacy'!K826+'MIS - Pharmacy'!L826))","v":""},"",{"$f":"IF('MIS - Pharmacy'!A826=\"\",\"\",('MIS - Pharmacy'!AF826+'MIS - Pharmacy'!AH826 +'MIS - Pharmacy'!AG826))","v":""},{"$f":"IF(ISBLANK('MIS - Pharmacy'!AI826),\"\",'MIS - Pharmacy'!AI826)","v":""},"","","",{"$f":"IF(ISBLANK('MIS - Pharmacy'!V826),\"\",'MIS - Pharmacy'!V826)","v":""},"","","",{"$f":"IF(ISBLANK('MIS - Pharmacy'!J826),\"\",'MIS - Pharmacy'!J826)","v":""},{"$f":"IF(ISBLANK('MIS - Pharmacy'!AY826),\"\",'MIS - Pharmacy'!AY826)","v":""},{"$f":"IF(ISBLANK('MIS - Pharmacy'!BH826),\"\",'MIS - Pharmacy'!BH826)","v":""},"",""]
[{"$f":"IF(ISBLANK('MIS - Pharmacy'!A827), \"\",'MIS - Pharmacy'!A827)","v":""},{"$f":"IF(ISBLANK('MIS - Pharmacy'!B827),\"\",('MIS - Pharmacy'!B827&\"(\"&'MIS - Pharmacy'!D827&\")\"))","v":""},{"$f":"IF(ISBLANK('MIS - Pharmacy'!BI827), \"\", 'MIS - Pharmacy'!BI827)","v":""},{"$f":"IF(ISBLANK('MIS - Pharmacy'!U827), \"\", 'MIS - Pharmacy'!U827)","v":""},"","","","","","","",{"$f":"IF(ISBLANK('MIS - Pharmacy'!AC827),\"\",'MIS - Pharmacy'!AC827)","v":""},"",{"$f":"IF(ISBLANK('MIS - Pharmacy'!AD827),\"\",'MIS - Pharmacy'!AD827)","v":""},"","",{"$f":"IF('MIS - Pharmacy'!A827=\"\",\"\",SUM('MIS - Pharmacy'!K827+'MIS - Pharmacy'!L827))","v":""},"",{"$f":"IF('MIS - Pharmacy'!A827=\"\",\"\",('MIS - Pharmacy'!AF827+'MIS - Pharmacy'!AH827 +'MIS - Pharmacy'!AG827))","v":""},{"$f":"IF(ISBLANK('MIS - Pharmacy'!AI827),\"\",'MIS - Pharmacy'!AI827)","v":""},"","","",{"$f":"IF(ISBLANK('MIS - Pharmacy'!V827),\"\",'MIS - Pharmacy'!V827)","v":""},"","","",{"$f":"IF(ISBLANK('MIS - Pharmacy'!J827),\"\",'MIS - Pharmacy'!J827)","v":""},{"$f":"IF(ISBLANK('MIS - Pharmacy'!AY827),\"\",'MIS - Pharmacy'!AY827)","v":""},{"$f":"IF(ISBLANK('MIS - Pharmacy'!BH827),\"\",'MIS - Pharmacy'!BH827)","v":""},"",""]
[{"$f":"IF(ISBLANK('MIS - Pharmacy'!A828), \"\",'MIS - Pharmacy'!A828)","v":""},{"$f":"IF(ISBLANK('MIS - Pharmacy'!B828),\"\",('MIS - Pharmacy'!B828&\"(\"&'MIS - Pharmacy'!D828&\")\"))","v":""},{"$f":"IF(ISBLANK('MIS - Pharmacy'!BI828), \"\", 'MIS - Pharmacy'!BI828)","v":""},{"$f":"IF(ISBLANK('MIS - Pharmacy'!U828), \"\", 'MIS - Pharmacy'!U828)","v":""},"","","","","","","",{"$f":"IF(ISBLANK('MIS - Pharmacy'!AC828),\"\",'MIS - Pharmacy'!AC828)","v":""},"",{"$f":"IF(ISBLANK('MIS - Pharmacy'!AD828),\"\",'MIS - Pharmacy'!AD828)","v":""},"","",{"$f":"IF('MIS - Pharmacy'!A828=\"\",\"\",SUM('MIS - Pharmacy'!K828+'MIS - Pharmacy'!L828))","v":""},"",{"$f":"IF('MIS - Pharmacy'!A828=\"\",\"\",('MIS - Pharmacy'!AF828+'MIS - Pharmacy'!AH828 +'MIS - Pharmacy'!AG828))","v":""},{"$f":"IF(ISBLANK('MIS - Pharmacy'!AI828),\"\",'MIS - Pharmacy'!AI828)","v":""},"","","",{"$f":"IF(ISBLANK('MIS - Pharmacy'!V828),\"\",'MIS - Pharmacy'!V828)","v":""},"","","",{"$f":"IF(ISBLANK('MIS - Pharmacy'!J828),\"\",'MIS - Pharmacy'!J828)","v":""},{"$f":"IF(ISBLANK('MIS - Pharmacy'!AY828),\"\",'MIS - Pharmacy'!AY828)","v":""},{"$f":"IF(ISBLANK('MIS - Pharmacy'!BH828),\"\",'MIS - Pharmacy'!BH828)","v":""},"",""]
[{"$f":"IF(ISBLANK('MIS - Pharmacy'!A829), \"\",'MIS - Pharmacy'!A829)","v":""},{"$f":"IF(ISBLANK('MIS - Pharmacy'!B829),\"\",('MIS - Pharmacy'!B829&\"(\"&'MIS - Pharmacy'!D829&\")\"))","v":""},{"$f":"IF(ISBLANK('MIS - Pharmacy'!BI829), \"\", 'MIS - Pharmacy'!BI829)","v":""},{"$f":"IF(ISBLANK('MIS - Pharmacy'!U829), \"\", 'MIS - Pharmacy'!U829)","v":""},"","","","","","","",{"$f":"IF(ISBLANK('MIS - Pharmacy'!AC829),\"\",'MIS - Pharmacy'!AC829)","v":""},"",{"$f":"IF(ISBLANK('MIS - Pharmacy'!AD829),\"\",'MIS - Pharmacy'!AD829)","v":""},"","",{"$f":"IF('MIS - Pharmacy'!A829=\"\",\"\",SUM('MIS - Pharmacy'!K829+'MIS - Pharmacy'!L829))","v":""},"",{"$f":"IF('MIS - Pharmacy'!A829=\"\",\"\",('MIS - Pharmacy'!AF829+'MIS - Pharmacy'!AH829 +'MIS - Pharmacy'!AG829))","v":""},{"$f":"IF(ISBLANK('MIS - Pharmacy'!AI829),\"\",'MIS - Pharmacy'!AI829)","v":""},"","","",{"$f":"IF(ISBLANK('MIS - Pharmacy'!V829),\"\",'MIS - Pharmacy'!V829)","v":""},"","","",{"$f":"IF(ISBLANK('MIS - Pharmacy'!J829),\"\",'MIS - Pharmacy'!J829)","v":""},{"$f":"IF(ISBLANK('MIS - Pharmacy'!AY829),\"\",'MIS - Pharmacy'!AY829)","v":""},{"$f":"IF(ISBLANK('MIS - Pharmacy'!BH829),\"\",'MIS - Pharmacy'!BH829)","v":""},"",""]
[{"$f":"IF(ISBLANK('MIS - Pharmacy'!A830), \"\",'MIS - Pharmacy'!A830)","v":""},{"$f":"IF(ISBLANK('MIS - Pharmacy'!B830),\"\",('MIS - Pharmacy'!B830&\"(\"&'MIS - Pharmacy'!D830&\")\"))","v":""},{"$f":"IF(ISBLANK('MIS - Pharmacy'!BI830), \"\", 'MIS - Pharmacy'!BI830)","v":""},{"$f":"IF(ISBLANK('MIS - Pharmacy'!U830), \"\", 'MIS - Pharmacy'!U830)","v":""},"","","","","","","",{"$f":"IF(ISBLANK('MIS - Pharmacy'!AC830),\"\",'MIS - Pharmacy'!AC830)","v":""},"",{"$f":"IF(ISBLANK('MIS - Pharmacy'!AD830),\"\",'MIS - Pharmacy'!AD830)","v":""},"","",{"$f":"IF('MIS - Pharmacy'!A830=\"\",\"\",SUM('MIS - Pharmacy'!K830+'MIS - Pharmacy'!L830))","v":""},"",{"$f":"IF('MIS - Pharmacy'!A830=\"\",\"\",('MIS - Pharmacy'!AF830+'MIS - Pharmacy'!AH830 +'MIS - Pharmacy'!AG830))","v":""},{"$f":"IF(ISBLANK('MIS - Pharmacy'!AI830),\"\",'MIS - Pharmacy'!AI830)","v":""},"","","",{"$f":"IF(ISBLANK('MIS - Pharmacy'!V830),\"\",'MIS - Pharmacy'!V830)","v":""},"","","",{"$f":"IF(ISBLANK('MIS - Pharmacy'!J830),\"\",'MIS - Pharmacy'!J830)","v":""},{"$f":"IF(ISBLANK('MIS - Pharmacy'!AY830),\"\",'MIS - Pharmacy'!AY830)","v":""},{"$f":"IF(ISBLANK('MIS - Pharmacy'!BH830),\"\",'MIS - Pharmacy'!BH830)","v":""},"",""]
[{"$f":"IF(ISBLANK('MIS - Pharmacy'!A831), \"\",'MIS - Pharmacy'!A831)","v":""},{"$f":"IF(ISBLANK('MIS - Pharmacy'!B831),\"\",('MIS - Pharmacy'!B831&\"(\"&'MIS - Pharmacy'!D831&\")\"))","v":""},{"$f":"IF(ISBLANK('MIS - Pharmacy'!BI831), \"\", 'MIS - Pharmacy'!BI831)","v":""},{"$f":"IF(ISBLANK('MIS - Pharmacy'!U831), \"\", 'MIS - Pharmacy'!U831)","v":""},"","","","","","","",{"$f":"IF(ISBLANK('MIS - Pharmacy'!AC831),\"\",'MIS - Pharmacy'!AC831)","v":""},"",{"$f":"IF(ISBLANK('MIS - Pharmacy'!AD831),\"\",'MIS - Pharmacy'!AD831)","v":""},"","",{"$f":"IF('MIS - Pharmacy'!A831=\"\",\"\",SUM('MIS - Pharmacy'!K831+'MIS - Pharmacy'!L831))","v":""},"",{"$f":"IF('MIS - Pharmacy'!A831=\"\",\"\",('MIS - Pharmacy'!AF831+'MIS - Pharmacy'!AH831 +'MIS - Pharmacy'!AG831))","v":""},{"$f":"IF(ISBLANK('MIS - Pharmacy'!AI831),\"\",'MIS - Pharmacy'!AI831)","v":""},"","","",{"$f":"IF(ISBLANK('MIS - Pharmacy'!V831),\"\",'MIS - Pharmacy'!V831)","v":""},"","","",{"$f":"IF(ISBLANK('MIS - Pharmacy'!J831),\"\",'MIS - Pharmacy'!J831)","v":""},{"$f":"IF(ISBLANK('MIS - Pharmacy'!AY831),\"\",'MIS - Pharmacy'!AY831)","v":""},{"$f":"IF(ISBLANK('MIS - Pharmacy'!BH831),\"\",'MIS - Pharmacy'!BH831)","v":""},"",""]
[{"$f":"IF(ISBLANK('MIS - Pharmacy'!A832), \"\",'MIS - Pharmacy'!A832)","v":""},{"$f":"IF(ISBLANK('MIS - Pharmacy'!B832),\"\",('MIS - Pharmacy'!B832&\"(\"&'MIS - Pharmacy'!D832&\")\"))","v":""},{"$f":"IF(ISBLANK('MIS - Pharmacy'!BI832), \"\", 'MIS - Pharmacy'!BI832)","v":""},{"$f":"IF(ISBLANK('MIS - Pharmacy'!U832), \"\", 'MIS - Pharmacy'!U832)","v":""},"","","","","","","",{"$f":"IF(ISBLANK('MIS - Pharmacy'!AC832),\"\",'MIS - Pharmacy'!AC832)","v":""},"",{"$f":"IF(ISBLANK('MIS - Pharmacy'!AD832),\"\",'MIS - Pharmacy'!AD832)","v":""},"","",{"$f":"IF('MIS - Pharmacy'!A832=\"\",\"\",SUM('MIS - Pharmacy'!K832+'MIS - Pharmacy'!L832))","v":""},"",{"$f":"IF('MIS - Pharmacy'!A832=\"\",\"\",('MIS - Pharmacy'!AF832+'MIS - Pharmacy'!AH832 +'MIS - Pharmacy'!AG832))","v":""},{"$f":"IF(ISBLANK('MIS - Pharmacy'!AI832),\"\",'MIS - Pharmacy'!AI832)","v":""},"","","",{"$f":"IF(ISBLANK('MIS - Pharmacy'!V832),\"\",'MIS - Pharmacy'!V832)","v":""},"","","",{"$f":"IF(ISBLANK('MIS - Pharmacy'!J832),\"\",'MIS - Pharmacy'!J832)","v":""},{"$f":"IF(ISBLANK('MIS - Pharmacy'!AY832),\"\",'MIS - Pharmacy'!AY832)","v":""},{"$f":"IF(ISBLANK('MIS - Pharmacy'!BH832),\"\",'MIS - Pharmacy'!BH832)","v":""},"",""]
[{"$f":"IF(ISBLANK('MIS - Pharmacy'!A833), \"\",'MIS - Pharmacy'!A833)","v":""},{"$f":"IF(ISBLANK('MIS - Pharmacy'!B833),\"\",('MIS - Pharmacy'!B833&\"(\"&'MIS - Pharmacy'!D833&\")\"))","v":""},{"$f":"IF(ISBLANK('MIS - Pharmacy'!BI833), \"\", 'MIS - Pharmacy'!BI833)","v":""},{"$f":"IF(ISBLANK('MIS - Pharmacy'!U833), \"\", 'MIS - Pharmacy'!U833)","v":""},"","","","","","","",{"$f":"IF(ISBLANK('MIS - Pharmacy'!AC833),\"\",'MIS - Pharmacy'!AC833)","v":""},"",{"$f":"IF(ISBLANK('MIS - Pharmacy'!AD833),\"\",'MIS - Pharmacy'!AD833)","v":""},"","",{"$f":"IF('MIS - Pharmacy'!A833=\"\",\"\",SUM('MIS - Pharmacy'!K833+'MIS - Pharmacy'!L833))","v":""},"",{"$f":"IF('MIS - Pharmacy'!A833=\"\",\"\",('MIS - Pharmacy'!AF833+'MIS - Pharmacy'!AH833 +'MIS - Pharmacy'!AG833))","v":""},{"$f":"IF(ISBLANK('MIS - Pharmacy'!AI833),\"\",'MIS - Pharmacy'!AI833)","v":""},"","","",{"$f":"IF(ISBLANK('MIS - Pharmacy'!V833),\"\",'MIS - Pharmacy'!V833)","v":""},"","","",{"$f":"IF(ISBLANK('MIS - Pharmacy'!J833),\"\",'MIS - Pharmacy'!J833)","v":""},{"$f":"IF(ISBLANK('MIS - Pharmacy'!AY833),\"\",'MIS - Pharmacy'!AY833)","v":""},{"$f":"IF(ISBLANK('MIS - Pharmacy'!BH833),\"\",'MIS - Pharmacy'!BH833)","v":""},"",""]
[{"$f":"IF(ISBLANK('MIS - Pharmacy'!A834), \"\",'MIS - Pharmacy'!A834)","v":""},{"$f":"IF(ISBLANK('MIS - Pharmacy'!B834),\"\",('MIS - Pharmacy'!B834&\"(\"&'MIS - Pharmacy'!D834&\")\"))","v":""},{"$f":"IF(ISBLANK('MIS - Pharmacy'!BI834), \"\", 'MIS - Pharmacy'!BI834)","v":""},{"$f":"IF(ISBLANK('MIS - Pharmacy'!U834), \"\", 'MIS - Pharmacy'!U834)","v":""},"","","","","","","",{"$f":"IF(ISBLANK('MIS - Pharmacy'!AC834),\"\",'MIS - Pharmacy'!AC834)","v":""},"",{"$f":"IF(ISBLANK('MIS - Pharmacy'!AD834),\"\",'MIS - Pharmacy'!AD834)","v":""},"","",{"$f":"IF('MIS - Pharmacy'!A834=\"\",\"\",SUM('MIS - Pharmacy'!K834+'MIS - Pharmacy'!L834))","v":""},"",{"$f":"IF('MIS - Pharmacy'!A834=\"\",\"\",('MIS - Pharmacy'!AF834+'MIS - Pharmacy'!AH834 +'MIS - Pharmacy'!AG834))","v":""},{"$f":"IF(ISBLANK('MIS - Pharmacy'!AI834),\"\",'MIS - Pharmacy'!AI834)","v":""},"","","",{"$f":"IF(ISBLANK('MIS - Pharmacy'!V834),\"\",'MIS - Pharmacy'!V834)","v":""},"","","",{"$f":"IF(ISBLANK('MIS - Pharmacy'!J834),\"\",'MIS - Pharmacy'!J834)","v":""},{"$f":"IF(ISBLANK('MIS - Pharmacy'!AY834),\"\",'MIS - Pharmacy'!AY834)","v":""},{"$f":"IF(ISBLANK('MIS - Pharmacy'!BH834),\"\",'MIS - Pharmacy'!BH834)","v":""},"",""]
[{"$f":"IF(ISBLANK('MIS - Pharmacy'!A835), \"\",'MIS - Pharmacy'!A835)","v":""},{"$f":"IF(ISBLANK('MIS - Pharmacy'!B835),\"\",('MIS - Pharmacy'!B835&\"(\"&'MIS - Pharmacy'!D835&\")\"))","v":""},{"$f":"IF(ISBLANK('MIS - Pharmacy'!BI835), \"\", 'MIS - Pharmacy'!BI835)","v":""},{"$f":"IF(ISBLANK('MIS - Pharmacy'!U835), \"\", 'MIS - Pharmacy'!U835)","v":""},"","","","","","","",{"$f":"IF(ISBLANK('MIS - Pharmacy'!AC835),\"\",'MIS - Pharmacy'!AC835)","v":""},"",{"$f":"IF(ISBLANK('MIS - Pharmacy'!AD835),\"\",'MIS - Pharmacy'!AD835)","v":""},"","",{"$f":"IF('MIS - Pharmacy'!A835=\"\",\"\",SUM('MIS - Pharmacy'!K835+'MIS - Pharmacy'!L835))","v":""},"",{"$f":"IF('MIS - Pharmacy'!A835=\"\",\"\",('MIS - Pharmacy'!AF835+'MIS - Pharmacy'!AH835 +'MIS - Pharmacy'!AG835))","v":""},{"$f":"IF(ISBLANK('MIS - Pharmacy'!AI835),\"\",'MIS - Pharmacy'!AI835)","v":""},"","","",{"$f":"IF(ISBLANK('MIS - Pharmacy'!V835),\"\",'MIS - Pharmacy'!V835)","v":""},"","","",{"$f":"IF(ISBLANK('MIS - Pharmacy'!J835),\"\",'MIS - Pharmacy'!J835)","v":""},{"$f":"IF(ISBLANK('MIS - Pharmacy'!AY835),\"\",'MIS - Pharmacy'!AY835)","v":""},{"$f":"IF(ISBLANK('MIS - Pharmacy'!BH835),\"\",'MIS - Pharmacy'!BH835)","v":""},"",""]
[{"$f":"IF(ISBLANK('MIS - Pharmacy'!A836), \"\",'MIS - Pharmacy'!A836)","v":""},{"$f":"IF(ISBLANK('MIS - Pharmacy'!B836),\"\",('MIS - Pharmacy'!B836&\"(\"&'MIS - Pharmacy'!D836&\")\"))","v":""},{"$f":"IF(ISBLANK('MIS - Pharmacy'!BI836), \"\", 'MIS - Pharmacy'!BI836)","v":""},{"$f":"IF(ISBLANK('MIS - Pharmacy'!U836), \"\", 'MIS - Pharmacy'!U836)","v":""},"","","","","","","",{"$f":"IF(ISBLANK('MIS - Pharmacy'!AC836),\"\",'MIS - Pharmacy'!AC836)","v":""},"",{"$f":"IF(ISBLANK('MIS - Pharmacy'!AD836),\"\",'MIS - Pharmacy'!AD836)","v":""},"","",{"$f":"IF('MIS - Pharmacy'!A836=\"\",\"\",SUM('MIS - Pharmacy'!K836+'MIS - Pharmacy'!L836))","v":""},"",{"$f":"IF('MIS - Pharmacy'!A836=\"\",\"\",('MIS - Pharmacy'!AF836+'MIS - Pharmacy'!AH836 +'MIS - Pharmacy'!AG836))","v":""},{"$f":"IF(ISBLANK('MIS - Pharmacy'!AI836),\"\",'MIS - Pharmacy'!AI836)","v":""},"","","",{"$f":"IF(ISBLANK('MIS - Pharmacy'!V836),\"\",'MIS - Pharmacy'!V836)","v":""},"","","",{"$f":"IF(ISBLANK('MIS - Pharmacy'!J836),\"\",'MIS - Pharmacy'!J836)","v":""},{"$f":"IF(ISBLANK('MIS - Pharmacy'!AY836),\"\",'MIS - Pharmacy'!AY836)","v":""},{"$f":"IF(ISBLANK('MIS - Pharmacy'!BH836),\"\",'MIS - Pharmacy'!BH836)","v":""},"",""]
[{"$f":"IF(ISBLANK('MIS - Pharmacy'!A837), \"\",'MIS - Pharmacy'!A837)","v":""},{"$f":"IF(ISBLANK('MIS - Pharmacy'!B837),\"\",('MIS - Pharmacy'!B837&\"(\"&'MIS - Pharmacy'!D837&\")\"))","v":""},{"$f":"IF(ISBLANK('MIS - Pharmacy'!BI837), \"\", 'MIS - Pharmacy'!BI837)","v":""},{"$f":"IF(ISBLANK('MIS - Pharmacy'!U837), \"\", 'MIS - Pharmacy'!U837)","v":""},"","","",{"$f":"IF(D846=\"\",\"\",IF(X846=0,0,D846/Y846))","v":""},"","","",{"$f":"IF(ISBLANK('MIS - Pharmacy'!AC837),\"\",'MIS - Pharmacy'!AC837)","v":""},"",{"$f":"IF(ISBLANK('MIS - Pharmacy'!AD837),\"\",'MIS - Pharmacy'!AD837)","v":""},"","",{"$f":"IF('MIS - Pharmacy'!A837=\"\",\"\",SUM('MIS - Pharmacy'!K837+'MIS - Pharmacy'!L837))","v":""},"",{"$f":"IF('MIS - Pharmacy'!A837=\"\",\"\",('MIS - Pharmacy'!AF837+'MIS - Pharmacy'!AH837 +'MIS - Pharmacy'!AG837))","v":""},{"$f":"IF(ISBLANK('MIS - Pharmacy'!AI837),\"\",'MIS - Pharmacy'!AI837)","v":""},"","","",{"$f":"IF(ISBLANK('MIS - Pharmacy'!V837),\"\",'MIS - Pharmacy'!V837)","v":""},"","","",{"$f":"IF(ISBLANK('MIS - Pharmacy'!J837),\"\",'MIS - Pharmacy'!J837)","v":""},{"$f":"IF(ISBLANK('MIS - Pharmacy'!AY837),\"\",'MIS - Pharmacy'!AY837)","v":""},{"$f":"IF(ISBLANK('MIS - Pharmacy'!BH837),\"\",'MIS - Pharmacy'!BH837)","v":""},"",""]
[{"$f":"IF(ISBLANK('MIS - Pharmacy'!A838), \"\",'MIS - Pharmacy'!A838)","v":""},{"$f":"IF(ISBLANK('MIS - Pharmacy'!B838),\"\",('MIS - Pharmacy'!B838&\"(\"&'MIS - Pharmacy'!D838&\")\"))","v":""},{"$f":"IF(ISBLANK('MIS - Pharmacy'!BI838), \"\", 'MIS - Pharmacy'!BI838)","v":""},{"$f":"IF(ISBLANK('MIS - Pharmacy'!U838), \"\", 'MIS - Pharmacy'!U838)","v":""},"","","","","","","",{"$f":"IF(ISBLANK('MIS - Pharmacy'!AC838),\"\",'MIS - Pharmacy'!AC838)","v":""},"",{"$f":"IF(ISBLANK('MIS - Pharmacy'!AD838),\"\",'MIS - Pharmacy'!AD838)","v":""},"","",{"$f":"IF('MIS - Pharmacy'!A838=\"\",\"\",SUM('MIS - Pharmacy'!K838+'MIS - Pharmacy'!L838))","v":""},"",{"$f":"IF('MIS - Pharmacy'!A838=\"\",\"\",('MIS - Pharmacy'!AF838+'MIS - Pharmacy'!AH838 +'MIS - Pharmacy'!AG838))","v":""},{"$f":"IF(ISBLANK('MIS - Pharmacy'!AI838),\"\",'MIS - Pharmacy'!AI838)","v":""},"","","",{"$f":"IF(ISBLANK('MIS - Pharmacy'!V838),\"\",'MIS - Pharmacy'!V838)","v":""},"","","",{"$f":"IF(ISBLANK('MIS - Pharmacy'!J838),\"\",'MIS - Pharmacy'!J838)","v":""},{"$f":"IF(ISBLANK('MIS - Pharmacy'!AY838),\"\",'MIS - Pharmacy'!AY838)","v":""},{"$f":"IF(ISBLANK('MIS - Pharmacy'!BH838),\"\",'MIS - Pharmacy'!BH838)","v":""},"",""]
[{"$f":"IF(ISBLANK('MIS - Pharmacy'!A839), \"\",'MIS - Pharmacy'!A839)","v":""},{"$f":"IF(ISBLANK('MIS - Pharmacy'!B839),\"\",('MIS - Pharmacy'!B839&\"(\"&'MIS - Pharmacy'!D839&\")\"))","v":""},{"$f":"IF(ISBLANK('MIS - Pharmacy'!BI839), \"\", 'MIS - Pharmacy'!BI839)","v":""},{"$f":"IF(ISBLANK('MIS - Pharmacy'!U839), \"\", 'MIS - Pharmacy'!U839)","v":""},"","","","","","","",{"$f":"IF(ISBLANK('MIS - Pharmacy'!AC839),\"\",'MIS - Pharmacy'!AC839)","v":""},"",{"$f":"IF(ISBLANK('MIS - Pharmacy'!AD839),\"\",'MIS - Pharmacy'!AD839)","v":""},"","",{"$f":"IF('MIS - Pharmacy'!A839=\"\",\"\",SUM('MIS - Pharmacy'!K839+'MIS - Pharmacy'!L839))","v":""},"",{"$f":"IF('MIS - Pharmacy'!A839=\"\",\"\",('MIS - Pharmacy'!AF839+'MIS - Pharmacy'!AH839 +'MIS - Pharmacy'!AG839))","v":""},{"$f":"IF(ISBLANK('MIS - Pharmacy'!AI839),\"\",'MIS - Pharmacy'!AI839)","v":""},"","","",{"$f":"IF(ISBLANK('MIS - Pharmacy'!V839),\"\",'MIS - Pharmacy'!V839)","v":""},"","","",{"$f":"IF(ISBLANK('MIS - Pharmacy'!J839),\"\",'MIS - Pharmacy'!J839)","v":""},{"$f":"IF(ISBLANK('MIS - Pharmacy'!AY839),\"\",'MIS - Pharmacy'!AY839)","v":""},{"$f":"IF(ISBLANK('MIS - Pharmacy'!BH839),\"\",'MIS - Pharmacy'!BH839)","v":""},"",""]
[{"$f":"IF(ISBLANK('MIS - Pharmacy'!A840), \"\",'MIS - Pharmacy'!A840)","v":""},{"$f":"IF(ISBLANK('MIS - Pharmacy'!B840),\"\",('MIS - Pharmacy'!B840&\"(\"&'MIS - Pharmacy'!D840&\")\"))","v":""},{"$f":"IF(ISBLANK('MIS - Pharmacy'!BI840), \"\", 'MIS - Pharmacy'!BI840)","v":""},{"$f":"IF(ISBLANK('MIS - Pharmacy'!U840), \"\", 'MIS - Pharmacy'!U840)","v":""},"","","","","","","",{"$f":"IF(ISBLANK('MIS - Pharmacy'!AC840),\"\",'MIS - Pharmacy'!AC840)","v":""},"",{"$f":"IF(ISBLANK('MIS - Pharmacy'!AD840),\"\",'MIS - Pharmacy'!AD840)","v":""},"","",{"$f":"IF('MIS - Pharmacy'!A840=\"\",\"\",SUM('MIS - Pharmacy'!K840+'MIS - Pharmacy'!L840))","v":""},"",{"$f":"IF('MIS - Pharmacy'!A840=\"\",\"\",('MIS - Pharmacy'!AF840+'MIS - Pharmacy'!AH840 +'MIS - Pharmacy'!AG840))","v":""},{"$f":"IF(ISBLANK('MIS - Pharmacy'!AI840),\"\",'MIS - Pharmacy'!AI840)","v":""},"","","",{"$f":"IF(ISBLANK('MIS - Pharmacy'!V840),\"\",'MIS - Pharmacy'!V840)","v":""},"","","",{"$f":"IF(ISBLANK('MIS - Pharmacy'!J840),\"\",'MIS - Pharmacy'!J840)","v":""},{"$f":"IF(ISBLANK('MIS - Pharmacy'!AY840),\"\",'MIS - Pharmacy'!AY840)","v":""},{"$f":"IF(ISBLANK('MIS - Pharmacy'!BH840),\"\",'MIS - Pharmacy'!BH840)","v":""},"",""]
[{"$f":"IF(ISBLANK('MIS - Pharmacy'!A841), \"\",'MIS - Pharmacy'!A841)","v":""},{"$f":"IF(ISBLANK('MIS - Pharmacy'!B841),\"\",('MIS - Pharmacy'!B841&\"(\"&'MIS - Pharmacy'!D841&\")\"))","v":""},{"$f":"IF(ISBLANK('MIS - Pharmacy'!BI841), \"\", 'MIS - Pharmacy'!BI841)","v":""},{"$f":"IF(ISBLANK('MIS - Pharmacy'!U841), \"\", 'MIS - Pharmacy'!U841)","v":""},"","","","","","","",{"$f":"IF(ISBLANK('MIS - Pharmacy'!AC841),\"\",'MIS - Pharmacy'!AC841)","v":""},"",{"$f":"IF(ISBLANK('MIS - Pharmacy'!AD841),\"\",'MIS - Pharmacy'!AD841)","v":""},"","",{"$f":"IF('MIS - Pharmacy'!A841=\"\",\"\",SUM('MIS - Pharmacy'!K841+'MIS - Pharmacy'!L841))","v":""},"",{"$f":"IF('MIS - Pharmacy'!A841=\"\",\"\",('MIS - Pharmacy'!AF841+'MIS - Pharmacy'!AH841 +'MIS - Pharmacy'!AG841))","v":""},{"$f":"IF(ISBLANK('MIS - Pharmacy'!AI841),\"\",'MIS - Pharmacy'!AI841)","v":""},"","","",{"$f":"IF(ISBLANK('MIS - Pharmacy'!V841),\"\",'MIS - Pharmacy'!V841)","v":""},"","","",{"$f":"IF(ISBLANK('MIS - Pharmacy'!J841),\"\",'MIS - Pharmacy'!J841)","v":""},{"$f":"IF(ISBLANK('MIS - Pharmacy'!AY841),\"\",'MIS - Pharmacy'!AY841)","v":""},{"$f":"IF(ISBLANK('MIS - Pharmacy'!BH841),\"\",'MIS - Pharmacy'!BH841)","v":""},"",""]
[{"$f":"IF(ISBLANK('MIS - Pharmacy'!A842), \"\",'MIS - Pharmacy'!A842)","v":""},{"$f":"IF(ISBLANK('MIS - Pharmacy'!B842),\"\",('MIS - Pharmacy'!B842&\"(\"&'MIS - Pharmacy'!D842&\")\"))","v":""},{"$f":"IF(ISBLANK('MIS - Pharmacy'!BI842), \"\", 'MIS - Pharmacy'!BI842)","v":""},{"$f":"IF(ISBLANK('MIS - Pharmacy'!U842), \"\", 'MIS - Pharmacy'!U842)","v":""},"","","","","","","",{"$f":"IF(ISBLANK('MIS - Pharmacy'!AC842),\"\",'MIS - Pharmacy'!AC842)","v":""},"",{"$f":"IF(ISBLANK('MIS - Pharmacy'!AD842),\"\",'MIS - Pharmacy'!AD842)","v":""},"","",{"$f":"IF('MIS - Pharmacy'!A842=\"\",\"\",SUM('MIS - Pharmacy'!K842+'MIS - Pharmacy'!L842))","v":""},"",{"$f":"IF('MIS - Pharmacy'!A842=\"\",\"\",('MIS - Pharmacy'!AF842+'MIS - Pharmacy'!AH842 +'MIS - Pharmacy'!AG842))","v":""},{"$f":"IF(ISBLANK('MIS - Pharmacy'!AI842),\"\",'MIS - Pharmacy'!AI842)","v":""},"","","",{"$f":"IF(ISBLANK('MIS - Pharmacy'!V842),\"\",'MIS - Pharmacy'!V842)","v":""},"","","",{"$f":"IF(ISBLANK('MIS - Pharmacy'!J842),\"\",'MIS - Pharmacy'!J842)","v":""},{"$f":"IF(ISBLANK('MIS - Pharmacy'!AY842),\"\",'MIS - Pharmacy'!AY842)","v":""},{"$f":"IF(ISBLANK('MIS - Pharmacy'!BH842),\"\",'MIS - Pharmacy'!BH842)","v":""},"",""]
[{"$f":"IF(ISBLANK('MIS - Pharmacy'!A843), \"\",'MIS - Pharmacy'!A843)","v":""},{"$f":"IF(ISBLANK('MIS - Pharmacy'!B843),\"\",('MIS - Pharmacy'!B843&\"(\"&'MIS - Pharmacy'!D843&\")\"))","v":""},{"$f":"IF(ISBLANK('MIS - Pharmacy'!BI843), \"\", 'MIS - Pharmacy'!BI843)","v":""},{"$f":"IF(ISBLANK('MIS - Pharmacy'!U843), \"\", 'MIS - Pharmacy'!U843)","v":""},"","","","","","","",{"$f":"IF(ISBLANK('MIS - Pharmacy'!AC843),\"\",'MIS - Pharmacy'!AC843)","v":""},"",{"$f":"IF(ISBLANK('MIS - Pharmacy'!AD843),\"\",'MIS - Pharmacy'!AD843)","v":""},"","",{"$f":"IF('MIS - Pharmacy'!A843=\"\",\"\",SUM('MIS - Pharmacy'!K843+'MIS - Pharmacy'!L843))","v":""},"",{"$f":"IF('MIS - Pharmacy'!A843=\"\",\"\",('MIS - Pharmacy'!AF843+'MIS - Pharmacy'!AH843 +'MIS - Pharmacy'!AG843))","v":""},{"$f":"IF(ISBLANK('MIS - Pharmacy'!AI843),\"\",'MIS - Pharmacy'!AI843)","v":""},"","","",{"$f":"IF(ISBLANK('MIS - Pharmacy'!V843),\"\",'MIS - Pharmacy'!V843)","v":""},"","","",{"$f":"IF(ISBLANK('MIS - Pharmacy'!J843),\"\",'MIS - Pharmacy'!J843)","v":""},{"$f":"IF(ISBLANK('MIS - Pharmacy'!AY843),\"\",'MIS - Pharmacy'!AY843)","v":""},{"$f":"IF(ISBLANK('MIS - Pharmacy'!BH843),\"\",'MIS - Pharmacy'!BH843)","v":""},"",""]
[{"$f":"IF(ISBLANK('MIS - Pharmacy'!A844), \"\",'MIS - Pharmacy'!A844)","v":""},{"$f":"IF(ISBLANK('MIS - Pharmacy'!B844),\"\",('MIS - Pharmacy'!B844&\"(\"&'MIS - Pharmacy'!D844&\")\"))","v":""},{"$f":"IF(ISBLANK('MIS - Pharmacy'!BI844), \"\", 'MIS - Pharmacy'!BI844)","v":""},{"$f":"IF(ISBLANK('MIS - Pharmacy'!U844), \"\", 'MIS - Pharmacy'!U844)","v":""},"","","","","","","",{"$f":"IF(ISBLANK('MIS - Pharmacy'!AC844),\"\",'MIS - Pharmacy'!AC844)","v":""},"",{"$f":"IF(ISBLANK('MIS - Pharmacy'!AD844),\"\",'MIS - Pharmacy'!AD844)","v":""},"","",{"$f":"IF('MIS - Pharmacy'!A844=\"\",\"\",SUM('MIS - Pharmacy'!K844+'MIS - Pharmacy'!L844))","v":""},"",{"$f":"IF('MIS - Pharmacy'!A844=\"\",\"\",('MIS - Pharmacy'!AF844+'MIS - Pharmacy'!AH844 +'MIS - Pharmacy'!AG844))","v":""},{"$f":"IF(ISBLANK('MIS - Pharmacy'!AI844),\"\",'MIS - Pharmacy'!AI844)","v":""},"","","",{"$f":"IF(ISBLANK('MIS - Pharmacy'!V844),\"\",'MIS - Pharmacy'!V844)","v":""},"","","",{"$f":"IF(ISBLANK('MIS - Pharmacy'!J844),\"\",'MIS - Pharmacy'!J844)","v":""},{"$f":"IF(ISBLANK('MIS - Pharmacy'!AY844),\"\",'MIS - Pharmacy'!AY844)","v":""},{"$f":"IF(ISBLANK('MIS - Pharmacy'!BH844),\"\",'MIS - Pharmacy'!BH844)","v":""},"",""]
[{"$f":"IF(ISBLANK('MIS - Pharmacy'!A845), \"\",'MIS - Pharmacy'!A845)","v":""},{"$f":"IF(ISBLANK('MIS - Pharmacy'!B845),\"\",('MIS - Pharmacy'!B845&\"(\"&'MIS - Pharmacy'!D845&\")\"))","v":""},{"$f":"IF(ISBLANK('MIS - Pharmacy'!BI845), \"\", 'MIS - Pharmacy'!BI845)","v":""},{"$f":"IF(ISBLANK('MIS - Pharmacy'!U845), \"\", 'MIS - Pharmacy'!U845)","v":""},"","","","","","","",{"$f":"IF(ISBLANK('MIS - Pharmacy'!AC845),\"\",'MIS - Pharmacy'!AC845)","v":""},"",{"$f":"IF(ISBLANK('MIS - Pharmacy'!AD845),\"\",'MIS - Pharmacy'!AD845)","v":""},"","",{"$f":"IF('MIS - Pharmacy'!A845=\"\",\"\",SUM('MIS - Pharmacy'!K845+'MIS - Pharmacy'!L845))","v":""},"",{"$f":"IF('MIS - Pharmacy'!A845=\"\",\"\",('MIS - Pharmacy'!AF845+'MIS - Pharmacy'!AH845 +'MIS - Pharmacy'!AG845))","v":""},{"$f":"IF(ISBLANK('MIS - Pharmacy'!AI845),\"\",'MIS - Pharmacy'!AI845)","v":""},"","","",{"$f":"IF(ISBLANK('MIS - Pharmacy'!V845),\"\",'MIS - Pharmacy'!V845)","v":""},"","","",{"$f":"IF(ISBLANK('MIS - Pharmacy'!J845),\"\",'MIS - Pharmacy'!J845)","v":""},{"$f":"IF(ISBLANK('MIS - Pharmacy'!AY845),\"\",'MIS - Pharmacy'!AY845)","v":""},{"$f":"IF(ISBLANK('MIS - Pharmacy'!BH845),\"\",'MIS - Pharmacy'!BH845)","v":""},"",""]
[{"$f":"IF(ISBLANK('MIS - Pharmacy'!A846), \"\",'MIS - Pharmacy'!A846)","v":""},{"$f":"IF(ISBLANK('MIS - Pharmacy'!B846),\"\",('MIS - Pharmacy'!B846&\"(\"&'MIS - Pharmacy'!D846&\")\"))","v":""},{"$f":"IF(ISBLANK('MIS - Pharmacy'!BI846), \"\", 'MIS - Pharmacy'!BI846)","v":""},{"$f":"IF(ISBLANK('MIS - Pharmacy'!U846), \"\", 'MIS - Pharmacy'!U846)","v":""},"","","","","","","",{"$f":"IF(ISBLANK('MIS - Pharmacy'!AC846),\"\",'MIS - Pharmacy'!AC846)","v":""},"",{"$f":"IF(ISBLANK('MIS - Pharmacy'!AD846),\"\",'MIS - Pharmacy'!AD846)","v":""},"","",{"$f":"IF('MIS - Pharmacy'!A846=\"\",\"\",SUM('MIS - Pharmacy'!K846+'MIS - Pharmacy'!L846))","v":""},"",{"$f":"IF('MIS - Pharmacy'!A846=\"\",\"\",('MIS - Pharmacy'!AF846+'MIS - Pharmacy'!AH846 +'MIS - Pharmacy'!AG846))","v":""},{"$f":"IF(ISBLANK('MIS - Pharmacy'!AI846),\"\",'MIS - Pharmacy'!AI846)","v":""},"","","",{"$f":"IF(ISBLANK('MIS - Pharmacy'!V846),\"\",'MIS - Pharmacy'!V846)","v":""},"","","",{"$f":"IF(ISBLANK('MIS - Pharmacy'!J846),\"\",'MIS - Pharmacy'!J846)","v":""},{"$f":"IF(ISBLANK('MIS - Pharmacy'!AY846),\"\",'MIS - Pharmacy'!AY846)","v":""},{"$f":"IF(ISBLANK('MIS - Pharmacy'!BH846),\"\",'MIS - Pharmacy'!BH846)","v":""},"",""]
[{"$f":"IF(ISBLANK('MIS - Pharmacy'!A847), \"\",'MIS - Pharmacy'!A847)","v":""},{"$f":"IF(ISBLANK('MIS - Pharmacy'!B847),\"\",('MIS - Pharmacy'!B847&\"(\"&'MIS - Pharmacy'!D847&\")\"))","v":""},{"$f":"IF(ISBLANK('MIS - Pharmacy'!BI847), \"\", 'MIS - Pharmacy'!BI847)","v":""},{"$f":"IF(ISBLANK('MIS - Pharmacy'!U847), \"\", 'MIS - Pharmacy'!U847)","v":""},{"$f":"IF(D856=\"\",\"\",IF(D856<=D$9,\"Lower Outlier\",IF(D856<=D$5,\"Below Average\",IF(D856<=D$6,\"Lower Quartile Range\",IF(D856<=D$7,\"Upper Quartile Range\",IF(D856<=D$10,\"Above Average\",\"Upper Outlier\"))))))","v":""},{"$f":"IF(D856=\"\",\"\",D856*12)","v":""},{"$f":"IF(Q856=\"\",\"\",IF(Q856 = 0, 0, D856/Q856*1000))","v":""},"",{"$f":"IF(A856=\"\",\"\",IF(D856=0,0,(D856*0.3)/Y856))","v":""},{"$f":"IF(D856=0,0,IF(D856=\"\",\"\",D856/Q856))","v":""},{"$f":"IF(D856=0,0,IF(D856=\"\",\"\",D856/X856))","v":""},{"$f":"IF(ISBLANK('MIS - Pharmacy'!AC847),\"\",'MIS - Pharmacy'!AC847)","v":""},{"$f":"IF(L856=\"\",\"\",IF(L856<=L$9,\"Lower Outlier\",IF(L856<=L$5,\"Below Average\",IF(L856<=L$6,\"Lower Quartile Range\",IF(L856<=L$7,\"Upper Quartile Range\",IF(L856<=L$10,\"Above Average\",\"Upper Outlier\"))))))","v":""},{"$f":"IF(ISBLANK('MIS - Pharmacy'!AD847),\"\",'MIS - Pharmacy'!AD847)","v":""},{"$f":"IF(N856=\"\",\"\",IF(N856=0,0,L856/N856*1000))","v":""},{"$f":"IF(L856=\"\",\"\",IF(X856=0,0,L856/X856))","v":""},{"$f":"IF('MIS - Pharmacy'!A847=\"\",\"\",SUM('MIS - Pharmacy'!K847+'MIS - Pharmacy'!L847))","v":""},{"$f":"IF(Q856=\"\",\"\",IF(Q856<=Q$9,\"Lower Outlier\",IF(Q856<=Q$5,\"Below Average\",IF(Q856<=Q$6,\"Lower Quartile Range\",IF(Q856<=Q$7,\"Upper Quartile Range\",IF(Q856<=Q$10,\"Above Average\",\"Upper Outlier\"))))))","v":""},{"$f":"IF('MIS - Pharmacy'!A847=\"\",\"\",('MIS - Pharmacy'!AF847+'MIS - Pharmacy'!AH847 +'MIS - Pharmacy'!AG847))","v":""},{"$f":"IF(ISBLANK('MIS - Pharmacy'!AI847),\"\",'MIS - Pharmacy'!AI847)","v":""},{"$f":"IF(T856=\"\",\"\",IF(T856<=T$9,\"Lower Outlier\",IF(T856<=T$5,\"Below Average\",IF(T856<=T$6,\"Lower Quartile Range\",IF(T856<=T$7,\"Upper Quartile Range\",IF(T856<=T$10,\"Above Average\",\"Upper Outlier\"))))))","v":""},{"$f":"IF(A856=\"\",\"\",IF(T856=0,0,T856/Q856*1000))","v":""},{"$f":"IF(V856=\"\",\"\",IF(S856 >0,(T856/S856*1000),0))","v":""},{"$f":"IF(ISBLANK('MIS - Pharmacy'!V847),\"\",'MIS - Pharmacy'!V847)","v":""},{"$f":"IF(X856=\"\",\"\",(X856/7)*$Y$3)","v":""},{"$f":"IF(X856=\"\",\"\",IF(X856<=X$9,\"Lower Outlier\",IF(X856<=X$5,\"Below Average\",IF(X856<=X$6,\"Lower Quartile Range\",IF(X856<=X$7,\"Upper Quartile Range\",IF(X856<=X$10,\"Above Average\",\"Upper Outlier\"))))))","v":""},{"$f":"IF(A856=\"\",\"\",IF(X856=0,0,Y856/Q856*1000))","v":""},{"$f":"IF(ISBLANK('MIS - Pharmacy'!J847),\"\",'MIS - Pharmacy'!J847)","v":""},{"$f":"IF(ISBLANK('MIS - Pharmacy'!AY847),\"\",'MIS - Pharmacy'!AY847)","v":""},{"$f":"IF(ISBLANK('MIS - Pharmacy'!BH847),\"\",'MIS - Pharmacy'!BH847)","v":""},{"$f":"IF(A856=\"\",\"\",D856+L856)","v":""},{"$f":"IF(A856=\"\",\"\",IF(Y856=0,0,(AE856/Y856)*100))","v":""}]
[{"$f":"IF(ISBLANK('MIS - Pharmacy'!A848), \"\",'MIS - Pharmacy'!A848)","v":""},{"$f":"IF(ISBLANK('MIS - Pharmacy'!B848),\"\",('MIS - Pharmacy'!B848&\"(\"&'MIS - Pharmacy'!D848&\")\"))","v":""},{"$f":"IF(ISBLANK('MIS - Pharmacy'!BI848), \"\", 'MIS - Pharmacy'!BI848)","v":""},{"$f":"IF(ISBLANK('MIS - Pharmacy'!U848), \"\", 'MIS - Pharmacy'!U848)","v":""},"","","","","","","",{"$f":"IF(ISBLANK('MIS - Pharmacy'!AC848),\"\",'MIS - Pharmacy'!AC848)","v":""},"",{"$f":"IF(ISBLANK('MIS - Pharmacy'!AD848),\"\",'MIS - Pharmacy'!AD848)","v":""},"","",{"$f":"IF('MIS - Pharmacy'!A848=\"\",\"\",SUM('MIS - Pharmacy'!K848+'MIS - Pharmacy'!L848))","v":""},"",{"$f":"IF('MIS - Pharmacy'!A848=\"\",\"\",('MIS - Pharmacy'!AF848+'MIS - Pharmacy'!AH848 +'MIS - Pharmacy'!AG848))","v":""},{"$f":"IF(ISBLANK('MIS - Pharmacy'!AI848),\"\",'MIS - Pharmacy'!AI848)","v":""},"","","",{"$f":"IF(ISBLANK('MIS - Pharmacy'!V848),\"\",'MIS - Pharmacy'!V848)","v":""},"","","",{"$f":"IF(ISBLANK('MIS - Pharmacy'!J848),\"\",'MIS - Pharmacy'!J848)","v":""},{"$f":"IF(ISBLANK('MIS - Pharmacy'!AY848),\"\",'MIS - Pharmacy'!AY848)","v":""},{"$f":"IF(ISBLANK('MIS - Pharmacy'!BH848),\"\",'MIS - Pharmacy'!BH848)","v":""},"",""]
[{"$f":"IF(ISBLANK('MIS - Pharmacy'!A849), \"\",'MIS - Pharmacy'!A849)","v":""},{"$f":"IF(ISBLANK('MIS - Pharmacy'!B849),\"\",('MIS - Pharmacy'!B849&\"(\"&'MIS - Pharmacy'!D849&\")\"))","v":""},{"$f":"IF(ISBLANK('MIS - Pharmacy'!BI849), \"\", 'MIS - Pharmacy'!BI849)","v":""},{"$f":"IF(ISBLANK('MIS - Pharmacy'!U849), \"\", 'MIS - Pharmacy'!U849)","v":""},"","","","","","","",{"$f":"IF(ISBLANK('MIS - Pharmacy'!AC849),\"\",'MIS - Pharmacy'!AC849)","v":""},"",{"$f":"IF(ISBLANK('MIS - Pharmacy'!AD849),\"\",'MIS - Pharmacy'!AD849)","v":""},"","",{"$f":"IF('MIS - Pharmacy'!A849=\"\",\"\",SUM('MIS - Pharmacy'!K849+'MIS - Pharmacy'!L849))","v":""},"",{"$f":"IF('MIS - Pharmacy'!A849=\"\",\"\",('MIS - Pharmacy'!AF849+'MIS - Pharmacy'!AH849 +'MIS - Pharmacy'!AG849))","v":""},{"$f":"IF(ISBLANK('MIS - Pharmacy'!AI849),\"\",'MIS - Pharmacy'!AI849)","v":""},"","","",{"$f":"IF(ISBLANK('MIS - Pharmacy'!V849),\"\",'MIS - Pharmacy'!V849)","v":""},"","","",{"$f":"IF(ISBLANK('MIS - Pharmacy'!J849),\"\",'MIS - Pharmacy'!J849)","v":""},{"$f":"IF(ISBLANK('MIS - Pharmacy'!AY849),\"\",'MIS - Pharmacy'!AY849)","v":""},{"$f":"IF(ISBLANK('MIS - Pharmacy'!BH849),\"\",'MIS - Pharmacy'!BH849)","v":""},"",""]
[{"$f":"IF(ISBLANK('MIS - Pharmacy'!A850), \"\",'MIS - Pharmacy'!A850)","v":""},{"$f":"IF(ISBLANK('MIS - Pharmacy'!B850),\"\",('MIS - Pharmacy'!B850&\"(\"&'MIS - Pharmacy'!D850&\")\"))","v":""},{"$f":"IF(ISBLANK('MIS - Pharmacy'!BI850), \"\", 'MIS - Pharmacy'!BI850)","v":""},{"$f":"IF(ISBLANK('MIS - Pharmacy'!U850), \"\", 'MIS - Pharmacy'!U850)","v":""},"","","","","","","",{"$f":"IF(ISBLANK('MIS - Pharmacy'!AC850),\"\",'MIS - Pharmacy'!AC850)","v":""},"",{"$f":"IF(ISBLANK('MIS - Pharmacy'!AD850),\"\",'MIS - Pharmacy'!AD850)","v":""},"","",{"$f":"IF('MIS - Pharmacy'!A850=\"\",\"\",SUM('MIS - Pharmacy'!K850+'MIS - Pharmacy'!L850))","v":""},"",{"$f":"IF('MIS - Pharmacy'!A850=\"\",\"\",('MIS - Pharmacy'!AF850+'MIS - Pharmacy'!AH850 +'MIS - Pharmacy'!AG850))","v":""},{"$f":"IF(ISBLANK('MIS - Pharmacy'!AI850),\"\",'MIS - Pharmacy'!AI850)","v":""},"","","",{"$f":"IF(ISBLANK('MIS - Pharmacy'!V850),\"\",'MIS - Pharmacy'!V850)","v":""},"","","",{"$f":"IF(ISBLANK('MIS - Pharmacy'!J850),\"\",'MIS - Pharmacy'!J850)","v":""},{"$f":"IF(ISBLANK('MIS - Pharmacy'!AY850),\"\",'MIS - Pharmacy'!AY850)","v":""},{"$f":"IF(ISBLANK('MIS - Pharmacy'!BH850),\"\",'MIS - Pharmacy'!BH850)","v":""},"",""]
[{"$f":"IF(ISBLANK('MIS - Pharmacy'!A851), \"\",'MIS - Pharmacy'!A851)","v":""},{"$f":"IF(ISBLANK('MIS - Pharmacy'!B851),\"\",('MIS - Pharmacy'!B851&\"(\"&'MIS - Pharmacy'!D851&\")\"))","v":""},{"$f":"IF(ISBLANK('MIS - Pharmacy'!BI851), \"\", 'MIS - Pharmacy'!BI851)","v":""},{"$f":"IF(ISBLANK('MIS - Pharmacy'!U851), \"\", 'MIS - Pharmacy'!U851)","v":""},"","","","","","","",{"$f":"IF(ISBLANK('MIS - Pharmacy'!AC851),\"\",'MIS - Pharmacy'!AC851)","v":""},"",{"$f":"IF(ISBLANK('MIS - Pharmacy'!AD851),\"\",'MIS - Pharmacy'!AD851)","v":""},"","",{"$f":"IF('MIS - Pharmacy'!A851=\"\",\"\",SUM('MIS - Pharmacy'!K851+'MIS - Pharmacy'!L851))","v":""},"",{"$f":"IF('MIS - Pharmacy'!A851=\"\",\"\",('MIS - Pharmacy'!AF851+'MIS - Pharmacy'!AH851 +'MIS - Pharmacy'!AG851))","v":""},{"$f":"IF(ISBLANK('MIS - Pharmacy'!AI851),\"\",'MIS - Pharmacy'!AI851)","v":""},"","","",{"$f":"IF(ISBLANK('MIS - Pharmacy'!V851),\"\",'MIS - Pharmacy'!V851)","v":""},"","","",{"$f":"IF(ISBLANK('MIS - Pharmacy'!J851),\"\",'MIS - Pharmacy'!J851)","v":""},{"$f":"IF(ISBLANK('MIS - Pharmacy'!AY851),\"\",'MIS - Pharmacy'!AY851)","v":""},{"$f":"IF(ISBLANK('MIS - Pharmacy'!BH851),\"\",'MIS - Pharmacy'!BH851)","v":""},"",""]
[{"$f":"IF(ISBLANK('MIS - Pharmacy'!A852), \"\",'MIS - Pharmacy'!A852)","v":""},{"$f":"IF(ISBLANK('MIS - Pharmacy'!B852),\"\",('MIS - Pharmacy'!B852&\"(\"&'MIS - Pharmacy'!D852&\")\"))","v":""},{"$f":"IF(ISBLANK('MIS - Pharmacy'!BI852), \"\", 'MIS - Pharmacy'!BI852)","v":""},{"$f":"IF(ISBLANK('MIS - Pharmacy'!U852), \"\", 'MIS - Pharmacy'!U852)","v":""},"","","","","","","",{"$f":"IF(ISBLANK('MIS - Pharmacy'!AC852),\"\",'MIS - Pharmacy'!AC852)","v":""},"",{"$f":"IF(ISBLANK('MIS - Pharmacy'!AD852),\"\",'MIS - Pharmacy'!AD852)","v":""},"","",{"$f":"IF('MIS - Pharmacy'!A852=\"\",\"\",SUM('MIS - Pharmacy'!K852+'MIS - Pharmacy'!L852))","v":""},"",{"$f":"IF('MIS - Pharmacy'!A852=\"\",\"\",('MIS - Pharmacy'!AF852+'MIS - Pharmacy'!AH852 +'MIS - Pharmacy'!AG852))","v":""},{"$f":"IF(ISBLANK('MIS - Pharmacy'!AI852),\"\",'MIS - Pharmacy'!AI852)","v":""},"","","",{"$f":"IF(ISBLANK('MIS - Pharmacy'!V852),\"\",'MIS - Pharmacy'!V852)","v":""},"","","",{"$f":"IF(ISBLANK('MIS - Pharmacy'!J852),\"\",'MIS - Pharmacy'!J852)","v":""},{"$f":"IF(ISBLANK('MIS - Pharmacy'!AY852),\"\",'MIS - Pharmacy'!AY852)","v":""},{"$f":"IF(ISBLANK('MIS - Pharmacy'!BH852),\"\",'MIS - Pharmacy'!BH852)","v":""},"",""]
[{"$f":"IF(ISBLANK('MIS - Pharmacy'!A853), \"\",'MIS - Pharmacy'!A853)","v":""},{"$f":"IF(ISBLANK('MIS - Pharmacy'!B853),\"\",('MIS - Pharmacy'!B853&\"(\"&'MIS - Pharmacy'!D853&\")\"))","v":""},{"$f":"IF(ISBLANK('MIS - Pharmacy'!BI853), \"\", 'MIS - Pharmacy'!BI853)","v":""},{"$f":"IF(ISBLANK('MIS - Pharmacy'!U853), \"\", 'MIS - Pharmacy'!U853)","v":""},"","","","","","","",{"$f":"IF(ISBLANK('MIS - Pharmacy'!AC853),\"\",'MIS - Pharmacy'!AC853)","v":""},"",{"$f":"IF(ISBLANK('MIS - Pharmacy'!AD853),\"\",'MIS - Pharmacy'!AD853)","v":""},"","",{"$f":"IF('MIS - Pharmacy'!A853=\"\",\"\",SUM('MIS - Pharmacy'!K853+'MIS - Pharmacy'!L853))","v":""},"",{"$f":"IF('MIS - Pharmacy'!A853=\"\",\"\",('MIS - Pharmacy'!AF853+'MIS - Pharmacy'!AH853 +'MIS - Pharmacy'!AG853))","v":""},{"$f":"IF(ISBLANK('MIS - Pharmacy'!AI853),\"\",'MIS - Pharmacy'!AI853)","v":""},"","","",{"$f":"IF(ISBLANK('MIS - Pharmacy'!V853),\"\",'MIS - Pharmacy'!V853)","v":""},"","","",{"$f":"IF(ISBLANK('MIS - Pharmacy'!J853),\"\",'MIS - Pharmacy'!J853)","v":""},{"$f":"IF(ISBLANK('MIS - Pharmacy'!AY853),\"\",'MIS - Pharmacy'!AY853)","v":""},{"$f":"IF(ISBLANK('MIS - Pharmacy'!BH853),\"\",'MIS - Pharmacy'!BH853)","v":""},"",""]
[{"$f":"IF(ISBLANK('MIS - Pharmacy'!A854), \"\",'MIS - Pharmacy'!A854)","v":""},{"$f":"IF(ISBLANK('MIS - Pharmacy'!B854),\"\",('MIS - Pharmacy'!B854&\"(\"&'MIS - Pharmacy'!D854&\")\"))","v":""},{"$f":"IF(ISBLANK('MIS - Pharmacy'!BI854), \"\", 'MIS - Pharmacy'!BI854)","v":""},{"$f":"IF(ISBLANK('MIS - Pharmacy'!U854), \"\", 'MIS - Pharmacy'!U854)","v":""},"","","","","","","",{"$f":"IF(ISBLANK('MIS - Pharmacy'!AC854),\"\",'MIS - Pharmacy'!AC854)","v":""},"",{"$f":"IF(ISBLANK('MIS - Pharmacy'!AD854),\"\",'MIS - Pharmacy'!AD854)","v":""},"","",{"$f":"IF('MIS - Pharmacy'!A854=\"\",\"\",SUM('MIS - Pharmacy'!K854+'MIS - Pharmacy'!L854))","v":""},"",{"$f":"IF('MIS - Pharmacy'!A854=\"\",\"\",('MIS - Pharmacy'!AF854+'MIS - Pharmacy'!AH854 +'MIS - Pharmacy'!AG854))","v":""},{"$f":"IF(ISBLANK('MIS - Pharmacy'!AI854),\"\",'MIS - Pharmacy'!AI854)","v":""},"","","",{"$f":"IF(ISBLANK('MIS - Pharmacy'!V854),\"\",'MIS - Pharmacy'!V854)","v":""},"","","",{"$f":"IF(ISBLANK('MIS - Pharmacy'!J854),\"\",'MIS - Pharmacy'!J854)","v":""},{"$f":"IF(ISBLANK('MIS - Pharmacy'!AY854),\"\",'MIS - Pharmacy'!AY854)","v":""},{"$f":"IF(ISBLANK('MIS - Pharmacy'!BH854),\"\",'MIS - Pharmacy'!BH854)","v":""},"",""]
[{"$f":"IF(ISBLANK('MIS - Pharmacy'!A855), \"\",'MIS - Pharmacy'!A855)","v":""},{"$f":"IF(ISBLANK('MIS - Pharmacy'!B855),\"\",('MIS - Pharmacy'!B855&\"(\"&'MIS - Pharmacy'!D855&\")\"))","v":""},{"$f":"IF(ISBLANK('MIS - Pharmacy'!BI855), \"\", 'MIS - Pharmacy'!BI855)","v":""},{"$f":"IF(ISBLANK('MIS - Pharmacy'!U855), \"\", 'MIS - Pharmacy'!U855)","v":""},"","","","","","","",{"$f":"IF(ISBLANK('MIS - Pharmacy'!AC855),\"\",'MIS - Pharmacy'!AC855)","v":""},"",{"$f":"IF(ISBLANK('MIS - Pharmacy'!AD855),\"\",'MIS - Pharmacy'!AD855)","v":""},"","",{"$f":"IF('MIS - Pharmacy'!A855=\"\",\"\",SUM('MIS - Pharmacy'!K855+'MIS - Pharmacy'!L855))","v":""},"",{"$f":"IF('MIS - Pharmacy'!A855=\"\",\"\",('MIS - Pharmacy'!AF855+'MIS - Pharmacy'!AH855 +'MIS - Pharmacy'!AG855))","v":""},{"$f":"IF(ISBLANK('MIS - Pharmacy'!AI855),\"\",'MIS - Pharmacy'!AI855)","v":""},"","","",{"$f":"IF(ISBLANK('MIS - Pharmacy'!V855),\"\",'MIS - Pharmacy'!V855)","v":""},"","","",{"$f":"IF(ISBLANK('MIS - Pharmacy'!J855),\"\",'MIS - Pharmacy'!J855)","v":""},{"$f":"IF(ISBLANK('MIS - Pharmacy'!AY855),\"\",'MIS - Pharmacy'!AY855)","v":""},{"$f":"IF(ISBLANK('MIS - Pharmacy'!BH855),\"\",'MIS - Pharmacy'!BH855)","v":""},"",""]
[{"$f":"IF(ISBLANK('MIS - Pharmacy'!A856), \"\",'MIS - Pharmacy'!A856)","v":""},{"$f":"IF(ISBLANK('MIS - Pharmacy'!B856),\"\",('MIS - Pharmacy'!B856&\"(\"&'MIS - Pharmacy'!D856&\")\"))","v":""},{"$f":"IF(ISBLANK('MIS - Pharmacy'!BI856), \"\", 'MIS - Pharmacy'!BI856)","v":""},{"$f":"IF(ISBLANK('MIS - Pharmacy'!U856), \"\", 'MIS - Pharmacy'!U856)","v":""},"","","","","","","",{"$f":"IF(ISBLANK('MIS - Pharmacy'!AC856),\"\",'MIS - Pharmacy'!AC856)","v":""},"",{"$f":"IF(ISBLANK('MIS - Pharmacy'!AD856),\"\",'MIS - Pharmacy'!AD856)","v":""},"","",{"$f":"IF('MIS - Pharmacy'!A856=\"\",\"\",SUM('MIS - Pharmacy'!K856+'MIS - Pharmacy'!L856))","v":""},"",{"$f":"IF('MIS - Pharmacy'!A856=\"\",\"\",('MIS - Pharmacy'!AF856+'MIS - Pharmacy'!AH856 +'MIS - Pharmacy'!AG856))","v":""},{"$f":"IF(ISBLANK('MIS - Pharmacy'!AI856),\"\",'MIS - Pharmacy'!AI856)","v":""},"","","",{"$f":"IF(ISBLANK('MIS - Pharmacy'!V856),\"\",'MIS - Pharmacy'!V856)","v":""},"","","",{"$f":"IF(ISBLANK('MIS - Pharmacy'!J856),\"\",'MIS - Pharmacy'!J856)","v":""},{"$f":"IF(ISBLANK('MIS - Pharmacy'!AY856),\"\",'MIS - Pharmacy'!AY856)","v":""},{"$f":"IF(ISBLANK('MIS - Pharmacy'!BH856),\"\",'MIS - Pharmacy'!BH856)","v":""},"",""]
[{"$f":"IF(ISBLANK('MIS - Pharmacy'!A857), \"\",'MIS - Pharmacy'!A857)","v":""},{"$f":"IF(ISBLANK('MIS - Pharmacy'!B857),\"\",('MIS - Pharmacy'!B857&\"(\"&'MIS - Pharmacy'!D857&\")\"))","v":""},{"$f":"IF(ISBLANK('MIS - Pharmacy'!BI857), \"\", 'MIS - Pharmacy'!BI857)","v":""},{"$f":"IF(ISBLANK('MIS - Pharmacy'!U857), \"\", 'MIS - Pharmacy'!U857)","v":""},"","","","","","","",{"$f":"IF(ISBLANK('MIS - Pharmacy'!AC857),\"\",'MIS - Pharmacy'!AC857)","v":""},"",{"$f":"IF(ISBLANK('MIS - Pharmacy'!AD857),\"\",'MIS - Pharmacy'!AD857)","v":""},"","",{"$f":"IF('MIS - Pharmacy'!A857=\"\",\"\",SUM('MIS - Pharmacy'!K857+'MIS - Pharmacy'!L857))","v":""},"",{"$f":"IF('MIS - Pharmacy'!A857=\"\",\"\",('MIS - Pharmacy'!AF857+'MIS - Pharmacy'!AH857 +'MIS - Pharmacy'!AG857))","v":""},{"$f":"IF(ISBLANK('MIS - Pharmacy'!AI857),\"\",'MIS - Pharmacy'!AI857)","v":""},"","","",{"$f":"IF(ISBLANK('MIS - Pharmacy'!V857),\"\",'MIS - Pharmacy'!V857)","v":""},"","","",{"$f":"IF(ISBLANK('MIS - Pharmacy'!J857),\"\",'MIS - Pharmacy'!J857)","v":""},{"$f":"IF(ISBLANK('MIS - Pharmacy'!AY857),\"\",'MIS - Pharmacy'!AY857)","v":""},{"$f":"IF(ISBLANK('MIS - Pharmacy'!BH857),\"\",'MIS - Pharmacy'!BH857)","v":""},"",""]
[{"$f":"IF(ISBLANK('MIS - Pharmacy'!A858), \"\",'MIS - Pharmacy'!A858)","v":""},{"$f":"IF(ISBLANK('MIS - Pharmacy'!B858),\"\",('MIS - Pharmacy'!B858&\"(\"&'MIS - Pharmacy'!D858&\")\"))","v":""},{"$f":"IF(ISBLANK('MIS - Pharmacy'!BI858), \"\", 'MIS - Pharmacy'!BI858)","v":""},{"$f":"IF(ISBLANK('MIS - Pharmacy'!U858), \"\", 'MIS - Pharmacy'!U858)","v":""},"","","","","","","",{"$f":"IF(ISBLANK('MIS - Pharmacy'!AC858),\"\",'MIS - Pharmacy'!AC858)","v":""},"",{"$f":"IF(ISBLANK('MIS - Pharmacy'!AD858),\"\",'MIS - Pharmacy'!AD858)","v":""},"","",{"$f":"IF('MIS - Pharmacy'!A858=\"\",\"\",SUM('MIS - Pharmacy'!K858+'MIS - Pharmacy'!L858))","v":""},"",{"$f":"IF('MIS - Pharmacy'!A858=\"\",\"\",('MIS - Pharmacy'!AF858+'MIS - Pharmacy'!AH858 +'MIS - Pharmacy'!AG858))","v":""},{"$f":"IF(ISBLANK('MIS - Pharmacy'!AI858),\"\",'MIS - Pharmacy'!AI858)","v":""},"","","",{"$f":"IF(ISBLANK('MIS - Pharmacy'!V858),\"\",'MIS - Pharmacy'!V858)","v":""},"","","",{"$f":"IF(ISBLANK('MIS - Pharmacy'!J858),\"\",'MIS - Pharmacy'!J858)","v":""},{"$f":"IF(ISBLANK('MIS - Pharmacy'!AY858),\"\",'MIS - Pharmacy'!AY858)","v":""},{"$f":"IF(ISBLANK('MIS - Pharmacy'!BH858),\"\",'MIS - Pharmacy'!BH858)","v":""},"",""]
[{"$f":"IF(ISBLANK('MIS - Pharmacy'!A859), \"\",'MIS - Pharmacy'!A859)","v":""},{"$f":"IF(ISBLANK('MIS - Pharmacy'!B859),\"\",('MIS - Pharmacy'!B859&\"(\"&'MIS - Pharmacy'!D859&\")\"))","v":""},{"$f":"IF(ISBLANK('MIS - Pharmacy'!BI859), \"\", 'MIS - Pharmacy'!BI859)","v":""},{"$f":"IF(ISBLANK('MIS - Pharmacy'!U859), \"\", 'MIS - Pharmacy'!U859)","v":""},"","","","","","","",{"$f":"IF(ISBLANK('MIS - Pharmacy'!AC859),\"\",'MIS - Pharmacy'!AC859)","v":""},"",{"$f":"IF(ISBLANK('MIS - Pharmacy'!AD859),\"\",'MIS - Pharmacy'!AD859)","v":""},"","",{"$f":"IF('MIS - Pharmacy'!A859=\"\",\"\",SUM('MIS - Pharmacy'!K859+'MIS - Pharmacy'!L859))","v":""},"",{"$f":"IF('MIS - Pharmacy'!A859=\"\",\"\",('MIS - Pharmacy'!AF859+'MIS - Pharmacy'!AH859 +'MIS - Pharmacy'!AG859))","v":""},{"$f":"IF(ISBLANK('MIS - Pharmacy'!AI859),\"\",'MIS - Pharmacy'!AI859)","v":""},"","","",{"$f":"IF(ISBLANK('MIS - Pharmacy'!V859),\"\",'MIS - Pharmacy'!V859)","v":""},"","","",{"$f":"IF(ISBLANK('MIS - Pharmacy'!J859),\"\",'MIS - Pharmacy'!J859)","v":""},{"$f":"IF(ISBLANK('MIS - Pharmacy'!AY859),\"\",'MIS - Pharmacy'!AY859)","v":""},{"$f":"IF(ISBLANK('MIS - Pharmacy'!BH859),\"\",'MIS - Pharmacy'!BH859)","v":""},"",""]
[{"$f":"IF(ISBLANK('MIS - Pharmacy'!A860), \"\",'MIS - Pharmacy'!A860)","v":""},{"$f":"IF(ISBLANK('MIS - Pharmacy'!B860),\"\",('MIS - Pharmacy'!B860&\"(\"&'MIS - Pharmacy'!D860&\")\"))","v":""},{"$f":"IF(ISBLANK('MIS - Pharmacy'!BI860), \"\", 'MIS - Pharmacy'!BI860)","v":""},{"$f":"IF(ISBLANK('MIS - Pharmacy'!U860), \"\", 'MIS - Pharmacy'!U860)","v":""},"","","","","","","",{"$f":"IF(ISBLANK('MIS - Pharmacy'!AC860),\"\",'MIS - Pharmacy'!AC860)","v":""},"",{"$f":"IF(ISBLANK('MIS - Pharmacy'!AD860),\"\",'MIS - Pharmacy'!AD860)","v":""},"","",{"$f":"IF('MIS - Pharmacy'!A860=\"\",\"\",SUM('MIS - Pharmacy'!K860+'MIS - Pharmacy'!L860))","v":""},"",{"$f":"IF('MIS - Pharmacy'!A860=\"\",\"\",('MIS - Pharmacy'!AF860+'MIS - Pharmacy'!AH860 +'MIS - Pharmacy'!AG860))","v":""},{"$f":"IF(ISBLANK('MIS - Pharmacy'!AI860),\"\",'MIS - Pharmacy'!AI860)","v":""},"","","",{"$f":"IF(ISBLANK('MIS - Pharmacy'!V860),\"\",'MIS - Pharmacy'!V860)","v":""},"","","",{"$f":"IF(ISBLANK('MIS - Pharmacy'!J860),\"\",'MIS - Pharmacy'!J860)","v":""},{"$f":"IF(ISBLANK('MIS - Pharmacy'!AY860),\"\",'MIS - Pharmacy'!AY860)","v":""},{"$f":"IF(ISBLANK('MIS - Pharmacy'!BH860),\"\",'MIS - Pharmacy'!BH860)","v":""},"",""]
[{"$f":"IF(ISBLANK('MIS - Pharmacy'!A861), \"\",'MIS - Pharmacy'!A861)","v":""},{"$f":"IF(ISBLANK('MIS - Pharmacy'!B861),\"\",('MIS - Pharmacy'!B861&\"(\"&'MIS - Pharmacy'!D861&\")\"))","v":""},{"$f":"IF(ISBLANK('MIS - Pharmacy'!BI861), \"\", 'MIS - Pharmacy'!BI861)","v":""},{"$f":"IF(ISBLANK('MIS - Pharmacy'!U861), \"\", 'MIS - Pharmacy'!U861)","v":""},"","","","","","","",{"$f":"IF(ISBLANK('MIS - Pharmacy'!AC861),\"\",'MIS - Pharmacy'!AC861)","v":""},"",{"$f":"IF(ISBLANK('MIS - Pharmacy'!AD861),\"\",'MIS - Pharmacy'!AD861)","v":""},"","",{"$f":"IF('MIS - Pharmacy'!A861=\"\",\"\",SUM('MIS - Pharmacy'!K861+'MIS - Pharmacy'!L861))","v":""},"",{"$f":"IF('MIS - Pharmacy'!A861=\"\",\"\",('MIS - Pharmacy'!AF861+'MIS - Pharmacy'!AH861 +'MIS - Pharmacy'!AG861))","v":""},{"$f":"IF(ISBLANK('MIS - Pharmacy'!AI861),\"\",'MIS - Pharmacy'!AI861)","v":""},"","","",{"$f":"IF(ISBLANK('MIS - Pharmacy'!V861),\"\",'MIS - Pharmacy'!V861)","v":""},"","","",{"$f":"IF(ISBLANK('MIS - Pharmacy'!J861),\"\",'MIS - Pharmacy'!J861)","v":""},{"$f":"IF(ISBLANK('MIS - Pharmacy'!AY861),\"\",'MIS - Pharmacy'!AY861)","v":""},{"$f":"IF(ISBLANK('MIS - Pharmacy'!BH861),\"\",'MIS - Pharmacy'!BH861)","v":""},"",""]
[{"$f":"IF(ISBLANK('MIS - Pharmacy'!A862), \"\",'MIS - Pharmacy'!A862)","v":""},{"$f":"IF(ISBLANK('MIS - Pharmacy'!B862),\"\",('MIS - Pharmacy'!B862&\"(\"&'MIS - Pharmacy'!D862&\")\"))","v":""},{"$f":"IF(ISBLANK('MIS - Pharmacy'!BI862), \"\", 'MIS - Pharmacy'!BI862)","v":""},{"$f":"IF(ISBLANK('MIS - Pharmacy'!U862), \"\", 'MIS - Pharmacy'!U862)","v":""},"","","","","","","",{"$f":"IF(ISBLANK('MIS - Pharmacy'!AC862),\"\",'MIS - Pharmacy'!AC862)","v":""},"",{"$f":"IF(ISBLANK('MIS - Pharmacy'!AD862),\"\",'MIS - Pharmacy'!AD862)","v":""},"","",{"$f":"IF('MIS - Pharmacy'!A862=\"\",\"\",SUM('MIS - Pharmacy'!K862+'MIS - Pharmacy'!L862))","v":""},"",{"$f":"IF('MIS - Pharmacy'!A862=\"\",\"\",('MIS - Pharmacy'!AF862+'MIS - Pharmacy'!AH862 +'MIS - Pharmacy'!AG862))","v":""},{"$f":"IF(ISBLANK('MIS - Pharmacy'!AI862),\"\",'MIS - Pharmacy'!AI862)","v":""},"","","",{"$f":"IF(ISBLANK('MIS - Pharmacy'!V862),\"\",'MIS - Pharmacy'!V862)","v":""},"","","",{"$f":"IF(ISBLANK('MIS - Pharmacy'!J862),\"\",'MIS - Pharmacy'!J862)","v":""},{"$f":"IF(ISBLANK('MIS - Pharmacy'!AY862),\"\",'MIS - Pharmacy'!AY862)","v":""},{"$f":"IF(ISBLANK('MIS - Pharmacy'!BH862),\"\",'MIS - Pharmacy'!BH862)","v":""},"",""]
[{"$f":"IF(ISBLANK('MIS - Pharmacy'!A863), \"\",'MIS - Pharmacy'!A863)","v":""},{"$f":"IF(ISBLANK('MIS - Pharmacy'!B863),\"\",('MIS - Pharmacy'!B863&\"(\"&'MIS - Pharmacy'!D863&\")\"))","v":""},{"$f":"IF(ISBLANK('MIS - Pharmacy'!BI863), \"\", 'MIS - Pharmacy'!BI863)","v":""},{"$f":"IF(ISBLANK('MIS - Pharmacy'!U863), \"\", 'MIS - Pharmacy'!U863)","v":""},"","","","","","","",{"$f":"IF(ISBLANK('MIS - Pharmacy'!AC863),\"\",'MIS - Pharmacy'!AC863)","v":""},"",{"$f":"IF(ISBLANK('MIS - Pharmacy'!AD863),\"\",'MIS - Pharmacy'!AD863)","v":""},"","",{"$f":"IF('MIS - Pharmacy'!A863=\"\",\"\",SUM('MIS - Pharmacy'!K863+'MIS - Pharmacy'!L863))","v":""},"",{"$f":"IF('MIS - Pharmacy'!A863=\"\",\"\",('MIS - Pharmacy'!AF863+'MIS - Pharmacy'!AH863 +'MIS - Pharmacy'!AG863))","v":""},{"$f":"IF(ISBLANK('MIS - Pharmacy'!AI863),\"\",'MIS - Pharmacy'!AI863)","v":""},"","","",{"$f":"IF(ISBLANK('MIS - Pharmacy'!V863),\"\",'MIS - Pharmacy'!V863)","v":""},"","","",{"$f":"IF(ISBLANK('MIS - Pharmacy'!J863),\"\",'MIS - Pharmacy'!J863)","v":""},{"$f":"IF(ISBLANK('MIS - Pharmacy'!AY863),\"\",'MIS - Pharmacy'!AY863)","v":""},{"$f":"IF(ISBLANK('MIS - Pharmacy'!BH863),\"\",'MIS - Pharmacy'!BH863)","v":""},"",""]
[{"$f":"IF(ISBLANK('MIS - Pharmacy'!A864), \"\",'MIS - Pharmacy'!A864)","v":""},{"$f":"IF(ISBLANK('MIS - Pharmacy'!B864),\"\",('MIS - Pharmacy'!B864&\"(\"&'MIS - Pharmacy'!D864&\")\"))","v":""},{"$f":"IF(ISBLANK('MIS - Pharmacy'!BI864), \"\", 'MIS - Pharmacy'!BI864)","v":""},{"$f":"IF(ISBLANK('MIS - Pharmacy'!U864), \"\", 'MIS - Pharmacy'!U864)","v":""},"","","","","","","",{"$f":"IF(ISBLANK('MIS - Pharmacy'!AC864),\"\",'MIS - Pharmacy'!AC864)","v":""},"",{"$f":"IF(ISBLANK('MIS - Pharmacy'!AD864),\"\",'MIS - Pharmacy'!AD864)","v":""},"","",{"$f":"IF('MIS - Pharmacy'!A864=\"\",\"\",SUM('MIS - Pharmacy'!K864+'MIS - Pharmacy'!L864))","v":""},"",{"$f":"IF('MIS - Pharmacy'!A864=\"\",\"\",('MIS - Pharmacy'!AF864+'MIS - Pharmacy'!AH864 +'MIS - Pharmacy'!AG864))","v":""},{"$f":"IF(ISBLANK('MIS - Pharmacy'!AI864),\"\",'MIS - Pharmacy'!AI864)","v":""},"","","",{"$f":"IF(ISBLANK('MIS - Pharmacy'!V864),\"\",'MIS - Pharmacy'!V864)","v":""},"","","",{"$f":"IF(ISBLANK('MIS - Pharmacy'!J864),\"\",'MIS - Pharmacy'!J864)","v":""},{"$f":"IF(ISBLANK('MIS - Pharmacy'!AY864),\"\",'MIS - Pharmacy'!AY864)","v":""},{"$f":"IF(ISBLANK('MIS - Pharmacy'!BH864),\"\",'MIS - Pharmacy'!BH864)","v":""},"",""]
[{"$f":"IF(ISBLANK('MIS - Pharmacy'!A865), \"\",'MIS - Pharmacy'!A865)","v":""},{"$f":"IF(ISBLANK('MIS - Pharmacy'!B865),\"\",('MIS - Pharmacy'!B865&\"(\"&'MIS - Pharmacy'!D865&\")\"))","v":""},{"$f":"IF(ISBLANK('MIS - Pharmacy'!BI865), \"\", 'MIS - Pharmacy'!BI865)","v":""},{"$f":"IF(ISBLANK('MIS - Pharmacy'!U865), \"\", 'MIS - Pharmacy'!U865)","v":""},"","","","","","","",{"$f":"IF(ISBLANK('MIS - Pharmacy'!AC865),\"\",'MIS - Pharmacy'!AC865)","v":""},"",{"$f":"IF(ISBLANK('MIS - Pharmacy'!AD865),\"\",'MIS - Pharmacy'!AD865)","v":""},"","",{"$f":"IF('MIS - Pharmacy'!A865=\"\",\"\",SUM('MIS - Pharmacy'!K865+'MIS - Pharmacy'!L865))","v":""},"",{"$f":"IF('MIS - Pharmacy'!A865=\"\",\"\",('MIS - Pharmacy'!AF865+'MIS - Pharmacy'!AH865 +'MIS - Pharmacy'!AG865))","v":""},{"$f":"IF(ISBLANK('MIS - Pharmacy'!AI865),\"\",'MIS - Pharmacy'!AI865)","v":""},"","","",{"$f":"IF(ISBLANK('MIS - Pharmacy'!V865),\"\",'MIS - Pharmacy'!V865)","v":""},"","","",{"$f":"IF(ISBLANK('MIS - Pharmacy'!J865),\"\",'MIS - Pharmacy'!J865)","v":""},{"$f":"IF(ISBLANK('MIS - Pharmacy'!AY865),\"\",'MIS - Pharmacy'!AY865)","v":""},{"$f":"IF(ISBLANK('MIS - Pharmacy'!BH865),\"\",'MIS - Pharmacy'!BH865)","v":""},"",""]
[{"$f":"IF(ISBLANK('MIS - Pharmacy'!A866), \"\",'MIS - Pharmacy'!A866)","v":""},{"$f":"IF(ISBLANK('MIS - Pharmacy'!B866),\"\",('MIS - Pharmacy'!B866&\"(\"&'MIS - Pharmacy'!D866&\")\"))","v":""},{"$f":"IF(ISBLANK('MIS - Pharmacy'!BI866), \"\", 'MIS - Pharmacy'!BI866)","v":""},{"$f":"IF(ISBLANK('MIS - Pharmacy'!U866), \"\", 'MIS - Pharmacy'!U866)","v":""},"","","","","","","",{"$f":"IF(ISBLANK('MIS - Pharmacy'!AC866),\"\",'MIS - Pharmacy'!AC866)","v":""},"",{"$f":"IF(ISBLANK('MIS - Pharmacy'!AD866),\"\",'MIS - Pharmacy'!AD866)","v":""},"","",{"$f":"IF('MIS - Pharmacy'!A866=\"\",\"\",SUM('MIS - Pharmacy'!K866+'MIS - Pharmacy'!L866))","v":""},"",{"$f":"IF('MIS - Pharmacy'!A866=\"\",\"\",('MIS - Pharmacy'!AF866+'MIS - Pharmacy'!AH866 +'MIS - Pharmacy'!AG866))","v":""},{"$f":"IF(ISBLANK('MIS - Pharmacy'!AI866),\"\",'MIS - Pharmacy'!AI866)","v":""},"","","",{"$f":"IF(ISBLANK('MIS - Pharmacy'!V866),\"\",'MIS - Pharmacy'!V866)","v":""},"","","",{"$f":"IF(ISBLANK('MIS - Pharmacy'!J866),\"\",'MIS - Pharmacy'!J866)","v":""},{"$f":"IF(ISBLANK('MIS - Pharmacy'!AY866),\"\",'MIS - Pharmacy'!AY866)","v":""},{"$f":"IF(ISBLANK('MIS - Pharmacy'!BH866),\"\",'MIS - Pharmacy'!BH866)","v":""},"",""]
[{"$f":"IF(ISBLANK('MIS - Pharmacy'!A867), \"\",'MIS - Pharmacy'!A867)","v":""},{"$f":"IF(ISBLANK('MIS - Pharmacy'!B867),\"\",('MIS - Pharmacy'!B867&\"(\"&'MIS - Pharmacy'!D867&\")\"))","v":""},{"$f":"IF(ISBLANK('MIS - Pharmacy'!BI867), \"\", 'MIS - Pharmacy'!BI867)","v":""},{"$f":"IF(ISBLANK('MIS - Pharmacy'!U867), \"\", 'MIS - Pharmacy'!U867)","v":""},"","","","","","","",{"$f":"IF(ISBLANK('MIS - Pharmacy'!AC867),\"\",'MIS - Pharmacy'!AC867)","v":""},"",{"$f":"IF(ISBLANK('MIS - Pharmacy'!AD867),\"\",'MIS - Pharmacy'!AD867)","v":""},"","",{"$f":"IF('MIS - Pharmacy'!A867=\"\",\"\",SUM('MIS - Pharmacy'!K867+'MIS - Pharmacy'!L867))","v":""},"",{"$f":"IF('MIS - Pharmacy'!A867=\"\",\"\",('MIS - Pharmacy'!AF867+'MIS - Pharmacy'!AH867 +'MIS - Pharmacy'!AG867))","v":""},{"$f":"IF(ISBLANK('MIS - Pharmacy'!AI867),\"\",'MIS - Pharmacy'!AI867)","v":""},"","","",{"$f":"IF(ISBLANK('MIS - Pharmacy'!V867),\"\",'MIS - Pharmacy'!V867)","v":""},"","","",{"$f":"IF(ISBLANK('MIS - Pharmacy'!J867),\"\",'MIS - Pharmacy'!J867)","v":""},{"$f":"IF(ISBLANK('MIS - Pharmacy'!AY867),\"\",'MIS - Pharmacy'!AY867)","v":""},{"$f":"IF(ISBLANK('MIS - Pharmacy'!BH867),\"\",'MIS - Pharmacy'!BH867)","v":""},"",""]
[{"$f":"IF(ISBLANK('MIS - Pharmacy'!A868), \"\",'MIS - Pharmacy'!A868)","v":""},{"$f":"IF(ISBLANK('MIS - Pharmacy'!B868),\"\",('MIS - Pharmacy'!B868&\"(\"&'MIS - Pharmacy'!D868&\")\"))","v":""},{"$f":"IF(ISBLANK('MIS - Pharmacy'!BI868), \"\", 'MIS - Pharmacy'!BI868)","v":""},{"$f":"IF(ISBLANK('MIS - Pharmacy'!U868), \"\", 'MIS - Pharmacy'!U868)","v":""},"","","","","","","",{"$f":"IF(ISBLANK('MIS - Pharmacy'!AC868),\"\",'MIS - Pharmacy'!AC868)","v":""},"",{"$f":"IF(ISBLANK('MIS - Pharmacy'!AD868),\"\",'MIS - Pharmacy'!AD868)","v":""},"","",{"$f":"IF('MIS - Pharmacy'!A868=\"\",\"\",SUM('MIS - Pharmacy'!K868+'MIS - Pharmacy'!L868))","v":""},"",{"$f":"IF('MIS - Pharmacy'!A868=\"\",\"\",('MIS - Pharmacy'!AF868+'MIS - Pharmacy'!AH868 +'MIS - Pharmacy'!AG868))","v":""},{"$f":"IF(ISBLANK('MIS - Pharmacy'!AI868),\"\",'MIS - Pharmacy'!AI868)","v":""},"","","",{"$f":"IF(ISBLANK('MIS - Pharmacy'!V868),\"\",'MIS - Pharmacy'!V868)","v":""},"","","",{"$f":"IF(ISBLANK('MIS - Pharmacy'!J868),\"\",'MIS - Pharmacy'!J868)","v":""},{"$f":"IF(ISBLANK('MIS - Pharmacy'!AY868),\"\",'MIS - Pharmacy'!AY868)","v":""},{"$f":"IF(ISBLANK('MIS - Pharmacy'!BH868),\"\",'MIS - Pharmacy'!BH868)","v":""},"",""]
[{"$f":"IF(ISBLANK('MIS - Pharmacy'!A869), \"\",'MIS - Pharmacy'!A869)","v":""},{"$f":"IF(ISBLANK('MIS - Pharmacy'!B869),\"\",('MIS - Pharmacy'!B869&\"(\"&'MIS - Pharmacy'!D869&\")\"))","v":""},{"$f":"IF(ISBLANK('MIS - Pharmacy'!BI869), \"\", 'MIS - Pharmacy'!BI869)","v":""},{"$f":"IF(ISBLANK('MIS - Pharmacy'!U869), \"\", 'MIS - Pharmacy'!U869)","v":""},"","","","","","","",{"$f":"IF(ISBLANK('MIS - Pharmacy'!AC869),\"\",'MIS - Pharmacy'!AC869)","v":""},"",{"$f":"IF(ISBLANK('MIS - Pharmacy'!AD869),\"\",'MIS - Pharmacy'!AD869)","v":""},"","",{"$f":"IF('MIS - Pharmacy'!A869=\"\",\"\",SUM('MIS - Pharmacy'!K869+'MIS - Pharmacy'!L869))","v":""},"",{"$f":"IF('MIS - Pharmacy'!A869=\"\",\"\",('MIS - Pharmacy'!AF869+'MIS - Pharmacy'!AH869 +'MIS - Pharmacy'!AG869))","v":""},{"$f":"IF(ISBLANK('MIS - Pharmacy'!AI869),\"\",'MIS - Pharmacy'!AI869)","v":""},"","","",{"$f":"IF(ISBLANK('MIS - Pharmacy'!V869),\"\",'MIS - Pharmacy'!V869)","v":""},"","","",{"$f":"IF(ISBLANK('MIS - Pharmacy'!J869),\"\",'MIS - Pharmacy'!J869)","v":""},{"$f":"IF(ISBLANK('MIS - Pharmacy'!AY869),\"\",'MIS - Pharmacy'!AY869)","v":""},{"$f":"IF(ISBLANK('MIS - Pharmacy'!BH869),\"\",'MIS - Pharmacy'!BH869)","v":""},"",""]
[{"$f":"IF(ISBLANK('MIS - Pharmacy'!A870), \"\",'MIS - Pharmacy'!A870)","v":""},{"$f":"IF(ISBLANK('MIS - Pharmacy'!B870),\"\",('MIS - Pharmacy'!B870&\"(\"&'MIS - Pharmacy'!D870&\")\"))","v":""},{"$f":"IF(ISBLANK('MIS - Pharmacy'!BI870), \"\", 'MIS - Pharmacy'!BI870)","v":""},{"$f":"IF(ISBLANK('MIS - Pharmacy'!U870), \"\", 'MIS - Pharmacy'!U870)","v":""},"","","","","","","",{"$f":"IF(ISBLANK('MIS - Pharmacy'!AC870),\"\",'MIS - Pharmacy'!AC870)","v":""},"",{"$f":"IF(ISBLANK('MIS - Pharmacy'!AD870),\"\",'MIS - Pharmacy'!AD870)","v":""},"","",{"$f":"IF('MIS - Pharmacy'!A870=\"\",\"\",SUM('MIS - Pharmacy'!K870+'MIS - Pharmacy'!L870))","v":""},"",{"$f":"IF('MIS - Pharmacy'!A870=\"\",\"\",('MIS - Pharmacy'!AF870+'MIS - Pharmacy'!AH870 +'MIS - Pharmacy'!AG870))","v":""},{"$f":"IF(ISBLANK('MIS - Pharmacy'!AI870),\"\",'MIS - Pharmacy'!AI870)","v":""},"","","",{"$f":"IF(ISBLANK('MIS - Pharmacy'!V870),\"\",'MIS - Pharmacy'!V870)","v":""},"","","",{"$f":"IF(ISBLANK('MIS - Pharmacy'!J870),\"\",'MIS - Pharmacy'!J870)","v":""},{"$f":"IF(ISBLANK('MIS - Pharmacy'!AY870),\"\",'MIS - Pharmacy'!AY870)","v":""},{"$f":"IF(ISBLANK('MIS - Pharmacy'!BH870),\"\",'MIS - Pharmacy'!BH870)","v":""},"",""]
[{"$f":"IF(ISBLANK('MIS - Pharmacy'!A871), \"\",'MIS - Pharmacy'!A871)","v":""},{"$f":"IF(ISBLANK('MIS - Pharmacy'!B871),\"\",('MIS - Pharmacy'!B871&\"(\"&'MIS - Pharmacy'!D871&\")\"))","v":""},{"$f":"IF(ISBLANK('MIS - Pharmacy'!BI871), \"\", 'MIS - Pharmacy'!BI871)","v":""},{"$f":"IF(ISBLANK('MIS - Pharmacy'!U871), \"\", 'MIS - Pharmacy'!U871)","v":""},"","","","","","","",{"$f":"IF(ISBLANK('MIS - Pharmacy'!AC871),\"\",'MIS - Pharmacy'!AC871)","v":""},"",{"$f":"IF(ISBLANK('MIS - Pharmacy'!AD871),\"\",'MIS - Pharmacy'!AD871)","v":""},"","",{"$f":"IF('MIS - Pharmacy'!A871=\"\",\"\",SUM('MIS - Pharmacy'!K871+'MIS - Pharmacy'!L871))","v":""},"",{"$f":"IF('MIS - Pharmacy'!A871=\"\",\"\",('MIS - Pharmacy'!AF871+'MIS - Pharmacy'!AH871 +'MIS - Pharmacy'!AG871))","v":""},{"$f":"IF(ISBLANK('MIS - Pharmacy'!AI871),\"\",'MIS - Pharmacy'!AI871)","v":""},"","","",{"$f":"IF(ISBLANK('MIS - Pharmacy'!V871),\"\",'MIS - Pharmacy'!V871)","v":""},"","","",{"$f":"IF(ISBLANK('MIS - Pharmacy'!J871),\"\",'MIS - Pharmacy'!J871)","v":""},{"$f":"IF(ISBLANK('MIS - Pharmacy'!AY871),\"\",'MIS - Pharmacy'!AY871)","v":""},{"$f":"IF(ISBLANK('MIS - Pharmacy'!BH871),\"\",'MIS - Pharmacy'!BH871)","v":""},"",""]
[{"$f":"IF(ISBLANK('MIS - Pharmacy'!A872), \"\",'MIS - Pharmacy'!A872)","v":""},{"$f":"IF(ISBLANK('MIS - Pharmacy'!B872),\"\",('MIS - Pharmacy'!B872&\"(\"&'MIS - Pharmacy'!D872&\")\"))","v":""},{"$f":"IF(ISBLANK('MIS - Pharmacy'!BI872), \"\", 'MIS - Pharmacy'!BI872)","v":""},{"$f":"IF(ISBLANK('MIS - Pharmacy'!U872), \"\", 'MIS - Pharmacy'!U872)","v":""},"","","","","","","",{"$f":"IF(ISBLANK('MIS - Pharmacy'!AC872),\"\",'MIS - Pharmacy'!AC872)","v":""},"",{"$f":"IF(ISBLANK('MIS - Pharmacy'!AD872),\"\",'MIS - Pharmacy'!AD872)","v":""},"","",{"$f":"IF('MIS - Pharmacy'!A872=\"\",\"\",SUM('MIS - Pharmacy'!K872+'MIS - Pharmacy'!L872))","v":""},"",{"$f":"IF('MIS - Pharmacy'!A872=\"\",\"\",('MIS - Pharmacy'!AF872+'MIS - Pharmacy'!AH872 +'MIS - Pharmacy'!AG872))","v":""},{"$f":"IF(ISBLANK('MIS - Pharmacy'!AI872),\"\",'MIS - Pharmacy'!AI872)","v":""},"","","",{"$f":"IF(ISBLANK('MIS - Pharmacy'!V872),\"\",'MIS - Pharmacy'!V872)","v":""},"","","",{"$f":"IF(ISBLANK('MIS - Pharmacy'!J872),\"\",'MIS - Pharmacy'!J872)","v":""},{"$f":"IF(ISBLANK('MIS - Pharmacy'!AY872),\"\",'MIS - Pharmacy'!AY872)","v":""},{"$f":"IF(ISBLANK('MIS - Pharmacy'!BH872),\"\",'MIS - Pharmacy'!BH872)","v":""},"",""]
[{"$f":"IF(ISBLANK('MIS - Pharmacy'!A873), \"\",'MIS - Pharmacy'!A873)","v":""},{"$f":"IF(ISBLANK('MIS - Pharmacy'!B873),\"\",('MIS - Pharmacy'!B873&\"(\"&'MIS - Pharmacy'!D873&\")\"))","v":""},{"$f":"IF(ISBLANK('MIS - Pharmacy'!BI873), \"\", 'MIS - Pharmacy'!BI873)","v":""},{"$f":"IF(ISBLANK('MIS - Pharmacy'!U873), \"\", 'MIS - Pharmacy'!U873)","v":""},"","","","","","","",{"$f":"IF(ISBLANK('MIS - Pharmacy'!AC873),\"\",'MIS - Pharmacy'!AC873)","v":""},"",{"$f":"IF(ISBLANK('MIS - Pharmacy'!AD873),\"\",'MIS - Pharmacy'!AD873)","v":""},"","",{"$f":"IF('MIS - Pharmacy'!A873=\"\",\"\",SUM('MIS - Pharmacy'!K873+'MIS - Pharmacy'!L873))","v":""},"",{"$f":"IF('MIS - Pharmacy'!A873=\"\",\"\",('MIS - Pharmacy'!AF873+'MIS - Pharmacy'!AH873 +'MIS - Pharmacy'!AG873))","v":""},{"$f":"IF(ISBLANK('MIS - Pharmacy'!AI873),\"\",'MIS - Pharmacy'!AI873)","v":""},"","","",{"$f":"IF(ISBLANK('MIS - Pharmacy'!V873),\"\",'MIS - Pharmacy'!V873)","v":""},"","","",{"$f":"IF(ISBLANK('MIS - Pharmacy'!J873),\"\",'MIS - Pharmacy'!J873)","v":""},{"$f":"IF(ISBLANK('MIS - Pharmacy'!AY873),\"\",'MIS - Pharmacy'!AY873)","v":""},{"$f":"IF(ISBLANK('MIS - Pharmacy'!BH873),\"\",'MIS - Pharmacy'!BH873)","v":""},"",""]
[{"$f":"IF(ISBLANK('MIS - Pharmacy'!A874), \"\",'MIS - Pharmacy'!A874)","v":""},{"$f":"IF(ISBLANK('MIS - Pharmacy'!B874),\"\",('MIS - Pharmacy'!B874&\"(\"&'MIS - Pharmacy'!D874&\")\"))","v":""},{"$f":"IF(ISBLANK('MIS - Pharmacy'!BI874), \"\", 'MIS - Pharmacy'!BI874)","v":""},{"$f":"IF(ISBLANK('MIS - Pharmacy'!U874), \"\", 'MIS - Pharmacy'!U874)","v":""},"","","","","","","",{"$f":"IF(ISBLANK('MIS - Pharmacy'!AC874),\"\",'MIS - Pharmacy'!AC874)","v":""},"",{"$f":"IF(ISBLANK('MIS - Pharmacy'!AD874),\"\",'MIS - Pharmacy'!AD874)","v":""},"","",{"$f":"IF('MIS - Pharmacy'!A874=\"\",\"\",SUM('MIS - Pharmacy'!K874+'MIS - Pharmacy'!L874))","v":""},"",{"$f":"IF('MIS - Pharmacy'!A874=\"\",\"\",('MIS - Pharmacy'!AF874+'MIS - Pharmacy'!AH874 +'MIS - Pharmacy'!AG874))","v":""},{"$f":"IF(ISBLANK('MIS - Pharmacy'!AI874),\"\",'MIS - Pharmacy'!AI874)","v":""},"","","",{"$f":"IF(ISBLANK('MIS - Pharmacy'!V874),\"\",'MIS - Pharmacy'!V874)","v":""},"","","",{"$f":"IF(ISBLANK('MIS - Pharmacy'!J874),\"\",'MIS - Pharmacy'!J874)","v":""},{"$f":"IF(ISBLANK('MIS - Pharmacy'!AY874),\"\",'MIS - Pharmacy'!AY874)","v":""},{"$f":"IF(ISBLANK('MIS - Pharmacy'!BH874),\"\",'MIS - Pharmacy'!BH874)","v":""},"",""]
[{"$f":"IF(ISBLANK('MIS - Pharmacy'!A875), \"\",'MIS - Pharmacy'!A875)","v":""},{"$f":"IF(ISBLANK('MIS - Pharmacy'!B875),\"\",('MIS - Pharmacy'!B875&\"(\"&'MIS - Pharmacy'!D875&\")\"))","v":""},{"$f":"IF(ISBLANK('MIS - Pharmacy'!BI875), \"\", 'MIS - Pharmacy'!BI875)","v":""},{"$f":"IF(ISBLANK('MIS - Pharmacy'!U875), \"\", 'MIS - Pharmacy'!U875)","v":""},"","","","","","","",{"$f":"IF(ISBLANK('MIS - Pharmacy'!AC875),\"\",'MIS - Pharmacy'!AC875)","v":""},"",{"$f":"IF(ISBLANK('MIS - Pharmacy'!AD875),\"\",'MIS - Pharmacy'!AD875)","v":""},"","",{"$f":"IF('MIS - Pharmacy'!A875=\"\",\"\",SUM('MIS - Pharmacy'!K875+'MIS - Pharmacy'!L875))","v":""},"",{"$f":"IF('MIS - Pharmacy'!A875=\"\",\"\",('MIS - Pharmacy'!AF875+'MIS - Pharmacy'!AH875 +'MIS - Pharmacy'!AG875))","v":""},{"$f":"IF(ISBLANK('MIS - Pharmacy'!AI875),\"\",'MIS - Pharmacy'!AI875)","v":""},"","","",{"$f":"IF(ISBLANK('MIS - Pharmacy'!V875),\"\",'MIS - Pharmacy'!V875)","v":""},"","","",{"$f":"IF(ISBLANK('MIS - Pharmacy'!J875),\"\",'MIS - Pharmacy'!J875)","v":""},{"$f":"IF(ISBLANK('MIS - Pharmacy'!AY875),\"\",'MIS - Pharmacy'!AY875)","v":""},{"$f":"IF(ISBLANK('MIS - Pharmacy'!BH875),\"\",'MIS - Pharmacy'!BH875)","v":""},"",""]
[{"$f":"IF(ISBLANK('MIS - Pharmacy'!A876), \"\",'MIS - Pharmacy'!A876)","v":""},{"$f":"IF(ISBLANK('MIS - Pharmacy'!B876),\"\",('MIS - Pharmacy'!B876&\"(\"&'MIS - Pharmacy'!D876&\")\"))","v":""},{"$f":"IF(ISBLANK('MIS - Pharmacy'!BI876), \"\", 'MIS - Pharmacy'!BI876)","v":""},{"$f":"IF(ISBLANK('MIS - Pharmacy'!U876), \"\", 'MIS - Pharmacy'!U876)","v":""},"","","","","","","",{"$f":"IF(ISBLANK('MIS - Pharmacy'!AC876),\"\",'MIS - Pharmacy'!AC876)","v":""},"",{"$f":"IF(ISBLANK('MIS - Pharmacy'!AD876),\"\",'MIS - Pharmacy'!AD876)","v":""},"","",{"$f":"IF('MIS - Pharmacy'!A876=\"\",\"\",SUM('MIS - Pharmacy'!K876+'MIS - Pharmacy'!L876))","v":""},"",{"$f":"IF('MIS - Pharmacy'!A876=\"\",\"\",('MIS - Pharmacy'!AF876+'MIS - Pharmacy'!AH876 +'MIS - Pharmacy'!AG876))","v":""},{"$f":"IF(ISBLANK('MIS - Pharmacy'!AI876),\"\",'MIS - Pharmacy'!AI876)","v":""},"","","",{"$f":"IF(ISBLANK('MIS - Pharmacy'!V876),\"\",'MIS - Pharmacy'!V876)","v":""},"","","",{"$f":"IF(ISBLANK('MIS - Pharmacy'!J876),\"\",'MIS - Pharmacy'!J876)","v":""},{"$f":"IF(ISBLANK('MIS - Pharmacy'!AY876),\"\",'MIS - Pharmacy'!AY876)","v":""},{"$f":"IF(ISBLANK('MIS - Pharmacy'!BH876),\"\",'MIS - Pharmacy'!BH876)","v":""},"",""]
[{"$f":"IF(ISBLANK('MIS - Pharmacy'!A877), \"\",'MIS - Pharmacy'!A877)","v":""},{"$f":"IF(ISBLANK('MIS - Pharmacy'!B877),\"\",('MIS - Pharmacy'!B877&\"(\"&'MIS - Pharmacy'!D877&\")\"))","v":""},{"$f":"IF(ISBLANK('MIS - Pharmacy'!BI877), \"\", 'MIS - Pharmacy'!BI877)","v":""},{"$f":"IF(ISBLANK('MIS - Pharmacy'!U877), \"\", 'MIS - Pharmacy'!U877)","v":""},"","","","","","","",{"$f":"IF(ISBLANK('MIS - Pharmacy'!AC877),\"\",'MIS - Pharmacy'!AC877)","v":""},"",{"$f":"IF(ISBLANK('MIS - Pharmacy'!AD877),\"\",'MIS - Pharmacy'!AD877)","v":""},"","",{"$f":"IF('MIS - Pharmacy'!A877=\"\",\"\",SUM('MIS - Pharmacy'!K877+'MIS - Pharmacy'!L877))","v":""},"",{"$f":"IF('MIS - Pharmacy'!A877=\"\",\"\",('MIS - Pharmacy'!AF877+'MIS - Pharmacy'!AH877 +'MIS - Pharmacy'!AG877))","v":""},{"$f":"IF(ISBLANK('MIS - Pharmacy'!AI877),\"\",'MIS - Pharmacy'!AI877)","v":""},"","","",{"$f":"IF(ISBLANK('MIS - Pharmacy'!V877),\"\",'MIS - Pharmacy'!V877)","v":""},"","","",{"$f":"IF(ISBLANK('MIS - Pharmacy'!J877),\"\",'MIS - Pharmacy'!J877)","v":""},{"$f":"IF(ISBLANK('MIS - Pharmacy'!AY877),\"\",'MIS - Pharmacy'!AY877)","v":""},{"$f":"IF(ISBLANK('MIS - Pharmacy'!BH877),\"\",'MIS - Pharmacy'!BH877)","v":""},"",""]
[{"$f":"IF(ISBLANK('MIS - Pharmacy'!A878), \"\",'MIS - Pharmacy'!A878)","v":""},{"$f":"IF(ISBLANK('MIS - Pharmacy'!B878),\"\",('MIS - Pharmacy'!B878&\"(\"&'MIS - Pharmacy'!D878&\")\"))","v":""},{"$f":"IF(ISBLANK('MIS - Pharmacy'!BI878), \"\", 'MIS - Pharmacy'!BI878)","v":""},{"$f":"IF(ISBLANK('MIS - Pharmacy'!U878), \"\", 'MIS - Pharmacy'!U878)","v":""},"","","","","","","",{"$f":"IF(ISBLANK('MIS - Pharmacy'!AC878),\"\",'MIS - Pharmacy'!AC878)","v":""},"",{"$f":"IF(ISBLANK('MIS - Pharmacy'!AD878),\"\",'MIS - Pharmacy'!AD878)","v":""},"","",{"$f":"IF('MIS - Pharmacy'!A878=\"\",\"\",SUM('MIS - Pharmacy'!K878+'MIS - Pharmacy'!L878))","v":""},"",{"$f":"IF('MIS - Pharmacy'!A878=\"\",\"\",('MIS - Pharmacy'!AF878+'MIS - Pharmacy'!AH878 +'MIS - Pharmacy'!AG878))","v":""},{"$f":"IF(ISBLANK('MIS - Pharmacy'!AI878),\"\",'MIS - Pharmacy'!AI878)","v":""},"","","",{"$f":"IF(ISBLANK('MIS - Pharmacy'!V878),\"\",'MIS - Pharmacy'!V878)","v":""},"","","",{"$f":"IF(ISBLANK('MIS - Pharmacy'!J878),\"\",'MIS - Pharmacy'!J878)","v":""},{"$f":"IF(ISBLANK('MIS - Pharmacy'!AY878),\"\",'MIS - Pharmacy'!AY878)","v":""},{"$f":"IF(ISBLANK('MIS - Pharmacy'!BH878),\"\",'MIS - Pharmacy'!BH878)","v":""},"",""]
[{"$f":"IF(ISBLANK('MIS - Pharmacy'!A879), \"\",'MIS - Pharmacy'!A879)","v":""},{"$f":"IF(ISBLANK('MIS - Pharmacy'!B879),\"\",('MIS - Pharmacy'!B879&\"(\"&'MIS - Pharmacy'!D879&\")\"))","v":""},{"$f":"IF(ISBLANK('MIS - Pharmacy'!BI879), \"\", 'MIS - Pharmacy'!BI879)","v":""},{"$f":"IF(ISBLANK('MIS - Pharmacy'!U879), \"\", 'MIS - Pharmacy'!U879)","v":""},"","","","","","","",{"$f":"IF(ISBLANK('MIS - Pharmacy'!AC879),\"\",'MIS - Pharmacy'!AC879)","v":""},"",{"$f":"IF(ISBLANK('MIS - Pharmacy'!AD879),\"\",'MIS - Pharmacy'!AD879)","v":""},"","",{"$f":"IF('MIS - Pharmacy'!A879=\"\",\"\",SUM('MIS - Pharmacy'!K879+'MIS - Pharmacy'!L879))","v":""},"",{"$f":"IF('MIS - Pharmacy'!A879=\"\",\"\",('MIS - Pharmacy'!AF879+'MIS - Pharmacy'!AH879 +'MIS - Pharmacy'!AG879))","v":""},{"$f":"IF(ISBLANK('MIS - Pharmacy'!AI879),\"\",'MIS - Pharmacy'!AI879)","v":""},"","","",{"$f":"IF(ISBLANK('MIS - Pharmacy'!V879),\"\",'MIS - Pharmacy'!V879)","v":""},"","","",{"$f":"IF(ISBLANK('MIS - Pharmacy'!J879),\"\",'MIS - Pharmacy'!J879)","v":""},{"$f":"IF(ISBLANK('MIS - Pharmacy'!AY879),\"\",'MIS - Pharmacy'!AY879)","v":""},{"$f":"IF(ISBLANK('MIS - Pharmacy'!BH879),\"\",'MIS - Pharmacy'!BH879)","v":""},"",""]
[{"$f":"IF(ISBLANK('MIS - Pharmacy'!A880), \"\",'MIS - Pharmacy'!A880)","v":""},{"$f":"IF(ISBLANK('MIS - Pharmacy'!B880),\"\",('MIS - Pharmacy'!B880&\"(\"&'MIS - Pharmacy'!D880&\")\"))","v":""},{"$f":"IF(ISBLANK('MIS - Pharmacy'!BI880), \"\", 'MIS - Pharmacy'!BI880)","v":""},{"$f":"IF(ISBLANK('MIS - Pharmacy'!U880), \"\", 'MIS - Pharmacy'!U880)","v":""},"","","","","","","",{"$f":"IF(ISBLANK('MIS - Pharmacy'!AC880),\"\",'MIS - Pharmacy'!AC880)","v":""},"",{"$f":"IF(ISBLANK('MIS - Pharmacy'!AD880),\"\",'MIS - Pharmacy'!AD880)","v":""},"","",{"$f":"IF('MIS - Pharmacy'!A880=\"\",\"\",SUM('MIS - Pharmacy'!K880+'MIS - Pharmacy'!L880))","v":""},"",{"$f":"IF('MIS - Pharmacy'!A880=\"\",\"\",('MIS - Pharmacy'!AF880+'MIS - Pharmacy'!AH880 +'MIS - Pharmacy'!AG880))","v":""},{"$f":"IF(ISBLANK('MIS - Pharmacy'!AI880),\"\",'MIS - Pharmacy'!AI880)","v":""},"","","",{"$f":"IF(ISBLANK('MIS - Pharmacy'!V880),\"\",'MIS - Pharmacy'!V880)","v":""},"","","",{"$f":"IF(ISBLANK('MIS - Pharmacy'!J880),\"\",'MIS - Pharmacy'!J880)","v":""},{"$f":"IF(ISBLANK('MIS - Pharmacy'!AY880),\"\",'MIS - Pharmacy'!AY880)","v":""},{"$f":"IF(ISBLANK('MIS - Pharmacy'!BH880),\"\",'MIS - Pharmacy'!BH880)","v":""},"",""]
[{"$f":"IF(ISBLANK('MIS - Pharmacy'!A881), \"\",'MIS - Pharmacy'!A881)","v":""},{"$f":"IF(ISBLANK('MIS - Pharmacy'!B881),\"\",('MIS - Pharmacy'!B881&\"(\"&'MIS - Pharmacy'!D881&\")\"))","v":""},{"$f":"IF(ISBLANK('MIS - Pharmacy'!BI881), \"\", 'MIS - Pharmacy'!BI881)","v":""},{"$f":"IF(ISBLANK('MIS - Pharmacy'!U881), \"\", 'MIS - Pharmacy'!U881)","v":""},"","","","","","","",{"$f":"IF(ISBLANK('MIS - Pharmacy'!AC881),\"\",'MIS - Pharmacy'!AC881)","v":""},"",{"$f":"IF(ISBLANK('MIS - Pharmacy'!AD881),\"\",'MIS - Pharmacy'!AD881)","v":""},"","",{"$f":"IF('MIS - Pharmacy'!A881=\"\",\"\",SUM('MIS - Pharmacy'!K881+'MIS - Pharmacy'!L881))","v":""},"",{"$f":"IF('MIS - Pharmacy'!A881=\"\",\"\",('MIS - Pharmacy'!AF881+'MIS - Pharmacy'!AH881 +'MIS - Pharmacy'!AG881))","v":""},{"$f":"IF(ISBLANK('MIS - Pharmacy'!AI881),\"\",'MIS - Pharmacy'!AI881)","v":""},"","","",{"$f":"IF(ISBLANK('MIS - Pharmacy'!V881),\"\",'MIS - Pharmacy'!V881)","v":""},"","","",{"$f":"IF(ISBLANK('MIS - Pharmacy'!J881),\"\",'MIS - Pharmacy'!J881)","v":""},{"$f":"IF(ISBLANK('MIS - Pharmacy'!AY881),\"\",'MIS - Pharmacy'!AY881)","v":""},{"$f":"IF(ISBLANK('MIS - Pharmacy'!BH881),\"\",'MIS - Pharmacy'!BH881)","v":""},"",""]
[{"$f":"IF(ISBLANK('MIS - Pharmacy'!A882), \"\",'MIS - Pharmacy'!A882)","v":""},{"$f":"IF(ISBLANK('MIS - Pharmacy'!B882),\"\",('MIS - Pharmacy'!B882&\"(\"&'MIS - Pharmacy'!D882&\")\"))","v":""},{"$f":"IF(ISBLANK('MIS - Pharmacy'!BI882), \"\", 'MIS - Pharmacy'!BI882)","v":""},{"$f":"IF(ISBLANK('MIS - Pharmacy'!U882), \"\", 'MIS - Pharmacy'!U882)","v":""},"","","","","","","",{"$f":"IF(ISBLANK('MIS - Pharmacy'!AC882),\"\",'MIS - Pharmacy'!AC882)","v":""},"",{"$f":"IF(ISBLANK('MIS - Pharmacy'!AD882),\"\",'MIS - Pharmacy'!AD882)","v":""},"","",{"$f":"IF('MIS - Pharmacy'!A882=\"\",\"\",SUM('MIS - Pharmacy'!K882+'MIS - Pharmacy'!L882))","v":""},"",{"$f":"IF('MIS - Pharmacy'!A882=\"\",\"\",('MIS - Pharmacy'!AF882+'MIS - Pharmacy'!AH882 +'MIS - Pharmacy'!AG882))","v":""},{"$f":"IF(ISBLANK('MIS - Pharmacy'!AI882),\"\",'MIS - Pharmacy'!AI882)","v":""},"","","",{"$f":"IF(ISBLANK('MIS - Pharmacy'!V882),\"\",'MIS - Pharmacy'!V882)","v":""},"","","",{"$f":"IF(ISBLANK('MIS - Pharmacy'!J882),\"\",'MIS - Pharmacy'!J882)","v":""},{"$f":"IF(ISBLANK('MIS - Pharmacy'!AY882),\"\",'MIS - Pharmacy'!AY882)","v":""},{"$f":"IF(ISBLANK('MIS - Pharmacy'!BH882),\"\",'MIS - Pharmacy'!BH882)","v":""},"",""]
[{"$f":"IF(ISBLANK('MIS - Pharmacy'!A883), \"\",'MIS - Pharmacy'!A883)","v":""},{"$f":"IF(ISBLANK('MIS - Pharmacy'!B883),\"\",('MIS - Pharmacy'!B883&\"(\"&'MIS - Pharmacy'!D883&\")\"))","v":""},{"$f":"IF(ISBLANK('MIS - Pharmacy'!BI883), \"\", 'MIS - Pharmacy'!BI883)","v":""},{"$f":"IF(ISBLANK('MIS - Pharmacy'!U883), \"\", 'MIS - Pharmacy'!U883)","v":""},"","","","","","","",{"$f":"IF(ISBLANK('MIS - Pharmacy'!AC883),\"\",'MIS - Pharmacy'!AC883)","v":""},"",{"$f":"IF(ISBLANK('MIS - Pharmacy'!AD883),\"\",'MIS - Pharmacy'!AD883)","v":""},"","",{"$f":"IF('MIS - Pharmacy'!A883=\"\",\"\",SUM('MIS - Pharmacy'!K883+'MIS - Pharmacy'!L883))","v":""},"",{"$f":"IF('MIS - Pharmacy'!A883=\"\",\"\",('MIS - Pharmacy'!AF883+'MIS - Pharmacy'!AH883 +'MIS - Pharmacy'!AG883))","v":""},{"$f":"IF(ISBLANK('MIS - Pharmacy'!AI883),\"\",'MIS - Pharmacy'!AI883)","v":""},"","","",{"$f":"IF(ISBLANK('MIS - Pharmacy'!V883),\"\",'MIS - Pharmacy'!V883)","v":""},"","","",{"$f":"IF(ISBLANK('MIS - Pharmacy'!J883),\"\",'MIS - Pharmacy'!J883)","v":""},{"$f":"IF(ISBLANK('MIS - Pharmacy'!AY883),\"\",'MIS - Pharmacy'!AY883)","v":""},{"$f":"IF(ISBLANK('MIS - Pharmacy'!BH883),\"\",'MIS - Pharmacy'!BH883)","v":""},"",""]
[{"$f":"IF(ISBLANK('MIS - Pharmacy'!A884), \"\",'MIS - Pharmacy'!A884)","v":""},{"$f":"IF(ISBLANK('MIS - Pharmacy'!B884),\"\",('MIS - Pharmacy'!B884&\"(\"&'MIS - Pharmacy'!D884&\")\"))","v":""},{"$f":"IF(ISBLANK('MIS - Pharmacy'!BI884), \"\", 'MIS - Pharmacy'!BI884)","v":""},{"$f":"IF(ISBLANK('MIS - Pharmacy'!U884), \"\", 'MIS - Pharmacy'!U884)","v":""},"","","","","","","",{"$f":"IF(ISBLANK('MIS - Pharmacy'!AC884),\"\",'MIS - Pharmacy'!AC884)","v":""},"",{"$f":"IF(ISBLANK('MIS - Pharmacy'!AD884),\"\",'MIS - Pharmacy'!AD884)","v":""},"","",{"$f":"IF('MIS - Pharmacy'!A884=\"\",\"\",SUM('MIS - Pharmacy'!K884+'MIS - Pharmacy'!L884))","v":""},"",{"$f":"IF('MIS - Pharmacy'!A884=\"\",\"\",('MIS - Pharmacy'!AF884+'MIS - Pharmacy'!AH884 +'MIS - Pharmacy'!AG884))","v":""},{"$f":"IF(ISBLANK('MIS - Pharmacy'!AI884),\"\",'MIS - Pharmacy'!AI884)","v":""},"","","",{"$f":"IF(ISBLANK('MIS - Pharmacy'!V884),\"\",'MIS - Pharmacy'!V884)","v":""},"","","",{"$f":"IF(ISBLANK('MIS - Pharmacy'!J884),\"\",'MIS - Pharmacy'!J884)","v":""},{"$f":"IF(ISBLANK('MIS - Pharmacy'!AY884),\"\",'MIS - Pharmacy'!AY884)","v":""},{"$f":"IF(ISBLANK('MIS - Pharmacy'!BH884),\"\",'MIS - Pharmacy'!BH884)","v":""},"",""]
[{"$f":"IF(ISBLANK('MIS - Pharmacy'!A885), \"\",'MIS - Pharmacy'!A885)","v":""},{"$f":"IF(ISBLANK('MIS - Pharmacy'!B885),\"\",('MIS - Pharmacy'!B885&\"(\"&'MIS - Pharmacy'!D885&\")\"))","v":""},{"$f":"IF(ISBLANK('MIS - Pharmacy'!BI885), \"\", 'MIS - Pharmacy'!BI885)","v":""},{"$f":"IF(ISBLANK('MIS - Pharmacy'!U885), \"\", 'MIS - Pharmacy'!U885)","v":""},"","","","","","","",{"$f":"IF(ISBLANK('MIS - Pharmacy'!AC885),\"\",'MIS - Pharmacy'!AC885)","v":""},"",{"$f":"IF(ISBLANK('MIS - Pharmacy'!AD885),\"\",'MIS - Pharmacy'!AD885)","v":""},"","",{"$f":"IF('MIS - Pharmacy'!A885=\"\",\"\",SUM('MIS - Pharmacy'!K885+'MIS - Pharmacy'!L885))","v":""},"",{"$f":"IF('MIS - Pharmacy'!A885=\"\",\"\",('MIS - Pharmacy'!AF885+'MIS - Pharmacy'!AH885 +'MIS - Pharmacy'!AG885))","v":""},{"$f":"IF(ISBLANK('MIS - Pharmacy'!AI885),\"\",'MIS - Pharmacy'!AI885)","v":""},"","","",{"$f":"IF(ISBLANK('MIS - Pharmacy'!V885),\"\",'MIS - Pharmacy'!V885)","v":""},"","","",{"$f":"IF(ISBLANK('MIS - Pharmacy'!J885),\"\",'MIS - Pharmacy'!J885)","v":""},{"$f":"IF(ISBLANK('MIS - Pharmacy'!AY885),\"\",'MIS - Pharmacy'!AY885)","v":""},{"$f":"IF(ISBLANK('MIS - Pharmacy'!BH885),\"\",'MIS - Pharmacy'!BH885)","v":""},"",""]
[{"$f":"IF(ISBLANK('MIS - Pharmacy'!A886), \"\",'MIS - Pharmacy'!A886)","v":""},{"$f":"IF(ISBLANK('MIS - Pharmacy'!B886),\"\",('MIS - Pharmacy'!B886&\"(\"&'MIS - Pharmacy'!D886&\")\"))","v":""},{"$f":"IF(ISBLANK('MIS - Pharmacy'!BI886), \"\", 'MIS - Pharmacy'!BI886)","v":""},{"$f":"IF(ISBLANK('MIS - Pharmacy'!U886), \"\", 'MIS - Pharmacy'!U886)","v":""},"","","","","","","",{"$f":"IF(ISBLANK('MIS - Pharmacy'!AC886),\"\",'MIS - Pharmacy'!AC886)","v":""},"",{"$f":"IF(ISBLANK('MIS - Pharmacy'!AD886),\"\",'MIS - Pharmacy'!AD886)","v":""},"","",{"$f":"IF('MIS - Pharmacy'!A886=\"\",\"\",SUM('MIS - Pharmacy'!K886+'MIS - Pharmacy'!L886))","v":""},"",{"$f":"IF('MIS - Pharmacy'!A886=\"\",\"\",('MIS - Pharmacy'!AF886+'MIS - Pharmacy'!AH886 +'MIS - Pharmacy'!AG886))","v":""},{"$f":"IF(ISBLANK('MIS - Pharmacy'!AI886),\"\",'MIS - Pharmacy'!AI886)","v":""},"","","",{"$f":"IF(ISBLANK('MIS - Pharmacy'!V886),\"\",'MIS - Pharmacy'!V886)","v":""},"","","",{"$f":"IF(ISBLANK('MIS - Pharmacy'!J886),\"\",'MIS - Pharmacy'!J886)","v":""},{"$f":"IF(ISBLANK('MIS - Pharmacy'!AY886),\"\",'MIS - Pharmacy'!AY886)","v":""},{"$f":"IF(ISBLANK('MIS - Pharmacy'!BH886),\"\",'MIS - Pharmacy'!BH886)","v":""},"",""]
[{"$f":"IF(ISBLANK('MIS - Pharmacy'!A887), \"\",'MIS - Pharmacy'!A887)","v":""},{"$f":"IF(ISBLANK('MIS - Pharmacy'!B887),\"\",('MIS - Pharmacy'!B887&\"(\"&'MIS - Pharmacy'!D887&\")\"))","v":""},{"$f":"IF(ISBLANK('MIS - Pharmacy'!BI887), \"\", 'MIS - Pharmacy'!BI887)","v":""},{"$f":"IF(ISBLANK('MIS - Pharmacy'!U887), \"\", 'MIS - Pharmacy'!U887)","v":""},"","","","","","","",{"$f":"IF(ISBLANK('MIS - Pharmacy'!AC887),\"\",'MIS - Pharmacy'!AC887)","v":""},"",{"$f":"IF(ISBLANK('MIS - Pharmacy'!AD887),\"\",'MIS - Pharmacy'!AD887)","v":""},"","",{"$f":"IF('MIS - Pharmacy'!A887=\"\",\"\",SUM('MIS - Pharmacy'!K887+'MIS - Pharmacy'!L887))","v":""},"",{"$f":"IF('MIS - Pharmacy'!A887=\"\",\"\",('MIS - Pharmacy'!AF887+'MIS - Pharmacy'!AH887 +'MIS - Pharmacy'!AG887))","v":""},{"$f":"IF(ISBLANK('MIS - Pharmacy'!AI887),\"\",'MIS - Pharmacy'!AI887)","v":""},"","","",{"$f":"IF(ISBLANK('MIS - Pharmacy'!V887),\"\",'MIS - Pharmacy'!V887)","v":""},"","","",{"$f":"IF(ISBLANK('MIS - Pharmacy'!J887),\"\",'MIS - Pharmacy'!J887)","v":""},{"$f":"IF(ISBLANK('MIS - Pharmacy'!AY887),\"\",'MIS - Pharmacy'!AY887)","v":""},{"$f":"IF(ISBLANK('MIS - Pharmacy'!BH887),\"\",'MIS - Pharmacy'!BH887)","v":""},"",""]
[{"$f":"IF(ISBLANK('MIS - Pharmacy'!A888), \"\",'MIS - Pharmacy'!A888)","v":""},{"$f":"IF(ISBLANK('MIS - Pharmacy'!B888),\"\",('MIS - Pharmacy'!B888&\"(\"&'MIS - Pharmacy'!D888&\")\"))","v":""},{"$f":"IF(ISBLANK('MIS - Pharmacy'!BI888), \"\", 'MIS - Pharmacy'!BI888)","v":""},{"$f":"IF(ISBLANK('MIS - Pharmacy'!U888), \"\", 'MIS - Pharmacy'!U888)","v":""},"","","","","","","",{"$f":"IF(ISBLANK('MIS - Pharmacy'!AC888),\"\",'MIS - Pharmacy'!AC888)","v":""},"",{"$f":"IF(ISBLANK('MIS - Pharmacy'!AD888),\"\",'MIS - Pharmacy'!AD888)","v":""},"","",{"$f":"IF('MIS - Pharmacy'!A888=\"\",\"\",SUM('MIS - Pharmacy'!K888+'MIS - Pharmacy'!L888))","v":""},"",{"$f":"IF('MIS - Pharmacy'!A888=\"\",\"\",('MIS - Pharmacy'!AF888+'MIS - Pharmacy'!AH888 +'MIS - Pharmacy'!AG888))","v":""},{"$f":"IF(ISBLANK('MIS - Pharmacy'!AI888),\"\",'MIS - Pharmacy'!AI888)","v":""},"","","",{"$f":"IF(ISBLANK('MIS - Pharmacy'!V888),\"\",'MIS - Pharmacy'!V888)","v":""},"","","",{"$f":"IF(ISBLANK('MIS - Pharmacy'!J888),\"\",'MIS - Pharmacy'!J888)","v":""},{"$f":"IF(ISBLANK('MIS - Pharmacy'!AY888),\"\",'MIS - Pharmacy'!AY888)","v":""},{"$f":"IF(ISBLANK('MIS - Pharmacy'!BH888),\"\",'MIS - Pharmacy'!BH888)","v":""},"",""]
[{"$f":"IF(ISBLANK('MIS - Pharmacy'!A889), \"\",'MIS - Pharmacy'!A889)","v":""},{"$f":"IF(ISBLANK('MIS - Pharmacy'!B889),\"\",('MIS - Pharmacy'!B889&\"(\"&'MIS - Pharmacy'!D889&\")\"))","v":""},{"$f":"IF(ISBLANK('MIS - Pharmacy'!BI889), \"\", 'MIS - Pharmacy'!BI889)","v":""},{"$f":"IF(ISBLANK('MIS - Pharmacy'!U889), \"\", 'MIS - Pharmacy'!U889)","v":""},"","","","","","","",{"$f":"IF(ISBLANK('MIS - Pharmacy'!AC889),\"\",'MIS - Pharmacy'!AC889)","v":""},"",{"$f":"IF(ISBLANK('MIS - Pharmacy'!AD889),\"\",'MIS - Pharmacy'!AD889)","v":""},"","",{"$f":"IF('MIS - Pharmacy'!A889=\"\",\"\",SUM('MIS - Pharmacy'!K889+'MIS - Pharmacy'!L889))","v":""},"",{"$f":"IF('MIS - Pharmacy'!A889=\"\",\"\",('MIS - Pharmacy'!AF889+'MIS - Pharmacy'!AH889 +'MIS - Pharmacy'!AG889))","v":""},{"$f":"IF(ISBLANK('MIS - Pharmacy'!AI889),\"\",'MIS - Pharmacy'!AI889)","v":""},"","","",{"$f":"IF(ISBLANK('MIS - Pharmacy'!V889),\"\",'MIS - Pharmacy'!V889)","v":""},"","","",{"$f":"IF(ISBLANK('MIS - Pharmacy'!J889),\"\",'MIS - Pharmacy'!J889)","v":""},{"$f":"IF(ISBLANK('MIS - Pharmacy'!AY889),\"\",'MIS - Pharmacy'!AY889)","v":""},{"$f":"IF(ISBLANK('MIS - Pharmacy'!BH889),\"\",'MIS - Pharmacy'!BH889)","v":""},"",""]
[{"$f":"IF(ISBLANK('MIS - Pharmacy'!A890), \"\",'MIS - Pharmacy'!A890)","v":""},{"$f":"IF(ISBLANK('MIS - Pharmacy'!B890),\"\",('MIS - Pharmacy'!B890&\"(\"&'MIS - Pharmacy'!D890&\")\"))","v":""},{"$f":"IF(ISBLANK('MIS - Pharmacy'!BI890), \"\", 'MIS - Pharmacy'!BI890)","v":""},{"$f":"IF(ISBLANK('MIS - Pharmacy'!U890), \"\", 'MIS - Pharmacy'!U890)","v":""},"","","","","","","",{"$f":"IF(ISBLANK('MIS - Pharmacy'!AC890),\"\",'MIS - Pharmacy'!AC890)","v":""},"",{"$f":"IF(ISBLANK('MIS - Pharmacy'!AD890),\"\",'MIS - Pharmacy'!AD890)","v":""},"","",{"$f":"IF('MIS - Pharmacy'!A890=\"\",\"\",SUM('MIS - Pharmacy'!K890+'MIS - Pharmacy'!L890))","v":""},"",{"$f":"IF('MIS - Pharmacy'!A890=\"\",\"\",('MIS - Pharmacy'!AF890+'MIS - Pharmacy'!AH890 +'MIS - Pharmacy'!AG890))","v":""},{"$f":"IF(ISBLANK('MIS - Pharmacy'!AI890),\"\",'MIS - Pharmacy'!AI890)","v":""},"","","",{"$f":"IF(ISBLANK('MIS - Pharmacy'!V890),\"\",'MIS - Pharmacy'!V890)","v":""},"","","",{"$f":"IF(ISBLANK('MIS - Pharmacy'!J890),\"\",'MIS - Pharmacy'!J890)","v":""},{"$f":"IF(ISBLANK('MIS - Pharmacy'!AY890),\"\",'MIS - Pharmacy'!AY890)","v":""},{"$f":"IF(ISBLANK('MIS - Pharmacy'!BH890),\"\",'MIS - Pharmacy'!BH890)","v":""},"",""]
[{"$f":"IF(ISBLANK('MIS - Pharmacy'!A891), \"\",'MIS - Pharmacy'!A891)","v":""},{"$f":"IF(ISBLANK('MIS - Pharmacy'!B891),\"\",('MIS - Pharmacy'!B891&\"(\"&'MIS - Pharmacy'!D891&\")\"))","v":""},{"$f":"IF(ISBLANK('MIS - Pharmacy'!BI891), \"\", 'MIS - Pharmacy'!BI891)","v":""},{"$f":"IF(ISBLANK('MIS - Pharmacy'!U891), \"\", 'MIS - Pharmacy'!U891)","v":""},"","","","","","","",{"$f":"IF(ISBLANK('MIS - Pharmacy'!AC891),\"\",'MIS - Pharmacy'!AC891)","v":""},"",{"$f":"IF(ISBLANK('MIS - Pharmacy'!AD891),\"\",'MIS - Pharmacy'!AD891)","v":""},"","",{"$f":"IF('MIS - Pharmacy'!A891=\"\",\"\",SUM('MIS - Pharmacy'!K891+'MIS - Pharmacy'!L891))","v":""},"",{"$f":"IF('MIS - Pharmacy'!A891=\"\",\"\",('MIS - Pharmacy'!AF891+'MIS - Pharmacy'!AH891 +'MIS - Pharmacy'!AG891))","v":""},{"$f":"IF(ISBLANK('MIS - Pharmacy'!AI891),\"\",'MIS - Pharmacy'!AI891)","v":""},"","","",{"$f":"IF(ISBLANK('MIS - Pharmacy'!V891),\"\",'MIS - Pharmacy'!V891)","v":""},"","","",{"$f":"IF(ISBLANK('MIS - Pharmacy'!J891),\"\",'MIS - Pharmacy'!J891)","v":""},{"$f":"IF(ISBLANK('MIS - Pharmacy'!AY891),\"\",'MIS - Pharmacy'!AY891)","v":""},{"$f":"IF(ISBLANK('MIS - Pharmacy'!BH891),\"\",'MIS - Pharmacy'!BH891)","v":""},"",""]
[{"$f":"IF(ISBLANK('MIS - Pharmacy'!A892), \"\",'MIS - Pharmacy'!A892)","v":""},{"$f":"IF(ISBLANK('MIS - Pharmacy'!B892),\"\",('MIS - Pharmacy'!B892&\"(\"&'MIS - Pharmacy'!D892&\")\"))","v":""},{"$f":"IF(ISBLANK('MIS - Pharmacy'!BI892), \"\", 'MIS - Pharmacy'!BI892)","v":""},{"$f":"IF(ISBLANK('MIS - Pharmacy'!U892), \"\", 'MIS - Pharmacy'!U892)","v":""},"","","","","","","",{"$f":"IF(ISBLANK('MIS - Pharmacy'!AC892),\"\",'MIS - Pharmacy'!AC892)","v":""},"",{"$f":"IF(ISBLANK('MIS - Pharmacy'!AD892),\"\",'MIS - Pharmacy'!AD892)","v":""},"","",{"$f":"IF('MIS - Pharmacy'!A892=\"\",\"\",SUM('MIS - Pharmacy'!K892+'MIS - Pharmacy'!L892))","v":""},"",{"$f":"IF('MIS - Pharmacy'!A892=\"\",\"\",('MIS - Pharmacy'!AF892+'MIS - Pharmacy'!AH892 +'MIS - Pharmacy'!AG892))","v":""},{"$f":"IF(ISBLANK('MIS - Pharmacy'!AI892),\"\",'MIS - Pharmacy'!AI892)","v":""},"","","",{"$f":"IF(ISBLANK('MIS - Pharmacy'!V892),\"\",'MIS - Pharmacy'!V892)","v":""},"","","",{"$f":"IF(ISBLANK('MIS - Pharmacy'!J892),\"\",'MIS - Pharmacy'!J892)","v":""},{"$f":"IF(ISBLANK('MIS - Pharmacy'!AY892),\"\",'MIS - Pharmacy'!AY892)","v":""},{"$f":"IF(ISBLANK('MIS - Pharmacy'!BH892),\"\",'MIS - Pharmacy'!BH892)","v":""},"",""]
[{"$f":"IF(ISBLANK('MIS - Pharmacy'!A893), \"\",'MIS - Pharmacy'!A893)","v":""},{"$f":"IF(ISBLANK('MIS - Pharmacy'!B893),\"\",('MIS - Pharmacy'!B893&\"(\"&'MIS - Pharmacy'!D893&\")\"))","v":""},{"$f":"IF(ISBLANK('MIS - Pharmacy'!BI893), \"\", 'MIS - Pharmacy'!BI893)","v":""},{"$f":"IF(ISBLANK('MIS - Pharmacy'!U893), \"\", 'MIS - Pharmacy'!U893)","v":""},"","","","","","","",{"$f":"IF(ISBLANK('MIS - Pharmacy'!AC893),\"\",'MIS - Pharmacy'!AC893)","v":""},"",{"$f":"IF(ISBLANK('MIS - Pharmacy'!AD893),\"\",'MIS - Pharmacy'!AD893)","v":""},"","",{"$f":"IF('MIS - Pharmacy'!A893=\"\",\"\",SUM('MIS - Pharmacy'!K893+'MIS - Pharmacy'!L893))","v":""},"",{"$f":"IF('MIS - Pharmacy'!A893=\"\",\"\",('MIS - Pharmacy'!AF893+'MIS - Pharmacy'!AH893 +'MIS - Pharmacy'!AG893))","v":""},{"$f":"IF(ISBLANK('MIS - Pharmacy'!AI893),\"\",'MIS - Pharmacy'!AI893)","v":""},"","","",{"$f":"IF(ISBLANK('MIS - Pharmacy'!V893),\"\",'MIS - Pharmacy'!V893)","v":""},"","","",{"$f":"IF(ISBLANK('MIS - Pharmacy'!J893),\"\",'MIS - Pharmacy'!J893)","v":""},{"$f":"IF(ISBLANK('MIS - Pharmacy'!AY893),\"\",'MIS - Pharmacy'!AY893)","v":""},{"$f":"IF(ISBLANK('MIS - Pharmacy'!BH893),\"\",'MIS - Pharmacy'!BH893)","v":""},"",""]
[{"$f":"IF(ISBLANK('MIS - Pharmacy'!A894), \"\",'MIS - Pharmacy'!A894)","v":""},{"$f":"IF(ISBLANK('MIS - Pharmacy'!B894),\"\",('MIS - Pharmacy'!B894&\"(\"&'MIS - Pharmacy'!D894&\")\"))","v":""},{"$f":"IF(ISBLANK('MIS - Pharmacy'!BI894), \"\", 'MIS - Pharmacy'!BI894)","v":""},{"$f":"IF(ISBLANK('MIS - Pharmacy'!U894), \"\", 'MIS - Pharmacy'!U894)","v":""},"","","","","","","",{"$f":"IF(ISBLANK('MIS - Pharmacy'!AC894),\"\",'MIS - Pharmacy'!AC894)","v":""},"",{"$f":"IF(ISBLANK('MIS - Pharmacy'!AD894),\"\",'MIS - Pharmacy'!AD894)","v":""},"","",{"$f":"IF('MIS - Pharmacy'!A894=\"\",\"\",SUM('MIS - Pharmacy'!K894+'MIS - Pharmacy'!L894))","v":""},"",{"$f":"IF('MIS - Pharmacy'!A894=\"\",\"\",('MIS - Pharmacy'!AF894+'MIS - Pharmacy'!AH894 +'MIS - Pharmacy'!AG894))","v":""},{"$f":"IF(ISBLANK('MIS - Pharmacy'!AI894),\"\",'MIS - Pharmacy'!AI894)","v":""},"","","",{"$f":"IF(ISBLANK('MIS - Pharmacy'!V894),\"\",'MIS - Pharmacy'!V894)","v":""},"","","",{"$f":"IF(ISBLANK('MIS - Pharmacy'!J894),\"\",'MIS - Pharmacy'!J894)","v":""},{"$f":"IF(ISBLANK('MIS - Pharmacy'!AY894),\"\",'MIS - Pharmacy'!AY894)","v":""},{"$f":"IF(ISBLANK('MIS - Pharmacy'!BH894),\"\",'MIS - Pharmacy'!BH894)","v":""},"",""]
[{"$f":"IF(ISBLANK('MIS - Pharmacy'!A895), \"\",'MIS - Pharmacy'!A895)","v":""},{"$f":"IF(ISBLANK('MIS - Pharmacy'!B895),\"\",('MIS - Pharmacy'!B895&\"(\"&'MIS - Pharmacy'!D895&\")\"))","v":""},{"$f":"IF(ISBLANK('MIS - Pharmacy'!BI895), \"\", 'MIS - Pharmacy'!BI895)","v":""},{"$f":"IF(ISBLANK('MIS - Pharmacy'!U895), \"\", 'MIS - Pharmacy'!U895)","v":""},"","","","","","","",{"$f":"IF(ISBLANK('MIS - Pharmacy'!AC895),\"\",'MIS - Pharmacy'!AC895)","v":""},"",{"$f":"IF(ISBLANK('MIS - Pharmacy'!AD895),\"\",'MIS - Pharmacy'!AD895)","v":""},"","",{"$f":"IF('MIS - Pharmacy'!A895=\"\",\"\",SUM('MIS - Pharmacy'!K895+'MIS - Pharmacy'!L895))","v":""},"",{"$f":"IF('MIS - Pharmacy'!A895=\"\",\"\",('MIS - Pharmacy'!AF895+'MIS - Pharmacy'!AH895 +'MIS - Pharmacy'!AG895))","v":""},{"$f":"IF(ISBLANK('MIS - Pharmacy'!AI895),\"\",'MIS - Pharmacy'!AI895)","v":""},"","","",{"$f":"IF(ISBLANK('MIS - Pharmacy'!V895),\"\",'MIS - Pharmacy'!V895)","v":""},"","","",{"$f":"IF(ISBLANK('MIS - Pharmacy'!J895),\"\",'MIS - Pharmacy'!J895)","v":""},{"$f":"IF(ISBLANK('MIS - Pharmacy'!AY895),\"\",'MIS - Pharmacy'!AY895)","v":""},{"$f":"IF(ISBLANK('MIS - Pharmacy'!BH895),\"\",'MIS - Pharmacy'!BH895)","v":""},"",""]
[{"$f":"IF(ISBLANK('MIS - Pharmacy'!A896), \"\",'MIS - Pharmacy'!A896)","v":""},{"$f":"IF(ISBLANK('MIS - Pharmacy'!B896),\"\",('MIS - Pharmacy'!B896&\"(\"&'MIS - Pharmacy'!D896&\")\"))","v":""},{"$f":"IF(ISBLANK('MIS - Pharmacy'!BI896), \"\", 'MIS - Pharmacy'!BI896)","v":""},{"$f":"IF(ISBLANK('MIS - Pharmacy'!U896), \"\", 'MIS - Pharmacy'!U896)","v":""},"","","","","","","",{"$f":"IF(ISBLANK('MIS - Pharmacy'!AC896),\"\",'MIS - Pharmacy'!AC896)","v":""},"",{"$f":"IF(ISBLANK('MIS - Pharmacy'!AD896),\"\",'MIS - Pharmacy'!AD896)","v":""},"","",{"$f":"IF('MIS - Pharmacy'!A896=\"\",\"\",SUM('MIS - Pharmacy'!K896+'MIS - Pharmacy'!L896))","v":""},"",{"$f":"IF('MIS - Pharmacy'!A896=\"\",\"\",('MIS - Pharmacy'!AF896+'MIS - Pharmacy'!AH896 +'MIS - Pharmacy'!AG896))","v":""},{"$f":"IF(ISBLANK('MIS - Pharmacy'!AI896),\"\",'MIS - Pharmacy'!AI896)","v":""},"","","",{"$f":"IF(ISBLANK('MIS - Pharmacy'!V896),\"\",'MIS - Pharmacy'!V896)","v":""},"","","",{"$f":"IF(ISBLANK('MIS - Pharmacy'!J896),\"\",'MIS - Pharmacy'!J896)","v":""},{"$f":"IF(ISBLANK('MIS - Pharmacy'!AY896),\"\",'MIS - Pharmacy'!AY896)","v":""},{"$f":"IF(ISBLANK('MIS - Pharmacy'!BH896),\"\",'MIS - Pharmacy'!BH896)","v":""},"",""]
[{"$f":"IF(ISBLANK('MIS - Pharmacy'!A897), \"\",'MIS - Pharmacy'!A897)","v":""},{"$f":"IF(ISBLANK('MIS - Pharmacy'!B897),\"\",('MIS - Pharmacy'!B897&\"(\"&'MIS - Pharmacy'!D897&\")\"))","v":""},{"$f":"IF(ISBLANK('MIS - Pharmacy'!BI897), \"\", 'MIS - Pharmacy'!BI897)","v":""},{"$f":"IF(ISBLANK('MIS - Pharmacy'!U897), \"\", 'MIS - Pharmacy'!U897)","v":""},"","","","","","","",{"$f":"IF(ISBLANK('MIS - Pharmacy'!AC897),\"\",'MIS - Pharmacy'!AC897)","v":""},"",{"$f":"IF(ISBLANK('MIS - Pharmacy'!AD897),\"\",'MIS - Pharmacy'!AD897)","v":""},"","",{"$f":"IF('MIS - Pharmacy'!A897=\"\",\"\",SUM('MIS - Pharmacy'!K897+'MIS - Pharmacy'!L897))","v":""},"",{"$f":"IF('MIS - Pharmacy'!A897=\"\",\"\",('MIS - Pharmacy'!AF897+'MIS - Pharmacy'!AH897 +'MIS - Pharmacy'!AG897))","v":""},{"$f":"IF(ISBLANK('MIS - Pharmacy'!AI897),\"\",'MIS - Pharmacy'!AI897)","v":""},"","","",{"$f":"IF(ISBLANK('MIS - Pharmacy'!V897),\"\",'MIS - Pharmacy'!V897)","v":""},"","","",{"$f":"IF(ISBLANK('MIS - Pharmacy'!J897),\"\",'MIS - Pharmacy'!J897)","v":""},{"$f":"IF(ISBLANK('MIS - Pharmacy'!AY897),\"\",'MIS - Pharmacy'!AY897)","v":""},{"$f":"IF(ISBLANK('MIS - Pharmacy'!BH897),\"\",'MIS - Pharmacy'!BH897)","v":""},"",""]
[{"$f":"IF(ISBLANK('MIS - Pharmacy'!A898), \"\",'MIS - Pharmacy'!A898)","v":""},{"$f":"IF(ISBLANK('MIS - Pharmacy'!B898),\"\",('MIS - Pharmacy'!B898&\"(\"&'MIS - Pharmacy'!D898&\")\"))","v":""},{"$f":"IF(ISBLANK('MIS - Pharmacy'!BI898), \"\", 'MIS - Pharmacy'!BI898)","v":""},{"$f":"IF(ISBLANK('MIS - Pharmacy'!U898), \"\", 'MIS - Pharmacy'!U898)","v":""},"","","","","","","",{"$f":"IF(ISBLANK('MIS - Pharmacy'!AC898),\"\",'MIS - Pharmacy'!AC898)","v":""},"",{"$f":"IF(ISBLANK('MIS - Pharmacy'!AD898),\"\",'MIS - Pharmacy'!AD898)","v":""},"","",{"$f":"IF('MIS - Pharmacy'!A898=\"\",\"\",SUM('MIS - Pharmacy'!K898+'MIS - Pharmacy'!L898))","v":""},"",{"$f":"IF('MIS - Pharmacy'!A898=\"\",\"\",('MIS - Pharmacy'!AF898+'MIS - Pharmacy'!AH898 +'MIS - Pharmacy'!AG898))","v":""},{"$f":"IF(ISBLANK('MIS - Pharmacy'!AI898),\"\",'MIS - Pharmacy'!AI898)","v":""},"","","",{"$f":"IF(ISBLANK('MIS - Pharmacy'!V898),\"\",'MIS - Pharmacy'!V898)","v":""},"","","",{"$f":"IF(ISBLANK('MIS - Pharmacy'!J898),\"\",'MIS - Pharmacy'!J898)","v":""},{"$f":"IF(ISBLANK('MIS - Pharmacy'!AY898),\"\",'MIS - Pharmacy'!AY898)","v":""},{"$f":"IF(ISBLANK('MIS - Pharmacy'!BH898),\"\",'MIS - Pharmacy'!BH898)","v":""},"",""]
[{"$f":"IF(ISBLANK('MIS - Pharmacy'!A899), \"\",'MIS - Pharmacy'!A899)","v":""},{"$f":"IF(ISBLANK('MIS - Pharmacy'!B899),\"\",('MIS - Pharmacy'!B899&\"(\"&'MIS - Pharmacy'!D899&\")\"))","v":""},{"$f":"IF(ISBLANK('MIS - Pharmacy'!BI899), \"\", 'MIS - Pharmacy'!BI899)","v":""},{"$f":"IF(ISBLANK('MIS - Pharmacy'!U899), \"\", 'MIS - Pharmacy'!U899)","v":""},"","","","","","","",{"$f":"IF(ISBLANK('MIS - Pharmacy'!AC899),\"\",'MIS - Pharmacy'!AC899)","v":""},"",{"$f":"IF(ISBLANK('MIS - Pharmacy'!AD899),\"\",'MIS - Pharmacy'!AD899)","v":""},"","",{"$f":"IF('MIS - Pharmacy'!A899=\"\",\"\",SUM('MIS - Pharmacy'!K899+'MIS - Pharmacy'!L899))","v":""},"",{"$f":"IF('MIS - Pharmacy'!A899=\"\",\"\",('MIS - Pharmacy'!AF899+'MIS - Pharmacy'!AH899 +'MIS - Pharmacy'!AG899))","v":""},{"$f":"IF(ISBLANK('MIS - Pharmacy'!AI899),\"\",'MIS - Pharmacy'!AI899)","v":""},"","","",{"$f":"IF(ISBLANK('MIS - Pharmacy'!V899),\"\",'MIS - Pharmacy'!V899)","v":""},"","","",{"$f":"IF(ISBLANK('MIS - Pharmacy'!J899),\"\",'MIS - Pharmacy'!J899)","v":""},{"$f":"IF(ISBLANK('MIS - Pharmacy'!AY899),\"\",'MIS - Pharmacy'!AY899)","v":""},{"$f":"IF(ISBLANK('MIS - Pharmacy'!BH899),\"\",'MIS - Pharmacy'!BH899)","v":""},"",""]
[{"$f":"IF(ISBLANK('MIS - Pharmacy'!A900), \"\",'MIS - Pharmacy'!A900)","v":""},{"$f":"IF(ISBLANK('MIS - Pharmacy'!B900),\"\",('MIS - Pharmacy'!B900&\"(\"&'MIS - Pharmacy'!D900&\")\"))","v":""},{"$f":"IF(ISBLANK('MIS - Pharmacy'!BI900), \"\", 'MIS - Pharmacy'!BI900)","v":""},{"$f":"IF(ISBLANK('MIS - Pharmacy'!U900), \"\", 'MIS - Pharmacy'!U900)","v":""},"","","","","","","",{"$f":"IF(ISBLANK('MIS - Pharmacy'!AC900),\"\",'MIS - Pharmacy'!AC900)","v":""},"",{"$f":"IF(ISBLANK('MIS - Pharmacy'!AD900),\"\",'MIS - Pharmacy'!AD900)","v":""},"","",{"$f":"IF('MIS - Pharmacy'!A900=\"\",\"\",SUM('MIS - Pharmacy'!K900+'MIS - Pharmacy'!L900))","v":""},"",{"$f":"IF('MIS - Pharmacy'!A900=\"\",\"\",('MIS - Pharmacy'!AF900+'MIS - Pharmacy'!AH900 +'MIS - Pharmacy'!AG900))","v":""},{"$f":"IF(ISBLANK('MIS - Pharmacy'!AI900),\"\",'MIS - Pharmacy'!AI900)","v":""},"","","",{"$f":"IF(ISBLANK('MIS - Pharmacy'!V900),\"\",'MIS - Pharmacy'!V900)","v":""},"","","",{"$f":"IF(ISBLANK('MIS - Pharmacy'!J900),\"\",'MIS - Pharmacy'!J900)","v":""},{"$f":"IF(ISBLANK('MIS - Pharmacy'!AY900),\"\",'MIS - Pharmacy'!AY900)","v":""},{"$f":"IF(ISBLANK('MIS - Pharmacy'!BH900),\"\",'MIS - Pharmacy'!BH900)","v":""},"",""]
[{"$f":"IF(ISBLANK('MIS - Pharmacy'!A901), \"\",'MIS - Pharmacy'!A901)","v":""},{"$f":"IF(ISBLANK('MIS - Pharmacy'!B901),\"\",('MIS - Pharmacy'!B901&\"(\"&'MIS - Pharmacy'!D901&\")\"))","v":""},{"$f":"IF(ISBLANK('MIS - Pharmacy'!BI901), \"\", 'MIS - Pharmacy'!BI901)","v":""},{"$f":"IF(ISBLANK('MIS - Pharmacy'!U901), \"\", 'MIS - Pharmacy'!U901)","v":""},"","","",{"$f":"IF(D910=\"\",\"\",IF(X910=0,0,D910/Y910))","v":""},"","","",{"$f":"IF(ISBLANK('MIS - Pharmacy'!AC901),\"\",'MIS - Pharmacy'!AC901)","v":""},"",{"$f":"IF(ISBLANK('MIS - Pharmacy'!AD901),\"\",'MIS - Pharmacy'!AD901)","v":""},"","",{"$f":"IF('MIS - Pharmacy'!A901=\"\",\"\",SUM('MIS - Pharmacy'!K901+'MIS - Pharmacy'!L901))","v":""},"",{"$f":"IF('MIS - Pharmacy'!A901=\"\",\"\",('MIS - Pharmacy'!AF901+'MIS - Pharmacy'!AH901 +'MIS - Pharmacy'!AG901))","v":""},{"$f":"IF(ISBLANK('MIS - Pharmacy'!AI901),\"\",'MIS - Pharmacy'!AI901)","v":""},"","","",{"$f":"IF(ISBLANK('MIS - Pharmacy'!V901),\"\",'MIS - Pharmacy'!V901)","v":""},"","","",{"$f":"IF(ISBLANK('MIS - Pharmacy'!J901),\"\",'MIS - Pharmacy'!J901)","v":""},{"$f":"IF(ISBLANK('MIS - Pharmacy'!AY901),\"\",'MIS - Pharmacy'!AY901)","v":""},{"$f":"IF(ISBLANK('MIS - Pharmacy'!BH901),\"\",'MIS - Pharmacy'!BH901)","v":""},"",""]
[{"$f":"IF(ISBLANK('MIS - Pharmacy'!A902), \"\",'MIS - Pharmacy'!A902)","v":""},{"$f":"IF(ISBLANK('MIS - Pharmacy'!B902),\"\",('MIS - Pharmacy'!B902&\"(\"&'MIS - Pharmacy'!D902&\")\"))","v":""},{"$f":"IF(ISBLANK('MIS - Pharmacy'!BI902), \"\", 'MIS - Pharmacy'!BI902)","v":""},{"$f":"IF(ISBLANK('MIS - Pharmacy'!U902), \"\", 'MIS - Pharmacy'!U902)","v":""},"","","","","","","",{"$f":"IF(ISBLANK('MIS - Pharmacy'!AC902),\"\",'MIS - Pharmacy'!AC902)","v":""},"",{"$f":"IF(ISBLANK('MIS - Pharmacy'!AD902),\"\",'MIS - Pharmacy'!AD902)","v":""},"","",{"$f":"IF('MIS - Pharmacy'!A902=\"\",\"\",SUM('MIS - Pharmacy'!K902+'MIS - Pharmacy'!L902))","v":""},"",{"$f":"IF('MIS - Pharmacy'!A902=\"\",\"\",('MIS - Pharmacy'!AF902+'MIS - Pharmacy'!AH902 +'MIS - Pharmacy'!AG902))","v":""},{"$f":"IF(ISBLANK('MIS - Pharmacy'!AI902),\"\",'MIS - Pharmacy'!AI902)","v":""},"","","",{"$f":"IF(ISBLANK('MIS - Pharmacy'!V902),\"\",'MIS - Pharmacy'!V902)","v":""},"","","",{"$f":"IF(ISBLANK('MIS - Pharmacy'!J902),\"\",'MIS - Pharmacy'!J902)","v":""},{"$f":"IF(ISBLANK('MIS - Pharmacy'!AY902),\"\",'MIS - Pharmacy'!AY902)","v":""},{"$f":"IF(ISBLANK('MIS - Pharmacy'!BH902),\"\",'MIS - Pharmacy'!BH902)","v":""},"",""]
[{"$f":"IF(ISBLANK('MIS - Pharmacy'!A903), \"\",'MIS - Pharmacy'!A903)","v":""},{"$f":"IF(ISBLANK('MIS - Pharmacy'!B903),\"\",('MIS - Pharmacy'!B903&\"(\"&'MIS - Pharmacy'!D903&\")\"))","v":""},{"$f":"IF(ISBLANK('MIS - Pharmacy'!BI903), \"\", 'MIS - Pharmacy'!BI903)","v":""},{"$f":"IF(ISBLANK('MIS - Pharmacy'!U903), \"\", 'MIS - Pharmacy'!U903)","v":""},"","","","","","","",{"$f":"IF(ISBLANK('MIS - Pharmacy'!AC903),\"\",'MIS - Pharmacy'!AC903)","v":""},"",{"$f":"IF(ISBLANK('MIS - Pharmacy'!AD903),\"\",'MIS - Pharmacy'!AD903)","v":""},"","",{"$f":"IF('MIS - Pharmacy'!A903=\"\",\"\",SUM('MIS - Pharmacy'!K903+'MIS - Pharmacy'!L903))","v":""},"",{"$f":"IF('MIS - Pharmacy'!A903=\"\",\"\",('MIS - Pharmacy'!AF903+'MIS - Pharmacy'!AH903 +'MIS - Pharmacy'!AG903))","v":""},{"$f":"IF(ISBLANK('MIS - Pharmacy'!AI903),\"\",'MIS - Pharmacy'!AI903)","v":""},"","","",{"$f":"IF(ISBLANK('MIS - Pharmacy'!V903),\"\",'MIS - Pharmacy'!V903)","v":""},"","","",{"$f":"IF(ISBLANK('MIS - Pharmacy'!J903),\"\",'MIS - Pharmacy'!J903)","v":""},{"$f":"IF(ISBLANK('MIS - Pharmacy'!AY903),\"\",'MIS - Pharmacy'!AY903)","v":""},{"$f":"IF(ISBLANK('MIS - Pharmacy'!BH903),\"\",'MIS - Pharmacy'!BH903)","v":""},"",""]
[{"$f":"IF(ISBLANK('MIS - Pharmacy'!A904), \"\",'MIS - Pharmacy'!A904)","v":""},{"$f":"IF(ISBLANK('MIS - Pharmacy'!B904),\"\",('MIS - Pharmacy'!B904&\"(\"&'MIS - Pharmacy'!D904&\")\"))","v":""},{"$f":"IF(ISBLANK('MIS - Pharmacy'!BI904), \"\", 'MIS - Pharmacy'!BI904)","v":""},{"$f":"IF(ISBLANK('MIS - Pharmacy'!U904), \"\", 'MIS - Pharmacy'!U904)","v":""},"","","","","","","",{"$f":"IF(ISBLANK('MIS - Pharmacy'!AC904),\"\",'MIS - Pharmacy'!AC904)","v":""},"",{"$f":"IF(ISBLANK('MIS - Pharmacy'!AD904),\"\",'MIS - Pharmacy'!AD904)","v":""},"","",{"$f":"IF('MIS - Pharmacy'!A904=\"\",\"\",SUM('MIS - Pharmacy'!K904+'MIS - Pharmacy'!L904))","v":""},"",{"$f":"IF('MIS - Pharmacy'!A904=\"\",\"\",('MIS - Pharmacy'!AF904+'MIS - Pharmacy'!AH904 +'MIS - Pharmacy'!AG904))","v":""},{"$f":"IF(ISBLANK('MIS - Pharmacy'!AI904),\"\",'MIS - Pharmacy'!AI904)","v":""},"","","",{"$f":"IF(ISBLANK('MIS - Pharmacy'!V904),\"\",'MIS - Pharmacy'!V904)","v":""},"","","",{"$f":"IF(ISBLANK('MIS - Pharmacy'!J904),\"\",'MIS - Pharmacy'!J904)","v":""},{"$f":"IF(ISBLANK('MIS - Pharmacy'!AY904),\"\",'MIS - Pharmacy'!AY904)","v":""},{"$f":"IF(ISBLANK('MIS - Pharmacy'!BH904),\"\",'MIS - Pharmacy'!BH904)","v":""},"",""]
[{"$f":"IF(ISBLANK('MIS - Pharmacy'!A905), \"\",'MIS - Pharmacy'!A905)","v":""},{"$f":"IF(ISBLANK('MIS - Pharmacy'!B905),\"\",('MIS - Pharmacy'!B905&\"(\"&'MIS - Pharmacy'!D905&\")\"))","v":""},{"$f":"IF(ISBLANK('MIS - Pharmacy'!BI905), \"\", 'MIS - Pharmacy'!BI905)","v":""},{"$f":"IF(ISBLANK('MIS - Pharmacy'!U905), \"\", 'MIS - Pharmacy'!U905)","v":""},"","","","","","","",{"$f":"IF(ISBLANK('MIS - Pharmacy'!AC905),\"\",'MIS - Pharmacy'!AC905)","v":""},"",{"$f":"IF(ISBLANK('MIS - Pharmacy'!AD905),\"\",'MIS - Pharmacy'!AD905)","v":""},"","",{"$f":"IF('MIS - Pharmacy'!A905=\"\",\"\",SUM('MIS - Pharmacy'!K905+'MIS - Pharmacy'!L905))","v":""},"",{"$f":"IF('MIS - Pharmacy'!A905=\"\",\"\",('MIS - Pharmacy'!AF905+'MIS - Pharmacy'!AH905 +'MIS - Pharmacy'!AG905))","v":""},{"$f":"IF(ISBLANK('MIS - Pharmacy'!AI905),\"\",'MIS - Pharmacy'!AI905)","v":""},"","","",{"$f":"IF(ISBLANK('MIS - Pharmacy'!V905),\"\",'MIS - Pharmacy'!V905)","v":""},"","","",{"$f":"IF(ISBLANK('MIS - Pharmacy'!J905),\"\",'MIS - Pharmacy'!J905)","v":""},{"$f":"IF(ISBLANK('MIS - Pharmacy'!AY905),\"\",'MIS - Pharmacy'!AY905)","v":""},{"$f":"IF(ISBLANK('MIS - Pharmacy'!BH905),\"\",'MIS - Pharmacy'!BH905)","v":""},"",""]
[{"$f":"IF(ISBLANK('MIS - Pharmacy'!A906), \"\",'MIS - Pharmacy'!A906)","v":""},{"$f":"IF(ISBLANK('MIS - Pharmacy'!B906),\"\",('MIS - Pharmacy'!B906&\"(\"&'MIS - Pharmacy'!D906&\")\"))","v":""},{"$f":"IF(ISBLANK('MIS - Pharmacy'!BI906), \"\", 'MIS - Pharmacy'!BI906)","v":""},{"$f":"IF(ISBLANK('MIS - Pharmacy'!U906), \"\", 'MIS - Pharmacy'!U906)","v":""},"","","","","","","",{"$f":"IF(ISBLANK('MIS - Pharmacy'!AC906),\"\",'MIS - Pharmacy'!AC906)","v":""},"",{"$f":"IF(ISBLANK('MIS - Pharmacy'!AD906),\"\",'MIS - Pharmacy'!AD906)","v":""},"","",{"$f":"IF('MIS - Pharmacy'!A906=\"\",\"\",SUM('MIS - Pharmacy'!K906+'MIS - Pharmacy'!L906))","v":""},"",{"$f":"IF('MIS - Pharmacy'!A906=\"\",\"\",('MIS - Pharmacy'!AF906+'MIS - Pharmacy'!AH906 +'MIS - Pharmacy'!AG906))","v":""},{"$f":"IF(ISBLANK('MIS - Pharmacy'!AI906),\"\",'MIS - Pharmacy'!AI906)","v":""},"","","",{"$f":"IF(ISBLANK('MIS - Pharmacy'!V906),\"\",'MIS - Pharmacy'!V906)","v":""},"","","",{"$f":"IF(ISBLANK('MIS - Pharmacy'!J906),\"\",'MIS - Pharmacy'!J906)","v":""},{"$f":"IF(ISBLANK('MIS - Pharmacy'!AY906),\"\",'MIS - Pharmacy'!AY906)","v":""},{"$f":"IF(ISBLANK('MIS - Pharmacy'!BH906),\"\",'MIS - Pharmacy'!BH906)","v":""},"",""]
[{"$f":"IF(ISBLANK('MIS - Pharmacy'!A907), \"\",'MIS - Pharmacy'!A907)","v":""},{"$f":"IF(ISBLANK('MIS - Pharmacy'!B907),\"\",('MIS - Pharmacy'!B907&\"(\"&'MIS - Pharmacy'!D907&\")\"))","v":""},{"$f":"IF(ISBLANK('MIS - Pharmacy'!BI907), \"\", 'MIS - Pharmacy'!BI907)","v":""},{"$f":"IF(ISBLANK('MIS - Pharmacy'!U907), \"\", 'MIS - Pharmacy'!U907)","v":""},"","","","","","","",{"$f":"IF(ISBLANK('MIS - Pharmacy'!AC907),\"\",'MIS - Pharmacy'!AC907)","v":""},"",{"$f":"IF(ISBLANK('MIS - Pharmacy'!AD907),\"\",'MIS - Pharmacy'!AD907)","v":""},"","",{"$f":"IF('MIS - Pharmacy'!A907=\"\",\"\",SUM('MIS - Pharmacy'!K907+'MIS - Pharmacy'!L907))","v":""},"",{"$f":"IF('MIS - Pharmacy'!A907=\"\",\"\",('MIS - Pharmacy'!AF907+'MIS - Pharmacy'!AH907 +'MIS - Pharmacy'!AG907))","v":""},{"$f":"IF(ISBLANK('MIS - Pharmacy'!AI907),\"\",'MIS - Pharmacy'!AI907)","v":""},"","","",{"$f":"IF(ISBLANK('MIS - Pharmacy'!V907),\"\",'MIS - Pharmacy'!V907)","v":""},"","","",{"$f":"IF(ISBLANK('MIS - Pharmacy'!J907),\"\",'MIS - Pharmacy'!J907)","v":""},{"$f":"IF(ISBLANK('MIS - Pharmacy'!AY907),\"\",'MIS - Pharmacy'!AY907)","v":""},{"$f":"IF(ISBLANK('MIS - Pharmacy'!BH907),\"\",'MIS - Pharmacy'!BH907)","v":""},"",""]
[{"$f":"IF(ISBLANK('MIS - Pharmacy'!A908), \"\",'MIS - Pharmacy'!A908)","v":""},{"$f":"IF(ISBLANK('MIS - Pharmacy'!B908),\"\",('MIS - Pharmacy'!B908&\"(\"&'MIS - Pharmacy'!D908&\")\"))","v":""},{"$f":"IF(ISBLANK('MIS - Pharmacy'!BI908), \"\", 'MIS - Pharmacy'!BI908)","v":""},{"$f":"IF(ISBLANK('MIS - Pharmacy'!U908), \"\", 'MIS - Pharmacy'!U908)","v":""},"","","","","","","",{"$f":"IF(ISBLANK('MIS - Pharmacy'!AC908),\"\",'MIS - Pharmacy'!AC908)","v":""},"",{"$f":"IF(ISBLANK('MIS - Pharmacy'!AD908),\"\",'MIS - Pharmacy'!AD908)","v":""},"","",{"$f":"IF('MIS - Pharmacy'!A908=\"\",\"\",SUM('MIS - Pharmacy'!K908+'MIS - Pharmacy'!L908))","v":""},"",{"$f":"IF('MIS - Pharmacy'!A908=\"\",\"\",('MIS - Pharmacy'!AF908+'MIS - Pharmacy'!AH908 +'MIS - Pharmacy'!AG908))","v":""},{"$f":"IF(ISBLANK('MIS - Pharmacy'!AI908),\"\",'MIS - Pharmacy'!AI908)","v":""},"","","",{"$f":"IF(ISBLANK('MIS - Pharmacy'!V908),\"\",'MIS - Pharmacy'!V908)","v":""},"","","",{"$f":"IF(ISBLANK('MIS - Pharmacy'!J908),\"\",'MIS - Pharmacy'!J908)","v":""},{"$f":"IF(ISBLANK('MIS - Pharmacy'!AY908),\"\",'MIS - Pharmacy'!AY908)","v":""},{"$f":"IF(ISBLANK('MIS - Pharmacy'!BH908),\"\",'MIS - Pharmacy'!BH908)","v":""},"",""]
[{"$f":"IF(ISBLANK('MIS - Pharmacy'!A909), \"\",'MIS - Pharmacy'!A909)","v":""},{"$f":"IF(ISBLANK('MIS - Pharmacy'!B909),\"\",('MIS - Pharmacy'!B909&\"(\"&'MIS - Pharmacy'!D909&\")\"))","v":""},{"$f":"IF(ISBLANK('MIS - Pharmacy'!BI909), \"\", 'MIS - Pharmacy'!BI909)","v":""},{"$f":"IF(ISBLANK('MIS - Pharmacy'!U909), \"\", 'MIS - Pharmacy'!U909)","v":""},"","","","","","","",{"$f":"IF(ISBLANK('MIS - Pharmacy'!AC909),\"\",'MIS - Pharmacy'!AC909)","v":""},"",{"$f":"IF(ISBLANK('MIS - Pharmacy'!AD909),\"\",'MIS - Pharmacy'!AD909)","v":""},"","",{"$f":"IF('MIS - Pharmacy'!A909=\"\",\"\",SUM('MIS - Pharmacy'!K909+'MIS - Pharmacy'!L909))","v":""},"",{"$f":"IF('MIS - Pharmacy'!A909=\"\",\"\",('MIS - Pharmacy'!AF909+'MIS - Pharmacy'!AH909 +'MIS - Pharmacy'!AG909))","v":""},{"$f":"IF(ISBLANK('MIS - Pharmacy'!AI909),\"\",'MIS - Pharmacy'!AI909)","v":""},"","","",{"$f":"IF(ISBLANK('MIS - Pharmacy'!V909),\"\",'MIS - Pharmacy'!V909)","v":""},"","","",{"$f":"IF(ISBLANK('MIS - Pharmacy'!J909),\"\",'MIS - Pharmacy'!J909)","v":""},{"$f":"IF(ISBLANK('MIS - Pharmacy'!AY909),\"\",'MIS - Pharmacy'!AY909)","v":""},{"$f":"IF(ISBLANK('MIS - Pharmacy'!BH909),\"\",'MIS - Pharmacy'!BH909)","v":""},"",""]
[{"$f":"IF(ISBLANK('MIS - Pharmacy'!A910), \"\",'MIS - Pharmacy'!A910)","v":""},{"$f":"IF(ISBLANK('MIS - Pharmacy'!B910),\"\",('MIS - Pharmacy'!B910&\"(\"&'MIS - Pharmacy'!D910&\")\"))","v":""},{"$f":"IF(ISBLANK('MIS - Pharmacy'!BI910), \"\", 'MIS - Pharmacy'!BI910)","v":""},{"$f":"IF(ISBLANK('MIS - Pharmacy'!U910), \"\", 'MIS - Pharmacy'!U910)","v":""},"","","","","","","",{"$f":"IF(ISBLANK('MIS - Pharmacy'!AC910),\"\",'MIS - Pharmacy'!AC910)","v":""},"",{"$f":"IF(ISBLANK('MIS - Pharmacy'!AD910),\"\",'MIS - Pharmacy'!AD910)","v":""},"","",{"$f":"IF('MIS - Pharmacy'!A910=\"\",\"\",SUM('MIS - Pharmacy'!K910+'MIS - Pharmacy'!L910))","v":""},"",{"$f":"IF('MIS - Pharmacy'!A910=\"\",\"\",('MIS - Pharmacy'!AF910+'MIS - Pharmacy'!AH910 +'MIS - Pharmacy'!AG910))","v":""},{"$f":"IF(ISBLANK('MIS - Pharmacy'!AI910),\"\",'MIS - Pharmacy'!AI910)","v":""},"","","",{"$f":"IF(ISBLANK('MIS - Pharmacy'!V910),\"\",'MIS - Pharmacy'!V910)","v":""},"","","",{"$f":"IF(ISBLANK('MIS - Pharmacy'!J910),\"\",'MIS - Pharmacy'!J910)","v":""},{"$f":"IF(ISBLANK('MIS - Pharmacy'!AY910),\"\",'MIS - Pharmacy'!AY910)","v":""},{"$f":"IF(ISBLANK('MIS - Pharmacy'!BH910),\"\",'MIS - Pharmacy'!BH910)","v":""},"",""]
[{"$f":"IF(ISBLANK('MIS - Pharmacy'!A911), \"\",'MIS - Pharmacy'!A911)","v":""},{"$f":"IF(ISBLANK('MIS - Pharmacy'!B911),\"\",('MIS - Pharmacy'!B911&\"(\"&'MIS - Pharmacy'!D911&\")\"))","v":""},{"$f":"IF(ISBLANK('MIS - Pharmacy'!BI911), \"\", 'MIS - Pharmacy'!BI911)","v":""},{"$f":"IF(ISBLANK('MIS - Pharmacy'!U911), \"\", 'MIS - Pharmacy'!U911)","v":""},{"$f":"IF(D920=\"\",\"\",IF(D920<=D$9,\"Lower Outlier\",IF(D920<=D$5,\"Below Average\",IF(D920<=D$6,\"Lower Quartile Range\",IF(D920<=D$7,\"Upper Quartile Range\",IF(D920<=D$10,\"Above Average\",\"Upper Outlier\"))))))","v":""},{"$f":"IF(D920=\"\",\"\",D920*12)","v":""},{"$f":"IF(Q920=\"\",\"\",IF(Q920 = 0, 0, D920/Q920*1000))","v":""},"",{"$f":"IF(A920=\"\",\"\",IF(D920=0,0,(D920*0.3)/Y920))","v":""},{"$f":"IF(D920=0,0,IF(D920=\"\",\"\",D920/Q920))","v":""},{"$f":"IF(D920=0,0,IF(D920=\"\",\"\",D920/X920))","v":""},{"$f":"IF(ISBLANK('MIS - Pharmacy'!AC911),\"\",'MIS - Pharmacy'!AC911)","v":""},{"$f":"IF(L920=\"\",\"\",IF(L920<=L$9,\"Lower Outlier\",IF(L920<=L$5,\"Below Average\",IF(L920<=L$6,\"Lower Quartile Range\",IF(L920<=L$7,\"Upper Quartile Range\",IF(L920<=L$10,\"Above Average\",\"Upper Outlier\"))))))","v":""},{"$f":"IF(ISBLANK('MIS - Pharmacy'!AD911),\"\",'MIS - Pharmacy'!AD911)","v":""},{"$f":"IF(N920=\"\",\"\",IF(N920=0,0,L920/N920*1000))","v":""},{"$f":"IF(L920=\"\",\"\",IF(X920=0,0,L920/X920))","v":""},{"$f":"IF('MIS - Pharmacy'!A911=\"\",\"\",SUM('MIS - Pharmacy'!K911+'MIS - Pharmacy'!L911))","v":""},{"$f":"IF(Q920=\"\",\"\",IF(Q920<=Q$9,\"Lower Outlier\",IF(Q920<=Q$5,\"Below Average\",IF(Q920<=Q$6,\"Lower Quartile Range\",IF(Q920<=Q$7,\"Upper Quartile Range\",IF(Q920<=Q$10,\"Above Average\",\"Upper Outlier\"))))))","v":""},{"$f":"IF('MIS - Pharmacy'!A911=\"\",\"\",('MIS - Pharmacy'!AF911+'MIS - Pharmacy'!AH911 +'MIS - Pharmacy'!AG911))","v":""},{"$f":"IF(ISBLANK('MIS - Pharmacy'!AI911),\"\",'MIS - Pharmacy'!AI911)","v":""},{"$f":"IF(T920=\"\",\"\",IF(T920<=T$9,\"Lower Outlier\",IF(T920<=T$5,\"Below Average\",IF(T920<=T$6,\"Lower Quartile Range\",IF(T920<=T$7,\"Upper Quartile Range\",IF(T920<=T$10,\"Above Average\",\"Upper Outlier\"))))))","v":""},{"$f":"IF(A920=\"\",\"\",IF(T920=0,0,T920/Q920*1000))","v":""},{"$f":"IF(V920=\"\",\"\",IF(S920 >0,(T920/S920*1000),0))","v":""},{"$f":"IF(ISBLANK('MIS - Pharmacy'!V911),\"\",'MIS - Pharmacy'!V911)","v":""},{"$f":"IF(X920=\"\",\"\",(X920/7)*$Y$3)","v":""},{"$f":"IF(X920=\"\",\"\",IF(X920<=X$9,\"Lower Outlier\",IF(X920<=X$5,\"Below Average\",IF(X920<=X$6,\"Lower Quartile Range\",IF(X920<=X$7,\"Upper Quartile Range\",IF(X920<=X$10,\"Above Average\",\"Upper Outlier\"))))))","v":""},{"$f":"IF(A920=\"\",\"\",IF(X920=0,0,Y920/Q920*1000))","v":""},{"$f":"IF(ISBLANK('MIS - Pharmacy'!J911),\"\",'MIS - Pharmacy'!J911)","v":""},{"$f":"IF(ISBLANK('MIS - Pharmacy'!AY911),\"\",'MIS - Pharmacy'!AY911)","v":""},{"$f":"IF(ISBLANK('MIS - Pharmacy'!BH911),\"\",'MIS - Pharmacy'!BH911)","v":""},{"$f":"IF(A920=\"\",\"\",D920+L920)","v":""},{"$f":"IF(A920=\"\",\"\",IF(Y920=0,0,(AE920/Y920)*100))","v":""}]
[{"$f":"IF(ISBLANK('MIS - Pharmacy'!A912), \"\",'MIS - Pharmacy'!A912)","v":""},{"$f":"IF(ISBLANK('MIS - Pharmacy'!B912),\"\",('MIS - Pharmacy'!B912&\"(\"&'MIS - Pharmacy'!D912&\")\"))","v":""},{"$f":"IF(ISBLANK('MIS - Pharmacy'!BI912), \"\", 'MIS - Pharmacy'!BI912)","v":""},{"$f":"IF(ISBLANK('MIS - Pharmacy'!U912), \"\", 'MIS - Pharmacy'!U912)","v":""},"","","","","","","",{"$f":"IF(ISBLANK('MIS - Pharmacy'!AC912),\"\",'MIS - Pharmacy'!AC912)","v":""},"",{"$f":"IF(ISBLANK('MIS - Pharmacy'!AD912),\"\",'MIS - Pharmacy'!AD912)","v":""},"","",{"$f":"IF('MIS - Pharmacy'!A912=\"\",\"\",SUM('MIS - Pharmacy'!K912+'MIS - Pharmacy'!L912))","v":""},"",{"$f":"IF('MIS - Pharmacy'!A912=\"\",\"\",('MIS - Pharmacy'!AF912+'MIS - Pharmacy'!AH912 +'MIS - Pharmacy'!AG912))","v":""},{"$f":"IF(ISBLANK('MIS - Pharmacy'!AI912),\"\",'MIS - Pharmacy'!AI912)","v":""},"","","",{"$f":"IF(ISBLANK('MIS - Pharmacy'!V912),\"\",'MIS - Pharmacy'!V912)","v":""},"","","",{"$f":"IF(ISBLANK('MIS - Pharmacy'!J912),\"\",'MIS - Pharmacy'!J912)","v":""},{"$f":"IF(ISBLANK('MIS - Pharmacy'!AY912),\"\",'MIS - Pharmacy'!AY912)","v":""},{"$f":"IF(ISBLANK('MIS - Pharmacy'!BH912),\"\",'MIS - Pharmacy'!BH912)","v":""},"",""]
[{"$f":"IF(ISBLANK('MIS - Pharmacy'!A913), \"\",'MIS - Pharmacy'!A913)","v":""},{"$f":"IF(ISBLANK('MIS - Pharmacy'!B913),\"\",('MIS - Pharmacy'!B913&\"(\"&'MIS - Pharmacy'!D913&\")\"))","v":""},{"$f":"IF(ISBLANK('MIS - Pharmacy'!BI913), \"\", 'MIS - Pharmacy'!BI913)","v":""},{"$f":"IF(ISBLANK('MIS - Pharmacy'!U913), \"\", 'MIS - Pharmacy'!U913)","v":""},"","","","","","","",{"$f":"IF(ISBLANK('MIS - Pharmacy'!AC913),\"\",'MIS - Pharmacy'!AC913)","v":""},"",{"$f":"IF(ISBLANK('MIS - Pharmacy'!AD913),\"\",'MIS - Pharmacy'!AD913)","v":""},"","",{"$f":"IF('MIS - Pharmacy'!A913=\"\",\"\",SUM('MIS - Pharmacy'!K913+'MIS - Pharmacy'!L913))","v":""},"",{"$f":"IF('MIS - Pharmacy'!A913=\"\",\"\",('MIS - Pharmacy'!AF913+'MIS - Pharmacy'!AH913 +'MIS - Pharmacy'!AG913))","v":""},{"$f":"IF(ISBLANK('MIS - Pharmacy'!AI913),\"\",'MIS - Pharmacy'!AI913)","v":""},"","","",{"$f":"IF(ISBLANK('MIS - Pharmacy'!V913),\"\",'MIS - Pharmacy'!V913)","v":""},"","","",{"$f":"IF(ISBLANK('MIS - Pharmacy'!J913),\"\",'MIS - Pharmacy'!J913)","v":""},{"$f":"IF(ISBLANK('MIS - Pharmacy'!AY913),\"\",'MIS - Pharmacy'!AY913)","v":""},{"$f":"IF(ISBLANK('MIS - Pharmacy'!BH913),\"\",'MIS - Pharmacy'!BH913)","v":""},"",""]
[{"$f":"IF(ISBLANK('MIS - Pharmacy'!A914), \"\",'MIS - Pharmacy'!A914)","v":""},{"$f":"IF(ISBLANK('MIS - Pharmacy'!B914),\"\",('MIS - Pharmacy'!B914&\"(\"&'MIS - Pharmacy'!D914&\")\"))","v":""},{"$f":"IF(ISBLANK('MIS - Pharmacy'!BI914), \"\", 'MIS - Pharmacy'!BI914)","v":""},{"$f":"IF(ISBLANK('MIS - Pharmacy'!U914), \"\", 'MIS - Pharmacy'!U914)","v":""},"","","","","","","",{"$f":"IF(ISBLANK('MIS - Pharmacy'!AC914),\"\",'MIS - Pharmacy'!AC914)","v":""},"",{"$f":"IF(ISBLANK('MIS - Pharmacy'!AD914),\"\",'MIS - Pharmacy'!AD914)","v":""},"","",{"$f":"IF('MIS - Pharmacy'!A914=\"\",\"\",SUM('MIS - Pharmacy'!K914+'MIS - Pharmacy'!L914))","v":""},"",{"$f":"IF('MIS - Pharmacy'!A914=\"\",\"\",('MIS - Pharmacy'!AF914+'MIS - Pharmacy'!AH914 +'MIS - Pharmacy'!AG914))","v":""},{"$f":"IF(ISBLANK('MIS - Pharmacy'!AI914),\"\",'MIS - Pharmacy'!AI914)","v":""},"","","",{"$f":"IF(ISBLANK('MIS - Pharmacy'!V914),\"\",'MIS - Pharmacy'!V914)","v":""},"","","",{"$f":"IF(ISBLANK('MIS - Pharmacy'!J914),\"\",'MIS - Pharmacy'!J914)","v":""},{"$f":"IF(ISBLANK('MIS - Pharmacy'!AY914),\"\",'MIS - Pharmacy'!AY914)","v":""},{"$f":"IF(ISBLANK('MIS - Pharmacy'!BH914),\"\",'MIS - Pharmacy'!BH914)","v":""},"",""]
[{"$f":"IF(ISBLANK('MIS - Pharmacy'!A915), \"\",'MIS - Pharmacy'!A915)","v":""},{"$f":"IF(ISBLANK('MIS - Pharmacy'!B915),\"\",('MIS - Pharmacy'!B915&\"(\"&'MIS - Pharmacy'!D915&\")\"))","v":""},{"$f":"IF(ISBLANK('MIS - Pharmacy'!BI915), \"\", 'MIS - Pharmacy'!BI915)","v":""},{"$f":"IF(ISBLANK('MIS - Pharmacy'!U915), \"\", 'MIS - Pharmacy'!U915)","v":""},"","","","","","","",{"$f":"IF(ISBLANK('MIS - Pharmacy'!AC915),\"\",'MIS - Pharmacy'!AC915)","v":""},"",{"$f":"IF(ISBLANK('MIS - Pharmacy'!AD915),\"\",'MIS - Pharmacy'!AD915)","v":""},"","",{"$f":"IF('MIS - Pharmacy'!A915=\"\",\"\",SUM('MIS - Pharmacy'!K915+'MIS - Pharmacy'!L915))","v":""},"",{"$f":"IF('MIS - Pharmacy'!A915=\"\",\"\",('MIS - Pharmacy'!AF915+'MIS - Pharmacy'!AH915 +'MIS - Pharmacy'!AG915))","v":""},{"$f":"IF(ISBLANK('MIS - Pharmacy'!AI915),\"\",'MIS - Pharmacy'!AI915)","v":""},"","","",{"$f":"IF(ISBLANK('MIS - Pharmacy'!V915),\"\",'MIS - Pharmacy'!V915)","v":""},"","","",{"$f":"IF(ISBLANK('MIS - Pharmacy'!J915),\"\",'MIS - Pharmacy'!J915)","v":""},{"$f":"IF(ISBLANK('MIS - Pharmacy'!AY915),\"\",'MIS - Pharmacy'!AY915)","v":""},{"$f":"IF(ISBLANK('MIS - Pharmacy'!BH915),\"\",'MIS - Pharmacy'!BH915)","v":""},"",""]
[{"$f":"IF(ISBLANK('MIS - Pharmacy'!A916), \"\",'MIS - Pharmacy'!A916)","v":""},{"$f":"IF(ISBLANK('MIS - Pharmacy'!B916),\"\",('MIS - Pharmacy'!B916&\"(\"&'MIS - Pharmacy'!D916&\")\"))","v":""},{"$f":"IF(ISBLANK('MIS - Pharmacy'!BI916), \"\", 'MIS - Pharmacy'!BI916)","v":""},{"$f":"IF(ISBLANK('MIS - Pharmacy'!U916), \"\", 'MIS - Pharmacy'!U916)","v":""},"","","","","","","",{"$f":"IF(ISBLANK('MIS - Pharmacy'!AC916),\"\",'MIS - Pharmacy'!AC916)","v":""},"",{"$f":"IF(ISBLANK('MIS - Pharmacy'!AD916),\"\",'MIS - Pharmacy'!AD916)","v":""},"","",{"$f":"IF('MIS - Pharmacy'!A916=\"\",\"\",SUM('MIS - Pharmacy'!K916+'MIS - Pharmacy'!L916))","v":""},"",{"$f":"IF('MIS - Pharmacy'!A916=\"\",\"\",('MIS - Pharmacy'!AF916+'MIS - Pharmacy'!AH916 +'MIS - Pharmacy'!AG916))","v":""},{"$f":"IF(ISBLANK('MIS - Pharmacy'!AI916),\"\",'MIS - Pharmacy'!AI916)","v":""},"","","",{"$f":"IF(ISBLANK('MIS - Pharmacy'!V916),\"\",'MIS - Pharmacy'!V916)","v":""},"","","",{"$f":"IF(ISBLANK('MIS - Pharmacy'!J916),\"\",'MIS - Pharmacy'!J916)","v":""},{"$f":"IF(ISBLANK('MIS - Pharmacy'!AY916),\"\",'MIS - Pharmacy'!AY916)","v":""},{"$f":"IF(ISBLANK('MIS - Pharmacy'!BH916),\"\",'MIS - Pharmacy'!BH916)","v":""},"",""]
[{"$f":"IF(ISBLANK('MIS - Pharmacy'!A917), \"\",'MIS - Pharmacy'!A917)","v":""},{"$f":"IF(ISBLANK('MIS - Pharmacy'!B917),\"\",('MIS - Pharmacy'!B917&\"(\"&'MIS - Pharmacy'!D917&\")\"))","v":""},{"$f":"IF(ISBLANK('MIS - Pharmacy'!BI917), \"\", 'MIS - Pharmacy'!BI917)","v":""},{"$f":"IF(ISBLANK('MIS - Pharmacy'!U917), \"\", 'MIS - Pharmacy'!U917)","v":""},"","","","","","","",{"$f":"IF(ISBLANK('MIS - Pharmacy'!AC917),\"\",'MIS - Pharmacy'!AC917)","v":""},"",{"$f":"IF(ISBLANK('MIS - Pharmacy'!AD917),\"\",'MIS - Pharmacy'!AD917)","v":""},"","",{"$f":"IF('MIS - Pharmacy'!A917=\"\",\"\",SUM('MIS - Pharmacy'!K917+'MIS - Pharmacy'!L917))","v":""},"",{"$f":"IF('MIS - Pharmacy'!A917=\"\",\"\",('MIS - Pharmacy'!AF917+'MIS - Pharmacy'!AH917 +'MIS - Pharmacy'!AG917))","v":""},{"$f":"IF(ISBLANK('MIS - Pharmacy'!AI917),\"\",'MIS - Pharmacy'!AI917)","v":""},"","","",{"$f":"IF(ISBLANK('MIS - Pharmacy'!V917),\"\",'MIS - Pharmacy'!V917)","v":""},"","","",{"$f":"IF(ISBLANK('MIS - Pharmacy'!J917),\"\",'MIS - Pharmacy'!J917)","v":""},{"$f":"IF(ISBLANK('MIS - Pharmacy'!AY917),\"\",'MIS - Pharmacy'!AY917)","v":""},{"$f":"IF(ISBLANK('MIS - Pharmacy'!BH917),\"\",'MIS - Pharmacy'!BH917)","v":""},"",""]
[{"$f":"IF(ISBLANK('MIS - Pharmacy'!A918), \"\",'MIS - Pharmacy'!A918)","v":""},{"$f":"IF(ISBLANK('MIS - Pharmacy'!B918),\"\",('MIS - Pharmacy'!B918&\"(\"&'MIS - Pharmacy'!D918&\")\"))","v":""},{"$f":"IF(ISBLANK('MIS - Pharmacy'!BI918), \"\", 'MIS - Pharmacy'!BI918)","v":""},{"$f":"IF(ISBLANK('MIS - Pharmacy'!U918), \"\", 'MIS - Pharmacy'!U918)","v":""},"","","","","","","",{"$f":"IF(ISBLANK('MIS - Pharmacy'!AC918),\"\",'MIS - Pharmacy'!AC918)","v":""},"",{"$f":"IF(ISBLANK('MIS - Pharmacy'!AD918),\"\",'MIS - Pharmacy'!AD918)","v":""},"","",{"$f":"IF('MIS - Pharmacy'!A918=\"\",\"\",SUM('MIS - Pharmacy'!K918+'MIS - Pharmacy'!L918))","v":""},"",{"$f":"IF('MIS - Pharmacy'!A918=\"\",\"\",('MIS - Pharmacy'!AF918+'MIS - Pharmacy'!AH918 +'MIS - Pharmacy'!AG918))","v":""},{"$f":"IF(ISBLANK('MIS - Pharmacy'!AI918),\"\",'MIS - Pharmacy'!AI918)","v":""},"","","",{"$f":"IF(ISBLANK('MIS - Pharmacy'!V918),\"\",'MIS - Pharmacy'!V918)","v":""},"","","",{"$f":"IF(ISBLANK('MIS - Pharmacy'!J918),\"\",'MIS - Pharmacy'!J918)","v":""},{"$f":"IF(ISBLANK('MIS - Pharmacy'!AY918),\"\",'MIS - Pharmacy'!AY918)","v":""},{"$f":"IF(ISBLANK('MIS - Pharmacy'!BH918),\"\",'MIS - Pharmacy'!BH918)","v":""},"",""]
[{"$f":"IF(ISBLANK('MIS - Pharmacy'!A919), \"\",'MIS - Pharmacy'!A919)","v":""},{"$f":"IF(ISBLANK('MIS - Pharmacy'!B919),\"\",('MIS - Pharmacy'!B919&\"(\"&'MIS - Pharmacy'!D919&\")\"))","v":""},{"$f":"IF(ISBLANK('MIS - Pharmacy'!BI919), \"\", 'MIS - Pharmacy'!BI919)","v":""},{"$f":"IF(ISBLANK('MIS - Pharmacy'!U919), \"\", 'MIS - Pharmacy'!U919)","v":""},"","","","","","","",{"$f":"IF(ISBLANK('MIS - Pharmacy'!AC919),\"\",'MIS - Pharmacy'!AC919)","v":""},"",{"$f":"IF(ISBLANK('MIS - Pharmacy'!AD919),\"\",'MIS - Pharmacy'!AD919)","v":""},"","",{"$f":"IF('MIS - Pharmacy'!A919=\"\",\"\",SUM('MIS - Pharmacy'!K919+'MIS - Pharmacy'!L919))","v":""},"",{"$f":"IF('MIS - Pharmacy'!A919=\"\",\"\",('MIS - Pharmacy'!AF919+'MIS - Pharmacy'!AH919 +'MIS - Pharmacy'!AG919))","v":""},{"$f":"IF(ISBLANK('MIS - Pharmacy'!AI919),\"\",'MIS - Pharmacy'!AI919)","v":""},"","","",{"$f":"IF(ISBLANK('MIS - Pharmacy'!V919),\"\",'MIS - Pharmacy'!V919)","v":""},"","","",{"$f":"IF(ISBLANK('MIS - Pharmacy'!J919),\"\",'MIS - Pharmacy'!J919)","v":""},{"$f":"IF(ISBLANK('MIS - Pharmacy'!AY919),\"\",'MIS - Pharmacy'!AY919)","v":""},{"$f":"IF(ISBLANK('MIS - Pharmacy'!BH919),\"\",'MIS - Pharmacy'!BH919)","v":""},"",""]
[{"$f":"IF(ISBLANK('MIS - Pharmacy'!A920), \"\",'MIS - Pharmacy'!A920)","v":""},{"$f":"IF(ISBLANK('MIS - Pharmacy'!B920),\"\",('MIS - Pharmacy'!B920&\"(\"&'MIS - Pharmacy'!D920&\")\"))","v":""},{"$f":"IF(ISBLANK('MIS - Pharmacy'!BI920), \"\", 'MIS - Pharmacy'!BI920)","v":""},{"$f":"IF(ISBLANK('MIS - Pharmacy'!U920), \"\", 'MIS - Pharmacy'!U920)","v":""},"","","","","","","",{"$f":"IF(ISBLANK('MIS - Pharmacy'!AC920),\"\",'MIS - Pharmacy'!AC920)","v":""},"",{"$f":"IF(ISBLANK('MIS - Pharmacy'!AD920),\"\",'MIS - Pharmacy'!AD920)","v":""},"","",{"$f":"IF('MIS - Pharmacy'!A920=\"\",\"\",SUM('MIS - Pharmacy'!K920+'MIS - Pharmacy'!L920))","v":""},"",{"$f":"IF('MIS - Pharmacy'!A920=\"\",\"\",('MIS - Pharmacy'!AF920+'MIS - Pharmacy'!AH920 +'MIS - Pharmacy'!AG920))","v":""},{"$f":"IF(ISBLANK('MIS - Pharmacy'!AI920),\"\",'MIS - Pharmacy'!AI920)","v":""},"","","",{"$f":"IF(ISBLANK('MIS - Pharmacy'!V920),\"\",'MIS - Pharmacy'!V920)","v":""},"","","",{"$f":"IF(ISBLANK('MIS - Pharmacy'!J920),\"\",'MIS - Pharmacy'!J920)","v":""},{"$f":"IF(ISBLANK('MIS - Pharmacy'!AY920),\"\",'MIS - Pharmacy'!AY920)","v":""},{"$f":"IF(ISBLANK('MIS - Pharmacy'!BH920),\"\",'MIS - Pharmacy'!BH920)","v":""},"",""]
[{"$f":"IF(ISBLANK('MIS - Pharmacy'!A921), \"\",'MIS - Pharmacy'!A921)","v":""},{"$f":"IF(ISBLANK('MIS - Pharmacy'!B921),\"\",('MIS - Pharmacy'!B921&\"(\"&'MIS - Pharmacy'!D921&\")\"))","v":""},{"$f":"IF(ISBLANK('MIS - Pharmacy'!BI921), \"\", 'MIS - Pharmacy'!BI921)","v":""},{"$f":"IF(ISBLANK('MIS - Pharmacy'!U921), \"\", 'MIS - Pharmacy'!U921)","v":""},"","","","","","","",{"$f":"IF(ISBLANK('MIS - Pharmacy'!AC921),\"\",'MIS - Pharmacy'!AC921)","v":""},"",{"$f":"IF(ISBLANK('MIS - Pharmacy'!AD921),\"\",'MIS - Pharmacy'!AD921)","v":""},"","",{"$f":"IF('MIS - Pharmacy'!A921=\"\",\"\",SUM('MIS - Pharmacy'!K921+'MIS - Pharmacy'!L921))","v":""},"",{"$f":"IF('MIS - Pharmacy'!A921=\"\",\"\",('MIS - Pharmacy'!AF921+'MIS - Pharmacy'!AH921 +'MIS - Pharmacy'!AG921))","v":""},{"$f":"IF(ISBLANK('MIS - Pharmacy'!AI921),\"\",'MIS - Pharmacy'!AI921)","v":""},"","","",{"$f":"IF(ISBLANK('MIS - Pharmacy'!V921),\"\",'MIS - Pharmacy'!V921)","v":""},"","","",{"$f":"IF(ISBLANK('MIS - Pharmacy'!J921),\"\",'MIS - Pharmacy'!J921)","v":""},{"$f":"IF(ISBLANK('MIS - Pharmacy'!AY921),\"\",'MIS - Pharmacy'!AY921)","v":""},{"$f":"IF(ISBLANK('MIS - Pharmacy'!BH921),\"\",'MIS - Pharmacy'!BH921)","v":""},"",""]
[{"$f":"IF(ISBLANK('MIS - Pharmacy'!A922), \"\",'MIS - Pharmacy'!A922)","v":""},{"$f":"IF(ISBLANK('MIS - Pharmacy'!B922),\"\",('MIS - Pharmacy'!B922&\"(\"&'MIS - Pharmacy'!D922&\")\"))","v":""},{"$f":"IF(ISBLANK('MIS - Pharmacy'!BI922), \"\", 'MIS - Pharmacy'!BI922)","v":""},{"$f":"IF(ISBLANK('MIS - Pharmacy'!U922), \"\", 'MIS - Pharmacy'!U922)","v":""},"","","","","","","",{"$f":"IF(ISBLANK('MIS - Pharmacy'!AC922),\"\",'MIS - Pharmacy'!AC922)","v":""},"",{"$f":"IF(ISBLANK('MIS - Pharmacy'!AD922),\"\",'MIS - Pharmacy'!AD922)","v":""},"","",{"$f":"IF('MIS - Pharmacy'!A922=\"\",\"\",SUM('MIS - Pharmacy'!K922+'MIS - Pharmacy'!L922))","v":""},"",{"$f":"IF('MIS - Pharmacy'!A922=\"\",\"\",('MIS - Pharmacy'!AF922+'MIS - Pharmacy'!AH922 +'MIS - Pharmacy'!AG922))","v":""},{"$f":"IF(ISBLANK('MIS - Pharmacy'!AI922),\"\",'MIS - Pharmacy'!AI922)","v":""},"","","",{"$f":"IF(ISBLANK('MIS - Pharmacy'!V922),\"\",'MIS - Pharmacy'!V922)","v":""},"","","",{"$f":"IF(ISBLANK('MIS - Pharmacy'!J922),\"\",'MIS - Pharmacy'!J922)","v":""},{"$f":"IF(ISBLANK('MIS - Pharmacy'!AY922),\"\",'MIS - Pharmacy'!AY922)","v":""},{"$f":"IF(ISBLANK('MIS - Pharmacy'!BH922),\"\",'MIS - Pharmacy'!BH922)","v":""},"",""]
[{"$f":"IF(ISBLANK('MIS - Pharmacy'!A923), \"\",'MIS - Pharmacy'!A923)","v":""},{"$f":"IF(ISBLANK('MIS - Pharmacy'!B923),\"\",('MIS - Pharmacy'!B923&\"(\"&'MIS - Pharmacy'!D923&\")\"))","v":""},{"$f":"IF(ISBLANK('MIS - Pharmacy'!BI923), \"\", 'MIS - Pharmacy'!BI923)","v":""},{"$f":"IF(ISBLANK('MIS - Pharmacy'!U923), \"\", 'MIS - Pharmacy'!U923)","v":""},"","","","","","","",{"$f":"IF(ISBLANK('MIS - Pharmacy'!AC923),\"\",'MIS - Pharmacy'!AC923)","v":""},"",{"$f":"IF(ISBLANK('MIS - Pharmacy'!AD923),\"\",'MIS - Pharmacy'!AD923)","v":""},"","",{"$f":"IF('MIS - Pharmacy'!A923=\"\",\"\",SUM('MIS - Pharmacy'!K923+'MIS - Pharmacy'!L923))","v":""},"",{"$f":"IF('MIS - Pharmacy'!A923=\"\",\"\",('MIS - Pharmacy'!AF923+'MIS - Pharmacy'!AH923 +'MIS - Pharmacy'!AG923))","v":""},{"$f":"IF(ISBLANK('MIS - Pharmacy'!AI923),\"\",'MIS - Pharmacy'!AI923)","v":""},"","","",{"$f":"IF(ISBLANK('MIS - Pharmacy'!V923),\"\",'MIS - Pharmacy'!V923)","v":""},"","","",{"$f":"IF(ISBLANK('MIS - Pharmacy'!J923),\"\",'MIS - Pharmacy'!J923)","v":""},{"$f":"IF(ISBLANK('MIS - Pharmacy'!AY923),\"\",'MIS - Pharmacy'!AY923)","v":""},{"$f":"IF(ISBLANK('MIS - Pharmacy'!BH923),\"\",'MIS - Pharmacy'!BH923)","v":""},"",""]
[{"$f":"IF(ISBLANK('MIS - Pharmacy'!A924), \"\",'MIS - Pharmacy'!A924)","v":""},{"$f":"IF(ISBLANK('MIS - Pharmacy'!B924),\"\",('MIS - Pharmacy'!B924&\"(\"&'MIS - Pharmacy'!D924&\")\"))","v":""},{"$f":"IF(ISBLANK('MIS - Pharmacy'!BI924), \"\", 'MIS - Pharmacy'!BI924)","v":""},{"$f":"IF(ISBLANK('MIS - Pharmacy'!U924), \"\", 'MIS - Pharmacy'!U924)","v":""},"","","","","","","",{"$f":"IF(ISBLANK('MIS - Pharmacy'!AC924),\"\",'MIS - Pharmacy'!AC924)","v":""},"",{"$f":"IF(ISBLANK('MIS - Pharmacy'!AD924),\"\",'MIS - Pharmacy'!AD924)","v":""},"","",{"$f":"IF('MIS - Pharmacy'!A924=\"\",\"\",SUM('MIS - Pharmacy'!K924+'MIS - Pharmacy'!L924))","v":""},"",{"$f":"IF('MIS - Pharmacy'!A924=\"\",\"\",('MIS - Pharmacy'!AF924+'MIS - Pharmacy'!AH924 +'MIS - Pharmacy'!AG924))","v":""},{"$f":"IF(ISBLANK('MIS - Pharmacy'!AI924),\"\",'MIS - Pharmacy'!AI924)","v":""},"","","",{"$f":"IF(ISBLANK('MIS - Pharmacy'!V924),\"\",'MIS - Pharmacy'!V924)","v":""},"","","",{"$f":"IF(ISBLANK('MIS - Pharmacy'!J924),\"\",'MIS - Pharmacy'!J924)","v":""},{"$f":"IF(ISBLANK('MIS - Pharmacy'!AY924),\"\",'MIS - Pharmacy'!AY924)","v":""},{"$f":"IF(ISBLANK('MIS - Pharmacy'!BH924),\"\",'MIS - Pharmacy'!BH924)","v":""},"",""]
[{"$f":"IF(ISBLANK('MIS - Pharmacy'!A925), \"\",'MIS - Pharmacy'!A925)","v":""},{"$f":"IF(ISBLANK('MIS - Pharmacy'!B925),\"\",('MIS - Pharmacy'!B925&\"(\"&'MIS - Pharmacy'!D925&\")\"))","v":""},{"$f":"IF(ISBLANK('MIS - Pharmacy'!BI925), \"\", 'MIS - Pharmacy'!BI925)","v":""},{"$f":"IF(ISBLANK('MIS - Pharmacy'!U925), \"\", 'MIS - Pharmacy'!U925)","v":""},"","","","","","","",{"$f":"IF(ISBLANK('MIS - Pharmacy'!AC925),\"\",'MIS - Pharmacy'!AC925)","v":""},"",{"$f":"IF(ISBLANK('MIS - Pharmacy'!AD925),\"\",'MIS - Pharmacy'!AD925)","v":""},"","",{"$f":"IF('MIS - Pharmacy'!A925=\"\",\"\",SUM('MIS - Pharmacy'!K925+'MIS - Pharmacy'!L925))","v":""},"",{"$f":"IF('MIS - Pharmacy'!A925=\"\",\"\",('MIS - Pharmacy'!AF925+'MIS - Pharmacy'!AH925 +'MIS - Pharmacy'!AG925))","v":""},{"$f":"IF(ISBLANK('MIS - Pharmacy'!AI925),\"\",'MIS - Pharmacy'!AI925)","v":""},"","","",{"$f":"IF(ISBLANK('MIS - Pharmacy'!V925),\"\",'MIS - Pharmacy'!V925)","v":""},"","","",{"$f":"IF(ISBLANK('MIS - Pharmacy'!J925),\"\",'MIS - Pharmacy'!J925)","v":""},{"$f":"IF(ISBLANK('MIS - Pharmacy'!AY925),\"\",'MIS - Pharmacy'!AY925)","v":""},{"$f":"IF(ISBLANK('MIS - Pharmacy'!BH925),\"\",'MIS - Pharmacy'!BH925)","v":""},"",""]
[{"$f":"IF(ISBLANK('MIS - Pharmacy'!A926), \"\",'MIS - Pharmacy'!A926)","v":""},{"$f":"IF(ISBLANK('MIS - Pharmacy'!B926),\"\",('MIS - Pharmacy'!B926&\"(\"&'MIS - Pharmacy'!D926&\")\"))","v":""},{"$f":"IF(ISBLANK('MIS - Pharmacy'!BI926), \"\", 'MIS - Pharmacy'!BI926)","v":""},{"$f":"IF(ISBLANK('MIS - Pharmacy'!U926), \"\", 'MIS - Pharmacy'!U926)","v":""},"","","","","","","",{"$f":"IF(ISBLANK('MIS - Pharmacy'!AC926),\"\",'MIS - Pharmacy'!AC926)","v":""},"",{"$f":"IF(ISBLANK('MIS - Pharmacy'!AD926),\"\",'MIS - Pharmacy'!AD926)","v":""},"","",{"$f":"IF('MIS - Pharmacy'!A926=\"\",\"\",SUM('MIS - Pharmacy'!K926+'MIS - Pharmacy'!L926))","v":""},"",{"$f":"IF('MIS - Pharmacy'!A926=\"\",\"\",('MIS - Pharmacy'!AF926+'MIS - Pharmacy'!AH926 +'MIS - Pharmacy'!AG926))","v":""},{"$f":"IF(ISBLANK('MIS - Pharmacy'!AI926),\"\",'MIS - Pharmacy'!AI926)","v":""},"","","",{"$f":"IF(ISBLANK('MIS - Pharmacy'!V926),\"\",'MIS - Pharmacy'!V926)","v":""},"","","",{"$f":"IF(ISBLANK('MIS - Pharmacy'!J926),\"\",'MIS - Pharmacy'!J926)","v":""},{"$f":"IF(ISBLANK('MIS - Pharmacy'!AY926),\"\",'MIS - Pharmacy'!AY926)","v":""},{"$f":"IF(ISBLANK('MIS - Pharmacy'!BH926),\"\",'MIS - Pharmacy'!BH926)","v":""},"",""]
[{"$f":"IF(ISBLANK('MIS - Pharmacy'!A927), \"\",'MIS - Pharmacy'!A927)","v":""},{"$f":"IF(ISBLANK('MIS - Pharmacy'!B927),\"\",('MIS - Pharmacy'!B927&\"(\"&'MIS - Pharmacy'!D927&\")\"))","v":""},{"$f":"IF(ISBLANK('MIS - Pharmacy'!BI927), \"\", 'MIS - Pharmacy'!BI927)","v":""},{"$f":"IF(ISBLANK('MIS - Pharmacy'!U927), \"\", 'MIS - Pharmacy'!U927)","v":""},"","","","","","","",{"$f":"IF(ISBLANK('MIS - Pharmacy'!AC927),\"\",'MIS - Pharmacy'!AC927)","v":""},"",{"$f":"IF(ISBLANK('MIS - Pharmacy'!AD927),\"\",'MIS - Pharmacy'!AD927)","v":""},"","",{"$f":"IF('MIS - Pharmacy'!A927=\"\",\"\",SUM('MIS - Pharmacy'!K927+'MIS - Pharmacy'!L927))","v":""},"",{"$f":"IF('MIS - Pharmacy'!A927=\"\",\"\",('MIS - Pharmacy'!AF927+'MIS - Pharmacy'!AH927 +'MIS - Pharmacy'!AG927))","v":""},{"$f":"IF(ISBLANK('MIS - Pharmacy'!AI927),\"\",'MIS - Pharmacy'!AI927)","v":""},"","","",{"$f":"IF(ISBLANK('MIS - Pharmacy'!V927),\"\",'MIS - Pharmacy'!V927)","v":""},"","","",{"$f":"IF(ISBLANK('MIS - Pharmacy'!J927),\"\",'MIS - Pharmacy'!J927)","v":""},{"$f":"IF(ISBLANK('MIS - Pharmacy'!AY927),\"\",'MIS - Pharmacy'!AY927)","v":""},{"$f":"IF(ISBLANK('MIS - Pharmacy'!BH927),\"\",'MIS - Pharmacy'!BH927)","v":""},"",""]
[{"$f":"IF(ISBLANK('MIS - Pharmacy'!A928), \"\",'MIS - Pharmacy'!A928)","v":""},{"$f":"IF(ISBLANK('MIS - Pharmacy'!B928),\"\",('MIS - Pharmacy'!B928&\"(\"&'MIS - Pharmacy'!D928&\")\"))","v":""},{"$f":"IF(ISBLANK('MIS - Pharmacy'!BI928), \"\", 'MIS - Pharmacy'!BI928)","v":""},{"$f":"IF(ISBLANK('MIS - Pharmacy'!U928), \"\", 'MIS - Pharmacy'!U928)","v":""},"","","","","","","",{"$f":"IF(ISBLANK('MIS - Pharmacy'!AC928),\"\",'MIS - Pharmacy'!AC928)","v":""},"",{"$f":"IF(ISBLANK('MIS - Pharmacy'!AD928),\"\",'MIS - Pharmacy'!AD928)","v":""},"","",{"$f":"IF('MIS - Pharmacy'!A928=\"\",\"\",SUM('MIS - Pharmacy'!K928+'MIS - Pharmacy'!L928))","v":""},"",{"$f":"IF('MIS - Pharmacy'!A928=\"\",\"\",('MIS - Pharmacy'!AF928+'MIS - Pharmacy'!AH928 +'MIS - Pharmacy'!AG928))","v":""},{"$f":"IF(ISBLANK('MIS - Pharmacy'!AI928),\"\",'MIS - Pharmacy'!AI928)","v":""},"","","",{"$f":"IF(ISBLANK('MIS - Pharmacy'!V928),\"\",'MIS - Pharmacy'!V928)","v":""},"","","",{"$f":"IF(ISBLANK('MIS - Pharmacy'!J928),\"\",'MIS - Pharmacy'!J928)","v":""},{"$f":"IF(ISBLANK('MIS - Pharmacy'!AY928),\"\",'MIS - Pharmacy'!AY928)","v":""},{"$f":"IF(ISBLANK('MIS - Pharmacy'!BH928),\"\",'MIS - Pharmacy'!BH928)","v":""},"",""]
[{"$f":"IF(ISBLANK('MIS - Pharmacy'!A929), \"\",'MIS - Pharmacy'!A929)","v":""},{"$f":"IF(ISBLANK('MIS - Pharmacy'!B929),\"\",('MIS - Pharmacy'!B929&\"(\"&'MIS - Pharmacy'!D929&\")\"))","v":""},{"$f":"IF(ISBLANK('MIS - Pharmacy'!BI929), \"\", 'MIS - Pharmacy'!BI929)","v":""},{"$f":"IF(ISBLANK('MIS - Pharmacy'!U929), \"\", 'MIS - Pharmacy'!U929)","v":""},"","","","","","","",{"$f":"IF(ISBLANK('MIS - Pharmacy'!AC929),\"\",'MIS - Pharmacy'!AC929)","v":""},"",{"$f":"IF(ISBLANK('MIS - Pharmacy'!AD929),\"\",'MIS - Pharmacy'!AD929)","v":""},"","",{"$f":"IF('MIS - Pharmacy'!A929=\"\",\"\",SUM('MIS - Pharmacy'!K929+'MIS - Pharmacy'!L929))","v":""},"",{"$f":"IF('MIS - Pharmacy'!A929=\"\",\"\",('MIS - Pharmacy'!AF929+'MIS - Pharmacy'!AH929 +'MIS - Pharmacy'!AG929))","v":""},{"$f":"IF(ISBLANK('MIS - Pharmacy'!AI929),\"\",'MIS - Pharmacy'!AI929)","v":""},"","","",{"$f":"IF(ISBLANK('MIS - Pharmacy'!V929),\"\",'MIS - Pharmacy'!V929)","v":""},"","","",{"$f":"IF(ISBLANK('MIS - Pharmacy'!J929),\"\",'MIS - Pharmacy'!J929)","v":""},{"$f":"IF(ISBLANK('MIS - Pharmacy'!AY929),\"\",'MIS - Pharmacy'!AY929)","v":""},{"$f":"IF(ISBLANK('MIS - Pharmacy'!BH929),\"\",'MIS - Pharmacy'!BH929)","v":""},"",""]
[{"$f":"IF(ISBLANK('MIS - Pharmacy'!A930), \"\",'MIS - Pharmacy'!A930)","v":""},{"$f":"IF(ISBLANK('MIS - Pharmacy'!B930),\"\",('MIS - Pharmacy'!B930&\"(\"&'MIS - Pharmacy'!D930&\")\"))","v":""},{"$f":"IF(ISBLANK('MIS - Pharmacy'!BI930), \"\", 'MIS - Pharmacy'!BI930)","v":""},{"$f":"IF(ISBLANK('MIS - Pharmacy'!U930), \"\", 'MIS - Pharmacy'!U930)","v":""},"","","","","","","",{"$f":"IF(ISBLANK('MIS - Pharmacy'!AC930),\"\",'MIS - Pharmacy'!AC930)","v":""},"",{"$f":"IF(ISBLANK('MIS - Pharmacy'!AD930),\"\",'MIS - Pharmacy'!AD930)","v":""},"","",{"$f":"IF('MIS - Pharmacy'!A930=\"\",\"\",SUM('MIS - Pharmacy'!K930+'MIS - Pharmacy'!L930))","v":""},"",{"$f":"IF('MIS - Pharmacy'!A930=\"\",\"\",('MIS - Pharmacy'!AF930+'MIS - Pharmacy'!AH930 +'MIS - Pharmacy'!AG930))","v":""},{"$f":"IF(ISBLANK('MIS - Pharmacy'!AI930),\"\",'MIS - Pharmacy'!AI930)","v":""},"","","",{"$f":"IF(ISBLANK('MIS - Pharmacy'!V930),\"\",'MIS - Pharmacy'!V930)","v":""},"","","",{"$f":"IF(ISBLANK('MIS - Pharmacy'!J930),\"\",'MIS - Pharmacy'!J930)","v":""},{"$f":"IF(ISBLANK('MIS - Pharmacy'!AY930),\"\",'MIS - Pharmacy'!AY930)","v":""},{"$f":"IF(ISBLANK('MIS - Pharmacy'!BH930),\"\",'MIS - Pharmacy'!BH930)","v":""},"",""]
[{"$f":"IF(ISBLANK('MIS - Pharmacy'!A931), \"\",'MIS - Pharmacy'!A931)","v":""},{"$f":"IF(ISBLANK('MIS - Pharmacy'!B931),\"\",('MIS - Pharmacy'!B931&\"(\"&'MIS - Pharmacy'!D931&\")\"))","v":""},{"$f":"IF(ISBLANK('MIS - Pharmacy'!BI931), \"\", 'MIS - Pharmacy'!BI931)","v":""},{"$f":"IF(ISBLANK('MIS - Pharmacy'!U931), \"\", 'MIS - Pharmacy'!U931)","v":""},"","","","","","","",{"$f":"IF(ISBLANK('MIS - Pharmacy'!AC931),\"\",'MIS - Pharmacy'!AC931)","v":""},"",{"$f":"IF(ISBLANK('MIS - Pharmacy'!AD931),\"\",'MIS - Pharmacy'!AD931)","v":""},"","",{"$f":"IF('MIS - Pharmacy'!A931=\"\",\"\",SUM('MIS - Pharmacy'!K931+'MIS - Pharmacy'!L931))","v":""},"",{"$f":"IF('MIS - Pharmacy'!A931=\"\",\"\",('MIS - Pharmacy'!AF931+'MIS - Pharmacy'!AH931 +'MIS - Pharmacy'!AG931))","v":""},{"$f":"IF(ISBLANK('MIS - Pharmacy'!AI931),\"\",'MIS - Pharmacy'!AI931)","v":""},"","","",{"$f":"IF(ISBLANK('MIS - Pharmacy'!V931),\"\",'MIS - Pharmacy'!V931)","v":""},"","","",{"$f":"IF(ISBLANK('MIS - Pharmacy'!J931),\"\",'MIS - Pharmacy'!J931)","v":""},{"$f":"IF(ISBLANK('MIS - Pharmacy'!AY931),\"\",'MIS - Pharmacy'!AY931)","v":""},{"$f":"IF(ISBLANK('MIS - Pharmacy'!BH931),\"\",'MIS - Pharmacy'!BH931)","v":""},"",""]
[{"$f":"IF(ISBLANK('MIS - Pharmacy'!A932), \"\",'MIS - Pharmacy'!A932)","v":""},{"$f":"IF(ISBLANK('MIS - Pharmacy'!B932),\"\",('MIS - Pharmacy'!B932&\"(\"&'MIS - Pharmacy'!D932&\")\"))","v":""},{"$f":"IF(ISBLANK('MIS - Pharmacy'!BI932), \"\", 'MIS - Pharmacy'!BI932)","v":""},{"$f":"IF(ISBLANK('MIS - Pharmacy'!U932), \"\", 'MIS - Pharmacy'!U932)","v":""},"","","","","","","",{"$f":"IF(ISBLANK('MIS - Pharmacy'!AC932),\"\",'MIS - Pharmacy'!AC932)","v":""},"",{"$f":"IF(ISBLANK('MIS - Pharmacy'!AD932),\"\",'MIS - Pharmacy'!AD932)","v":""},"","",{"$f":"IF('MIS - Pharmacy'!A932=\"\",\"\",SUM('MIS - Pharmacy'!K932+'MIS - Pharmacy'!L932))","v":""},"",{"$f":"IF('MIS - Pharmacy'!A932=\"\",\"\",('MIS - Pharmacy'!AF932+'MIS - Pharmacy'!AH932 +'MIS - Pharmacy'!AG932))","v":""},{"$f":"IF(ISBLANK('MIS - Pharmacy'!AI932),\"\",'MIS - Pharmacy'!AI932)","v":""},"","","",{"$f":"IF(ISBLANK('MIS - Pharmacy'!V932),\"\",'MIS - Pharmacy'!V932)","v":""},"","","",{"$f":"IF(ISBLANK('MIS - Pharmacy'!J932),\"\",'MIS - Pharmacy'!J932)","v":""},{"$f":"IF(ISBLANK('MIS - Pharmacy'!AY932),\"\",'MIS - Pharmacy'!AY932)","v":""},{"$f":"IF(ISBLANK('MIS - Pharmacy'!BH932),\"\",'MIS - Pharmacy'!BH932)","v":""},"",""]
[{"$f":"IF(ISBLANK('MIS - Pharmacy'!A933), \"\",'MIS - Pharmacy'!A933)","v":""},{"$f":"IF(ISBLANK('MIS - Pharmacy'!B933),\"\",('MIS - Pharmacy'!B933&\"(\"&'MIS - Pharmacy'!D933&\")\"))","v":""},{"$f":"IF(ISBLANK('MIS - Pharmacy'!BI933), \"\", 'MIS - Pharmacy'!BI933)","v":""},{"$f":"IF(ISBLANK('MIS - Pharmacy'!U933), \"\", 'MIS - Pharmacy'!U933)","v":""},"","","","","","","",{"$f":"IF(ISBLANK('MIS - Pharmacy'!AC933),\"\",'MIS - Pharmacy'!AC933)","v":""},"",{"$f":"IF(ISBLANK('MIS - Pharmacy'!AD933),\"\",'MIS - Pharmacy'!AD933)","v":""},"","",{"$f":"IF('MIS - Pharmacy'!A933=\"\",\"\",SUM('MIS - Pharmacy'!K933+'MIS - Pharmacy'!L933))","v":""},"",{"$f":"IF('MIS - Pharmacy'!A933=\"\",\"\",('MIS - Pharmacy'!AF933+'MIS - Pharmacy'!AH933 +'MIS - Pharmacy'!AG933))","v":""},{"$f":"IF(ISBLANK('MIS - Pharmacy'!AI933),\"\",'MIS - Pharmacy'!AI933)","v":""},"","","",{"$f":"IF(ISBLANK('MIS - Pharmacy'!V933),\"\",'MIS - Pharmacy'!V933)","v":""},"","","",{"$f":"IF(ISBLANK('MIS - Pharmacy'!J933),\"\",'MIS - Pharmacy'!J933)","v":""},{"$f":"IF(ISBLANK('MIS - Pharmacy'!AY933),\"\",'MIS - Pharmacy'!AY933)","v":""},{"$f":"IF(ISBLANK('MIS - Pharmacy'!BH933),\"\",'MIS - Pharmacy'!BH933)","v":""},"",""]
[{"$f":"IF(ISBLANK('MIS - Pharmacy'!A934), \"\",'MIS - Pharmacy'!A934)","v":""},{"$f":"IF(ISBLANK('MIS - Pharmacy'!B934),\"\",('MIS - Pharmacy'!B934&\"(\"&'MIS - Pharmacy'!D934&\")\"))","v":""},{"$f":"IF(ISBLANK('MIS - Pharmacy'!BI934), \"\", 'MIS - Pharmacy'!BI934)","v":""},{"$f":"IF(ISBLANK('MIS - Pharmacy'!U934), \"\", 'MIS - Pharmacy'!U934)","v":""},"","","","","","","",{"$f":"IF(ISBLANK('MIS - Pharmacy'!AC934),\"\",'MIS - Pharmacy'!AC934)","v":""},"",{"$f":"IF(ISBLANK('MIS - Pharmacy'!AD934),\"\",'MIS - Pharmacy'!AD934)","v":""},"","",{"$f":"IF('MIS - Pharmacy'!A934=\"\",\"\",SUM('MIS - Pharmacy'!K934+'MIS - Pharmacy'!L934))","v":""},"",{"$f":"IF('MIS - Pharmacy'!A934=\"\",\"\",('MIS - Pharmacy'!AF934+'MIS - Pharmacy'!AH934 +'MIS - Pharmacy'!AG934))","v":""},{"$f":"IF(ISBLANK('MIS - Pharmacy'!AI934),\"\",'MIS - Pharmacy'!AI934)","v":""},"","","",{"$f":"IF(ISBLANK('MIS - Pharmacy'!V934),\"\",'MIS - Pharmacy'!V934)","v":""},"","","",{"$f":"IF(ISBLANK('MIS - Pharmacy'!J934),\"\",'MIS - Pharmacy'!J934)","v":""},{"$f":"IF(ISBLANK('MIS - Pharmacy'!AY934),\"\",'MIS - Pharmacy'!AY934)","v":""},{"$f":"IF(ISBLANK('MIS - Pharmacy'!BH934),\"\",'MIS - Pharmacy'!BH934)","v":""},"",""]
[{"$f":"IF(ISBLANK('MIS - Pharmacy'!A935), \"\",'MIS - Pharmacy'!A935)","v":""},{"$f":"IF(ISBLANK('MIS - Pharmacy'!B935),\"\",('MIS - Pharmacy'!B935&\"(\"&'MIS - Pharmacy'!D935&\")\"))","v":""},{"$f":"IF(ISBLANK('MIS - Pharmacy'!BI935), \"\", 'MIS - Pharmacy'!BI935)","v":""},{"$f":"IF(ISBLANK('MIS - Pharmacy'!U935), \"\", 'MIS - Pharmacy'!U935)","v":""},"","","","","","","",{"$f":"IF(ISBLANK('MIS - Pharmacy'!AC935),\"\",'MIS - Pharmacy'!AC935)","v":""},"",{"$f":"IF(ISBLANK('MIS - Pharmacy'!AD935),\"\",'MIS - Pharmacy'!AD935)","v":""},"","",{"$f":"IF('MIS - Pharmacy'!A935=\"\",\"\",SUM('MIS - Pharmacy'!K935+'MIS - Pharmacy'!L935))","v":""},"",{"$f":"IF('MIS - Pharmacy'!A935=\"\",\"\",('MIS - Pharmacy'!AF935+'MIS - Pharmacy'!AH935 +'MIS - Pharmacy'!AG935))","v":""},{"$f":"IF(ISBLANK('MIS - Pharmacy'!AI935),\"\",'MIS - Pharmacy'!AI935)","v":""},"","","",{"$f":"IF(ISBLANK('MIS - Pharmacy'!V935),\"\",'MIS - Pharmacy'!V935)","v":""},"","","",{"$f":"IF(ISBLANK('MIS - Pharmacy'!J935),\"\",'MIS - Pharmacy'!J935)","v":""},{"$f":"IF(ISBLANK('MIS - Pharmacy'!AY935),\"\",'MIS - Pharmacy'!AY935)","v":""},{"$f":"IF(ISBLANK('MIS - Pharmacy'!BH935),\"\",'MIS - Pharmacy'!BH935)","v":""},"",""]
[{"$f":"IF(ISBLANK('MIS - Pharmacy'!A936), \"\",'MIS - Pharmacy'!A936)","v":""},{"$f":"IF(ISBLANK('MIS - Pharmacy'!B936),\"\",('MIS - Pharmacy'!B936&\"(\"&'MIS - Pharmacy'!D936&\")\"))","v":""},{"$f":"IF(ISBLANK('MIS - Pharmacy'!BI936), \"\", 'MIS - Pharmacy'!BI936)","v":""},{"$f":"IF(ISBLANK('MIS - Pharmacy'!U936), \"\", 'MIS - Pharmacy'!U936)","v":""},"","","","","","","",{"$f":"IF(ISBLANK('MIS - Pharmacy'!AC936),\"\",'MIS - Pharmacy'!AC936)","v":""},"",{"$f":"IF(ISBLANK('MIS - Pharmacy'!AD936),\"\",'MIS - Pharmacy'!AD936)","v":""},"","",{"$f":"IF('MIS - Pharmacy'!A936=\"\",\"\",SUM('MIS - Pharmacy'!K936+'MIS - Pharmacy'!L936))","v":""},"",{"$f":"IF('MIS - Pharmacy'!A936=\"\",\"\",('MIS - Pharmacy'!AF936+'MIS - Pharmacy'!AH936 +'MIS - Pharmacy'!AG936))","v":""},{"$f":"IF(ISBLANK('MIS - Pharmacy'!AI936),\"\",'MIS - Pharmacy'!AI936)","v":""},"","","",{"$f":"IF(ISBLANK('MIS - Pharmacy'!V936),\"\",'MIS - Pharmacy'!V936)","v":""},"","","",{"$f":"IF(ISBLANK('MIS - Pharmacy'!J936),\"\",'MIS - Pharmacy'!J936)","v":""},{"$f":"IF(ISBLANK('MIS - Pharmacy'!AY936),\"\",'MIS - Pharmacy'!AY936)","v":""},{"$f":"IF(ISBLANK('MIS - Pharmacy'!BH936),\"\",'MIS - Pharmacy'!BH936)","v":""},"",""]
[{"$f":"IF(ISBLANK('MIS - Pharmacy'!A937), \"\",'MIS - Pharmacy'!A937)","v":""},{"$f":"IF(ISBLANK('MIS - Pharmacy'!B937),\"\",('MIS - Pharmacy'!B937&\"(\"&'MIS - Pharmacy'!D937&\")\"))","v":""},{"$f":"IF(ISBLANK('MIS - Pharmacy'!BI937), \"\", 'MIS - Pharmacy'!BI937)","v":""},{"$f":"IF(ISBLANK('MIS - Pharmacy'!U937), \"\", 'MIS - Pharmacy'!U937)","v":""},"","","","","","","",{"$f":"IF(ISBLANK('MIS - Pharmacy'!AC937),\"\",'MIS - Pharmacy'!AC937)","v":""},"",{"$f":"IF(ISBLANK('MIS - Pharmacy'!AD937),\"\",'MIS - Pharmacy'!AD937)","v":""},"","",{"$f":"IF('MIS - Pharmacy'!A937=\"\",\"\",SUM('MIS - Pharmacy'!K937+'MIS - Pharmacy'!L937))","v":""},"",{"$f":"IF('MIS - Pharmacy'!A937=\"\",\"\",('MIS - Pharmacy'!AF937+'MIS - Pharmacy'!AH937 +'MIS - Pharmacy'!AG937))","v":""},{"$f":"IF(ISBLANK('MIS - Pharmacy'!AI937),\"\",'MIS - Pharmacy'!AI937)","v":""},"","","",{"$f":"IF(ISBLANK('MIS - Pharmacy'!V937),\"\",'MIS - Pharmacy'!V937)","v":""},"","","",{"$f":"IF(ISBLANK('MIS - Pharmacy'!J937),\"\",'MIS - Pharmacy'!J937)","v":""},{"$f":"IF(ISBLANK('MIS - Pharmacy'!AY937),\"\",'MIS - Pharmacy'!AY937)","v":""},{"$f":"IF(ISBLANK('MIS - Pharmacy'!BH937),\"\",'MIS - Pharmacy'!BH937)","v":""},"",""]
[{"$f":"IF(ISBLANK('MIS - Pharmacy'!A938), \"\",'MIS - Pharmacy'!A938)","v":""},{"$f":"IF(ISBLANK('MIS - Pharmacy'!B938),\"\",('MIS - Pharmacy'!B938&\"(\"&'MIS - Pharmacy'!D938&\")\"))","v":""},{"$f":"IF(ISBLANK('MIS - Pharmacy'!BI938), \"\", 'MIS - Pharmacy'!BI938)","v":""},{"$f":"IF(ISBLANK('MIS - Pharmacy'!U938), \"\", 'MIS - Pharmacy'!U938)","v":""},"","","","","","","",{"$f":"IF(ISBLANK('MIS - Pharmacy'!AC938),\"\",'MIS - Pharmacy'!AC938)","v":""},"",{"$f":"IF(ISBLANK('MIS - Pharmacy'!AD938),\"\",'MIS - Pharmacy'!AD938)","v":""},"","",{"$f":"IF('MIS - Pharmacy'!A938=\"\",\"\",SUM('MIS - Pharmacy'!K938+'MIS - Pharmacy'!L938))","v":""},"",{"$f":"IF('MIS - Pharmacy'!A938=\"\",\"\",('MIS - Pharmacy'!AF938+'MIS - Pharmacy'!AH938 +'MIS - Pharmacy'!AG938))","v":""},{"$f":"IF(ISBLANK('MIS - Pharmacy'!AI938),\"\",'MIS - Pharmacy'!AI938)","v":""},"","","",{"$f":"IF(ISBLANK('MIS - Pharmacy'!V938),\"\",'MIS - Pharmacy'!V938)","v":""},"","","",{"$f":"IF(ISBLANK('MIS - Pharmacy'!J938),\"\",'MIS - Pharmacy'!J938)","v":""},{"$f":"IF(ISBLANK('MIS - Pharmacy'!AY938),\"\",'MIS - Pharmacy'!AY938)","v":""},{"$f":"IF(ISBLANK('MIS - Pharmacy'!BH938),\"\",'MIS - Pharmacy'!BH938)","v":""},"",""]
[{"$f":"IF(ISBLANK('MIS - Pharmacy'!A939), \"\",'MIS - Pharmacy'!A939)","v":""},{"$f":"IF(ISBLANK('MIS - Pharmacy'!B939),\"\",('MIS - Pharmacy'!B939&\"(\"&'MIS - Pharmacy'!D939&\")\"))","v":""},{"$f":"IF(ISBLANK('MIS - Pharmacy'!BI939), \"\", 'MIS - Pharmacy'!BI939)","v":""},{"$f":"IF(ISBLANK('MIS - Pharmacy'!U939), \"\", 'MIS - Pharmacy'!U939)","v":""},"","","","","","","",{"$f":"IF(ISBLANK('MIS - Pharmacy'!AC939),\"\",'MIS - Pharmacy'!AC939)","v":""},"",{"$f":"IF(ISBLANK('MIS - Pharmacy'!AD939),\"\",'MIS - Pharmacy'!AD939)","v":""},"","",{"$f":"IF('MIS - Pharmacy'!A939=\"\",\"\",SUM('MIS - Pharmacy'!K939+'MIS - Pharmacy'!L939))","v":""},"",{"$f":"IF('MIS - Pharmacy'!A939=\"\",\"\",('MIS - Pharmacy'!AF939+'MIS - Pharmacy'!AH939 +'MIS - Pharmacy'!AG939))","v":""},{"$f":"IF(ISBLANK('MIS - Pharmacy'!AI939),\"\",'MIS - Pharmacy'!AI939)","v":""},"","","",{"$f":"IF(ISBLANK('MIS - Pharmacy'!V939),\"\",'MIS - Pharmacy'!V939)","v":""},"","","",{"$f":"IF(ISBLANK('MIS - Pharmacy'!J939),\"\",'MIS - Pharmacy'!J939)","v":""},{"$f":"IF(ISBLANK('MIS - Pharmacy'!AY939),\"\",'MIS - Pharmacy'!AY939)","v":""},{"$f":"IF(ISBLANK('MIS - Pharmacy'!BH939),\"\",'MIS - Pharmacy'!BH939)","v":""},"",""]
[{"$f":"IF(ISBLANK('MIS - Pharmacy'!A940), \"\",'MIS - Pharmacy'!A940)","v":""},{"$f":"IF(ISBLANK('MIS - Pharmacy'!B940),\"\",('MIS - Pharmacy'!B940&\"(\"&'MIS - Pharmacy'!D940&\")\"))","v":""},{"$f":"IF(ISBLANK('MIS - Pharmacy'!BI940), \"\", 'MIS - Pharmacy'!BI940)","v":""},{"$f":"IF(ISBLANK('MIS - Pharmacy'!U940), \"\", 'MIS - Pharmacy'!U940)","v":""},"","","","","","","",{"$f":"IF(ISBLANK('MIS - Pharmacy'!AC940),\"\",'MIS - Pharmacy'!AC940)","v":""},"",{"$f":"IF(ISBLANK('MIS - Pharmacy'!AD940),\"\",'MIS - Pharmacy'!AD940)","v":""},"","",{"$f":"IF('MIS - Pharmacy'!A940=\"\",\"\",SUM('MIS - Pharmacy'!K940+'MIS - Pharmacy'!L940))","v":""},"",{"$f":"IF('MIS - Pharmacy'!A940=\"\",\"\",('MIS - Pharmacy'!AF940+'MIS - Pharmacy'!AH940 +'MIS - Pharmacy'!AG940))","v":""},{"$f":"IF(ISBLANK('MIS - Pharmacy'!AI940),\"\",'MIS - Pharmacy'!AI940)","v":""},"","","",{"$f":"IF(ISBLANK('MIS - Pharmacy'!V940),\"\",'MIS - Pharmacy'!V940)","v":""},"","","",{"$f":"IF(ISBLANK('MIS - Pharmacy'!J940),\"\",'MIS - Pharmacy'!J940)","v":""},{"$f":"IF(ISBLANK('MIS - Pharmacy'!AY940),\"\",'MIS - Pharmacy'!AY940)","v":""},{"$f":"IF(ISBLANK('MIS - Pharmacy'!BH940),\"\",'MIS - Pharmacy'!BH940)","v":""},"",""]
[{"$f":"IF(ISBLANK('MIS - Pharmacy'!A941), \"\",'MIS - Pharmacy'!A941)","v":""},{"$f":"IF(ISBLANK('MIS - Pharmacy'!B941),\"\",('MIS - Pharmacy'!B941&\"(\"&'MIS - Pharmacy'!D941&\")\"))","v":""},{"$f":"IF(ISBLANK('MIS - Pharmacy'!BI941), \"\", 'MIS - Pharmacy'!BI941)","v":""},{"$f":"IF(ISBLANK('MIS - Pharmacy'!U941), \"\", 'MIS - Pharmacy'!U941)","v":""},"","","","","","","",{"$f":"IF(ISBLANK('MIS - Pharmacy'!AC941),\"\",'MIS - Pharmacy'!AC941)","v":""},"",{"$f":"IF(ISBLANK('MIS - Pharmacy'!AD941),\"\",'MIS - Pharmacy'!AD941)","v":""},"","",{"$f":"IF('MIS - Pharmacy'!A941=\"\",\"\",SUM('MIS - Pharmacy'!K941+'MIS - Pharmacy'!L941))","v":""},"",{"$f":"IF('MIS - Pharmacy'!A941=\"\",\"\",('MIS - Pharmacy'!AF941+'MIS - Pharmacy'!AH941 +'MIS - Pharmacy'!AG941))","v":""},{"$f":"IF(ISBLANK('MIS - Pharmacy'!AI941),\"\",'MIS - Pharmacy'!AI941)","v":""},"","","",{"$f":"IF(ISBLANK('MIS - Pharmacy'!V941),\"\",'MIS - Pharmacy'!V941)","v":""},"","","",{"$f":"IF(ISBLANK('MIS - Pharmacy'!J941),\"\",'MIS - Pharmacy'!J941)","v":""},{"$f":"IF(ISBLANK('MIS - Pharmacy'!AY941),\"\",'MIS - Pharmacy'!AY941)","v":""},{"$f":"IF(ISBLANK('MIS - Pharmacy'!BH941),\"\",'MIS - Pharmacy'!BH941)","v":""},"",""]
[{"$f":"IF(ISBLANK('MIS - Pharmacy'!A942), \"\",'MIS - Pharmacy'!A942)","v":""},{"$f":"IF(ISBLANK('MIS - Pharmacy'!B942),\"\",('MIS - Pharmacy'!B942&\"(\"&'MIS - Pharmacy'!D942&\")\"))","v":""},{"$f":"IF(ISBLANK('MIS - Pharmacy'!BI942), \"\", 'MIS - Pharmacy'!BI942)","v":""},{"$f":"IF(ISBLANK('MIS - Pharmacy'!U942), \"\", 'MIS - Pharmacy'!U942)","v":""},"","","","","","","",{"$f":"IF(ISBLANK('MIS - Pharmacy'!AC942),\"\",'MIS - Pharmacy'!AC942)","v":""},"",{"$f":"IF(ISBLANK('MIS - Pharmacy'!AD942),\"\",'MIS - Pharmacy'!AD942)","v":""},"","",{"$f":"IF('MIS - Pharmacy'!A942=\"\",\"\",SUM('MIS - Pharmacy'!K942+'MIS - Pharmacy'!L942))","v":""},"",{"$f":"IF('MIS - Pharmacy'!A942=\"\",\"\",('MIS - Pharmacy'!AF942+'MIS - Pharmacy'!AH942 +'MIS - Pharmacy'!AG942))","v":""},{"$f":"IF(ISBLANK('MIS - Pharmacy'!AI942),\"\",'MIS - Pharmacy'!AI942)","v":""},"","","",{"$f":"IF(ISBLANK('MIS - Pharmacy'!V942),\"\",'MIS - Pharmacy'!V942)","v":""},"","","",{"$f":"IF(ISBLANK('MIS - Pharmacy'!J942),\"\",'MIS - Pharmacy'!J942)","v":""},{"$f":"IF(ISBLANK('MIS - Pharmacy'!AY942),\"\",'MIS - Pharmacy'!AY942)","v":""},{"$f":"IF(ISBLANK('MIS - Pharmacy'!BH942),\"\",'MIS - Pharmacy'!BH942)","v":""},"",""]
[{"$f":"IF(ISBLANK('MIS - Pharmacy'!A943), \"\",'MIS - Pharmacy'!A943)","v":""},{"$f":"IF(ISBLANK('MIS - Pharmacy'!B943),\"\",('MIS - Pharmacy'!B943&\"(\"&'MIS - Pharmacy'!D943&\")\"))","v":""},{"$f":"IF(ISBLANK('MIS - Pharmacy'!BI943), \"\", 'MIS - Pharmacy'!BI943)","v":""},{"$f":"IF(ISBLANK('MIS - Pharmacy'!U943), \"\", 'MIS - Pharmacy'!U943)","v":""},"","","","","","","",{"$f":"IF(ISBLANK('MIS - Pharmacy'!AC943),\"\",'MIS - Pharmacy'!AC943)","v":""},"",{"$f":"IF(ISBLANK('MIS - Pharmacy'!AD943),\"\",'MIS - Pharmacy'!AD943)","v":""},"","",{"$f":"IF('MIS - Pharmacy'!A943=\"\",\"\",SUM('MIS - Pharmacy'!K943+'MIS - Pharmacy'!L943))","v":""},"",{"$f":"IF('MIS - Pharmacy'!A943=\"\",\"\",('MIS - Pharmacy'!AF943+'MIS - Pharmacy'!AH943 +'MIS - Pharmacy'!AG943))","v":""},{"$f":"IF(ISBLANK('MIS - Pharmacy'!AI943),\"\",'MIS - Pharmacy'!AI943)","v":""},"","","",{"$f":"IF(ISBLANK('MIS - Pharmacy'!V943),\"\",'MIS - Pharmacy'!V943)","v":""},"","","",{"$f":"IF(ISBLANK('MIS - Pharmacy'!J943),\"\",'MIS - Pharmacy'!J943)","v":""},{"$f":"IF(ISBLANK('MIS - Pharmacy'!AY943),\"\",'MIS - Pharmacy'!AY943)","v":""},{"$f":"IF(ISBLANK('MIS - Pharmacy'!BH943),\"\",'MIS - Pharmacy'!BH943)","v":""},"",""]
[{"$f":"IF(ISBLANK('MIS - Pharmacy'!A944), \"\",'MIS - Pharmacy'!A944)","v":""},{"$f":"IF(ISBLANK('MIS - Pharmacy'!B944),\"\",('MIS - Pharmacy'!B944&\"(\"&'MIS - Pharmacy'!D944&\")\"))","v":""},{"$f":"IF(ISBLANK('MIS - Pharmacy'!BI944), \"\", 'MIS - Pharmacy'!BI944)","v":""},{"$f":"IF(ISBLANK('MIS - Pharmacy'!U944), \"\", 'MIS - Pharmacy'!U944)","v":""},"","","","","","","",{"$f":"IF(ISBLANK('MIS - Pharmacy'!AC944),\"\",'MIS - Pharmacy'!AC944)","v":""},"",{"$f":"IF(ISBLANK('MIS - Pharmacy'!AD944),\"\",'MIS - Pharmacy'!AD944)","v":""},"","",{"$f":"IF('MIS - Pharmacy'!A944=\"\",\"\",SUM('MIS - Pharmacy'!K944+'MIS - Pharmacy'!L944))","v":""},"",{"$f":"IF('MIS - Pharmacy'!A944=\"\",\"\",('MIS - Pharmacy'!AF944+'MIS - Pharmacy'!AH944 +'MIS - Pharmacy'!AG944))","v":""},{"$f":"IF(ISBLANK('MIS - Pharmacy'!AI944),\"\",'MIS - Pharmacy'!AI944)","v":""},"","","",{"$f":"IF(ISBLANK('MIS - Pharmacy'!V944),\"\",'MIS - Pharmacy'!V944)","v":""},"","","",{"$f":"IF(ISBLANK('MIS - Pharmacy'!J944),\"\",'MIS - Pharmacy'!J944)","v":""},{"$f":"IF(ISBLANK('MIS - Pharmacy'!AY944),\"\",'MIS - Pharmacy'!AY944)","v":""},{"$f":"IF(ISBLANK('MIS - Pharmacy'!BH944),\"\",'MIS - Pharmacy'!BH944)","v":""},"",""]
[{"$f":"IF(ISBLANK('MIS - Pharmacy'!A945), \"\",'MIS - Pharmacy'!A945)","v":""},{"$f":"IF(ISBLANK('MIS - Pharmacy'!B945),\"\",('MIS - Pharmacy'!B945&\"(\"&'MIS - Pharmacy'!D945&\")\"))","v":""},{"$f":"IF(ISBLANK('MIS - Pharmacy'!BI945), \"\", 'MIS - Pharmacy'!BI945)","v":""},{"$f":"IF(ISBLANK('MIS - Pharmacy'!U945), \"\", 'MIS - Pharmacy'!U945)","v":""},"","","","","","","",{"$f":"IF(ISBLANK('MIS - Pharmacy'!AC945),\"\",'MIS - Pharmacy'!AC945)","v":""},"",{"$f":"IF(ISBLANK('MIS - Pharmacy'!AD945),\"\",'MIS - Pharmacy'!AD945)","v":""},"","",{"$f":"IF('MIS - Pharmacy'!A945=\"\",\"\",SUM('MIS - Pharmacy'!K945+'MIS - Pharmacy'!L945))","v":""},"",{"$f":"IF('MIS - Pharmacy'!A945=\"\",\"\",('MIS - Pharmacy'!AF945+'MIS - Pharmacy'!AH945 +'MIS - Pharmacy'!AG945))","v":""},{"$f":"IF(ISBLANK('MIS - Pharmacy'!AI945),\"\",'MIS - Pharmacy'!AI945)","v":""},"","","",{"$f":"IF(ISBLANK('MIS - Pharmacy'!V945),\"\",'MIS - Pharmacy'!V945)","v":""},"","","",{"$f":"IF(ISBLANK('MIS - Pharmacy'!J945),\"\",'MIS - Pharmacy'!J945)","v":""},{"$f":"IF(ISBLANK('MIS - Pharmacy'!AY945),\"\",'MIS - Pharmacy'!AY945)","v":""},{"$f":"IF(ISBLANK('MIS - Pharmacy'!BH945),\"\",'MIS - Pharmacy'!BH945)","v":""},"",""]
[{"$f":"IF(ISBLANK('MIS - Pharmacy'!A946), \"\",'MIS - Pharmacy'!A946)","v":""},{"$f":"IF(ISBLANK('MIS - Pharmacy'!B946),\"\",('MIS - Pharmacy'!B946&\"(\"&'MIS - Pharmacy'!D946&\")\"))","v":""},{"$f":"IF(ISBLANK('MIS - Pharmacy'!BI946), \"\", 'MIS - Pharmacy'!BI946)","v":""},{"$f":"IF(ISBLANK('MIS - Pharmacy'!U946), \"\", 'MIS - Pharmacy'!U946)","v":""},"","","","","","","",{"$f":"IF(ISBLANK('MIS - Pharmacy'!AC946),\"\",'MIS - Pharmacy'!AC946)","v":""},"",{"$f":"IF(ISBLANK('MIS - Pharmacy'!AD946),\"\",'MIS - Pharmacy'!AD946)","v":""},"","",{"$f":"IF('MIS - Pharmacy'!A946=\"\",\"\",SUM('MIS - Pharmacy'!K946+'MIS - Pharmacy'!L946))","v":""},"",{"$f":"IF('MIS - Pharmacy'!A946=\"\",\"\",('MIS - Pharmacy'!AF946+'MIS - Pharmacy'!AH946 +'MIS - Pharmacy'!AG946))","v":""},{"$f":"IF(ISBLANK('MIS - Pharmacy'!AI946),\"\",'MIS - Pharmacy'!AI946)","v":""},"","","",{"$f":"IF(ISBLANK('MIS - Pharmacy'!V946),\"\",'MIS - Pharmacy'!V946)","v":""},"","","",{"$f":"IF(ISBLANK('MIS - Pharmacy'!J946),\"\",'MIS - Pharmacy'!J946)","v":""},{"$f":"IF(ISBLANK('MIS - Pharmacy'!AY946),\"\",'MIS - Pharmacy'!AY946)","v":""},{"$f":"IF(ISBLANK('MIS - Pharmacy'!BH946),\"\",'MIS - Pharmacy'!BH946)","v":""},"",""]
[{"$f":"IF(ISBLANK('MIS - Pharmacy'!A947), \"\",'MIS - Pharmacy'!A947)","v":""},{"$f":"IF(ISBLANK('MIS - Pharmacy'!B947),\"\",('MIS - Pharmacy'!B947&\"(\"&'MIS - Pharmacy'!D947&\")\"))","v":""},{"$f":"IF(ISBLANK('MIS - Pharmacy'!BI947), \"\", 'MIS - Pharmacy'!BI947)","v":""},{"$f":"IF(ISBLANK('MIS - Pharmacy'!U947), \"\", 'MIS - Pharmacy'!U947)","v":""},"","","","","","","",{"$f":"IF(ISBLANK('MIS - Pharmacy'!AC947),\"\",'MIS - Pharmacy'!AC947)","v":""},"",{"$f":"IF(ISBLANK('MIS - Pharmacy'!AD947),\"\",'MIS - Pharmacy'!AD947)","v":""},"","",{"$f":"IF('MIS - Pharmacy'!A947=\"\",\"\",SUM('MIS - Pharmacy'!K947+'MIS - Pharmacy'!L947))","v":""},"",{"$f":"IF('MIS - Pharmacy'!A947=\"\",\"\",('MIS - Pharmacy'!AF947+'MIS - Pharmacy'!AH947 +'MIS - Pharmacy'!AG947))","v":""},{"$f":"IF(ISBLANK('MIS - Pharmacy'!AI947),\"\",'MIS - Pharmacy'!AI947)","v":""},"","","",{"$f":"IF(ISBLANK('MIS - Pharmacy'!V947),\"\",'MIS - Pharmacy'!V947)","v":""},"","","",{"$f":"IF(ISBLANK('MIS - Pharmacy'!J947),\"\",'MIS - Pharmacy'!J947)","v":""},{"$f":"IF(ISBLANK('MIS - Pharmacy'!AY947),\"\",'MIS - Pharmacy'!AY947)","v":""},{"$f":"IF(ISBLANK('MIS - Pharmacy'!BH947),\"\",'MIS - Pharmacy'!BH947)","v":""},"",""]
[{"$f":"IF(ISBLANK('MIS - Pharmacy'!A948), \"\",'MIS - Pharmacy'!A948)","v":""},{"$f":"IF(ISBLANK('MIS - Pharmacy'!B948),\"\",('MIS - Pharmacy'!B948&\"(\"&'MIS - Pharmacy'!D948&\")\"))","v":""},{"$f":"IF(ISBLANK('MIS - Pharmacy'!BI948), \"\", 'MIS - Pharmacy'!BI948)","v":""},{"$f":"IF(ISBLANK('MIS - Pharmacy'!U948), \"\", 'MIS - Pharmacy'!U948)","v":""},"","","","","","","",{"$f":"IF(ISBLANK('MIS - Pharmacy'!AC948),\"\",'MIS - Pharmacy'!AC948)","v":""},"",{"$f":"IF(ISBLANK('MIS - Pharmacy'!AD948),\"\",'MIS - Pharmacy'!AD948)","v":""},"","",{"$f":"IF('MIS - Pharmacy'!A948=\"\",\"\",SUM('MIS - Pharmacy'!K948+'MIS - Pharmacy'!L948))","v":""},"",{"$f":"IF('MIS - Pharmacy'!A948=\"\",\"\",('MIS - Pharmacy'!AF948+'MIS - Pharmacy'!AH948 +'MIS - Pharmacy'!AG948))","v":""},{"$f":"IF(ISBLANK('MIS - Pharmacy'!AI948),\"\",'MIS - Pharmacy'!AI948)","v":""},"","","",{"$f":"IF(ISBLANK('MIS - Pharmacy'!V948),\"\",'MIS - Pharmacy'!V948)","v":""},"","","",{"$f":"IF(ISBLANK('MIS - Pharmacy'!J948),\"\",'MIS - Pharmacy'!J948)","v":""},{"$f":"IF(ISBLANK('MIS - Pharmacy'!AY948),\"\",'MIS - Pharmacy'!AY948)","v":""},{"$f":"IF(ISBLANK('MIS - Pharmacy'!BH948),\"\",'MIS - Pharmacy'!BH948)","v":""},"",""]
[{"$f":"IF(ISBLANK('MIS - Pharmacy'!A949), \"\",'MIS - Pharmacy'!A949)","v":""},{"$f":"IF(ISBLANK('MIS - Pharmacy'!B949),\"\",('MIS - Pharmacy'!B949&\"(\"&'MIS - Pharmacy'!D949&\")\"))","v":""},{"$f":"IF(ISBLANK('MIS - Pharmacy'!BI949), \"\", 'MIS - Pharmacy'!BI949)","v":""},{"$f":"IF(ISBLANK('MIS - Pharmacy'!U949), \"\", 'MIS - Pharmacy'!U949)","v":""},"","","","","","","",{"$f":"IF(ISBLANK('MIS - Pharmacy'!AC949),\"\",'MIS - Pharmacy'!AC949)","v":""},"",{"$f":"IF(ISBLANK('MIS - Pharmacy'!AD949),\"\",'MIS - Pharmacy'!AD949)","v":""},"","",{"$f":"IF('MIS - Pharmacy'!A949=\"\",\"\",SUM('MIS - Pharmacy'!K949+'MIS - Pharmacy'!L949))","v":""},"",{"$f":"IF('MIS - Pharmacy'!A949=\"\",\"\",('MIS - Pharmacy'!AF949+'MIS - Pharmacy'!AH949 +'MIS - Pharmacy'!AG949))","v":""},{"$f":"IF(ISBLANK('MIS - Pharmacy'!AI949),\"\",'MIS - Pharmacy'!AI949)","v":""},"","","",{"$f":"IF(ISBLANK('MIS - Pharmacy'!V949),\"\",'MIS - Pharmacy'!V949)","v":""},"","","",{"$f":"IF(ISBLANK('MIS - Pharmacy'!J949),\"\",'MIS - Pharmacy'!J949)","v":""},{"$f":"IF(ISBLANK('MIS - Pharmacy'!AY949),\"\",'MIS - Pharmacy'!AY949)","v":""},{"$f":"IF(ISBLANK('MIS - Pharmacy'!BH949),\"\",'MIS - Pharmacy'!BH949)","v":""},"",""]
[{"$f":"IF(ISBLANK('MIS - Pharmacy'!A950), \"\",'MIS - Pharmacy'!A950)","v":""},{"$f":"IF(ISBLANK('MIS - Pharmacy'!B950),\"\",('MIS - Pharmacy'!B950&\"(\"&'MIS - Pharmacy'!D950&\")\"))","v":""},{"$f":"IF(ISBLANK('MIS - Pharmacy'!BI950), \"\", 'MIS - Pharmacy'!BI950)","v":""},{"$f":"IF(ISBLANK('MIS - Pharmacy'!U950), \"\", 'MIS - Pharmacy'!U950)","v":""},"","","","","","","",{"$f":"IF(ISBLANK('MIS - Pharmacy'!AC950),\"\",'MIS - Pharmacy'!AC950)","v":""},"",{"$f":"IF(ISBLANK('MIS - Pharmacy'!AD950),\"\",'MIS - Pharmacy'!AD950)","v":""},"","",{"$f":"IF('MIS - Pharmacy'!A950=\"\",\"\",SUM('MIS - Pharmacy'!K950+'MIS - Pharmacy'!L950))","v":""},"",{"$f":"IF('MIS - Pharmacy'!A950=\"\",\"\",('MIS - Pharmacy'!AF950+'MIS - Pharmacy'!AH950 +'MIS - Pharmacy'!AG950))","v":""},{"$f":"IF(ISBLANK('MIS - Pharmacy'!AI950),\"\",'MIS - Pharmacy'!AI950)","v":""},"","","",{"$f":"IF(ISBLANK('MIS - Pharmacy'!V950),\"\",'MIS - Pharmacy'!V950)","v":""},"","","",{"$f":"IF(ISBLANK('MIS - Pharmacy'!J950),\"\",'MIS - Pharmacy'!J950)","v":""},{"$f":"IF(ISBLANK('MIS - Pharmacy'!AY950),\"\",'MIS - Pharmacy'!AY950)","v":""},{"$f":"IF(ISBLANK('MIS - Pharmacy'!BH950),\"\",'MIS - Pharmacy'!BH950)","v":""},"",""]
[{"$f":"IF(ISBLANK('MIS - Pharmacy'!A951), \"\",'MIS - Pharmacy'!A951)","v":""},{"$f":"IF(ISBLANK('MIS - Pharmacy'!B951),\"\",('MIS - Pharmacy'!B951&\"(\"&'MIS - Pharmacy'!D951&\")\"))","v":""},{"$f":"IF(ISBLANK('MIS - Pharmacy'!BI951), \"\", 'MIS - Pharmacy'!BI951)","v":""},{"$f":"IF(ISBLANK('MIS - Pharmacy'!U951), \"\", 'MIS - Pharmacy'!U951)","v":""},"","","","","","","",{"$f":"IF(ISBLANK('MIS - Pharmacy'!AC951),\"\",'MIS - Pharmacy'!AC951)","v":""},"",{"$f":"IF(ISBLANK('MIS - Pharmacy'!AD951),\"\",'MIS - Pharmacy'!AD951)","v":""},"","",{"$f":"IF('MIS - Pharmacy'!A951=\"\",\"\",SUM('MIS - Pharmacy'!K951+'MIS - Pharmacy'!L951))","v":""},"",{"$f":"IF('MIS - Pharmacy'!A951=\"\",\"\",('MIS - Pharmacy'!AF951+'MIS - Pharmacy'!AH951 +'MIS - Pharmacy'!AG951))","v":""},{"$f":"IF(ISBLANK('MIS - Pharmacy'!AI951),\"\",'MIS - Pharmacy'!AI951)","v":""},"","","",{"$f":"IF(ISBLANK('MIS - Pharmacy'!V951),\"\",'MIS - Pharmacy'!V951)","v":""},"","","",{"$f":"IF(ISBLANK('MIS - Pharmacy'!J951),\"\",'MIS - Pharmacy'!J951)","v":""},{"$f":"IF(ISBLANK('MIS - Pharmacy'!AY951),\"\",'MIS - Pharmacy'!AY951)","v":""},{"$f":"IF(ISBLANK('MIS - Pharmacy'!BH951),\"\",'MIS - Pharmacy'!BH951)","v":""},"",""]
[{"$f":"IF(ISBLANK('MIS - Pharmacy'!A952), \"\",'MIS - Pharmacy'!A952)","v":""},{"$f":"IF(ISBLANK('MIS - Pharmacy'!B952),\"\",('MIS - Pharmacy'!B952&\"(\"&'MIS - Pharmacy'!D952&\")\"))","v":""},{"$f":"IF(ISBLANK('MIS - Pharmacy'!BI952), \"\", 'MIS - Pharmacy'!BI952)","v":""},{"$f":"IF(ISBLANK('MIS - Pharmacy'!U952), \"\", 'MIS - Pharmacy'!U952)","v":""},"","","","","","","",{"$f":"IF(ISBLANK('MIS - Pharmacy'!AC952),\"\",'MIS - Pharmacy'!AC952)","v":""},"",{"$f":"IF(ISBLANK('MIS - Pharmacy'!AD952),\"\",'MIS - Pharmacy'!AD952)","v":""},"","",{"$f":"IF('MIS - Pharmacy'!A952=\"\",\"\",SUM('MIS - Pharmacy'!K952+'MIS - Pharmacy'!L952))","v":""},"",{"$f":"IF('MIS - Pharmacy'!A952=\"\",\"\",('MIS - Pharmacy'!AF952+'MIS - Pharmacy'!AH952 +'MIS - Pharmacy'!AG952))","v":""},{"$f":"IF(ISBLANK('MIS - Pharmacy'!AI952),\"\",'MIS - Pharmacy'!AI952)","v":""},"","","",{"$f":"IF(ISBLANK('MIS - Pharmacy'!V952),\"\",'MIS - Pharmacy'!V952)","v":""},"","","",{"$f":"IF(ISBLANK('MIS - Pharmacy'!J952),\"\",'MIS - Pharmacy'!J952)","v":""},{"$f":"IF(ISBLANK('MIS - Pharmacy'!AY952),\"\",'MIS - Pharmacy'!AY952)","v":""},{"$f":"IF(ISBLANK('MIS - Pharmacy'!BH952),\"\",'MIS - Pharmacy'!BH952)","v":""},"",""]
[{"$f":"IF(ISBLANK('MIS - Pharmacy'!A953), \"\",'MIS - Pharmacy'!A953)","v":""},{"$f":"IF(ISBLANK('MIS - Pharmacy'!B953),\"\",('MIS - Pharmacy'!B953&\"(\"&'MIS - Pharmacy'!D953&\")\"))","v":""},{"$f":"IF(ISBLANK('MIS - Pharmacy'!BI953), \"\", 'MIS - Pharmacy'!BI953)","v":""},{"$f":"IF(ISBLANK('MIS - Pharmacy'!U953), \"\", 'MIS - Pharmacy'!U953)","v":""},"","","","","","","",{"$f":"IF(ISBLANK('MIS - Pharmacy'!AC953),\"\",'MIS - Pharmacy'!AC953)","v":""},"",{"$f":"IF(ISBLANK('MIS - Pharmacy'!AD953),\"\",'MIS - Pharmacy'!AD953)","v":""},"","",{"$f":"IF('MIS - Pharmacy'!A953=\"\",\"\",SUM('MIS - Pharmacy'!K953+'MIS - Pharmacy'!L953))","v":""},"",{"$f":"IF('MIS - Pharmacy'!A953=\"\",\"\",('MIS - Pharmacy'!AF953+'MIS - Pharmacy'!AH953 +'MIS - Pharmacy'!AG953))","v":""},{"$f":"IF(ISBLANK('MIS - Pharmacy'!AI953),\"\",'MIS - Pharmacy'!AI953)","v":""},"","","",{"$f":"IF(ISBLANK('MIS - Pharmacy'!V953),\"\",'MIS - Pharmacy'!V953)","v":""},"","","",{"$f":"IF(ISBLANK('MIS - Pharmacy'!J953),\"\",'MIS - Pharmacy'!J953)","v":""},{"$f":"IF(ISBLANK('MIS - Pharmacy'!AY953),\"\",'MIS - Pharmacy'!AY953)","v":""},{"$f":"IF(ISBLANK('MIS - Pharmacy'!BH953),\"\",'MIS - Pharmacy'!BH953)","v":""},"",""]
[{"$f":"IF(ISBLANK('MIS - Pharmacy'!A954), \"\",'MIS - Pharmacy'!A954)","v":""},{"$f":"IF(ISBLANK('MIS - Pharmacy'!B954),\"\",('MIS - Pharmacy'!B954&\"(\"&'MIS - Pharmacy'!D954&\")\"))","v":""},{"$f":"IF(ISBLANK('MIS - Pharmacy'!BI954), \"\", 'MIS - Pharmacy'!BI954)","v":""},{"$f":"IF(ISBLANK('MIS - Pharmacy'!U954), \"\", 'MIS - Pharmacy'!U954)","v":""},"","","","","","","",{"$f":"IF(ISBLANK('MIS - Pharmacy'!AC954),\"\",'MIS - Pharmacy'!AC954)","v":""},"",{"$f":"IF(ISBLANK('MIS - Pharmacy'!AD954),\"\",'MIS - Pharmacy'!AD954)","v":""},"","",{"$f":"IF('MIS - Pharmacy'!A954=\"\",\"\",SUM('MIS - Pharmacy'!K954+'MIS - Pharmacy'!L954))","v":""},"",{"$f":"IF('MIS - Pharmacy'!A954=\"\",\"\",('MIS - Pharmacy'!AF954+'MIS - Pharmacy'!AH954 +'MIS - Pharmacy'!AG954))","v":""},{"$f":"IF(ISBLANK('MIS - Pharmacy'!AI954),\"\",'MIS - Pharmacy'!AI954)","v":""},"","","",{"$f":"IF(ISBLANK('MIS - Pharmacy'!V954),\"\",'MIS - Pharmacy'!V954)","v":""},"","","",{"$f":"IF(ISBLANK('MIS - Pharmacy'!J954),\"\",'MIS - Pharmacy'!J954)","v":""},{"$f":"IF(ISBLANK('MIS - Pharmacy'!AY954),\"\",'MIS - Pharmacy'!AY954)","v":""},{"$f":"IF(ISBLANK('MIS - Pharmacy'!BH954),\"\",'MIS - Pharmacy'!BH954)","v":""},"",""]
[{"$f":"IF(ISBLANK('MIS - Pharmacy'!A955), \"\",'MIS - Pharmacy'!A955)","v":""},{"$f":"IF(ISBLANK('MIS - Pharmacy'!B955),\"\",('MIS - Pharmacy'!B955&\"(\"&'MIS - Pharmacy'!D955&\")\"))","v":""},{"$f":"IF(ISBLANK('MIS - Pharmacy'!BI955), \"\", 'MIS - Pharmacy'!BI955)","v":""},{"$f":"IF(ISBLANK('MIS - Pharmacy'!U955), \"\", 'MIS - Pharmacy'!U955)","v":""},"","","","","","","",{"$f":"IF(ISBLANK('MIS - Pharmacy'!AC955),\"\",'MIS - Pharmacy'!AC955)","v":""},"",{"$f":"IF(ISBLANK('MIS - Pharmacy'!AD955),\"\",'MIS - Pharmacy'!AD955)","v":""},"","",{"$f":"IF('MIS - Pharmacy'!A955=\"\",\"\",SUM('MIS - Pharmacy'!K955+'MIS - Pharmacy'!L955))","v":""},"",{"$f":"IF('MIS - Pharmacy'!A955=\"\",\"\",('MIS - Pharmacy'!AF955+'MIS - Pharmacy'!AH955 +'MIS - Pharmacy'!AG955))","v":""},{"$f":"IF(ISBLANK('MIS - Pharmacy'!AI955),\"\",'MIS - Pharmacy'!AI955)","v":""},"","","",{"$f":"IF(ISBLANK('MIS - Pharmacy'!V955),\"\",'MIS - Pharmacy'!V955)","v":""},"","","",{"$f":"IF(ISBLANK('MIS - Pharmacy'!J955),\"\",'MIS - Pharmacy'!J955)","v":""},{"$f":"IF(ISBLANK('MIS - Pharmacy'!AY955),\"\",'MIS - Pharmacy'!AY955)","v":""},{"$f":"IF(ISBLANK('MIS - Pharmacy'!BH955),\"\",'MIS - Pharmacy'!BH955)","v":""},"",""]
[{"$f":"IF(ISBLANK('MIS - Pharmacy'!A956), \"\",'MIS - Pharmacy'!A956)","v":""},{"$f":"IF(ISBLANK('MIS - Pharmacy'!B956),\"\",('MIS - Pharmacy'!B956&\"(\"&'MIS - Pharmacy'!D956&\")\"))","v":""},{"$f":"IF(ISBLANK('MIS - Pharmacy'!BI956), \"\", 'MIS - Pharmacy'!BI956)","v":""},{"$f":"IF(ISBLANK('MIS - Pharmacy'!U956), \"\", 'MIS - Pharmacy'!U956)","v":""},"","","","","","","",{"$f":"IF(ISBLANK('MIS - Pharmacy'!AC956),\"\",'MIS - Pharmacy'!AC956)","v":""},"",{"$f":"IF(ISBLANK('MIS - Pharmacy'!AD956),\"\",'MIS - Pharmacy'!AD956)","v":""},"","",{"$f":"IF('MIS - Pharmacy'!A956=\"\",\"\",SUM('MIS - Pharmacy'!K956+'MIS - Pharmacy'!L956))","v":""},"",{"$f":"IF('MIS - Pharmacy'!A956=\"\",\"\",('MIS - Pharmacy'!AF956+'MIS - Pharmacy'!AH956 +'MIS - Pharmacy'!AG956))","v":""},{"$f":"IF(ISBLANK('MIS - Pharmacy'!AI956),\"\",'MIS - Pharmacy'!AI956)","v":""},"","","",{"$f":"IF(ISBLANK('MIS - Pharmacy'!V956),\"\",'MIS - Pharmacy'!V956)","v":""},"","","",{"$f":"IF(ISBLANK('MIS - Pharmacy'!J956),\"\",'MIS - Pharmacy'!J956)","v":""},{"$f":"IF(ISBLANK('MIS - Pharmacy'!AY956),\"\",'MIS - Pharmacy'!AY956)","v":""},{"$f":"IF(ISBLANK('MIS - Pharmacy'!BH956),\"\",'MIS - Pharmacy'!BH956)","v":""},"",""]
[{"$f":"IF(ISBLANK('MIS - Pharmacy'!A957), \"\",'MIS - Pharmacy'!A957)","v":""},{"$f":"IF(ISBLANK('MIS - Pharmacy'!B957),\"\",('MIS - Pharmacy'!B957&\"(\"&'MIS - Pharmacy'!D957&\")\"))","v":""},{"$f":"IF(ISBLANK('MIS - Pharmacy'!BI957), \"\", 'MIS - Pharmacy'!BI957)","v":""},{"$f":"IF(ISBLANK('MIS - Pharmacy'!U957), \"\", 'MIS - Pharmacy'!U957)","v":""},"","","","","","","",{"$f":"IF(ISBLANK('MIS - Pharmacy'!AC957),\"\",'MIS - Pharmacy'!AC957)","v":""},"",{"$f":"IF(ISBLANK('MIS - Pharmacy'!AD957),\"\",'MIS - Pharmacy'!AD957)","v":""},"","",{"$f":"IF('MIS - Pharmacy'!A957=\"\",\"\",SUM('MIS - Pharmacy'!K957+'MIS - Pharmacy'!L957))","v":""},"",{"$f":"IF('MIS - Pharmacy'!A957=\"\",\"\",('MIS - Pharmacy'!AF957+'MIS - Pharmacy'!AH957 +'MIS - Pharmacy'!AG957))","v":""},{"$f":"IF(ISBLANK('MIS - Pharmacy'!AI957),\"\",'MIS - Pharmacy'!AI957)","v":""},"","","",{"$f":"IF(ISBLANK('MIS - Pharmacy'!V957),\"\",'MIS - Pharmacy'!V957)","v":""},"","","",{"$f":"IF(ISBLANK('MIS - Pharmacy'!J957),\"\",'MIS - Pharmacy'!J957)","v":""},{"$f":"IF(ISBLANK('MIS - Pharmacy'!AY957),\"\",'MIS - Pharmacy'!AY957)","v":""},{"$f":"IF(ISBLANK('MIS - Pharmacy'!BH957),\"\",'MIS - Pharmacy'!BH957)","v":""},"",""]
[{"$f":"IF(ISBLANK('MIS - Pharmacy'!A958), \"\",'MIS - Pharmacy'!A958)","v":""},{"$f":"IF(ISBLANK('MIS - Pharmacy'!B958),\"\",('MIS - Pharmacy'!B958&\"(\"&'MIS - Pharmacy'!D958&\")\"))","v":""},{"$f":"IF(ISBLANK('MIS - Pharmacy'!BI958), \"\", 'MIS - Pharmacy'!BI958)","v":""},{"$f":"IF(ISBLANK('MIS - Pharmacy'!U958), \"\", 'MIS - Pharmacy'!U958)","v":""},"","","","","","","",{"$f":"IF(ISBLANK('MIS - Pharmacy'!AC958),\"\",'MIS - Pharmacy'!AC958)","v":""},"",{"$f":"IF(ISBLANK('MIS - Pharmacy'!AD958),\"\",'MIS - Pharmacy'!AD958)","v":""},"","",{"$f":"IF('MIS - Pharmacy'!A958=\"\",\"\",SUM('MIS - Pharmacy'!K958+'MIS - Pharmacy'!L958))","v":""},"",{"$f":"IF('MIS - Pharmacy'!A958=\"\",\"\",('MIS - Pharmacy'!AF958+'MIS - Pharmacy'!AH958 +'MIS - Pharmacy'!AG958))","v":""},{"$f":"IF(ISBLANK('MIS - Pharmacy'!AI958),\"\",'MIS - Pharmacy'!AI958)","v":""},"","","",{"$f":"IF(ISBLANK('MIS - Pharmacy'!V958),\"\",'MIS - Pharmacy'!V958)","v":""},"","","",{"$f":"IF(ISBLANK('MIS - Pharmacy'!J958),\"\",'MIS - Pharmacy'!J958)","v":""},{"$f":"IF(ISBLANK('MIS - Pharmacy'!AY958),\"\",'MIS - Pharmacy'!AY958)","v":""},{"$f":"IF(ISBLANK('MIS - Pharmacy'!BH958),\"\",'MIS - Pharmacy'!BH958)","v":""},"",""]
[{"$f":"IF(ISBLANK('MIS - Pharmacy'!A959), \"\",'MIS - Pharmacy'!A959)","v":""},{"$f":"IF(ISBLANK('MIS - Pharmacy'!B959),\"\",('MIS - Pharmacy'!B959&\"(\"&'MIS - Pharmacy'!D959&\")\"))","v":""},{"$f":"IF(ISBLANK('MIS - Pharmacy'!BI959), \"\", 'MIS - Pharmacy'!BI959)","v":""},{"$f":"IF(ISBLANK('MIS - Pharmacy'!U959), \"\", 'MIS - Pharmacy'!U959)","v":""},"","","","","","","",{"$f":"IF(ISBLANK('MIS - Pharmacy'!AC959),\"\",'MIS - Pharmacy'!AC959)","v":""},"",{"$f":"IF(ISBLANK('MIS - Pharmacy'!AD959),\"\",'MIS - Pharmacy'!AD959)","v":""},"","",{"$f":"IF('MIS - Pharmacy'!A959=\"\",\"\",SUM('MIS - Pharmacy'!K959+'MIS - Pharmacy'!L959))","v":""},"",{"$f":"IF('MIS - Pharmacy'!A959=\"\",\"\",('MIS - Pharmacy'!AF959+'MIS - Pharmacy'!AH959 +'MIS - Pharmacy'!AG959))","v":""},{"$f":"IF(ISBLANK('MIS - Pharmacy'!AI959),\"\",'MIS - Pharmacy'!AI959)","v":""},"","","",{"$f":"IF(ISBLANK('MIS - Pharmacy'!V959),\"\",'MIS - Pharmacy'!V959)","v":""},"","","",{"$f":"IF(ISBLANK('MIS - Pharmacy'!J959),\"\",'MIS - Pharmacy'!J959)","v":""},{"$f":"IF(ISBLANK('MIS - Pharmacy'!AY959),\"\",'MIS - Pharmacy'!AY959)","v":""},{"$f":"IF(ISBLANK('MIS - Pharmacy'!BH959),\"\",'MIS - Pharmacy'!BH959)","v":""},"",""]
[{"$f":"IF(ISBLANK('MIS - Pharmacy'!A960), \"\",'MIS - Pharmacy'!A960)","v":""},{"$f":"IF(ISBLANK('MIS - Pharmacy'!B960),\"\",('MIS - Pharmacy'!B960&\"(\"&'MIS - Pharmacy'!D960&\")\"))","v":""},{"$f":"IF(ISBLANK('MIS - Pharmacy'!BI960), \"\", 'MIS - Pharmacy'!BI960)","v":""},{"$f":"IF(ISBLANK('MIS - Pharmacy'!U960), \"\", 'MIS - Pharmacy'!U960)","v":""},"","","","","","","",{"$f":"IF(ISBLANK('MIS - Pharmacy'!AC960),\"\",'MIS - Pharmacy'!AC960)","v":""},"",{"$f":"IF(ISBLANK('MIS - Pharmacy'!AD960),\"\",'MIS - Pharmacy'!AD960)","v":""},"","",{"$f":"IF('MIS - Pharmacy'!A960=\"\",\"\",SUM('MIS - Pharmacy'!K960+'MIS - Pharmacy'!L960))","v":""},"",{"$f":"IF('MIS - Pharmacy'!A960=\"\",\"\",('MIS - Pharmacy'!AF960+'MIS - Pharmacy'!AH960 +'MIS - Pharmacy'!AG960))","v":""},{"$f":"IF(ISBLANK('MIS - Pharmacy'!AI960),\"\",'MIS - Pharmacy'!AI960)","v":""},"","","",{"$f":"IF(ISBLANK('MIS - Pharmacy'!V960),\"\",'MIS - Pharmacy'!V960)","v":""},"","","",{"$f":"IF(ISBLANK('MIS - Pharmacy'!J960),\"\",'MIS - Pharmacy'!J960)","v":""},{"$f":"IF(ISBLANK('MIS - Pharmacy'!AY960),\"\",'MIS - Pharmacy'!AY960)","v":""},{"$f":"IF(ISBLANK('MIS - Pharmacy'!BH960),\"\",'MIS - Pharmacy'!BH960)","v":""},"",""]
[{"$f":"IF(ISBLANK('MIS - Pharmacy'!A961), \"\",'MIS - Pharmacy'!A961)","v":""},{"$f":"IF(ISBLANK('MIS - Pharmacy'!B961),\"\",('MIS - Pharmacy'!B961&\"(\"&'MIS - Pharmacy'!D961&\")\"))","v":""},{"$f":"IF(ISBLANK('MIS - Pharmacy'!BI961), \"\", 'MIS - Pharmacy'!BI961)","v":""},{"$f":"IF(ISBLANK('MIS - Pharmacy'!U961), \"\", 'MIS - Pharmacy'!U961)","v":""},"","","","","","","",{"$f":"IF(ISBLANK('MIS - Pharmacy'!AC961),\"\",'MIS - Pharmacy'!AC961)","v":""},"",{"$f":"IF(ISBLANK('MIS - Pharmacy'!AD961),\"\",'MIS - Pharmacy'!AD961)","v":""},"","",{"$f":"IF('MIS - Pharmacy'!A961=\"\",\"\",SUM('MIS - Pharmacy'!K961+'MIS - Pharmacy'!L961))","v":""},"",{"$f":"IF('MIS - Pharmacy'!A961=\"\",\"\",('MIS - Pharmacy'!AF961+'MIS - Pharmacy'!AH961 +'MIS - Pharmacy'!AG961))","v":""},{"$f":"IF(ISBLANK('MIS - Pharmacy'!AI961),\"\",'MIS - Pharmacy'!AI961)","v":""},"","","",{"$f":"IF(ISBLANK('MIS - Pharmacy'!V961),\"\",'MIS - Pharmacy'!V961)","v":""},"","","",{"$f":"IF(ISBLANK('MIS - Pharmacy'!J961),\"\",'MIS - Pharmacy'!J961)","v":""},{"$f":"IF(ISBLANK('MIS - Pharmacy'!AY961),\"\",'MIS - Pharmacy'!AY961)","v":""},{"$f":"IF(ISBLANK('MIS - Pharmacy'!BH961),\"\",'MIS - Pharmacy'!BH961)","v":""},"",""]
[{"$f":"IF(ISBLANK('MIS - Pharmacy'!A962), \"\",'MIS - Pharmacy'!A962)","v":""},{"$f":"IF(ISBLANK('MIS - Pharmacy'!B962),\"\",('MIS - Pharmacy'!B962&\"(\"&'MIS - Pharmacy'!D962&\")\"))","v":""},{"$f":"IF(ISBLANK('MIS - Pharmacy'!BI962), \"\", 'MIS - Pharmacy'!BI962)","v":""},{"$f":"IF(ISBLANK('MIS - Pharmacy'!U962), \"\", 'MIS - Pharmacy'!U962)","v":""},"","","","","","","",{"$f":"IF(ISBLANK('MIS - Pharmacy'!AC962),\"\",'MIS - Pharmacy'!AC962)","v":""},"",{"$f":"IF(ISBLANK('MIS - Pharmacy'!AD962),\"\",'MIS - Pharmacy'!AD962)","v":""},"","",{"$f":"IF('MIS - Pharmacy'!A962=\"\",\"\",SUM('MIS - Pharmacy'!K962+'MIS - Pharmacy'!L962))","v":""},"",{"$f":"IF('MIS - Pharmacy'!A962=\"\",\"\",('MIS - Pharmacy'!AF962+'MIS - Pharmacy'!AH962 +'MIS - Pharmacy'!AG962))","v":""},{"$f":"IF(ISBLANK('MIS - Pharmacy'!AI962),\"\",'MIS - Pharmacy'!AI962)","v":""},"","","",{"$f":"IF(ISBLANK('MIS - Pharmacy'!V962),\"\",'MIS - Pharmacy'!V962)","v":""},"","","",{"$f":"IF(ISBLANK('MIS - Pharmacy'!J962),\"\",'MIS - Pharmacy'!J962)","v":""},{"$f":"IF(ISBLANK('MIS - Pharmacy'!AY962),\"\",'MIS - Pharmacy'!AY962)","v":""},{"$f":"IF(ISBLANK('MIS - Pharmacy'!BH962),\"\",'MIS - Pharmacy'!BH962)","v":""},"",""]
[{"$f":"IF(ISBLANK('MIS - Pharmacy'!A963), \"\",'MIS - Pharmacy'!A963)","v":""},{"$f":"IF(ISBLANK('MIS - Pharmacy'!B963),\"\",('MIS - Pharmacy'!B963&\"(\"&'MIS - Pharmacy'!D963&\")\"))","v":""},{"$f":"IF(ISBLANK('MIS - Pharmacy'!BI963), \"\", 'MIS - Pharmacy'!BI963)","v":""},{"$f":"IF(ISBLANK('MIS - Pharmacy'!U963), \"\", 'MIS - Pharmacy'!U963)","v":""},"","","","","","","",{"$f":"IF(ISBLANK('MIS - Pharmacy'!AC963),\"\",'MIS - Pharmacy'!AC963)","v":""},"",{"$f":"IF(ISBLANK('MIS - Pharmacy'!AD963),\"\",'MIS - Pharmacy'!AD963)","v":""},"","",{"$f":"IF('MIS - Pharmacy'!A963=\"\",\"\",SUM('MIS - Pharmacy'!K963+'MIS - Pharmacy'!L963))","v":""},"",{"$f":"IF('MIS - Pharmacy'!A963=\"\",\"\",('MIS - Pharmacy'!AF963+'MIS - Pharmacy'!AH963 +'MIS - Pharmacy'!AG963))","v":""},{"$f":"IF(ISBLANK('MIS - Pharmacy'!AI963),\"\",'MIS - Pharmacy'!AI963)","v":""},"","","",{"$f":"IF(ISBLANK('MIS - Pharmacy'!V963),\"\",'MIS - Pharmacy'!V963)","v":""},"","","",{"$f":"IF(ISBLANK('MIS - Pharmacy'!J963),\"\",'MIS - Pharmacy'!J963)","v":""},{"$f":"IF(ISBLANK('MIS - Pharmacy'!AY963),\"\",'MIS - Pharmacy'!AY963)","v":""},{"$f":"IF(ISBLANK('MIS - Pharmacy'!BH963),\"\",'MIS - Pharmacy'!BH963)","v":""},"",""]
[{"$f":"IF(ISBLANK('MIS - Pharmacy'!A964), \"\",'MIS - Pharmacy'!A964)","v":""},{"$f":"IF(ISBLANK('MIS - Pharmacy'!B964),\"\",('MIS - Pharmacy'!B964&\"(\"&'MIS - Pharmacy'!D964&\")\"))","v":""},{"$f":"IF(ISBLANK('MIS - Pharmacy'!BI964), \"\", 'MIS - Pharmacy'!BI964)","v":""},{"$f":"IF(ISBLANK('MIS - Pharmacy'!U964), \"\", 'MIS - Pharmacy'!U964)","v":""},"","","","","","","",{"$f":"IF(ISBLANK('MIS - Pharmacy'!AC964),\"\",'MIS - Pharmacy'!AC964)","v":""},"",{"$f":"IF(ISBLANK('MIS - Pharmacy'!AD964),\"\",'MIS - Pharmacy'!AD964)","v":""},"","",{"$f":"IF('MIS - Pharmacy'!A964=\"\",\"\",SUM('MIS - Pharmacy'!K964+'MIS - Pharmacy'!L964))","v":""},"",{"$f":"IF('MIS - Pharmacy'!A964=\"\",\"\",('MIS - Pharmacy'!AF964+'MIS - Pharmacy'!AH964 +'MIS - Pharmacy'!AG964))","v":""},{"$f":"IF(ISBLANK('MIS - Pharmacy'!AI964),\"\",'MIS - Pharmacy'!AI964)","v":""},"","","",{"$f":"IF(ISBLANK('MIS - Pharmacy'!V964),\"\",'MIS - Pharmacy'!V964)","v":""},"","","",{"$f":"IF(ISBLANK('MIS - Pharmacy'!J964),\"\",'MIS - Pharmacy'!J964)","v":""},{"$f":"IF(ISBLANK('MIS - Pharmacy'!AY964),\"\",'MIS - Pharmacy'!AY964)","v":""},{"$f":"IF(ISBLANK('MIS - Pharmacy'!BH964),\"\",'MIS - Pharmacy'!BH964)","v":""},"",""]
[{"$f":"IF(ISBLANK('MIS - Pharmacy'!A965), \"\",'MIS - Pharmacy'!A965)","v":""},{"$f":"IF(ISBLANK('MIS - Pharmacy'!B965),\"\",('MIS - Pharmacy'!B965&\"(\"&'MIS - Pharmacy'!D965&\")\"))","v":""},{"$f":"IF(ISBLANK('MIS - Pharmacy'!BI965), \"\", 'MIS - Pharmacy'!BI965)","v":""},{"$f":"IF(ISBLANK('MIS - Pharmacy'!U965), \"\", 'MIS - Pharmacy'!U965)","v":""},"","","",{"$f":"IF(D974=\"\",\"\",IF(X974=0,0,D974/Y974))","v":""},"","","",{"$f":"IF(ISBLANK('MIS - Pharmacy'!AC965),\"\",'MIS - Pharmacy'!AC965)","v":""},"",{"$f":"IF(ISBLANK('MIS - Pharmacy'!AD965),\"\",'MIS - Pharmacy'!AD965)","v":""},"","",{"$f":"IF('MIS - Pharmacy'!A965=\"\",\"\",SUM('MIS - Pharmacy'!K965+'MIS - Pharmacy'!L965))","v":""},"",{"$f":"IF('MIS - Pharmacy'!A965=\"\",\"\",('MIS - Pharmacy'!AF965+'MIS - Pharmacy'!AH965 +'MIS - Pharmacy'!AG965))","v":""},{"$f":"IF(ISBLANK('MIS - Pharmacy'!AI965),\"\",'MIS - Pharmacy'!AI965)","v":""},"","","",{"$f":"IF(ISBLANK('MIS - Pharmacy'!V965),\"\",'MIS - Pharmacy'!V965)","v":""},"","","",{"$f":"IF(ISBLANK('MIS - Pharmacy'!J965),\"\",'MIS - Pharmacy'!J965)","v":""},{"$f":"IF(ISBLANK('MIS - Pharmacy'!AY965),\"\",'MIS - Pharmacy'!AY965)","v":""},{"$f":"IF(ISBLANK('MIS - Pharmacy'!BH965),\"\",'MIS - Pharmacy'!BH965)","v":""},"",""]
[{"$f":"IF(ISBLANK('MIS - Pharmacy'!A966), \"\",'MIS - Pharmacy'!A966)","v":""},{"$f":"IF(ISBLANK('MIS - Pharmacy'!B966),\"\",('MIS - Pharmacy'!B966&\"(\"&'MIS - Pharmacy'!D966&\")\"))","v":""},{"$f":"IF(ISBLANK('MIS - Pharmacy'!BI966), \"\", 'MIS - Pharmacy'!BI966)","v":""},{"$f":"IF(ISBLANK('MIS - Pharmacy'!U966), \"\", 'MIS - Pharmacy'!U966)","v":""},"","","","","","","",{"$f":"IF(ISBLANK('MIS - Pharmacy'!AC966),\"\",'MIS - Pharmacy'!AC966)","v":""},"",{"$f":"IF(ISBLANK('MIS - Pharmacy'!AD966),\"\",'MIS - Pharmacy'!AD966)","v":""},"","",{"$f":"IF('MIS - Pharmacy'!A966=\"\",\"\",SUM('MIS - Pharmacy'!K966+'MIS - Pharmacy'!L966))","v":""},"",{"$f":"IF('MIS - Pharmacy'!A966=\"\",\"\",('MIS - Pharmacy'!AF966+'MIS - Pharmacy'!AH966 +'MIS - Pharmacy'!AG966))","v":""},{"$f":"IF(ISBLANK('MIS - Pharmacy'!AI966),\"\",'MIS - Pharmacy'!AI966)","v":""},"","","",{"$f":"IF(ISBLANK('MIS - Pharmacy'!V966),\"\",'MIS - Pharmacy'!V966)","v":""},"","","",{"$f":"IF(ISBLANK('MIS - Pharmacy'!J966),\"\",'MIS - Pharmacy'!J966)","v":""},{"$f":"IF(ISBLANK('MIS - Pharmacy'!AY966),\"\",'MIS - Pharmacy'!AY966)","v":""},{"$f":"IF(ISBLANK('MIS - Pharmacy'!BH966),\"\",'MIS - Pharmacy'!BH966)","v":""},"",""]
[{"$f":"IF(ISBLANK('MIS - Pharmacy'!A967), \"\",'MIS - Pharmacy'!A967)","v":""},{"$f":"IF(ISBLANK('MIS - Pharmacy'!B967),\"\",('MIS - Pharmacy'!B967&\"(\"&'MIS - Pharmacy'!D967&\")\"))","v":""},{"$f":"IF(ISBLANK('MIS - Pharmacy'!BI967), \"\", 'MIS - Pharmacy'!BI967)","v":""},{"$f":"IF(ISBLANK('MIS - Pharmacy'!U967), \"\", 'MIS - Pharmacy'!U967)","v":""},"","","","","","","",{"$f":"IF(ISBLANK('MIS - Pharmacy'!AC967),\"\",'MIS - Pharmacy'!AC967)","v":""},"",{"$f":"IF(ISBLANK('MIS - Pharmacy'!AD967),\"\",'MIS - Pharmacy'!AD967)","v":""},"","",{"$f":"IF('MIS - Pharmacy'!A967=\"\",\"\",SUM('MIS - Pharmacy'!K967+'MIS - Pharmacy'!L967))","v":""},"",{"$f":"IF('MIS - Pharmacy'!A967=\"\",\"\",('MIS - Pharmacy'!AF967+'MIS - Pharmacy'!AH967 +'MIS - Pharmacy'!AG967))","v":""},{"$f":"IF(ISBLANK('MIS - Pharmacy'!AI967),\"\",'MIS - Pharmacy'!AI967)","v":""},"","","",{"$f":"IF(ISBLANK('MIS - Pharmacy'!V967),\"\",'MIS - Pharmacy'!V967)","v":""},"","","",{"$f":"IF(ISBLANK('MIS - Pharmacy'!J967),\"\",'MIS - Pharmacy'!J967)","v":""},{"$f":"IF(ISBLANK('MIS - Pharmacy'!AY967),\"\",'MIS - Pharmacy'!AY967)","v":""},{"$f":"IF(ISBLANK('MIS - Pharmacy'!BH967),\"\",'MIS - Pharmacy'!BH967)","v":""},"",""]
[{"$f":"IF(ISBLANK('MIS - Pharmacy'!A968), \"\",'MIS - Pharmacy'!A968)","v":""},{"$f":"IF(ISBLANK('MIS - Pharmacy'!B968),\"\",('MIS - Pharmacy'!B968&\"(\"&'MIS - Pharmacy'!D968&\")\"))","v":""},{"$f":"IF(ISBLANK('MIS - Pharmacy'!BI968), \"\", 'MIS - Pharmacy'!BI968)","v":""},{"$f":"IF(ISBLANK('MIS - Pharmacy'!U968), \"\", 'MIS - Pharmacy'!U968)","v":""},"","","","","","","",{"$f":"IF(ISBLANK('MIS - Pharmacy'!AC968),\"\",'MIS - Pharmacy'!AC968)","v":""},"",{"$f":"IF(ISBLANK('MIS - Pharmacy'!AD968),\"\",'MIS - Pharmacy'!AD968)","v":""},"","",{"$f":"IF('MIS - Pharmacy'!A968=\"\",\"\",SUM('MIS - Pharmacy'!K968+'MIS - Pharmacy'!L968))","v":""},"",{"$f":"IF('MIS - Pharmacy'!A968=\"\",\"\",('MIS - Pharmacy'!AF968+'MIS - Pharmacy'!AH968 +'MIS - Pharmacy'!AG968))","v":""},{"$f":"IF(ISBLANK('MIS - Pharmacy'!AI968),\"\",'MIS - Pharmacy'!AI968)","v":""},"","","",{"$f":"IF(ISBLANK('MIS - Pharmacy'!V968),\"\",'MIS - Pharmacy'!V968)","v":""},"","","",{"$f":"IF(ISBLANK('MIS - Pharmacy'!J968),\"\",'MIS - Pharmacy'!J968)","v":""},{"$f":"IF(ISBLANK('MIS - Pharmacy'!AY968),\"\",'MIS - Pharmacy'!AY968)","v":""},{"$f":"IF(ISBLANK('MIS - Pharmacy'!BH968),\"\",'MIS - Pharmacy'!BH968)","v":""},"",""]
[{"$f":"IF(ISBLANK('MIS - Pharmacy'!A969), \"\",'MIS - Pharmacy'!A969)","v":""},{"$f":"IF(ISBLANK('MIS - Pharmacy'!B969),\"\",('MIS - Pharmacy'!B969&\"(\"&'MIS - Pharmacy'!D969&\")\"))","v":""},{"$f":"IF(ISBLANK('MIS - Pharmacy'!BI969), \"\", 'MIS - Pharmacy'!BI969)","v":""},{"$f":"IF(ISBLANK('MIS - Pharmacy'!U969), \"\", 'MIS - Pharmacy'!U969)","v":""},"","","","","","","",{"$f":"IF(ISBLANK('MIS - Pharmacy'!AC969),\"\",'MIS - Pharmacy'!AC969)","v":""},"",{"$f":"IF(ISBLANK('MIS - Pharmacy'!AD969),\"\",'MIS - Pharmacy'!AD969)","v":""},"","",{"$f":"IF('MIS - Pharmacy'!A969=\"\",\"\",SUM('MIS - Pharmacy'!K969+'MIS - Pharmacy'!L969))","v":""},"",{"$f":"IF('MIS - Pharmacy'!A969=\"\",\"\",('MIS - Pharmacy'!AF969+'MIS - Pharmacy'!AH969 +'MIS - Pharmacy'!AG969))","v":""},{"$f":"IF(ISBLANK('MIS - Pharmacy'!AI969),\"\",'MIS - Pharmacy'!AI969)","v":""},"","","",{"$f":"IF(ISBLANK('MIS - Pharmacy'!V969),\"\",'MIS - Pharmacy'!V969)","v":""},"","","",{"$f":"IF(ISBLANK('MIS - Pharmacy'!J969),\"\",'MIS - Pharmacy'!J969)","v":""},{"$f":"IF(ISBLANK('MIS - Pharmacy'!AY969),\"\",'MIS - Pharmacy'!AY969)","v":""},{"$f":"IF(ISBLANK('MIS - Pharmacy'!BH969),\"\",'MIS - Pharmacy'!BH969)","v":""},"",""]
[{"$f":"IF(ISBLANK('MIS - Pharmacy'!A970), \"\",'MIS - Pharmacy'!A970)","v":""},{"$f":"IF(ISBLANK('MIS - Pharmacy'!B970),\"\",('MIS - Pharmacy'!B970&\"(\"&'MIS - Pharmacy'!D970&\")\"))","v":""},{"$f":"IF(ISBLANK('MIS - Pharmacy'!BI970), \"\", 'MIS - Pharmacy'!BI970)","v":""},{"$f":"IF(ISBLANK('MIS - Pharmacy'!U970), \"\", 'MIS - Pharmacy'!U970)","v":""},"","","","","","","",{"$f":"IF(ISBLANK('MIS - Pharmacy'!AC970),\"\",'MIS - Pharmacy'!AC970)","v":""},"",{"$f":"IF(ISBLANK('MIS - Pharmacy'!AD970),\"\",'MIS - Pharmacy'!AD970)","v":""},"","",{"$f":"IF('MIS - Pharmacy'!A970=\"\",\"\",SUM('MIS - Pharmacy'!K970+'MIS - Pharmacy'!L970))","v":""},"",{"$f":"IF('MIS - Pharmacy'!A970=\"\",\"\",('MIS - Pharmacy'!AF970+'MIS - Pharmacy'!AH970 +'MIS - Pharmacy'!AG970))","v":""},{"$f":"IF(ISBLANK('MIS - Pharmacy'!AI970),\"\",'MIS - Pharmacy'!AI970)","v":""},"","","",{"$f":"IF(ISBLANK('MIS - Pharmacy'!V970),\"\",'MIS - Pharmacy'!V970)","v":""},"","","",{"$f":"IF(ISBLANK('MIS - Pharmacy'!J970),\"\",'MIS - Pharmacy'!J970)","v":""},{"$f":"IF(ISBLANK('MIS - Pharmacy'!AY970),\"\",'MIS - Pharmacy'!AY970)","v":""},{"$f":"IF(ISBLANK('MIS - Pharmacy'!BH970),\"\",'MIS - Pharmacy'!BH970)","v":""},"",""]
[{"$f":"IF(ISBLANK('MIS - Pharmacy'!A971), \"\",'MIS - Pharmacy'!A971)","v":""},{"$f":"IF(ISBLANK('MIS - Pharmacy'!B971),\"\",('MIS - Pharmacy'!B971&\"(\"&'MIS - Pharmacy'!D971&\")\"))","v":""},{"$f":"IF(ISBLANK('MIS - Pharmacy'!BI971), \"\", 'MIS - Pharmacy'!BI971)","v":""},{"$f":"IF(ISBLANK('MIS - Pharmacy'!U971), \"\", 'MIS - Pharmacy'!U971)","v":""},"","","","","","","",{"$f":"IF(ISBLANK('MIS - Pharmacy'!AC971),\"\",'MIS - Pharmacy'!AC971)","v":""},"",{"$f":"IF(ISBLANK('MIS - Pharmacy'!AD971),\"\",'MIS - Pharmacy'!AD971)","v":""},"","",{"$f":"IF('MIS - Pharmacy'!A971=\"\",\"\",SUM('MIS - Pharmacy'!K971+'MIS - Pharmacy'!L971))","v":""},"",{"$f":"IF('MIS - Pharmacy'!A971=\"\",\"\",('MIS - Pharmacy'!AF971+'MIS - Pharmacy'!AH971 +'MIS - Pharmacy'!AG971))","v":""},{"$f":"IF(ISBLANK('MIS - Pharmacy'!AI971),\"\",'MIS - Pharmacy'!AI971)","v":""},"","","",{"$f":"IF(ISBLANK('MIS - Pharmacy'!V971),\"\",'MIS - Pharmacy'!V971)","v":""},"","","",{"$f":"IF(ISBLANK('MIS - Pharmacy'!J971),\"\",'MIS - Pharmacy'!J971)","v":""},{"$f":"IF(ISBLANK('MIS - Pharmacy'!AY971),\"\",'MIS - Pharmacy'!AY971)","v":""},{"$f":"IF(ISBLANK('MIS - Pharmacy'!BH971),\"\",'MIS - Pharmacy'!BH971)","v":""},"",""]
[{"$f":"IF(ISBLANK('MIS - Pharmacy'!A972), \"\",'MIS - Pharmacy'!A972)","v":""},{"$f":"IF(ISBLANK('MIS - Pharmacy'!B972),\"\",('MIS - Pharmacy'!B972&\"(\"&'MIS - Pharmacy'!D972&\")\"))","v":""},{"$f":"IF(ISBLANK('MIS - Pharmacy'!BI972), \"\", 'MIS - Pharmacy'!BI972)","v":""},{"$f":"IF(ISBLANK('MIS - Pharmacy'!U972), \"\", 'MIS - Pharmacy'!U972)","v":""},"","","","","","","",{"$f":"IF(ISBLANK('MIS - Pharmacy'!AC972),\"\",'MIS - Pharmacy'!AC972)","v":""},"",{"$f":"IF(ISBLANK('MIS - Pharmacy'!AD972),\"\",'MIS - Pharmacy'!AD972)","v":""},"","",{"$f":"IF('MIS - Pharmacy'!A972=\"\",\"\",SUM('MIS - Pharmacy'!K972+'MIS - Pharmacy'!L972))","v":""},"",{"$f":"IF('MIS - Pharmacy'!A972=\"\",\"\",('MIS - Pharmacy'!AF972+'MIS - Pharmacy'!AH972 +'MIS - Pharmacy'!AG972))","v":""},{"$f":"IF(ISBLANK('MIS - Pharmacy'!AI972),\"\",'MIS - Pharmacy'!AI972)","v":""},"","","",{"$f":"IF(ISBLANK('MIS - Pharmacy'!V972),\"\",'MIS - Pharmacy'!V972)","v":""},"","","",{"$f":"IF(ISBLANK('MIS - Pharmacy'!J972),\"\",'MIS - Pharmacy'!J972)","v":""},{"$f":"IF(ISBLANK('MIS - Pharmacy'!AY972),\"\",'MIS - Pharmacy'!AY972)","v":""},{"$f":"IF(ISBLANK('MIS - Pharmacy'!BH972),\"\",'MIS - Pharmacy'!BH972)","v":""},"",""]
[{"$f":"IF(ISBLANK('MIS - Pharmacy'!A973), \"\",'MIS - Pharmacy'!A973)","v":""},{"$f":"IF(ISBLANK('MIS - Pharmacy'!B973),\"\",('MIS - Pharmacy'!B973&\"(\"&'MIS - Pharmacy'!D973&\")\"))","v":""},{"$f":"IF(ISBLANK('MIS - Pharmacy'!BI973), \"\", 'MIS - Pharmacy'!BI973)","v":""},{"$f":"IF(ISBLANK('MIS - Pharmacy'!U973), \"\", 'MIS - Pharmacy'!U973)","v":""},"","","","","","","",{"$f":"IF(ISBLANK('MIS - Pharmacy'!AC973),\"\",'MIS - Pharmacy'!AC973)","v":""},"",{"$f":"IF(ISBLANK('MIS - Pharmacy'!AD973),\"\",'MIS - Pharmacy'!AD973)","v":""},"","",{"$f":"IF('MIS - Pharmacy'!A973=\"\",\"\",SUM('MIS - Pharmacy'!K973+'MIS - Pharmacy'!L973))","v":""},"",{"$f":"IF('MIS - Pharmacy'!A973=\"\",\"\",('MIS - Pharmacy'!AF973+'MIS - Pharmacy'!AH973 +'MIS - Pharmacy'!AG973))","v":""},{"$f":"IF(ISBLANK('MIS - Pharmacy'!AI973),\"\",'MIS - Pharmacy'!AI973)","v":""},"","","",{"$f":"IF(ISBLANK('MIS - Pharmacy'!V973),\"\",'MIS - Pharmacy'!V973)","v":""},"","","",{"$f":"IF(ISBLANK('MIS - Pharmacy'!J973),\"\",'MIS - Pharmacy'!J973)","v":""},{"$f":"IF(ISBLANK('MIS - Pharmacy'!AY973),\"\",'MIS - Pharmacy'!AY973)","v":""},{"$f":"IF(ISBLANK('MIS - Pharmacy'!BH973),\"\",'MIS - Pharmacy'!BH973)","v":""},"",""]
[{"$f":"IF(ISBLANK('MIS - Pharmacy'!A974), \"\",'MIS - Pharmacy'!A974)","v":""},{"$f":"IF(ISBLANK('MIS - Pharmacy'!B974),\"\",('MIS - Pharmacy'!B974&\"(\"&'MIS - Pharmacy'!D974&\")\"))","v":""},{"$f":"IF(ISBLANK('MIS - Pharmacy'!BI974), \"\", 'MIS - Pharmacy'!BI974)","v":""},{"$f":"IF(ISBLANK('MIS - Pharmacy'!U974), \"\", 'MIS - Pharmacy'!U974)","v":""},"","","","","","","",{"$f":"IF(ISBLANK('MIS - Pharmacy'!AC974),\"\",'MIS - Pharmacy'!AC974)","v":""},"",{"$f":"IF(ISBLANK('MIS - Pharmacy'!AD974),\"\",'MIS - Pharmacy'!AD974)","v":""},"","",{"$f":"IF('MIS - Pharmacy'!A974=\"\",\"\",SUM('MIS - Pharmacy'!K974+'MIS - Pharmacy'!L974))","v":""},"",{"$f":"IF('MIS - Pharmacy'!A974=\"\",\"\",('MIS - Pharmacy'!AF974+'MIS - Pharmacy'!AH974 +'MIS - Pharmacy'!AG974))","v":""},{"$f":"IF(ISBLANK('MIS - Pharmacy'!AI974),\"\",'MIS - Pharmacy'!AI974)","v":""},"","","",{"$f":"IF(ISBLANK('MIS - Pharmacy'!V974),\"\",'MIS - Pharmacy'!V974)","v":""},"","","",{"$f":"IF(ISBLANK('MIS - Pharmacy'!J974),\"\",'MIS - Pharmacy'!J974)","v":""},{"$f":"IF(ISBLANK('MIS - Pharmacy'!AY974),\"\",'MIS - Pharmacy'!AY974)","v":""},{"$f":"IF(ISBLANK('MIS - Pharmacy'!BH974),\"\",'MIS - Pharmacy'!BH974)","v":""},"",""]
[{"$f":"IF(ISBLANK('MIS - Pharmacy'!A975), \"\",'MIS - Pharmacy'!A975)","v":""},{"$f":"IF(ISBLANK('MIS - Pharmacy'!B975),\"\",('MIS - Pharmacy'!B975&\"(\"&'MIS - Pharmacy'!D975&\")\"))","v":""},{"$f":"IF(ISBLANK('MIS - Pharmacy'!BI975), \"\", 'MIS - Pharmacy'!BI975)","v":""},{"$f":"IF(ISBLANK('MIS - Pharmacy'!U975), \"\", 'MIS - Pharmacy'!U975)","v":""},{"$f":"IF(D984=\"\",\"\",IF(D984<=D$9,\"Lower Outlier\",IF(D984<=D$5,\"Below Average\",IF(D984<=D$6,\"Lower Quartile Range\",IF(D984<=D$7,\"Upper Quartile Range\",IF(D984<=D$10,\"Above Average\",\"Upper Outlier\"))))))","v":""},{"$f":"IF(D984=\"\",\"\",D984*12)","v":""},{"$f":"IF(Q984=\"\",\"\",IF(Q984 = 0, 0, D984/Q984*1000))","v":""},"",{"$f":"IF(A984=\"\",\"\",IF(D984=0,0,(D984*0.3)/Y984))","v":""},{"$f":"IF(D984=0,0,IF(D984=\"\",\"\",D984/Q984))","v":""},{"$f":"IF(D984=0,0,IF(D984=\"\",\"\",D984/X984))","v":""},{"$f":"IF(ISBLANK('MIS - Pharmacy'!AC975),\"\",'MIS - Pharmacy'!AC975)","v":""},{"$f":"IF(L984=\"\",\"\",IF(L984<=L$9,\"Lower Outlier\",IF(L984<=L$5,\"Below Average\",IF(L984<=L$6,\"Lower Quartile Range\",IF(L984<=L$7,\"Upper Quartile Range\",IF(L984<=L$10,\"Above Average\",\"Upper Outlier\"))))))","v":""},{"$f":"IF(ISBLANK('MIS - Pharmacy'!AD975),\"\",'MIS - Pharmacy'!AD975)","v":""},{"$f":"IF(N984=\"\",\"\",IF(N984=0,0,L984/N984*1000))","v":""},{"$f":"IF(L984=\"\",\"\",IF(X984=0,0,L984/X984))","v":""},{"$f":"IF('MIS - Pharmacy'!A975=\"\",\"\",SUM('MIS - Pharmacy'!K975+'MIS - Pharmacy'!L975))","v":""},{"$f":"IF(Q984=\"\",\"\",IF(Q984<=Q$9,\"Lower Outlier\",IF(Q984<=Q$5,\"Below Average\",IF(Q984<=Q$6,\"Lower Quartile Range\",IF(Q984<=Q$7,\"Upper Quartile Range\",IF(Q984<=Q$10,\"Above Average\",\"Upper Outlier\"))))))","v":""},{"$f":"IF('MIS - Pharmacy'!A975=\"\",\"\",('MIS - Pharmacy'!AF975+'MIS - Pharmacy'!AH975 +'MIS - Pharmacy'!AG975))","v":""},{"$f":"IF(ISBLANK('MIS - Pharmacy'!AI975),\"\",'MIS - Pharmacy'!AI975)","v":""},{"$f":"IF(T984=\"\",\"\",IF(T984<=T$9,\"Lower Outlier\",IF(T984<=T$5,\"Below Average\",IF(T984<=T$6,\"Lower Quartile Range\",IF(T984<=T$7,\"Upper Quartile Range\",IF(T984<=T$10,\"Above Average\",\"Upper Outlier\"))))))","v":""},{"$f":"IF(A984=\"\",\"\",IF(T984=0,0,T984/Q984*1000))","v":""},{"$f":"IF(V984=\"\",\"\",IF(S984 >0,(T984/S984*1000),0))","v":""},{"$f":"IF(ISBLANK('MIS - Pharmacy'!V975),\"\",'MIS - Pharmacy'!V975)","v":""},{"$f":"IF(X984=\"\",\"\",(X984/7)*$Y$3)","v":""},{"$f":"IF(X984=\"\",\"\",IF(X984<=X$9,\"Lower Outlier\",IF(X984<=X$5,\"Below Average\",IF(X984<=X$6,\"Lower Quartile Range\",IF(X984<=X$7,\"Upper Quartile Range\",IF(X984<=X$10,\"Above Average\",\"Upper Outlier\"))))))","v":""},{"$f":"IF(A984=\"\",\"\",IF(X984=0,0,Y984/Q984*1000))","v":""},{"$f":"IF(ISBLANK('MIS - Pharmacy'!J975),\"\",'MIS - Pharmacy'!J975)","v":""},{"$f":"IF(ISBLANK('MIS - Pharmacy'!AY975),\"\",'MIS - Pharmacy'!AY975)","v":""},{"$f":"IF(ISBLANK('MIS - Pharmacy'!BH975),\"\",'MIS - Pharmacy'!BH975)","v":""},{"$f":"IF(A984=\"\",\"\",D984+L984)","v":""},{"$f":"IF(A984=\"\",\"\",IF(Y984=0,0,(AE984/Y984)*100))","v":""}]
[{"$f":"IF(ISBLANK('MIS - Pharmacy'!A976), \"\",'MIS - Pharmacy'!A976)","v":""},{"$f":"IF(ISBLANK('MIS - Pharmacy'!B976),\"\",('MIS - Pharmacy'!B976&\"(\"&'MIS - Pharmacy'!D976&\")\"))","v":""},{"$f":"IF(ISBLANK('MIS - Pharmacy'!BI976), \"\", 'MIS - Pharmacy'!BI976)","v":""},{"$f":"IF(ISBLANK('MIS - Pharmacy'!U976), \"\", 'MIS - Pharmacy'!U976)","v":""},"","","","","","","",{"$f":"IF(ISBLANK('MIS - Pharmacy'!AC976),\"\",'MIS - Pharmacy'!AC976)","v":""},"",{"$f":"IF(ISBLANK('MIS - Pharmacy'!AD976),\"\",'MIS - Pharmacy'!AD976)","v":""},"","",{"$f":"IF('MIS - Pharmacy'!A976=\"\",\"\",SUM('MIS - Pharmacy'!K976+'MIS - Pharmacy'!L976))","v":""},"",{"$f":"IF('MIS - Pharmacy'!A976=\"\",\"\",('MIS - Pharmacy'!AF976+'MIS - Pharmacy'!AH976 +'MIS - Pharmacy'!AG976))","v":""},{"$f":"IF(ISBLANK('MIS - Pharmacy'!AI976),\"\",'MIS - Pharmacy'!AI976)","v":""},"","","",{"$f":"IF(ISBLANK('MIS - Pharmacy'!V976),\"\",'MIS - Pharmacy'!V976)","v":""},"","","",{"$f":"IF(ISBLANK('MIS - Pharmacy'!J976),\"\",'MIS - Pharmacy'!J976)","v":""},{"$f":"IF(ISBLANK('MIS - Pharmacy'!AY976),\"\",'MIS - Pharmacy'!AY976)","v":""},{"$f":"IF(ISBLANK('MIS - Pharmacy'!BH976),\"\",'MIS - Pharmacy'!BH976)","v":""},"",""]
[{"$f":"IF(ISBLANK('MIS - Pharmacy'!A977), \"\",'MIS - Pharmacy'!A977)","v":""},{"$f":"IF(ISBLANK('MIS - Pharmacy'!B977),\"\",('MIS - Pharmacy'!B977&\"(\"&'MIS - Pharmacy'!D977&\")\"))","v":""},{"$f":"IF(ISBLANK('MIS - Pharmacy'!BI977), \"\", 'MIS - Pharmacy'!BI977)","v":""},{"$f":"IF(ISBLANK('MIS - Pharmacy'!U977), \"\", 'MIS - Pharmacy'!U977)","v":""},"","","","","","","",{"$f":"IF(ISBLANK('MIS - Pharmacy'!AC977),\"\",'MIS - Pharmacy'!AC977)","v":""},"",{"$f":"IF(ISBLANK('MIS - Pharmacy'!AD977),\"\",'MIS - Pharmacy'!AD977)","v":""},"","",{"$f":"IF('MIS - Pharmacy'!A977=\"\",\"\",SUM('MIS - Pharmacy'!K977+'MIS - Pharmacy'!L977))","v":""},"",{"$f":"IF('MIS - Pharmacy'!A977=\"\",\"\",('MIS - Pharmacy'!AF977+'MIS - Pharmacy'!AH977 +'MIS - Pharmacy'!AG977))","v":""},{"$f":"IF(ISBLANK('MIS - Pharmacy'!AI977),\"\",'MIS - Pharmacy'!AI977)","v":""},"","","",{"$f":"IF(ISBLANK('MIS - Pharmacy'!V977),\"\",'MIS - Pharmacy'!V977)","v":""},"","","",{"$f":"IF(ISBLANK('MIS - Pharmacy'!J977),\"\",'MIS - Pharmacy'!J977)","v":""},{"$f":"IF(ISBLANK('MIS - Pharmacy'!AY977),\"\",'MIS - Pharmacy'!AY977)","v":""},{"$f":"IF(ISBLANK('MIS - Pharmacy'!BH977),\"\",'MIS - Pharmacy'!BH977)","v":""},"",""]
[{"$f":"IF(ISBLANK('MIS - Pharmacy'!A978), \"\",'MIS - Pharmacy'!A978)","v":""},{"$f":"IF(ISBLANK('MIS - Pharmacy'!B978),\"\",('MIS - Pharmacy'!B978&\"(\"&'MIS - Pharmacy'!D978&\")\"))","v":""},{"$f":"IF(ISBLANK('MIS - Pharmacy'!BI978), \"\", 'MIS - Pharmacy'!BI978)","v":""},{"$f":"IF(ISBLANK('MIS - Pharmacy'!U978), \"\", 'MIS - Pharmacy'!U978)","v":""},"","","","","","","",{"$f":"IF(ISBLANK('MIS - Pharmacy'!AC978),\"\",'MIS - Pharmacy'!AC978)","v":""},"",{"$f":"IF(ISBLANK('MIS - Pharmacy'!AD978),\"\",'MIS - Pharmacy'!AD978)","v":""},"","",{"$f":"IF('MIS - Pharmacy'!A978=\"\",\"\",SUM('MIS - Pharmacy'!K978+'MIS - Pharmacy'!L978))","v":""},"",{"$f":"IF('MIS - Pharmacy'!A978=\"\",\"\",('MIS - Pharmacy'!AF978+'MIS - Pharmacy'!AH978 +'MIS - Pharmacy'!AG978))","v":""},{"$f":"IF(ISBLANK('MIS - Pharmacy'!AI978),\"\",'MIS - Pharmacy'!AI978)","v":""},"","","",{"$f":"IF(ISBLANK('MIS - Pharmacy'!V978),\"\",'MIS - Pharmacy'!V978)","v":""},"","","",{"$f":"IF(ISBLANK('MIS - Pharmacy'!J978),\"\",'MIS - Pharmacy'!J978)","v":""},{"$f":"IF(ISBLANK('MIS - Pharmacy'!AY978),\"\",'MIS - Pharmacy'!AY978)","v":""},{"$f":"IF(ISBLANK('MIS - Pharmacy'!BH978),\"\",'MIS - Pharmacy'!BH978)","v":""},"",""]
[{"$f":"IF(ISBLANK('MIS - Pharmacy'!A979), \"\",'MIS - Pharmacy'!A979)","v":""},{"$f":"IF(ISBLANK('MIS - Pharmacy'!B979),\"\",('MIS - Pharmacy'!B979&\"(\"&'MIS - Pharmacy'!D979&\")\"))","v":""},{"$f":"IF(ISBLANK('MIS - Pharmacy'!BI979), \"\", 'MIS - Pharmacy'!BI979)","v":""},{"$f":"IF(ISBLANK('MIS - Pharmacy'!U979), \"\", 'MIS - Pharmacy'!U979)","v":""},"","","","","","","",{"$f":"IF(ISBLANK('MIS - Pharmacy'!AC979),\"\",'MIS - Pharmacy'!AC979)","v":""},"",{"$f":"IF(ISBLANK('MIS - Pharmacy'!AD979),\"\",'MIS - Pharmacy'!AD979)","v":""},"","",{"$f":"IF('MIS - Pharmacy'!A979=\"\",\"\",SUM('MIS - Pharmacy'!K979+'MIS - Pharmacy'!L979))","v":""},"",{"$f":"IF('MIS - Pharmacy'!A979=\"\",\"\",('MIS - Pharmacy'!AF979+'MIS - Pharmacy'!AH979 +'MIS - Pharmacy'!AG979))","v":""},{"$f":"IF(ISBLANK('MIS - Pharmacy'!AI979),\"\",'MIS - Pharmacy'!AI979)","v":""},"","","",{"$f":"IF(ISBLANK('MIS - Pharmacy'!V979),\"\",'MIS - Pharmacy'!V979)","v":""},"","","",{"$f":"IF(ISBLANK('MIS - Pharmacy'!J979),\"\",'MIS - Pharmacy'!J979)","v":""},{"$f":"IF(ISBLANK('MIS - Pharmacy'!AY979),\"\",'MIS - Pharmacy'!AY979)","v":""},{"$f":"IF(ISBLANK('MIS - Pharmacy'!BH979),\"\",'MIS - Pharmacy'!BH979)","v":""},"",""]
[{"$f":"IF(ISBLANK('MIS - Pharmacy'!A980), \"\",'MIS - Pharmacy'!A980)","v":""},{"$f":"IF(ISBLANK('MIS - Pharmacy'!B980),\"\",('MIS - Pharmacy'!B980&\"(\"&'MIS - Pharmacy'!D980&\")\"))","v":""},{"$f":"IF(ISBLANK('MIS - Pharmacy'!BI980), \"\", 'MIS - Pharmacy'!BI980)","v":""},{"$f":"IF(ISBLANK('MIS - Pharmacy'!U980), \"\", 'MIS - Pharmacy'!U980)","v":""},"","","","","","","",{"$f":"IF(ISBLANK('MIS - Pharmacy'!AC980),\"\",'MIS - Pharmacy'!AC980)","v":""},"",{"$f":"IF(ISBLANK('MIS - Pharmacy'!AD980),\"\",'MIS - Pharmacy'!AD980)","v":""},"","",{"$f":"IF('MIS - Pharmacy'!A980=\"\",\"\",SUM('MIS - Pharmacy'!K980+'MIS - Pharmacy'!L980))","v":""},"",{"$f":"IF('MIS - Pharmacy'!A980=\"\",\"\",('MIS - Pharmacy'!AF980+'MIS - Pharmacy'!AH980 +'MIS - Pharmacy'!AG980))","v":""},{"$f":"IF(ISBLANK('MIS - Pharmacy'!AI980),\"\",'MIS - Pharmacy'!AI980)","v":""},"","","",{"$f":"IF(ISBLANK('MIS - Pharmacy'!V980),\"\",'MIS - Pharmacy'!V980)","v":""},"","","",{"$f":"IF(ISBLANK('MIS - Pharmacy'!J980),\"\",'MIS - Pharmacy'!J980)","v":""},{"$f":"IF(ISBLANK('MIS - Pharmacy'!AY980),\"\",'MIS - Pharmacy'!AY980)","v":""},{"$f":"IF(ISBLANK('MIS - Pharmacy'!BH980),\"\",'MIS - Pharmacy'!BH980)","v":""},"",""]
[{"$f":"IF(ISBLANK('MIS - Pharmacy'!A981), \"\",'MIS - Pharmacy'!A981)","v":""},{"$f":"IF(ISBLANK('MIS - Pharmacy'!B981),\"\",('MIS - Pharmacy'!B981&\"(\"&'MIS - Pharmacy'!D981&\")\"))","v":""},{"$f":"IF(ISBLANK('MIS - Pharmacy'!BI981), \"\", 'MIS - Pharmacy'!BI981)","v":""},{"$f":"IF(ISBLANK('MIS - Pharmacy'!U981), \"\", 'MIS - Pharmacy'!U981)","v":""},"","","","","","","",{"$f":"IF(ISBLANK('MIS - Pharmacy'!AC981),\"\",'MIS - Pharmacy'!AC981)","v":""},"",{"$f":"IF(ISBLANK('MIS - Pharmacy'!AD981),\"\",'MIS - Pharmacy'!AD981)","v":""},"","",{"$f":"IF('MIS - Pharmacy'!A981=\"\",\"\",SUM('MIS - Pharmacy'!K981+'MIS - Pharmacy'!L981))","v":""},"",{"$f":"IF('MIS - Pharmacy'!A981=\"\",\"\",('MIS - Pharmacy'!AF981+'MIS - Pharmacy'!AH981 +'MIS - Pharmacy'!AG981))","v":""},{"$f":"IF(ISBLANK('MIS - Pharmacy'!AI981),\"\",'MIS - Pharmacy'!AI981)","v":""},"","","",{"$f":"IF(ISBLANK('MIS - Pharmacy'!V981),\"\",'MIS - Pharmacy'!V981)","v":""},"","","",{"$f":"IF(ISBLANK('MIS - Pharmacy'!J981),\"\",'MIS - Pharmacy'!J981)","v":""},{"$f":"IF(ISBLANK('MIS - Pharmacy'!AY981),\"\",'MIS - Pharmacy'!AY981)","v":""},{"$f":"IF(ISBLANK('MIS - Pharmacy'!BH981),\"\",'MIS - Pharmacy'!BH981)","v":""},"",""]
[{"$f":"IF(ISBLANK('MIS - Pharmacy'!A982), \"\",'MIS - Pharmacy'!A982)","v":""},{"$f":"IF(ISBLANK('MIS - Pharmacy'!B982),\"\",('MIS - Pharmacy'!B982&\"(\"&'MIS - Pharmacy'!D982&\")\"))","v":""},{"$f":"IF(ISBLANK('MIS - Pharmacy'!BI982), \"\", 'MIS - Pharmacy'!BI982)","v":""},{"$f":"IF(ISBLANK('MIS - Pharmacy'!U982), \"\", 'MIS - Pharmacy'!U982)","v":""},"","","","","","","",{"$f":"IF(ISBLANK('MIS - Pharmacy'!AC982),\"\",'MIS - Pharmacy'!AC982)","v":""},"",{"$f":"IF(ISBLANK('MIS - Pharmacy'!AD982),\"\",'MIS - Pharmacy'!AD982)","v":""},"","",{"$f":"IF('MIS - Pharmacy'!A982=\"\",\"\",SUM('MIS - Pharmacy'!K982+'MIS - Pharmacy'!L982))","v":""},"",{"$f":"IF('MIS - Pharmacy'!A982=\"\",\"\",('MIS - Pharmacy'!AF982+'MIS - Pharmacy'!AH982 +'MIS - Pharmacy'!AG982))","v":""},{"$f":"IF(ISBLANK('MIS - Pharmacy'!AI982),\"\",'MIS - Pharmacy'!AI982)","v":""},"","","",{"$f":"IF(ISBLANK('MIS - Pharmacy'!V982),\"\",'MIS - Pharmacy'!V982)","v":""},"","","",{"$f":"IF(ISBLANK('MIS - Pharmacy'!J982),\"\",'MIS - Pharmacy'!J982)","v":""},{"$f":"IF(ISBLANK('MIS - Pharmacy'!AY982),\"\",'MIS - Pharmacy'!AY982)","v":""},{"$f":"IF(ISBLANK('MIS - Pharmacy'!BH982),\"\",'MIS - Pharmacy'!BH982)","v":""},"",""]
[{"$f":"IF(ISBLANK('MIS - Pharmacy'!A983), \"\",'MIS - Pharmacy'!A983)","v":""},{"$f":"IF(ISBLANK('MIS - Pharmacy'!B983),\"\",('MIS - Pharmacy'!B983&\"(\"&'MIS - Pharmacy'!D983&\")\"))","v":""},{"$f":"IF(ISBLANK('MIS - Pharmacy'!BI983), \"\", 'MIS - Pharmacy'!BI983)","v":""},{"$f":"IF(ISBLANK('MIS - Pharmacy'!U983), \"\", 'MIS - Pharmacy'!U983)","v":""},"","","","","","","",{"$f":"IF(ISBLANK('MIS - Pharmacy'!AC983),\"\",'MIS - Pharmacy'!AC983)","v":""},"",{"$f":"IF(ISBLANK('MIS - Pharmacy'!AD983),\"\",'MIS - Pharmacy'!AD983)","v":""},"","",{"$f":"IF('MIS - Pharmacy'!A983=\"\",\"\",SUM('MIS - Pharmacy'!K983+'MIS - Pharmacy'!L983))","v":""},"",{"$f":"IF('MIS - Pharmacy'!A983=\"\",\"\",('MIS - Pharmacy'!AF983+'MIS - Pharmacy'!AH983 +'MIS - Pharmacy'!AG983))","v":""},{"$f":"IF(ISBLANK('MIS - Pharmacy'!AI983),\"\",'MIS - Pharmacy'!AI983)","v":""},"","","",{"$f":"IF(ISBLANK('MIS - Pharmacy'!V983),\"\",'MIS - Pharmacy'!V983)","v":""},"","","",{"$f":"IF(ISBLANK('MIS - Pharmacy'!J983),\"\",'MIS - Pharmacy'!J983)","v":""},{"$f":"IF(ISBLANK('MIS - Pharmacy'!AY983),\"\",'MIS - Pharmacy'!AY983)","v":""},{"$f":"IF(ISBLANK('MIS - Pharmacy'!BH983),\"\",'MIS - Pharmacy'!BH983)","v":""},"",""]
[{"$f":"IF(ISBLANK('MIS - Pharmacy'!A984), \"\",'MIS - Pharmacy'!A984)","v":""},{"$f":"IF(ISBLANK('MIS - Pharmacy'!B984),\"\",('MIS - Pharmacy'!B984&\"(\"&'MIS - Pharmacy'!D984&\")\"))","v":""},{"$f":"IF(ISBLANK('MIS - Pharmacy'!BI984), \"\", 'MIS - Pharmacy'!BI984)","v":""},{"$f":"IF(ISBLANK('MIS - Pharmacy'!U984), \"\", 'MIS - Pharmacy'!U984)","v":""},"","","","","","","",{"$f":"IF(ISBLANK('MIS - Pharmacy'!AC984),\"\",'MIS - Pharmacy'!AC984)","v":""},"",{"$f":"IF(ISBLANK('MIS - Pharmacy'!AD984),\"\",'MIS - Pharmacy'!AD984)","v":""},"","",{"$f":"IF('MIS - Pharmacy'!A984=\"\",\"\",SUM('MIS - Pharmacy'!K984+'MIS - Pharmacy'!L984))","v":""},"",{"$f":"IF('MIS - Pharmacy'!A984=\"\",\"\",('MIS - Pharmacy'!AF984+'MIS - Pharmacy'!AH984 +'MIS - Pharmacy'!AG984))","v":""},{"$f":"IF(ISBLANK('MIS - Pharmacy'!AI984),\"\",'MIS - Pharmacy'!AI984)","v":""},"","","",{"$f":"IF(ISBLANK('MIS - Pharmacy'!V984),\"\",'MIS - Pharmacy'!V984)","v":""},"","","",{"$f":"IF(ISBLANK('MIS - Pharmacy'!J984),\"\",'MIS - Pharmacy'!J984)","v":""},{"$f":"IF(ISBLANK('MIS - Pharmacy'!AY984),\"\",'MIS - Pharmacy'!AY984)","v":""},{"$f":"IF(ISBLANK('MIS - Pharmacy'!BH984),\"\",'MIS - Pharmacy'!BH984)","v":""},"",""]
[{"$f":"IF(ISBLANK('MIS - Pharmacy'!A985), \"\",'MIS - Pharmacy'!A985)","v":""},{"$f":"IF(ISBLANK('MIS - Pharmacy'!B985),\"\",('MIS - Pharmacy'!B985&\"(\"&'MIS - Pharmacy'!D985&\")\"))","v":""},{"$f":"IF(ISBLANK('MIS - Pharmacy'!BI985), \"\", 'MIS - Pharmacy'!BI985)","v":""},{"$f":"IF(ISBLANK('MIS - Pharmacy'!U985), \"\", 'MIS - Pharmacy'!U985)","v":""},"","","","","","","",{"$f":"IF(ISBLANK('MIS - Pharmacy'!AC985),\"\",'MIS - Pharmacy'!AC985)","v":""},"",{"$f":"IF(ISBLANK('MIS - Pharmacy'!AD985),\"\",'MIS - Pharmacy'!AD985)","v":""},"","",{"$f":"IF('MIS - Pharmacy'!A985=\"\",\"\",SUM('MIS - Pharmacy'!K985+'MIS - Pharmacy'!L985))","v":""},"",{"$f":"IF('MIS - Pharmacy'!A985=\"\",\"\",('MIS - Pharmacy'!AF985+'MIS - Pharmacy'!AH985 +'MIS - Pharmacy'!AG985))","v":""},{"$f":"IF(ISBLANK('MIS - Pharmacy'!AI985),\"\",'MIS - Pharmacy'!AI985)","v":""},"","","",{"$f":"IF(ISBLANK('MIS - Pharmacy'!V985),\"\",'MIS - Pharmacy'!V985)","v":""},"","","",{"$f":"IF(ISBLANK('MIS - Pharmacy'!J985),\"\",'MIS - Pharmacy'!J985)","v":""},{"$f":"IF(ISBLANK('MIS - Pharmacy'!AY985),\"\",'MIS - Pharmacy'!AY985)","v":""},{"$f":"IF(ISBLANK('MIS - Pharmacy'!BH985),\"\",'MIS - Pharmacy'!BH985)","v":""},"",""]
[{"$f":"IF(ISBLANK('MIS - Pharmacy'!A986), \"\",'MIS - Pharmacy'!A986)","v":""},{"$f":"IF(ISBLANK('MIS - Pharmacy'!B986),\"\",('MIS - Pharmacy'!B986&\"(\"&'MIS - Pharmacy'!D986&\")\"))","v":""},{"$f":"IF(ISBLANK('MIS - Pharmacy'!BI986), \"\", 'MIS - Pharmacy'!BI986)","v":""},{"$f":"IF(ISBLANK('MIS - Pharmacy'!U986), \"\", 'MIS - Pharmacy'!U986)","v":""},"","","","","","","",{"$f":"IF(ISBLANK('MIS - Pharmacy'!AC986),\"\",'MIS - Pharmacy'!AC986)","v":""},"",{"$f":"IF(ISBLANK('MIS - Pharmacy'!AD986),\"\",'MIS - Pharmacy'!AD986)","v":""},"","",{"$f":"IF('MIS - Pharmacy'!A986=\"\",\"\",SUM('MIS - Pharmacy'!K986+'MIS - Pharmacy'!L986))","v":""},"",{"$f":"IF('MIS - Pharmacy'!A986=\"\",\"\",('MIS - Pharmacy'!AF986+'MIS - Pharmacy'!AH986 +'MIS - Pharmacy'!AG986))","v":""},{"$f":"IF(ISBLANK('MIS - Pharmacy'!AI986),\"\",'MIS - Pharmacy'!AI986)","v":""},"","","",{"$f":"IF(ISBLANK('MIS - Pharmacy'!V986),\"\",'MIS - Pharmacy'!V986)","v":""},"","","",{"$f":"IF(ISBLANK('MIS - Pharmacy'!J986),\"\",'MIS - Pharmacy'!J986)","v":""},{"$f":"IF(ISBLANK('MIS - Pharmacy'!AY986),\"\",'MIS - Pharmacy'!AY986)","v":""},{"$f":"IF(ISBLANK('MIS - Pharmacy'!BH986),\"\",'MIS - Pharmacy'!BH986)","v":""},"",""]
[{"$f":"IF(ISBLANK('MIS - Pharmacy'!A987), \"\",'MIS - Pharmacy'!A987)","v":""},{"$f":"IF(ISBLANK('MIS - Pharmacy'!B987),\"\",('MIS - Pharmacy'!B987&\"(\"&'MIS - Pharmacy'!D987&\")\"))","v":""},{"$f":"IF(ISBLANK('MIS - Pharmacy'!BI987), \"\", 'MIS - Pharmacy'!BI987)","v":""},{"$f":"IF(ISBLANK('MIS - Pharmacy'!U987), \"\", 'MIS - Pharmacy'!U987)","v":""},"","","","","","","",{"$f":"IF(ISBLANK('MIS - Pharmacy'!AC987),\"\",'MIS - Pharmacy'!AC987)","v":""},"",{"$f":"IF(ISBLANK('MIS - Pharmacy'!AD987),\"\",'MIS - Pharmacy'!AD987)","v":""},"","",{"$f":"IF('MIS - Pharmacy'!A987=\"\",\"\",SUM('MIS - Pharmacy'!K987+'MIS - Pharmacy'!L987))","v":""},"",{"$f":"IF('MIS - Pharmacy'!A987=\"\",\"\",('MIS - Pharmacy'!AF987+'MIS - Pharmacy'!AH987 +'MIS - Pharmacy'!AG987))","v":""},{"$f":"IF(ISBLANK('MIS - Pharmacy'!AI987),\"\",'MIS - Pharmacy'!AI987)","v":""},"","","",{"$f":"IF(ISBLANK('MIS - Pharmacy'!V987),\"\",'MIS - Pharmacy'!V987)","v":""},"","","",{"$f":"IF(ISBLANK('MIS - Pharmacy'!J987),\"\",'MIS - Pharmacy'!J987)","v":""},{"$f":"IF(ISBLANK('MIS - Pharmacy'!AY987),\"\",'MIS - Pharmacy'!AY987)","v":""},{"$f":"IF(ISBLANK('MIS - Pharmacy'!BH987),\"\",'MIS - Pharmacy'!BH987)","v":""},"",""]
[{"$f":"IF(ISBLANK('MIS - Pharmacy'!A988), \"\",'MIS - Pharmacy'!A988)","v":""},{"$f":"IF(ISBLANK('MIS - Pharmacy'!B988),\"\",('MIS - Pharmacy'!B988&\"(\"&'MIS - Pharmacy'!D988&\")\"))","v":""},{"$f":"IF(ISBLANK('MIS - Pharmacy'!BI988), \"\", 'MIS - Pharmacy'!BI988)","v":""},{"$f":"IF(ISBLANK('MIS - Pharmacy'!U988), \"\", 'MIS - Pharmacy'!U988)","v":""},"","","","","","","",{"$f":"IF(ISBLANK('MIS - Pharmacy'!AC988),\"\",'MIS - Pharmacy'!AC988)","v":""},"",{"$f":"IF(ISBLANK('MIS - Pharmacy'!AD988),\"\",'MIS - Pharmacy'!AD988)","v":""},"","",{"$f":"IF('MIS - Pharmacy'!A988=\"\",\"\",SUM('MIS - Pharmacy'!K988+'MIS - Pharmacy'!L988))","v":""},"",{"$f":"IF('MIS - Pharmacy'!A988=\"\",\"\",('MIS - Pharmacy'!AF988+'MIS - Pharmacy'!AH988 +'MIS - Pharmacy'!AG988))","v":""},{"$f":"IF(ISBLANK('MIS - Pharmacy'!AI988),\"\",'MIS - Pharmacy'!AI988)","v":""},"","","",{"$f":"IF(ISBLANK('MIS - Pharmacy'!V988),\"\",'MIS - Pharmacy'!V988)","v":""},"","","",{"$f":"IF(ISBLANK('MIS - Pharmacy'!J988),\"\",'MIS - Pharmacy'!J988)","v":""},{"$f":"IF(ISBLANK('MIS - Pharmacy'!AY988),\"\",'MIS - Pharmacy'!AY988)","v":""},{"$f":"IF(ISBLANK('MIS - Pharmacy'!BH988),\"\",'MIS - Pharmacy'!BH988)","v":""},"",""]
[{"$f":"IF(ISBLANK('MIS - Pharmacy'!A989), \"\",'MIS - Pharmacy'!A989)","v":""},{"$f":"IF(ISBLANK('MIS - Pharmacy'!B989),\"\",('MIS - Pharmacy'!B989&\"(\"&'MIS - Pharmacy'!D989&\")\"))","v":""},{"$f":"IF(ISBLANK('MIS - Pharmacy'!BI989), \"\", 'MIS - Pharmacy'!BI989)","v":""},{"$f":"IF(ISBLANK('MIS - Pharmacy'!U989), \"\", 'MIS - Pharmacy'!U989)","v":""},"","","","","","","",{"$f":"IF(ISBLANK('MIS - Pharmacy'!AC989),\"\",'MIS - Pharmacy'!AC989)","v":""},"",{"$f":"IF(ISBLANK('MIS - Pharmacy'!AD989),\"\",'MIS - Pharmacy'!AD989)","v":""},"","",{"$f":"IF('MIS - Pharmacy'!A989=\"\",\"\",SUM('MIS - Pharmacy'!K989+'MIS - Pharmacy'!L989))","v":""},"",{"$f":"IF('MIS - Pharmacy'!A989=\"\",\"\",('MIS - Pharmacy'!AF989+'MIS - Pharmacy'!AH989 +'MIS - Pharmacy'!AG989))","v":""},{"$f":"IF(ISBLANK('MIS - Pharmacy'!AI989),\"\",'MIS - Pharmacy'!AI989)","v":""},"","","",{"$f":"IF(ISBLANK('MIS - Pharmacy'!V989),\"\",'MIS - Pharmacy'!V989)","v":""},"","","",{"$f":"IF(ISBLANK('MIS - Pharmacy'!J989),\"\",'MIS - Pharmacy'!J989)","v":""},{"$f":"IF(ISBLANK('MIS - Pharmacy'!AY989),\"\",'MIS - Pharmacy'!AY989)","v":""},{"$f":"IF(ISBLANK('MIS - Pharmacy'!BH989),\"\",'MIS - Pharmacy'!BH989)","v":""},"",""]
[{"$f":"IF(ISBLANK('MIS - Pharmacy'!A990), \"\",'MIS - Pharmacy'!A990)","v":""},{"$f":"IF(ISBLANK('MIS - Pharmacy'!B990),\"\",('MIS - Pharmacy'!B990&\"(\"&'MIS - Pharmacy'!D990&\")\"))","v":""},{"$f":"IF(ISBLANK('MIS - Pharmacy'!BI990), \"\", 'MIS - Pharmacy'!BI990)","v":""},{"$f":"IF(ISBLANK('MIS - Pharmacy'!U990), \"\", 'MIS - Pharmacy'!U990)","v":""},"","","","","","","",{"$f":"IF(ISBLANK('MIS - Pharmacy'!AC990),\"\",'MIS - Pharmacy'!AC990)","v":""},"",{"$f":"IF(ISBLANK('MIS - Pharmacy'!AD990),\"\",'MIS - Pharmacy'!AD990)","v":""},"","",{"$f":"IF('MIS - Pharmacy'!A990=\"\",\"\",SUM('MIS - Pharmacy'!K990+'MIS - Pharmacy'!L990))","v":""},"",{"$f":"IF('MIS - Pharmacy'!A990=\"\",\"\",('MIS - Pharmacy'!AF990+'MIS - Pharmacy'!AH990 +'MIS - Pharmacy'!AG990))","v":""},{"$f":"IF(ISBLANK('MIS - Pharmacy'!AI990),\"\",'MIS - Pharmacy'!AI990)","v":""},"","","",{"$f":"IF(ISBLANK('MIS - Pharmacy'!V990),\"\",'MIS - Pharmacy'!V990)","v":""},"","","",{"$f":"IF(ISBLANK('MIS - Pharmacy'!J990),\"\",'MIS - Pharmacy'!J990)","v":""},{"$f":"IF(ISBLANK('MIS - Pharmacy'!AY990),\"\",'MIS - Pharmacy'!AY990)","v":""},{"$f":"IF(ISBLANK('MIS - Pharmacy'!BH990),\"\",'MIS - Pharmacy'!BH990)","v":""},"",""]
[{"$f":"IF(ISBLANK('MIS - Pharmacy'!A991), \"\",'MIS - Pharmacy'!A991)","v":""},{"$f":"IF(ISBLANK('MIS - Pharmacy'!B991),\"\",('MIS - Pharmacy'!B991&\"(\"&'MIS - Pharmacy'!D991&\")\"))","v":""},{"$f":"IF(ISBLANK('MIS - Pharmacy'!BI991), \"\", 'MIS - Pharmacy'!BI991)","v":""},{"$f":"IF(ISBLANK('MIS - Pharmacy'!U991), \"\", 'MIS - Pharmacy'!U991)","v":""},"","","","","","","",{"$f":"IF(ISBLANK('MIS - Pharmacy'!AC991),\"\",'MIS - Pharmacy'!AC991)","v":""},"",{"$f":"IF(ISBLANK('MIS - Pharmacy'!AD991),\"\",'MIS - Pharmacy'!AD991)","v":""},"","",{"$f":"IF('MIS - Pharmacy'!A991=\"\",\"\",SUM('MIS - Pharmacy'!K991+'MIS - Pharmacy'!L991))","v":""},"",{"$f":"IF('MIS - Pharmacy'!A991=\"\",\"\",('MIS - Pharmacy'!AF991+'MIS - Pharmacy'!AH991 +'MIS - Pharmacy'!AG991))","v":""},{"$f":"IF(ISBLANK('MIS - Pharmacy'!AI991),\"\",'MIS - Pharmacy'!AI991)","v":""},"","","",{"$f":"IF(ISBLANK('MIS - Pharmacy'!V991),\"\",'MIS - Pharmacy'!V991)","v":""},"","","",{"$f":"IF(ISBLANK('MIS - Pharmacy'!J991),\"\",'MIS - Pharmacy'!J991)","v":""},{"$f":"IF(ISBLANK('MIS - Pharmacy'!AY991),\"\",'MIS - Pharmacy'!AY991)","v":""},{"$f":"IF(ISBLANK('MIS - Pharmacy'!BH991),\"\",'MIS - Pharmacy'!BH991)","v":""},"",""]
[{"$f":"IF(ISBLANK('MIS - Pharmacy'!A992), \"\",'MIS - Pharmacy'!A992)","v":""},{"$f":"IF(ISBLANK('MIS - Pharmacy'!B992),\"\",('MIS - Pharmacy'!B992&\"(\"&'MIS - Pharmacy'!D992&\")\"))","v":""},{"$f":"IF(ISBLANK('MIS - Pharmacy'!BI992), \"\", 'MIS - Pharmacy'!BI992)","v":""},{"$f":"IF(ISBLANK('MIS - Pharmacy'!U992), \"\", 'MIS - Pharmacy'!U992)","v":""},"","","","","","","",{"$f":"IF(ISBLANK('MIS - Pharmacy'!AC992),\"\",'MIS - Pharmacy'!AC992)","v":""},"",{"$f":"IF(ISBLANK('MIS - Pharmacy'!AD992),\"\",'MIS - Pharmacy'!AD992)","v":""},"","",{"$f":"IF('MIS - Pharmacy'!A992=\"\",\"\",SUM('MIS - Pharmacy'!K992+'MIS - Pharmacy'!L992))","v":""},"",{"$f":"IF('MIS - Pharmacy'!A992=\"\",\"\",('MIS - Pharmacy'!AF992+'MIS - Pharmacy'!AH992 +'MIS - Pharmacy'!AG992))","v":""},{"$f":"IF(ISBLANK('MIS - Pharmacy'!AI992),\"\",'MIS - Pharmacy'!AI992)","v":""},"","","",{"$f":"IF(ISBLANK('MIS - Pharmacy'!V992),\"\",'MIS - Pharmacy'!V992)","v":""},"","","",{"$f":"IF(ISBLANK('MIS - Pharmacy'!J992),\"\",'MIS - Pharmacy'!J992)","v":""},{"$f":"IF(ISBLANK('MIS - Pharmacy'!AY992),\"\",'MIS - Pharmacy'!AY992)","v":""},{"$f":"IF(ISBLANK('MIS - Pharmacy'!BH992),\"\",'MIS - Pharmacy'!BH992)","v":""},"",""]
[{"$f":"IF(ISBLANK('MIS - Pharmacy'!A993), \"\",'MIS - Pharmacy'!A993)","v":""},{"$f":"IF(ISBLANK('MIS - Pharmacy'!B993),\"\",('MIS - Pharmacy'!B993&\"(\"&'MIS - Pharmacy'!D993&\")\"))","v":""},{"$f":"IF(ISBLANK('MIS - Pharmacy'!BI993), \"\", 'MIS - Pharmacy'!BI993)","v":""},{"$f":"IF(ISBLANK('MIS - Pharmacy'!U993), \"\", 'MIS - Pharmacy'!U993)","v":""},"","","","","","","",{"$f":"IF(ISBLANK('MIS - Pharmacy'!AC993),\"\",'MIS - Pharmacy'!AC993)","v":""},"",{"$f":"IF(ISBLANK('MIS - Pharmacy'!AD993),\"\",'MIS - Pharmacy'!AD993)","v":""},"","",{"$f":"IF('MIS - Pharmacy'!A993=\"\",\"\",SUM('MIS - Pharmacy'!K993+'MIS - Pharmacy'!L993))","v":""},"",{"$f":"IF('MIS - Pharmacy'!A993=\"\",\"\",('MIS - Pharmacy'!AF993+'MIS - Pharmacy'!AH993 +'MIS - Pharmacy'!AG993))","v":""},{"$f":"IF(ISBLANK('MIS - Pharmacy'!AI993),\"\",'MIS - Pharmacy'!AI993)","v":""},"","","",{"$f":"IF(ISBLANK('MIS - Pharmacy'!V993),\"\",'MIS - Pharmacy'!V993)","v":""},"","","",{"$f":"IF(ISBLANK('MIS - Pharmacy'!J993),\"\",'MIS - Pharmacy'!J993)","v":""},{"$f":"IF(ISBLANK('MIS - Pharmacy'!AY993),\"\",'MIS - Pharmacy'!AY993)","v":""},{"$f":"IF(ISBLANK('MIS - Pharmacy'!BH993),\"\",'MIS - Pharmacy'!BH993)","v":""},"",""]
[{"$f":"IF(ISBLANK('MIS - Pharmacy'!A994), \"\",'MIS - Pharmacy'!A994)","v":""},{"$f":"IF(ISBLANK('MIS - Pharmacy'!B994),\"\",('MIS - Pharmacy'!B994&\"(\"&'MIS - Pharmacy'!D994&\")\"))","v":""},{"$f":"IF(ISBLANK('MIS - Pharmacy'!BI994), \"\", 'MIS - Pharmacy'!BI994)","v":""},{"$f":"IF(ISBLANK('MIS - Pharmacy'!U994), \"\", 'MIS - Pharmacy'!U994)","v":""},"","","","","","","",{"$f":"IF(ISBLANK('MIS - Pharmacy'!AC994),\"\",'MIS - Pharmacy'!AC994)","v":""},"",{"$f":"IF(ISBLANK('MIS - Pharmacy'!AD994),\"\",'MIS - Pharmacy'!AD994)","v":""},"","",{"$f":"IF('MIS - Pharmacy'!A994=\"\",\"\",SUM('MIS - Pharmacy'!K994+'MIS - Pharmacy'!L994))","v":""},"",{"$f":"IF('MIS - Pharmacy'!A994=\"\",\"\",('MIS - Pharmacy'!AF994+'MIS - Pharmacy'!AH994 +'MIS - Pharmacy'!AG994))","v":""},{"$f":"IF(ISBLANK('MIS - Pharmacy'!AI994),\"\",'MIS - Pharmacy'!AI994)","v":""},"","","",{"$f":"IF(ISBLANK('MIS - Pharmacy'!V994),\"\",'MIS - Pharmacy'!V994)","v":""},"","","",{"$f":"IF(ISBLANK('MIS - Pharmacy'!J994),\"\",'MIS - Pharmacy'!J994)","v":""},{"$f":"IF(ISBLANK('MIS - Pharmacy'!AY994),\"\",'MIS - Pharmacy'!AY994)","v":""},{"$f":"IF(ISBLANK('MIS - Pharmacy'!BH994),\"\",'MIS - Pharmacy'!BH994)","v":""},"",""]
[{"$f":"IF(ISBLANK('MIS - Pharmacy'!A995), \"\",'MIS - Pharmacy'!A995)","v":""},{"$f":"IF(ISBLANK('MIS - Pharmacy'!B995),\"\",('MIS - Pharmacy'!B995&\"(\"&'MIS - Pharmacy'!D995&\")\"))","v":""},{"$f":"IF(ISBLANK('MIS - Pharmacy'!BI995), \"\", 'MIS - Pharmacy'!BI995)","v":""},{"$f":"IF(ISBLANK('MIS - Pharmacy'!U995), \"\", 'MIS - Pharmacy'!U995)","v":""},"","","","","","","",{"$f":"IF(ISBLANK('MIS - Pharmacy'!AC995),\"\",'MIS - Pharmacy'!AC995)","v":""},"",{"$f":"IF(ISBLANK('MIS - Pharmacy'!AD995),\"\",'MIS - Pharmacy'!AD995)","v":""},"","",{"$f":"IF('MIS - Pharmacy'!A995=\"\",\"\",SUM('MIS - Pharmacy'!K995+'MIS - Pharmacy'!L995))","v":""},"",{"$f":"IF('MIS - Pharmacy'!A995=\"\",\"\",('MIS - Pharmacy'!AF995+'MIS - Pharmacy'!AH995 +'MIS - Pharmacy'!AG995))","v":""},{"$f":"IF(ISBLANK('MIS - Pharmacy'!AI995),\"\",'MIS - Pharmacy'!AI995)","v":""},"","","",{"$f":"IF(ISBLANK('MIS - Pharmacy'!V995),\"\",'MIS - Pharmacy'!V995)","v":""},"","","",{"$f":"IF(ISBLANK('MIS - Pharmacy'!J995),\"\",'MIS - Pharmacy'!J995)","v":""},{"$f":"IF(ISBLANK('MIS - Pharmacy'!AY995),\"\",'MIS - Pharmacy'!AY995)","v":""},{"$f":"IF(ISBLANK('MIS - Pharmacy'!BH995),\"\",'MIS - Pharmacy'!BH995)","v":""},"",""]
[{"$f":"IF(ISBLANK('MIS - Pharmacy'!A996), \"\",'MIS - Pharmacy'!A996)","v":""},{"$f":"IF(ISBLANK('MIS - Pharmacy'!B996),\"\",('MIS - Pharmacy'!B996&\"(\"&'MIS - Pharmacy'!D996&\")\"))","v":""},{"$f":"IF(ISBLANK('MIS - Pharmacy'!BI996), \"\", 'MIS - Pharmacy'!BI996)","v":""},{"$f":"IF(ISBLANK('MIS - Pharmacy'!U996), \"\", 'MIS - Pharmacy'!U996)","v":""},{"$f":"IF(D1005=\"\",\"\",IF(D1005<=D$9,\"Lower Outlier\",IF(D1005<=D$5,\"Below Average\",IF(D1005<=D$6,\"Lower Quartile Range\",IF(D1005<=D$7,\"Upper Quartile Range\",IF(D1005<=D$10,\"Above Average\",\"Upper Outlier\"))))))","v":""},{"$f":"IF(D1005=\"\",\"\",D1005*12)","v":""},{"$f":"IF(Q1005=\"\",\"\",IF(Q1005 = 0, 0, D1005/Q1005*1000))","v":""},"",{"$f":"IF(A1005=\"\",\"\",IF(D1005=0,0,(D1005*0.3)/Y1005))","v":""},{"$f":"IF(D1005=0,0,IF(D1005=\"\",\"\",D1005/Q1005))","v":""},{"$f":"IF(D1005=0,0,IF(D1005=\"\",\"\",D1005/X1005))","v":""},{"$f":"IF(ISBLANK('MIS - Pharmacy'!AC996),\"\",'MIS - Pharmacy'!AC996)","v":""},{"$f":"IF(L1005=\"\",\"\",IF(L1005<=L$9,\"Lower Outlier\",IF(L1005<=L$5,\"Below Average\",IF(L1005<=L$6,\"Lower Quartile Range\",IF(L1005<=L$7,\"Upper Quartile Range\",IF(L1005<=L$10,\"Above Average\",\"Upper Outlier\"))))))","v":""},{"$f":"IF(ISBLANK('MIS - Pharmacy'!AD996),\"\",'MIS - Pharmacy'!AD996)","v":""},{"$f":"IF(N1005=\"\",\"\",IF(N1005=0,0,L1005/N1005*1000))","v":""},{"$f":"IF(L1005=\"\",\"\",IF(X1005=0,0,L1005/X1005))","v":""},{"$f":"IF('MIS - Pharmacy'!A996=\"\",\"\",SUM('MIS - Pharmacy'!K996+'MIS - Pharmacy'!L996))","v":""},{"$f":"IF(Q1005=\"\",\"\",IF(Q1005<=Q$9,\"Lower Outlier\",IF(Q1005<=Q$5,\"Below Average\",IF(Q1005<=Q$6,\"Lower Quartile Range\",IF(Q1005<=Q$7,\"Upper Quartile Range\",IF(Q1005<=Q$10,\"Above Average\",\"Upper Outlier\"))))))","v":""},{"$f":"IF('MIS - Pharmacy'!A996=\"\",\"\",('MIS - Pharmacy'!AF996+'MIS - Pharmacy'!AH996 +'MIS - Pharmacy'!AG996))","v":""},{"$f":"IF(ISBLANK('MIS - Pharmacy'!AI996),\"\",'MIS - Pharmacy'!AI996)","v":""},{"$f":"IF(T1005=\"\",\"\",IF(T1005<=T$9,\"Lower Outlier\",IF(T1005<=T$5,\"Below Average\",IF(T1005<=T$6,\"Lower Quartile Range\",IF(T1005<=T$7,\"Upper Quartile Range\",IF(T1005<=T$10,\"Above Average\",\"Upper Outlier\"))))))","v":""},{"$f":"IF(A1005=\"\",\"\",IF(T1005=0,0,T1005/Q1005*1000))","v":""},{"$f":"IF(V1005=\"\",\"\",IF(S1005 >0,(T1005/S1005*1000),0))","v":""},{"$f":"IF(ISBLANK('MIS - Pharmacy'!V996),\"\",'MIS - Pharmacy'!V996)","v":""},{"$f":"IF(X1005=\"\",\"\",(X1005/7)*$Y$3)","v":""},{"$f":"IF(X1005=\"\",\"\",IF(X1005<=X$9,\"Lower Outlier\",IF(X1005<=X$5,\"Below Average\",IF(X1005<=X$6,\"Lower Quartile Range\",IF(X1005<=X$7,\"Upper Quartile Range\",IF(X1005<=X$10,\"Above Average\",\"Upper Outlier\"))))))","v":""},{"$f":"IF(A1005=\"\",\"\",IF(X1005=0,0,Y1005/Q1005*1000))","v":""},{"$f":"IF(ISBLANK('MIS - Pharmacy'!J996),\"\",'MIS - Pharmacy'!J996)","v":""},{"$f":"IF(ISBLANK('MIS - Pharmacy'!AY996),\"\",'MIS - Pharmacy'!AY996)","v":""},{"$f":"IF(ISBLANK('MIS - Pharmacy'!BH996),\"\",'MIS - Pharmacy'!BH996)","v":""},{"$f":"IF(A1005=\"\",\"\",D1005+L1005)","v":""},{"$f":"IF(A1005=\"\",\"\",IF(Y1005=0,0,(AE1005/Y1005)*100))","v":""}]
[{"$f":"IF(ISBLANK('MIS - Pharmacy'!A997), \"\",'MIS - Pharmacy'!A997)","v":""},{"$f":"IF(ISBLANK('MIS - Pharmacy'!B997),\"\",('MIS - Pharmacy'!B997&\"(\"&'MIS - Pharmacy'!D997&\")\"))","v":""},{"$f":"IF(ISBLANK('MIS - Pharmacy'!BI997), \"\", 'MIS - Pharmacy'!BI997)","v":""},{"$f":"IF(ISBLANK('MIS - Pharmacy'!U997), \"\", 'MIS - Pharmacy'!U997)","v":""},"","","","","","","",{"$f":"IF(ISBLANK('MIS - Pharmacy'!AC997),\"\",'MIS - Pharmacy'!AC997)","v":""},"",{"$f":"IF(ISBLANK('MIS - Pharmacy'!AD997),\"\",'MIS - Pharmacy'!AD997)","v":""},"","",{"$f":"IF('MIS - Pharmacy'!A997=\"\",\"\",SUM('MIS - Pharmacy'!K997+'MIS - Pharmacy'!L997))","v":""},"",{"$f":"IF('MIS - Pharmacy'!A997=\"\",\"\",('MIS - Pharmacy'!AF997+'MIS - Pharmacy'!AH997 +'MIS - Pharmacy'!AG997))","v":""},{"$f":"IF(ISBLANK('MIS - Pharmacy'!AI997),\"\",'MIS - Pharmacy'!AI997)","v":""},"","","",{"$f":"IF(ISBLANK('MIS - Pharmacy'!V997),\"\",'MIS - Pharmacy'!V997)","v":""},"","","",{"$f":"IF(ISBLANK('MIS - Pharmacy'!J997),\"\",'MIS - Pharmacy'!J997)","v":""},{"$f":"IF(ISBLANK('MIS - Pharmacy'!AY997),\"\",'MIS - Pharmacy'!AY997)","v":""},{"$f":"IF(ISBLANK('MIS - Pharmacy'!BH997),\"\",'MIS - Pharmacy'!BH997)","v":""},"",""]
[{"$f":"IF(ISBLANK('MIS - Pharmacy'!A998), \"\",'MIS - Pharmacy'!A998)","v":""},{"$f":"IF(ISBLANK('MIS - Pharmacy'!B998),\"\",('MIS - Pharmacy'!B998&\"(\"&'MIS - Pharmacy'!D998&\")\"))","v":""},{"$f":"IF(ISBLANK('MIS - Pharmacy'!BI998), \"\", 'MIS - Pharmacy'!BI998)","v":""},{"$f":"IF(ISBLANK('MIS - Pharmacy'!U998), \"\", 'MIS - Pharmacy'!U998)","v":""},"","","","","","","",{"$f":"IF(ISBLANK('MIS - Pharmacy'!AC998),\"\",'MIS - Pharmacy'!AC998)","v":""},"",{"$f":"IF(ISBLANK('MIS - Pharmacy'!AD998),\"\",'MIS - Pharmacy'!AD998)","v":""},"","",{"$f":"IF('MIS - Pharmacy'!A998=\"\",\"\",SUM('MIS - Pharmacy'!K998+'MIS - Pharmacy'!L998))","v":""},"",{"$f":"IF('MIS - Pharmacy'!A998=\"\",\"\",('MIS - Pharmacy'!AF998+'MIS - Pharmacy'!AH998 +'MIS - Pharmacy'!AG998))","v":""},{"$f":"IF(ISBLANK('MIS - Pharmacy'!AI998),\"\",'MIS - Pharmacy'!AI998)","v":""},"","","",{"$f":"IF(ISBLANK('MIS - Pharmacy'!V998),\"\",'MIS - Pharmacy'!V998)","v":""},"","","",{"$f":"IF(ISBLANK('MIS - Pharmacy'!J998),\"\",'MIS - Pharmacy'!J998)","v":""},{"$f":"IF(ISBLANK('MIS - Pharmacy'!AY998),\"\",'MIS - Pharmacy'!AY998)","v":""},{"$f":"IF(ISBLANK('MIS - Pharmacy'!BH998),\"\",'MIS - Pharmacy'!BH998)","v":""},"",""]
[{"$f":"IF(ISBLANK('MIS - Pharmacy'!A999), \"\",'MIS - Pharmacy'!A999)","v":""},{"$f":"IF(ISBLANK('MIS - Pharmacy'!B999),\"\",('MIS - Pharmacy'!B999&\"(\"&'MIS - Pharmacy'!D999&\")\"))","v":""},{"$f":"IF(ISBLANK('MIS - Pharmacy'!BI999), \"\", 'MIS - Pharmacy'!BI999)","v":""},{"$f":"IF(ISBLANK('MIS - Pharmacy'!U999), \"\", 'MIS - Pharmacy'!U999)","v":""},"","","","","","","",{"$f":"IF(ISBLANK('MIS - Pharmacy'!AC999),\"\",'MIS - Pharmacy'!AC999)","v":""},"",{"$f":"IF(ISBLANK('MIS - Pharmacy'!AD999),\"\",'MIS - Pharmacy'!AD999)","v":""},"","",{"$f":"IF('MIS - Pharmacy'!A999=\"\",\"\",SUM('MIS - Pharmacy'!K999+'MIS - Pharmacy'!L999))","v":""},"",{"$f":"IF('MIS - Pharmacy'!A999=\"\",\"\",('MIS - Pharmacy'!AF999+'MIS - Pharmacy'!AH999 +'MIS - Pharmacy'!AG999))","v":""},{"$f":"IF(ISBLANK('MIS - Pharmacy'!AI999),\"\",'MIS - Pharmacy'!AI999)","v":""},"","","",{"$f":"IF(ISBLANK('MIS - Pharmacy'!V999),\"\",'MIS - Pharmacy'!V999)","v":""},"","","",{"$f":"IF(ISBLANK('MIS - Pharmacy'!J999),\"\",'MIS - Pharmacy'!J999)","v":""},{"$f":"IF(ISBLANK('MIS - Pharmacy'!AY999),\"\",'MIS - Pharmacy'!AY999)","v":""},{"$f":"IF(ISBLANK('MIS - Pharmacy'!BH999),\"\",'MIS - Pharmacy'!BH999)","v":""},"",""]
[{"$f":"IF(ISBLANK('MIS - Pharmacy'!A1000), \"\",'MIS - Pharmacy'!A1000)","v":""},{"$f":"IF(ISBLANK('MIS - Pharmacy'!B1000),\"\",('MIS - Pharmacy'!B1000&\"(\"&'MIS - Pharmacy'!D1000&\")\"))","v":""},{"$f":"IF(ISBLANK('MIS - Pharmacy'!BI1000), \"\", 'MIS - Pharmacy'!BI1000)","v":""},{"$f":"IF(ISBLANK('MIS - Pharmacy'!U1000), \"\", 'MIS - Pharmacy'!U1000)","v":""},"","","","","","","",{"$f":"IF(ISBLANK('MIS - Pharmacy'!AC1000),\"\",'MIS - Pharmacy'!AC1000)","v":""},"",{"$f":"IF(ISBLANK('MIS - Pharmacy'!AD1000),\"\",'MIS - Pharmacy'!AD1000)","v":""},"","",{"$f":"IF('MIS - Pharmacy'!A1000=\"\",\"\",SUM('MIS - Pharmacy'!K1000+'MIS - Pharmacy'!L1000))","v":""},"",{"$f":"IF('MIS - Pharmacy'!A1000=\"\",\"\",('MIS - Pharmacy'!AF1000+'MIS - Pharmacy'!AH1000 +'MIS - Pharmacy'!AG1000))","v":""},{"$f":"IF(ISBLANK('MIS - Pharmacy'!AI1000),\"\",'MIS - Pharmacy'!AI1000)","v":""},"","","",{"$f":"IF(ISBLANK('MIS - Pharmacy'!V1000),\"\",'MIS - Pharmacy'!V1000)","v":""},"","","",{"$f":"IF(ISBLANK('MIS - Pharmacy'!J1000),\"\",'MIS - Pharmacy'!J1000)","v":""},{"$f":"IF(ISBLANK('MIS - Pharmacy'!AY1000),\"\",'MIS - Pharmacy'!AY1000)","v":""},{"$f":"IF(ISBLANK('MIS - Pharmacy'!BH1000),\"\",'MIS - Pharmacy'!BH1000)","v":""},"",""]
[{"$f":"IF(ISBLANK('MIS - Pharmacy'!A1001), \"\",'MIS - Pharmacy'!A1001)","v":""},{"$f":"IF(ISBLANK('MIS - Pharmacy'!B1001),\"\",('MIS - Pharmacy'!B1001&\"(\"&'MIS - Pharmacy'!D1001&\")\"))","v":""},{"$f":"IF(ISBLANK('MIS - Pharmacy'!BI1001), \"\", 'MIS - Pharmacy'!BI1001)","v":""},{"$f":"IF(ISBLANK('MIS - Pharmacy'!U1001), \"\", 'MIS - Pharmacy'!U1001)","v":""},"","","","","","","",{"$f":"IF(ISBLANK('MIS - Pharmacy'!AC1001),\"\",'MIS - Pharmacy'!AC1001)","v":""},"",{"$f":"IF(ISBLANK('MIS - Pharmacy'!AD1001),\"\",'MIS - Pharmacy'!AD1001)","v":""},"","",{"$f":"IF('MIS - Pharmacy'!A1001=\"\",\"\",SUM('MIS - Pharmacy'!K1001+'MIS - Pharmacy'!L1001))","v":""},"",{"$f":"IF('MIS - Pharmacy'!A1001=\"\",\"\",('MIS - Pharmacy'!AF1001+'MIS - Pharmacy'!AH1001 +'MIS - Pharmacy'!AG1001))","v":""},{"$f":"IF(ISBLANK('MIS - Pharmacy'!AI1001),\"\",'MIS - Pharmacy'!AI1001)","v":""},"","","",{"$f":"IF(ISBLANK('MIS - Pharmacy'!V1001),\"\",'MIS - Pharmacy'!V1001)","v":""},"","","",{"$f":"IF(ISBLANK('MIS - Pharmacy'!J1001),\"\",'MIS - Pharmacy'!J1001)","v":""},{"$f":"IF(ISBLANK('MIS - Pharmacy'!AY1001),\"\",'MIS - Pharmacy'!AY1001)","v":""},{"$f":"IF(ISBLANK('MIS - Pharmacy'!BH1001),\"\",'MIS - Pharmacy'!BH1001)","v":""},"",""]
[{"$f":"IF(ISBLANK('MIS - Pharmacy'!A1002), \"\",'MIS - Pharmacy'!A1002)","v":""},{"$f":"IF(ISBLANK('MIS - Pharmacy'!B1002),\"\",('MIS - Pharmacy'!B1002&\"(\"&'MIS - Pharmacy'!D1002&\")\"))","v":""},{"$f":"IF(ISBLANK('MIS - Pharmacy'!BI1002), \"\", 'MIS - Pharmacy'!BI1002)","v":""},{"$f":"IF(ISBLANK('MIS - Pharmacy'!U1002), \"\", 'MIS - Pharmacy'!U1002)","v":""},"","","","","","","",{"$f":"IF(ISBLANK('MIS - Pharmacy'!AC1002),\"\",'MIS - Pharmacy'!AC1002)","v":""},"",{"$f":"IF(ISBLANK('MIS - Pharmacy'!AD1002),\"\",'MIS - Pharmacy'!AD1002)","v":""},"","",{"$f":"IF('MIS - Pharmacy'!A1002=\"\",\"\",SUM('MIS - Pharmacy'!K1002+'MIS - Pharmacy'!L1002))","v":""},"",{"$f":"IF('MIS - Pharmacy'!A1002=\"\",\"\",('MIS - Pharmacy'!AF1002+'MIS - Pharmacy'!AH1002 +'MIS - Pharmacy'!AG1002))","v":""},{"$f":"IF(ISBLANK('MIS - Pharmacy'!AI1002),\"\",'MIS - Pharmacy'!AI1002)","v":""},"","","",{"$f":"IF(ISBLANK('MIS - Pharmacy'!V1002),\"\",'MIS - Pharmacy'!V1002)","v":""},"","","",{"$f":"IF(ISBLANK('MIS - Pharmacy'!J1002),\"\",'MIS - Pharmacy'!J1002)","v":""},{"$f":"IF(ISBLANK('MIS - Pharmacy'!AY1002),\"\",'MIS - Pharmacy'!AY1002)","v":""},{"$f":"IF(ISBLANK('MIS - Pharmacy'!BH1002),\"\",'MIS - Pharmacy'!BH1002)","v":""},"",""]
[{"$f":"IF(ISBLANK('MIS - Pharmacy'!A1003), \"\",'MIS - Pharmacy'!A1003)","v":""},{"$f":"IF(ISBLANK('MIS - Pharmacy'!B1003),\"\",('MIS - Pharmacy'!B1003&\"(\"&'MIS - Pharmacy'!D1003&\")\"))","v":""},{"$f":"IF(ISBLANK('MIS - Pharmacy'!BI1003), \"\", 'MIS - Pharmacy'!BI1003)","v":""},{"$f":"IF(ISBLANK('MIS - Pharmacy'!U1003), \"\", 'MIS - Pharmacy'!U1003)","v":""},"","","","","","","",{"$f":"IF(ISBLANK('MIS - Pharmacy'!AC1003),\"\",'MIS - Pharmacy'!AC1003)","v":""},"",{"$f":"IF(ISBLANK('MIS - Pharmacy'!AD1003),\"\",'MIS - Pharmacy'!AD1003)","v":""},"","",{"$f":"IF('MIS - Pharmacy'!A1003=\"\",\"\",SUM('MIS - Pharmacy'!K1003+'MIS - Pharmacy'!L1003))","v":""},"",{"$f":"IF('MIS - Pharmacy'!A1003=\"\",\"\",('MIS - Pharmacy'!AF1003+'MIS - Pharmacy'!AH1003 +'MIS - Pharmacy'!AG1003))","v":""},{"$f":"IF(ISBLANK('MIS - Pharmacy'!AI1003),\"\",'MIS - Pharmacy'!AI1003)","v":""},"","","",{"$f":"IF(ISBLANK('MIS - Pharmacy'!V1003),\"\",'MIS - Pharmacy'!V1003)","v":""},"","","",{"$f":"IF(ISBLANK('MIS - Pharmacy'!J1003),\"\",'MIS - Pharmacy'!J1003)","v":""},{"$f":"IF(ISBLANK('MIS - Pharmacy'!AY1003),\"\",'MIS - Pharmacy'!AY1003)","v":""},{"$f":"IF(ISBLANK('MIS - Pharmacy'!BH1003),\"\",'MIS - Pharmacy'!BH1003)","v":""},"",""]
[{"$f":"IF(ISBLANK('MIS - Pharmacy'!A1004), \"\",'MIS - Pharmacy'!A1004)","v":""},{"$f":"IF(ISBLANK('MIS - Pharmacy'!B1004),\"\",('MIS - Pharmacy'!B1004&\"(\"&'MIS - Pharmacy'!D1004&\")\"))","v":""},{"$f":"IF(ISBLANK('MIS - Pharmacy'!BI1004), \"\", 'MIS - Pharmacy'!BI1004)","v":""},{"$f":"IF(ISBLANK('MIS - Pharmacy'!U1004), \"\", 'MIS - Pharmacy'!U1004)","v":""},"","","","","","","",{"$f":"IF(ISBLANK('MIS - Pharmacy'!AC1004),\"\",'MIS - Pharmacy'!AC1004)","v":""},"",{"$f":"IF(ISBLANK('MIS - Pharmacy'!AD1004),\"\",'MIS - Pharmacy'!AD1004)","v":""},"","",{"$f":"IF('MIS - Pharmacy'!A1004=\"\",\"\",SUM('MIS - Pharmacy'!K1004+'MIS - Pharmacy'!L1004))","v":""},"",{"$f":"IF('MIS - Pharmacy'!A1004=\"\",\"\",('MIS - Pharmacy'!AF1004+'MIS - Pharmacy'!AH1004 +'MIS - Pharmacy'!AG1004))","v":""},{"$f":"IF(ISBLANK('MIS - Pharmacy'!AI1004),\"\",'MIS - Pharmacy'!AI1004)","v":""},"","","",{"$f":"IF(ISBLANK('MIS - Pharmacy'!V1004),\"\",'MIS - Pharmacy'!V1004)","v":""},"","","",{"$f":"IF(ISBLANK('MIS - Pharmacy'!J1004),\"\",'MIS - Pharmacy'!J1004)","v":""},{"$f":"IF(ISBLANK('MIS - Pharmacy'!AY1004),\"\",'MIS - Pharmacy'!AY1004)","v":""},{"$f":"IF(ISBLANK('MIS - Pharmacy'!BH1004),\"\",'MIS - Pharmacy'!BH1004)","v":""},"",""]

{"sheet":"OOPE","index":7,"n_rows":30,"n_cols":12,"rows_kept":30,"cut":false,"hidden":true,"merged":[[2,2,2,3]]}
[]
[]
[null,null,"Summary"]
[null,null,"Metric",{"$f":"Workings!T12","v":"OOPE"}]
[null,null,"Area Team",{"$f":"'MIS - Pharmacy'!A1","v":0}]
[null,null,"Month",{"$f":"'MIS - Pharmacy'!B1","v":0}]
[null,null,"Total Contractors within Area Team",{"$f":"COUNT(Workings!L13:L1000)","v":0}]
[null,null,"Total contractors claiming OOPE ",{"$f":"D7-D9","v":0}]
[{"$f":"D8/D7","v":{"$error":"#DIV/0!"}},null,"Total contractors not claiming OOPE ",{"$f":"COUNTIF(Workings!T13:T1000,0)","v":0}]
[{"$f":"D9/D7","v":{"$error":"#DIV/0!"}},null,"Total OOPE claimed in a month",{"$f":"Workings!T1","v":0}]
[null,null,"Average OOPE claimed this month",{"$f":"Workings!T2","v":{"$error":"#DIV/0!"}}]
[]
[]
[]
[]
[]
[]
[]
[]
[]
[]
[]
[]
[]
[]
[null,null,null,null,null,"OOPE Quartile Range","(Multiple Items)"]
[]
[null,null,"Contractor","Sum of OOPE",null,"Contractor","Name","Total OOPE (£) ","Total No. Items","NIC (£)","OOPE (£) per 1000 Items","OOPE (£) per £1000 NIC"]
[null,null,null,0,null,"Average Total"]
[null,null,"Grand Total",0]

{"sheet":"NMS","index":8,"n_rows":30,"n_cols":12,"rows_kept":30,"cut":false,"hidden":true,"merged":[[2,2,2,3]]}
[]
[]
[null,null,"Summary"]
[null,null,"Metric",{"$f":"Workings!L12","v":"NMS"}]
[null,null,"Area Team",{"$f":"'MIS - Pharmacy'!A1","v":0}]
[null,null,"Month",{"$f":"'MIS - Pharmacy'!B1","v":0}]
[null,null,"Total Contractors within Area Team",{"$f":"COUNT(Workings!L13:L1000)","v":0}]
[null,null,"Total contractors carrying out NMS",{"$f":"D7-D9","v":0}]
[{"$f":"D8/D7","v":{"$error":"#DIV/0!"}},null,"Total Contractors doing no NMS",{"$f":"COUNTIF(Workings!L13:L1000,0)","v":0}]
[{"$f":"D9/D7","v":{"$error":"#DIV/0!"}},null,"Total NMS carried out in a month",{"$f":"SUM(Workings!L13:L1000)","v":0}]
[null,null,"Average NMS carried out this month",{"$f":"Workings!L2","v":{"$error":"#DIV/0!"}}]
[]
[]
[]
[]
[]
[]
[]
[]
[]
[]
[]
[]
[]
[]
[null,null,null,null,null,"Quartile Range","(Multiple Items)"]
[]
[null,null,"Contractor","Sum of NMS",null,"Contractor","Name","No. NMS Conducted ","Total No. of NMS Items","No. Staff Hours for the Month","NMS conducted per 1000 NMS Items","NMS conducted to staff hours"]
[null,null,null,0,null,"Average Total"]
[null,null,"Grand Total",0]

{"sheet":"Staff Hours","index":9,"n_rows":30,"n_cols":14,"rows_kept":30,"cut":false,"hidden":true,"merged":[[2,2,2,3]]}
[]
[]
[null,null,"Summary"]
[null,null,"Metric",{"$f":"Workings!X12","v":"Staff Hours"}]
[null,null,"Area Team",{"$f":"'MIS - Pharmacy'!A1","v":0}]
[null,null,"Month",{"$f":"'MIS - Pharmacy'!B1","v":0}]
[null,null,"Total Contractors within Area Team",{"$f":"COUNT(Workings!D13:D1000)","v":0}]
[null,null,"Total contractors with Staff Hours",{"$f":"D7-D9","v":0}]
[{"$f":"D8/D7","v":{"$error":"#DIV/0!"}},null,"Total contractors with No Staff Hours",{"$f":"COUNTIF(Workings!X13:X1000,0)","v":0}]
[{"$f":"D9/D7","v":{"$error":"#DIV/0!"}},null,"Total Staff Hours in a month",{"$f":"Workings!X1","v":0}]
[null,null,"Average Staff Hours in a month",{"$f":"Workings!X2","v":{"$error":"#DIV/0!"}}]
[]
[]
[]
[]
[]
[]
[]
[]
[]
[]
[]
[]
[]
[]
[null,null,null,null,null,"Staff Quartile Range","(Multiple Items)"]
[]
[null,null,"Contractor"," Staff Hours",null,"Contractors","Name","No.Staff Hours for the Month","Total No. Items","Total Practice Payment","Total Establishment Payment","Total of MUR Plus NMS","Total of MUR and NMS per 100 Staff Hours"," Staff hours per 1000 Items"]
[null,null,null,0,null,"Average Total"]
[null,null,"Grand Total",0]

{"sheet":"MUR","index":10,"n_rows":30,"n_cols":13,"rows_kept":30,"cut":false,"hidden":true,"merged":[[2,2,2,4],[10,2,10,3],[9,2,9,3],[8,2,8,3],[7,2,7,3],[6,2,6,3],[5,2,5,3],[4,2,4,3],[3,2,3,3]]}
[]
[]
[null,null,"Summary"]
[null,null,"Metric",null,{"$f":"Workings!D12","v":"MUR "}]
[null,null,"Area Team",null,{"$f":"'MIS - Pharmacy'!A1","v":0}]
[null,null,"Month",null,{"$f":"'MIS - Pharmacy'!B1","v":0}]
[null,null,"Total Contractors within Area Team",null,{"$f":"COUNT(Workings!D13:D1000)","v":0}]
[null,null,"Total Contractors carrying out MURs",null,{"$f":"E7-E9","v":0}]
[{"$f":"E8/E7","v":{"$error":"#DIV/0!"}},null,"Total Contractors doing no MURs",null,{"$f":"COUNTIF(Workings!D13:D1000,0)","v":0}]
[{"$f":"E9/E7","v":{"$error":"#DIV/0!"}},null,"Total MURs carried out in a month",null,{"$f":"Workings!D1","v":0}]
[null,null,"Average MURs carries out this month",null,{"$f":"Workings!D2","v":{"$error":"#NUM!"}}]
[]
[]
[]
[]
[]
[]
[]
[]
[]
[]
[]
[]
[]
[]
[null,null,null,null,null,null,"MUR Quartile Range","(Multiple Items)"]
[]
[null,null,"Contractor","No. of MUR ","MUR Fcast",null,"Contractor Code","Name","No. of MUR ","Total No. Items","No. Staff Hours for the Month","No. MURs per 1000 items","Percentage of Staff Hours spent on MURs"]
[null,null,null,0,0,null,"Average Total"]
[null,null,"Grand Total",0,0]

{"sheet":"Glossary","index":11,"n_rows":0,"n_cols":0,"rows_kept":0,"cut":false,"hidden":true,"merged":[]}

{"sheet":"Sheet1","index":12,"n_rows":0,"n_cols":0,"rows_kept":0,"cut":false,"hidden":true,"merged":[]}