{"text_format":"1","workbook":"xlsx","n_sheets":44,"sheets":["Home","Dashboard","MUR","NMS","OOPE","MUR Workings","OOPE Workings","MUR Dynamic","NMS Workings","NMS Dynamic","OOPE Dynamic","Control Sheet","Apr","Apr_Con","May","May_Con","Jun","Jun_Con","Jul","Jul_con","Aug","Aug_Con","Sep","Sep_Con","Oct","Oct_Con","Nov","Nov_Con","Dec","Dec_Con","Jan","Jan_Con","Feb","Feb_Con","Mar","Mar_Con","Variables","Blank Control Sheet","BlankAbated","Abated","Abated Workings","Abated Analysis","Abated Dynamic","Sheet1"],"not_rendered":{"charts":15,"images":2,"macros":1,"external_links":0,"defined_names":78,"comments":4,"pivot_tables":29},"unopened":[],"bounds":{"document_bytes":16777216,"sheet_cells":100000,"rows_first":2000,"rows_last":500,"rows_between":2000,"halvings":0,"cell_chars":16384,"cell_head_chars":4096},"cells_cut":0,"cells_raw":0,"read":"whole","date_system":"1900"}

{"sheet":"Home","index":0,"n_rows":22,"n_cols":14,"rows_kept":22,"cut":false,"hidden":false,"merged":[[13,0,13,15]]}
[]
[]
[]
[]
[]
[]
[]
[]
[]
[]
[]
[]
[]
["Pharmacy Framework"]
[]
["Please select an area below to view a summary report"]
[]
[null,null,null,"Spreadsheet set for financial year ",null,null,null,null,"From:",{"$f":"IF(Year_From=0,\"Not Set\", \"April \"&Year_From)","v":"Not Set"},null,"To:",{"$f":"IF(Year_To=0,\"Not Set\",\"March \"&Year_To)","v":"Not Set"}]
[]
[]
[null,null,null,null,null,null,null,null,"Apr","May","Jun","Jul","Aug","Sep"]
[null,null,null,null,null,null,null,null,"Oct","Nov","Dec","Jan","Feb","Mar"]

{"sheet":"Dashboard","index":1,"n_rows":5,"n_cols":3,"rows_kept":5,"cut":false,"hidden":true,"merged":[]}
[]
[]
[]
[]
[null,null,"Highlight contractor"]

{"sheet":"MUR","index":2,"n_rows":42,"n_cols":22,"rows_kept":42,"cut":false,"hidden":true,"merged":[[5,3,5,4]]}
[]
[]
[null,null,"Indicator",null,"Activity"]
[null,null,"Metric",null,{"$f":"'MUR Workings'!C1","v":"MUR"}]
[null,null,"NHS England Area",null,{"$f":"MID('Control Sheet'!L1,1,FIND(\"|\",'Control Sheet'!L1,1)-1)","v":{"$error":"#VALUE!"}}]
[null,null,null,{"$f":"MID('Control Sheet'!L1,FIND(\"|\",'Control Sheet'!L1,1)+1,10000)","v":{"$error":"#VALUE!"}}]
[null,null,"Total Contractors within Area Team",null,{"$f":"'MUR Workings'!I1","v":1}]
[null,null,"Total Contractors carrying out MUR activty",null,{"$f":"'MUR Workings'!O15","v":0}]
[null,null,"Total Contractors doing no MUR activity",null,{"$f":"'MUR Workings'!O16","v":1}]
[null,null,"Average MURs carried out to date",null,{"$f":"'MUR Workings'!O5","v":0}]
[null,null,"Total number of MUR's conducted (YTD)",null,{"$f":"'MUR Workings'!C2","v":0}]
[null,null,"Total amount paid for MUR's (YTD)",null,{"$f":"'MUR Workings'!CM2","v":0}]
[null,null,"Total MUR Adjustments made (YTD)",null,{"$f":"'MUR Workings'!CZ2","v":0}]
[null,null,"MUR Balance (YTD)",null,{"$f":"E12+E13","v":0}]
[]
[]
[]
[]
[]
[]
[]
[]
[]
[]
[]
[]
[]
[]
[]
[]
[]
[]
[]
[]
[]
[]
[]
[null,null,null,null,null,null,"Contains Outlier Activity"]
[null,null,null,null,null,null,"Area Team Averages ",null,{"$f":"IF(ISERROR('MUR Workings'!C5),\"\",'MUR Workings'!C5)","v":""},{"$f":"IF(ISERROR('MUR Workings'!D5),\"\",'MUR Workings'!D5)","v":""},{"$f":"IF(ISERROR('MUR Workings'!E5),\"\",'MUR Workings'!E5)","v":""},{"$f":"IF(ISERROR('MUR Workings'!F5),\"\",'MUR Workings'!F5)","v":""},{"$f":"IF(ISERROR('MUR Workings'!G5),\"\",'MUR Workings'!G5)","v":""},{"$f":"IF(ISERROR('MUR Workings'!H5),\"\",'MUR Workings'!H5)","v":""},{"$f":"IF(ISERROR('MUR Workings'!I5),\"\",'MUR Workings'!I5)","v":""},{"$f":"IF(ISERROR('MUR Workings'!J5),\"\",'MUR Workings'!J5)","v":""},{"$f":"IF(ISERROR('MUR Workings'!K5),\"\",'MUR Workings'!K5)","v":""},{"$f":"IF(ISERROR('MUR Workings'!L5),\"\",'MUR Workings'!L5)","v":""},{"$f":"IF(ISERROR('MUR Workings'!M5),\"\",'MUR Workings'!M5)","v":""},{"$f":"IF(ISERROR('MUR Workings'!N5),\"\",'MUR Workings'!N5)","v":""},{"$f":"IF(ISERROR('MUR Workings'!O5),\"\",'MUR Workings'!O5)","v":0}]
[null,null,"Contractor","Cummulative Figure","Forecasted Total",null,"Contractor","Name","Apr.  ","May. ","Jun.","Jul.","Aug.","Sep.","Oct.","Nov.","Dec.","Jan.","Feb.","Mar.","YTD Total","Forecasted Total"]
[null,null,"Blank",0,0,null,"Blank",null,null,null,null,null,null,null,null,null,null,null,null,null,0,0]
[null,null,"Grand Total",0,0,null,"Averages",null,null,null,null,null,null,null,null,null,null,null,null,null,0,0]

{"sheet":"NMS","index":3,"n_rows":41,"n_cols":22,"rows_kept":41,"cut":false,"hidden":true,"merged":[]}
[]
[]
[null,null,"Indicator",null,"Activity"]
[null,null,"Metric",null,{"$f":"'NMS Workings'!C1","v":"NMS"}]
[null,null,"NHS England Area",null,{"$f":"MID('Control Sheet'!L1,1,FIND(\"|\",'Control Sheet'!L1,1)-1)","v":{"$error":"#VALUE!"}}]
[null,null,null,null,{"$f":"MID('Control Sheet'!L1,FIND(\"|\",'Control Sheet'!L1,1)+1,10000)","v":{"$error":"#VALUE!"}}]
[null,null,"Total Contractors within Area Team",null,{"$f":"'NMS Workings'!O14","v":1}]
[null,null,"Total Contractors carrying out NMS activty",null,{"$f":"'NMS Workings'!O15","v":0}]
[null,null,"Total Contractors doing no NMS activity",null,{"$f":"'NMS Workings'!O16","v":1}]
[null,null,"Average NMSs carried out to date",null,{"$f":"'NMS Workings'!O5","v":0}]
[null,null,"Total number of NMS's conducted (YTD)",null,{"$f":"'NMS Workings'!C2","v":0}]
[null,null,"Total amount paid for NMS's (YTD)",null,{"$f":"'NMS Workings'!CM2","v":0}]
[null,null,"Total NMS Adjustments made (YTD)",null,{"$f":"'NMS Workings'!CZ2","v":0}]
[null,null,"NMS Balance (YTD)",null,{"$f":"E12+E13","v":0}]
[]
[]
[]
[]
[]
[]
[]
[]
[]
[]
[]
[]
[]
[]
[]
[]
[]
[]
[]
[]
[]
[]
[null,null,null,null,null,null,"Contains Outlier Activity","(All)"]
[null,null,null,null,null,null,"Area Team Averages ",null,{"$f":"IF(ISERROR('NMS Workings'!C5),\"\",'NMS Workings'!C5)","v":""},{"$f":"IF(ISERROR('NMS Workings'!D5),\"\",'NMS Workings'!D5)","v":""},{"$f":"IF(ISERROR('NMS Workings'!E5),\"\",'NMS Workings'!E5)","v":""},{"$f":"IF(ISERROR('NMS Workings'!F5),\"\",'NMS Workings'!F5)","v":""},{"$f":"IF(ISERROR('NMS Workings'!G5),\"\",'NMS Workings'!G5)","v":""},{"$f":"IF(ISERROR('NMS Workings'!H5),\"\",'NMS Workings'!H5)","v":""},{"$f":"IF(ISERROR('NMS Workings'!I5),\"\",'NMS Workings'!I5)","v":""},{"$f":"IF(ISERROR('NMS Workings'!J5),\"\",'NMS Workings'!J5)","v":""},{"$f":"IF(ISERROR('NMS Workings'!K5),\"\",'NMS Workings'!K5)","v":""},{"$f":"IF(ISERROR('NMS Workings'!L5),\"\",'NMS Workings'!L5)","v":""},{"$f":"IF(ISERROR('NMS Workings'!M5),\"\",'NMS Workings'!M5)","v":""},{"$f":"IF(ISERROR('NMS Workings'!N5),\"\",'NMS Workings'!N5)","v":""},{"$f":"IF(ISERROR('NMS Workings'!O5),\"\",'NMS Workings'!O5)","v":0}]
[null,null,"Contractor","Cummulative Figure","Forecasted Total",null,"Contractor","Name","Apr.","May.","Jun.","Jul.","Aug.","Sep.","Oct.","Nov.","Dec.","Jan.","Feb.","Mar.","YTD Total","Forecasted Total"]
[null,null,"Blank",0,0,null,"Blank",null,null,null,null,null,null,null,null,null,null,null,null,null,0,0]
[null,null,"Grand Total",0,0,null,"Averages",null,null,null,null,null,null,null,null,null,null,null,null,null,0,0]

{"sheet":"OOPE","index":4,"n_rows":39,"n_cols":22,"rows_kept":39,"cut":false,"hidden":true,"merged":[]}
[]
[]
[null,null,"Indicator",null,"Activity"]
[null,null,"Metric",null,{"$f":"'OOPE Workings'!C1","v":"OOPE"}]
[null,null,"NHS England Area",null,{"$f":"MID('Control Sheet'!L1,1,FIND(\"|\",'Control Sheet'!L1,1)-1)","v":{"$error":"#VALUE!"}}]
[null,null,null,null,{"$f":"MID('Control Sheet'!L1,FIND(\"|\",'Control Sheet'!L1,1)+1,10000)","v":{"$error":"#VALUE!"}}]
[null,null,"Total Contractors within Area Team",null,{"$f":"'OOPE Workings'!O14","v":1}]
[null,null,"Total Contractors paid OOPE",null,{"$f":"'OOPE Workings'!O15","v":0}]
[null,null,"Total Contractors with no OOPE",null,{"$f":"'OOPE Workings'!O16","v":1}]
[null,null,"Average OOPE value to date (£)",null,{"$f":"'OOPE Workings'!A","v":0}]
[null,null,"Maximum OOPE Value (£)",null,{"$f":"'OOPE Workings'!N2","v":0}]
[null,null,"Total spent on OOPE (£) YTD",null,{"$f":"'OOPE Workings'!L2","v":0}]
[]
[]
[]
[]
[]
[]
[]
[]
[]
[]
[]
[]
[]
[]
[]
[]
[]
[]
[]
[]
[]
[]
[null,null,null,null,null,null,"Contains Outlier Activity","(All)"]
[null,null,null,null,null,null,"Monthly Average",null,{"$f":"IF(ISERROR('MUR Workings'!C5),\"\",'MUR Workings'!C5)","v":""},{"$f":"IF(ISERROR('MUR Workings'!D5),\"\",'MUR Workings'!D5)","v":""},{"$f":"IF(ISERROR('MUR Workings'!E5),\"\",'MUR Workings'!E5)","v":""},{"$f":"IF(ISERROR('MUR Workings'!F5),\"\",'MUR Workings'!F5)","v":""},{"$f":"IF(ISERROR('MUR Workings'!G5),\"\",'MUR Workings'!G5)","v":""},{"$f":"IF(ISERROR('MUR Workings'!H5),\"\",'MUR Workings'!H5)","v":""},{"$f":"IF(ISERROR('MUR Workings'!I5),\"\",'MUR Workings'!I5)","v":""},{"$f":"IF(ISERROR('MUR Workings'!J5),\"\",'MUR Workings'!J5)","v":""},{"$f":"IF(ISERROR('MUR Workings'!K5),\"\",'MUR Workings'!K5)","v":""},{"$f":"IF(ISERROR('MUR Workings'!L5),\"\",'MUR Workings'!L5)","v":""},{"$f":"IF(ISERROR('MUR Workings'!M5),\"\",'MUR Workings'!M5)","v":""},{"$f":"IF(ISERROR('MUR Workings'!N5),\"\",'MUR Workings'!N5)","v":""},{"$f":"IF(ISERROR('MUR Workings'!O5),\"\",'MUR Workings'!O5)","v":0}]
[null,null,"Contractor","Cummulative Figure","Forecasted Total",null,"Contractor","Name","Apr.","May.","Jun.","Jul.","Aug.","Sep.","Oct.","Nov.","Dec.","Jan.","Feb.","Mar.","YTD Total","Forecasted Total"]
[null,null,"Blank",0,0,null,"Blank",null,null,null,null,null,null,null,null,null,null,null,null,null,0,0]
[null,null,"Grand Total",0,0,null,"Averages",null,null,null,null,null,null,null,null,null,null,null,null,null,0,0]

{"sheet":"MUR Workings","index":5,"n_rows":1018,"n_cols":104,"rows_kept":562,"cut":true,"hidden":true,"merged":[],"bounds":{"rows_first":250,"rows_last":62,"rows_between":250,"halvings":3}}
["Metric",null,"MUR",null,"AT:",{"$f":"Apr!A2","v":""},null,"Contractors:",{"$f":"COUNT(O21:O1016)","v":1},null,null,null,null,null,null,null,null,null,null,null,null,null,null,null,null,null,null,null,null,null,null,"Lower Outlier",{"$f":"COUNTIF(AG$21:AG$1016,\"Lower Outlier\")","v":0}]
["Tot MUR (ytd)",null,{"$f":"SUM(C21:N1016)","v":0},null,"Avg (ytd)",{"$f":"IF(MURMonthsPop=0,0,AVERAGE(C21:N1016))","v":0},null,"St Dev (ytd)",{"$f":"STDEVA(C21:N1016)","v":0},null,null,null,null,null,null,null,null,null,null,null,null,null,null,null,null,null,null,null,null,null,null,"Below Average",{"$f":"COUNTIF(AG$21:AG$1016,\"Below Average\")","v":0},null,null,null,null,null,null,null,null,null,null,null,null,null,null,null,null,null,null,null,null,null,null,null,null,null,null,null,null,null,null,null,null,null,null,null,null,null,null,null,null,null,null,null,null,null,null,null,null,null,null,null,null,null,null,null,null,null,{"$f":"SUM(CM21:CM1018)","v":0},null,null,null,null,null,null,null,null,null,null,null,"Fee Adj Tot",{"$f":"SUM(CZ21:CZ1018)","v":0}]
["Monthly Total",null,{"$f":"IF(C18=1,SUM(C21:C1016),#N/A)","v":{"$error":"#N/A"}},{"$f":"IF(D18=1,SUM(D21:D1016),#N/A)","v":{"$error":"#N/A"}},{"$f":"IF(E18=1,SUM(E21:E1016),#N/A)","v":{"$error":"#N/A"}},{"$error":"#N/A"},{"$error":"#N/A"},{"$error":"#N/A"},{"$error":"#N/A"},{"$error":"#N/A"},{"$error":"#N/A"},{"$error":"#N/A"},{"$error":"#N/A"},{"$error":"#N/A"},{"$f":"IF(MURMonthsPop=0,0,SUMIF(C3:N3,\"<>#N/A\")/SUM(C18:N18))","v":0},null,null,null,null,null,null,null,null,null,null,null,null,null,null,null,null,"Lower Quartile",{"$f":"COUNTIF(AG$21:AG$1016,\"Lower Quartile\")","v":0},null,null,null,null,null,null,null,null,null,null,null,null,null,null,null,null,null,null,null,null,null,null,null,null,null,null,{"$f":"IF(C18=1,SUM(BH21:BH1016),#N/A)","v":{"$error":"#N/A"}},{"$f":"IF(D18=1,SUM(BI21:BI1016),#N/A)","v":{"$error":"#N/A"}},{"$error":"#N/A"},{"$error":"#N/A"},{"$error":"#N/A"},{"$error":"#N/A"},{"$error":"#N/A"},{"$error":"#N/A"},{"$error":"#N/A"},{"$error":"#N/A"},{"$error":"#N/A"},{"$error":"#N/A"},{"$f":"SUM(BT21:BT1016)","v":0},0,0,0]
["Monthly Cummulative",null,{"$f":"C3","v":{"$error":"#N/A"}},{"$f":"SUM(C3:D3)","v":{"$error":"#N/A"}},{"$f":"SUM(C3:E3)","v":{"$error":"#N/A"}},{"$f":"SUM(C3:F3)","v":{"$error":"#N/A"}},{"$f":"SUM(C3:G3)","v":{"$error":"#N/A"}},{"$f":"SUM(C3:H3)","v":{"$error":"#N/A"}},{"$f":"SUM(C3:I3)","v":{"$error":"#N/A"}},{"$f":"SUM(C3:J3)","v":{"$error":"#N/A"}},{"$f":"SUM(C3:K3)","v":{"$error":"#N/A"}},{"$f":"SUM(C3:L3)","v":{"$error":"#N/A"}},{"$f":"SUM(C3:M3)","v":{"$error":"#N/A"}},{"$f":"SUM(C3:N3)","v":{"$error":"#N/A"}},null,null,null,null,null,null,null,null,null,null,null,null,null,null,null,null,null,"Upper Quartile",{"$f":"COUNTIF(AG$21:AG$1016,\"Upper Quartile\")","v":0}]
["Monthly Average",null,{"$f":"IF(C18=0,#N/A,AVERAGE(C21:C1016))","v":{"$error":"#N/A"}},{"$f":"IF(D18=0,#N/A,AVERAGE(D21:D1016))","v":{"$error":"#N/A"}},{"$f":"IF(E18=0,#N/A,AVERAGE(E21:E1016))","v":{"$error":"#N/A"}},{"$error":"#N/A"},{"$error":"#N/A"},{"$error":"#N/A"},{"$error":"#N/A"},{"$error":"#N/A"},{"$error":"#N/A"},{"$error":"#N/A"},{"$error":"#N/A"},{"$error":"#N/A"},{"$f":"IF(O18=0,0,AVERAGE(O21:O1016))","v":0},null,null,null,null,null,null,null,null,null,null,null,null,null,null,null,null,"Above Average",{"$f":"COUNTIF(AG$21:AG$1016,\"Above Average\")","v":0},null,null,null,null,null,null,null,null,null,null,null,null,null,null,null,null,null,null,null,null,null,null,null,null,null,null,{"$f":"IF(C18=0,0,AVERAGE(BH21:BH1016))","v":0},{"$f":"IF(D18=0,0,AVERAGE(BI21:BI1016))","v":0},0,0,0,0,0,0,0,0,0,0,0,{"$f":"IF(ISERROR(AVERAGE(BU21:BU1016)),0,AVERAGE(BU21:BU1016))","v":0},{"$f":"IF(ISERROR(AVERAGE(BV21:BV1016)),0,AVERAGE(BV21:BV1016))","v":0},{"$f":"IF(ISERROR(AVERAGE(BW21:BW1016)),0,AVERAGE(BW21:BW1016))","v":0}]
["Minumum Value",null,{"$f":"IF(C18=0,#N/A,QUARTILE(C21:C1016,0))","v":{"$error":"#N/A"}},{"$f":"IF(D18=0,#N/A,QUARTILE(D21:D1016,0))","v":{"$error":"#N/A"}},{"$error":"#N/A"},{"$error":"#N/A"},{"$error":"#N/A"},{"$error":"#N/A"},{"$error":"#N/A"},{"$error":"#N/A"},{"$error":"#N/A"},{"$error":"#N/A"},{"$error":"#N/A"},{"$error":"#N/A"},{"$f":"IF(O18=0,0,QUARTILE(O21:O1016,0))","v":0},null,null,null,null,null,null,null,null,null,null,null,null,null,null,null,null,"Upper Outlier",{"$f":"COUNTIF(AG$21:AG$1016,\"Upper Outlier\")","v":0},null,null,null,null,null,null,null,null,null,null,null,null,null,null,null,null,null,null,null,null,null,null,null,null,null,null,null,null,null,null,null,null,null,null,null,null,null,null,null,{"$f":"IF(ISERROR(QUARTILE(BU21:BU1016,0)),0,QUARTILE(BU21:BU1016,0))","v":0},{"$f":"IF(ISERROR(QUARTILE(BV21:BV1016,0)),0,QUARTILE(BV21:BV1016,0))","v":0},{"$f":"IF(ISERROR(QUARTILE(BW21:BW1016,0)),0,QUARTILE(BW21:BW1016,0))","v":0}]
["Q1",null,{"$f":"IF(C18=0,0,QUARTILE(C21:C1016,1))","v":0},0,0,0,0,0,0,0,0,0,0,0,0,null,null,null,null,null,null,null,null,null,null,null,null,null,null,null,null,null,null,null,null,null,null,null,null,null,null,null,null,null,null,null,null,null,null,null,null,null,null,null,null,null,null,null,null,null,null,null,null,null,null,null,null,null,null,null,null,null,{"$f":"IF(ISERROR(QUARTILE(BU21:BU1016,1)),0,QUARTILE(BU21:BU1016,1))","v":0},{"$f":"IF(ISERROR(QUARTILE(BV21:BV1016,1)),0,QUARTILE(BV21:BV1016,1))","v":0},{"$f":"IF(ISERROR(QUARTILE(BW21:BW1016,1)),0,QUARTILE(BW21:BW1016,1))","v":0}]
["Q2",null,{"$f":"IF(C18=0,0,QUARTILE(C21:C1016,2))","v":0},0,0,0,0,0,0,0,0,0,0,0,0,null,null,null,null,null,null,null,null,null,null,null,null,null,null,null,null,null,null,null,null,null,null,null,null,null,null,null,null,null,null,null,null,null,null,null,null,null,null,null,null,null,null,null,null,null,null,null,null,null,null,null,null,null,null,null,null,null,{"$f":"IF(ISERROR(QUARTILE(BU21:BU1016,2)),0,QUARTILE(BU21:BU1016,2))","v":0},{"$f":"IF(ISERROR(QUARTILE(BV21:BV1016,2)),0,QUARTILE(BV21:BV1016,2))","v":0},{"$f":"IF(ISERROR(QUARTILE(BW21:BW1016,2)),0,QUARTILE(BW21:BW1016,2))","v":0}]
["Q3",null,{"$f":"IF(C18=0,0,QUARTILE(C21:C1016,3))","v":0},{"$f":"IF(D18=0,0,QUARTILE(D21:D1016,3))","v":0},0,0,0,0,0,0,0,0,0,0,0,null,null,null,null,null,null,null,null,null,null,null,null,null,null,null,null,null,null,null,null,null,null,null,null,null,null,null,null,null,null,null,null,null,null,null,null,null,null,null,null,null,null,null,null,null,null,null,null,null,null,null,null,null,null,null,null,null,{"$f":"IF(ISERROR(QUARTILE(BU21:BU1016,3)),0,QUARTILE(BU21:BU1016,3))","v":0},{"$f":"IF(ISERROR(QUARTILE(BV21:BV1016,3)),0,QUARTILE(BV21:BV1016,3))","v":0},{"$f":"IF(ISERROR(QUARTILE(BW21:BW1016,3)),0,QUARTILE(BW21:BW1016,3))","v":0}]
["Lower Outlier",null,{"$f":"IF(C18=0,0,IF((C7-(1.5*C12))>0,(C7-(1.5*C12)),0))","v":0},{"$f":"IF(D18=0,0,IF((D7-(1.5*D12))>0,(D7-(1.5*D12)),0))","v":0},0,0,0,0,0,0,0,0,0,0,{"$f":"IF(O18=0,0,(O7-(1.5*O12)))","v":0},null,null,null,null,null,null,null,null,null,null,null,null,null,null,null,null,null,null,null,null,null,null,null,null,null,null,null,null,null,null,null,null,null,null,null,null,null,null,null,null,null,null,null,null,null,null,null,null,null,null,null,null,null,null,null,null,null,{"$f":"BU7-(1.5*BU12)","v":0},{"$f":"BV7-(1.5*BV12)","v":0},{"$f":"BW7-(1.5*BW12)","v":0}]
["Upper Outlier",null,{"$f":"IF(C18=0,#N/A,(C9+(1.5*C12)))","v":{"$error":"#N/A"}},{"$f":"IF(D18=0,#N/A,(D9+(1.5*D12)))","v":{"$error":"#N/A"}},{"$error":"#N/A"},{"$error":"#N/A"},{"$error":"#N/A"},{"$error":"#N/A"},{"$error":"#N/A"},{"$error":"#N/A"},{"$error":"#N/A"},{"$error":"#N/A"},{"$error":"#N/A"},{"$error":"#N/A"},{"$f":"IF(O18=0,0,(O9+(1.5*O12)))","v":0},null,null,null,null,null,null,null,null,null,null,null,null,null,null,null,null,null,null,null,null,null,null,null,null,null,null,null,null,null,null,null,null,null,null,null,null,null,null,null,null,null,null,null,null,null,null,null,null,null,null,null,null,null,null,null,null,null,{"$f":"(BU9+(1.5*BU12))","v":0},{"$f":"(BV9+(1.5*BV12))","v":0},{"$f":"(BW9+(1.5*BW12))","v":0}]
["IQR",null,{"$f":"IF(C18=0,0,C9-C7)","v":0},{"$f":"IF(D18=0,0,D9-D7)","v":0},0,0,0,0,0,0,0,0,0,0,0,null,null,null,null,null,null,null,null,null,null,null,null,null,null,null,null,null,null,null,null,null,null,null,null,null,null,null,null,null,null,null,null,null,null,null,null,null,null,null,null,null,null,null,null,null,null,null,null,null,null,null,null,null,null,null,null,null,{"$f":"BU9-BU7","v":0},{"$f":"BV9-BV7","v":0},{"$f":"BW9-BW7","v":0},null,null,null,null,null,null,null,null,"`"]
["Maximum",null,{"$f":"IF(C18=0,#N/A,MAX(C21:C1016))","v":{"$error":"#N/A"}},{"$f":"IF(D18=0,#N/A,MAX(D21:D1016))","v":{"$error":"#N/A"}},{"$error":"#N/A"},{"$error":"#N/A"},{"$error":"#N/A"},{"$error":"#N/A"},{"$error":"#N/A"},{"$error":"#N/A"},{"$error":"#N/A"},{"$error":"#N/A"},{"$error":"#N/A"},{"$error":"#N/A"},{"$f":"MAX(O21:O1016)","v":0},null,null,null,null,null,null,null,null,null,null,null,null,null,null,null,null,null,null,{"$f":"MAX(AH21:AH1016)","v":0},{"$f":"MAX(AI21:AI1016)","v":0},0,0,0,0,0,0,0,0,0,0,0,null,null,null,null,null,null,null,null,null,null,null,null,null,{"$f":"MAX(BH21,BH1016)","v":0},{"$f":"MAX(BI21,BI1016)","v":0},0,0,0,0,0,0,0,0,0,0,{"$f":"MAX(BT21:BT1016)","v":0},{"$f":"IF(ISERROR(QUARTILE(BU21:BU1016,4)),0,QUARTILE(BU21:BU1016,4))","v":0},{"$f":"IF(ISERROR(QUARTILE(BV21:BV1016,4)),0,QUARTILE(BV21:BV1016,4))","v":0},{"$f":"IF(ISERROR(QUARTILE(BW21:BW1016,4)),0,QUARTILE(BW21:BW1016,4))","v":0}]
["Total Contractoprs",null,{"$f":"COUNT(C21:C1016)","v":0},{"$f":"COUNT(D21:D1016)","v":0},0,0,0,0,0,0,0,0,0,0,{"$f":"COUNT(O21:O1016)","v":1}]
["Conducting MUR",null,{"$f":"C14-C16","v":0},{"$f":"D14-D16","v":0},0,0,0,0,0,0,0,0,0,0,0]
["Not Conducting MUR",null,{"$f":"COUNTIF(C21:C1016,0)","v":0},{"$f":"COUNTIF(D21:D1016,0)","v":0},0,0,0,0,0,0,0,0,0,0,{"$f":"COUNTIF(O21:O1016,0)","v":1},null,null,null,null,null,null,null,null,null,null,null,null,null,{"$f":"A482","v":""}]
[]
["Populated",null,{"$f":"IF(Apr!B1=\"\",0,1)","v":0},{"$f":"IF(May!B1=\"\",0,1)","v":0},{"$f":"IF(Jun!B1=\"\",0,1)","v":0},{"$f":"IF(Jul!B1=\"\",0,1)","v":0},{"$f":"IF(Aug!B1=\"\",0,1)","v":0},{"$f":"IF(Sep!B1=\"\",0,1)","v":0},{"$f":"IF(Oct!B1=\"\",0,1)","v":0},{"$f":"IF(Nov!B1=\"\",0,1)","v":0},{"$f":"IF(Dec!B1=\"\",0,1)","v":0},{"$f":"IF(Jan!B1=\"\",0,1)","v":0},{"$f":"IF(Feb!B1=\"\",0,1)","v":0},{"$f":"IF(Mar!B1=\"\",0,1)","v":0},{"$f":"SUM(C18:N18)","v":0},null,null,null,null,null,null,null,null,null,null,null,null,null,null,null,null,null,null,null,null,null,null,null,null,null,null,null,null,null,null,null,1,2,3,4,5,6,7,8,9,10,11,12]
[null,null,"Actual Recorded Values",null,null,null,null,null,null,null,null,null,null,null,null,null,null,null,"Boxplot Scoring",null,null,null,null,null,null,null,null,null,null,null,null,null,null,"Actual Cummulitive",null,null,null,null,null,null,null,null,null,null,null,null,"Forecasts",null,null,null,null,null,null,null,null,null,null,null,null,"Total Items dispnesed",null,null,null,null,null,null,null,null,null,null,null,null,"Spread Analysis",null,null,null,null,null,"MUR Fee",null,null,null,null,null,null,null,null,null,null,null,null," Fee Adjustment"]
["Contractor","Name","Apr","May","Jun","Jul","Aug","Sep","Oct","Nov","Dec","Jan","Feb","Mar","Cumm Tot","Projected Total","Project over 400","MonthMod","BP_Apr","BP_May","BP_Jun","BP_Jul","BP_Aug","BP_Sep","BP_Oct","BP_Nov","BP_Dec","BP_Jan","BP_Feb","BP_Mar","bp_Total","Average Score","Contains Outlier Activity","Cum_Apr","Cum_May","Cum_Jun","Cum_Jul","Cum_Aug","Cum_Sep","Cum_Oct","Cum_Nov","Cum_Dec","Cum_Jan","Cum_Feb","Cum_Mar","Cum_to_date","For_Apr","For_May","For_Jun","For_Jul","For_Aug","For_Sep","For_Oct","For_Nov","For_Dec","For_Jan","For_Feb","For_Mar","For_Tot","It_Apr","It_May","It_Jun","It_Jul","It_Aug","It_Sep","It_Oct","It_Nov","It_Dec","It_Jan","It_Feb","It_Mar","Tot Items","MIN","MAX","Spread","Spread Outlier","Months Sub","Months Cond","Fee_Apr","Fee_May","Fee_Jun","Fee_Jul","Fee_Aug","Fee_Sep","Fee_Oct","Fee_Nov","Fee_Dec","Fee_Jan","Fee_Feb","Fee_Mar","Fee_Tot","Fee_Adj_Apr","Fee_Adj_May","Fee_Adj_Jun","Fee_Adj_Jul","Fee_Adj_Aug","Fee_Adj_Sep","Fee_Adj_Oct","Fee_Adj_Nov","Fee_Adj_Dec","Fee_Adj_Jan","Fee_Adj_Feb","Fee_Adj_Mar","Fee_Adj_Tot"]
[{"$f":"IF(ISBLANK('Control Sheet'!D1),\"\",'Control Sheet'!D1)","v":"Blank"},{"$f":"IF(ISBLANK('Control Sheet'!E1),\"\",'Control Sheet'!E1&\" (\"&'Control Sheet'!F1&\")\")","v":""},{"$f":"IF(C$18=1,IF(ISNA(VLOOKUP($A21,INDIRECT(C$20),MUR_col,FALSE)),\"\",VLOOKUP($A21,INDIRECT(C$20),MUR_col,FALSE)),\"\")","v":""},{"$f":"IF(D$18=1,IF(ISNA(VLOOKUP($A21,INDIRECT(D$20),MUR_col,FALSE)),\"\",VLOOKUP($A21,INDIRECT(D$20),MUR_col,FALSE)),\"\")","v":""},"","","","","","","","","","",{"$f":"IF(A21=\"\",\"\",SUM(C21:N21))","v":0},null,{"$f":"IF(A21=\"\",\"\",IF(BG21<=400,\"No\",\"Yes\"))","v":"No"},{"$f":"IF(A21=\"\",\"\",MURMonthsPop-(COUNTA(C21:N21)-COUNTBLANK(C21:N21)))","v":0},{"$f":"IF(C21=\"\",\"\",IF(C21<=C$10,MURmLOScore,IF(C21<=C$7,MURmBAScore,IF(C21<=C$8,MURmLQRScore,IF(C21<=C$9,MURmUQRScore,IF(C21<=C$11,MURmAAScore,MURmUOScore+C21-C$11))))))","v":""},{"$f":"IF(D21=\"\",\"\",IF(D21<=D$10,MURmLOScore,IF(D21<=D$7,MURmBAScore,IF(D21<=D$8,MURmLQRScore,IF(D21<=D$9,MURmUQRScore,IF(D21<=D$11,MURmAAScore,MURmUOScore+D21-D$11))))))","v":""},{"$f":"IF(E21=\"\",\"\",IF(E21<=E$10,MURmLOScore,IF(E21<=E$7,MURmBAScore,IF(E21<=E$8,MURmLQRScore,IF(E21<=E$9,MURmUQRScore,IF(E21<=E$11,MURmAAScore,MURmUOScore+E21-E$11))))))","v":""},{"$f":"IF(F21=\"\",\"\",IF(F21<=F$10,MURmLOScore,IF(F21<=F$7,MURmBAScore,IF(F21<=F$8,MURmLQRScore,IF(F21<=F$9,MURmUQRScore,IF(F21<=F$11,MURmAAScore,MURmUOScore+F21-F$11))))))","v":""},{"$f":"IF(G21=\"\",\"\",IF(G21<=G$10,MURmLOScore,IF(G21<=G$7,MURmBAScore,IF(G21<=G$8,MURmLQRScore,IF(G21<=G$9,MURmUQRScore,IF(G21<=G$11,MURmAAScore,MURmUOScore+G21-G$11))))))","v":""},{"$f":"IF(H21=\"\",\"\",IF(H21<=H$10,MURmLOScore,IF(H21<=H$7,MURmBAScore,IF(H21<=H$8,MURmLQRScore,IF(H21<=H$9,MURmUQRScore,IF(H21<=H$11,MURmAAScore,MURmUOScore+H21-H$11))))))","v":""},{"$f":"IF(I21=\"\",\"\",IF(I21<=I$10,MURmLOScore,IF(I21<=I$7,MURmBAScore,IF(I21<=I$8,MURmLQRScore,IF(I21<=I$9,MURmUQRScore,IF(I21<=I$11,MURmAAScore,MURmUOScore+I21-I$11))))))","v":""},{"$f":"IF(J21=\"\",\"\",IF(J21<=J$10,MURmLOScore,IF(J21<=J$7,MURmBAScore,IF(J21<=J$8,MURmLQRScore,IF(J21<=J$9,MURmUQRScore,IF(J21<=J$11,MURmAAScore,MURmUOScore+J21-J$11))))))","v":""},{"$f":"IF(K21=\"\",\"\",IF(K21<=K$10,MURmLOScore,IF(K21<=K$7,MURmBAScore,IF(K21<=K$8,MURmLQRScore,IF(K21<=K$9,MURmUQRScore,IF(K21<=K$11,MURmAAScore,MURmUOScore+K21-K$11))))))","v":""},{"$f":"IF(L21=\"\",\"\",IF(L21<=L$10,MURmLOScore,IF(L21<=L$7,MURmBAScore,IF(L21<=L$8,MURmLQRScore,IF(L21<=L$9,MURmUQRScore,IF(L21<=L$11,MURmAAScore,MURmUOScore+L21-L$11))))))","v":""},{"$f":"IF(M21=\"\",\"\",IF(M21<=M$10,MURmLOScore,IF(M21<=M$7,MURmBAScore,IF(M21<=M$8,MURmLQRScore,IF(M21<=M$9,MURmUQRScore,IF(M21<=M$11,MURmAAScore,MURmUOScore+M21-M$11))))))","v":""},{"$f":"IF(N21=\"\",\"\",IF(N21<=N$10,MURmLOScore,IF(N21<=N$7,MURmBAScore,IF(N21<=N$8,MURmLQRScore,IF(N21<=N$9,MURmUQRScore,IF(N21<=N$11,MURmAAScore,MURmUOScore+N21-N$11))))))","v":""},{"$f":"IF(A21=\"\",\"\",SUM(S21:AD21))","v":0},{"$f":"IF(OR(A21=\"\",AE21=0),\"\",AE21/(O$18-R21))","v":""},{"$f":"IF(AF21=\"\",\"\",IF(AF21<=MURaLOScore,\"Lower Outlier\",IF(AF21<=MURaBAScore,\"Below Average\",IF(AF21<=MURaLQRScore,\"Lower Quartile\",IF(AF21<=MURaUQRScore,\"Upper Quartile\",IF(AF21<=MURaAAScore, \"Above Average\", \"Upper Outlier\"))))))","v":""},{"$f":"IF(C$18=1,C21,\"\")","v":""},{"$f":"IF(D$18=1,IF(D21=\"\",IF(AH21=\"\",\"\",AH21),IF(AND(D21>=0,AH21=\"\"),D21,IF(ISERROR(D21+AH21),#N/A,D21+AH21))),\"\")","v":""},{"$f":"IF(E$18=1,IF(E21=\"\",IF(AI21=\"\",\"\",AI21),IF(AND(E21>=0,AI21=\"\"),E21,IF(ISERROR(E21+AI21),#N/A,E21+AI21))),\"\")","v":""},"","","","","","","","","",{"$f":"IF(A21=\"\",\"\",MAX(AH21:AS21))","v":0},{"$f":"IF(OR(A21=\"\",MURMonthsPop=0),\"\",IF(AU$18=MURMonthsPop,AH21,#N/A))","v":""},{"$f":"IF(OR($A21=\"\",MURMonthsPop=0),\"\",IF(AV$18<MURMonthsPop,#N/A,IF(AV$18=MURMonthsPop,AI21,IF(AU21=\"\",\"\",IF(AV$18=MURMonthsPop+1,AU21+(AU21*VLOOKUP(MURMonthsPop-$R21,ForecastMult,3,FALSE)/12),AU21+AU21-AT21)))))","v":""},{"$f":"IF(OR($A21=\"\",MURMonthsPop=0),\"\",IF(AW$18<MURMonthsPop,#N/A,IF(AW$18=MURMonthsPop,AJ21,IF(AV21=\"\",\"\",IF(AW$18=MURMonthsPop+1,AV21+(AV21*VLOOKUP(MURMonthsPop-$R21,ForecastMult,3,FALSE)/12),AV21+AV21-AU21)))))","v":""},{"$f":"IF(OR($A21=\"\",MURMonthsPop=0),\"\",IF(AX$18<MURMonthsPop,#N/A,IF(AX$18=MURMonthsPop,AK21,IF(AW21=\"\",\"\",IF(AX$18=MURMonthsPop+1,AW21+(AW21*VLOOKUP(MURMonthsPop-$R21,ForecastMult,3,FALSE)/12),AW21+AW21-AV21)))))","v":""},{"$f":"IF(OR($A21=\"\",MURMonthsPop=0),\"\",IF(AY$18<MURMonthsPop,#N/A,IF(AY$18=MURMonthsPop,AL21,IF(AX21=\"\",\"\",IF(AY$18=MURMonthsPop+1,AX21+(AX21*VLOOKUP(MURMonthsPop-$R21,ForecastMult,3,FALSE)/12),AX21+AX21-AW21)))))","v":""},{"$f":"IF(OR($A21=\"\",MURMonthsPop=0),\"\",IF(AZ$18<MURMonthsPop,#N/A,IF(AZ$18=MURMonthsPop,AM21,IF(AY21=\"\",\"\",IF(AZ$18=MURMonthsPop+1,AY21+(AY21*VLOOKUP(MURMonthsPop-$R21,ForecastMult,3,FALSE)/12),AY21+AY21-AX21)))))","v":""},{"$f":"IF(OR($A21=\"\",MURMonthsPop=0),\"\",IF(BA$18<MURMonthsPop,#N/A,IF(BA$18=MURMonthsPop,AN21,IF(AZ21=\"\",\"\",IF(BA$18=MURMonthsPop+1,AZ21+(AZ21*VLOOKUP(MURMonthsPop-$R21,ForecastMult,3,FALSE)/12),AZ21+AZ21-AY21)))))","v":""},{"$f":"IF(OR($A21=\"\",MURMonthsPop=0),\"\",IF(BB$18<MURMonthsPop,#N/A,IF(BB$18=MURMonthsPop,AO21,IF(BA21=\"\",\"\",IF(BB$18=MURMonthsPop+1,BA21+(BA21*VLOOKUP(MURMonthsPop-$R21,ForecastMult,3,FALSE)/12),BA21+BA21-AZ21)))))","v":""},{"$f":"IF(OR($A21=\"\",MURMonthsPop=0),\"\",IF(BC$18<MURMonthsPop,#N/A,IF(BC$18=MURMonthsPop,AP21,IF(BB21=\"\",\"\",IF(BC$18=MURMonthsPop+1,BB21+(BB21*VLOOKUP(MURMonthsPop-$R21,ForecastMult,3,FALSE)/12),BB21+BB21-BA21)))))","v":""},{"$f":"IF(OR($A21=\"\",MURMonthsPop=0),\"\",IF(BD$18<MURMonthsPop,#N/A,IF(BD$18=MURMonthsPop,AQ21,IF(BC21=\"\",\"\",IF(BD$18=MURMonthsPop+1,BC21+(BC21*VLOOKUP(MURMonthsPop-$R21,ForecastMult,3,FALSE)/12),BC21+BC21-BB21)))))","v":""},{"$f":"IF(OR($A21=\"\",MURMonthsPop=0),\"\",IF(BE$18<MURMonthsPop,#N/A,IF(BE$18=MURMonthsPop,AR21,IF(BD21=\"\",\"\",IF(BE$18=MURMonthsPop+1,BD21+(BD21*VLOOKUP(MURMonthsPop-$R21,ForecastMult,3,FALSE)/12),BD21+BD21-BC21)))))","v":""},{"$f":"IF(OR($A21=\"\",MURMonthsPop=0),\"\",IF(BF$18<MURMonthsPop,#N/A,IF(BF$18=MURMonthsPop,AS21,IF(BE21=\"\",\"\",IF(BF$18=MURMonthsPop+1,BE21+(BE21*VLOOKUP(MURMonthsPop-$R21,ForecastMult,3,FALSE)/12),BE21+BE21-BD21)))))","v":""},{"$f":"IF(A21=\"\",\"\",MAX(IF(ISERROR(AU21:BF21),0,AU21:BF21)))","v":0},{"$f":"IF(AND(C$18=1,$A21<>\"\"),IF(ISNA(VLOOKUP($A21,INDIRECT(C$20),TOT_STDR_PXS_col,FALSE)),\"\",VLOOKUP($A21,INDIRECT(C$20),TOT_STDR_PXS_col,FALSE)+VLOOKUP($A21,INDIRECT(C$20),TOT_ZDR_PXS_col,FALSE)),\"\")","v":""},{"$f":"IF(AND(D$18=1,$A21<>\"\"),IF(ISNA(VLOOKUP($A21,INDIRECT(D$20),TOT_STDR_PXS_col,FALSE)),\"\",VLOOKUP($A21,INDIRECT(D$20),TOT_STDR_PXS_col,FALSE)+VLOOKUP($A21,INDIRECT(D$20),TOT_ZDR_PXS_col,FALSE)),\"\")","v":""},{"$f":"IF(AND(E$18=1,$A21<>\"\"),IF(ISNA(VLOOKUP($A21,INDIRECT(E$20),TOT_STDR_PXS_col,FALSE)),\"\",VLOOKUP($A21,INDIRECT(E$20),TOT_STDR_PXS_col,FALSE)+VLOOKUP($A21,INDIRECT(E$20),TOT_ZDR_PXS_col,FALSE)),\"\")","v":""},{"$f":"IF(AND(F$18=1,$A21<>\"\"),IF(ISNA(VLOOKUP($A21,INDIRECT(F$20),TOT_STDR_PXS_col,FALSE)),\"\",VLOOKUP($A21,INDIRECT(F$20),TOT_STDR_PXS_col,FALSE)+VLOOKUP($A21,INDIRECT(F$20),TOT_ZDR_PXS_col,FALSE)),\"\")","v":""},{"$f":"IF(AND(G$18=1,$A21<>\"\"),IF(ISNA(VLOOKUP($A21,INDIRECT(G$20),TOT_STDR_PXS_col,FALSE)),\"\",VLOOKUP($A21,INDIRECT(G$20),TOT_STDR_PXS_col,FALSE)+VLOOKUP($A21,INDIRECT(G$20),TOT_ZDR_PXS_col,FALSE)),\"\")","v":""},{"$f":"IF(AND(H$18=1,$A21<>\"\"),IF(ISNA(VLOOKUP($A21,INDIRECT(H$20),TOT_STDR_PXS_col,FALSE)),\"\",VLOOKUP($A21,INDIRECT(H$20),TOT_STDR_PXS_col,FALSE)+VLOOKUP($A21,INDIRECT(H$20),TOT_ZDR_PXS_col,FALSE)),\"\")","v":""},{"$f":"IF(AND(I$18=1,$A21<>\"\"),IF(ISNA(VLOOKUP($A21,INDIRECT(I$20),TOT_STDR_PXS_col,FALSE)),\"\",VLOOKUP($A21,INDIRECT(I$20),TOT_STDR_PXS_col,FALSE)+VLOOKUP($A21,INDIRECT(I$20),TOT_ZDR_PXS_col,FALSE)),\"\")","v":""},{"$f":"IF(AND(J$18=1,$A21<>\"\"),IF(ISNA(VLOOKUP($A21,INDIRECT(J$20),TOT_STDR_PXS_col,FALSE)),\"\",VLOOKUP($A21,INDIRECT(J$20),TOT_STDR_PXS_col,FALSE)+VLOOKUP($A21,INDIRECT(J$20),TOT_ZDR_PXS_col,FALSE)),\"\")","v":""},{"$f":"IF(AND(K$18=1,$A21<>\"\"),IF(ISNA(VLOOKUP($A21,INDIRECT(K$20),TOT_STDR_PXS_col,FALSE)),\"\",VLOOKUP($A21,INDIRECT(K$20),TOT_STDR_PXS_col,FALSE)+VLOOKUP($A21,INDIRECT(K$20),TOT_ZDR_PXS_col,FALSE)),\"\")","v":""},{"$f":"IF(AND(L$18=1,$A21<>\"\"),IF(ISNA(VLOOKUP($A21,INDIRECT(L$20),TOT_STDR_PXS_col,FALSE)),\"\",VLOOKUP($A21,INDIRECT(L$20),TOT_STDR_PXS_col,FALSE)+VLOOKUP($A21,INDIRECT(L$20),TOT_ZDR_PXS_col,FALSE)),\"\")","v":""},{"$f":"IF(AND(M$18=1,$A21<>\"\"),IF(ISNA(VLOOKUP($A21,INDIRECT(M$20),TOT_STDR_PXS_col,FALSE)),\"\",VLOOKUP($A21,INDIRECT(M$20),TOT_STDR_PXS_col,FALSE)+VLOOKUP($A21,INDIRECT(M$20),TOT_ZDR_PXS_col,FALSE)),\"\")","v":""},{"$f":"IF(AND(N$18=1,$A21<>\"\"),IF(ISNA(VLOOKUP($A21,INDIRECT(N$20),TOT_STDR_PXS_col,FALSE)),\"\",VLOOKUP($A21,INDIRECT(N$20),TOT_STDR_PXS_col,FALSE)+VLOOKUP($A21,INDIRECT(N$20),TOT_ZDR_PXS_col,FALSE)),\"\")","v":""},{"$f":"IF(A21=\"\",\"\",SUM(BH21:BS21))","v":0},{"$f":"IF(A21=\"\",\"\",MIN(B21:M21))","v":0},{"$f":"IF(A21=\"\",\"\",MAX(B21:M21))","v":0},{"$f":"IF(A21=\"\",\"\",BV21-BU21)","v":0},{"$f":"IF(A21=\"\",\"\",IF(BW21>$BW$11,\"Yes\",\"No\"))","v":"No"},{"$f":"IF(A21=\"\",\"\",(COUNTA(C21:N21)-COUNTBLANK(C21:N21)))","v":0},{"$f":"IF(A21=\"\",\"\",BY21-COUNTIF(C21:N21,\"=0\"))","v":0},{"$f":"IF(C$18=1,IF(ISNA(VLOOKUP($A21,INDIRECT(C$20),MUR_fee_col,FALSE)),\"\",VLOOKUP($A21,INDIRECT(C$20),MUR_fee_col,FALSE)),\"\")","v":""},{"$f":"IF(D$18=1,IF(ISNA(VLOOKUP($A21,INDIRECT(D$20),MUR_fee_col,FALSE)),\"\",VLOOKUP($A21,INDIRECT(D$20),MUR_fee_col,FALSE)),\"\")","v":""},{"$f":"IF(E$18=1,IF(ISNA(VLOOKUP($A21,INDIRECT(E$20),MUR_fee_col,FALSE)),\"\",VLOOKUP($A21,INDIRECT(E$20),MUR_fee_col,FALSE)),\"\")","v":""},{"$f":"IF(F$18=1,IF(ISNA(VLOOKUP($A21,INDIRECT(F$20),MUR_fee_col,FALSE)),\"\",VLOOKUP($A21,INDIRECT(F$20),MUR_fee_col,FALSE)),\"\")","v":""},{"$f":"IF(G$18=1,IF(ISNA(VLOOKUP($A21,INDIRECT(G$20),MUR_fee_col,FALSE)),\"\",VLOOKUP($A21,INDIRECT(G$20),MUR_fee_col,FALSE)),\"\")","v":""},{"$f":"IF(H$18=1,IF(ISNA(VLOOKUP($A21,INDIRECT(H$20),MUR_fee_col,FALSE)),\"\",VLOOKUP($A21,INDIRECT(H$20),MUR_fee_col,FALSE)),\"\")","v":""},{"$f":"IF(I$18=1,IF(ISNA(VLOOKUP($A21,INDIRECT(I$20),MUR_fee_col,FALSE)),\"\",VLOOKUP($A21,INDIRECT(I$20),MUR_fee_col,FALSE)),\"\")","v":""},{"$f":"IF(J$18=1,IF(ISNA(VLOOKUP($A21,INDIRECT(J$20),MUR_fee_col,FALSE)),\"\",VLOOKUP($A21,INDIRECT(J$20),MUR_fee_col,FALSE)),\"\")","v":""},{"$f":"IF(K$18=1,IF(ISNA(VLOOKUP($A21,INDIRECT(K$20),MUR_fee_col,FALSE)),\"\",VLOOKUP($A21,INDIRECT(K$20),MUR_fee_col,FALSE)),\"\")","v":""},{"$f":"IF(L$18=1,IF(ISNA(VLOOKUP($A21,INDIRECT(L$20),MUR_fee_col,FALSE)),\"\",VLOOKUP($A21,INDIRECT(L$20),MUR_fee_col,FALSE)),\"\")","v":""},{"$f":"IF(M$18=1,IF(ISNA(VLOOKUP($A21,INDIRECT(M$20),MUR_fee_col,FALSE)),\"\",VLOOKUP($A21,INDIRECT(M$20),MUR_fee_col,FALSE)),\"\")","v":""},{"$f":"IF(N$18=1,IF(ISNA(VLOOKUP($A21,INDIRECT(N$20),MUR_fee_col,FALSE)),\"\",VLOOKUP($A21,INDIRECT(N$20),MUR_fee_col,FALSE)),\"\")","v":""},{"$f":"IF(A21=\"\",\"\",SUM(CA21:CL21))","v":0},{"$f":"IF(C$18=1,IF(ISNA(VLOOKUP($A21,INDIRECT(C$20),MUR_Fee_adj_col,FALSE)),\"\",VLOOKUP($A21,INDIRECT(C$20),MUR_Fee_adj_col,FALSE)),\"\")","v":""},{"$f":"IF(D$18=1,IF(ISNA(VLOOKUP($A21,INDIRECT(D$20),MUR_Fee_adj_col,FALSE)),\"\",VLOOKUP($A21,INDIRECT(D$20),MUR_Fee_adj_col,FALSE)),\"\")","v":""},{"$f":"IF(E$18=1,IF(ISNA(VLOOKUP($A21,INDIRECT(E$20),MUR_Fee_adj_col,FALSE)),\"\",VLOOKUP($A21,INDIRECT(E$20),MUR_Fee_adj_col,FALSE)),\"\")","v":""},{"$f":"IF(F$18=1,IF(ISNA(VLOOKUP($A21,INDIRECT(F$20),MUR_Fee_adj_col,FALSE)),\"\",VLOOKUP($A21,INDIRECT(F$20),MUR_Fee_adj_col,FALSE)),\"\")","v":""},{"$f":"IF(G$18=1,IF(ISNA(VLOOKUP($A21,INDIRECT(G$20),MUR_Fee_adj_col,FALSE)),\"\",VLOOKUP($A21,INDIRECT(G$20),MUR_Fee_adj_col,FALSE)),\"\")","v":""},{"$f":"IF(H$18=1,IF(ISNA(VLOOKUP($A21,INDIRECT(H$20),MUR_Fee_adj_col,FALSE)),\"\",VLOOKUP($A21,INDIRECT(H$20),MUR_Fee_adj_col,FALSE)),\"\")","v":""},{"$f":"IF(I$18=1,IF(ISNA(VLOOKUP($A21,INDIRECT(I$20),MUR_Fee_adj_col,FALSE)),\"\",VLOOKUP($A21,INDIRECT(I$20),MUR_Fee_adj_col,FALSE)),\"\")","v":""},{"$f":"IF(J$18=1,IF(ISNA(VLOOKUP($A21,INDIRECT(J$20),MUR_Fee_adj_col,FALSE)),\"\",VLOOKUP($A21,INDIRECT(J$20),MUR_Fee_adj_col,FALSE)),\"\")","v":""},{"$f":"IF(K$18=1,IF(ISNA(VLOOKUP($A21,INDIRECT(K$20),MUR_Fee_adj_col,FALSE)),\"\",VLOOKUP($A21,INDIRECT(K$20),MUR_Fee_adj_col,FALSE)),\"\")","v":""},{"$f":"IF(L$18=1,IF(ISNA(VLOOKUP($A21,INDIRECT(L$20),MUR_Fee_adj_col,FALSE)),\"\",VLOOKUP($A21,INDIRECT(L$20),MUR_Fee_adj_col,FALSE)),\"\")","v":""},{"$f":"IF(M$18=1,IF(ISNA(VLOOKUP($A21,INDIRECT(M$20),MUR_Fee_adj_col,FALSE)),\"\",VLOOKUP($A21,INDIRECT(M$20),MUR_Fee_adj_col,FALSE)),\"\")","v":""},{"$f":"IF(N$18=1,IF(ISNA(VLOOKUP($A21,INDIRECT(N$20),MUR_Fee_adj_col,FALSE)),\"\",VLOOKUP($A21,INDIRECT(N$20),MUR_Fee_adj_col,FALSE)),\"\")","v":""},{"$f":"IF(A21=\"\",\"\",SUM(CN21:CY21))","v":0}]
[{"$f":"IF(ISBLANK('Control Sheet'!D2),\"\",'Control Sheet'!D2)","v":""},{"$f":"IF(ISBLANK('Control Sheet'!E2),\"\",'Control Sheet'!E2&\" (\"&'Control Sheet'!F2&\")\")","v":""},"","","","","","","","","","","","","",null,{"$f":"IF(A22=\"\",\"\",IF(BG22<=400,\"No\",\"Yes\"))","v":""},"","","","","","","","","","","","","","","","",{"$f":"IF(C$18=1,C22,\"\")","v":""},{"$f":"IF(D$18=1,IF(D22=\"\",IF(AH22=\"\",\"\",AH22),IF(AND(D22>=0,AH22=\"\"),D22,IF(ISERROR(D22+AH22),#N/A,D22+AH22))),\"\")","v":""},{"$f":"IF(E$18=1,IF(E22=\"\",IF(AI22=\"\",\"\",AI22),IF(AND(E22>=0,AI22=\"\"),E22,IF(ISERROR(E22+AI22),#N/A,E22+AI22))),\"\")","v":""},{"$f":"IF(F$18=1,IF(F22=\"\",IF(AJ22=\"\",\"\",AJ22),IF(AND(F22>=0,AJ22=\"\"),F22,IF(ISERROR(F22+AJ22),#N/A,F22+AJ22))),\"\")","v":""},{"$f":"IF(G$18=1,IF(G22=\"\",IF(AK22=\"\",\"\",AK22),IF(AND(G22>=0,AK22=\"\"),G22,IF(ISERROR(G22+AK22),#N/A,G22+AK22))),\"\")","v":""},{"$f":"IF(H$18=1,IF(H22=\"\",IF(AL22=\"\",\"\",AL22),IF(AND(H22>=0,AL22=\"\"),H22,IF(ISERROR(H22+AL22),#N/A,H22+AL22))),\"\")","v":""},{"$f":"IF(I$18=1,IF(I22=\"\",IF(AM22=\"\",\"\",AM22),IF(AND(I22>=0,AM22=\"\"),I22,IF(ISERROR(I22+AM22),#N/A,I22+AM22))),\"\")","v":""},{"$f":"IF(J$18=1,IF(J22=\"\",IF(AN22=\"\",\"\",AN22),IF(AND(J22>=0,AN22=\"\"),J22,IF(ISERROR(J22+AN22),#N/A,J22+AN22))),\"\")","v":""},{"$f":"IF(K$18=1,IF(K22=\"\",IF(AO22=\"\",\"\",AO22),IF(AND(K22>=0,AO22=\"\"),K22,IF(ISERROR(K22+AO22),#N/A,K22+AO22))),\"\")","v":""},{"$f":"IF(L$18=1,IF(L22=\"\",IF(AP22=\"\",\"\",AP22),IF(AND(L22>=0,AP22=\"\"),L22,IF(ISERROR(L22+AP22),#N/A,L22+AP22))),\"\")","v":""},{"$f":"IF(M$18=1,IF(M22=\"\",IF(AQ22=\"\",\"\",AQ22),IF(AND(M22>=0,AQ22=\"\"),M22,IF(ISERROR(M22+AQ22),#N/A,M22+AQ22))),\"\")","v":""},{"$f":"IF(N$18=1,IF(N22=\"\",IF(AR22=\"\",\"\",AR22),IF(AND(N22>=0,AR22=\"\"),N22,IF(ISERROR(N22+AR22),#N/A,N22+AR22))),\"\")","v":""},"","","","","","","","","","","","","",{"$f":"IF(A22=\"\",\"\",MAX(IF(ISERROR(AU22:BF22),0,AU22:BF22)))","v":""},"","","","","","","","","","","","","","","","","","","","","","","","","","","","","","","","","","","","","","","","","","","","",""]
[{"$f":"IF(ISBLANK('Control Sheet'!D3),\"\",'Control Sheet'!D3)","v":""},{"$f":"IF(ISBLANK('Control Sheet'!E3),\"\",'Control Sheet'!E3&\" (\"&'Control Sheet'!F3&\")\")","v":""},"","","","","","","","","","","","","",null,"","","","","","","","","","","","","","","","","","","","","","","","","","","","","","","","","","","","","","","","","","",{"$f":"IF(A23=\"\",\"\",MAX(IF(ISERROR(AU23:BF23),0,AU23:BF23)))","v":""},"","","","","","","","","","","","","","","","","","","","","","","","","","","","","","","","","","","","","","","","","","","","",""]
[{"$f":"IF(ISBLANK('Control Sheet'!D4),\"\",'Control Sheet'!D4)","v":""},{"$f":"IF(ISBLANK('Control Sheet'!E4),\"\",'Control Sheet'!E4&\" (\"&'Control Sheet'!F4&\")\")","v":""},"","","","","","","","","","","","","",null,"","","","","","","","","","","","","","","","","","","","","","","","","","","","","","","","","","","","","","","","","","",{"$f":"IF(A24=\"\",\"\",MAX(IF(ISERROR(AU24:BF24),0,AU24:BF24)))","v":""},"","","","","","","","","","","","","","","","","","","","","","","","","","","","","","","","","","","","","","","","","","","","",""]
[{"$f":"IF(ISBLANK('Control Sheet'!D5),\"\",'Control Sheet'!D5)","v":""},{"$f":"IF(ISBLANK('Control Sheet'!E5),\"\",'Control Sheet'!E5&\" (\"&'Control Sheet'!F5&\")\")","v":""},"","","","","","","","","","","","","",null,"","","","","","","","","","","","","","","","","","","","","","","","","","","","","","","","","","","","","","","","","","",{"$f":"IF(A25=\"\",\"\",MAX(IF(ISERROR(AU25:BF25),0,AU25:BF25)))","v":""},"","","","","","","","","","","","","","","","","","","","","","","","","","","","","","","","","","","","","","","","","","","","",""]
[{"$f":"IF(ISBLANK('Control Sheet'!D6),\"\",'Control Sheet'!D6)","v":""},{"$f":"IF(ISBLANK('Control Sheet'!E6),\"\",'Control Sheet'!E6&\" (\"&'Control Sheet'!F6&\")\")","v":""},"","","","","","","","","","","","","",null,"","","","","","","","","","","","","","","","","","","","","","","","","","","","","","","","","","","","","","","","","","",{"$f":"IF(A26=\"\",\"\",MAX(IF(ISERROR(AU26:BF26),0,AU26:BF26)))","v":""},"","","","","","","","","","","","","","","","","","","","","","","","","","","","","","","","","","","","","","","","","","","","",""]
[{"$f":"IF(ISBLANK('Control Sheet'!D7),\"\",'Control Sheet'!D7)","v":""},{"$f":"IF(ISBLANK('Control Sheet'!E7),\"\",'Control Sheet'!E7&\" (\"&'Control Sheet'!F7&\")\")","v":""},"","","","","","","","","","","","","",null,"","","","","","","","","","","","","","","","","","","","","","","","","","","","","","","","","","","","","","","","","","",{"$f":"IF(A27=\"\",\"\",MAX(IF(ISERROR(AU27:BF27),0,AU27:BF27)))","v":""},"","","","","","","","","","","","","","","","","","","","","","","","","","","","","","","","","","","","","","","","","","","","",""]
[{"$f":"IF(ISBLANK('Control Sheet'!D8),\"\",'Control Sheet'!D8)","v":""},{"$f":"IF(ISBLANK('Control Sheet'!E8),\"\",'Control Sheet'!E8&\" (\"&'Control Sheet'!F8&\")\")","v":""},"","","","","","","","","","","","","",null,"","","","","","","","","","","","","","","","","","","","","","","","","","","","","","","","","","","","","","","","","","",{"$f":"IF(A28=\"\",\"\",MAX(IF(ISERROR(AU28:BF28),0,AU28:BF28)))","v":""},"","","","","","","","","","","","","","","","","","","","","","","","","","","","","","","","","","","","","","","","","","","","",""]
[{"$f":"IF(ISBLANK('Control Sheet'!D9),\"\",'Control Sheet'!D9)","v":""},{"$f":"IF(ISBLANK('Control Sheet'!E9),\"\",'Control Sheet'!E9&\" (\"&'Control Sheet'!F9&\")\")","v":""},"","","","","","","","","","","","","",null,"","","","","","","","","","","","","","","","","","","","","","","","","","","","","","","","","","","","","","","","","","",{"$f":"IF(A29=\"\",\"\",MAX(IF(ISERROR(AU29:BF29),0,AU29:BF29)))","v":""},"","","","","","","","","","","","","","","","","","","","","","","","","","","","","","","","","","","","","","","","","","","","",""]
[{"$f":"IF(ISBLANK('Control Sheet'!D10),\"\",'Control Sheet'!D10)","v":""},{"$f":"IF(ISBLANK('Control Sheet'!E10),\"\",'Control Sheet'!E10&\" (\"&'Control Sheet'!F10&\")\")","v":""},"","","","","","","","","","","","","",null,"","","","","","","","","","","","","","","","","","","","","","","","","","","","","","","","","","","","","","","","","","",{"$f":"IF(A30=\"\",\"\",MAX(IF(ISERROR(AU30:BF30),0,AU30:BF30)))","v":""},"","","","","","","","","","","","","","","","","","","","","","","","","","","","","","","","","","","","","","","","","","","","",""]
[{"$f":"IF(ISBLANK('Control Sheet'!D11),\"\",'Control Sheet'!D11)","v":""},{"$f":"IF(ISBLANK('Control Sheet'!E11),\"\",'Control Sheet'!E11&\" (\"&'Control Sheet'!F11&\")\")","v":""},{"$f":"IF(C$18=1,IF(ISNA(VLOOKUP($A31,INDIRECT(C$20),MUR_col,FALSE)),\"\",VLOOKUP($A31,INDIRECT(C$20),MUR_col,FALSE)),\"\")","v":""},"","","","","","","","","","","","",null,"","","","","","","","","","","","","","","","","","","","","","","","","","","","","","","","","","","","","","","","","","",{"$f":"IF(A31=\"\",\"\",MAX(IF(ISERROR(AU31:BF31),0,AU31:BF31)))","v":""},"","","","","","","","","","","","","","","","","","","","","","","","","","","","","","","","","","","","","","","","","","","","",""]
[{"$f":"IF(ISBLANK('Control Sheet'!D12),\"\",'Control Sheet'!D12)","v":""},{"$f":"IF(ISBLANK('Control Sheet'!E12),\"\",'Control Sheet'!E12&\" (\"&'Control Sheet'!F12&\")\")","v":""},"","","","","","","","","","","","","",null,"","","","","","","","","","","","","","","","","","","","","","","","","","","","","","","","","","","","","","","","","","",{"$f":"IF(A32=\"\",\"\",MAX(IF(ISERROR(AU32:BF32),0,AU32:BF32)))","v":""},"","","","","","","","","","","","","","","","","","","","","","","","","","","","","","","","","","","","","","","","","","","","",""]
[{"$f":"IF(ISBLANK('Control Sheet'!D13),\"\",'Control Sheet'!D13)","v":""},{"$f":"IF(ISBLANK('Control Sheet'!E13),\"\",'Control Sheet'!E13&\" (\"&'Control Sheet'!F13&\")\")","v":""},"","","","","","","","","","","","","",null,"","","","","","","","","","","","","","","","","","","","","","","","","","","","","","","","","","","","","","","","","","",{"$f":"IF(A33=\"\",\"\",MAX(IF(ISERROR(AU33:BF33),0,AU33:BF33)))","v":""},"","","","","","","","","","","","","","","","","","","","","","","","","","","","","","","","","","","","","","","","","","","","",""]
[{"$f":"IF(ISBLANK('Control Sheet'!D14),\"\",'Control Sheet'!D14)","v":""},{"$f":"IF(ISBLANK('Control Sheet'!E14),\"\",'Control Sheet'!E14&\" (\"&'Control Sheet'!F14&\")\")","v":""},"","","","","","","","","","","","","",null,"","","","","","","","","","","","","","","","","","","","","","","","","","","","","","","","","","","","","","","","","","",{"$f":"IF(A34=\"\",\"\",MAX(IF(ISERROR(AU34:BF34),0,AU34:BF34)))","v":""},"","","","","","","","","","","","","","","","","","","","","","","","","","","","","","","","","","","","","","","","","","","","",""]
[{"$f":"IF(ISBLANK('Control Sheet'!D15),\"\",'Control Sheet'!D15)","v":""},{"$f":"IF(ISBLANK('Control Sheet'!E15),\"\",'Control Sheet'!E15&\" (\"&'Control Sheet'!F15&\")\")","v":""},"","","","","","","","","","","","","",null,"","","","","","","","","","","","","","","","","","","","","","","","","","","","","","","","","","","","","","","","","","",{"$f":"IF(A35=\"\",\"\",MAX(IF(ISERROR(AU35:BF35),0,AU35:BF35)))","v":""},"","","","","","","","","","","","","","","","","","","","","","","","","","","","","","","","","","","","","","","","","","","","",""]
[{"$f":"IF(ISBLANK('Control Sheet'!D16),\"\",'Control Sheet'!D16)","v":""},{"$f":"IF(ISBLANK('Control Sheet'!E16),\"\",'Control Sheet'!E16&\" (\"&'Control Sheet'!F16&\")\")","v":""},"","","","","","","","","","","","","",null,"","","","","","","","","","","","","","","","","","","","","","","","","","","","","","","","","","","","","","","","","","",{"$f":"IF(A36=\"\",\"\",MAX(IF(ISERROR(AU36:BF36),0,AU36:BF36)))","v":""},"","","","","","","","","","","","","","","","","","","","","","","","","","","","","","","","","","","","","","","","","","","","",""]
[{"$f":"IF(ISBLANK('Control Sheet'!D17),\"\",'Control Sheet'!D17)","v":""},{"$f":"IF(ISBLANK('Control Sheet'!E17),\"\",'Control Sheet'!E17&\" (\"&'Control Sheet'!F17&\")\")","v":""},"","","","","","","","","","","","","",null,"","","","","","","","","","","","","","","","","","","","","","","","","","","","","","","","","","","","","","","","","","",{"$f":"IF(A37=\"\",\"\",MAX(IF(ISERROR(AU37:BF37),0,AU37:BF37)))","v":""},"","","","","","","","","","","","","","","","","","","","","","","","","","","","","","","","","","","","","","","","","","","","",""]
[{"$f":"IF(ISBLANK('Control Sheet'!D18),\"\",'Control Sheet'!D18)","v":""},{"$f":"IF(ISBLANK('Control Sheet'!E18),\"\",'Control Sheet'!E18&\" (\"&'Control Sheet'!F18&\")\")","v":""},"","","","","","","","","","","","","",null,"","","","","","","","","","","","","","","","","","","","","","","","","","","","","","","","","","","","","","","","","","",{"$f":"IF(A38=\"\",\"\",MAX(IF(ISERROR(AU38:BF38),0,AU38:BF38)))","v":""},"","","","","","","","","","","","","","","","","","","","","","","","","","","","","","","","","","","","","","","","","","","","",""]
[{"$f":"IF(ISBLANK('Control Sheet'!D19),\"\",'Control Sheet'!D19)","v":""},{"$f":"IF(ISBLANK('Control Sheet'!E19),\"\",'Control Sheet'!E19&\" (\"&'Control Sheet'!F19&\")\")","v":""},"","","","","","","","","","","","","",null,"","","","","","","","","","","","","","","","","","","","","","","","","","","","","","","","","","","","","","","","","","",{"$f":"IF(A39=\"\",\"\",MAX(IF(ISERROR(AU39:BF39),0,AU39:BF39)))","v":""},"","","","","","","","","","","","","","","","","","","","","","","","","","","","","","","","","","","","","","","","","","","","",""]
[{"$f":"IF(ISBLANK('Control Sheet'!D20),\"\",'Control Sheet'!D20)","v":""},{"$f":"IF(ISBLANK('Control Sheet'!E20),\"\",'Control Sheet'!E20&\" (\"&'Control Sheet'!F20&\")\")","v":""},"","","","","","","","","","","","","",null,"","","","","","","","","","","","","","","","","","","","","","","","","","","","","","","","","","","","","","","","","","",{"$f":"IF(A40=\"\",\"\",MAX(IF(ISERROR(AU40:BF40),0,AU40:BF40)))","v":""},"","","","","","","","","","","","","","","","","","","","","","","","","","","","","","","","","","","","","","","","","","","","",""]
[{"$f":"IF(ISBLANK('Control Sheet'!D21),\"\",'Control Sheet'!D21)","v":""},{"$f":"IF(ISBLANK('Control Sheet'!E21),\"\",'Control Sheet'!E21&\" (\"&'Control Sheet'!F21&\")\")","v":""},{"$f":"IF(C$18=1,IF(ISNA(VLOOKUP($A41,INDIRECT(C$20),MUR_col,FALSE)),\"\",VLOOKUP($A41,INDIRECT(C$20),MUR_col,FALSE)),\"\")","v":""},"","","","","","","","","","","","",null,"","","","","","","","","","","","","","","","","","","","","","","","","","","","","","","","","","","","","","","","","","",{"$f":"IF(A41=\"\",\"\",MAX(IF(ISERROR(AU41:BF41),0,AU41:BF41)))","v":""},"","","","","","","","","","","","","","","","","","","","","","","","","","","","","","","","","","","","","","","","","","","","",""]
[{"$f":"IF(ISBLANK('Control Sheet'!D22),\"\",'Control Sheet'!D22)","v":""},{"$f":"IF(ISBLANK('Control Sheet'!E22),\"\",'Control Sheet'!E22&\" (\"&'Control Sheet'!F22&\")\")","v":""},"","","","","","","","","","","","","",null,"","","","","","","","","","","","","","","","","","","","","","","","","","","","","","","","","","","","","","","","","","",{"$f":"IF(A42=\"\",\"\",MAX(IF(ISERROR(AU42:BF42),0,AU42:BF42)))","v":""},"","","","","","","","","","","","","","","","","","","","","","","","","","","","","","","","","","","","","","","","","","","","",""]
[{"$f":"IF(ISBLANK('Control Sheet'!D23),\"\",'Control Sheet'!D23)","v":""},{"$f":"IF(ISBLANK('Control Sheet'!E23),\"\",'Control Sheet'!E23&\" (\"&'Control Sheet'!F23&\")\")","v":""},"","","","","","","","","","","","","",null,"","","","","","","","","","","","","","","","","","","","","","","","","","","","","","","","","","","","","","","","","","",{"$f":"IF(A43=\"\",\"\",MAX(IF(ISERROR(AU43:BF43),0,AU43:BF43)))","v":""},"","","","","","","","","","","","","","","","","","","","","","","","","","","","","","","","","","","","","","","","","","","","",""]
[{"$f":"IF(ISBLANK('Control Sheet'!D24),\"\",'Control Sheet'!D24)","v":""},{"$f":"IF(ISBLANK('Control Sheet'!E24),\"\",'Control Sheet'!E24&\" (\"&'Control Sheet'!F24&\")\")","v":""},"","","","","","","","","","","","","",null,"","","","","","","","","","","","","","","","","","","","","","","","","","","","","","","","","","","","","","","","","","",{"$f":"IF(A44=\"\",\"\",MAX(IF(ISERROR(AU44:BF44),0,AU44:BF44)))","v":""},"","","","","","","","","","","","","","","","","","","","","","","","","","","","","","","","","","","","","","","","","","","","",""]
[{"$f":"IF(ISBLANK('Control Sheet'!D25),\"\",'Control Sheet'!D25)","v":""},{"$f":"IF(ISBLANK('Control Sheet'!E25),\"\",'Control Sheet'!E25&\" (\"&'Control Sheet'!F25&\")\")","v":""},"","","","","","","","","","","","","",null,"","","","","","","","","","","","","","","","","","","","","","","","","","","","","","","","","","","","","","","","","","",{"$f":"IF(A45=\"\",\"\",MAX(IF(ISERROR(AU45:BF45),0,AU45:BF45)))","v":""},"","","","","","","","","","","","","","","","","","","","","","","","","","","","","","","","","","","","","","","","","","","","",""]
[{"$f":"IF(ISBLANK('Control Sheet'!D26),\"\",'Control Sheet'!D26)","v":""},{"$f":"IF(ISBLANK('Control Sheet'!E26),\"\",'Control Sheet'!E26&\" (\"&'Control Sheet'!F26&\")\")","v":""},"","","","","","","","","","","","","",null,"","","","","","","","","","","","","","","","","","","","","","","","","","","","","","","","","","","","","","","","","","",{"$f":"IF(A46=\"\",\"\",MAX(IF(ISERROR(AU46:BF46),0,AU46:BF46)))","v":""},"","","","","","","","","","","","","","","","","","","","","","","","","","","","","","","","","","","","","","","","","","","","",""]
[{"$f":"IF(ISBLANK('Control Sheet'!D27),\"\",'Control Sheet'!D27)","v":""},{"$f":"IF(ISBLANK('Control Sheet'!E27),\"\",'Control Sheet'!E27&\" (\"&'Control Sheet'!F27&\")\")","v":""},"","","","","","","","","","","","","",null,"","","","","","","","","","","","","","","","","","","","","","","","","","","","","","","","","","","","","","","","","","",{"$f":"IF(A47=\"\",\"\",MAX(IF(ISERROR(AU47:BF47),0,AU47:BF47)))","v":""},"","","","","","","","","","","","","","","","","","","","","","","","","","","","","","","","","","","","","","","","","","","","",""]
[{"$f":"IF(ISBLANK('Control Sheet'!D28),\"\",'Control Sheet'!D28)","v":""},{"$f":"IF(ISBLANK('Control Sheet'!E28),\"\",'Control Sheet'!E28&\" (\"&'Control Sheet'!F28&\")\")","v":""},"","","","","","","","","","","","","",null,"","","","","","","","","","","","","","","","","","","","","","","","","","","","","","","","","","","","","","","","","","",{"$f":"IF(A48=\"\",\"\",MAX(IF(ISERROR(AU48:BF48),0,AU48:BF48)))","v":""},"","","","","","","","","","","","","","","","","","","","","","","","","","","","","","","","","","","","","","","","","","","","",""]
[{"$f":"IF(ISBLANK('Control Sheet'!D29),\"\",'Control Sheet'!D29)","v":""},{"$f":"IF(ISBLANK('Control Sheet'!E29),\"\",'Control Sheet'!E29&\" (\"&'Control Sheet'!F29&\")\")","v":""},"","","","","","","","","","","","","",null,"","","","","","","","","","","","","","","","","","","","","","","","","","","","","","","","","","","","","","","","","","",{"$f":"IF(A49=\"\",\"\",MAX(IF(ISERROR(AU49:BF49),0,AU49:BF49)))","v":""},"","","","","","","","","","","","","","","","","","","","","","","","","","","","","","","","","","","","","","","","","","","","",""]
[{"$f":"IF(ISBLANK('Control Sheet'!D30),\"\",'Control Sheet'!D30)","v":""},{"$f":"IF(ISBLANK('Control Sheet'!E30),\"\",'Control Sheet'!E30&\" (\"&'Control Sheet'!F30&\")\")","v":""},"","","","","","","","","","","","","",null,"","","","","","","","","","","","","","","","","","","","","","","","","","","","","","","","","","","","","","","","","","",{"$f":"IF(A50=\"\",\"\",MAX(IF(ISERROR(AU50:BF50),0,AU50:BF50)))","v":""},"","","","","","","","","","","","","","","","","","","","","","","","","","","","","","","","","","","","","","","","","","","","",""]
[{"$f":"IF(ISBLANK('Control Sheet'!D31),\"\",'Control Sheet'!D31)","v":""},{"$f":"IF(ISBLANK('Control Sheet'!E31),\"\",'Control Sheet'!E31&\" (\"&'Control Sheet'!F31&\")\")","v":""},{"$f":"IF(C$18=1,IF(ISNA(VLOOKUP($A51,INDIRECT(C$20),MUR_col,FALSE)),\"\",VLOOKUP($A51,INDIRECT(C$20),MUR_col,FALSE)),\"\")","v":""},"","","","","","","","","","","","",null,"","","","","","","","","","","","","","","","","","","","","","","","","","","","","","","","","","","","","","","","","","",{"$f":"IF(A51=\"\",\"\",MAX(IF(ISERROR(AU51:BF51),0,AU51:BF51)))","v":""},"","","","","","","","","","","","","","","","","","","","","","","","","","","","","","","","","","","","","","","","","","","","",""]
[{"$f":"IF(ISBLANK('Control Sheet'!D32),\"\",'Control Sheet'!D32)","v":""},{"$f":"IF(ISBLANK('Control Sheet'!E32),\"\",'Control Sheet'!E32&\" (\"&'Control Sheet'!F32&\")\")","v":""},"","","","","","","","","","","","","",null,"","","","","","","","","","","","","","","","","","","","","","","","","","","","","","","","","","","","","","","","","","",{"$f":"IF(A52=\"\",\"\",MAX(IF(ISERROR(AU52:BF52),0,AU52:BF52)))","v":""},"","","","","","","","","","","","","","","","","","","","","","","","","","","","","","","","","","","","","","","","","","","","",""]
[{"$f":"IF(ISBLANK('Control Sheet'!D33),\"\",'Control Sheet'!D33)","v":""},{"$f":"IF(ISBLANK('Control Sheet'!E33),\"\",'Control Sheet'!E33&\" (\"&'Control Sheet'!F33&\")\")","v":""},"","","","","","","","","","","","","",null,"","","","","","","","","","","","","","","","","","","","","","","","","","","","","","","","","","","","","","","","","","",{"$f":"IF(A53=\"\",\"\",MAX(IF(ISERROR(AU53:BF53),0,AU53:BF53)))","v":""},"","","","","","","","","","","","","","","","","","","","","","","","","","","","","","","","","","","","","","","","","","","","",""]
[{"$f":"IF(ISBLANK('Control Sheet'!D34),\"\",'Control Sheet'!D34)","v":""},{"$f":"IF(ISBLANK('Control Sheet'!E34),\"\",'Control Sheet'!E34&\" (\"&'Control Sheet'!F34&\")\")","v":""},"","","","","","","","","","","","","",null,"","","","","","","","","","","","","","","","","","","","","","","","","","","","","","","","","","","","","","","","","","",{"$f":"IF(A54=\"\",\"\",MAX(IF(ISERROR(AU54:BF54),0,AU54:BF54)))","v":""},"","","","","","","","","","","","","","","","","","","","","","","","","","","","","","","","","","","","","","","","","","","","",""]
[{"$f":"IF(ISBLANK('Control Sheet'!D35),\"\",'Control Sheet'!D35)","v":""},{"$f":"IF(ISBLANK('Control Sheet'!E35),\"\",'Control Sheet'!E35&\" (\"&'Control Sheet'!F35&\")\")","v":""},"","","","","","","","","","","","","",null,"","","","","","","","","","","","","","","","","","","","","","","","","","","","","","","","","","","","","","","","","","",{"$f":"IF(A55=\"\",\"\",MAX(IF(ISERROR(AU55:BF55),0,AU55:BF55)))","v":""},"","","","","","","","","","","","","","","","","","","","","","","","","","","","","","","","","","","","","","","","","","","","",""]
[{"$f":"IF(ISBLANK('Control Sheet'!D36),\"\",'Control Sheet'!D36)","v":""},{"$f":"IF(ISBLANK('Control Sheet'!E36),\"\",'Control Sheet'!E36&\" (\"&'Control Sheet'!F36&\")\")","v":""},"","","","","","","","","","","","","",null,"","","","","","","","","","","","","","","","","","","","","","","","","","","","","","","","","","","","","","","","","","",{"$f":"IF(A56=\"\",\"\",MAX(IF(ISERROR(AU56:BF56),0,AU56:BF56)))","v":""},"","","","","","","","","","","","","","","","","","","","","","","","","","","","","","","","","","","","","","","","","","","","",""]
[{"$f":"IF(ISBLANK('Control Sheet'!D37),\"\",'Control Sheet'!D37)","v":""},{"$f":"IF(ISBLANK('Control Sheet'!E37),\"\",'Control Sheet'!E37&\" (\"&'Control Sheet'!F37&\")\")","v":""},"","","","","","","","","","","","","",null,"","","","","","","","","","","","","","","","","","","","","","","","","","","","","","","","","","","","","","","","","","",{"$f":"IF(A57=\"\",\"\",MAX(IF(ISERROR(AU57:BF57),0,AU57:BF57)))","v":""},"","","","","","","","","","","","","","","","","","","","","","","","","","","","","","","","","","","","","","","","","","","","",""]
[{"$f":"IF(ISBLANK('Control Sheet'!D38),\"\",'Control Sheet'!D38)","v":""},{"$f":"IF(ISBLANK('Control Sheet'!E38),\"\",'Control Sheet'!E38&\" (\"&'Control Sheet'!F38&\")\")","v":""},"","","","","","","","","","","","","",null,"","","","","","","","","","","","","","","","","","","","","","","","","","","","","","","","","","","","","","","","","","",{"$f":"IF(A58=\"\",\"\",MAX(IF(ISERROR(AU58:BF58),0,AU58:BF58)))","v":""},"","","","","","","","","","","","","","","","","","","","","","","","","","","","","","","","","","","","","","","","","","","","",""]
[{"$f":"IF(ISBLANK('Control Sheet'!D39),\"\",'Control Sheet'!D39)","v":""},{"$f":"IF(ISBLANK('Control Sheet'!E39),\"\",'Control Sheet'!E39&\" (\"&'Control Sheet'!F39&\")\")","v":""},"","","","","","","","","","","","","",null,"","","","","","","","","","","","","","","","","","","","","","","","","","","","","","","","","","","","","","","","","","",{"$f":"IF(A59=\"\",\"\",MAX(IF(ISERROR(AU59:BF59),0,AU59:BF59)))","v":""},"","","","","","","","","","","","","","","","","","","","","","","","","","","","","","","","","","","","","","","","","","","","",""]
[{"$f":"IF(ISBLANK('Control Sheet'!D40),\"\",'Control Sheet'!D40)","v":""},{"$f":"IF(ISBLANK('Control Sheet'!E40),\"\",'Control Sheet'!E40&\" (\"&'Control Sheet'!F40&\")\")","v":""},"","","","","","","","","","","","","",null,"","","","","","","","","","","","","","","","","","","","","","","","","","","","","","","","","","","","","","","","","","",{"$f":"IF(A60=\"\",\"\",MAX(IF(ISERROR(AU60:BF60),0,AU60:BF60)))","v":""},"","","","","","","","","","","","","","","","","","","","","","","","","","","","","","","","","","","","","","","","","","","","",""]
[{"$f":"IF(ISBLANK('Control Sheet'!D41),\"\",'Control Sheet'!D41)","v":""},{"$f":"IF(ISBLANK('Control Sheet'!E41),\"\",'Control Sheet'!E41&\" (\"&'Control Sheet'!F41&\")\")","v":""},{"$f":"IF(C$18=1,IF(ISNA(VLOOKUP($A61,INDIRECT(C$20),MUR_col,FALSE)),\"\",VLOOKUP($A61,INDIRECT(C$20),MUR_col,FALSE)),\"\")","v":""},"","","","","","","","","","","","",null,"","","","","","","","","","","","","","","","","","","","","","","","","","","","","","","","","","","","","","","","","","",{"$f":"IF(A61=\"\",\"\",MAX(IF(ISERROR(AU61:BF61),0,AU61:BF61)))","v":""},"","","","","","","","","","","","","","","","","","","","","","","","","","","","","","","","","","","","","","","","","","","","",""]
[{"$f":"IF(ISBLANK('Control Sheet'!D42),\"\",'Control Sheet'!D42)","v":""},{"$f":"IF(ISBLANK('Control Sheet'!E42),\"\",'Control Sheet'!E42&\" (\"&'Control Sheet'!F42&\")\")","v":""},"","","","","","","","","","","","","",null,"","","","","","","","","","","","","","","","","","","","","","","","","","","","","","","","","","","","","","","","","","",{"$f":"IF(A62=\"\",\"\",MAX(IF(ISERROR(AU62:BF62),0,AU62:BF62)))","v":""},"","","","","","","","","","","","","","","","","","","","","","","","","","","","","","","","","","","","","","","","","","","","",""]
[{"$f":"IF(ISBLANK('Control Sheet'!D43),\"\",'Control Sheet'!D43)","v":""},{"$f":"IF(ISBLANK('Control Sheet'!E43),\"\",'Control Sheet'!E43&\" (\"&'Control Sheet'!F43&\")\")","v":""},"","","","","","","","","","","","","",null,"","","","","","","","","","","","","","","","","","","","","","","","","","","","","","","","","","","","","","","","","","",{"$f":"IF(A63=\"\",\"\",MAX(IF(ISERROR(AU63:BF63),0,AU63:BF63)))","v":""},"","","","","","","","","","","","","","","","","","","","","","","","","","","","","","","","","","","","","","","","","","","","",""]
[{"$f":"IF(ISBLANK('Control Sheet'!D44),\"\",'Control Sheet'!D44)","v":""},{"$f":"IF(ISBLANK('Control Sheet'!E44),\"\",'Control Sheet'!E44&\" (\"&'Control Sheet'!F44&\")\")","v":""},"","","","","","","","","","","","","",null,"","","","","","","","","","","","","","","","","","","","","","","","","","","","","","","","","","","","","","","","","","",{"$f":"IF(A64=\"\",\"\",MAX(IF(ISERROR(AU64:BF64),0,AU64:BF64)))","v":""},"","","","","","","","","","","","","","","","","","","","","","","","","","","","","","","","","","","","","","","","","","","","",""]
[{"$f":"IF(ISBLANK('Control Sheet'!D45),\"\",'Control Sheet'!D45)","v":""},{"$f":"IF(ISBLANK('Control Sheet'!E45),\"\",'Control Sheet'!E45&\" (\"&'Control Sheet'!F45&\")\")","v":""},"","","","","","","","","","","","","",null,"","","","","","","","","","","","","","","","","","","","","","","","","","","","","","","","","","","","","","","","","","",{"$f":"IF(A65=\"\",\"\",MAX(IF(ISERROR(AU65:BF65),0,AU65:BF65)))","v":""},"","","","","","","","","","","","","","","","","","","","","","","","","","","","","","","","","","","","","","","","","","","","",""]
[{"$f":"IF(ISBLANK('Control Sheet'!D46),\"\",'Control Sheet'!D46)","v":""},{"$f":"IF(ISBLANK('Control Sheet'!E46),\"\",'Control Sheet'!E46&\" (\"&'Control Sheet'!F46&\")\")","v":""},"","","","","","","","","","","","","",null,"","","","","","","","","","","","","","","","","","","","","","","","","","","","","","","","","","","","","","","","","","",{"$f":"IF(A66=\"\",\"\",MAX(IF(ISERROR(AU66:BF66),0,AU66:BF66)))","v":""},"","","","","","","","","","","","","","","","","","","","","","","","","","","","","","","","","","","","","","","","","","","","",""]
[{"$f":"IF(ISBLANK('Control Sheet'!D47),\"\",'Control Sheet'!D47)","v":""},{"$f":"IF(ISBLANK('Control Sheet'!E47),\"\",'Control Sheet'!E47&\" (\"&'Control Sheet'!F47&\")\")","v":""},"","","","","","","","","","","","","",null,"","","","","","","","","","","","","","","","","","","","","","","","","","","","","","","","","","","","","","","","","","",{"$f":"IF(A67=\"\",\"\",MAX(IF(ISERROR(AU67:BF67),0,AU67:BF67)))","v":""},"","","","","","","","","","","","","","","","","","","","","","","","","","","","","","","","","","","","","","","","","","","","",""]
[{"$f":"IF(ISBLANK('Control Sheet'!D48),\"\",'Control Sheet'!D48)","v":""},{"$f":"IF(ISBLANK('Control Sheet'!E48),\"\",'Control Sheet'!E48&\" (\"&'Control Sheet'!F48&\")\")","v":""},"","","","","","","","","","","","","",null,"","","","","","","","","","","","","","","","","","","","","","","","","","","","","","","","","","","","","","","","","","",{"$f":"IF(A68=\"\",\"\",MAX(IF(ISERROR(AU68:BF68),0,AU68:BF68)))","v":""},"","","","","","","","","","","","","","","","","","","","","","","","","","","","","","","","","","","","","","","","","","","","",""]
[{"$f":"IF(ISBLANK('Control Sheet'!D49),\"\",'Control Sheet'!D49)","v":""},{"$f":"IF(ISBLANK('Control Sheet'!E49),\"\",'Control Sheet'!E49&\" (\"&'Control Sheet'!F49&\")\")","v":""},"","","","","","","","","","","","","",null,"","","","","","","","","","","","","","","","","","","","","","","","","","","","","","","","","","","","","","","","","","",{"$f":"IF(A69=\"\",\"\",MAX(IF(ISERROR(AU69:BF69),0,AU69:BF69)))","v":""},"","","","","","","","","","","","","","","","","","","","","","","","","","","","","","","","","","","","","","","","","","","","",""]
[{"$f":"IF(ISBLANK('Control Sheet'!D50),\"\",'Control Sheet'!D50)","v":""},{"$f":"IF(ISBLANK('Control Sheet'!E50),\"\",'Control Sheet'!E50&\" (\"&'Control Sheet'!F50&\")\")","v":""},"","","","","","","","","","","","","",null,"","","","","","","","","","","","","","","","","","","","","","","","","","","","","","","","","","","","","","","","","","",{"$f":"IF(A70=\"\",\"\",MAX(IF(ISERROR(AU70:BF70),0,AU70:BF70)))","v":""},"","","","","","","","","","","","","","","","","","","","","","","","","","","","","","","","","","","","","","","","","","","","",""]
[{"$f":"IF(ISBLANK('Control Sheet'!D51),\"\",'Control Sheet'!D51)","v":""},{"$f":"IF(ISBLANK('Control Sheet'!E51),\"\",'Control Sheet'!E51&\" (\"&'Control Sheet'!F51&\")\")","v":""},{"$f":"IF(C$18=1,IF(ISNA(VLOOKUP($A71,INDIRECT(C$20),MUR_col,FALSE)),\"\",VLOOKUP($A71,INDIRECT(C$20),MUR_col,FALSE)),\"\")","v":""},"","","","","","","","","","","","",null,"","","","","","","","","","","","","","","","","","","","","","","","","","","","","","","","","","","","","","","","","","",{"$f":"IF(A71=\"\",\"\",MAX(IF(ISERROR(AU71:BF71),0,AU71:BF71)))","v":""},"","","","","","","","","","","","","","","","","","","","","","","","","","","","","","","","","","","","","","","","","","","","",""]
[{"$f":"IF(ISBLANK('Control Sheet'!D52),\"\",'Control Sheet'!D52)","v":""},{"$f":"IF(ISBLANK('Control Sheet'!E52),\"\",'Control Sheet'!E52&\" (\"&'Control Sheet'!F52&\")\")","v":""},"","","","","","","","","","","","","",null,"","","","","","","","","","","","","","","","","","","","","","","","","","","","","","","","","","","","","","","","","","",{"$f":"IF(A72=\"\",\"\",MAX(IF(ISERROR(AU72:BF72),0,AU72:BF72)))","v":""},"","","","","","","","","","","","","","","","","","","","","","","","","","","","","","","","","","","","","","","","","","","","",""]
[{"$f":"IF(ISBLANK('Control Sheet'!D53),\"\",'Control Sheet'!D53)","v":""},{"$f":"IF(ISBLANK('Control Sheet'!E53),\"\",'Control Sheet'!E53&\" (\"&'Control Sheet'!F53&\")\")","v":""},"","","","","","","","","","","","","",null,"","","","","","","","","","","","","","","","","","","","","","","","","","","","","","","","","","","","","","","","","","",{"$f":"IF(A73=\"\",\"\",MAX(IF(ISERROR(AU73:BF73),0,AU73:BF73)))","v":""},"","","","","","","","","","","","","","","","","","","","","","","","","","","","","","","","","","","","","","","","","","","","",""]
[{"$f":"IF(ISBLANK('Control Sheet'!D54),\"\",'Control Sheet'!D54)","v":""},{"$f":"IF(ISBLANK('Control Sheet'!E54),\"\",'Control Sheet'!E54&\" (\"&'Control Sheet'!F54&\")\")","v":""},"","","","","","","","","","","","","",null,"","","","","","","","","","","","","","","","","","","","","","","","","","","","","","","","","","","","","","","","","","",{"$f":"IF(A74=\"\",\"\",MAX(IF(ISERROR(AU74:BF74),0,AU74:BF74)))","v":""},"","","","","","","","","","","","","","","","","","","","","","","","","","","","","","","","","","","","","","","","","","","","",""]
[{"$f":"IF(ISBLANK('Control Sheet'!D55),\"\",'Control Sheet'!D55)","v":""},{"$f":"IF(ISBLANK('Control Sheet'!E55),\"\",'Control Sheet'!E55&\" (\"&'Control Sheet'!F55&\")\")","v":""},"","","","","","","","","","","","","",null,"","","","","","","","","","","","","","","","","","","","","","","","","","","","","","","","","","","","","","","","","","",{"$f":"IF(A75=\"\",\"\",MAX(IF(ISERROR(AU75:BF75),0,AU75:BF75)))","v":""},"","","","","","","","","","","","","","","","","","","","","","","","","","","","","","","","","","","","","","","","","","","","",""]
[{"$f":"IF(ISBLANK('Control Sheet'!D56),\"\",'Control Sheet'!D56)","v":""},{"$f":"IF(ISBLANK('Control Sheet'!E56),\"\",'Control Sheet'!E56&\" (\"&'Control Sheet'!F56&\")\")","v":""},"","","","","","","","","","","","","",null,"","","","","","","","","","","","","","","","","","","","","","","","","","","","","","","","","","","","","","","","","","",{"$f":"IF(A76=\"\",\"\",MAX(IF(ISERROR(AU76:BF76),0,AU76:BF76)))","v":""},"","","","","","","","","","","","","","","","","","","","","","","","","","","","","","","","","","","","","","","","","","","","",""]
[{"$f":"IF(ISBLANK('Control Sheet'!D57),\"\",'Control Sheet'!D57)","v":""},{"$f":"IF(ISBLANK('Control Sheet'!E57),\"\",'Control Sheet'!E57&\" (\"&'Control Sheet'!F57&\")\")","v":""},"","","","","","","","","","","","","",null,"","","","","","","","","","","","","","","","","","","","","","","","","","","","","","","","","","","","","","","","","","",{"$f":"IF(A77=\"\",\"\",MAX(IF(ISERROR(AU77:BF77),0,AU77:BF77)))","v":""},"","","","","","","","","","","","","","","","","","","","","","","","","","","","","","","","","","","","","","","","","","","","",""]
[{"$f":"IF(ISBLANK('Control Sheet'!D58),\"\",'Control Sheet'!D58)","v":""},{"$f":"IF(ISBLANK('Control Sheet'!E58),\"\",'Control Sheet'!E58&\" (\"&'Control Sheet'!F58&\")\")","v":""},"","","","","","","","","","","","","",null,"","","","","","","","","","","","","","","","","","","","","","","","","","","","","","","","","","","","","","","","","","",{"$f":"IF(A78=\"\",\"\",MAX(IF(ISERROR(AU78:BF78),0,AU78:BF78)))","v":""},"","","","","","","","","","","","","","","","","","","","","","","","","","","","","","","","","","","","","","","","","","","","",""]
[{"$f":"IF(ISBLANK('Control Sheet'!D59),\"\",'Control Sheet'!D59)","v":""},{"$f":"IF(ISBLANK('Control Sheet'!E59),\"\",'Control Sheet'!E59&\" (\"&'Control Sheet'!F59&\")\")","v":""},"","","","","","","","","","","","","",null,"","","","","","","","","","","","","","","","","","","","","","","","","","","","","","","","","","","","","","","","","","",{"$f":"IF(A79=\"\",\"\",MAX(IF(ISERROR(AU79:BF79),0,AU79:BF79)))","v":""},"","","","","","","","","","","","","","","","","","","","","","","","","","","","","","","","","","","","","","","","","","","","",""]
[{"$f":"IF(ISBLANK('Control Sheet'!D60),\"\",'Control Sheet'!D60)","v":""},{"$f":"IF(ISBLANK('Control Sheet'!E60),\"\",'Control Sheet'!E60&\" (\"&'Control Sheet'!F60&\")\")","v":""},"","","","","","","","","","","","","",null,"","","","","","","","","","","","","","","","","","","","","","","","","","","","","","","","","","","","","","","","","","",{"$f":"IF(A80=\"\",\"\",MAX(IF(ISERROR(AU80:BF80),0,AU80:BF80)))","v":""},"","","","","","","","","","","","","","","","","","","","","","","","","","","","","","","","","","","","","","","","","","","","",""]
[{"$f":"IF(ISBLANK('Control Sheet'!D61),\"\",'Control Sheet'!D61)","v":""},{"$f":"IF(ISBLANK('Control Sheet'!E61),\"\",'Control Sheet'!E61&\" (\"&'Control Sheet'!F61&\")\")","v":""},{"$f":"IF(C$18=1,IF(ISNA(VLOOKUP($A81,INDIRECT(C$20),MUR_col,FALSE)),\"\",VLOOKUP($A81,INDIRECT(C$20),MUR_col,FALSE)),\"\")","v":""},"","","","","","","","","","","","",null,"","","","","","","","","","","","","","","","","","","","","","","","","","","","","","","","","","","","","","","","","","",{"$f":"IF(A81=\"\",\"\",MAX(IF(ISERROR(AU81:BF81),0,AU81:BF81)))","v":""},"","","","","","","","","","","","","","","","","","","","","","","","","","","","","","","","","","","","","","","","","","","","",""]
[{"$f":"IF(ISBLANK('Control Sheet'!D62),\"\",'Control Sheet'!D62)","v":""},{"$f":"IF(ISBLANK('Control Sheet'!E62),\"\",'Control Sheet'!E62&\" (\"&'Control Sheet'!F62&\")\")","v":""},"","","","","","","","","","","","","",null,"","","","","","","","","","","","","","","","","","","","","","","","","","","","","","","","","","","","","","","","","","",{"$f":"IF(A82=\"\",\"\",MAX(IF(ISERROR(AU82:BF82),0,AU82:BF82)))","v":""},"","","","","","","","","","","","","","","","","","","","","","","","","","","","","","","","","","","","","","","","","","","","",""]
[{"$f":"IF(ISBLANK('Control Sheet'!D63),\"\",'Control Sheet'!D63)","v":""},{"$f":"IF(ISBLANK('Control Sheet'!E63),\"\",'Control Sheet'!E63&\" (\"&'Control Sheet'!F63&\")\")","v":""},"","","","","","","","","","","","","",null,"","","","","","","","","","","","","","","","","","","","","","","","","","","","","","","","","","","","","","","","","","",{"$f":"IF(A83=\"\",\"\",MAX(IF(ISERROR(AU83:BF83),0,AU83:BF83)))","v":""},"","","","","","","","","","","","","","","","","","","","","","","","","","","","","","","","","","","","","","","","","","","","",""]
[{"$f":"IF(ISBLANK('Control Sheet'!D64),\"\",'Control Sheet'!D64)","v":""},{"$f":"IF(ISBLANK('Control Sheet'!E64),\"\",'Control Sheet'!E64&\" (\"&'Control Sheet'!F64&\")\")","v":""},"","","","","","","","","","","","","",null,"","","","","","","","","","","","","","","","","","","","","","","","","","","","","","","","","","","","","","","","","","",{"$f":"IF(A84=\"\",\"\",MAX(IF(ISERROR(AU84:BF84),0,AU84:BF84)))","v":""},"","","","","","","","","","","","","","","","","","","","","","","","","","","","","","","","","","","","","","","","","","","","",""]
[{"$f":"IF(ISBLANK('Control Sheet'!D65),\"\",'Control Sheet'!D65)","v":""},{"$f":"IF(ISBLANK('Control Sheet'!E65),\"\",'Control Sheet'!E65&\" (\"&'Control Sheet'!F65&\")\")","v":""},"","","","","","","","","","","","",{"$f":"IF(A85=\"\",\"\",SUM(C85:N85))","v":""},null,"",{"$f":"IF(A85=\"\",\"\",MURMonthsPop-(COUNTA(C85:N85)-COUNTBLANK(C85:N85)))","v":""},{"$f":"IF(C85=\"\",\"\",IF(C85<=C$10,MURmLOScore,IF(C85<=C$7,MURmBAScore,IF(C85<=C$8,MURmLQRScore,IF(C85<=C$9,MURmUQRScore,IF(C85<=C$11,MURmAAScore,MURmUOScore+C85-C$11))))))","v":""},{"$f":"IF(D85=\"\",\"\",IF(D85<=D$10,MURmLOScore,IF(D85<=D$7,MURmBAScore,IF(D85<=D$8,MURmLQRScore,IF(D85<=D$9,MURmUQRScore,IF(D85<=D$11,MURmAAScore,MURmUOScore+D85-D$11))))))","v":""},{"$f":"IF(E85=\"\",\"\",IF(E85<=E$10,MURmLOScore,IF(E85<=E$7,MURmBAScore,IF(E85<=E$8,MURmLQRScore,IF(E85<=E$9,MURmUQRScore,IF(E85<=E$11,MURmAAScore,MURmUOScore+E85-E$11))))))","v":""},{"$f":"IF(F85=\"\",\"\",IF(F85<=F$10,MURmLOScore,IF(F85<=F$7,MURmBAScore,IF(F85<=F$8,MURmLQRScore,IF(F85<=F$9,MURmUQRScore,IF(F85<=F$11,MURmAAScore,MURmUOScore+F85-F$11))))))","v":""},{"$f":"IF(G85=\"\",\"\",IF(G85<=G$10,MURmLOScore,IF(G85<=G$7,MURmBAScore,IF(G85<=G$8,MURmLQRScore,IF(G85<=G$9,MURmUQRScore,IF(G85<=G$11,MURmAAScore,MURmUOScore+G85-G$11))))))","v":""},{"$f":"IF(H85=\"\",\"\",IF(H85<=H$10,MURmLOScore,IF(H85<=H$7,MURmBAScore,IF(H85<=H$8,MURmLQRScore,IF(H85<=H$9,MURmUQRScore,IF(H85<=H$11,MURmAAScore,MURmUOScore+H85-H$11))))))","v":""},{"$f":"IF(I85=\"\",\"\",IF(I85<=I$10,MURmLOScore,IF(I85<=I$7,MURmBAScore,IF(I85<=I$8,MURmLQRScore,IF(I85<=I$9,MURmUQRScore,IF(I85<=I$11,MURmAAScore,MURmUOScore+I85-I$11))))))","v":""},{"$f":"IF(J85=\"\",\"\",IF(J85<=J$10,MURmLOScore,IF(J85<=J$7,MURmBAScore,IF(J85<=J$8,MURmLQRScore,IF(J85<=J$9,MURmUQRScore,IF(J85<=J$11,MURmAAScore,MURmUOScore+J85-J$11))))))","v":""},{"$f":"IF(K85=\"\",\"\",IF(K85<=K$10,MURmLOScore,IF(K85<=K$7,MURmBAScore,IF(K85<=K$8,MURmLQRScore,IF(K85<=K$9,MURmUQRScore,IF(K85<=K$11,MURmAAScore,MURmUOScore+K85-K$11))))))","v":""},{"$f":"IF(L85=\"\",\"\",IF(L85<=L$10,MURmLOScore,IF(L85<=L$7,MURmBAScore,IF(L85<=L$8,MURmLQRScore,IF(L85<=L$9,MURmUQRScore,IF(L85<=L$11,MURmAAScore,MURmUOScore+L85-L$11))))))","v":""},{"$f":"IF(M85=\"\",\"\",IF(M85<=M$10,MURmLOScore,IF(M85<=M$7,MURmBAScore,IF(M85<=M$8,MURmLQRScore,IF(M85<=M$9,MURmUQRScore,IF(M85<=M$11,MURmAAScore,MURmUOScore+M85-M$11))))))","v":""},{"$f":"IF(N85=\"\",\"\",IF(N85<=N$10,MURmLOScore,IF(N85<=N$7,MURmBAScore,IF(N85<=N$8,MURmLQRScore,IF(N85<=N$9,MURmUQRScore,IF(N85<=N$11,MURmAAScore,MURmUOScore+N85-N$11))))))","v":""},{"$f":"IF(A85=\"\",\"\",SUM(S85:AD85))","v":""},{"$f":"IF(OR(A85=\"\",AE85=0),\"\",AE85/(O$18-R85))","v":""},{"$f":"IF(AF85=\"\",\"\",IF(AF85<=MURaLOScore,\"Lower Outlier\",IF(AF85<=MURaBAScore,\"Below Average\",IF(AF85<=MURaLQRScore,\"Lower Quartile\",IF(AF85<=MURaUQRScore,\"Upper Quartile\",IF(AF85<=MURaAAScore, \"Above Average\", \"Upper Outlier\"))))))","v":""},"","","","","","","","","","","","",{"$f":"IF(A85=\"\",\"\",MAX(AH85:AS85))","v":""},{"$f":"IF(OR(A85=\"\",MURMonthsPop=0),\"\",IF(AU$18=MURMonthsPop,AH85,#N/A))","v":""},{"$f":"IF(OR($A85=\"\",MURMonthsPop=0),\"\",IF(AV$18<MURMonthsPop,#N/A,IF(AV$18=MURMonthsPop,AI85,IF(AU85=\"\",\"\",IF(AV$18=MURMonthsPop+1,AU85+(AU85*VLOOKUP(MURMonthsPop-$R85,ForecastMult,3,FALSE)/12),AU85+AU85-AT85)))))","v":""},{"$f":"IF(OR($A85=\"\",MURMonthsPop=0),\"\",IF(AW$18<MURMonthsPop,#N/A,IF(AW$18=MURMonthsPop,AJ85,IF(AV85=\"\",\"\",IF(AW$18=MURMonthsPop+1,AV85+(AV85*VLOOKUP(MURMonthsPop-$R85,ForecastMult,3,FALSE)/12),AV85+AV85-AU85)))))","v":""},{"$f":"IF(OR($A85=\"\",MURMonthsPop=0),\"\",IF(AX$18<MURMonthsPop,#N/A,IF(AX$18=MURMonthsPop,AK85,IF(AW85=\"\",\"\",IF(AX$18=MURMonthsPop+1,AW85+(AW85*VLOOKUP(MURMonthsPop-$R85,ForecastMult,3,FALSE)/12),AW85+AW85-AV85)))))","v":""},{"$f":"IF(OR($A85=\"\",MURMonthsPop=0),\"\",IF(AY$18<MURMonthsPop,#N/A,IF(AY$18=MURMonthsPop,AL85,IF(AX85=\"\",\"\",IF(AY$18=MURMonthsPop+1,AX85+(AX85*VLOOKUP(MURMonthsPop-$R85,ForecastMult,3,FALSE)/12),AX85+AX85-AW85)))))","v":""},{"$f":"IF(OR($A85=\"\",MURMonthsPop=0),\"\",IF(AZ$18<MURMonthsPop,#N/A,IF(AZ$18=MURMonthsPop,AM85,IF(AY85=\"\",\"\",IF(AZ$18=MURMonthsPop+1,AY85+(AY85*VLOOKUP(MURMonthsPop-$R85,ForecastMult,3,FALSE)/12),AY85+AY85-AX85)))))","v":""},{"$f":"IF(OR($A85=\"\",MURMonthsPop=0),\"\",IF(BA$18<MURMonthsPop,#N/A,IF(BA$18=MURMonthsPop,AN85,IF(AZ85=\"\",\"\",IF(BA$18=MURMonthsPop+1,AZ85+(AZ85*VLOOKUP(MURMonthsPop-$R85,ForecastMult,3,FALSE)/12),AZ85+AZ85-AY85)))))","v":""},{"$f":"IF(OR($A85=\"\",MURMonthsPop=0),\"\",IF(BB$18<MURMonthsPop,#N/A,IF(BB$18=MURMonthsPop,AO85,IF(BA85=\"\",\"\",IF(BB$18=MURMonthsPop+1,BA85+(BA85*VLOOKUP(MURMonthsPop-$R85,ForecastMult,3,FALSE)/12),BA85+BA85-AZ85)))))","v":""},{"$f":"IF(OR($A85=\"\",MURMonthsPop=0),\"\",IF(BC$18<MURMonthsPop,#N/A,IF(BC$18=MURMonthsPop,AP85,IF(BB85=\"\",\"\",IF(BC$18=MURMonthsPop+1,BB85+(BB85*VLOOKUP(MURMonthsPop-$R85,ForecastMult,3,FALSE)/12),BB85+BB85-BA85)))))","v":""},{"$f":"IF(OR($A85=\"\",MURMonthsPop=0),\"\",IF(BD$18<MURMonthsPop,#N/A,IF(BD$18=MURMonthsPop,AQ85,IF(BC85=\"\",\"\",IF(BD$18=MURMonthsPop+1,BC85+(BC85*VLOOKUP(MURMonthsPop-$R85,ForecastMult,3,FALSE)/12),BC85+BC85-BB85)))))","v":""},{"$f":"IF(OR($A85=\"\",MURMonthsPop=0),\"\",IF(BE$18<MURMonthsPop,#N/A,IF(BE$18=MURMonthsPop,AR85,IF(BD85=\"\",\"\",IF(BE$18=MURMonthsPop+1,BD85+(BD85*VLOOKUP(MURMonthsPop-$R85,ForecastMult,3,FALSE)/12),BD85+BD85-BC85)))))","v":""},{"$f":"IF(OR($A85=\"\",MURMonthsPop=0),\"\",IF(BF$18<MURMonthsPop,#N/A,IF(BF$18=MURMonthsPop,AS85,IF(BE85=\"\",\"\",IF(BF$18=MURMonthsPop+1,BE85+(BE85*VLOOKUP(MURMonthsPop-$R85,ForecastMult,3,FALSE)/12),BE85+BE85-BD85)))))","v":""},{"$f":"IF(A85=\"\",\"\",MAX(IF(ISERROR(AU85:BF85),0,AU85:BF85)))","v":""},{"$f":"IF(AND(C$18=1,$A85<>\"\"),IF(ISNA(VLOOKUP($A85,INDIRECT(C$20),TOT_STDR_PXS_col,FALSE)),\"\",VLOOKUP($A85,INDIRECT(C$20),TOT_STDR_PXS_col,FALSE)+VLOOKUP($A85,INDIRECT(C$20),TOT_ZDR_PXS_col,FALSE)),\"\")","v":""},{"$f":"IF(AND(D$18=1,$A85<>\"\"),IF(ISNA(VLOOKUP($A85,INDIRECT(D$20),TOT_STDR_PXS_col,FALSE)),\"\",VLOOKUP($A85,INDIRECT(D$20),TOT_STDR_PXS_col,FALSE)+VLOOKUP($A85,INDIRECT(D$20),TOT_ZDR_PXS_col,FALSE)),\"\")","v":""},{"$f":"IF(AND(E$18=1,$A85<>\"\"),IF(ISNA(VLOOKUP($A85,INDIRECT(E$20),TOT_STDR_PXS_col,FALSE)),\"\",VLOOKUP($A85,INDIRECT(E$20),TOT_STDR_PXS_col,FALSE)+VLOOKUP($A85,INDIRECT(E$20),TOT_ZDR_PXS_col,FALSE)),\"\")","v":""},{"$f":"IF(AND(F$18=1,$A85<>\"\"),IF(ISNA(VLOOKUP($A85,INDIRECT(F$20),TOT_STDR_PXS_col,FALSE)),\"\",VLOOKUP($A85,INDIRECT(F$20),TOT_STDR_PXS_col,FALSE)+VLOOKUP($A85,INDIRECT(F$20),TOT_ZDR_PXS_col,FALSE)),\"\")","v":""},{"$f":"IF(AND(G$18=1,$A85<>\"\"),IF(ISNA(VLOOKUP($A85,INDIRECT(G$20),TOT_STDR_PXS_col,FALSE)),\"\",VLOOKUP($A85,INDIRECT(G$20),TOT_STDR_PXS_col,FALSE)+VLOOKUP($A85,INDIRECT(G$20),TOT_ZDR_PXS_col,FALSE)),\"\")","v":""},{"$f":"IF(AND(H$18=1,$A85<>\"\"),IF(ISNA(VLOOKUP($A85,INDIRECT(H$20),TOT_STDR_PXS_col,FALSE)),\"\",VLOOKUP($A85,INDIRECT(H$20),TOT_STDR_PXS_col,FALSE)+VLOOKUP($A85,INDIRECT(H$20),TOT_ZDR_PXS_col,FALSE)),\"\")","v":""},{"$f":"IF(AND(I$18=1,$A85<>\"\"),IF(ISNA(VLOOKUP($A85,INDIRECT(I$20),TOT_STDR_PXS_col,FALSE)),\"\",VLOOKUP($A85,INDIRECT(I$20),TOT_STDR_PXS_col,FALSE)+VLOOKUP($A85,INDIRECT(I$20),TOT_ZDR_PXS_col,FALSE)),\"\")","v":""},{"$f":"IF(AND(J$18=1,$A85<>\"\"),IF(ISNA(VLOOKUP($A85,INDIRECT(J$20),TOT_STDR_PXS_col,FALSE)),\"\",VLOOKUP($A85,INDIRECT(J$20),TOT_STDR_PXS_col,FALSE)+VLOOKUP($A85,INDIRECT(J$20),TOT_ZDR_PXS_col,FALSE)),\"\")","v":""},{"$f":"IF(AND(K$18=1,$A85<>\"\"),IF(ISNA(VLOOKUP($A85,INDIRECT(K$20),TOT_STDR_PXS_col,FALSE)),\"\",VLOOKUP($A85,INDIRECT(K$20),TOT_STDR_PXS_col,FALSE)+VLOOKUP($A85,INDIRECT(K$20),TOT_ZDR_PXS_col,FALSE)),\"\")","v":""},{"$f":"IF(AND(L$18=1,$A85<>\"\"),IF(ISNA(VLOOKUP($A85,INDIRECT(L$20),TOT_STDR_PXS_col,FALSE)),\"\",VLOOKUP($A85,INDIRECT(L$20),TOT_STDR_PXS_col,FALSE)+VLOOKUP($A85,INDIRECT(L$20),TOT_ZDR_PXS_col,FALSE)),\"\")","v":""},{"$f":"IF(AND(M$18=1,$A85<>\"\"),IF(ISNA(VLOOKUP($A85,INDIRECT(M$20),TOT_STDR_PXS_col,FALSE)),\"\",VLOOKUP($A85,INDIRECT(M$20),TOT_STDR_PXS_col,FALSE)+VLOOKUP($A85,INDIRECT(M$20),TOT_ZDR_PXS_col,FALSE)),\"\")","v":""},{"$f":"IF(AND(N$18=1,$A85<>\"\"),IF(ISNA(VLOOKUP($A85,INDIRECT(N$20),TOT_STDR_PXS_col,FALSE)),\"\",VLOOKUP($A85,INDIRECT(N$20),TOT_STDR_PXS_col,FALSE)+VLOOKUP($A85,INDIRECT(N$20),TOT_ZDR_PXS_col,FALSE)),\"\")","v":""},{"$f":"IF(A85=\"\",\"\",SUM(BH85:BS85))","v":""},{"$f":"IF(A85=\"\",\"\",MIN(B85:M85))","v":""},{"$f":"IF(A85=\"\",\"\",MAX(B85:M85))","v":""},{"$f":"IF(A85=\"\",\"\",BV85-BU85)","v":""},{"$f":"IF(A85=\"\",\"\",IF(BW85>$BW$11,\"Yes\",\"No\"))","v":""},{"$f":"IF(A85=\"\",\"\",(COUNTA(C85:N85)-COUNTBLANK(C85:N85)))","v":""},{"$f":"IF(A85=\"\",\"\",BY85-COUNTIF(C85:N85,\"=0\"))","v":""},{"$f":"IF(C$18=1,IF(ISNA(VLOOKUP($A85,INDIRECT(C$20),MUR_fee_col,FALSE)),\"\",VLOOKUP($A85,INDIRECT(C$20),MUR_fee_col,FALSE)),\"\")","v":""},{"$f":"IF(D$18=1,IF(ISNA(VLOOKUP($A85,INDIRECT(D$20),MUR_fee_col,FALSE)),\"\",VLOOKUP($A85,INDIRECT(D$20),MUR_fee_col,FALSE)),\"\")","v":""},{"$f":"IF(E$18=1,IF(ISNA(VLOOKUP($A85,INDIRECT(E$20),MUR_fee_col,FALSE)),\"\",VLOOKUP($A85,INDIRECT(E$20),MUR_fee_col,FALSE)),\"\")","v":""},{"$f":"IF(F$18=1,IF(ISNA(VLOOKUP($A85,INDIRECT(F$20),MUR_fee_col,FALSE)),\"\",VLOOKUP($A85,INDIRECT(F$20),MUR_fee_col,FALSE)),\"\")","v":""},{"$f":"IF(G$18=1,IF(ISNA(VLOOKUP($A85,INDIRECT(G$20),MUR_fee_col,FALSE)),\"\",VLOOKUP($A85,INDIRECT(G$20),MUR_fee_col,FALSE)),\"\")","v":""},{"$f":"IF(H$18=1,IF(ISNA(VLOOKUP($A85,INDIRECT(H$20),MUR_fee_col,FALSE)),\"\",VLOOKUP($A85,INDIRECT(H$20),MUR_fee_col,FALSE)),\"\")","v":""},{"$f":"IF(I$18=1,IF(ISNA(VLOOKUP($A85,INDIRECT(I$20),MUR_fee_col,FALSE)),\"\",VLOOKUP($A85,INDIRECT(I$20),MUR_fee_col,FALSE)),\"\")","v":""},{"$f":"IF(J$18=1,IF(ISNA(VLOOKUP($A85,INDIRECT(J$20),MUR_fee_col,FALSE)),\"\",VLOOKUP($A85,INDIRECT(J$20),MUR_fee_col,FALSE)),\"\")","v":""},{"$f":"IF(K$18=1,IF(ISNA(VLOOKUP($A85,INDIRECT(K$20),MUR_fee_col,FALSE)),\"\",VLOOKUP($A85,INDIRECT(K$20),MUR_fee_col,FALSE)),\"\")","v":""},{"$f":"IF(L$18=1,IF(ISNA(VLOOKUP($A85,INDIRECT(L$20),MUR_fee_col,FALSE)),\"\",VLOOKUP($A85,INDIRECT(L$20),MUR_fee_col,FALSE)),\"\")","v":""},{"$f":"IF(M$18=1,IF(ISNA(VLOOKUP($A85,INDIRECT(M$20),MUR_fee_col,FALSE)),\"\",VLOOKUP($A85,INDIRECT(M$20),MUR_fee_col,FALSE)),\"\")","v":""},{"$f":"IF(N$18=1,IF(ISNA(VLOOKUP($A85,INDIRECT(N$20),MUR_fee_col,FALSE)),\"\",VLOOKUP($A85,INDIRECT(N$20),MUR_fee_col,FALSE)),\"\")","v":""},{"$f":"IF(A85=\"\",\"\",SUM(CA85:CL85))","v":""},{"$f":"IF(C$18=1,IF(ISNA(VLOOKUP($A85,INDIRECT(C$20),MUR_Fee_adj_col,FALSE)),\"\",VLOOKUP($A85,INDIRECT(C$20),MUR_Fee_adj_col,FALSE)),\"\")","v":""},{"$f":"IF(D$18=1,IF(ISNA(VLOOKUP($A85,INDIRECT(D$20),MUR_Fee_adj_col,FALSE)),\"\",VLOOKUP($A85,INDIRECT(D$20),MUR_Fee_adj_col,FALSE)),\"\")","v":""},{"$f":"IF(E$18=1,IF(ISNA(VLOOKUP($A85,INDIRECT(E$20),MUR_Fee_adj_col,FALSE)),\"\",VLOOKUP($A85,INDIRECT(E$20),MUR_Fee_adj_col,FALSE)),\"\")","v":""},{"$f":"IF(F$18=1,IF(ISNA(VLOOKUP($A85,INDIRECT(F$20),MUR_Fee_adj_col,FALSE)),\"\",VLOOKUP($A85,INDIRECT(F$20),MUR_Fee_adj_col,FALSE)),\"\")","v":""},{"$f":"IF(G$18=1,IF(ISNA(VLOOKUP($A85,INDIRECT(G$20),MUR_Fee_adj_col,FALSE)),\"\",VLOOKUP($A85,INDIRECT(G$20),MUR_Fee_adj_col,FALSE)),\"\")","v":""},{"$f":"IF(H$18=1,IF(ISNA(VLOOKUP($A85,INDIRECT(H$20),MUR_Fee_adj_col,FALSE)),\"\",VLOOKUP($A85,INDIRECT(H$20),MUR_Fee_adj_col,FALSE)),\"\")","v":""},{"$f":"IF(I$18=1,IF(ISNA(VLOOKUP($A85,INDIRECT(I$20),MUR_Fee_adj_col,FALSE)),\"\",VLOOKUP($A85,INDIRECT(I$20),MUR_Fee_adj_col,FALSE)),\"\")","v":""},{"$f":"IF(J$18=1,IF(ISNA(VLOOKUP($A85,INDIRECT(J$20),MUR_Fee_adj_col,FALSE)),\"\",VLOOKUP($A85,INDIRECT(J$20),MUR_Fee_adj_col,FALSE)),\"\")","v":""},{"$f":"IF(K$18=1,IF(ISNA(VLOOKUP($A85,INDIRECT(K$20),MUR_Fee_adj_col,FALSE)),\"\",VLOOKUP($A85,INDIRECT(K$20),MUR_Fee_adj_col,FALSE)),\"\")","v":""},{"$f":"IF(L$18=1,IF(ISNA(VLOOKUP($A85,INDIRECT(L$20),MUR_Fee_adj_col,FALSE)),\"\",VLOOKUP($A85,INDIRECT(L$20),MUR_Fee_adj_col,FALSE)),\"\")","v":""},{"$f":"IF(M$18=1,IF(ISNA(VLOOKUP($A85,INDIRECT(M$20),MUR_Fee_adj_col,FALSE)),\"\",VLOOKUP($A85,INDIRECT(M$20),MUR_Fee_adj_col,FALSE)),\"\")","v":""},{"$f":"IF(N$18=1,IF(ISNA(VLOOKUP($A85,INDIRECT(N$20),MUR_Fee_adj_col,FALSE)),\"\",VLOOKUP($A85,INDIRECT(N$20),MUR_Fee_adj_col,FALSE)),\"\")","v":""},{"$f":"IF(A85=\"\",\"\",SUM(CN85:CY85))","v":""}]
[{"$f":"IF(ISBLANK('Control Sheet'!D66),\"\",'Control Sheet'!D66)","v":""},{"$f":"IF(ISBLANK('Control Sheet'!E66),\"\",'Control Sheet'!E66&\" (\"&'Control Sheet'!F66&\")\")","v":""},"","","","","","","","","","","","","",null,{"$f":"IF(A86=\"\",\"\",IF(BG86<=400,\"No\",\"Yes\"))","v":""},"","","","","","","","","","","","","","","","",{"$f":"IF(C$18=1,C86,\"\")","v":""},{"$f":"IF(D$18=1,IF(D86=\"\",IF(AH86=\"\",\"\",AH86),IF(AND(D86>=0,AH86=\"\"),D86,IF(ISERROR(D86+AH86),#N/A,D86+AH86))),\"\")","v":""},{"$f":"IF(E$18=1,IF(E86=\"\",IF(AI86=\"\",\"\",AI86),IF(AND(E86>=0,AI86=\"\"),E86,IF(ISERROR(E86+AI86),#N/A,E86+AI86))),\"\")","v":""},{"$f":"IF(F$18=1,IF(F86=\"\",IF(AJ86=\"\",\"\",AJ86),IF(AND(F86>=0,AJ86=\"\"),F86,IF(ISERROR(F86+AJ86),#N/A,F86+AJ86))),\"\")","v":""},{"$f":"IF(G$18=1,IF(G86=\"\",IF(AK86=\"\",\"\",AK86),IF(AND(G86>=0,AK86=\"\"),G86,IF(ISERROR(G86+AK86),#N/A,G86+AK86))),\"\")","v":""},{"$f":"IF(H$18=1,IF(H86=\"\",IF(AL86=\"\",\"\",AL86),IF(AND(H86>=0,AL86=\"\"),H86,IF(ISERROR(H86+AL86),#N/A,H86+AL86))),\"\")","v":""},{"$f":"IF(I$18=1,IF(I86=\"\",IF(AM86=\"\",\"\",AM86),IF(AND(I86>=0,AM86=\"\"),I86,IF(ISERROR(I86+AM86),#N/A,I86+AM86))),\"\")","v":""},{"$f":"IF(J$18=1,IF(J86=\"\",IF(AN86=\"\",\"\",AN86),IF(AND(J86>=0,AN86=\"\"),J86,IF(ISERROR(J86+AN86),#N/A,J86+AN86))),\"\")","v":""},{"$f":"IF(K$18=1,IF(K86=\"\",IF(AO86=\"\",\"\",AO86),IF(AND(K86>=0,AO86=\"\"),K86,IF(ISERROR(K86+AO86),#N/A,K86+AO86))),\"\")","v":""},{"$f":"IF(L$18=1,IF(L86=\"\",IF(AP86=\"\",\"\",AP86),IF(AND(L86>=0,AP86=\"\"),L86,IF(ISERROR(L86+AP86),#N/A,L86+AP86))),\"\")","v":""},{"$f":"IF(M$18=1,IF(M86=\"\",IF(AQ86=\"\",\"\",AQ86),IF(AND(M86>=0,AQ86=\"\"),M86,IF(ISERROR(M86+AQ86),#N/A,M86+AQ86))),\"\")","v":""},{"$f":"IF(N$18=1,IF(N86=\"\",IF(AR86=\"\",\"\",AR86),IF(AND(N86>=0,AR86=\"\"),N86,IF(ISERROR(N86+AR86),#N/A,N86+AR86))),\"\")","v":""},"","","","","","","","","","","","","",{"$f":"IF(A86=\"\",\"\",MAX(IF(ISERROR(AU86:BF86),0,AU86:BF86)))","v":""},"","","","","","","","","","","","","","","","","","","","","","","","","","","","","","","","","","","","","","","","","","","","",""]
[{"$f":"IF(ISBLANK('Control Sheet'!D67),\"\",'Control Sheet'!D67)","v":""},{"$f":"IF(ISBLANK('Control Sheet'!E67),\"\",'Control Sheet'!E67&\" (\"&'Control Sheet'!F67&\")\")","v":""},"","","","","","","","","","","","","",null,"","","","","","","","","","","","","","","","","","","","","","","","","","","","","","","","","","","","","","","","","","",{"$f":"IF(A87=\"\",\"\",MAX(IF(ISERROR(AU87:BF87),0,AU87:BF87)))","v":""},"","","","","","","","","","","","","","","","","","","","","","","","","","","","","","","","","","","","","","","","","","","","",""]
[{"$f":"IF(ISBLANK('Control Sheet'!D68),\"\",'Control Sheet'!D68)","v":""},{"$f":"IF(ISBLANK('Control Sheet'!E68),\"\",'Control Sheet'!E68&\" (\"&'Control Sheet'!F68&\")\")","v":""},"","","","","","","","","","","","","",null,"","","","","","","","","","","","","","","","","","","","","","","","","","","","","","","","","","","","","","","","","","",{"$f":"IF(A88=\"\",\"\",MAX(IF(ISERROR(AU88:BF88),0,AU88:BF88)))","v":""},"","","","","","","","","","","","","","","","","","","","","","","","","","","","","","","","","","","","","","","","","","","","",""]
[{"$f":"IF(ISBLANK('Control Sheet'!D69),\"\",'Control Sheet'!D69)","v":""},{"$f":"IF(ISBLANK('Control Sheet'!E69),\"\",'Control Sheet'!E69&\" (\"&'Control Sheet'!F69&\")\")","v":""},"","","","","","","","","","","","","",null,"","","","","","","","","","","","","","","","","","","","","","","","","","","","","","","","","","","","","","","","","","",{"$f":"IF(A89=\"\",\"\",MAX(IF(ISERROR(AU89:BF89),0,AU89:BF89)))","v":""},"","","","","","","","","","","","","","","","","","","","","","","","","","","","","","","","","","","","","","","","","","","","",""]
[{"$f":"IF(ISBLANK('Control Sheet'!D70),\"\",'Control Sheet'!D70)","v":""},{"$f":"IF(ISBLANK('Control Sheet'!E70),\"\",'Control Sheet'!E70&\" (\"&'Control Sheet'!F70&\")\")","v":""},"","","","","","","","","","","","","",null,"","","","","","","","","","","","","","","","","","","","","","","","","","","","","","","","","","","","","","","","","","",{"$f":"IF(A90=\"\",\"\",MAX(IF(ISERROR(AU90:BF90),0,AU90:BF90)))","v":""},"","","","","","","","","","","","","","","","","","","","","","","","","","","","","","","","","","","","","","","","","","","","",""]
[{"$f":"IF(ISBLANK('Control Sheet'!D71),\"\",'Control Sheet'!D71)","v":""},{"$f":"IF(ISBLANK('Control Sheet'!E71),\"\",'Control Sheet'!E71&\" (\"&'Control Sheet'!F71&\")\")","v":""},{"$f":"IF(C$18=1,IF(ISNA(VLOOKUP($A91,INDIRECT(C$20),MUR_col,FALSE)),\"\",VLOOKUP($A91,INDIRECT(C$20),MUR_col,FALSE)),\"\")","v":""},"","","","","","","","","","","","",null,"","","","","","","","","","","","","","","","","","","","","","","","","","","","","","","","","","","","","","","","","","",{"$f":"IF(A91=\"\",\"\",MAX(IF(ISERROR(AU91:BF91),0,AU91:BF91)))","v":""},"","","","","","","","","","","","","","","","","","","","","","","","","","","","","","","","","","","","","","","","","","","","",""]
[{"$f":"IF(ISBLANK('Control Sheet'!D72),\"\",'Control Sheet'!D72)","v":""},{"$f":"IF(ISBLANK('Control Sheet'!E72),\"\",'Control Sheet'!E72&\" (\"&'Control Sheet'!F72&\")\")","v":""},"","","","","","","","","","","","","",null,"","","","","","","","","","","","","","","","","","","","","","","","","","","","","","","","","","","","","","","","","","",{"$f":"IF(A92=\"\",\"\",MAX(IF(ISERROR(AU92:BF92),0,AU92:BF92)))","v":""},"","","","","","","","","","","","","","","","","","","","","","","","","","","","","","","","","","","","","","","","","","","","",""]
[{"$f":"IF(ISBLANK('Control Sheet'!D73),\"\",'Control Sheet'!D73)","v":""},{"$f":"IF(ISBLANK('Control Sheet'!E73),\"\",'Control Sheet'!E73&\" (\"&'Control Sheet'!F73&\")\")","v":""},"","","","","","","","","","","","","",null,"","","","","","","","","","","","","","","","","","","","","","","","","","","","","","","","","","","","","","","","","","",{"$f":"IF(A93=\"\",\"\",MAX(IF(ISERROR(AU93:BF93),0,AU93:BF93)))","v":""},"","","","","","","","","","","","","","","","","","","","","","","","","","","","","","","","","","","","","","","","","","","","",""]
[{"$f":"IF(ISBLANK('Control Sheet'!D74),\"\",'Control Sheet'!D74)","v":""},{"$f":"IF(ISBLANK('Control Sheet'!E74),\"\",'Control Sheet'!E74&\" (\"&'Control Sheet'!F74&\")\")","v":""},"","","","","","","","","","","","","",null,"","","","","","","","","","","","","","","","","","","","","","","","","","","","","","","","","","","","","","","","","","",{"$f":"IF(A94=\"\",\"\",MAX(IF(ISERROR(AU94:BF94),0,AU94:BF94)))","v":""},"","","","","","","","","","","","","","","","","","","","","","","","","","","","","","","","","","","","","","","","","","","","",""]
[{"$f":"IF(ISBLANK('Control Sheet'!D75),\"\",'Control Sheet'!D75)","v":""},{"$f":"IF(ISBLANK('Control Sheet'!E75),\"\",'Control Sheet'!E75&\" (\"&'Control Sheet'!F75&\")\")","v":""},"","","","","","","","","","","","","",null,"","","","","","","","","","","","","","","","","","","","","","","","","","","","","","","","","","","","","","","","","","",{"$f":"IF(A95=\"\",\"\",MAX(IF(ISERROR(AU95:BF95),0,AU95:BF95)))","v":""},"","","","","","","","","","","","","","","","","","","","","","","","","","","","","","","","","","","","","","","","","","","","",""]
[{"$f":"IF(ISBLANK('Control Sheet'!D76),\"\",'Control Sheet'!D76)","v":""},{"$f":"IF(ISBLANK('Control Sheet'!E76),\"\",'Control Sheet'!E76&\" (\"&'Control Sheet'!F76&\")\")","v":""},"","","","","","","","","","","","","",null,"","","","","","","","","","","","","","","","","","","","","","","","","","","","","","","","","","","","","","","","","","",{"$f":"IF(A96=\"\",\"\",MAX(IF(ISERROR(AU96:BF96),0,AU96:BF96)))","v":""},"","","","","","","","","","","","","","","","","","","","","","","","","","","","","","","","","","","","","","","","","","","","",""]
[{"$f":"IF(ISBLANK('Control Sheet'!D77),\"\",'Control Sheet'!D77)","v":""},{"$f":"IF(ISBLANK('Control Sheet'!E77),\"\",'Control Sheet'!E77&\" (\"&'Control Sheet'!F77&\")\")","v":""},"","","","","","","","","","","","","",null,"","","","","","","","","","","","","","","","","","","","","","","","","","","","","","","","","","","","","","","","","","",{"$f":"IF(A97=\"\",\"\",MAX(IF(ISERROR(AU97:BF97),0,AU97:BF97)))","v":""},"","","","","","","","","","","","","","","","","","","","","","","","","","","","","","","","","","","","","","","","","","","","",""]
[{"$f":"IF(ISBLANK('Control Sheet'!D78),\"\",'Control Sheet'!D78)","v":""},{"$f":"IF(ISBLANK('Control Sheet'!E78),\"\",'Control Sheet'!E78&\" (\"&'Control Sheet'!F78&\")\")","v":""},"","","","","","","","","","","","","",null,"","","","","","","","","","","","","","","","","","","","","","","","","","","","","","","","","","","","","","","","","","",{"$f":"IF(A98=\"\",\"\",MAX(IF(ISERROR(AU98:BF98),0,AU98:BF98)))","v":""},"","","","","","","","","","","","","","","","","","","","","","","","","","","","","","","","","","","","","","","","","","","","",""]
[{"$f":"IF(ISBLANK('Control Sheet'!D79),\"\",'Control Sheet'!D79)","v":""},{"$f":"IF(ISBLANK('Control Sheet'!E79),\"\",'Control Sheet'!E79&\" (\"&'Control Sheet'!F79&\")\")","v":""},"","","","","","","","","","","","","",null,"","","","","","","","","","","","","","","","","","","","","","","","","","","","","","","","","","","","","","","","","","",{"$f":"IF(A99=\"\",\"\",MAX(IF(ISERROR(AU99:BF99),0,AU99:BF99)))","v":""},"","","","","","","","","","","","","","","","","","","","","","","","","","","","","","","","","","","","","","","","","","","","",""]
[{"$f":"IF(ISBLANK('Control Sheet'!D80),\"\",'Control Sheet'!D80)","v":""},{"$f":"IF(ISBLANK('Control Sheet'!E80),\"\",'Control Sheet'!E80&\" (\"&'Control Sheet'!F80&\")\")","v":""},"","","","","","","","","","","","","",null,"","","","","","","","","","","","","","","","","","","","","","","","","","","","","","","","","","","","","","","","","","",{"$f":"IF(A100=\"\",\"\",MAX(IF(ISERROR(AU100:BF100),0,AU100:BF100)))","v":""},"","","","","","","","","","","","","","","","","","","","","","","","","","","","","","","","","","","","","","","","","","","","",""]
[{"$f":"IF(ISBLANK('Control Sheet'!D81),\"\",'Control Sheet'!D81)","v":""},{"$f":"IF(ISBLANK('Control Sheet'!E81),\"\",'Control Sheet'!E81&\" (\"&'Control Sheet'!F81&\")\")","v":""},{"$f":"IF(C$18=1,IF(ISNA(VLOOKUP($A101,INDIRECT(C$20),MUR_col,FALSE)),\"\",VLOOKUP($A101,INDIRECT(C$20),MUR_col,FALSE)),\"\")","v":""},"","","","","","","","","","","","",null,"","","","","","","","","","","","","","","","","","","","","","","","","","","","","","","","","","","","","","","","","","",{"$f":"IF(A101=\"\",\"\",MAX(IF(ISERROR(AU101:BF101),0,AU101:BF101)))","v":""},"","","","","","","","","","","","","","","","","","","","","","","","","","","","","","","","","","","","","","","","","","","","",""]
[{"$f":"IF(ISBLANK('Control Sheet'!D82),\"\",'Control Sheet'!D82)","v":""},{"$f":"IF(ISBLANK('Control Sheet'!E82),\"\",'Control Sheet'!E82&\" (\"&'Control Sheet'!F82&\")\")","v":""},"","","","","","","","","","","","","",null,"","","","","","","","","","","","","","","","","","","","","","","","","","","","","","","","","","","","","","","","","","",{"$f":"IF(A102=\"\",\"\",MAX(IF(ISERROR(AU102:BF102),0,AU102:BF102)))","v":""},"","","","","","","","","","","","","","","","","","","","","","","","","","","","","","","","","","","","","","","","","","","","",""]
[{"$f":"IF(ISBLANK('Control Sheet'!D83),\"\",'Control Sheet'!D83)","v":""},{"$f":"IF(ISBLANK('Control Sheet'!E83),\"\",'Control Sheet'!E83&\" (\"&'Control Sheet'!F83&\")\")","v":""},"","","","","","","","","","","","","",null,"","","","","","","","","","","","","","","","","","","","","","","","","","","","","","","","","","","","","","","","","","",{"$f":"IF(A103=\"\",\"\",MAX(IF(ISERROR(AU103:BF103),0,AU103:BF103)))","v":""},"","","","","","","","","","","","","","","","","","","","","","","","","","","","","","","","","","","","","","","","","","","","",""]
[{"$f":"IF(ISBLANK('Control Sheet'!D84),\"\",'Control Sheet'!D84)","v":""},{"$f":"IF(ISBLANK('Control Sheet'!E84),\"\",'Control Sheet'!E84&\" (\"&'Control Sheet'!F84&\")\")","v":""},"","","","","","","","","","","","","",null,"","","","","","","","","","","","","","","","","","","","","","","","","","","","","","","","","","","","","","","","","","",{"$f":"IF(A104=\"\",\"\",MAX(IF(ISERROR(AU104:BF104),0,AU104:BF104)))","v":""},"","","","","","","","","","","","","","","","","","","","","","","","","","","","","","","","","","","","","","","","","","","","",""]
[{"$f":"IF(ISBLANK('Control Sheet'!D85),\"\",'Control Sheet'!D85)","v":""},{"$f":"IF(ISBLANK('Control Sheet'!E85),\"\",'Control Sheet'!E85&\" (\"&'Control Sheet'!F85&\")\")","v":""},"","","","","","","","","","","","","",null,"","","","","","","","","","","","","","","","","","","","","","","","","","","","","","","","","","","","","","","","","","",{"$f":"IF(A105=\"\",\"\",MAX(IF(ISERROR(AU105:BF105),0,AU105:BF105)))","v":""},"","","","","","","","","","","","","","","","","","","","","","","","","","","","","","","","","","","","","","","","","","","","",""]
[{"$f":"IF(ISBLANK('Control Sheet'!D86),\"\",'Control Sheet'!D86)","v":""},{"$f":"IF(ISBLANK('Control Sheet'!E86),\"\",'Control Sheet'!E86&\" (\"&'Control Sheet'!F86&\")\")","v":""},"","","","","","","","","","","","","",null,"","","","","","","","","","","","","","","","","","","","","","","","","","","","","","","","","","","","","","","","","","",{"$f":"IF(A106=\"\",\"\",MAX(IF(ISERROR(AU106:BF106),0,AU106:BF106)))","v":""},"","","","","","","","","","","","","","","","","","","","","","","","","","","","","","","","","","","","","","","","","","","","",""]
[{"$f":"IF(ISBLANK('Control Sheet'!D87),\"\",'Control Sheet'!D87)","v":""},{"$f":"IF(ISBLANK('Control Sheet'!E87),\"\",'Control Sheet'!E87&\" (\"&'Control Sheet'!F87&\")\")","v":""},"","","","","","","","","","","","","",null,"","","","","","","","","","","","","","","","","","","","","","","","","","","","","","","","","","","","","","","","","","",{"$f":"IF(A107=\"\",\"\",MAX(IF(ISERROR(AU107:BF107),0,AU107:BF107)))","v":""},"","","","","","","","","","","","","","","","","","","","","","","","","","","","","","","","","","","","","","","","","","","","",""]
[{"$f":"IF(ISBLANK('Control Sheet'!D88),\"\",'Control Sheet'!D88)","v":""},{"$f":"IF(ISBLANK('Control Sheet'!E88),\"\",'Control Sheet'!E88&\" (\"&'Control Sheet'!F88&\")\")","v":""},"","","","","","","","","","","","","",null,"","","","","","","","","","","","","","","","","","","","","","","","","","","","","","","","","","","","","","","","","","",{"$f":"IF(A108=\"\",\"\",MAX(IF(ISERROR(AU108:BF108),0,AU108:BF108)))","v":""},"","","","","","","","","","","","","","","","","","","","","","","","","","","","","","","","","","","","","","","","","","","","",""]
[{"$f":"IF(ISBLANK('Control Sheet'!D89),\"\",'Control Sheet'!D89)","v":""},{"$f":"IF(ISBLANK('Control Sheet'!E89),\"\",'Control Sheet'!E89&\" (\"&'Control Sheet'!F89&\")\")","v":""},"","","","","","","","","","","","","",null,"","","","","","","","","","","","","","","","","","","","","","","","","","","","","","","","","","","","","","","","","","",{"$f":"IF(A109=\"\",\"\",MAX(IF(ISERROR(AU109:BF109),0,AU109:BF109)))","v":""},"","","","","","","","","","","","","","","","","","","","","","","","","","","","","","","","","","","","","","","","","","","","",""]
[{"$f":"IF(ISBLANK('Control Sheet'!D90),\"\",'Control Sheet'!D90)","v":""},{"$f":"IF(ISBLANK('Control Sheet'!E90),\"\",'Control Sheet'!E90&\" (\"&'Control Sheet'!F90&\")\")","v":""},"","","","","","","","","","","","","",null,"","","","","","","","","","","","","","","","","","","","","","","","","","","","","","","","","","","","","","","","","","",{"$f":"IF(A110=\"\",\"\",MAX(IF(ISERROR(AU110:BF110),0,AU110:BF110)))","v":""},"","","","","","","","","","","","","","","","","","","","","","","","","","","","","","","","","","","","","","","","","","","","",""]
[{"$f":"IF(ISBLANK('Control Sheet'!D91),\"\",'Control Sheet'!D91)","v":""},{"$f":"IF(ISBLANK('Control Sheet'!E91),\"\",'Control Sheet'!E91&\" (\"&'Control Sheet'!F91&\")\")","v":""},{"$f":"IF(C$18=1,IF(ISNA(VLOOKUP($A111,INDIRECT(C$20),MUR_col,FALSE)),\"\",VLOOKUP($A111,INDIRECT(C$20),MUR_col,FALSE)),\"\")","v":""},"","","","","","","","","","","","",null,"","","","","","","","","","","","","","","","","","","","","","","","","","","","","","","","","","","","","","","","","","",{"$f":"IF(A111=\"\",\"\",MAX(IF(ISERROR(AU111:BF111),0,AU111:BF111)))","v":""},"","","","","","","","","","","","","","","","","","","","","","","","","","","","","","","","","","","","","","","","","","","","",""]
[{"$f":"IF(ISBLANK('Control Sheet'!D92),\"\",'Control Sheet'!D92)","v":""},{"$f":"IF(ISBLANK('Control Sheet'!E92),\"\",'Control Sheet'!E92&\" (\"&'Control Sheet'!F92&\")\")","v":""},"","","","","","","","","","","","","",null,"","","","","","","","","","","","","","","","","","","","","","","","","","","","","","","","","","","","","","","","","","",{"$f":"IF(A112=\"\",\"\",MAX(IF(ISERROR(AU112:BF112),0,AU112:BF112)))","v":""},"","","","","","","","","","","","","","","","","","","","","","","","","","","","","","","","","","","","","","","","","","","","",""]
[{"$f":"IF(ISBLANK('Control Sheet'!D93),\"\",'Control Sheet'!D93)","v":""},{"$f":"IF(ISBLANK('Control Sheet'!E93),\"\",'Control Sheet'!E93&\" (\"&'Control Sheet'!F93&\")\")","v":""},"","","","","","","","","","","","","",null,"","","","","","","","","","","","","","","","","","","","","","","","","","","","","","","","","","","","","","","","","","",{"$f":"IF(A113=\"\",\"\",MAX(IF(ISERROR(AU113:BF113),0,AU113:BF113)))","v":""},"","","","","","","","","","","","","","","","","","","","","","","","","","","","","","","","","","","","","","","","","","","","",""]
[{"$f":"IF(ISBLANK('Control Sheet'!D94),\"\",'Control Sheet'!D94)","v":""},{"$f":"IF(ISBLANK('Control Sheet'!E94),\"\",'Control Sheet'!E94&\" (\"&'Control Sheet'!F94&\")\")","v":""},"","","","","","","","","","","","","",null,"","","","","","","","","","","","","","","","","","","","","","","","","","","","","","","","","","","","","","","","","","",{"$f":"IF(A114=\"\",\"\",MAX(IF(ISERROR(AU114:BF114),0,AU114:BF114)))","v":""},"","","","","","","","","","","","","","","","","","","","","","","","","","","","","","","","","","","","","","","","","","","","",""]
[{"$f":"IF(ISBLANK('Control Sheet'!D95),\"\",'Control Sheet'!D95)","v":""},{"$f":"IF(ISBLANK('Control Sheet'!E95),\"\",'Control Sheet'!E95&\" (\"&'Control Sheet'!F95&\")\")","v":""},"","","","","","","","","","","","","",null,"","","","","","","","","","","","","","","","","","","","","","","","","","","","","","","","","","","","","","","","","","",{"$f":"IF(A115=\"\",\"\",MAX(IF(ISERROR(AU115:BF115),0,AU115:BF115)))","v":""},"","","","","","","","","","","","","","","","","","","","","","","","","","","","","","","","","","","","","","","","","","","","",""]
[{"$f":"IF(ISBLANK('Control Sheet'!D96),\"\",'Control Sheet'!D96)","v":""},{"$f":"IF(ISBLANK('Control Sheet'!E96),\"\",'Control Sheet'!E96&\" (\"&'Control Sheet'!F96&\")\")","v":""},"","","","","","","","","","","","","",null,"","","","","","","","","","","","","","","","","","","","","","","","","","","","","","","","","","","","","","","","","","",{"$f":"IF(A116=\"\",\"\",MAX(IF(ISERROR(AU116:BF116),0,AU116:BF116)))","v":""},"","","","","","","","","","","","","","","","","","","","","","","","","","","","","","","","","","","","","","","","","","","","",""]
[{"$f":"IF(ISBLANK('Control Sheet'!D97),\"\",'Control Sheet'!D97)","v":""},{"$f":"IF(ISBLANK('Control Sheet'!E97),\"\",'Control Sheet'!E97&\" (\"&'Control Sheet'!F97&\")\")","v":""},"","","","","","","","","","","","","",null,"","","","","","","","","","","","","","","","","","","","","","","","","","","","","","","","","","","","","","","","","","",{"$f":"IF(A117=\"\",\"\",MAX(IF(ISERROR(AU117:BF117),0,AU117:BF117)))","v":""},"","","","","","","","","","","","","","","","","","","","","","","","","","","","","","","","","","","","","","","","","","","","",""]
[{"$f":"IF(ISBLANK('Control Sheet'!D98),\"\",'Control Sheet'!D98)","v":""},{"$f":"IF(ISBLANK('Control Sheet'!E98),\"\",'Control Sheet'!E98&\" (\"&'Control Sheet'!F98&\")\")","v":""},"","","","","","","","","","","","","",null,"","","","","","","","","","","","","","","","","","","","","","","","","","","","","","","","","","","","","","","","","","",{"$f":"IF(A118=\"\",\"\",MAX(IF(ISERROR(AU118:BF118),0,AU118:BF118)))","v":""},"","","","","","","","","","","","","","","","","","","","","","","","","","","","","","","","","","","","","","","","","","","","",""]
[{"$f":"IF(ISBLANK('Control Sheet'!D99),\"\",'Control Sheet'!D99)","v":""},{"$f":"IF(ISBLANK('Control Sheet'!E99),\"\",'Control Sheet'!E99&\" (\"&'Control Sheet'!F99&\")\")","v":""},"","","","","","","","","","","","","",null,"","","","","","","","","","","","","","","","","","","","","","","","","","","","","","","","","","","","","","","","","","",{"$f":"IF(A119=\"\",\"\",MAX(IF(ISERROR(AU119:BF119),0,AU119:BF119)))","v":""},"","","","","","","","","","","","","","","","","","","","","","","","","","","","","","","","","","","","","","","","","","","","",""]
[{"$f":"IF(ISBLANK('Control Sheet'!D100),\"\",'Control Sheet'!D100)","v":""},{"$f":"IF(ISBLANK('Control Sheet'!E100),\"\",'Control Sheet'!E100&\" (\"&'Control Sheet'!F100&\")\")","v":""},"","","","","","","","","","","","","",null,"","","","","","","","","","","","","","","","","","","","","","","","","","","","","","","","","","","","","","","","","","",{"$f":"IF(A120=\"\",\"\",MAX(IF(ISERROR(AU120:BF120),0,AU120:BF120)))","v":""},"","","","","","","","","","","","","","","","","","","","","","","","","","","","","","","","","","","","","","","","","","","","",""]
[{"$f":"IF(ISBLANK('Control Sheet'!D101),\"\",'Control Sheet'!D101)","v":""},{"$f":"IF(ISBLANK('Control Sheet'!E101),\"\",'Control Sheet'!E101&\" (\"&'Control Sheet'!F101&\")\")","v":""},{"$f":"IF(C$18=1,IF(ISNA(VLOOKUP($A121,INDIRECT(C$20),MUR_col,FALSE)),\"\",VLOOKUP($A121,INDIRECT(C$20),MUR_col,FALSE)),\"\")","v":""},"","","","","","","","","","","","",null,"","","","","","","","","","","","","","","","","","","","","","","","","","","","","","","","","","","","","","","","","","",{"$f":"IF(A121=\"\",\"\",MAX(IF(ISERROR(AU121:BF121),0,AU121:BF121)))","v":""},"","","","","","","","","","","","","","","","","","","","","","","","","","","","","","","","","","","","","","","","","","","","",""]
[{"$f":"IF(ISBLANK('Control Sheet'!D102),\"\",'Control Sheet'!D102)","v":""},{"$f":"IF(ISBLANK('Control Sheet'!E102),\"\",'Control Sheet'!E102&\" (\"&'Control Sheet'!F102&\")\")","v":""},"","","","","","","","","","","","","",null,"","","","","","","","","","","","","","","","","","","","","","","","","","","","","","","","","","","","","","","","","","",{"$f":"IF(A122=\"\",\"\",MAX(IF(ISERROR(AU122:BF122),0,AU122:BF122)))","v":""},"","","","","","","","","","","","","","","","","","","","","","","","","","","","","","","","","","","","","","","","","","","","",""]
[{"$f":"IF(ISBLANK('Control Sheet'!D103),\"\",'Control Sheet'!D103)","v":""},{"$f":"IF(ISBLANK('Control Sheet'!E103),\"\",'Control Sheet'!E103&\" (\"&'Control Sheet'!F103&\")\")","v":""},"","","","","","","","","","","","","",null,"","","","","","","","","","","","","","","","","","","","","","","","","","","","","","","","","","","","","","","","","","",{"$f":"IF(A123=\"\",\"\",MAX(IF(ISERROR(AU123:BF123),0,AU123:BF123)))","v":""},"","","","","","","","","","","","","","","","","","","","","","","","","","","","","","","","","","","","","","","","","","","","",""]
[{"$f":"IF(ISBLANK('Control Sheet'!D104),\"\",'Control Sheet'!D104)","v":""},{"$f":"IF(ISBLANK('Control Sheet'!E104),\"\",'Control Sheet'!E104&\" (\"&'Control Sheet'!F104&\")\")","v":""},"","","","","","","","","","","","","",null,"","","","","","","","","","","","","","","","","","","","","","","","","","","","","","","","","","","","","","","","","","",{"$f":"IF(A124=\"\",\"\",MAX(IF(ISERROR(AU124:BF124),0,AU124:BF124)))","v":""},"","","","","","","","","","","","","","","","","","","","","","","","","","","","","","","","","","","","","","","","","","","","",""]
[{"$f":"IF(ISBLANK('Control Sheet'!D105),\"\",'Control Sheet'!D105)","v":""},{"$f":"IF(ISBLANK('Control Sheet'!E105),\"\",'Control Sheet'!E105&\" (\"&'Control Sheet'!F105&\")\")","v":""},"","","","","","","","","","","","","",null,"","","","","","","","","","","","","","","","","","","","","","","","","","","","","","","","","","","","","","","","","","",{"$f":"IF(A125=\"\",\"\",MAX(IF(ISERROR(AU125:BF125),0,AU125:BF125)))","v":""},"","","","","","","","","","","","","","","","","","","","","","","","","","","","","","","","","","","","","","","","","","","","",""]
[{"$f":"IF(ISBLANK('Control Sheet'!D106),\"\",'Control Sheet'!D106)","v":""},{"$f":"IF(ISBLANK('Control Sheet'!E106),\"\",'Control Sheet'!E106&\" (\"&'Control Sheet'!F106&\")\")","v":""},"","","","","","","","","","","","","",null,"","","","","","","","","","","","","","","","","","","","","","","","","","","","","","","","","","","","","","","","","","",{"$f":"IF(A126=\"\",\"\",MAX(IF(ISERROR(AU126:BF126),0,AU126:BF126)))","v":""},"","","","","","","","","","","","","","","","","","","","","","","","","","","","","","","","","","","","","","","","","","","","",""]
[{"$f":"IF(ISBLANK('Control Sheet'!D107),\"\",'Control Sheet'!D107)","v":""},{"$f":"IF(ISBLANK('Control Sheet'!E107),\"\",'Control Sheet'!E107&\" (\"&'Control Sheet'!F107&\")\")","v":""},"","","","","","","","","","","","","",null,"","","","","","","","","","","","","","","","","","","","","","","","","","","","","","","","","","","","","","","","","","",{"$f":"IF(A127=\"\",\"\",MAX(IF(ISERROR(AU127:BF127),0,AU127:BF127)))","v":""},"","","","","","","","","","","","","","","","","","","","","","","","","","","","","","","","","","","","","","","","","","","","",""]
[{"$f":"IF(ISBLANK('Control Sheet'!D108),\"\",'Control Sheet'!D108)","v":""},{"$f":"IF(ISBLANK('Control Sheet'!E108),\"\",'Control Sheet'!E108&\" (\"&'Control Sheet'!F108&\")\")","v":""},"","","","","","","","","","","","","",null,"","","","","","","","","","","","","","","","","","","","","","","","","","","","","","","","","","","","","","","","","","",{"$f":"IF(A128=\"\",\"\",MAX(IF(ISERROR(AU128:BF128),0,AU128:BF128)))","v":""},"","","","","","","","","","","","","","","","","","","","","","","","","","","","","","","","","","","","","","","","","","","","",""]
[{"$f":"IF(ISBLANK('Control Sheet'!D109),\"\",'Control Sheet'!D109)","v":""},{"$f":"IF(ISBLANK('Control Sheet'!E109),\"\",'Control Sheet'!E109&\" (\"&'Control Sheet'!F109&\")\")","v":""},"","","","","","","","","","","","","",null,"","","","","","","","","","","","","","","","","","","","","","","","","","","","","","","","","","","","","","","","","","",{"$f":"IF(A129=\"\",\"\",MAX(IF(ISERROR(AU129:BF129),0,AU129:BF129)))","v":""},"","","","","","","","","","","","","","","","","","","","","","","","","","","","","","","","","","","","","","","","","","","","",""]
[{"$f":"IF(ISBLANK('Control Sheet'!D110),\"\",'Control Sheet'!D110)","v":""},{"$f":"IF(ISBLANK('Control Sheet'!E110),\"\",'Control Sheet'!E110&\" (\"&'Control Sheet'!F110&\")\")","v":""},"","","","","","","","","","","","","",null,"","","","","","","","","","","","","","","","","","","","","","","","","","","","","","","","","","","","","","","","","","",{"$f":"IF(A130=\"\",\"\",MAX(IF(ISERROR(AU130:BF130),0,AU130:BF130)))","v":""},"","","","","","","","","","","","","","","","","","","","","","","","","","","","","","","","","","","","","","","","","","","","",""]
[{"$f":"IF(ISBLANK('Control Sheet'!D111),\"\",'Control Sheet'!D111)","v":""},{"$f":"IF(ISBLANK('Control Sheet'!E111),\"\",'Control Sheet'!E111&\" (\"&'Control Sheet'!F111&\")\")","v":""},{"$f":"IF(C$18=1,IF(ISNA(VLOOKUP($A131,INDIRECT(C$20),MUR_col,FALSE)),\"\",VLOOKUP($A131,INDIRECT(C$20),MUR_col,FALSE)),\"\")","v":""},"","","","","","","","","","","","",null,"","","","","","","","","","","","","","","","","","","","","","","","","","","","","","","","","","","","","","","","","","",{"$f":"IF(A131=\"\",\"\",MAX(IF(ISERROR(AU131:BF131),0,AU131:BF131)))","v":""},"","","","","","","","","","","","","","","","","","","","","","","","","","","","","","","","","","","","","","","","","","","","",""]
[{"$f":"IF(ISBLANK('Control Sheet'!D112),\"\",'Control Sheet'!D112)","v":""},{"$f":"IF(ISBLANK('Control Sheet'!E112),\"\",'Control Sheet'!E112&\" (\"&'Control Sheet'!F112&\")\")","v":""},"","","","","","","","","","","","","",null,"","","","","","","","","","","","","","","","","","","","","","","","","","","","","","","","","","","","","","","","","","",{"$f":"IF(A132=\"\",\"\",MAX(IF(ISERROR(AU132:BF132),0,AU132:BF132)))","v":""},"","","","","","","","","","","","","","","","","","","","","","","","","","","","","","","","","","","","","","","","","","","","",""]
[{"$f":"IF(ISBLANK('Control Sheet'!D113),\"\",'Control Sheet'!D113)","v":""},{"$f":"IF(ISBLANK('Control Sheet'!E113),\"\",'Control Sheet'!E113&\" (\"&'Control Sheet'!F113&\")\")","v":""},"","","","","","","","","","","","","",null,"","","","","","","","","","","","","","","","","","","","","","","","","","","","","","","","","","","","","","","","","","",{"$f":"IF(A133=\"\",\"\",MAX(IF(ISERROR(AU133:BF133),0,AU133:BF133)))","v":""},"","","","","","","","","","","","","","","","","","","","","","","","","","","","","","","","","","","","","","","","","","","","",""]
[{"$f":"IF(ISBLANK('Control Sheet'!D114),\"\",'Control Sheet'!D114)","v":""},{"$f":"IF(ISBLANK('Control Sheet'!E114),\"\",'Control Sheet'!E114&\" (\"&'Control Sheet'!F114&\")\")","v":""},"","","","","","","","","","","","","",null,"","","","","","","","","","","","","","","","","","","","","","","","","","","","","","","","","","","","","","","","","","",{"$f":"IF(A134=\"\",\"\",MAX(IF(ISERROR(AU134:BF134),0,AU134:BF134)))","v":""},"","","","","","","","","","","","","","","","","","","","","","","","","","","","","","","","","","","","","","","","","","","","",""]
[{"$f":"IF(ISBLANK('Control Sheet'!D115),\"\",'Control Sheet'!D115)","v":""},{"$f":"IF(ISBLANK('Control Sheet'!E115),\"\",'Control Sheet'!E115&\" (\"&'Control Sheet'!F115&\")\")","v":""},"","","","","","","","","","","","","",null,"","","","","","","","","","","","","","","","","","","","","","","","","","","","","","","","","","","","","","","","","","",{"$f":"IF(A135=\"\",\"\",MAX(IF(ISERROR(AU135:BF135),0,AU135:BF135)))","v":""},"","","","","","","","","","","","","","","","","","","","","","","","","","","","","","","","","","","","","","","","","","","","",""]
[{"$f":"IF(ISBLANK('Control Sheet'!D116),\"\",'Control Sheet'!D116)","v":""},{"$f":"IF(ISBLANK('Control Sheet'!E116),\"\",'Control Sheet'!E116&\" (\"&'Control Sheet'!F116&\")\")","v":""},"","","","","","","","","","","","","",null,"","","","","","","","","","","","","","","","","","","","","","","","","","","","","","","","","","","","","","","","","","",{"$f":"IF(A136=\"\",\"\",MAX(IF(ISERROR(AU136:BF136),0,AU136:BF136)))","v":""},"","","","","","","","","","","","","","","","","","","","","","","","","","","","","","","","","","","","","","","","","","","","",""]
[{"$f":"IF(ISBLANK('Control Sheet'!D117),\"\",'Control Sheet'!D117)","v":""},{"$f":"IF(ISBLANK('Control Sheet'!E117),\"\",'Control Sheet'!E117&\" (\"&'Control Sheet'!F117&\")\")","v":""},"","","","","","","","","","","","","",null,"","","","","","","","","","","","","","","","","","","","","","","","","","","","","","","","","","","","","","","","","","",{"$f":"IF(A137=\"\",\"\",MAX(IF(ISERROR(AU137:BF137),0,AU137:BF137)))","v":""},"","","","","","","","","","","","","","","","","","","","","","","","","","","","","","","","","","","","","","","","","","","","",""]
[{"$f":"IF(ISBLANK('Control Sheet'!D118),\"\",'Control Sheet'!D118)","v":""},{"$f":"IF(ISBLANK('Control Sheet'!E118),\"\",'Control Sheet'!E118&\" (\"&'Control Sheet'!F118&\")\")","v":""},"","","","","","","","","","","","","",null,"","","","","","","","","","","","","","","","","","","","","","","","","","","","","","","","","","","","","","","","","","",{"$f":"IF(A138=\"\",\"\",MAX(IF(ISERROR(AU138:BF138),0,AU138:BF138)))","v":""},"","","","","","","","","","","","","","","","","","","","","","","","","","","","","","","","","","","","","","","","","","","","",""]
[{"$f":"IF(ISBLANK('Control Sheet'!D119),\"\",'Control Sheet'!D119)","v":""},{"$f":"IF(ISBLANK('Control Sheet'!E119),\"\",'Control Sheet'!E119&\" (\"&'Control Sheet'!F119&\")\")","v":""},"","","","","","","","","","","","","",null,"","","","","","","","","","","","","","","","","","","","","","","","","","","","","","","","","","","","","","","","","","",{"$f":"IF(A139=\"\",\"\",MAX(IF(ISERROR(AU139:BF139),0,AU139:BF139)))","v":""},"","","","","","","","","","","","","","","","","","","","","","","","","","","","","","","","","","","","","","","","","","","","",""]
[{"$f":"IF(ISBLANK('Control Sheet'!D120),\"\",'Control Sheet'!D120)","v":""},{"$f":"IF(ISBLANK('Control Sheet'!E120),\"\",'Control Sheet'!E120&\" (\"&'Control Sheet'!F120&\")\")","v":""},"","","","","","","","","","","","","",null,"","","","","","","","","","","","","","","","","","","","","","","","","","","","","","","","","","","","","","","","","","",{"$f":"IF(A140=\"\",\"\",MAX(IF(ISERROR(AU140:BF140),0,AU140:BF140)))","v":""},"","","","","","","","","","","","","","","","","","","","","","","","","","","","","","","","","","","","","","","","","","","","",""]
[{"$f":"IF(ISBLANK('Control Sheet'!D121),\"\",'Control Sheet'!D121)","v":""},{"$f":"IF(ISBLANK('Control Sheet'!E121),\"\",'Control Sheet'!E121&\" (\"&'Control Sheet'!F121&\")\")","v":""},{"$f":"IF(C$18=1,IF(ISNA(VLOOKUP($A141,INDIRECT(C$20),MUR_col,FALSE)),\"\",VLOOKUP($A141,INDIRECT(C$20),MUR_col,FALSE)),\"\")","v":""},"","","","","","","","","","","","",null,"","","","","","","","","","","","","","","","","","","","","","","","","","","","","","","","","","","","","","","","","","",{"$f":"IF(A141=\"\",\"\",MAX(IF(ISERROR(AU141:BF141),0,AU141:BF141)))","v":""},"","","","","","","","","","","","","","","","","","","","","","","","","","","","","","","","","","","","","","","","","","","","",""]
[{"$f":"IF(ISBLANK('Control Sheet'!D122),\"\",'Control Sheet'!D122)","v":""},{"$f":"IF(ISBLANK('Control Sheet'!E122),\"\",'Control Sheet'!E122&\" (\"&'Control Sheet'!F122&\")\")","v":""},"","","","","","","","","","","","","",null,"","","","","","","","","","","","","","","","","","","","","","","","","","","","","","","","","","","","","","","","","","",{"$f":"IF(A142=\"\",\"\",MAX(IF(ISERROR(AU142:BF142),0,AU142:BF142)))","v":""},"","","","","","","","","","","","","","","","","","","","","","","","","","","","","","","","","","","","","","","","","","","","",""]
[{"$f":"IF(ISBLANK('Control Sheet'!D123),\"\",'Control Sheet'!D123)","v":""},{"$f":"IF(ISBLANK('Control Sheet'!E123),\"\",'Control Sheet'!E123&\" (\"&'Control Sheet'!F123&\")\")","v":""},"","","","","","","","","","","","","",null,"","","","","","","","","","","","","","","","","","","","","","","","","","","","","","","","","","","","","","","","","","",{"$f":"IF(A143=\"\",\"\",MAX(IF(ISERROR(AU143:BF143),0,AU143:BF143)))","v":""},"","","","","","","","","","","","","","","","","","","","","","","","","","","","","","","","","","","","","","","","","","","","",""]
[{"$f":"IF(ISBLANK('Control Sheet'!D124),\"\",'Control Sheet'!D124)","v":""},{"$f":"IF(ISBLANK('Control Sheet'!E124),\"\",'Control Sheet'!E124&\" (\"&'Control Sheet'!F124&\")\")","v":""},"","","","","","","","","","","","","",null,"","","","","","","","","","","","","","","","","","","","","","","","","","","","","","","","","","","","","","","","","","",{"$f":"IF(A144=\"\",\"\",MAX(IF(ISERROR(AU144:BF144),0,AU144:BF144)))","v":""},"","","","","","","","","","","","","","","","","","","","","","","","","","","","","","","","","","","","","","","","","","","","",""]
[{"$f":"IF(ISBLANK('Control Sheet'!D125),\"\",'Control Sheet'!D125)","v":""},{"$f":"IF(ISBLANK('Control Sheet'!E125),\"\",'Control Sheet'!E125&\" (\"&'Control Sheet'!F125&\")\")","v":""},"","","","","","","","","","","","","",null,"","","","","","","","","","","","","","","","","","","","","","","","","","","","","","","","","","","","","","","","","","",{"$f":"IF(A145=\"\",\"\",MAX(IF(ISERROR(AU145:BF145),0,AU145:BF145)))","v":""},"","","","","","","","","","","","","","","","","","","","","","","","","","","","","","","","","","","","","","","","","","","","",""]
[{"$f":"IF(ISBLANK('Control Sheet'!D126),\"\",'Control Sheet'!D126)","v":""},{"$f":"IF(ISBLANK('Control Sheet'!E126),\"\",'Control Sheet'!E126&\" (\"&'Control Sheet'!F126&\")\")","v":""},"","","","","","","","","","","","","",null,"","","","","","","","","","","","","","","","","","","","","","","","","","","","","","","","","","","","","","","","","","",{"$f":"IF(A146=\"\",\"\",MAX(IF(ISERROR(AU146:BF146),0,AU146:BF146)))","v":""},"","","","","","","","","","","","","","","","","","","","","","","","","","","","","","","","","","","","","","","","","","","","",""]
[{"$f":"IF(ISBLANK('Control Sheet'!D127),\"\",'Control Sheet'!D127)","v":""},{"$f":"IF(ISBLANK('Control Sheet'!E127),\"\",'Control Sheet'!E127&\" (\"&'Control Sheet'!F127&\")\")","v":""},"","","","","","","","","","","","","",null,"","","","","","","","","","","","","","","","","","","","","","","","","","","","","","","","","","","","","","","","","","",{"$f":"IF(A147=\"\",\"\",MAX(IF(ISERROR(AU147:BF147),0,AU147:BF147)))","v":""},"","","","","","","","","","","","","","","","","","","","","","","","","","","","","","","","","","","","","","","","","","","","",""]
[{"$f":"IF(ISBLANK('Control Sheet'!D128),\"\",'Control Sheet'!D128)","v":""},{"$f":"IF(ISBLANK('Control Sheet'!E128),\"\",'Control Sheet'!E128&\" (\"&'Control Sheet'!F128&\")\")","v":""},"","","","","","","","","","","","","",null,"","","","","","","","","","","","","","","","","","","","","","","","","","","","","","","","","","","","","","","","","","",{"$f":"IF(A148=\"\",\"\",MAX(IF(ISERROR(AU148:BF148),0,AU148:BF148)))","v":""},"","","","","","","","","","","","","","","","","","","","","","","","","","","","","","","","","","","","","","","","","","","","",""]
[{"$f":"IF(ISBLANK('Control Sheet'!D129),\"\",'Control Sheet'!D129)","v":""},{"$f":"IF(ISBLANK('Control Sheet'!E129),\"\",'Control Sheet'!E129&\" (\"&'Control Sheet'!F129&\")\")","v":""},"","","","","","","","","","","","",{"$f":"IF(A149=\"\",\"\",SUM(C149:N149))","v":""},null,"",{"$f":"IF(A149=\"\",\"\",MURMonthsPop-(COUNTA(C149:N149)-COUNTBLANK(C149:N149)))","v":""},{"$f":"IF(C149=\"\",\"\",IF(C149<=C$10,MURmLOScore,IF(C149<=C$7,MURmBAScore,IF(C149<=C$8,MURmLQRScore,IF(C149<=C$9,MURmUQRScore,IF(C149<=C$11,MURmAAScore,MURmUOScore+C149-C$11))))))","v":""},{"$f":"IF(D149=\"\",\"\",IF(D149<=D$10,MURmLOScore,IF(D149<=D$7,MURmBAScore,IF(D149<=D$8,MURmLQRScore,IF(D149<=D$9,MURmUQRScore,IF(D149<=D$11,MURmAAScore,MURmUOScore+D149-D$11))))))","v":""},{"$f":"IF(E149=\"\",\"\",IF(E149<=E$10,MURmLOScore,IF(E149<=E$7,MURmBAScore,IF(E149<=E$8,MURmLQRScore,IF(E149<=E$9,MURmUQRScore,IF(E149<=E$11,MURmAAScore,MURmUOScore+E149-E$11))))))","v":""},{"$f":"IF(F149=\"\",\"\",IF(F149<=F$10,MURmLOScore,IF(F149<=F$7,MURmBAScore,IF(F149<=F$8,MURmLQRScore,IF(F149<=F$9,MURmUQRScore,IF(F149<=F$11,MURmAAScore,MURmUOScore+F149-F$11))))))","v":""},{"$f":"IF(G149=\"\",\"\",IF(G149<=G$10,MURmLOScore,IF(G149<=G$7,MURmBAScore,IF(G149<=G$8,MURmLQRScore,IF(G149<=G$9,MURmUQRScore,IF(G149<=G$11,MURmAAScore,MURmUOScore+G149-G$11))))))","v":""},{"$f":"IF(H149=\"\",\"\",IF(H149<=H$10,MURmLOScore,IF(H149<=H$7,MURmBAScore,IF(H149<=H$8,MURmLQRScore,IF(H149<=H$9,MURmUQRScore,IF(H149<=H$11,MURmAAScore,MURmUOScore+H149-H$11))))))","v":""},{"$f":"IF(I149=\"\",\"\",IF(I149<=I$10,MURmLOScore,IF(I149<=I$7,MURmBAScore,IF(I149<=I$8,MURmLQRScore,IF(I149<=I$9,MURmUQRScore,IF(I149<=I$11,MURmAAScore,MURmUOScore+I149-I$11))))))","v":""},{"$f":"IF(J149=\"\",\"\",IF(J149<=J$10,MURmLOScore,IF(J149<=J$7,MURmBAScore,IF(J149<=J$8,MURmLQRScore,IF(J149<=J$9,MURmUQRScore,IF(J149<=J$11,MURmAAScore,MURmUOScore+J149-J$11))))))","v":""},{"$f":"IF(K149=\"\",\"\",IF(K149<=K$10,MURmLOScore,IF(K149<=K$7,MURmBAScore,IF(K149<=K$8,MURmLQRScore,IF(K149<=K$9,MURmUQRScore,IF(K149<=K$11,MURmAAScore,MURmUOScore+K149-K$11))))))","v":""},{"$f":"IF(L149=\"\",\"\",IF(L149<=L$10,MURmLOScore,IF(L149<=L$7,MURmBAScore,IF(L149<=L$8,MURmLQRScore,IF(L149<=L$9,MURmUQRScore,IF(L149<=L$11,MURmAAScore,MURmUOScore+L149-L$11))))))","v":""},{"$f":"IF(M149=\"\",\"\",IF(M149<=M$10,MURmLOScore,IF(M149<=M$7,MURmBAScore,IF(M149<=M$8,MURmLQRScore,IF(M149<=M$9,MURmUQRScore,IF(M149<=M$11,MURmAAScore,MURmUOScore+M149-M$11))))))","v":""},{"$f":"IF(N149=\"\",\"\",IF(N149<=N$10,MURmLOScore,IF(N149<=N$7,MURmBAScore,IF(N149<=N$8,MURmLQRScore,IF(N149<=N$9,MURmUQRScore,IF(N149<=N$11,MURmAAScore,MURmUOScore+N149-N$11))))))","v":""},{"$f":"IF(A149=\"\",\"\",SUM(S149:AD149))","v":""},{"$f":"IF(OR(A149=\"\",AE149=0),\"\",AE149/(O$18-R149))","v":""},{"$f":"IF(AF149=\"\",\"\",IF(AF149<=MURaLOScore,\"Lower Outlier\",IF(AF149<=MURaBAScore,\"Below Average\",IF(AF149<=MURaLQRScore,\"Lower Quartile\",IF(AF149<=MURaUQRScore,\"Upper Quartile\",IF(AF149<=MURaAAScore, \"Above Average\", \"Upper Outlier\"))))))","v":""},"","","","","","","","","","","","",{"$f":"IF(A149=\"\",\"\",MAX(AH149:AS149))","v":""},{"$f":"IF(OR(A149=\"\",MURMonthsPop=0),\"\",IF(AU$18=MURMonthsPop,AH149,#N/A))","v":""},{"$f":"IF(OR($A149=\"\",MURMonthsPop=0),\"\",IF(AV$18<MURMonthsPop,#N/A,IF(AV$18=MURMonthsPop,AI149,IF(AU149=\"\",\"\",IF(AV$18=MURMonthsPop+1,AU149+(AU149*VLOOKUP(MURMonthsPop-$R149,ForecastMult,3,FALSE)/12),AU149+AU149-AT149)))))","v":""},{"$f":"IF(OR($A149=\"\",MURMonthsPop=0),\"\",IF(AW$18<MURMonthsPop,#N/A,IF(AW$18=MURMonthsPop,AJ149,IF(AV149=\"\",\"\",IF(AW$18=MURMonthsPop+1,AV149+(AV149*VLOOKUP(MURMonthsPop-$R149,ForecastMult,3,FALSE)/12),AV149+AV149-AU149)))))","v":""},{"$f":"IF(OR($A149=\"\",MURMonthsPop=0),\"\",IF(AX$18<MURMonthsPop,#N/A,IF(AX$18=MURMonthsPop,AK149,IF(AW149=\"\",\"\",IF(AX$18=MURMonthsPop+1,AW149+(AW149*VLOOKUP(MURMonthsPop-$R149,ForecastMult,3,FALSE)/12),AW149+AW149-AV149)))))","v":""},{"$f":"IF(OR($A149=\"\",MURMonthsPop=0),\"\",IF(AY$18<MURMonthsPop,#N/A,IF(AY$18=MURMonthsPop,AL149,IF(AX149=\"\",\"\",IF(AY$18=MURMonthsPop+1,AX149+(AX149*VLOOKUP(MURMonthsPop-$R149,ForecastMult,3,FALSE)/12),AX149+AX149-AW149)))))","v":""},{"$f":"IF(OR($A149=\"\",MURMonthsPop=0),\"\",IF(AZ$18<MURMonthsPop,#N/A,IF(AZ$18=MURMonthsPop,AM149,IF(AY149=\"\",\"\",IF(AZ$18=MURMonthsPop+1,AY149+(AY149*VLOOKUP(MURMonthsPop-$R149,ForecastMult,3,FALSE)/12),AY149+AY149-AX149)))))","v":""},{"$f":"IF(OR($A149=\"\",MURMonthsPop=0),\"\",IF(BA$18<MURMonthsPop,#N/A,IF(BA$18=MURMonthsPop,AN149,IF(AZ149=\"\",\"\",IF(BA$18=MURMonthsPop+1,AZ149+(AZ149*VLOOKUP(MURMonthsPop-$R149,ForecastMult,3,FALSE)/12),AZ149+AZ149-AY149)))))","v":""},{"$f":"IF(OR($A149=\"\",MURMonthsPop=0),\"\",IF(BB$18<MURMonthsPop,#N/A,IF(BB$18=MURMonthsPop,AO149,IF(BA149=\"\",\"\",IF(BB$18=MURMonthsPop+1,BA149+(BA149*VLOOKUP(MURMonthsPop-$R149,ForecastMult,3,FALSE)/12),BA149+BA149-AZ149)))))","v":""},{"$f":"IF(OR($A149=\"\",MURMonthsPop=0),\"\",IF(BC$18<MURMonthsPop,#N/A,IF(BC$18=MURMonthsPop,AP149,IF(BB149=\"\",\"\",IF(BC$18=MURMonthsPop+1,BB149+(BB149*VLOOKUP(MURMonthsPop-$R149,ForecastMult,3,FALSE)/12),BB149+BB149-BA149)))))","v":""},{"$f":"IF(OR($A149=\"\",MURMonthsPop=0),\"\",IF(BD$18<MURMonthsPop,#N/A,IF(BD$18=MURMonthsPop,AQ149,IF(BC149=\"\",\"\",IF(BD$18=MURMonthsPop+1,BC149+(BC149*VLOOKUP(MURMonthsPop-$R149,ForecastMult,3,FALSE)/12),BC149+BC149-BB149)))))","v":""},{"$f":"IF(OR($A149=\"\",MURMonthsPop=0),\"\",IF(BE$18<MURMonthsPop,#N/A,IF(BE$18=MURMonthsPop,AR149,IF(BD149=\"\",\"\",IF(BE$18=MURMonthsPop+1,BD149+(BD149*VLOOKUP(MURMonthsPop-$R149,ForecastMult,3,FALSE)/12),BD149+BD149-BC149)))))","v":""},{"$f":"IF(OR($A149=\"\",MURMonthsPop=0),\"\",IF(BF$18<MURMonthsPop,#N/A,IF(BF$18=MURMonthsPop,AS149,IF(BE149=\"\",\"\",IF(BF$18=MURMonthsPop+1,BE149+(BE149*VLOOKUP(MURMonthsPop-$R149,ForecastMult,3,FALSE)/12),BE149+BE149-BD149)))))","v":""},{"$f":"IF(A149=\"\",\"\",MAX(IF(ISERROR(AU149:BF149),0,AU149:BF149)))","v":""},{"$f":"IF(AND(C$18=1,$A149<>\"\"),IF(ISNA(VLOOKUP($A149,INDIRECT(C$20),TOT_STDR_PXS_col,FALSE)),\"\",VLOOKUP($A149,INDIRECT(C$20),TOT_STDR_PXS_col,FALSE)+VLOOKUP($A149,INDIRECT(C$20),TOT_ZDR_PXS_col,FALSE)),\"\")","v":""},{"$f":"IF(AND(D$18=1,$A149<>\"\"),IF(ISNA(VLOOKUP($A149,INDIRECT(D$20),TOT_STDR_PXS_col,FALSE)),\"\",VLOOKUP($A149,INDIRECT(D$20),TOT_STDR_PXS_col,FALSE)+VLOOKUP($A149,INDIRECT(D$20),TOT_ZDR_PXS_col,FALSE)),\"\")","v":""},{"$f":"IF(AND(E$18=1,$A149<>\"\"),IF(ISNA(VLOOKUP($A149,INDIRECT(E$20),TOT_STDR_PXS_col,FALSE)),\"\",VLOOKUP($A149,INDIRECT(E$20),TOT_STDR_PXS_col,FALSE)+VLOOKUP($A149,INDIRECT(E$20),TOT_ZDR_PXS_col,FALSE)),\"\")","v":""},{"$f":"IF(AND(F$18=1,$A149<>\"\"),IF(ISNA(VLOOKUP($A149,INDIRECT(F$20),TOT_STDR_PXS_col,FALSE)),\"\",VLOOKUP($A149,INDIRECT(F$20),TOT_STDR_PXS_col,FALSE)+VLOOKUP($A149,INDIRECT(F$20),TOT_ZDR_PXS_col,FALSE)),\"\")","v":""},{"$f":"IF(AND(G$18=1,$A149<>\"\"),IF(ISNA(VLOOKUP($A149,INDIRECT(G$20),TOT_STDR_PXS_col,FALSE)),\"\",VLOOKUP($A149,INDIRECT(G$20),TOT_STDR_PXS_col,FALSE)+VLOOKUP($A149,INDIRECT(G$20),TOT_ZDR_PXS_col,FALSE)),\"\")","v":""},{"$f":"IF(AND(H$18=1,$A149<>\"\"),IF(ISNA(VLOOKUP($A149,INDIRECT(H$20),TOT_STDR_PXS_col,FALSE)),\"\",VLOOKUP($A149,INDIRECT(H$20),TOT_STDR_PXS_col,FALSE)+VLOOKUP($A149,INDIRECT(H$20),TOT_ZDR_PXS_col,FALSE)),\"\")","v":""},{"$f":"IF(AND(I$18=1,$A149<>\"\"),IF(ISNA(VLOOKUP($A149,INDIRECT(I$20),TOT_STDR_PXS_col,FALSE)),\"\",VLOOKUP($A149,INDIRECT(I$20),TOT_STDR_PXS_col,FALSE)+VLOOKUP($A149,INDIRECT(I$20),TOT_ZDR_PXS_col,FALSE)),\"\")","v":""},{"$f":"IF(AND(J$18=1,$A149<>\"\"),IF(ISNA(VLOOKUP($A149,INDIRECT(J$20),TOT_STDR_PXS_col,FALSE)),\"\",VLOOKUP($A149,INDIRECT(J$20),TOT_STDR_PXS_col,FALSE)+VLOOKUP($A149,INDIRECT(J$20),TOT_ZDR_PXS_col,FALSE)),\"\")","v":""},{"$f":"IF(AND(K$18=1,$A149<>\"\"),IF(ISNA(VLOOKUP($A149,INDIRECT(K$20),TOT_STDR_PXS_col,FALSE)),\"\",VLOOKUP($A149,INDIRECT(K$20),TOT_STDR_PXS_col,FALSE)+VLOOKUP($A149,INDIRECT(K$20),TOT_ZDR_PXS_col,FALSE)),\"\")","v":""},{"$f":"IF(AND(L$18=1,$A149<>\"\"),IF(ISNA(VLOOKUP($A149,INDIRECT(L$20),TOT_STDR_PXS_col,FALSE)),\"\",VLOOKUP($A149,INDIRECT(L$20),TOT_STDR_PXS_col,FALSE)+VLOOKUP($A149,INDIRECT(L$20),TOT_ZDR_PXS_col,FALSE)),\"\")","v":""},{"$f":"IF(AND(M$18=1,$A149<>\"\"),IF(ISNA(VLOOKUP($A149,INDIRECT(M$20),TOT_STDR_PXS_col,FALSE)),\"\",VLOOKUP($A149,INDIRECT(M$20),TOT_STDR_PXS_col,FALSE)+VLOOKUP($A149,INDIRECT(M$20),TOT_ZDR_PXS_col,FALSE)),\"\")","v":""},{"$f":"IF(AND(N$18=1,$A149<>\"\"),IF(ISNA(VLOOKUP($A149,INDIRECT(N$20),TOT_STDR_PXS_col,FALSE)),\"\",VLOOKUP($A149,INDIRECT(N$20),TOT_STDR_PXS_col,FALSE)+VLOOKUP($A149,INDIRECT(N$20),TOT_ZDR_PXS_col,FALSE)),\"\")","v":""},{"$f":"IF(A149=\"\",\"\",SUM(BH149:BS149))","v":""},{"$f":"IF(A149=\"\",\"\",MIN(B149:M149))","v":""},{"$f":"IF(A149=\"\",\"\",MAX(B149:M149))","v":""},{"$f":"IF(A149=\"\",\"\",BV149-BU149)","v":""},{"$f":"IF(A149=\"\",\"\",IF(BW149>$BW$11,\"Yes\",\"No\"))","v":""},{"$f":"IF(A149=\"\",\"\",(COUNTA(C149:N149)-COUNTBLANK(C149:N149)))","v":""},{"$f":"IF(A149=\"\",\"\",BY149-COUNTIF(C149:N149,\"=0\"))","v":""},{"$f":"IF(C$18=1,IF(ISNA(VLOOKUP($A149,INDIRECT(C$20),MUR_fee_col,FALSE)),\"\",VLOOKUP($A149,INDIRECT(C$20),MUR_fee_col,FALSE)),\"\")","v":""},{"$f":"IF(D$18=1,IF(ISNA(VLOOKUP($A149,INDIRECT(D$20),MUR_fee_col,FALSE)),\"\",VLOOKUP($A149,INDIRECT(D$20),MUR_fee_col,FALSE)),\"\")","v":""},{"$f":"IF(E$18=1,IF(ISNA(VLOOKUP($A149,INDIRECT(E$20),MUR_fee_col,FALSE)),\"\",VLOOKUP($A149,INDIRECT(E$20),MUR_fee_col,FALSE)),\"\")","v":""},{"$f":"IF(F$18=1,IF(ISNA(VLOOKUP($A149,INDIRECT(F$20),MUR_fee_col,FALSE)),\"\",VLOOKUP($A149,INDIRECT(F$20),MUR_fee_col,FALSE)),\"\")","v":""},{"$f":"IF(G$18=1,IF(ISNA(VLOOKUP($A149,INDIRECT(G$20),MUR_fee_col,FALSE)),\"\",VLOOKUP($A149,INDIRECT(G$20),MUR_fee_col,FALSE)),\"\")","v":""},{"$f":"IF(H$18=1,IF(ISNA(VLOOKUP($A149,INDIRECT(H$20),MUR_fee_col,FALSE)),\"\",VLOOKUP($A149,INDIRECT(H$20),MUR_fee_col,FALSE)),\"\")","v":""},{"$f":"IF(I$18=1,IF(ISNA(VLOOKUP($A149,INDIRECT(I$20),MUR_fee_col,FALSE)),\"\",VLOOKUP($A149,INDIRECT(I$20),MUR_fee_col,FALSE)),\"\")","v":""},{"$f":"IF(J$18=1,IF(ISNA(VLOOKUP($A149,INDIRECT(J$20),MUR_fee_col,FALSE)),\"\",VLOOKUP($A149,INDIRECT(J$20),MUR_fee_col,FALSE)),\"\")","v":""},{"$f":"IF(K$18=1,IF(ISNA(VLOOKUP($A149,INDIRECT(K$20),MUR_fee_col,FALSE)),\"\",VLOOKUP($A149,INDIRECT(K$20),MUR_fee_col,FALSE)),\"\")","v":""},{"$f":"IF(L$18=1,IF(ISNA(VLOOKUP($A149,INDIRECT(L$20),MUR_fee_col,FALSE)),\"\",VLOOKUP($A149,INDIRECT(L$20),MUR_fee_col,FALSE)),\"\")","v":""},{"$f":"IF(M$18=1,IF(ISNA(VLOOKUP($A149,INDIRECT(M$20),MUR_fee_col,FALSE)),\"\",VLOOKUP($A149,INDIRECT(M$20),MUR_fee_col,FALSE)),\"\")","v":""},{"$f":"IF(N$18=1,IF(ISNA(VLOOKUP($A149,INDIRECT(N$20),MUR_fee_col,FALSE)),\"\",VLOOKUP($A149,INDIRECT(N$20),MUR_fee_col,FALSE)),\"\")","v":""},{"$f":"IF(A149=\"\",\"\",SUM(CA149:CL149))","v":""},{"$f":"IF(C$18=1,IF(ISNA(VLOOKUP($A149,INDIRECT(C$20),MUR_Fee_adj_col,FALSE)),\"\",VLOOKUP($A149,INDIRECT(C$20),MUR_Fee_adj_col,FALSE)),\"\")","v":""},{"$f":"IF(D$18=1,IF(ISNA(VLOOKUP($A149,INDIRECT(D$20),MUR_Fee_adj_col,FALSE)),\"\",VLOOKUP($A149,INDIRECT(D$20),MUR_Fee_adj_col,FALSE)),\"\")","v":""},{"$f":"IF(E$18=1,IF(ISNA(VLOOKUP($A149,INDIRECT(E$20),MUR_Fee_adj_col,FALSE)),\"\",VLOOKUP($A149,INDIRECT(E$20),MUR_Fee_adj_col,FALSE)),\"\")","v":""},{"$f":"IF(F$18=1,IF(ISNA(VLOOKUP($A149,INDIRECT(F$20),MUR_Fee_adj_col,FALSE)),\"\",VLOOKUP($A149,INDIRECT(F$20),MUR_Fee_adj_col,FALSE)),\"\")","v":""},{"$f":"IF(G$18=1,IF(ISNA(VLOOKUP($A149,INDIRECT(G$20),MUR_Fee_adj_col,FALSE)),\"\",VLOOKUP($A149,INDIRECT(G$20),MUR_Fee_adj_col,FALSE)),\"\")","v":""},{"$f":"IF(H$18=1,IF(ISNA(VLOOKUP($A149,INDIRECT(H$20),MUR_Fee_adj_col,FALSE)),\"\",VLOOKUP($A149,INDIRECT(H$20),MUR_Fee_adj_col,FALSE)),\"\")","v":""},{"$f":"IF(I$18=1,IF(ISNA(VLOOKUP($A149,INDIRECT(I$20),MUR_Fee_adj_col,FALSE)),\"\",VLOOKUP($A149,INDIRECT(I$20),MUR_Fee_adj_col,FALSE)),\"\")","v":""},{"$f":"IF(J$18=1,IF(ISNA(VLOOKUP($A149,INDIRECT(J$20),MUR_Fee_adj_col,FALSE)),\"\",VLOOKUP($A149,INDIRECT(J$20),MUR_Fee_adj_col,FALSE)),\"\")","v":""},{"$f":"IF(K$18=1,IF(ISNA(VLOOKUP($A149,INDIRECT(K$20),MUR_Fee_adj_col,FALSE)),\"\",VLOOKUP($A149,INDIRECT(K$20),MUR_Fee_adj_col,FALSE)),\"\")","v":""},{"$f":"IF(L$18=1,IF(ISNA(VLOOKUP($A149,INDIRECT(L$20),MUR_Fee_adj_col,FALSE)),\"\",VLOOKUP($A149,INDIRECT(L$20),MUR_Fee_adj_col,FALSE)),\"\")","v":""},{"$f":"IF(M$18=1,IF(ISNA(VLOOKUP($A149,INDIRECT(M$20),MUR_Fee_adj_col,FALSE)),\"\",VLOOKUP($A149,INDIRECT(M$20),MUR_Fee_adj_col,FALSE)),\"\")","v":""},{"$f":"IF(N$18=1,IF(ISNA(VLOOKUP($A149,INDIRECT(N$20),MUR_Fee_adj_col,FALSE)),\"\",VLOOKUP($A149,INDIRECT(N$20),MUR_Fee_adj_col,FALSE)),\"\")","v":""},{"$f":"IF(A149=\"\",\"\",SUM(CN149:CY149))","v":""}]
[{"$f":"IF(ISBLANK('Control Sheet'!D130),\"\",'Control Sheet'!D130)","v":""},{"$f":"IF(ISBLANK('Control Sheet'!E130),\"\",'Control Sheet'!E130&\" (\"&'Control Sheet'!F130&\")\")","v":""},"","","","","","","","","","","","","",null,{"$f":"IF(A150=\"\",\"\",IF(BG150<=400,\"No\",\"Yes\"))","v":""},"","","","","","","","","","","","","","","","",{"$f":"IF(C$18=1,C150,\"\")","v":""},{"$f":"IF(D$18=1,IF(D150=\"\",IF(AH150=\"\",\"\",AH150),IF(AND(D150>=0,AH150=\"\"),D150,IF(ISERROR(D150+AH150),#N/A,D150+AH150))),\"\")","v":""},{"$f":"IF(E$18=1,IF(E150=\"\",IF(AI150=\"\",\"\",AI150),IF(AND(E150>=0,AI150=\"\"),E150,IF(ISERROR(E150+AI150),#N/A,E150+AI150))),\"\")","v":""},{"$f":"IF(F$18=1,IF(F150=\"\",IF(AJ150=\"\",\"\",AJ150),IF(AND(F150>=0,AJ150=\"\"),F150,IF(ISERROR(F150+AJ150),#N/A,F150+AJ150))),\"\")","v":""},{"$f":"IF(G$18=1,IF(G150=\"\",IF(AK150=\"\",\"\",AK150),IF(AND(G150>=0,AK150=\"\"),G150,IF(ISERROR(G150+AK150),#N/A,G150+AK150))),\"\")","v":""},{"$f":"IF(H$18=1,IF(H150=\"\",IF(AL150=\"\",\"\",AL150),IF(AND(H150>=0,AL150=\"\"),H150,IF(ISERROR(H150+AL150),#N/A,H150+AL150))),\"\")","v":""},{"$f":"IF(I$18=1,IF(I150=\"\",IF(AM150=\"\",\"\",AM150),IF(AND(I150>=0,AM150=\"\"),I150,IF(ISERROR(I150+AM150),#N/A,I150+AM150))),\"\")","v":""},{"$f":"IF(J$18=1,IF(J150=\"\",IF(AN150=\"\",\"\",AN150),IF(AND(J150>=0,AN150=\"\"),J150,IF(ISERROR(J150+AN150),#N/A,J150+AN150))),\"\")","v":""},{"$f":"IF(K$18=1,IF(K150=\"\",IF(AO150=\"\",\"\",AO150),IF(AND(K150>=0,AO150=\"\"),K150,IF(ISERROR(K150+AO150),#N/A,K150+AO150))),\"\")","v":""},{"$f":"IF(L$18=1,IF(L150=\"\",IF(AP150=\"\",\"\",AP150),IF(AND(L150>=0,AP150=\"\"),L150,IF(ISERROR(L150+AP150),#N/A,L150+AP150))),\"\")","v":""},{"$f":"IF(M$18=1,IF(M150=\"\",IF(AQ150=\"\",\"\",AQ150),IF(AND(M150>=0,AQ150=\"\"),M150,IF(ISERROR(M150+AQ150),#N/A,M150+AQ150))),\"\")","v":""},{"$f":"IF(N$18=1,IF(N150=\"\",IF(AR150=\"\",\"\",AR150),IF(AND(N150>=0,AR150=\"\"),N150,IF(ISERROR(N150+AR150),#N/A,N150+AR150))),\"\")","v":""},"","","","","","","","","","","","","",{"$f":"IF(A150=\"\",\"\",MAX(IF(ISERROR(AU150:BF150),0,AU150:BF150)))","v":""},"","","","","","","","","","","","","","","","","","","","","","","","","","","","","","","","","","","","","","","","","","","","",""]
[{"$f":"IF(ISBLANK('Control Sheet'!D131),\"\",'Control Sheet'!D131)","v":""},{"$f":"IF(ISBLANK('Control Sheet'!E131),\"\",'Control Sheet'!E131&\" (\"&'Control Sheet'!F131&\")\")","v":""},{"$f":"IF(C$18=1,IF(ISNA(VLOOKUP($A151,INDIRECT(C$20),MUR_col,FALSE)),\"\",VLOOKUP($A151,INDIRECT(C$20),MUR_col,FALSE)),\"\")","v":""},"","","","","","","","","","","","",null,"","","","","","","","","","","","","","","","","","","","","","","","","","","","","","","","","","","","","","","","","","",{"$f":"IF(A151=\"\",\"\",MAX(IF(ISERROR(AU151:BF151),0,AU151:BF151)))","v":""},"","","","","","","","","","","","","","","","","","","","","","","","","","","","","","","","","","","","","","","","","","","","",""]
[{"$f":"IF(ISBLANK('Control Sheet'!D132),\"\",'Control Sheet'!D132)","v":""},{"$f":"IF(ISBLANK('Control Sheet'!E132),\"\",'Control Sheet'!E132&\" (\"&'Control Sheet'!F132&\")\")","v":""},"","","","","","","","","","","","","",null,"","","","","","","","","","","","","","","","","","","","","","","","","","","","","","","","","","","","","","","","","","",{"$f":"IF(A152=\"\",\"\",MAX(IF(ISERROR(AU152:BF152),0,AU152:BF152)))","v":""},"","","","","","","","","","","","","","","","","","","","","","","","","","","","","","","","","","","","","","","","","","","","",""]
[{"$f":"IF(ISBLANK('Control Sheet'!D133),\"\",'Control Sheet'!D133)","v":""},{"$f":"IF(ISBLANK('Control Sheet'!E133),\"\",'Control Sheet'!E133&\" (\"&'Control Sheet'!F133&\")\")","v":""},"","","","","","","","","","","","","",null,"","","","","","","","","","","","","","","","","","","","","","","","","","","","","","","","","","","","","","","","","","",{"$f":"IF(A153=\"\",\"\",MAX(IF(ISERROR(AU153:BF153),0,AU153:BF153)))","v":""},"","","","","","","","","","","","","","","","","","","","","","","","","","","","","","","","","","","","","","","","","","","","",""]
[{"$f":"IF(ISBLANK('Control Sheet'!D134),\"\",'Control Sheet'!D134)","v":""},{"$f":"IF(ISBLANK('Control Sheet'!E134),\"\",'Control Sheet'!E134&\" (\"&'Control Sheet'!F134&\")\")","v":""},"","","","","","","","","","","","","",null,"","","","","","","","","","","","","","","","","","","","","","","","","","","","","","","","","","","","","","","","","","",{"$f":"IF(A154=\"\",\"\",MAX(IF(ISERROR(AU154:BF154),0,AU154:BF154)))","v":""},"","","","","","","","","","","","","","","","","","","","","","","","","","","","","","","","","","","","","","","","","","","","",""]
[{"$f":"IF(ISBLANK('Control Sheet'!D135),\"\",'Control Sheet'!D135)","v":""},{"$f":"IF(ISBLANK('Control Sheet'!E135),\"\",'Control Sheet'!E135&\" (\"&'Control Sheet'!F135&\")\")","v":""},"","","","","","","","","","","","","",null,"","","","","","","","","","","","","","","","","","","","","","","","","","","","","","","","","","","","","","","","","","",{"$f":"IF(A155=\"\",\"\",MAX(IF(ISERROR(AU155:BF155),0,AU155:BF155)))","v":""},"","","","","","","","","","","","","","","","","","","","","","","","","","","","","","","","","","","","","","","","","","","","",""]
[{"$f":"IF(ISBLANK('Control Sheet'!D136),\"\",'Control Sheet'!D136)","v":""},{"$f":"IF(ISBLANK('Control Sheet'!E136),\"\",'Control Sheet'!E136&\" (\"&'Control Sheet'!F136&\")\")","v":""},"","","","","","","","","","","","","",null,"","","","","","","","","","","","","","","","","","","","","","","","","","","","","","","","","","","","","","","","","","",{"$f":"IF(A156=\"\",\"\",MAX(IF(ISERROR(AU156:BF156),0,AU156:BF156)))","v":""},"","","","","","","","","","","","","","","","","","","","","","","","","","","","","","","","","","","","","","","","","","","","",""]
[{"$f":"IF(ISBLANK('Control Sheet'!D137),\"\",'Control Sheet'!D137)","v":""},{"$f":"IF(ISBLANK('Control Sheet'!E137),\"\",'Control Sheet'!E137&\" (\"&'Control Sheet'!F137&\")\")","v":""},"","","","","","","","","","","","","",null,"","","","","","","","","","","","","","","","","","","","","","","","","","","","","","","","","","","","","","","","","","",{"$f":"IF(A157=\"\",\"\",MAX(IF(ISERROR(AU157:BF157),0,AU157:BF157)))","v":""},"","","","","","","","","","","","","","","","","","","","","","","","","","","","","","","","","","","","","","","","","","","","",""]
[{"$f":"IF(ISBLANK('Control Sheet'!D138),\"\",'Control Sheet'!D138)","v":""},{"$f":"IF(ISBLANK('Control Sheet'!E138),\"\",'Control Sheet'!E138&\" (\"&'Control Sheet'!F138&\")\")","v":""},"","","","","","","","","","","","","",null,"","","","","","","","","","","","","","","","","","","","","","","","","","","","","","","","","","","","","","","","","","",{"$f":"IF(A158=\"\",\"\",MAX(IF(ISERROR(AU158:BF158),0,AU158:BF158)))","v":""},{"$f":"IF(AND(C$18=1,$A158<>\"\"),IF(ISNA(VLOOKUP($A158,INDIRECT(C$20),TOT_STDR_PXS_col,FALSE)),\"\",VLOOKUP($A158,INDIRECT(C$20),TOT_STDR_PXS_col,FALSE)+VLOOKUP($A158,INDIRECT(C$20),TOT_ZDR_PXS_col,FALSE)),\"\")","v":""},"","","","","","","","","","","","","","","","","","","","","","","","","","","","","","","","","","","","","","","","","","","",""]
[{"$f":"IF(ISBLANK('Control Sheet'!D139),\"\",'Control Sheet'!D139)","v":""},{"$f":"IF(ISBLANK('Control Sheet'!E139),\"\",'Control Sheet'!E139&\" (\"&'Control Sheet'!F139&\")\")","v":""},"","","","","","","","","","","","","",null,"","","","","","","","","","","","","","","","","","","","","","","","","","","","","","","","","","","","","","","","","","",{"$f":"IF(A159=\"\",\"\",MAX(IF(ISERROR(AU159:BF159),0,AU159:BF159)))","v":""},"","","","","","","","","","","","","","","","","","","","","","","","","","","","","","","","","","","","","","","","","","","","",""]
[{"$f":"IF(ISBLANK('Control Sheet'!D140),\"\",'Control Sheet'!D140)","v":""},{"$f":"IF(ISBLANK('Control Sheet'!E140),\"\",'Control Sheet'!E140&\" (\"&'Control Sheet'!F140&\")\")","v":""},"","","","","","","","","","","","","",null,"","","","","","","","","","","","","","","","","","","","","","","","","","","","","","","","","","","","","","","","","","",{"$f":"IF(A160=\"\",\"\",MAX(IF(ISERROR(AU160:BF160),0,AU160:BF160)))","v":""},"","","","","","","","","","","","","","","","","","","","","","","","","","","","","","","","","","","","","","","","","","","","",""]
[{"$f":"IF(ISBLANK('Control Sheet'!D141),\"\",'Control Sheet'!D141)","v":""},{"$f":"IF(ISBLANK('Control Sheet'!E141),\"\",'Control Sheet'!E141&\" (\"&'Control Sheet'!F141&\")\")","v":""},{"$f":"IF(C$18=1,IF(ISNA(VLOOKUP($A161,INDIRECT(C$20),MUR_col,FALSE)),\"\",VLOOKUP($A161,INDIRECT(C$20),MUR_col,FALSE)),\"\")","v":""},"","","","","","","","","","","","",null,"","","","","","","","","","","","","","","","","","","","","","","","","","","","","","","","","","","","","","","","","","",{"$f":"IF(A161=\"\",\"\",MAX(IF(ISERROR(AU161:BF161),0,AU161:BF161)))","v":""},"","","","","","","","","","","","","","","","","","","","","","","","","","","","","","","","","","","","","","","","","","","","",""]
[{"$f":"IF(ISBLANK('Control Sheet'!D142),\"\",'Control Sheet'!D142)","v":""},{"$f":"IF(ISBLANK('Control Sheet'!E142),\"\",'Control Sheet'!E142&\" (\"&'Control Sheet'!F142&\")\")","v":""},"","","","","","","","","","","","","",null,"","","","","","","","","","","","","","","","","","","","","","","","","","","","","","","","","","","","","","","","","","",{"$f":"IF(A162=\"\",\"\",MAX(IF(ISERROR(AU162:BF162),0,AU162:BF162)))","v":""},"","","","","","","","","","","","","","","","","","","","","","","","","","","","","","","","","","","","","","","","","","","","",""]
[{"$f":"IF(ISBLANK('Control Sheet'!D143),\"\",'Control Sheet'!D143)","v":""},{"$f":"IF(ISBLANK('Control Sheet'!E143),\"\",'Control Sheet'!E143&\" (\"&'Control Sheet'!F143&\")\")","v":""},"","","","","","","","","","","","","",null,"","","","","","","","","","","","","","","","","","","","","","","","","","","","","","","","","","","","","","","","","","",{"$f":"IF(A163=\"\",\"\",MAX(IF(ISERROR(AU163:BF163),0,AU163:BF163)))","v":""},"","","","","","","","","","","","","","","","","","","","","","","","","","","","","","","","","","","","","","","","","","","","",""]
[{"$f":"IF(ISBLANK('Control Sheet'!D144),\"\",'Control Sheet'!D144)","v":""},{"$f":"IF(ISBLANK('Control Sheet'!E144),\"\",'Control Sheet'!E144&\" (\"&'Control Sheet'!F144&\")\")","v":""},"","","","","","","","","","","","","",null,"","","","","","","","","","","","","","","","","","","","","","","","","","","","","","","","","","","","","","","","","","",{"$f":"IF(A164=\"\",\"\",MAX(IF(ISERROR(AU164:BF164),0,AU164:BF164)))","v":""},"","","","","","","","","","","","","","","","","","","","","","","","","","","","","","","","","","","","","","","","","","","","",""]
[{"$f":"IF(ISBLANK('Control Sheet'!D145),\"\",'Control Sheet'!D145)","v":""},{"$f":"IF(ISBLANK('Control Sheet'!E145),\"\",'Control Sheet'!E145&\" (\"&'Control Sheet'!F145&\")\")","v":""},"","","","","","","","","","","","","",null,"","","","","","","","","","","","","","","","","","","","","","","","","","","","","","","","","","","","","","","","","","",{"$f":"IF(A165=\"\",\"\",MAX(IF(ISERROR(AU165:BF165),0,AU165:BF165)))","v":""},"","","","","","","","","","","","","","","","","","","","","","","","","","","","","","","","","","","","","","","","","","","","",""]
[{"$f":"IF(ISBLANK('Control Sheet'!D146),\"\",'Control Sheet'!D146)","v":""},{"$f":"IF(ISBLANK('Control Sheet'!E146),\"\",'Control Sheet'!E146&\" (\"&'Control Sheet'!F146&\")\")","v":""},"","","","","","","","","","","","","",null,"","","","","","","","","","","","","","","","","","","","","","","","","","","","","","","","","","","","","","","","","","",{"$f":"IF(A166=\"\",\"\",MAX(IF(ISERROR(AU166:BF166),0,AU166:BF166)))","v":""},"","","","","","","","","","","","","","","","","","","","","","","","","","","","","","","","","","","","","","","","","","","","",""]
[{"$f":"IF(ISBLANK('Control Sheet'!D147),\"\",'Control Sheet'!D147)","v":""},{"$f":"IF(ISBLANK('Control Sheet'!E147),\"\",'Control Sheet'!E147&\" (\"&'Control Sheet'!F147&\")\")","v":""},"","","","","","","","","","","","","",null,"","","","","","","","","","","","","","","","","","","","","","","","","","","","","","","","","","","","","","","","","","",{"$f":"IF(A167=\"\",\"\",MAX(IF(ISERROR(AU167:BF167),0,AU167:BF167)))","v":""},"","","","","","","","","","","","","","","","","","","","","","","","","","","","","","","","","","","","","","","","","","","","",""]
[{"$f":"IF(ISBLANK('Control Sheet'!D148),\"\",'Control Sheet'!D148)","v":""},{"$f":"IF(ISBLANK('Control Sheet'!E148),\"\",'Control Sheet'!E148&\" (\"&'Control Sheet'!F148&\")\")","v":""},"","","","","","","","","","","","","",null,"","","","","","","","","","","","","","","","","","","","","","","","","","","","","","","","","","","","","","","","","","",{"$f":"IF(A168=\"\",\"\",MAX(IF(ISERROR(AU168:BF168),0,AU168:BF168)))","v":""},"","","","","","","","","","","","","","","","","","","","","","","","","","","","","","","","","","","","","","","","","","","","",""]
[{"$f":"IF(ISBLANK('Control Sheet'!D149),\"\",'Control Sheet'!D149)","v":""},{"$f":"IF(ISBLANK('Control Sheet'!E149),\"\",'Control Sheet'!E149&\" (\"&'Control Sheet'!F149&\")\")","v":""},"","","","","","","","","","","","","",null,"","","","","","","","","","","","","","","","","","","","","","","","","","","","","","","","","","","","","","","","","","",{"$f":"IF(A169=\"\",\"\",MAX(IF(ISERROR(AU169:BF169),0,AU169:BF169)))","v":""},"","","","","","","","","","","","","","","","","","","","","","","","","","","","","","","","","","","","","","","","","","","","",""]
[{"$f":"IF(ISBLANK('Control Sheet'!D150),\"\",'Control Sheet'!D150)","v":""},{"$f":"IF(ISBLANK('Control Sheet'!E150),\"\",'Control Sheet'!E150&\" (\"&'Control Sheet'!F150&\")\")","v":""},"","","","","","","","","","","","","",null,"","","","","","","","","","","","","","","","","","","","","","","","","","","","","","","","","","","","","","","","","","",{"$f":"IF(A170=\"\",\"\",MAX(IF(ISERROR(AU170:BF170),0,AU170:BF170)))","v":""},"","","","","","","","","","","","","","","","","","","","","","","","","","","","","","","","","","","","","","","","","","","","",""]
[{"$f":"IF(ISBLANK('Control Sheet'!D151),\"\",'Control Sheet'!D151)","v":""},{"$f":"IF(ISBLANK('Control Sheet'!E151),\"\",'Control Sheet'!E151&\" (\"&'Control Sheet'!F151&\")\")","v":""},{"$f":"IF(C$18=1,IF(ISNA(VLOOKUP($A171,INDIRECT(C$20),MUR_col,FALSE)),\"\",VLOOKUP($A171,INDIRECT(C$20),MUR_col,FALSE)),\"\")","v":""},"","","","","","","","","","","","",null,"","","","","","","","","","","","","","","","","","","","","","","","","","","","","","","","","","","","","","","","","","",{"$f":"IF(A171=\"\",\"\",MAX(IF(ISERROR(AU171:BF171),0,AU171:BF171)))","v":""},"","","","","","","","","","","","","","","","","","","","","","","","","","","","","","","","","","","","","","","","","","","","",""]
[{"$f":"IF(ISBLANK('Control Sheet'!D152),\"\",'Control Sheet'!D152)","v":""},{"$f":"IF(ISBLANK('Control Sheet'!E152),\"\",'Control Sheet'!E152&\" (\"&'Control Sheet'!F152&\")\")","v":""},"","","","","","","","","","","","","",null,"","","","","","","","","","","","","","","","","","","","","","","","","","","","","","","","","","","","","","","","","","",{"$f":"IF(A172=\"\",\"\",MAX(IF(ISERROR(AU172:BF172),0,AU172:BF172)))","v":""},"","","","","","","","","","","","","","","","","","","","","","","","","","","","","","","","","","","","","","","","","","","","",""]
[{"$f":"IF(ISBLANK('Control Sheet'!D153),\"\",'Control Sheet'!D153)","v":""},{"$f":"IF(ISBLANK('Control Sheet'!E153),\"\",'Control Sheet'!E153&\" (\"&'Control Sheet'!F153&\")\")","v":""},"","","","","","","","","","","","","",null,"","","","","","","","","","","","","","","","","","","","","","","","","","","","","","","","","","","","","","","","","","",{"$f":"IF(A173=\"\",\"\",MAX(IF(ISERROR(AU173:BF173),0,AU173:BF173)))","v":""},"","","","","","","","","","","","","","","","","","","","","","","","","","","","","","","","","","","","","","","","","","","","",""]
[{"$f":"IF(ISBLANK('Control Sheet'!D154),\"\",'Control Sheet'!D154)","v":""},{"$f":"IF(ISBLANK('Control Sheet'!E154),\"\",'Control Sheet'!E154&\" (\"&'Control Sheet'!F154&\")\")","v":""},"","","","","","","","","","","","","",null,"","","","","","","","","","","","","","","","","","","","","","","","","","","","","","","","","","","","","","","","","","",{"$f":"IF(A174=\"\",\"\",MAX(IF(ISERROR(AU174:BF174),0,AU174:BF174)))","v":""},"","","","","","","","","","","","","","","","","","","","","","","","","","","","","","","","","","","","","","","","","","","","",""]
[{"$f":"IF(ISBLANK('Control Sheet'!D155),\"\",'Control Sheet'!D155)","v":""},{"$f":"IF(ISBLANK('Control Sheet'!E155),\"\",'Control Sheet'!E155&\" (\"&'Control Sheet'!F155&\")\")","v":""},"","","","","","","","","","","","","",null,"","","","","","","","","","","","","","","","","","","","","","","","","","","","","","","","","","","","","","","","","","",{"$f":"IF(A175=\"\",\"\",MAX(IF(ISERROR(AU175:BF175),0,AU175:BF175)))","v":""},"","","","","","","","","","","","","","","","","","","","","","","","","","","","","","","","","","","","","","","","","","","","",""]
[{"$f":"IF(ISBLANK('Control Sheet'!D156),\"\",'Control Sheet'!D156)","v":""},{"$f":"IF(ISBLANK('Control Sheet'!E156),\"\",'Control Sheet'!E156&\" (\"&'Control Sheet'!F156&\")\")","v":""},"","","","","","","","","","","","","",null,"","","","","","","","","","","","","","","","","","","","","","","","","","","","","","","","","","","","","","","","","","",{"$f":"IF(A176=\"\",\"\",MAX(IF(ISERROR(AU176:BF176),0,AU176:BF176)))","v":""},"","","","","","","","","","","","","","","","","","","","","","","","","","","","","","","","","","","","","","","","","","","","",""]
[{"$f":"IF(ISBLANK('Control Sheet'!D157),\"\",'Control Sheet'!D157)","v":""},{"$f":"IF(ISBLANK('Control Sheet'!E157),\"\",'Control Sheet'!E157&\" (\"&'Control Sheet'!F157&\")\")","v":""},"","","","","","","","","","","","","",null,"","","","","","","","","","","","","","","","","","","","","","","","","","","","","","","","","","","","","","","","","","",{"$f":"IF(A177=\"\",\"\",MAX(IF(ISERROR(AU177:BF177),0,AU177:BF177)))","v":""},"","","","","","","","","","","","","","","","","","","","","","","","","","","","","","","","","","","","","","","","","","","","",""]
[{"$f":"IF(ISBLANK('Control Sheet'!D158),\"\",'Control Sheet'!D158)","v":""},{"$f":"IF(ISBLANK('Control Sheet'!E158),\"\",'Control Sheet'!E158&\" (\"&'Control Sheet'!F158&\")\")","v":""},"","","","","","","","","","","","","",null,"","","","","","","","","","","","","","","","","","","","","","","","","","","","","","","","","","","","","","","","","","",{"$f":"IF(A178=\"\",\"\",MAX(IF(ISERROR(AU178:BF178),0,AU178:BF178)))","v":""},"","","","","","","","","","","","","","","","","","","","","","","","","","","","","","","","","","","","","","","","","","","","",""]
[{"$f":"IF(ISBLANK('Control Sheet'!D159),\"\",'Control Sheet'!D159)","v":""},{"$f":"IF(ISBLANK('Control Sheet'!E159),\"\",'Control Sheet'!E159&\" (\"&'Control Sheet'!F159&\")\")","v":""},"","","","","","","","","","","","","",null,"","","","","","","","","","","","","","","","","","","","","","","","","","","","","","","","","","","","","","","","","","",{"$f":"IF(A179=\"\",\"\",MAX(IF(ISERROR(AU179:BF179),0,AU179:BF179)))","v":""},"","","","","","","","","","","","","","","","","","","","","","","","","","","","","","","","","","","","","","","","","","","","",""]
[{"$f":"IF(ISBLANK('Control Sheet'!D160),\"\",'Control Sheet'!D160)","v":""},{"$f":"IF(ISBLANK('Control Sheet'!E160),\"\",'Control Sheet'!E160&\" (\"&'Control Sheet'!F160&\")\")","v":""},"","","","","","","","","","","","","",null,"","","","","","","","","","","","","","","","","","","","","","","","","","","","","","","","","","","","","","","","","","",{"$f":"IF(A180=\"\",\"\",MAX(IF(ISERROR(AU180:BF180),0,AU180:BF180)))","v":""},"","","","","","","","","","","","","","","","","","","","","","","","","","","","","","","","","","","","","","","","","","","","",""]
[{"$f":"IF(ISBLANK('Control Sheet'!D161),\"\",'Control Sheet'!D161)","v":""},{"$f":"IF(ISBLANK('Control Sheet'!E161),\"\",'Control Sheet'!E161&\" (\"&'Control Sheet'!F161&\")\")","v":""},{"$f":"IF(C$18=1,IF(ISNA(VLOOKUP($A181,INDIRECT(C$20),MUR_col,FALSE)),\"\",VLOOKUP($A181,INDIRECT(C$20),MUR_col,FALSE)),\"\")","v":""},"","","","","","","","","","","","",null,"","","","","","","","","","","","","","","","","","","","","","","","","","","","","","","","","","","","","","","","","","",{"$f":"IF(A181=\"\",\"\",MAX(IF(ISERROR(AU181:BF181),0,AU181:BF181)))","v":""},"","","","","","","","","","","","","","","","","","","","","","","","","","","","","","","","","","","","","","","","","","","","",""]
[{"$f":"IF(ISBLANK('Control Sheet'!D162),\"\",'Control Sheet'!D162)","v":""},{"$f":"IF(ISBLANK('Control Sheet'!E162),\"\",'Control Sheet'!E162&\" (\"&'Control Sheet'!F162&\")\")","v":""},"","","","","","","","","","","","","",null,"","","","","","","","","","","","","","","","","","","","","","","","","","","","","","","","","","","","","","","","","","",{"$f":"IF(A182=\"\",\"\",MAX(IF(ISERROR(AU182:BF182),0,AU182:BF182)))","v":""},"","","","","","","","","","","","","","","","","","","","","","","","","","","","","","","","","","","","","","","","","","","","",""]
[{"$f":"IF(ISBLANK('Control Sheet'!D163),\"\",'Control Sheet'!D163)","v":""},{"$f":"IF(ISBLANK('Control Sheet'!E163),\"\",'Control Sheet'!E163&\" (\"&'Control Sheet'!F163&\")\")","v":""},"","","","","","","","","","","","","",null,"","","","","","","","","","","","","","","","","","","","","","","","","","","","","","","","","","","","","","","","","","",{"$f":"IF(A183=\"\",\"\",MAX(IF(ISERROR(AU183:BF183),0,AU183:BF183)))","v":""},"","","","","","","","","","","","","","","","","","","","","","","","","","","","","","","","","","","","","","","","","","","","",""]
[{"$f":"IF(ISBLANK('Control Sheet'!D164),\"\",'Control Sheet'!D164)","v":""},{"$f":"IF(ISBLANK('Control Sheet'!E164),\"\",'Control Sheet'!E164&\" (\"&'Control Sheet'!F164&\")\")","v":""},"","","","","","","","","","","","","",null,"","","","","","","","","","","","","","","","","","","","","","","","","","","","","","","","","","","","","","","","","","",{"$f":"IF(A184=\"\",\"\",MAX(IF(ISERROR(AU184:BF184),0,AU184:BF184)))","v":""},"","","","","","","","","","","","","","","","","","","","","","","","","","","","","","","","","","","","","","","","","","","","",""]
[{"$f":"IF(ISBLANK('Control Sheet'!D165),\"\",'Control Sheet'!D165)","v":""},{"$f":"IF(ISBLANK('Control Sheet'!E165),\"\",'Control Sheet'!E165&\" (\"&'Control Sheet'!F165&\")\")","v":""},"","","","","","","","","","","","","",null,"","","","","","","","","","","","","","","","","","","","","","","","","","","","","","","","","","","","","","","","","","",{"$f":"IF(A185=\"\",\"\",MAX(IF(ISERROR(AU185:BF185),0,AU185:BF185)))","v":""},"","","","","","","","","","","","","","","","","","","","","","","","","","","","","","","","","","","","","","","","","","","","",""]
[{"$f":"IF(ISBLANK('Control Sheet'!D166),\"\",'Control Sheet'!D166)","v":""},{"$f":"IF(ISBLANK('Control Sheet'!E166),\"\",'Control Sheet'!E166&\" (\"&'Control Sheet'!F166&\")\")","v":""},"","","","","","","","","","","","","",null,"","","","","","","","","","","","","","","","","","","","","","","","","","","","","","","","","","","","","","","","","","",{"$f":"IF(A186=\"\",\"\",MAX(IF(ISERROR(AU186:BF186),0,AU186:BF186)))","v":""},"","","","","","","","","","","","","","","","","","","","","","","","","","","","","","","","","","","","","","","","","","","","",""]
[{"$f":"IF(ISBLANK('Control Sheet'!D167),\"\",'Control Sheet'!D167)","v":""},{"$f":"IF(ISBLANK('Control Sheet'!E167),\"\",'Control Sheet'!E167&\" (\"&'Control Sheet'!F167&\")\")","v":""},"","","","","","","","","","","","","",null,"","","","","","","","","","","","","","","","","","","","","","","","","","","","","","","","","","","","","","","","","","",{"$f":"IF(A187=\"\",\"\",MAX(IF(ISERROR(AU187:BF187),0,AU187:BF187)))","v":""},"","","","","","","","","","","","","","","","","","","","","","","","","","","","","","","","","","","","","","","","","","","","",""]
[{"$f":"IF(ISBLANK('Control Sheet'!D168),\"\",'Control Sheet'!D168)","v":""},{"$f":"IF(ISBLANK('Control Sheet'!E168),\"\",'Control Sheet'!E168&\" (\"&'Control Sheet'!F168&\")\")","v":""},"","","","","","","","","","","","","",null,"","","","","","","","","","","","","","","","","","","","","","","","","","","","","","","","","","","","","","","","","","",{"$f":"IF(A188=\"\",\"\",MAX(IF(ISERROR(AU188:BF188),0,AU188:BF188)))","v":""},"","","","","","","","","","","","","","","","","","","","","","","","","","","","","","","","","","","","","","","","","","","","",""]
[{"$f":"IF(ISBLANK('Control Sheet'!D169),\"\",'Control Sheet'!D169)","v":""},{"$f":"IF(ISBLANK('Control Sheet'!E169),\"\",'Control Sheet'!E169&\" (\"&'Control Sheet'!F169&\")\")","v":""},"","","","","","","","","","","","","",null,"","","","","","","","","","","","","","","","","","","","","","","","","","","","","","","","","","","","","","","","","","",{"$f":"IF(A189=\"\",\"\",MAX(IF(ISERROR(AU189:BF189),0,AU189:BF189)))","v":""},"","","","","","","","","","","","","","","","","","","","","","","","","","","","","","","","","","","","","","","","","","","","",""]
[{"$f":"IF(ISBLANK('Control Sheet'!D170),\"\",'Control Sheet'!D170)","v":""},{"$f":"IF(ISBLANK('Control Sheet'!E170),\"\",'Control Sheet'!E170&\" (\"&'Control Sheet'!F170&\")\")","v":""},"","","","","","","","","","","","","",null,"","","","","","","","","","","","","","","","","","","","","","","","","","","","","","","","","","","","","","","","","","",{"$f":"IF(A190=\"\",\"\",MAX(IF(ISERROR(AU190:BF190),0,AU190:BF190)))","v":""},"","","","","","","","","","","","","","","","","","","","","","","","","","","","","","","","","","","","","","","","","","","","",""]
[{"$f":"IF(ISBLANK('Control Sheet'!D171),\"\",'Control Sheet'!D171)","v":""},{"$f":"IF(ISBLANK('Control Sheet'!E171),\"\",'Control Sheet'!E171&\" (\"&'Control Sheet'!F171&\")\")","v":""},{"$f":"IF(C$18=1,IF(ISNA(VLOOKUP($A191,INDIRECT(C$20),MUR_col,FALSE)),\"\",VLOOKUP($A191,INDIRECT(C$20),MUR_col,FALSE)),\"\")","v":""},"","","","","","","","","","","","",null,"","","","","","","","","","","","","","","","","","","","","","","","","","","","","","","","","","","","","","","","","","",{"$f":"IF(A191=\"\",\"\",MAX(IF(ISERROR(AU191:BF191),0,AU191:BF191)))","v":""},"","","","","","","","","","","","","","","","","","","","","","","","","","","","","","","","","","","","","","","","","","","","",""]
[{"$f":"IF(ISBLANK('Control Sheet'!D172),\"\",'Control Sheet'!D172)","v":""},{"$f":"IF(ISBLANK('Control Sheet'!E172),\"\",'Control Sheet'!E172&\" (\"&'Control Sheet'!F172&\")\")","v":""},"","","","","","","","","","","","","",null,"","","","","","","","","","","","","","","","","","","","","","","","","","","","","","","","","","","","","","","","","","",{"$f":"IF(A192=\"\",\"\",MAX(IF(ISERROR(AU192:BF192),0,AU192:BF192)))","v":""},"","","","","","","","","","","","","","","","","","","","","","","","","","","","","","","","","","","","","","","","","","","","",""]
[{"$f":"IF(ISBLANK('Control Sheet'!D173),\"\",'Control Sheet'!D173)","v":""},{"$f":"IF(ISBLANK('Control Sheet'!E173),\"\",'Control Sheet'!E173&\" (\"&'Control Sheet'!F173&\")\")","v":""},"","","","","","","","","","","","","",null,"","","","","","","","","","","","","","","","","","","","","","","","","","","","","","","","","","","","","","","","","","",{"$f":"IF(A193=\"\",\"\",MAX(IF(ISERROR(AU193:BF193),0,AU193:BF193)))","v":""},"","","","","","","","","","","","","","","","","","","","","","","","","","","","","","","","","","","","","","","","","","","","",""]
[{"$f":"IF(ISBLANK('Control Sheet'!D174),\"\",'Control Sheet'!D174)","v":""},{"$f":"IF(ISBLANK('Control Sheet'!E174),\"\",'Control Sheet'!E174&\" (\"&'Control Sheet'!F174&\")\")","v":""},"","","","","","","","","","","","","",null,"","","","","","","","","","","","","","","","","","","","","","","","","","","","","","","","","","","","","","","","","","",{"$f":"IF(A194=\"\",\"\",MAX(IF(ISERROR(AU194:BF194),0,AU194:BF194)))","v":""},"","","","","","","","","","","","","","","","","","","","","","","","","","","","","","","","","","","","","","","","","","","","",""]
[{"$f":"IF(ISBLANK('Control Sheet'!D175),\"\",'Control Sheet'!D175)","v":""},{"$f":"IF(ISBLANK('Control Sheet'!E175),\"\",'Control Sheet'!E175&\" (\"&'Control Sheet'!F175&\")\")","v":""},"","","","","","","","","","","","","",null,"","","","","","","","","","","","","","","","","","","","","","","","","","","","","","","","","","","","","","","","","","",{"$f":"IF(A195=\"\",\"\",MAX(IF(ISERROR(AU195:BF195),0,AU195:BF195)))","v":""},"","","","","","","","","","","","","","","","","","","","","","","","","","","","","","","","","","","","","","","","","","","","",""]
[{"$f":"IF(ISBLANK('Control Sheet'!D176),\"\",'Control Sheet'!D176)","v":""},{"$f":"IF(ISBLANK('Control Sheet'!E176),\"\",'Control Sheet'!E176&\" (\"&'Control Sheet'!F176&\")\")","v":""},"","","","","","","","","","","","","",null,"","","","","","","","","","","","","","","","","","","","","","","","","","","","","","","","","","","","","","","","","","",{"$f":"IF(A196=\"\",\"\",MAX(IF(ISERROR(AU196:BF196),0,AU196:BF196)))","v":""},"","","","","","","","","","","","","","","","","","","","","","","","","","","","","","","","","","","","","","","","","","","","",""]
[{"$f":"IF(ISBLANK('Control Sheet'!D177),\"\",'Control Sheet'!D177)","v":""},{"$f":"IF(ISBLANK('Control Sheet'!E177),\"\",'Control Sheet'!E177&\" (\"&'Control Sheet'!F177&\")\")","v":""},"","","","","","","","","","","","","",null,"","","","","","","","","","","","","","","","","","","","","","","","","","","","","","","","","","","","","","","","","","",{"$f":"IF(A197=\"\",\"\",MAX(IF(ISERROR(AU197:BF197),0,AU197:BF197)))","v":""},"","","","","","","","","","","","","","","","","","","","","","","","","","","","","","","","","","","","","","","","","","","","",""]
[{"$f":"IF(ISBLANK('Control Sheet'!D178),\"\",'Control Sheet'!D178)","v":""},{"$f":"IF(ISBLANK('Control Sheet'!E178),\"\",'Control Sheet'!E178&\" (\"&'Control Sheet'!F178&\")\")","v":""},"","","","","","","","","","","","","",null,"","","","","","","","","","","","","","","","","","","","","","","","","","","","","","","","","","","","","","","","","","",{"$f":"IF(A198=\"\",\"\",MAX(IF(ISERROR(AU198:BF198),0,AU198:BF198)))","v":""},"","","","","","","","","","","","","","","","","","","","","","","","","","","","","","","","","","","","","","","","","","","","",""]
[{"$f":"IF(ISBLANK('Control Sheet'!D179),\"\",'Control Sheet'!D179)","v":""},{"$f":"IF(ISBLANK('Control Sheet'!E179),\"\",'Control Sheet'!E179&\" (\"&'Control Sheet'!F179&\")\")","v":""},"","","","","","","","","","","","","",null,"","","","","","","","","","","","","","","","","","","","","","","","","","","","","","","","","","","","","","","","","","",{"$f":"IF(A199=\"\",\"\",MAX(IF(ISERROR(AU199:BF199),0,AU199:BF199)))","v":""},"","","","","","","","","","","","","","","","","","","","","","","","","","","","","","","","","","","","","","","","","","","","",""]
[{"$f":"IF(ISBLANK('Control Sheet'!D180),\"\",'Control Sheet'!D180)","v":""},{"$f":"IF(ISBLANK('Control Sheet'!E180),\"\",'Control Sheet'!E180&\" (\"&'Control Sheet'!F180&\")\")","v":""},"","","","","","","","","","","","","",null,"","","","","","","","","","","","","","","","","","","","","","","","","","","","","","","","","","","","","","","","","","",{"$f":"IF(A200=\"\",\"\",MAX(IF(ISERROR(AU200:BF200),0,AU200:BF200)))","v":""},"","","","","","","","","","","","","","","","","","","","","","","","","","","","","","","","","","","","","","","","","","","","",""]
[{"$f":"IF(ISBLANK('Control Sheet'!D181),\"\",'Control Sheet'!D181)","v":""},{"$f":"IF(ISBLANK('Control Sheet'!E181),\"\",'Control Sheet'!E181&\" (\"&'Control Sheet'!F181&\")\")","v":""},{"$f":"IF(C$18=1,IF(ISNA(VLOOKUP($A201,INDIRECT(C$20),MUR_col,FALSE)),\"\",VLOOKUP($A201,INDIRECT(C$20),MUR_col,FALSE)),\"\")","v":""},"","","","","","","","","","","","",null,"","","","","","","","","","","","","","","","","","","","","","","","","","","","","","","","","","","","","","","","","","",{"$f":"IF(A201=\"\",\"\",MAX(IF(ISERROR(AU201:BF201),0,AU201:BF201)))","v":""},"","","","","","","","","","","","","","","","","","","","","","","","","","","","","","","","","","","","","","","","","","","","",""]
[{"$f":"IF(ISBLANK('Control Sheet'!D182),\"\",'Control Sheet'!D182)","v":""},{"$f":"IF(ISBLANK('Control Sheet'!E182),\"\",'Control Sheet'!E182&\" (\"&'Control Sheet'!F182&\")\")","v":""},"","","","","","","","","","","","","",null,"","","","","","","","","","","","","","","","","","","","","","","","","","","","","","","","","","","","","","","","","","",{"$f":"IF(A202=\"\",\"\",MAX(IF(ISERROR(AU202:BF202),0,AU202:BF202)))","v":""},"","","","","","","","","","","","","","","","","","","","","","","","","","","","","","","","","","","","","","","","","","","","",""]
[{"$f":"IF(ISBLANK('Control Sheet'!D183),\"\",'Control Sheet'!D183)","v":""},{"$f":"IF(ISBLANK('Control Sheet'!E183),\"\",'Control Sheet'!E183&\" (\"&'Control Sheet'!F183&\")\")","v":""},"","","","","","","","","","","","","",null,"","","","","","","","","","","","","","","","","","","","","","","","","","","","","","","","","","","","","","","","","","",{"$f":"IF(A203=\"\",\"\",MAX(IF(ISERROR(AU203:BF203),0,AU203:BF203)))","v":""},"","","","","","","","","","","","","","","","","","","","","","","","","","","","","","","","","","","","","","","","","","","","",""]
[{"$f":"IF(ISBLANK('Control Sheet'!D184),\"\",'Control Sheet'!D184)","v":""},{"$f":"IF(ISBLANK('Control Sheet'!E184),\"\",'Control Sheet'!E184&\" (\"&'Control Sheet'!F184&\")\")","v":""},"","","","","","","","","","","","","",null,"","","","","","","","","","","","","","","","","","","","","","","","","","","","","","","","","","","","","","","","","","",{"$f":"IF(A204=\"\",\"\",MAX(IF(ISERROR(AU204:BF204),0,AU204:BF204)))","v":""},"","","","","","","","","","","","","","","","","","","","","","","","","","","","","","","","","","","","","","","","","","","","",""]
[{"$f":"IF(ISBLANK('Control Sheet'!D185),\"\",'Control Sheet'!D185)","v":""},{"$f":"IF(ISBLANK('Control Sheet'!E185),\"\",'Control Sheet'!E185&\" (\"&'Control Sheet'!F185&\")\")","v":""},"","","","","","","","","","","","","",null,"","","","","","","","","","","","","","","","","","","","","","","","","","","","","","","","","","","","","","","","","","",{"$f":"IF(A205=\"\",\"\",MAX(IF(ISERROR(AU205:BF205),0,AU205:BF205)))","v":""},"","","","","","","","","","","","","","","","","","","","","","","","","","","","","","","","","","","","","","","","","","","","",""]
[{"$f":"IF(ISBLANK('Control Sheet'!D186),\"\",'Control Sheet'!D186)","v":""},{"$f":"IF(ISBLANK('Control Sheet'!E186),\"\",'Control Sheet'!E186&\" (\"&'Control Sheet'!F186&\")\")","v":""},"","","","","","","","","","","","","",null,"","","","","","","","","","","","","","","","","","","","","","","","","","","","","","","","","","","","","","","","","","",{"$f":"IF(A206=\"\",\"\",MAX(IF(ISERROR(AU206:BF206),0,AU206:BF206)))","v":""},"","","","","","","","","","","","","","","","","","","","","","","","","","","","","","","","","","","","","","","","","","","","",""]
[{"$f":"IF(ISBLANK('Control Sheet'!D187),\"\",'Control Sheet'!D187)","v":""},{"$f":"IF(ISBLANK('Control Sheet'!E187),\"\",'Control Sheet'!E187&\" (\"&'Control Sheet'!F187&\")\")","v":""},"","","","","","","","","","","","","",null,"","","","","","","","","","","","","","","","","","","","","","","","","","","","","","","","","","","","","","","","","","",{"$f":"IF(A207=\"\",\"\",MAX(IF(ISERROR(AU207:BF207),0,AU207:BF207)))","v":""},"","","","","","","","","","","","","","","","","","","","","","","","","","","","","","","","","","","","","","","","","","","","",""]
[{"$f":"IF(ISBLANK('Control Sheet'!D188),\"\",'Control Sheet'!D188)","v":""},{"$f":"IF(ISBLANK('Control Sheet'!E188),\"\",'Control Sheet'!E188&\" (\"&'Control Sheet'!F188&\")\")","v":""},"","","","","","","","","","","","","",null,"","","","","","","","","","","","","","","","","","","","","","","","","","","","","","","","","","","","","","","","","","",{"$f":"IF(A208=\"\",\"\",MAX(IF(ISERROR(AU208:BF208),0,AU208:BF208)))","v":""},"","","","","","","","","","","","","","","","","","","","","","","","","","","","","","","","","","","","","","","","","","","","",""]
[{"$f":"IF(ISBLANK('Control Sheet'!D189),\"\",'Control Sheet'!D189)","v":""},{"$f":"IF(ISBLANK('Control Sheet'!E189),\"\",'Control Sheet'!E189&\" (\"&'Control Sheet'!F189&\")\")","v":""},"","","","","","","","","","","","","",null,"","","","","","","","","","","","","","","","","","","","","","","","","","","","","","","","","","","","","","","","","","",{"$f":"IF(A209=\"\",\"\",MAX(IF(ISERROR(AU209:BF209),0,AU209:BF209)))","v":""},"","","","","","","","","","","","","","","","","","","","","","","","","","","","","","","","","","","","","","","","","","","","",""]
[{"$f":"IF(ISBLANK('Control Sheet'!D190),\"\",'Control Sheet'!D190)","v":""},{"$f":"IF(ISBLANK('Control Sheet'!E190),\"\",'Control Sheet'!E190&\" (\"&'Control Sheet'!F190&\")\")","v":""},"","","","","","","","","","","","","",null,"","","","","","","","","","","","","","","","","","","","","","","","","","","","","","","","","","","","","","","","","","",{"$f":"IF(A210=\"\",\"\",MAX(IF(ISERROR(AU210:BF210),0,AU210:BF210)))","v":""},"","","","","","","","","","","","","","","","","","","","","","","","","","","","","","","","","","","","","","","","","","","","",""]
[{"$f":"IF(ISBLANK('Control Sheet'!D191),\"\",'Control Sheet'!D191)","v":""},{"$f":"IF(ISBLANK('Control Sheet'!E191),\"\",'Control Sheet'!E191&\" (\"&'Control Sheet'!F191&\")\")","v":""},{"$f":"IF(C$18=1,IF(ISNA(VLOOKUP($A211,INDIRECT(C$20),MUR_col,FALSE)),\"\",VLOOKUP($A211,INDIRECT(C$20),MUR_col,FALSE)),\"\")","v":""},"","","","","","","","","","","","",null,"","","","","","","","","","","","","","","","","","","","","","","","","","","","","","","","","","","","","","","","","","",{"$f":"IF(A211=\"\",\"\",MAX(IF(ISERROR(AU211:BF211),0,AU211:BF211)))","v":""},"","","","","","","","","","","","","","","","","","","","","","","","","","","","","","","","","","","","","","","","","","","","",""]
[{"$f":"IF(ISBLANK('Control Sheet'!D192),\"\",'Control Sheet'!D192)","v":""},{"$f":"IF(ISBLANK('Control Sheet'!E192),\"\",'Control Sheet'!E192&\" (\"&'Control Sheet'!F192&\")\")","v":""},"","","","","","","","","","","","","",null,"","","","","","","","","","","","","","","","","","","","","","","","","","","","","","","","","","","","","","","","","","",{"$f":"IF(A212=\"\",\"\",MAX(IF(ISERROR(AU212:BF212),0,AU212:BF212)))","v":""},"","","","","","","","","","","","","","","","","","","","","","","","","","","","","","","","","","","","","","","","","","","","",""]
[{"$f":"IF(ISBLANK('Control Sheet'!D193),\"\",'Control Sheet'!D193)","v":""},{"$f":"IF(ISBLANK('Control Sheet'!E193),\"\",'Control Sheet'!E193&\" (\"&'Control Sheet'!F193&\")\")","v":""},"","","","","","","","","","","","",{"$f":"IF(A213=\"\",\"\",SUM(C213:N213))","v":""},null,"",{"$f":"IF(A213=\"\",\"\",MURMonthsPop-(COUNTA(C213:N213)-COUNTBLANK(C213:N213)))","v":""},{"$f":"IF(C213=\"\",\"\",IF(C213<=C$10,MURmLOScore,IF(C213<=C$7,MURmBAScore,IF(C213<=C$8,MURmLQRScore,IF(C213<=C$9,MURmUQRScore,IF(C213<=C$11,MURmAAScore,MURmUOScore+C213-C$11))))))","v":""},{"$f":"IF(D213=\"\",\"\",IF(D213<=D$10,MURmLOScore,IF(D213<=D$7,MURmBAScore,IF(D213<=D$8,MURmLQRScore,IF(D213<=D$9,MURmUQRScore,IF(D213<=D$11,MURmAAScore,MURmUOScore+D213-D$11))))))","v":""},{"$f":"IF(E213=\"\",\"\",IF(E213<=E$10,MURmLOScore,IF(E213<=E$7,MURmBAScore,IF(E213<=E$8,MURmLQRScore,IF(E213<=E$9,MURmUQRScore,IF(E213<=E$11,MURmAAScore,MURmUOScore+E213-E$11))))))","v":""},{"$f":"IF(F213=\"\",\"\",IF(F213<=F$10,MURmLOScore,IF(F213<=F$7,MURmBAScore,IF(F213<=F$8,MURmLQRScore,IF(F213<=F$9,MURmUQRScore,IF(F213<=F$11,MURmAAScore,MURmUOScore+F213-F$11))))))","v":""},{"$f":"IF(G213=\"\",\"\",IF(G213<=G$10,MURmLOScore,IF(G213<=G$7,MURmBAScore,IF(G213<=G$8,MURmLQRScore,IF(G213<=G$9,MURmUQRScore,IF(G213<=G$11,MURmAAScore,MURmUOScore+G213-G$11))))))","v":""},{"$f":"IF(H213=\"\",\"\",IF(H213<=H$10,MURmLOScore,IF(H213<=H$7,MURmBAScore,IF(H213<=H$8,MURmLQRScore,IF(H213<=H$9,MURmUQRScore,IF(H213<=H$11,MURmAAScore,MURmUOScore+H213-H$11))))))","v":""},{"$f":"IF(I213=\"\",\"\",IF(I213<=I$10,MURmLOScore,IF(I213<=I$7,MURmBAScore,IF(I213<=I$8,MURmLQRScore,IF(I213<=I$9,MURmUQRScore,IF(I213<=I$11,MURmAAScore,MURmUOScore+I213-I$11))))))","v":""},{"$f":"IF(J213=\"\",\"\",IF(J213<=J$10,MURmLOScore,IF(J213<=J$7,MURmBAScore,IF(J213<=J$8,MURmLQRScore,IF(J213<=J$9,MURmUQRScore,IF(J213<=J$11,MURmAAScore,MURmUOScore+J213-J$11))))))","v":""},{"$f":"IF(K213=\"\",\"\",IF(K213<=K$10,MURmLOScore,IF(K213<=K$7,MURmBAScore,IF(K213<=K$8,MURmLQRScore,IF(K213<=K$9,MURmUQRScore,IF(K213<=K$11,MURmAAScore,MURmUOScore+K213-K$11))))))","v":""},{"$f":"IF(L213=\"\",\"\",IF(L213<=L$10,MURmLOScore,IF(L213<=L$7,MURmBAScore,IF(L213<=L$8,MURmLQRScore,IF(L213<=L$9,MURmUQRScore,IF(L213<=L$11,MURmAAScore,MURmUOScore+L213-L$11))))))","v":""},{"$f":"IF(M213=\"\",\"\",IF(M213<=M$10,MURmLOScore,IF(M213<=M$7,MURmBAScore,IF(M213<=M$8,MURmLQRScore,IF(M213<=M$9,MURmUQRScore,IF(M213<=M$11,MURmAAScore,MURmUOScore+M213-M$11))))))","v":""},{"$f":"IF(N213=\"\",\"\",IF(N213<=N$10,MURmLOScore,IF(N213<=N$7,MURmBAScore,IF(N213<=N$8,MURmLQRScore,IF(N213<=N$9,MURmUQRScore,IF(N213<=N$11,MURmAAScore,MURmUOScore+N213-N$11))))))","v":""},{"$f":"IF(A213=\"\",\"\",SUM(S213:AD213))","v":""},{"$f":"IF(OR(A213=\"\",AE213=0),\"\",AE213/(O$18-R213))","v":""},{"$f":"IF(AF213=\"\",\"\",IF(AF213<=MURaLOScore,\"Lower Outlier\",IF(AF213<=MURaBAScore,\"Below Average\",IF(AF213<=MURaLQRScore,\"Lower Quartile\",IF(AF213<=MURaUQRScore,\"Upper Quartile\",IF(AF213<=MURaAAScore, \"Above Average\", \"Upper Outlier\"))))))","v":""},"","","","","","","","","","","","",{"$f":"IF(A213=\"\",\"\",MAX(AH213:AS213))","v":""},{"$f":"IF(OR(A213=\"\",MURMonthsPop=0),\"\",IF(AU$18=MURMonthsPop,AH213,#N/A))","v":""},{"$f":"IF(OR($A213=\"\",MURMonthsPop=0),\"\",IF(AV$18<MURMonthsPop,#N/A,IF(AV$18=MURMonthsPop,AI213,IF(AU213=\"\",\"\",IF(AV$18=MURMonthsPop+1,AU213+(AU213*VLOOKUP(MURMonthsPop-$R213,ForecastMult,3,FALSE)/12),AU213+AU213-AT213)))))","v":""},{"$f":"IF(OR($A213=\"\",MURMonthsPop=0),\"\",IF(AW$18<MURMonthsPop,#N/A,IF(AW$18=MURMonthsPop,AJ213,IF(AV213=\"\",\"\",IF(AW$18=MURMonthsPop+1,AV213+(AV213*VLOOKUP(MURMonthsPop-$R213,ForecastMult,3,FALSE)/12),AV213+AV213-AU213)))))","v":""},{"$f":"IF(OR($A213=\"\",MURMonthsPop=0),\"\",IF(AX$18<MURMonthsPop,#N/A,IF(AX$18=MURMonthsPop,AK213,IF(AW213=\"\",\"\",IF(AX$18=MURMonthsPop+1,AW213+(AW213*VLOOKUP(MURMonthsPop-$R213,ForecastMult,3,FALSE)/12),AW213+AW213-AV213)))))","v":""},{"$f":"IF(OR($A213=\"\",MURMonthsPop=0),\"\",IF(AY$18<MURMonthsPop,#N/A,IF(AY$18=MURMonthsPop,AL213,IF(AX213=\"\",\"\",IF(AY$18=MURMonthsPop+1,AX213+(AX213*VLOOKUP(MURMonthsPop-$R213,ForecastMult,3,FALSE)/12),AX213+AX213-AW213)))))","v":""},{"$f":"IF(OR($A213=\"\",MURMonthsPop=0),\"\",IF(AZ$18<MURMonthsPop,#N/A,IF(AZ$18=MURMonthsPop,AM213,IF(AY213=\"\",\"\",IF(AZ$18=MURMonthsPop+1,AY213+(AY213*VLOOKUP(MURMonthsPop-$R213,ForecastMult,3,FALSE)/12),AY213+AY213-AX213)))))","v":""},{"$f":"IF(OR($A213=\"\",MURMonthsPop=0),\"\",IF(BA$18<MURMonthsPop,#N/A,IF(BA$18=MURMonthsPop,AN213,IF(AZ213=\"\",\"\",IF(BA$18=MURMonthsPop+1,AZ213+(AZ213*VLOOKUP(MURMonthsPop-$R213,ForecastMult,3,FALSE)/12),AZ213+AZ213-AY213)))))","v":""},{"$f":"IF(OR($A213=\"\",MURMonthsPop=0),\"\",IF(BB$18<MURMonthsPop,#N/A,IF(BB$18=MURMonthsPop,AO213,IF(BA213=\"\",\"\",IF(BB$18=MURMonthsPop+1,BA213+(BA213*VLOOKUP(MURMonthsPop-$R213,ForecastMult,3,FALSE)/12),BA213+BA213-AZ213)))))","v":""},{"$f":"IF(OR($A213=\"\",MURMonthsPop=0),\"\",IF(BC$18<MURMonthsPop,#N/A,IF(BC$18=MURMonthsPop,AP213,IF(BB213=\"\",\"\",IF(BC$18=MURMonthsPop+1,BB213+(BB213*VLOOKUP(MURMonthsPop-$R213,ForecastMult,3,FALSE)/12),BB213+BB213-BA213)))))","v":""},{"$f":"IF(OR($A213=\"\",MURMonthsPop=0),\"\",IF(BD$18<MURMonthsPop,#N/A,IF(BD$18=MURMonthsPop,AQ213,IF(BC213=\"\",\"\",IF(BD$18=MURMonthsPop+1,BC213+(BC213*VLOOKUP(MURMonthsPop-$R213,ForecastMult,3,FALSE)/12),BC213+BC213-BB213)))))","v":""},{"$f":"IF(OR($A213=\"\",MURMonthsPop=0),\"\",IF(BE$18<MURMonthsPop,#N/A,IF(BE$18=MURMonthsPop,AR213,IF(BD213=\"\",\"\",IF(BE$18=MURMonthsPop+1,BD213+(BD213*VLOOKUP(MURMonthsPop-$R213,ForecastMult,3,FALSE)/12),BD213+BD213-BC213)))))","v":""},{"$f":"IF(OR($A213=\"\",MURMonthsPop=0),\"\",IF(BF$18<MURMonthsPop,#N/A,IF(BF$18=MURMonthsPop,AS213,IF(BE213=\"\",\"\",IF(BF$18=MURMonthsPop+1,BE213+(BE213*VLOOKUP(MURMonthsPop-$R213,ForecastMult,3,FALSE)/12),BE213+BE213-BD213)))))","v":""},{"$f":"IF(A213=\"\",\"\",MAX(IF(ISERROR(AU213:BF213),0,AU213:BF213)))","v":""},{"$f":"IF(AND(C$18=1,$A213<>\"\"),IF(ISNA(VLOOKUP($A213,INDIRECT(C$20),TOT_STDR_PXS_col,FALSE)),\"\",VLOOKUP($A213,INDIRECT(C$20),TOT_STDR_PXS_col,FALSE)+VLOOKUP($A213,INDIRECT(C$20),TOT_ZDR_PXS_col,FALSE)),\"\")","v":""},{"$f":"IF(AND(D$18=1,$A213<>\"\"),IF(ISNA(VLOOKUP($A213,INDIRECT(D$20),TOT_STDR_PXS_col,FALSE)),\"\",VLOOKUP($A213,INDIRECT(D$20),TOT_STDR_PXS_col,FALSE)+VLOOKUP($A213,INDIRECT(D$20),TOT_ZDR_PXS_col,FALSE)),\"\")","v":""},{"$f":"IF(AND(E$18=1,$A213<>\"\"),IF(ISNA(VLOOKUP($A213,INDIRECT(E$20),TOT_STDR_PXS_col,FALSE)),\"\",VLOOKUP($A213,INDIRECT(E$20),TOT_STDR_PXS_col,FALSE)+VLOOKUP($A213,INDIRECT(E$20),TOT_ZDR_PXS_col,FALSE)),\"\")","v":""},{"$f":"IF(AND(F$18=1,$A213<>\"\"),IF(ISNA(VLOOKUP($A213,INDIRECT(F$20),TOT_STDR_PXS_col,FALSE)),\"\",VLOOKUP($A213,INDIRECT(F$20),TOT_STDR_PXS_col,FALSE)+VLOOKUP($A213,INDIRECT(F$20),TOT_ZDR_PXS_col,FALSE)),\"\")","v":""},{"$f":"IF(AND(G$18=1,$A213<>\"\"),IF(ISNA(VLOOKUP($A213,INDIRECT(G$20),TOT_STDR_PXS_col,FALSE)),\"\",VLOOKUP($A213,INDIRECT(G$20),TOT_STDR_PXS_col,FALSE)+VLOOKUP($A213,INDIRECT(G$20),TOT_ZDR_PXS_col,FALSE)),\"\")","v":""},{"$f":"IF(AND(H$18=1,$A213<>\"\"),IF(ISNA(VLOOKUP($A213,INDIRECT(H$20),TOT_STDR_PXS_col,FALSE)),\"\",VLOOKUP($A213,INDIRECT(H$20),TOT_STDR_PXS_col,FALSE)+VLOOKUP($A213,INDIRECT(H$20),TOT_ZDR_PXS_col,FALSE)),\"\")","v":""},{"$f":"IF(AND(I$18=1,$A213<>\"\"),IF(ISNA(VLOOKUP($A213,INDIRECT(I$20),TOT_STDR_PXS_col,FALSE)),\"\",VLOOKUP($A213,INDIRECT(I$20),TOT_STDR_PXS_col,FALSE)+VLOOKUP($A213,INDIRECT(I$20),TOT_ZDR_PXS_col,FALSE)),\"\")","v":""},{"$f":"IF(AND(J$18=1,$A213<>\"\"),IF(ISNA(VLOOKUP($A213,INDIRECT(J$20),TOT_STDR_PXS_col,FALSE)),\"\",VLOOKUP($A213,INDIRECT(J$20),TOT_STDR_PXS_col,FALSE)+VLOOKUP($A213,INDIRECT(J$20),TOT_ZDR_PXS_col,FALSE)),\"\")","v":""},{"$f":"IF(AND(K$18=1,$A213<>\"\"),IF(ISNA(VLOOKUP($A213,INDIRECT(K$20),TOT_STDR_PXS_col,FALSE)),\"\",VLOOKUP($A213,INDIRECT(K$20),TOT_STDR_PXS_col,FALSE)+VLOOKUP($A213,INDIRECT(K$20),TOT_ZDR_PXS_col,FALSE)),\"\")","v":""},{"$f":"IF(AND(L$18=1,$A213<>\"\"),IF(ISNA(VLOOKUP($A213,INDIRECT(L$20),TOT_STDR_PXS_col,FALSE)),\"\",VLOOKUP($A213,INDIRECT(L$20),TOT_STDR_PXS_col,FALSE)+VLOOKUP($A213,INDIRECT(L$20),TOT_ZDR_PXS_col,FALSE)),\"\")","v":""},{"$f":"IF(AND(M$18=1,$A213<>\"\"),IF(ISNA(VLOOKUP($A213,INDIRECT(M$20),TOT_STDR_PXS_col,FALSE)),\"\",VLOOKUP($A213,INDIRECT(M$20),TOT_STDR_PXS_col,FALSE)+VLOOKUP($A213,INDIRECT(M$20),TOT_ZDR_PXS_col,FALSE)),\"\")","v":""},{"$f":"IF(AND(N$18=1,$A213<>\"\"),IF(ISNA(VLOOKUP($A213,INDIRECT(N$20),TOT_STDR_PXS_col,FALSE)),\"\",VLOOKUP($A213,INDIRECT(N$20),TOT_STDR_PXS_col,FALSE)+VLOOKUP($A213,INDIRECT(N$20),TOT_ZDR_PXS_col,FALSE)),\"\")","v":""},{"$f":"IF(A213=\"\",\"\",SUM(BH213:BS213))","v":""},{"$f":"IF(A213=\"\",\"\",MIN(B213:M213))","v":""},{"$f":"IF(A213=\"\",\"\",MAX(B213:M213))","v":""},{"$f":"IF(A213=\"\",\"\",BV213-BU213)","v":""},{"$f":"IF(A213=\"\",\"\",IF(BW213>$BW$11,\"Yes\",\"No\"))","v":""},{"$f":"IF(A213=\"\",\"\",(COUNTA(C213:N213)-COUNTBLANK(C213:N213)))","v":""},{"$f":"IF(A213=\"\",\"\",BY213-COUNTIF(C213:N213,\"=0\"))","v":""},{"$f":"IF(C$18=1,IF(ISNA(VLOOKUP($A213,INDIRECT(C$20),MUR_fee_col,FALSE)),\"\",VLOOKUP($A213,INDIRECT(C$20),MUR_fee_col,FALSE)),\"\")","v":""},{"$f":"IF(D$18=1,IF(ISNA(VLOOKUP($A213,INDIRECT(D$20),MUR_fee_col,FALSE)),\"\",VLOOKUP($A213,INDIRECT(D$20),MUR_fee_col,FALSE)),\"\")","v":""},{"$f":"IF(E$18=1,IF(ISNA(VLOOKUP($A213,INDIRECT(E$20),MUR_fee_col,FALSE)),\"\",VLOOKUP($A213,INDIRECT(E$20),MUR_fee_col,FALSE)),\"\")","v":""},{"$f":"IF(F$18=1,IF(ISNA(VLOOKUP($A213,INDIRECT(F$20),MUR_fee_col,FALSE)),\"\",VLOOKUP($A213,INDIRECT(F$20),MUR_fee_col,FALSE)),\"\")","v":""},{"$f":"IF(G$18=1,IF(ISNA(VLOOKUP($A213,INDIRECT(G$20),MUR_fee_col,FALSE)),\"\",VLOOKUP($A213,INDIRECT(G$20),MUR_fee_col,FALSE)),\"\")","v":""},{"$f":"IF(H$18=1,IF(ISNA(VLOOKUP($A213,INDIRECT(H$20),MUR_fee_col,FALSE)),\"\",VLOOKUP($A213,INDIRECT(H$20),MUR_fee_col,FALSE)),\"\")","v":""},{"$f":"IF(I$18=1,IF(ISNA(VLOOKUP($A213,INDIRECT(I$20),MUR_fee_col,FALSE)),\"\",VLOOKUP($A213,INDIRECT(I$20),MUR_fee_col,FALSE)),\"\")","v":""},{"$f":"IF(J$18=1,IF(ISNA(VLOOKUP($A213,INDIRECT(J$20),MUR_fee_col,FALSE)),\"\",VLOOKUP($A213,INDIRECT(J$20),MUR_fee_col,FALSE)),\"\")","v":""},{"$f":"IF(K$18=1,IF(ISNA(VLOOKUP($A213,INDIRECT(K$20),MUR_fee_col,FALSE)),\"\",VLOOKUP($A213,INDIRECT(K$20),MUR_fee_col,FALSE)),\"\")","v":""},{"$f":"IF(L$18=1,IF(ISNA(VLOOKUP($A213,INDIRECT(L$20),MUR_fee_col,FALSE)),\"\",VLOOKUP($A213,INDIRECT(L$20),MUR_fee_col,FALSE)),\"\")","v":""},{"$f":"IF(M$18=1,IF(ISNA(VLOOKUP($A213,INDIRECT(M$20),MUR_fee_col,FALSE)),\"\",VLOOKUP($A213,INDIRECT(M$20),MUR_fee_col,FALSE)),\"\")","v":""},{"$f":"IF(N$18=1,IF(ISNA(VLOOKUP($A213,INDIRECT(N$20),MUR_fee_col,FALSE)),\"\",VLOOKUP($A213,INDIRECT(N$20),MUR_fee_col,FALSE)),\"\")","v":""},{"$f":"IF(A213=\"\",\"\",SUM(CA213:CL213))","v":""},{"$f":"IF(C$18=1,IF(ISNA(VLOOKUP($A213,INDIRECT(C$20),MUR_Fee_adj_col,FALSE)),\"\",VLOOKUP($A213,INDIRECT(C$20),MUR_Fee_adj_col,FALSE)),\"\")","v":""},{"$f":"IF(D$18=1,IF(ISNA(VLOOKUP($A213,INDIRECT(D$20),MUR_Fee_adj_col,FALSE)),\"\",VLOOKUP($A213,INDIRECT(D$20),MUR_Fee_adj_col,FALSE)),\"\")","v":""},{"$f":"IF(E$18=1,IF(ISNA(VLOOKUP($A213,INDIRECT(E$20),MUR_Fee_adj_col,FALSE)),\"\",VLOOKUP($A213,INDIRECT(E$20),MUR_Fee_adj_col,FALSE)),\"\")","v":""},{"$f":"IF(F$18=1,IF(ISNA(VLOOKUP($A213,INDIRECT(F$20),MUR_Fee_adj_col,FALSE)),\"\",VLOOKUP($A213,INDIRECT(F$20),MUR_Fee_adj_col,FALSE)),\"\")","v":""},{"$f":"IF(G$18=1,IF(ISNA(VLOOKUP($A213,INDIRECT(G$20),MUR_Fee_adj_col,FALSE)),\"\",VLOOKUP($A213,INDIRECT(G$20),MUR_Fee_adj_col,FALSE)),\"\")","v":""},{"$f":"IF(H$18=1,IF(ISNA(VLOOKUP($A213,INDIRECT(H$20),MUR_Fee_adj_col,FALSE)),\"\",VLOOKUP($A213,INDIRECT(H$20),MUR_Fee_adj_col,FALSE)),\"\")","v":""},{"$f":"IF(I$18=1,IF(ISNA(VLOOKUP($A213,INDIRECT(I$20),MUR_Fee_adj_col,FALSE)),\"\",VLOOKUP($A213,INDIRECT(I$20),MUR_Fee_adj_col,FALSE)),\"\")","v":""},{"$f":"IF(J$18=1,IF(ISNA(VLOOKUP($A213,INDIRECT(J$20),MUR_Fee_adj_col,FALSE)),\"\",VLOOKUP($A213,INDIRECT(J$20),MUR_Fee_adj_col,FALSE)),\"\")","v":""},{"$f":"IF(K$18=1,IF(ISNA(VLOOKUP($A213,INDIRECT(K$20),MUR_Fee_adj_col,FALSE)),\"\",VLOOKUP($A213,INDIRECT(K$20),MUR_Fee_adj_col,FALSE)),\"\")","v":""},{"$f":"IF(L$18=1,IF(ISNA(VLOOKUP($A213,INDIRECT(L$20),MUR_Fee_adj_col,FALSE)),\"\",VLOOKUP($A213,INDIRECT(L$20),MUR_Fee_adj_col,FALSE)),\"\")","v":""},{"$f":"IF(M$18=1,IF(ISNA(VLOOKUP($A213,INDIRECT(M$20),MUR_Fee_adj_col,FALSE)),\"\",VLOOKUP($A213,INDIRECT(M$20),MUR_Fee_adj_col,FALSE)),\"\")","v":""},{"$f":"IF(N$18=1,IF(ISNA(VLOOKUP($A213,INDIRECT(N$20),MUR_Fee_adj_col,FALSE)),\"\",VLOOKUP($A213,INDIRECT(N$20),MUR_Fee_adj_col,FALSE)),\"\")","v":""},{"$f":"IF(A213=\"\",\"\",SUM(CN213:CY213))","v":""}]
[{"$f":"IF(ISBLANK('Control Sheet'!D194),\"\",'Control Sheet'!D194)","v":""},{"$f":"IF(ISBLANK('Control Sheet'!E194),\"\",'Control Sheet'!E194&\" (\"&'Control Sheet'!F194&\")\")","v":""},"","","","","","","","","","","","","",null,{"$f":"IF(A214=\"\",\"\",IF(BG214<=400,\"No\",\"Yes\"))","v":""},"","","","","","","","","","","","","","","","",{"$f":"IF(C$18=1,C214,\"\")","v":""},{"$f":"IF(D$18=1,IF(D214=\"\",IF(AH214=\"\",\"\",AH214),IF(AND(D214>=0,AH214=\"\"),D214,IF(ISERROR(D214+AH214),#N/A,D214+AH214))),\"\")","v":""},{"$f":"IF(E$18=1,IF(E214=\"\",IF(AI214=\"\",\"\",AI214),IF(AND(E214>=0,AI214=\"\"),E214,IF(ISERROR(E214+AI214),#N/A,E214+AI214))),\"\")","v":""},{"$f":"IF(F$18=1,IF(F214=\"\",IF(AJ214=\"\",\"\",AJ214),IF(AND(F214>=0,AJ214=\"\"),F214,IF(ISERROR(F214+AJ214),#N/A,F214+AJ214))),\"\")","v":""},{"$f":"IF(G$18=1,IF(G214=\"\",IF(AK214=\"\",\"\",AK214),IF(AND(G214>=0,AK214=\"\"),G214,IF(ISERROR(G214+AK214),#N/A,G214+AK214))),\"\")","v":""},{"$f":"IF(H$18=1,IF(H214=\"\",IF(AL214=\"\",\"\",AL214),IF(AND(H214>=0,AL214=\"\"),H214,IF(ISERROR(H214+AL214),#N/A,H214+AL214))),\"\")","v":""},{"$f":"IF(I$18=1,IF(I214=\"\",IF(AM214=\"\",\"\",AM214),IF(AND(I214>=0,AM214=\"\"),I214,IF(ISERROR(I214+AM214),#N/A,I214+AM214))),\"\")","v":""},{"$f":"IF(J$18=1,IF(J214=\"\",IF(AN214=\"\",\"\",AN214),IF(AND(J214>=0,AN214=\"\"),J214,IF(ISERROR(J214+AN214),#N/A,J214+AN214))),\"\")","v":""},{"$f":"IF(K$18=1,IF(K214=\"\",IF(AO214=\"\",\"\",AO214),IF(AND(K214>=0,AO214=\"\"),K214,IF(ISERROR(K214+AO214),#N/A,K214+AO214))),\"\")","v":""},{"$f":"IF(L$18=1,IF(L214=\"\",IF(AP214=\"\",\"\",AP214),IF(AND(L214>=0,AP214=\"\"),L214,IF(ISERROR(L214+AP214),#N/A,L214+AP214))),\"\")","v":""},{"$f":"IF(M$18=1,IF(M214=\"\",IF(AQ214=\"\",\"\",AQ214),IF(AND(M214>=0,AQ214=\"\"),M214,IF(ISERROR(M214+AQ214),#N/A,M214+AQ214))),\"\")","v":""},{"$f":"IF(N$18=1,IF(N214=\"\",IF(AR214=\"\",\"\",AR214),IF(AND(N214>=0,AR214=\"\"),N214,IF(ISERROR(N214+AR214),#N/A,N214+AR214))),\"\")","v":""},"","","","","","","","","","","","","",{"$f":"IF(A214=\"\",\"\",MAX(IF(ISERROR(AU214:BF214),0,AU214:BF214)))","v":""},"","","","","","","","","","","","","","","","","","","","","","","","","","","","","","","","","","","","","","","","","","","","",""]
[{"$f":"IF(ISBLANK('Control Sheet'!D195),\"\",'Control Sheet'!D195)","v":""},{"$f":"IF(ISBLANK('Control Sheet'!E195),\"\",'Control Sheet'!E195&\" (\"&'Control Sheet'!F195&\")\")","v":""},"","","","","","","","","","","","","",null,"","","","","","","","","","","","","","","","","","","","","","","","","","","","","","","","","","","","","","","","","","",{"$f":"IF(A215=\"\",\"\",MAX(IF(ISERROR(AU215:BF215),0,AU215:BF215)))","v":""},"","","","","","","","","","","","","","","","","","","","","","","","","","","","","","","","","","","","","","","","","","","","",""]
[{"$f":"IF(ISBLANK('Control Sheet'!D196),\"\",'Control Sheet'!D196)","v":""},{"$f":"IF(ISBLANK('Control Sheet'!E196),\"\",'Control Sheet'!E196&\" (\"&'Control Sheet'!F196&\")\")","v":""},"","","","","","","","","","","","","",null,"","","","","","","","","","","","","","","","","","","","","","","","","","","","","","","","","","","","","","","","","","",{"$f":"IF(A216=\"\",\"\",MAX(IF(ISERROR(AU216:BF216),0,AU216:BF216)))","v":""},"","","","","","","","","","","","","","","","","","","","","","","","","","","","","","","","","","","","","","","","","","","","",""]
[{"$f":"IF(ISBLANK('Control Sheet'!D197),\"\",'Control Sheet'!D197)","v":""},{"$f":"IF(ISBLANK('Control Sheet'!E197),\"\",'Control Sheet'!E197&\" (\"&'Control Sheet'!F197&\")\")","v":""},"","","","","","","","","","","","","",null,"","","","","","","","","","","","","","","","","","","","","","","","","","","","","","","","","","","","","","","","","","",{"$f":"IF(A217=\"\",\"\",MAX(IF(ISERROR(AU217:BF217),0,AU217:BF217)))","v":""},"","","","","","","","","","","","","","","","","","","","","","","","","","","","","","","","","","","","","","","","","","","","",""]
[{"$f":"IF(ISBLANK('Control Sheet'!D198),\"\",'Control Sheet'!D198)","v":""},{"$f":"IF(ISBLANK('Control Sheet'!E198),\"\",'Control Sheet'!E198&\" (\"&'Control Sheet'!F198&\")\")","v":""},"","","","","","","","","","","","","",null,"","","","","","","","","","","","","","","","","","","","","","","","","","","","","","","","","","","","","","","","","","",{"$f":"IF(A218=\"\",\"\",MAX(IF(ISERROR(AU218:BF218),0,AU218:BF218)))","v":""},"","","","","","","","","","","","","","","","","","","","","","","","","","","","","","","","","","","","","","","","","","","","",""]
[{"$f":"IF(ISBLANK('Control Sheet'!D199),\"\",'Control Sheet'!D199)","v":""},{"$f":"IF(ISBLANK('Control Sheet'!E199),\"\",'Control Sheet'!E199&\" (\"&'Control Sheet'!F199&\")\")","v":""},"","","","","","","","","","","","","",null,"","","","","","","","","","","","","","","","","","","","","","","","","","","","","","","","","","","","","","","","","","",{"$f":"IF(A219=\"\",\"\",MAX(IF(ISERROR(AU219:BF219),0,AU219:BF219)))","v":""},"","","","","","","","","","","","","","","","","","","","","","","","","","","","","","","","","","","","","","","","","","","","",""]
[{"$f":"IF(ISBLANK('Control Sheet'!D200),\"\",'Control Sheet'!D200)","v":""},{"$f":"IF(ISBLANK('Control Sheet'!E200),\"\",'Control Sheet'!E200&\" (\"&'Control Sheet'!F200&\")\")","v":""},"","","","","","","","","","","","","",null,"","","","","","","","","","","","","","","","","","","","","","","","","","","","","","","","","","","","","","","","","","",{"$f":"IF(A220=\"\",\"\",MAX(IF(ISERROR(AU220:BF220),0,AU220:BF220)))","v":""},"","","","","","","","","","","","","","","","","","","","","","","","","","","","","","","","","","","","","","","","","","","","",""]
[{"$f":"IF(ISBLANK('Control Sheet'!D201),\"\",'Control Sheet'!D201)","v":""},{"$f":"IF(ISBLANK('Control Sheet'!E201),\"\",'Control Sheet'!E201&\" (\"&'Control Sheet'!F201&\")\")","v":""},{"$f":"IF(C$18=1,IF(ISNA(VLOOKUP($A221,INDIRECT(C$20),MUR_col,FALSE)),\"\",VLOOKUP($A221,INDIRECT(C$20),MUR_col,FALSE)),\"\")","v":""},"","","","","","","","","","","","",null,"","","","","","","","","","","","","","","","","","","","","","","","","","","","","","","","","","","","","","","","","","",{"$f":"IF(A221=\"\",\"\",MAX(IF(ISERROR(AU221:BF221),0,AU221:BF221)))","v":""},"","","","","","","","","","","","","","","","","","","","","","","","","","","","","","","","","","","","","","","","","","","","",""]
[{"$f":"IF(ISBLANK('Control Sheet'!D202),\"\",'Control Sheet'!D202)","v":""},{"$f":"IF(ISBLANK('Control Sheet'!E202),\"\",'Control Sheet'!E202&\" (\"&'Control Sheet'!F202&\")\")","v":""},"","","","","","","","","","","","","",null,"","","","","","","","","","","","","","","","","","","","","","","","","","","","","","","","","","","","","","","","","","",{"$f":"IF(A222=\"\",\"\",MAX(IF(ISERROR(AU222:BF222),0,AU222:BF222)))","v":""},"","","","","","","","","","","","","","","","","","","","","","","","","","","","","","","","","","","","","","","","","","","","",""]
[{"$f":"IF(ISBLANK('Control Sheet'!D203),\"\",'Control Sheet'!D203)","v":""},{"$f":"IF(ISBLANK('Control Sheet'!E203),\"\",'Control Sheet'!E203&\" (\"&'Control Sheet'!F203&\")\")","v":""},"","","","","","","","","","","","","",null,"","","","","","","","","","","","","","","","","","","","","","","","","","","","","","","","","","","","","","","","","","",{"$f":"IF(A223=\"\",\"\",MAX(IF(ISERROR(AU223:BF223),0,AU223:BF223)))","v":""},"","","","","","","","","","","","","","","","","","","","","","","","","","","","","","","","","","","","","","","","","","","","",""]
[{"$f":"IF(ISBLANK('Control Sheet'!D204),\"\",'Control Sheet'!D204)","v":""},{"$f":"IF(ISBLANK('Control Sheet'!E204),\"\",'Control Sheet'!E204&\" (\"&'Control Sheet'!F204&\")\")","v":""},"","","","","","","","","","","","","",null,"","","","","","","","","","","","","","","","","","","","","","","","","","","","","","","","","","","","","","","","","","",{"$f":"IF(A224=\"\",\"\",MAX(IF(ISERROR(AU224:BF224),0,AU224:BF224)))","v":""},"","","","","","","","","","","","","","","","","","","","","","","","","","","","","","","","","","","","","","","","","","","","",""]
[{"$f":"IF(ISBLANK('Control Sheet'!D205),\"\",'Control Sheet'!D205)","v":""},{"$f":"IF(ISBLANK('Control Sheet'!E205),\"\",'Control Sheet'!E205&\" (\"&'Control Sheet'!F205&\")\")","v":""},"","","","","","","","","","","","","",null,"","","","","","","","","","","","","","","","","","","","","","","","","","","","","","","","","","","","","","","","","","",{"$f":"IF(A225=\"\",\"\",MAX(IF(ISERROR(AU225:BF225),0,AU225:BF225)))","v":""},"","","","","","","","","","","","","","","","","","","","","","","","","","","","","","","","","","","","","","","","","","","","",""]
[{"$f":"IF(ISBLANK('Control Sheet'!D206),\"\",'Control Sheet'!D206)","v":""},{"$f":"IF(ISBLANK('Control Sheet'!E206),\"\",'Control Sheet'!E206&\" (\"&'Control Sheet'!F206&\")\")","v":""},"","","","","","","","","","","","","",null,"","","","","","","","","","","","","","","","","","","","","","","","","","","","","","","","","","","","","","","","","","",{"$f":"IF(A226=\"\",\"\",MAX(IF(ISERROR(AU226:BF226),0,AU226:BF226)))","v":""},"","","","","","","","","","","","","","","","","","","","","","","","","","","","","","","","","","","","","","","","","","","","",""]
[{"$f":"IF(ISBLANK('Control Sheet'!D207),\"\",'Control Sheet'!D207)","v":""},{"$f":"IF(ISBLANK('Control Sheet'!E207),\"\",'Control Sheet'!E207&\" (\"&'Control Sheet'!F207&\")\")","v":""},"","","","","","","","","","","","","",null,"","","","","","","","","","","","","","","","","","","","","","","","","","","","","","","","","","","","","","","","","","",{"$f":"IF(A227=\"\",\"\",MAX(IF(ISERROR(AU227:BF227),0,AU227:BF227)))","v":""},"","","","","","","","","","","","","","","","","","","","","","","","","","","","","","","","","","","","","","","","","","","","",""]
[{"$f":"IF(ISBLANK('Control Sheet'!D208),\"\",'Control Sheet'!D208)","v":""},{"$f":"IF(ISBLANK('Control Sheet'!E208),\"\",'Control Sheet'!E208&\" (\"&'Control Sheet'!F208&\")\")","v":""},"","","","","","","","","","","","","",null,"","","","","","","","","","","","","","","","","","","","","","","","","","","","","","","","","","","","","","","","","","",{"$f":"IF(A228=\"\",\"\",MAX(IF(ISERROR(AU228:BF228),0,AU228:BF228)))","v":""},"","","","","","","","","","","","","","","","","","","","","","","","","","","","","","","","","","","","","","","","","","","","",""]
[{"$f":"IF(ISBLANK('Control Sheet'!D209),\"\",'Control Sheet'!D209)","v":""},{"$f":"IF(ISBLANK('Control Sheet'!E209),\"\",'Control Sheet'!E209&\" (\"&'Control Sheet'!F209&\")\")","v":""},"","","","","","","","","","","","","",null,"","","","","","","","","","","","","","","","","","","","","","","","","","","","","","","","","","","","","","","","","","",{"$f":"IF(A229=\"\",\"\",MAX(IF(ISERROR(AU229:BF229),0,AU229:BF229)))","v":""},"","","","","","","","","","","","","","","","","","","","","","","","","","","","","","","","","","","","","","","","","","","","",""]
[{"$f":"IF(ISBLANK('Control Sheet'!D210),\"\",'Control Sheet'!D210)","v":""},{"$f":"IF(ISBLANK('Control Sheet'!E210),\"\",'Control Sheet'!E210&\" (\"&'Control Sheet'!F210&\")\")","v":""},"","","","","","","","","","","","","",null,"","","","","","","","","","","","","","","","","","","","","","","","","","","","","","","","","","","","","","","","","","",{"$f":"IF(A230=\"\",\"\",MAX(IF(ISERROR(AU230:BF230),0,AU230:BF230)))","v":""},"","","","","","","","","","","","","","","","","","","","","","","","","","","","","","","","","","","","","","","","","","","","",""]
[{"$f":"IF(ISBLANK('Control Sheet'!D211),\"\",'Control Sheet'!D211)","v":""},{"$f":"IF(ISBLANK('Control Sheet'!E211),\"\",'Control Sheet'!E211&\" (\"&'Control Sheet'!F211&\")\")","v":""},{"$f":"IF(C$18=1,IF(ISNA(VLOOKUP($A231,INDIRECT(C$20),MUR_col,FALSE)),\"\",VLOOKUP($A231,INDIRECT(C$20),MUR_col,FALSE)),\"\")","v":""},"","","","","","","","","","","","",null,"","","","","","","","","","","","","","","","","","","","","","","","","","","","","","","","","","","","","","","","","","",{"$f":"IF(A231=\"\",\"\",MAX(IF(ISERROR(AU231:BF231),0,AU231:BF231)))","v":""},"","","","","","","","","","","","","","","","","","","","","","","","","","","","","","","","","","","","","","","","","","","","",""]
[{"$f":"IF(ISBLANK('Control Sheet'!D212),\"\",'Control Sheet'!D212)","v":""},{"$f":"IF(ISBLANK('Control Sheet'!E212),\"\",'Control Sheet'!E212&\" (\"&'Control Sheet'!F212&\")\")","v":""},"","","","","","","","","","","","","",null,"","","","","","","","","","","","","","","","","","","","","","","","","","","","","","","","","","","","","","","","","","",{"$f":"IF(A232=\"\",\"\",MAX(IF(ISERROR(AU232:BF232),0,AU232:BF232)))","v":""},"","","","","","","","","","","","","","","","","","","","","","","","","","","","","","","","","","","","","","","","","","","","",""]
[{"$f":"IF(ISBLANK('Control Sheet'!D213),\"\",'Control Sheet'!D213)","v":""},{"$f":"IF(ISBLANK('Control Sheet'!E213),\"\",'Control Sheet'!E213&\" (\"&'Control Sheet'!F213&\")\")","v":""},"","","","","","","","","","","","","",null,"","","","","","","","","","","","","","","","","","","","","","","","","","","","","","","","","","","","","","","","","","",{"$f":"IF(A233=\"\",\"\",MAX(IF(ISERROR(AU233:BF233),0,AU233:BF233)))","v":""},"","","","","","","","","","","","","","","","","","","","","","","","","","","","","","","","","","","","","","","","","","","","",""]
[{"$f":"IF(ISBLANK('Control Sheet'!D214),\"\",'Control Sheet'!D214)","v":""},{"$f":"IF(ISBLANK('Control Sheet'!E214),\"\",'Control Sheet'!E214&\" (\"&'Control Sheet'!F214&\")\")","v":""},"","","","","","","","","","","","","",null,"","","","","","","","","","","","","","","","","","","","","","","","","","","","","","","","","","","","","","","","","","",{"$f":"IF(A234=\"\",\"\",MAX(IF(ISERROR(AU234:BF234),0,AU234:BF234)))","v":""},"","","","","","","","","","","","","","","","","","","","","","","","","","","","","","","","","","","","","","","","","","","","",""]
[{"$f":"IF(ISBLANK('Control Sheet'!D215),\"\",'Control Sheet'!D215)","v":""},{"$f":"IF(ISBLANK('Control Sheet'!E215),\"\",'Control Sheet'!E215&\" (\"&'Control Sheet'!F215&\")\")","v":""},"","","","","","","","","","","","","",null,"","","","","","","","","","","","","","","","","","","","","","","","","","","","","","","","","","","","","","","","","","",{"$f":"IF(A235=\"\",\"\",MAX(IF(ISERROR(AU235:BF235),0,AU235:BF235)))","v":""},"","","","","","","","","","","","","","","","","","","","","","","","","","","","","","","","","","","","","","","","","","","","",""]
[{"$f":"IF(ISBLANK('Control Sheet'!D216),\"\",'Control Sheet'!D216)","v":""},{"$f":"IF(ISBLANK('Control Sheet'!E216),\"\",'Control Sheet'!E216&\" (\"&'Control Sheet'!F216&\")\")","v":""},"","","","","","","","","","","","","",null,"","","","","","","","","","","","","","","","","","","","","","","","","","","","","","","","","","","","","","","","","","",{"$f":"IF(A236=\"\",\"\",MAX(IF(ISERROR(AU236:BF236),0,AU236:BF236)))","v":""},"","","","","","","","","","","","","","","","","","","","","","","","","","","","","","","","","","","","","","","","","","","","",""]
[{"$f":"IF(ISBLANK('Control Sheet'!D217),\"\",'Control Sheet'!D217)","v":""},{"$f":"IF(ISBLANK('Control Sheet'!E217),\"\",'Control Sheet'!E217&\" (\"&'Control Sheet'!F217&\")\")","v":""},"","","","","","","","","","","","","",null,"","","","","","","","","","","","","","","","","","","","","","","","","","","","","","","","","","","","","","","","","","",{"$f":"IF(A237=\"\",\"\",MAX(IF(ISERROR(AU237:BF237),0,AU237:BF237)))","v":""},"","","","","","","","","","","","","","","","","","","","","","","","","","","","","","","","","","","","","","","","","","","","",""]
[{"$f":"IF(ISBLANK('Control Sheet'!D218),\"\",'Control Sheet'!D218)","v":""},{"$f":"IF(ISBLANK('Control Sheet'!E218),\"\",'Control Sheet'!E218&\" (\"&'Control Sheet'!F218&\")\")","v":""},"","","","","","","","","","","","","",null,"","","","","","","","","","","","","","","","","","","","","","","","","","","","","","","","","","","","","","","","","","",{"$f":"IF(A238=\"\",\"\",MAX(IF(ISERROR(AU238:BF238),0,AU238:BF238)))","v":""},"","","","","","","","","","","","","","","","","","","","","","","","","","","","","","","","","","","","","","","","","","","","",""]
[{"$f":"IF(ISBLANK('Control Sheet'!D219),\"\",'Control Sheet'!D219)","v":""},{"$f":"IF(ISBLANK('Control Sheet'!E219),\"\",'Control Sheet'!E219&\" (\"&'Control Sheet'!F219&\")\")","v":""},"","","","","","","","","","","","","",null,"","","","","","","","","","","","","","","","","","","","","","","","","","","","","","","","","","","","","","","","","","",{"$f":"IF(A239=\"\",\"\",MAX(IF(ISERROR(AU239:BF239),0,AU239:BF239)))","v":""},"","","","","","","","","","","","","","","","","","","","","","","","","","","","","","","","","","","","","","","","","","","","",""]
[{"$f":"IF(ISBLANK('Control Sheet'!D220),\"\",'Control Sheet'!D220)","v":""},{"$f":"IF(ISBLANK('Control Sheet'!E220),\"\",'Control Sheet'!E220&\" (\"&'Control Sheet'!F220&\")\")","v":""},"","","","","","","","","","","","","",null,"","","","","","","","","","","","","","","","","","","","","","","","","","","","","","","","","","","","","","","","","","",{"$f":"IF(A240=\"\",\"\",MAX(IF(ISERROR(AU240:BF240),0,AU240:BF240)))","v":""},"","","","","","","","","","","","","","","","","","","","","","","","","","","","","","","","","","","","","","","","","","","","",""]
[{"$f":"IF(ISBLANK('Control Sheet'!D221),\"\",'Control Sheet'!D221)","v":""},{"$f":"IF(ISBLANK('Control Sheet'!E221),\"\",'Control Sheet'!E221&\" (\"&'Control Sheet'!F221&\")\")","v":""},{"$f":"IF(C$18=1,IF(ISNA(VLOOKUP($A241,INDIRECT(C$20),MUR_col,FALSE)),\"\",VLOOKUP($A241,INDIRECT(C$20),MUR_col,FALSE)),\"\")","v":""},"","","","","","","","","","","","",null,"","","","","","","","","","","","","","","","","","","","","","","","","","","","","","","","","","","","","","","","","","",{"$f":"IF(A241=\"\",\"\",MAX(IF(ISERROR(AU241:BF241),0,AU241:BF241)))","v":""},"","","","","","","","","","","","","","","","","","","","","","","","","","","","","","","","","","","","","","","","","","","","",""]
[{"$f":"IF(ISBLANK('Control Sheet'!D222),\"\",'Control Sheet'!D222)","v":""},{"$f":"IF(ISBLANK('Control Sheet'!E222),\"\",'Control Sheet'!E222&\" (\"&'Control Sheet'!F222&\")\")","v":""},"","","","","","","","","","","","","",null,"","","","","","","","","","","","","","","","","","","","","","","","","","","","","","","","","","","","","","","","","","",{"$f":"IF(A242=\"\",\"\",MAX(IF(ISERROR(AU242:BF242),0,AU242:BF242)))","v":""},"","","","","","","","","","","","","","","","","","","","","","","","","","","","","","","","","","","","","","","","","","","","",""]
[{"$f":"IF(ISBLANK('Control Sheet'!D223),\"\",'Control Sheet'!D223)","v":""},{"$f":"IF(ISBLANK('Control Sheet'!E223),\"\",'Control Sheet'!E223&\" (\"&'Control Sheet'!F223&\")\")","v":""},"","","","","","","","","","","","","",null,"","","","","","","","","","","","","","","","","","","","","","","","","","","","","","","","","","","","","","","","","","",{"$f":"IF(A243=\"\",\"\",MAX(IF(ISERROR(AU243:BF243),0,AU243:BF243)))","v":""},"","","","","","","","","","","","","","","","","","","","","","","","","","","","","","","","","","","","","","","","","","","","",""]
[{"$f":"IF(ISBLANK('Control Sheet'!D224),\"\",'Control Sheet'!D224)","v":""},{"$f":"IF(ISBLANK('Control Sheet'!E224),\"\",'Control Sheet'!E224&\" (\"&'Control Sheet'!F224&\")\")","v":""},"","","","","","","","","","","","","",null,"","","","","","","","","","","","","","","","","","","","","","","","","","","","","","","","","","","","","","","","","","",{"$f":"IF(A244=\"\",\"\",MAX(IF(ISERROR(AU244:BF244),0,AU244:BF244)))","v":""},"","","","","","","","","","","","","","","","","","","","","","","","","","","","","","","","","","","","","","","","","","","","",""]
[{"$f":"IF(ISBLANK('Control Sheet'!D225),\"\",'Control Sheet'!D225)","v":""},{"$f":"IF(ISBLANK('Control Sheet'!E225),\"\",'Control Sheet'!E225&\" (\"&'Control Sheet'!F225&\")\")","v":""},"","","","","","","","","","","","","",null,"","","","","","","","","","","","","","","","","","","","","","","","","","","","","","","","","","","","","","","","","","",{"$f":"IF(A245=\"\",\"\",MAX(IF(ISERROR(AU245:BF245),0,AU245:BF245)))","v":""},"","","","","","","","","","","","","","","","","","","","","","","","","","","","","","","","","","","","","","","","","","","","",""]
[{"$f":"IF(ISBLANK('Control Sheet'!D226),\"\",'Control Sheet'!D226)","v":""},{"$f":"IF(ISBLANK('Control Sheet'!E226),\"\",'Control Sheet'!E226&\" (\"&'Control Sheet'!F226&\")\")","v":""},"","","","","","","","","","","","","",null,"","","","","","","","","","","","","","","","","","","","","","","","","","","","","","","","","","","","","","","","","","",{"$f":"IF(A246=\"\",\"\",MAX(IF(ISERROR(AU246:BF246),0,AU246:BF246)))","v":""},"","","","","","","","","","","","","","","","","","","","","","","","","","","","","","","","","","","","","","","","","","","","",""]
[{"$f":"IF(ISBLANK('Control Sheet'!D227),\"\",'Control Sheet'!D227)","v":""},{"$f":"IF(ISBLANK('Control Sheet'!E227),\"\",'Control Sheet'!E227&\" (\"&'Control Sheet'!F227&\")\")","v":""},"","","","","","","","","","","","","",null,"","","","","","","","","","","","","","","","","","","","","","","","","","","","","","","","","","","","","","","","","","",{"$f":"IF(A247=\"\",\"\",MAX(IF(ISERROR(AU247:BF247),0,AU247:BF247)))","v":""},"","","","","","","","","","","","","","","","","","","","","","","","","","","","","","","","","","","","","","","","","","","","",""]
[{"$f":"IF(ISBLANK('Control Sheet'!D228),\"\",'Control Sheet'!D228)","v":""},{"$f":"IF(ISBLANK('Control Sheet'!E228),\"\",'Control Sheet'!E228&\" (\"&'Control Sheet'!F228&\")\")","v":""},"","","","","","","","","","","","","",null,"","","","","","","","","","","","","","","","","","","","","","","","","","","","","","","","","","","","","","","","","","",{"$f":"IF(A248=\"\",\"\",MAX(IF(ISERROR(AU248:BF248),0,AU248:BF248)))","v":""},"","","","","","","","","","","","","","","","","","","","","","","","","","","","","","","","","","","","","","","","","","","","",""]
[{"$f":"IF(ISBLANK('Control Sheet'!D229),\"\",'Control Sheet'!D229)","v":""},{"$f":"IF(ISBLANK('Control Sheet'!E229),\"\",'Control Sheet'!E229&\" (\"&'Control Sheet'!F229&\")\")","v":""},"","","","","","","","","","","","","",null,"","","","","","","","","","","","","","","","","","","","","","","","","","","","","","","","","","","","","","","","","","",{"$f":"IF(A249=\"\",\"\",MAX(IF(ISERROR(AU249:BF249),0,AU249:BF249)))","v":""},"","","","","","","","","","","","","","","","","","","","","","","","","","","","","","","","","","","","","","","","","","","","",""]
[{"$f":"IF(ISBLANK('Control Sheet'!D230),\"\",'Control Sheet'!D230)","v":""},{"$f":"IF(ISBLANK('Control Sheet'!E230),\"\",'Control Sheet'!E230&\" (\"&'Control Sheet'!F230&\")\")","v":""},"","","","","","","","","","","","","",null,"","","","","","","","","","","","","","","","","","","","","","","","","","","","","","","","","","","","","","","","","","",{"$f":"IF(A250=\"\",\"\",MAX(IF(ISERROR(AU250:BF250),0,AU250:BF250)))","v":""},"","","","","","","","","","","","","","","","","","","","","","","","","","","","","","","","","","","","","","","","","","","","",""]
[{"$f":"IF(ISBLANK('Control Sheet'!D232),\"\",'Control Sheet'!D232)","v":""},{"$f":"IF(ISBLANK('Control Sheet'!E232),\"\",'Control Sheet'!E232&\" (\"&'Control Sheet'!F232&\")\")","v":""},"","","","","","","","","","","","","",null,"","","","","","","","","","","","","","","","","","","","","","","","","","","","","","","","","","","","","","","","","","",{"$f":"IF(A252=\"\",\"\",MAX(IF(ISERROR(AU252:BF252),0,AU252:BF252)))","v":""},"","","","","","","","","","","","","","","","","","","","","","","","","","","","","","","","","","","","","","","","","","","","",""]
[{"$f":"IF(ISBLANK('Control Sheet'!D234),\"\",'Control Sheet'!D234)","v":""},{"$f":"IF(ISBLANK('Control Sheet'!E234),\"\",'Control Sheet'!E234&\" (\"&'Control Sheet'!F234&\")\")","v":""},"","","","","","","","","","","","","",null,"","","","","","","","","","","","","","","","","","","","","","","","","","","","","","","","","","","","","","","","","","",{"$f":"IF(A254=\"\",\"\",MAX(IF(ISERROR(AU254:BF254),0,AU254:BF254)))","v":""},"","","","","","","","","","","","","","","","","","","","","","","","","","","","","","","","","","","","","","","","","","","","",""]
[{"$f":"IF(ISBLANK('Control Sheet'!D237),\"\",'Control Sheet'!D237)","v":""},{"$f":"IF(ISBLANK('Control Sheet'!E237),\"\",'Control Sheet'!E237&\" (\"&'Control Sheet'!F237&\")\")","v":""},"","","","","","","","","","","","","",null,"","","","","","","","","","","","","","","","","","","","","","","","","","","","","","","","","","","","","","","","","","",{"$f":"IF(A257=\"\",\"\",MAX(IF(ISERROR(AU257:BF257),0,AU257:BF257)))","v":""},"","","","","","","","","","","","","","","","","","","","","","","","","","","","","","","","","","","","","","","","","","","","",""]
[{"$f":"IF(ISBLANK('Control Sheet'!D241),\"\",'Control Sheet'!D241)","v":""},{"$f":"IF(ISBLANK('Control Sheet'!E241),\"\",'Control Sheet'!E241&\" (\"&'Control Sheet'!F241&\")\")","v":""},{"$f":"IF(C$18=1,IF(ISNA(VLOOKUP($A261,INDIRECT(C$20),MUR_col,FALSE)),\"\",VLOOKUP($A261,INDIRECT(C$20),MUR_col,FALSE)),\"\")","v":""},"","","","","","","","","","","","",null,"","","","","","","","","","","","","","","","","","","","","","","","","","","","","","","","","","","","","","","","","","",{"$f":"IF(A261=\"\",\"\",MAX(IF(ISERROR(AU261:BF261),0,AU261:BF261)))","v":""},"","","","","","","","","","","","","","","","","","","","","","","","","","","","","","","","","","","","","","","","","","","","",""]
[{"$f":"IF(ISBLANK('Control Sheet'!D244),\"\",'Control Sheet'!D244)","v":""},{"$f":"IF(ISBLANK('Control Sheet'!E244),\"\",'Control Sheet'!E244&\" (\"&'Control Sheet'!F244&\")\")","v":""},"","","","","","","","","","","","","",null,"","","","","","","","","","","","","","","","","","","","","","","","","","","","","","","","","","","","","","","","","","",{"$f":"IF(A264=\"\",\"\",MAX(IF(ISERROR(AU264:BF264),0,AU264:BF264)))","v":""},"","","","","","","","","","","","","","","","","","","","","","","","","","","","","","","","","","","","","","","","","","","","",""]
[{"$f":"IF(ISBLANK('Control Sheet'!D245),\"\",'Control Sheet'!D245)","v":""},{"$f":"IF(ISBLANK('Control Sheet'!E245),\"\",'Control Sheet'!E245&\" (\"&'Control Sheet'!F245&\")\")","v":""},"","","","","","","","","","","","","",null,"","","","","","","","","","","","","","","","","","","","","","","","","","","","","","","","","","","","","","","","","","",{"$f":"IF(A265=\"\",\"\",MAX(IF(ISERROR(AU265:BF265),0,AU265:BF265)))","v":""},"","","","","","","","","","","","","","","","","","","","","","","","","","","","","","","","","","","","","","","","","","","","",""]
[{"$f":"IF(ISBLANK('Control Sheet'!D247),\"\",'Control Sheet'!D247)","v":""},{"$f":"IF(ISBLANK('Control Sheet'!E247),\"\",'Control Sheet'!E247&\" (\"&'Control Sheet'!F247&\")\")","v":""},"","","","","","","","","","","","","",null,"","","","","","","","","","","","","","","","","","","","","","","","","","","","","","","","","","","","","","","","","","",{"$f":"IF(A267=\"\",\"\",MAX(IF(ISERROR(AU267:BF267),0,AU267:BF267)))","v":""},"","","","","","","","","","","","","","","","","","","","","","","","","","","","","","","","","","","","","","","","","","","","",""]
[{"$f":"IF(ISBLANK('Control Sheet'!D250),\"\",'Control Sheet'!D250)","v":""},{"$f":"IF(ISBLANK('Control Sheet'!E250),\"\",'Control Sheet'!E250&\" (\"&'Control Sheet'!F250&\")\")","v":""},"","","","","","","","","","","","","",null,"","","","","","","","","","","","","","","","","","","","","","","","","","","","","","","","","","","","","","","","","","",{"$f":"IF(A270=\"\",\"\",MAX(IF(ISERROR(AU270:BF270),0,AU270:BF270)))","v":""},"","","","","","","","","","","","","","","","","","","","","","","","","","","","","","","","","","","","","","","","","","","","",""]
[{"$f":"IF(ISBLANK('Control Sheet'!D254),\"\",'Control Sheet'!D254)","v":""},{"$f":"IF(ISBLANK('Control Sheet'!E254),\"\",'Control Sheet'!E254&\" (\"&'Control Sheet'!F254&\")\")","v":""},"","","","","","","","","","","","","",null,"","","","","","","","","","","","","","","","","","","","","","","","","","","","","","","","","","","","","","","","","","",{"$f":"IF(A274=\"\",\"\",MAX(IF(ISERROR(AU274:BF274),0,AU274:BF274)))","v":""},"","","","","","","","","","","","","","","","","","","","","","","","","","","","","","","","","","","","","","","","","","","","",""]
[{"$f":"IF(ISBLANK('Control Sheet'!D257),\"\",'Control Sheet'!D257)","v":""},{"$f":"IF(ISBLANK('Control Sheet'!E257),\"\",'Control Sheet'!E257&\" (\"&'Control Sheet'!F257&\")\")","v":""},"","","","","","","","","","","","",{"$f":"IF(A277=\"\",\"\",SUM(C277:N277))","v":""},null,"",{"$f":"IF(A277=\"\",\"\",MURMonthsPop-(COUNTA(C277:N277)-COUNTBLANK(C277:N277)))","v":""},{"$f":"IF(C277=\"\",\"\",IF(C277<=C$10,MURmLOScore,IF(C277<=C$7,MURmBAScore,IF(C277<=C$8,MURmLQRScore,IF(C277<=C$9,MURmUQRScore,IF(C277<=C$11,MURmAAScore,MURmUOScore+C277-C$11))))))","v":""},{"$f":"IF(D277=\"\",\"\",IF(D277<=D$10,MURmLOScore,IF(D277<=D$7,MURmBAScore,IF(D277<=D$8,MURmLQRScore,IF(D277<=D$9,MURmUQRScore,IF(D277<=D$11,MURmAAScore,MURmUOScore+D277-D$11))))))","v":""},{"$f":"IF(E277=\"\",\"\",IF(E277<=E$10,MURmLOScore,IF(E277<=E$7,MURmBAScore,IF(E277<=E$8,MURmLQRScore,IF(E277<=E$9,MURmUQRScore,IF(E277<=E$11,MURmAAScore,MURmUOScore+E277-E$11))))))","v":""},{"$f":"IF(F277=\"\",\"\",IF(F277<=F$10,MURmLOScore,IF(F277<=F$7,MURmBAScore,IF(F277<=F$8,MURmLQRScore,IF(F277<=F$9,MURmUQRScore,IF(F277<=F$11,MURmAAScore,MURmUOScore+F277-F$11))))))","v":""},{"$f":"IF(G277=\"\",\"\",IF(G277<=G$10,MURmLOScore,IF(G277<=G$7,MURmBAScore,IF(G277<=G$8,MURmLQRScore,IF(G277<=G$9,MURmUQRScore,IF(G277<=G$11,MURmAAScore,MURmUOScore+G277-G$11))))))","v":""},{"$f":"IF(H277=\"\",\"\",IF(H277<=H$10,MURmLOScore,IF(H277<=H$7,MURmBAScore,IF(H277<=H$8,MURmLQRScore,IF(H277<=H$9,MURmUQRScore,IF(H277<=H$11,MURmAAScore,MURmUOScore+H277-H$11))))))","v":""},{"$f":"IF(I277=\"\",\"\",IF(I277<=I$10,MURmLOScore,IF(I277<=I$7,MURmBAScore,IF(I277<=I$8,MURmLQRScore,IF(I277<=I$9,MURmUQRScore,IF(I277<=I$11,MURmAAScore,MURmUOScore+I277-I$11))))))","v":""},{"$f":"IF(J277=\"\",\"\",IF(J277<=J$10,MURmLOScore,IF(J277<=J$7,MURmBAScore,IF(J277<=J$8,MURmLQRScore,IF(J277<=J$9,MURmUQRScore,IF(J277<=J$11,MURmAAScore,MURmUOScore+J277-J$11))))))","v":""},{"$f":"IF(K277=\"\",\"\",IF(K277<=K$10,MURmLOScore,IF(K277<=K$7,MURmBAScore,IF(K277<=K$8,MURmLQRScore,IF(K277<=K$9,MURmUQRScore,IF(K277<=K$11,MURmAAScore,MURmUOScore+K277-K$11))))))","v":""},{"$f":"IF(L277=\"\",\"\",IF(L277<=L$10,MURmLOScore,IF(L277<=L$7,MURmBAScore,IF(L277<=L$8,MURmLQRScore,IF(L277<=L$9,MURmUQRScore,IF(L277<=L$11,MURmAAScore,MURmUOScore+L277-L$11))))))","v":""},{"$f":"IF(M277=\"\",\"\",IF(M277<=M$10,MURmLOScore,IF(M277<=M$7,MURmBAScore,IF(M277<=M$8,MURmLQRScore,IF(M277<=M$9,MURmUQRScore,IF(M277<=M$11,MURmAAScore,MURmUOScore+M277-M$11))))))","v":""},{"$f":"IF(N277=\"\",\"\",IF(N277<=N$10,MURmLOScore,IF(N277<=N$7,MURmBAScore,IF(N277<=N$8,MURmLQRScore,IF(N277<=N$9,MURmUQRScore,IF(N277<=N$11,MURmAAScore,MURmUOScore+N277-N$11))))))","v":""},{"$f":"IF(A277=\"\",\"\",SUM(S277:AD277))","v":""},{"$f":"IF(OR(A277=\"\",AE277=0),\"\",AE277/(O$18-R277))","v":""},{"$f":"IF(AF277=\"\",\"\",IF(AF277<=MURaLOScore,\"Lower Outlier\",IF(AF277<=MURaBAScore,\"Below Average\",IF(AF277<=MURaLQRScore,\"Lower Quartile\",IF(AF277<=MURaUQRScore,\"Upper Quartile\",IF(AF277<=MURaAAScore, \"Above Average\", \"Upper Outlier\"))))))","v":""},"","","","","","","","","","","","",{"$f":"IF(A277=\"\",\"\",MAX(AH277:AS277))","v":""},{"$f":"IF(OR(A277=\"\",MURMonthsPop=0),\"\",IF(AU$18=MURMonthsPop,AH277,#N/A))","v":""},{"$f":"IF(OR($A277=\"\",MURMonthsPop=0),\"\",IF(AV$18<MURMonthsPop,#N/A,IF(AV$18=MURMonthsPop,AI277,IF(AU277=\"\",\"\",IF(AV$18=MURMonthsPop+1,AU277+(AU277*VLOOKUP(MURMonthsPop-$R277,ForecastMult,3,FALSE)/12),AU277+AU277-AT277)))))","v":""},{"$f":"IF(OR($A277=\"\",MURMonthsPop=0),\"\",IF(AW$18<MURMonthsPop,#N/A,IF(AW$18=MURMonthsPop,AJ277,IF(AV277=\"\",\"\",IF(AW$18=MURMonthsPop+1,AV277+(AV277*VLOOKUP(MURMonthsPop-$R277,ForecastMult,3,FALSE)/12),AV277+AV277-AU277)))))","v":""},{"$f":"IF(OR($A277=\"\",MURMonthsPop=0),\"\",IF(AX$18<MURMonthsPop,#N/A,IF(AX$18=MURMonthsPop,AK277,IF(AW277=\"\",\"\",IF(AX$18=MURMonthsPop+1,AW277+(AW277*VLOOKUP(MURMonthsPop-$R277,ForecastMult,3,FALSE)/12),AW277+AW277-AV277)))))","v":""},{"$f":"IF(OR($A277=\"\",MURMonthsPop=0),\"\",IF(AY$18<MURMonthsPop,#N/A,IF(AY$18=MURMonthsPop,AL277,IF(AX277=\"\",\"\",IF(AY$18=MURMonthsPop+1,AX277+(AX277*VLOOKUP(MURMonthsPop-$R277,ForecastMult,3,FALSE)/12),AX277+AX277-AW277)))))","v":""},{"$f":"IF(OR($A277=\"\",MURMonthsPop=0),\"\",IF(AZ$18<MURMonthsPop,#N/A,IF(AZ$18=MURMonthsPop,AM277,IF(AY277=\"\",\"\",IF(AZ$18=MURMonthsPop+1,AY277+(AY277*VLOOKUP(MURMonthsPop-$R277,ForecastMult,3,FALSE)/12),AY277+AY277-AX277)))))","v":""},{"$f":"IF(OR($A277=\"\",MURMonthsPop=0),\"\",IF(BA$18<MURMonthsPop,#N/A,IF(BA$18=MURMonthsPop,AN277,IF(AZ277=\"\",\"\",IF(BA$18=MURMonthsPop+1,AZ277+(AZ277*VLOOKUP(MURMonthsPop-$R277,ForecastMult,3,FALSE)/12),AZ277+AZ277-AY277)))))","v":""},{"$f":"IF(OR($A277=\"\",MURMonthsPop=0),\"\",IF(BB$18<MURMonthsPop,#N/A,IF(BB$18=MURMonthsPop,AO277,IF(BA277=\"\",\"\",IF(BB$18=MURMonthsPop+1,BA277+(BA277*VLOOKUP(MURMonthsPop-$R277,ForecastMult,3,FALSE)/12),BA277+BA277-AZ277)))))","v":""},{"$f":"IF(OR($A277=\"\",MURMonthsPop=0),\"\",IF(BC$18<MURMonthsPop,#N/A,IF(BC$18=MURMonthsPop,AP277,IF(BB277=\"\",\"\",IF(BC$18=MURMonthsPop+1,BB277+(BB277*VLOOKUP(MURMonthsPop-$R277,ForecastMult,3,FALSE)/12),BB277+BB277-BA277)))))","v":""},{"$f":"IF(OR($A277=\"\",MURMonthsPop=0),\"\",IF(BD$18<MURMonthsPop,#N/A,IF(BD$18=MURMonthsPop,AQ277,IF(BC277=\"\",\"\",IF(BD$18=MURMonthsPop+1,BC277+(BC277*VLOOKUP(MURMonthsPop-$R277,ForecastMult,3,FALSE)/12),BC277+BC277-BB277)))))","v":""},{"$f":"IF(OR($A277=\"\",MURMonthsPop=0),\"\",IF(BE$18<MURMonthsPop,#N/A,IF(BE$18=MURMonthsPop,AR277,IF(BD277=\"\",\"\",IF(BE$18=MURMonthsPop+1,BD277+(BD277*VLOOKUP(MURMonthsPop-$R277,ForecastMult,3,FALSE)/12),BD277+BD277-BC277)))))","v":""},{"$f":"IF(OR($A277=\"\",MURMonthsPop=0),\"\",IF(BF$18<MURMonthsPop,#N/A,IF(BF$18=MURMonthsPop,AS277,IF(BE277=\"\",\"\",IF(BF$18=MURMonthsPop+1,BE277+(BE277*VLOOKUP(MURMonthsPop-$R277,ForecastMult,3,FALSE)/12),BE277+BE277-BD277)))))","v":""},{"$f":"IF(A277=\"\",\"\",MAX(IF(ISERROR(AU277:BF277),0,AU277:BF277)))","v":""},{"$f":"IF(AND(C$18=1,$A277<>\"\"),IF(ISNA(VLOOKUP($A277,INDIRECT(C$20),TOT_STDR_PXS_col,FALSE)),\"\",VLOOKUP($A277,INDIRECT(C$20),TOT_STDR_PXS_col,FALSE)+VLOOKUP($A277,INDIRECT(C$20),TOT_ZDR_PXS_col,FALSE)),\"\")","v":""},{"$f":"IF(AND(D$18=1,$A277<>\"\"),IF(ISNA(VLOOKUP($A277,INDIRECT(D$20),TOT_STDR_PXS_col,FALSE)),\"\",VLOOKUP($A277,INDIRECT(D$20),TOT_STDR_PXS_col,FALSE)+VLOOKUP($A277,INDIRECT(D$20),TOT_ZDR_PXS_col,FALSE)),\"\")","v":""},{"$f":"IF(AND(E$18=1,$A277<>\"\"),IF(ISNA(VLOOKUP($A277,INDIRECT(E$20),TOT_STDR_PXS_col,FALSE)),\"\",VLOOKUP($A277,INDIRECT(E$20),TOT_STDR_PXS_col,FALSE)+VLOOKUP($A277,INDIRECT(E$20),TOT_ZDR_PXS_col,FALSE)),\"\")","v":""},{"$f":"IF(AND(F$18=1,$A277<>\"\"),IF(ISNA(VLOOKUP($A277,INDIRECT(F$20),TOT_STDR_PXS_col,FALSE)),\"\",VLOOKUP($A277,INDIRECT(F$20),TOT_STDR_PXS_col,FALSE)+VLOOKUP($A277,INDIRECT(F$20),TOT_ZDR_PXS_col,FALSE)),\"\")","v":""},{"$f":"IF(AND(G$18=1,$A277<>\"\"),IF(ISNA(VLOOKUP($A277,INDIRECT(G$20),TOT_STDR_PXS_col,FALSE)),\"\",VLOOKUP($A277,INDIRECT(G$20),TOT_STDR_PXS_col,FALSE)+VLOOKUP($A277,INDIRECT(G$20),TOT_ZDR_PXS_col,FALSE)),\"\")","v":""},{"$f":"IF(AND(H$18=1,$A277<>\"\"),IF(ISNA(VLOOKUP($A277,INDIRECT(H$20),TOT_STDR_PXS_col,FALSE)),\"\",VLOOKUP($A277,INDIRECT(H$20),TOT_STDR_PXS_col,FALSE)+VLOOKUP($A277,INDIRECT(H$20),TOT_ZDR_PXS_col,FALSE)),\"\")","v":""},{"$f":"IF(AND(I$18=1,$A277<>\"\"),IF(ISNA(VLOOKUP($A277,INDIRECT(I$20),TOT_STDR_PXS_col,FALSE)),\"\",VLOOKUP($A277,INDIRECT(I$20),TOT_STDR_PXS_col,FALSE)+VLOOKUP($A277,INDIRECT(I$20),TOT_ZDR_PXS_col,FALSE)),\"\")","v":""},{"$f":"IF(AND(J$18=1,$A277<>\"\"),IF(ISNA(VLOOKUP($A277,INDIRECT(J$20),TOT_STDR_PXS_col,FALSE)),\"\",VLOOKUP($A277,INDIRECT(J$20),TOT_STDR_PXS_col,FALSE)+VLOOKUP($A277,INDIRECT(J$20),TOT_ZDR_PXS_col,FALSE)),\"\")","v":""},{"$f":"IF(AND(K$18=1,$A277<>\"\"),IF(ISNA(VLOOKUP($A277,INDIRECT(K$20),TOT_STDR_PXS_col,FALSE)),\"\",VLOOKUP($A277,INDIRECT(K$20),TOT_STDR_PXS_col,FALSE)+VLOOKUP($A277,INDIRECT(K$20),TOT_ZDR_PXS_col,FALSE)),\"\")","v":""},{"$f":"IF(AND(L$18=1,$A277<>\"\"),IF(ISNA(VLOOKUP($A277,INDIRECT(L$20),TOT_STDR_PXS_col,FALSE)),\"\",VLOOKUP($A277,INDIRECT(L$20),TOT_STDR_PXS_col,FALSE)+VLOOKUP($A277,INDIRECT(L$20),TOT_ZDR_PXS_col,FALSE)),\"\")","v":""},{"$f":"IF(AND(M$18=1,$A277<>\"\"),IF(ISNA(VLOOKUP($A277,INDIRECT(M$20),TOT_STDR_PXS_col,FALSE)),\"\",VLOOKUP($A277,INDIRECT(M$20),TOT_STDR_PXS_col,FALSE)+VLOOKUP($A277,INDIRECT(M$20),TOT_ZDR_PXS_col,FALSE)),\"\")","v":""},{"$f":"IF(AND(N$18=1,$A277<>\"\"),IF(ISNA(VLOOKUP($A277,INDIRECT(N$20),TOT_STDR_PXS_col,FALSE)),\"\",VLOOKUP($A277,INDIRECT(N$20),TOT_STDR_PXS_col,FALSE)+VLOOKUP($A277,INDIRECT(N$20),TOT_ZDR_PXS_col,FALSE)),\"\")","v":""},{"$f":"IF(A277=\"\",\"\",SUM(BH277:BS277))","v":""},{"$f":"IF(A277=\"\",\"\",MIN(B277:M277))","v":""},{"$f":"IF(A277=\"\",\"\",MAX(B277:M277))","v":""},{"$f":"IF(A277=\"\",\"\",BV277-BU277)","v":""},{"$f":"IF(A277=\"\",\"\",IF(BW277>$BW$11,\"Yes\",\"No\"))","v":""},{"$f":"IF(A277=\"\",\"\",(COUNTA(C277:N277)-COUNTBLANK(C277:N277)))","v":""},{"$f":"IF(A277=\"\",\"\",BY277-COUNTIF(C277:N277,\"=0\"))","v":""},{"$f":"IF(C$18=1,IF(ISNA(VLOOKUP($A277,INDIRECT(C$20),MUR_fee_col,FALSE)),\"\",VLOOKUP($A277,INDIRECT(C$20),MUR_fee_col,FALSE)),\"\")","v":""},{"$f":"IF(D$18=1,IF(ISNA(VLOOKUP($A277,INDIRECT(D$20),MUR_fee_col,FALSE)),\"\",VLOOKUP($A277,INDIRECT(D$20),MUR_fee_col,FALSE)),\"\")","v":""},{"$f":"IF(E$18=1,IF(ISNA(VLOOKUP($A277,INDIRECT(E$20),MUR_fee_col,FALSE)),\"\",VLOOKUP($A277,INDIRECT(E$20),MUR_fee_col,FALSE)),\"\")","v":""},{"$f":"IF(F$18=1,IF(ISNA(VLOOKUP($A277,INDIRECT(F$20),MUR_fee_col,FALSE)),\"\",VLOOKUP($A277,INDIRECT(F$20),MUR_fee_col,FALSE)),\"\")","v":""},{"$f":"IF(G$18=1,IF(ISNA(VLOOKUP($A277,INDIRECT(G$20),MUR_fee_col,FALSE)),\"\",VLOOKUP($A277,INDIRECT(G$20),MUR_fee_col,FALSE)),\"\")","v":""},{"$f":"IF(H$18=1,IF(ISNA(VLOOKUP($A277,INDIRECT(H$20),MUR_fee_col,FALSE)),\"\",VLOOKUP($A277,INDIRECT(H$20),MUR_fee_col,FALSE)),\"\")","v":""},{"$f":"IF(I$18=1,IF(ISNA(VLOOKUP($A277,INDIRECT(I$20),MUR_fee_col,FALSE)),\"\",VLOOKUP($A277,INDIRECT(I$20),MUR_fee_col,FALSE)),\"\")","v":""},{"$f":"IF(J$18=1,IF(ISNA(VLOOKUP($A277,INDIRECT(J$20),MUR_fee_col,FALSE)),\"\",VLOOKUP($A277,INDIRECT(J$20),MUR_fee_col,FALSE)),\"\")","v":""},{"$f":"IF(K$18=1,IF(ISNA(VLOOKUP($A277,INDIRECT(K$20),MUR_fee_col,FALSE)),\"\",VLOOKUP($A277,INDIRECT(K$20),MUR_fee_col,FALSE)),\"\")","v":""},{"$f":"IF(L$18=1,IF(ISNA(VLOOKUP($A277,INDIRECT(L$20),MUR_fee_col,FALSE)),\"\",VLOOKUP($A277,INDIRECT(L$20),MUR_fee_col,FALSE)),\"\")","v":""},{"$f":"IF(M$18=1,IF(ISNA(VLOOKUP($A277,INDIRECT(M$20),MUR_fee_col,FALSE)),\"\",VLOOKUP($A277,INDIRECT(M$20),MUR_fee_col,FALSE)),\"\")","v":""},{"$f":"IF(N$18=1,IF(ISNA(VLOOKUP($A277,INDIRECT(N$20),MUR_fee_col,FALSE)),\"\",VLOOKUP($A277,INDIRECT(N$20),MUR_fee_col,FALSE)),\"\")","v":""},{"$f":"IF(A277=\"\",\"\",SUM(CA277:CL277))","v":""},{"$f":"IF(C$18=1,IF(ISNA(VLOOKUP($A277,INDIRECT(C$20),MUR_Fee_adj_col,FALSE)),\"\",VLOOKUP($A277,INDIRECT(C$20),MUR_Fee_adj_col,FALSE)),\"\")","v":""},{"$f":"IF(D$18=1,IF(ISNA(VLOOKUP($A277,INDIRECT(D$20),MUR_Fee_adj_col,FALSE)),\"\",VLOOKUP($A277,INDIRECT(D$20),MUR_Fee_adj_col,FALSE)),\"\")","v":""},{"$f":"IF(E$18=1,IF(ISNA(VLOOKUP($A277,INDIRECT(E$20),MUR_Fee_adj_col,FALSE)),\"\",VLOOKUP($A277,INDIRECT(E$20),MUR_Fee_adj_col,FALSE)),\"\")","v":""},{"$f":"IF(F$18=1,IF(ISNA(VLOOKUP($A277,INDIRECT(F$20),MUR_Fee_adj_col,FALSE)),\"\",VLOOKUP($A277,INDIRECT(F$20),MUR_Fee_adj_col,FALSE)),\"\")","v":""},{"$f":"IF(G$18=1,IF(ISNA(VLOOKUP($A277,INDIRECT(G$20),MUR_Fee_adj_col,FALSE)),\"\",VLOOKUP($A277,INDIRECT(G$20),MUR_Fee_adj_col,FALSE)),\"\")","v":""},{"$f":"IF(H$18=1,IF(ISNA(VLOOKUP($A277,INDIRECT(H$20),MUR_Fee_adj_col,FALSE)),\"\",VLOOKUP($A277,INDIRECT(H$20),MUR_Fee_adj_col,FALSE)),\"\")","v":""},{"$f":"IF(I$18=1,IF(ISNA(VLOOKUP($A277,INDIRECT(I$20),MUR_Fee_adj_col,FALSE)),\"\",VLOOKUP($A277,INDIRECT(I$20),MUR_Fee_adj_col,FALSE)),\"\")","v":""},{"$f":"IF(J$18=1,IF(ISNA(VLOOKUP($A277,INDIRECT(J$20),MUR_Fee_adj_col,FALSE)),\"\",VLOOKUP($A277,INDIRECT(J$20),MUR_Fee_adj_col,FALSE)),\"\")","v":""},{"$f":"IF(K$18=1,IF(ISNA(VLOOKUP($A277,INDIRECT(K$20),MUR_Fee_adj_col,FALSE)),\"\",VLOOKUP($A277,INDIRECT(K$20),MUR_Fee_adj_col,FALSE)),\"\")","v":""},{"$f":"IF(L$18=1,IF(ISNA(VLOOKUP($A277,INDIRECT(L$20),MUR_Fee_adj_col,FALSE)),\"\",VLOOKUP($A277,INDIRECT(L$20),MUR_Fee_adj_col,FALSE)),\"\")","v":""},{"$f":"IF(M$18=1,IF(ISNA(VLOOKUP($A277,INDIRECT(M$20),MUR_Fee_adj_col,FALSE)),\"\",VLOOKUP($A277,INDIRECT(M$20),MUR_Fee_adj_col,FALSE)),\"\")","v":""},{"$f":"IF(N$18=1,IF(ISNA(VLOOKUP($A277,INDIRECT(N$20),MUR_Fee_adj_col,FALSE)),\"\",VLOOKUP($A277,INDIRECT(N$20),MUR_Fee_adj_col,FALSE)),\"\")","v":""},{"$f":"IF(A277=\"\",\"\",SUM(CN277:CY277))","v":""}]
[{"$f":"IF(ISBLANK('Control Sheet'!D260),\"\",'Control Sheet'!D260)","v":""},{"$f":"IF(ISBLANK('Control Sheet'!E260),\"\",'Control Sheet'!E260&\" (\"&'Control Sheet'!F260&\")\")","v":""},"","","","","","","","","","","","","",null,"","","","","","","","","","","","","","","","","","","","","","","","","","","","","","","","","","","","","","","","","","",{"$f":"IF(A280=\"\",\"\",MAX(IF(ISERROR(AU280:BF280),0,AU280:BF280)))","v":""},"","","","","","","","","","","","","","","","","","","","","","","","","","","","","","","","","","","","","","","","","","","","",""]
[{"$f":"IF(ISBLANK('Control Sheet'!D262),\"\",'Control Sheet'!D262)","v":""},{"$f":"IF(ISBLANK('Control Sheet'!E262),\"\",'Control Sheet'!E262&\" (\"&'Control Sheet'!F262&\")\")","v":""},"","","","","","","","","","","","","",null,"","","","","","","","","","","","","","","","","","","","","","","","","","","","","","","","","","","","","","","","","","",{"$f":"IF(A282=\"\",\"\",MAX(IF(ISERROR(AU282:BF282),0,AU282:BF282)))","v":""},"","","","","","","","","","","","","","","","","","","","","","","","","","","","","","","","","","","","","","","","","","","","",""]
[{"$f":"IF(ISBLANK('Control Sheet'!D266),\"\",'Control Sheet'!D266)","v":""},{"$f":"IF(ISBLANK('Control Sheet'!E266),\"\",'Control Sheet'!E266&\" (\"&'Control Sheet'!F266&\")\")","v":""},"","","","","","","","","","","","","",null,"","","","","","","","","","","","","","","","","","","","","","","","","","","","","","","","","","","","","","","","","","",{"$f":"IF(A286=\"\",\"\",MAX(IF(ISERROR(AU286:BF286),0,AU286:BF286)))","v":""},"","","","","","","","","","","","","","","","","","","","","","","","","","","","","","","","","","","","","","","","","","","","",""]
[{"$f":"IF(ISBLANK('Control Sheet'!D269),\"\",'Control Sheet'!D269)","v":""},{"$f":"IF(ISBLANK('Control Sheet'!E269),\"\",'Control Sheet'!E269&\" (\"&'Control Sheet'!F269&\")\")","v":""},"","","","","","","","","","","","","",null,"","","","","","","","","","","","","","","","","","","","","","","","","","","","","","","","","","","","","","","","","","",{"$f":"IF(A289=\"\",\"\",MAX(IF(ISERROR(AU289:BF289),0,AU289:BF289)))","v":""},"","","","","","","","","","","","","","","","","","","","","","","","","","","","","","","","","","","","","","","","","","","","",""]
[{"$f":"IF(ISBLANK('Control Sheet'!D270),\"\",'Control Sheet'!D270)","v":""},{"$f":"IF(ISBLANK('Control Sheet'!E270),\"\",'Control Sheet'!E270&\" (\"&'Control Sheet'!F270&\")\")","v":""},"","","","","","","","","","","","","",null,"","","","","","","","","","","","","","","","","","","","","","","","","","","","","","","","","","","","","","","","","","",{"$f":"IF(A290=\"\",\"\",MAX(IF(ISERROR(AU290:BF290),0,AU290:BF290)))","v":""},"","","","","","","","","","","","","","","","","","","","","","","","","","","","","","","","","","","","","","","","","","","","",""]
[{"$f":"IF(ISBLANK('Control Sheet'!D273),\"\",'Control Sheet'!D273)","v":""},{"$f":"IF(ISBLANK('Control Sheet'!E273),\"\",'Control Sheet'!E273&\" (\"&'Control Sheet'!F273&\")\")","v":""},"","","","","","","","","","","","","",null,"","","","","","","","","","","","","","","","","","","","","","","","","","","","","","","","","","","","","","","","","","",{"$f":"IF(A293=\"\",\"\",MAX(IF(ISERROR(AU293:BF293),0,AU293:BF293)))","v":""},"","","","","","","","","","","","","","","","","","","","","","","","","","","","","","","","","","","","","","","","","","","","",""]
[{"$f":"IF(ISBLANK('Control Sheet'!D277),\"\",'Control Sheet'!D277)","v":""},{"$f":"IF(ISBLANK('Control Sheet'!E277),\"\",'Control Sheet'!E277&\" (\"&'Control Sheet'!F277&\")\")","v":""},"","","","","","","","","","","","","",null,"","","","","","","","","","","","","","","","","","","","","","","","","","","","","","","","","","","","","","","","","","",{"$f":"IF(A297=\"\",\"\",MAX(IF(ISERROR(AU297:BF297),0,AU297:BF297)))","v":""},"","","","","","","","","","","","","","","","","","","","","","","","","","","","","","","","","","","","","","","","","","","","",""]
[{"$f":"IF(ISBLANK('Control Sheet'!D279),\"\",'Control Sheet'!D279)","v":""},{"$f":"IF(ISBLANK('Control Sheet'!E279),\"\",'Control Sheet'!E279&\" (\"&'Control Sheet'!F279&\")\")","v":""},"","","","","","","","","","","","","",null,"","","","","","","","","","","","","","","","","","","","","","","","","","","","","","","","","","","","","","","","","","",{"$f":"IF(A299=\"\",\"\",MAX(IF(ISERROR(AU299:BF299),0,AU299:BF299)))","v":""},"","","","","","","","","","","","","","","","","","","","","","","","","","","","","","","","","","","","","","","","","","","","",""]
[{"$f":"IF(ISBLANK('Control Sheet'!D282),\"\",'Control Sheet'!D282)","v":""},{"$f":"IF(ISBLANK('Control Sheet'!E282),\"\",'Control Sheet'!E282&\" (\"&'Control Sheet'!F282&\")\")","v":""},"","","","","","","","","","","","","",null,"","","","","","","","","","","","","","","","","","","","","","","","","","","","","","","","","","","","","","","","","","",{"$f":"IF(A302=\"\",\"\",MAX(IF(ISERROR(AU302:BF302),0,AU302:BF302)))","v":""},"","","","","","","","","","","","","","","","","","","","","","","","","","","","","","","","","","","","","","","","","","","","",""]
[{"$f":"IF(ISBLANK('Control Sheet'!D286),\"\",'Control Sheet'!D286)","v":""},{"$f":"IF(ISBLANK('Control Sheet'!E286),\"\",'Control Sheet'!E286&\" (\"&'Control Sheet'!F286&\")\")","v":""},"","","","","","","","","","","","","",null,"","","","","","","","","","","","","","","","","","","","","","","","","","","","","","","","","","","","","","","","","","",{"$f":"IF(A306=\"\",\"\",MAX(IF(ISERROR(AU306:BF306),0,AU306:BF306)))","v":""},"","","","","","","","","","","","","","","","","","","","","","","","","","","","","","","","","","","","","","","","","","","","",""]
[{"$f":"IF(ISBLANK('Control Sheet'!D289),\"\",'Control Sheet'!D289)","v":""},{"$f":"IF(ISBLANK('Control Sheet'!E289),\"\",'Control Sheet'!E289&\" (\"&'Control Sheet'!F289&\")\")","v":""},"","","","","","","","","","","","","",null,"","","","","","","","","","","","","","","","","","","","","","","","","","","","","","","","","","","","","","","","","","",{"$f":"IF(A309=\"\",\"\",MAX(IF(ISERROR(AU309:BF309),0,AU309:BF309)))","v":""},"","","","","","","","","","","","","","","","","","","","","","","","","","","","","","","","","","","","","","","","","","","","",""]
[{"$f":"IF(ISBLANK('Control Sheet'!D290),\"\",'Control Sheet'!D290)","v":""},{"$f":"IF(ISBLANK('Control Sheet'!E290),\"\",'Control Sheet'!E290&\" (\"&'Control Sheet'!F290&\")\")","v":""},"","","","","","","","","","","","","",null,"","","","","","","","","","","","","","","","","","","","","","","","","","","","","","","","","","","","","","","","","","",{"$f":"IF(A310=\"\",\"\",MAX(IF(ISERROR(AU310:BF310),0,AU310:BF310)))","v":""},"","","","","","","","","","","","","","","","","","","","","","","","","","","","","","","","","","","","","","","","","","","","",""]
[{"$f":"IF(ISBLANK('Control Sheet'!D294),\"\",'Control Sheet'!D294)","v":""},{"$f":"IF(ISBLANK('Control Sheet'!E294),\"\",'Control Sheet'!E294&\" (\"&'Control Sheet'!F294&\")\")","v":""},"","","","","","","","","","","","","",null,"","","","","","","","","","","","","","","","","","","","","","","","","","","","","","","","","","","","","","","","","","",{"$f":"IF(A314=\"\",\"\",MAX(IF(ISERROR(AU314:BF314),0,AU314:BF314)))","v":""},"","","","","","","","","","","","","","","","","","","","","","","","","","","","","","","","","","","","","","","","","","","","",""]
[{"$f":"IF(ISBLANK('Control Sheet'!D295),\"\",'Control Sheet'!D295)","v":""},{"$f":"IF(ISBLANK('Control Sheet'!E295),\"\",'Control Sheet'!E295&\" (\"&'Control Sheet'!F295&\")\")","v":""},"","","","","","","","","","","","","",null,"","","","","","","","","","","","","","","","","","","","","","","","","","","","","","","","","","","","","","","","","","",{"$f":"IF(A315=\"\",\"\",MAX(IF(ISERROR(AU315:BF315),0,AU315:BF315)))","v":""},"","","","","","","","","","","","","","","","","","","","","","","","","","","","","","","","","","","","","","","","","","","","",""]
[{"$f":"IF(ISBLANK('Control Sheet'!D299),\"\",'Control Sheet'!D299)","v":""},{"$f":"IF(ISBLANK('Control Sheet'!E299),\"\",'Control Sheet'!E299&\" (\"&'Control Sheet'!F299&\")\")","v":""},"","","","","","","","","","","","","",null,"","","","","","","","","","","","","","","","","","","","","","","","","","","","","","","","","","","","","","","","","","",{"$f":"IF(A319=\"\",\"\",MAX(IF(ISERROR(AU319:BF319),0,AU319:BF319)))","v":""},"","","","","","","","","","","","","","","","","","","","","","","","","","","","","","","","","","","","","","","","","","","","",""]
[{"$f":"IF(ISBLANK('Control Sheet'!D302),\"\",'Control Sheet'!D302)","v":""},{"$f":"IF(ISBLANK('Control Sheet'!E302),\"\",'Control Sheet'!E302&\" (\"&'Control Sheet'!F302&\")\")","v":""},"","","","","","","","","","","","","",null,"","","","","","","","","","","","","","","","","","","","","","","","","","","","","","","","","","","","","","","","","","",{"$f":"IF(A322=\"\",\"\",MAX(IF(ISERROR(AU322:BF322),0,AU322:BF322)))","v":""},"","","","","","","","","","","","","","","","","","","","","","","","","","","","","","","","","","","","","","","","","","","","",""]
[{"$f":"IF(ISBLANK('Control Sheet'!D305),\"\",'Control Sheet'!D305)","v":""},{"$f":"IF(ISBLANK('Control Sheet'!E305),\"\",'Control Sheet'!E305&\" (\"&'Control Sheet'!F305&\")\")","v":""},"","","","","","","","","","","","","",null,"","","","","","","","","","","","","","","","","","","","","","","","","","","","","","","","","","","","","","","","","","",{"$f":"IF(A325=\"\",\"\",MAX(IF(ISERROR(AU325:BF325),0,AU325:BF325)))","v":""},"","","","","","","","","","","","","","","","","","","","","","","","","","","","","","","","","","","","","","","","","","","","",""]
[{"$f":"IF(ISBLANK('Control Sheet'!D309),\"\",'Control Sheet'!D309)","v":""},{"$f":"IF(ISBLANK('Control Sheet'!E309),\"\",'Control Sheet'!E309&\" (\"&'Control Sheet'!F309&\")\")","v":""},"","","","","","","","","","","","","",null,"","","","","","","","","","","","","","","","","","","","","","","","","","","","","","","","","","","","","","","","","","",{"$f":"IF(A329=\"\",\"\",MAX(IF(ISERROR(AU329:BF329),0,AU329:BF329)))","v":""},"","","","","","","","","","","","","","","","","","","","","","","","","","","","","","","","","","","","","","","","","","","","",""]
[{"$f":"IF(ISBLANK('Control Sheet'!D311),\"\",'Control Sheet'!D311)","v":""},{"$f":"IF(ISBLANK('Control Sheet'!E311),\"\",'Control Sheet'!E311&\" (\"&'Control Sheet'!F311&\")\")","v":""},{"$f":"IF(C$18=1,IF(ISNA(VLOOKUP($A331,INDIRECT(C$20),MUR_col,FALSE)),\"\",VLOOKUP($A331,INDIRECT(C$20),MUR_col,FALSE)),\"\")","v":""},"","","","","","","","","","","","",null,"","","","","","","","","","","","","","","","","","","","","","","","","","","","","","","","","","","","","","","","","","",{"$f":"IF(A331=\"\",\"\",MAX(IF(ISERROR(AU331:BF331),0,AU331:BF331)))","v":""},"","","","","","","","","","","","","","","","","","","","","","","","","","","","","","","","","","","","","","","","","","","","",""]
[{"$f":"IF(ISBLANK('Control Sheet'!D312),\"\",'Control Sheet'!D312)","v":""},{"$f":"IF(ISBLANK('Control Sheet'!E312),\"\",'Control Sheet'!E312&\" (\"&'Control Sheet'!F312&\")\")","v":""},"","","","","","","","","","","","","",null,"","","","","","","","","","","","","","","","","","","","","","","","","","","","","","","","","","","","","","","","","","",{"$f":"IF(A332=\"\",\"\",MAX(IF(ISERROR(AU332:BF332),0,AU332:BF332)))","v":""},"","","","","","","","","","","","","","","","","","","","","","","","","","","","","","","","","","","","","","","","","","","","",""]
[{"$f":"IF(ISBLANK('Control Sheet'!D315),\"\",'Control Sheet'!D315)","v":""},{"$f":"IF(ISBLANK('Control Sheet'!E315),\"\",'Control Sheet'!E315&\" (\"&'Control Sheet'!F315&\")\")","v":""},"","","","","","","","","","","","","",null,"","","","","","","","","","","","","","","","","","","","","","","","","","","","","","","","","","","","","","","","","","",{"$f":"IF(A335=\"\",\"\",MAX(IF(ISERROR(AU335:BF335),0,AU335:BF335)))","v":""},"","","","","","","","","","","","","","","","","","","","","","","","","","","","","","","","","","","","","","","","","","","","",""]
[{"$f":"IF(ISBLANK('Control Sheet'!D318),\"\",'Control Sheet'!D318)","v":""},{"$f":"IF(ISBLANK('Control Sheet'!E318),\"\",'Control Sheet'!E318&\" (\"&'Control Sheet'!F318&\")\")","v":""},"","","","","","","","","","","","","",null,"","","","","","","","","","","","","","","","","","","","","","","","","","","","","","","","","","","","","","","","","","",{"$f":"IF(A338=\"\",\"\",MAX(IF(ISERROR(AU338:BF338),0,AU338:BF338)))","v":""},"","","","","","","","","","","","","","","","","","","","","","","","","","","","","","","","","","","","","","","","","","","","",""]
[{"$f":"IF(ISBLANK('Control Sheet'!D322),\"\",'Control Sheet'!D322)","v":""},{"$f":"IF(ISBLANK('Control Sheet'!E322),\"\",'Control Sheet'!E322&\" (\"&'Control Sheet'!F322&\")\")","v":""},"","","","","","","","","","","","","",null,{"$f":"IF(A342=\"\",\"\",IF(BG342<=400,\"No\",\"Yes\"))","v":""},"","","","","","","","","","","","","","","","",{"$f":"IF(C$18=1,C342,\"\")","v":""},{"$f":"IF(D$18=1,IF(D342=\"\",IF(AH342=\"\",\"\",AH342),IF(AND(D342>=0,AH342=\"\"),D342,IF(ISERROR(D342+AH342),#N/A,D342+AH342))),\"\")","v":""},{"$f":"IF(E$18=1,IF(E342=\"\",IF(AI342=\"\",\"\",AI342),IF(AND(E342>=0,AI342=\"\"),E342,IF(ISERROR(E342+AI342),#N/A,E342+AI342))),\"\")","v":""},{"$f":"IF(F$18=1,IF(F342=\"\",IF(AJ342=\"\",\"\",AJ342),IF(AND(F342>=0,AJ342=\"\"),F342,IF(ISERROR(F342+AJ342),#N/A,F342+AJ342))),\"\")","v":""},{"$f":"IF(G$18=1,IF(G342=\"\",IF(AK342=\"\",\"\",AK342),IF(AND(G342>=0,AK342=\"\"),G342,IF(ISERROR(G342+AK342),#N/A,G342+AK342))),\"\")","v":""},{"$f":"IF(H$18=1,IF(H342=\"\",IF(AL342=\"\",\"\",AL342),IF(AND(H342>=0,AL342=\"\"),H342,IF(ISERROR(H342+AL342),#N/A,H342+AL342))),\"\")","v":""},{"$f":"IF(I$18=1,IF(I342=\"\",IF(AM342=\"\",\"\",AM342),IF(AND(I342>=0,AM342=\"\"),I342,IF(ISERROR(I342+AM342),#N/A,I342+AM342))),\"\")","v":""},{"$f":"IF(J$18=1,IF(J342=\"\",IF(AN342=\"\",\"\",AN342),IF(AND(J342>=0,AN342=\"\"),J342,IF(ISERROR(J342+AN342),#N/A,J342+AN342))),\"\")","v":""},{"$f":"IF(K$18=1,IF(K342=\"\",IF(AO342=\"\",\"\",AO342),IF(AND(K342>=0,AO342=\"\"),K342,IF(ISERROR(K342+AO342),#N/A,K342+AO342))),\"\")","v":""},{"$f":"IF(L$18=1,IF(L342=\"\",IF(AP342=\"\",\"\",AP342),IF(AND(L342>=0,AP342=\"\"),L342,IF(ISERROR(L342+AP342),#N/A,L342+AP342))),\"\")","v":""},{"$f":"IF(M$18=1,IF(M342=\"\",IF(AQ342=\"\",\"\",AQ342),IF(AND(M342>=0,AQ342=\"\"),M342,IF(ISERROR(M342+AQ342),#N/A,M342+AQ342))),\"\")","v":""},{"$f":"IF(N$18=1,IF(N342=\"\",IF(AR342=\"\",\"\",AR342),IF(AND(N342>=0,AR342=\"\"),N342,IF(ISERROR(N342+AR342),#N/A,N342+AR342))),\"\")","v":""},"","","","","","","","","","","","","",{"$f":"IF(A342=\"\",\"\",MAX(IF(ISERROR(AU342:BF342),0,AU342:BF342)))","v":""},"","","","","","","","","","","","","","","","","","","","","","","","","","","","","","","","","","","","","","","","","","","","",""]
[{"$f":"IF(ISBLANK('Control Sheet'!D325),\"\",'Control Sheet'!D325)","v":""},{"$f":"IF(ISBLANK('Control Sheet'!E325),\"\",'Control Sheet'!E325&\" (\"&'Control Sheet'!F325&\")\")","v":""},"","","","","","","","","","","","","",null,"","","","","","","","","","","","","","","","","","","","","","","","","","","","","","","","","","","","","","","","","","",{"$f":"IF(A345=\"\",\"\",MAX(IF(ISERROR(AU345:BF345),0,AU345:BF345)))","v":""},"","","","","","","","","","","","","","","","","","","","","","","","","","","","","","","","","","","","","","","","","","","","",""]
[{"$f":"IF(ISBLANK('Control Sheet'!D328),\"\",'Control Sheet'!D328)","v":""},{"$f":"IF(ISBLANK('Control Sheet'!E328),\"\",'Control Sheet'!E328&\" (\"&'Control Sheet'!F328&\")\")","v":""},"","","","","","","","","","","","","",null,"","","","","","","","","","","","","","","","","","","","","","","","","","","","","","","","","","","","","","","","","","",{"$f":"IF(A348=\"\",\"\",MAX(IF(ISERROR(AU348:BF348),0,AU348:BF348)))","v":""},"","","","","","","","","","","","","","","","","","","","","","","","","","","","","","","","","","","","","","","","","","","","",""]
[{"$f":"IF(ISBLANK('Control Sheet'!D331),\"\",'Control Sheet'!D331)","v":""},{"$f":"IF(ISBLANK('Control Sheet'!E331),\"\",'Control Sheet'!E331&\" (\"&'Control Sheet'!F331&\")\")","v":""},{"$f":"IF(C$18=1,IF(ISNA(VLOOKUP($A351,INDIRECT(C$20),MUR_col,FALSE)),\"\",VLOOKUP($A351,INDIRECT(C$20),MUR_col,FALSE)),\"\")","v":""},"","","","","","","","","","","","",null,"","","","","","","","","","","","","","","","","","","","","","","","","","","","","","","","","","","","","","","","","","",{"$f":"IF(A351=\"\",\"\",MAX(IF(ISERROR(AU351:BF351),0,AU351:BF351)))","v":""},"","","","","","","","","","","","","","","","","","","","","","","","","","","","","","","","","","","","","","","","","","","","",""]
[{"$f":"IF(ISBLANK('Control Sheet'!D334),\"\",'Control Sheet'!D334)","v":""},{"$f":"IF(ISBLANK('Control Sheet'!E334),\"\",'Control Sheet'!E334&\" (\"&'Control Sheet'!F334&\")\")","v":""},"","","","","","","","","","","","","",null,"","","","","","","","","","","","","","","","","","","","","","","","","","","","","","","","","","","","","","","","","","",{"$f":"IF(A354=\"\",\"\",MAX(IF(ISERROR(AU354:BF354),0,AU354:BF354)))","v":""},"","","","","","","","","","","","","","","","","","","","","","","","","","","","","","","","","","","","","","","","","","","","",""]
[{"$f":"IF(ISBLANK('Control Sheet'!D335),\"\",'Control Sheet'!D335)","v":""},{"$f":"IF(ISBLANK('Control Sheet'!E335),\"\",'Control Sheet'!E335&\" (\"&'Control Sheet'!F335&\")\")","v":""},"","","","","","","","","","","","","",null,"","","","","","","","","","","","","","","","","","","","","","","","","","","","","","","","","","","","","","","","","","",{"$f":"IF(A355=\"\",\"\",MAX(IF(ISERROR(AU355:BF355),0,AU355:BF355)))","v":""},"","","","","","","","","","","","","","","","","","","","","","","","","","","","","","","","","","","","","","","","","","","","",""]
[{"$f":"IF(ISBLANK('Control Sheet'!D338),\"\",'Control Sheet'!D338)","v":""},{"$f":"IF(ISBLANK('Control Sheet'!E338),\"\",'Control Sheet'!E338&\" (\"&'Control Sheet'!F338&\")\")","v":""},"","","","","","","","","","","","","",null,"","","","","","","","","","","","","","","","","","","","","","","","","","","","","","","","","","","","","","","","","","",{"$f":"IF(A358=\"\",\"\",MAX(IF(ISERROR(AU358:BF358),0,AU358:BF358)))","v":""},"","","","","","","","","","","","","","","","","","","","","","","","","","","","","","","","","","","","","","","","","","","","",""]
[{"$f":"IF(ISBLANK('Control Sheet'!D341),\"\",'Control Sheet'!D341)","v":""},{"$f":"IF(ISBLANK('Control Sheet'!E341),\"\",'Control Sheet'!E341&\" (\"&'Control Sheet'!F341&\")\")","v":""},{"$f":"IF(C$18=1,IF(ISNA(VLOOKUP($A361,INDIRECT(C$20),MUR_col,FALSE)),\"\",VLOOKUP($A361,INDIRECT(C$20),MUR_col,FALSE)),\"\")","v":""},"","","","","","","","","","","","",null,"","","","","","","","","","","","","","","","","","","","","","","","","","","","","","","","","","","","","","","","","","",{"$f":"IF(A361=\"\",\"\",MAX(IF(ISERROR(AU361:BF361),0,AU361:BF361)))","v":""},"","","","","","","","","","","","","","","","","","","","","","","","","","","","","","","","","","","","","","","","","","","","",""]
[{"$f":"IF(ISBLANK('Control Sheet'!D344),\"\",'Control Sheet'!D344)","v":""},{"$f":"IF(ISBLANK('Control Sheet'!E344),\"\",'Control Sheet'!E344&\" (\"&'Control Sheet'!F344&\")\")","v":""},"","","","","","","","","","","","","",null,"","","","","","","","","","","","","","","","","","","","","","","","","","","","","","","","","","","","","","","","","","",{"$f":"IF(A364=\"\",\"\",MAX(IF(ISERROR(AU364:BF364),0,AU364:BF364)))","v":""},"","","","","","","","","","","","","","","","","","","","","","","","","","","","","","","","","","","","","","","","","","","","",""]
[{"$f":"IF(ISBLANK('Control Sheet'!D347),\"\",'Control Sheet'!D347)","v":""},{"$f":"IF(ISBLANK('Control Sheet'!E347),\"\",'Control Sheet'!E347&\" (\"&'Control Sheet'!F347&\")\")","v":""},"","","","","","","","","","","","","",null,"","","","","","","","","","","","","","","","","","","","","","","","","","","","","","","","","","","","","","","","","","",{"$f":"IF(A367=\"\",\"\",MAX(IF(ISERROR(AU367:BF367),0,AU367:BF367)))","v":""},"","","","","","","","","","","","","","","","","","","","","","","","","","","","","","","","","","","","","","","","","","","","",""]
[{"$f":"IF(ISBLANK('Control Sheet'!D351),\"\",'Control Sheet'!D351)","v":""},{"$f":"IF(ISBLANK('Control Sheet'!E351),\"\",'Control Sheet'!E351&\" (\"&'Control Sheet'!F351&\")\")","v":""},{"$f":"IF(C$18=1,IF(ISNA(VLOOKUP($A371,INDIRECT(C$20),MUR_col,FALSE)),\"\",VLOOKUP($A371,INDIRECT(C$20),MUR_col,FALSE)),\"\")","v":""},"","","","","","","","","","","","",null,"","","","","","","","","","","","","","","","","","","","","","","","","","","","","","","","","","","","","","","","","","",{"$f":"IF(A371=\"\",\"\",MAX(IF(ISERROR(AU371:BF371),0,AU371:BF371)))","v":""},"","","","","","","","","","","","","","","","","","","","","","","","","","","","","","","","","","","","","","","","","","","","",""]
[{"$f":"IF(ISBLANK('Control Sheet'!D354),\"\",'Control Sheet'!D354)","v":""},{"$f":"IF(ISBLANK('Control Sheet'!E354),\"\",'Control Sheet'!E354&\" (\"&'Control Sheet'!F354&\")\")","v":""},"","","","","","","","","","","","","",null,"","","","","","","","","","","","","","","","","","","","","","","","","","","","","","","","","","","","","","","","","","",{"$f":"IF(A374=\"\",\"\",MAX(IF(ISERROR(AU374:BF374),0,AU374:BF374)))","v":""},"","","","","","","","","","","","","","","","","","","","","","","","","","","","","","","","","","","","","","","","","","","","",""]
[{"$f":"IF(ISBLANK('Control Sheet'!D357),\"\",'Control Sheet'!D357)","v":""},{"$f":"IF(ISBLANK('Control Sheet'!E357),\"\",'Control Sheet'!E357&\" (\"&'Control Sheet'!F357&\")\")","v":""},"","","","","","","","","","","","","",null,"","","","","","","","","","","","","","","","","","","","","","","","","","","","","","","","","","","","","","","","","","",{"$f":"IF(A377=\"\",\"\",MAX(IF(ISERROR(AU377:BF377),0,AU377:BF377)))","v":""},"","","","","","","","","","","","","","","","","","","","","","","","","","","","","","","","","","","","","","","","","","","","",""]
[{"$f":"IF(ISBLANK('Control Sheet'!D358),\"\",'Control Sheet'!D358)","v":""},{"$f":"IF(ISBLANK('Control Sheet'!E358),\"\",'Control Sheet'!E358&\" (\"&'Control Sheet'!F358&\")\")","v":""},"","","","","","","","","","","","","",null,"","","","","","","","","","","","","","","","","","","","","","","","","","","","","","","","","","","","","","","","","","",{"$f":"IF(A378=\"\",\"\",MAX(IF(ISERROR(AU378:BF378),0,AU378:BF378)))","v":""},"","","","","","","","","","","","","","","","","","","","","","","","","","","","","","","","","","","","","","","","","","","","",""]
[{"$f":"IF(ISBLANK('Control Sheet'!D360),\"\",'Control Sheet'!D360)","v":""},{"$f":"IF(ISBLANK('Control Sheet'!E360),\"\",'Control Sheet'!E360&\" (\"&'Control Sheet'!F360&\")\")","v":""},"","","","","","","","","","","","","",null,"","","","","","","","","","","","","","","","","","","","","","","","","","","","","","","","","","","","","","","","","","",{"$f":"IF(A380=\"\",\"\",MAX(IF(ISERROR(AU380:BF380),0,AU380:BF380)))","v":""},"","","","","","","","","","","","","","","","","","","","","","","","","","","","","","","","","","","","","","","","","","","","",""]
[{"$f":"IF(ISBLANK('Control Sheet'!D363),\"\",'Control Sheet'!D363)","v":""},{"$f":"IF(ISBLANK('Control Sheet'!E363),\"\",'Control Sheet'!E363&\" (\"&'Control Sheet'!F363&\")\")","v":""},"","","","","","","","","","","","","",null,"","","","","","","","","","","","","","","","","","","","","","","","","","","","","","","","","","","","","","","","","","",{"$f":"IF(A383=\"\",\"\",MAX(IF(ISERROR(AU383:BF383),0,AU383:BF383)))","v":""},"","","","","","","","","","","","","","","","","","","","","","","","","","","","","","","","","","","","","","","","","","","","",""]
[{"$f":"IF(ISBLANK('Control Sheet'!D367),\"\",'Control Sheet'!D367)","v":""},{"$f":"IF(ISBLANK('Control Sheet'!E367),\"\",'Control Sheet'!E367&\" (\"&'Control Sheet'!F367&\")\")","v":""},"","","","","","","","","","","","","",null,"","","","","","","","","","","","","","","","","","","","","","","","","","","","","","","","","","","","","","","","","","",{"$f":"IF(A387=\"\",\"\",MAX(IF(ISERROR(AU387:BF387),0,AU387:BF387)))","v":""},"","","","","","","","","","","","","","","","","","","","","","","","","","","","","","","","","","","","","","","","","","","","",""]
[{"$f":"IF(ISBLANK('Control Sheet'!D370),\"\",'Control Sheet'!D370)","v":""},{"$f":"IF(ISBLANK('Control Sheet'!E370),\"\",'Control Sheet'!E370&\" (\"&'Control Sheet'!F370&\")\")","v":""},"","","","","","","","","","","","","",null,"","","","","","","","","","","","","","","","","","","","","","","","","","","","","","","","","","","","","","","","","","",{"$f":"IF(A390=\"\",\"\",MAX(IF(ISERROR(AU390:BF390),0,AU390:BF390)))","v":""},"","","","","","","","","","","","","","","","","","","","","","","","","","","","","","","","","","","","","","","","","","","","",""]
[{"$f":"IF(ISBLANK('Control Sheet'!D374),\"\",'Control Sheet'!D374)","v":""},{"$f":"IF(ISBLANK('Control Sheet'!E374),\"\",'Control Sheet'!E374&\" (\"&'Control Sheet'!F374&\")\")","v":""},"","","","","","","","","","","","","",null,"","","","","","","","","","","","","","","","","","","","","","","","","","","","","","","","","","","","","","","","","","",{"$f":"IF(A394=\"\",\"\",MAX(IF(ISERROR(AU394:BF394),0,AU394:BF394)))","v":""},"","","","","","","","","","","","","","","","","","","","","","","","","","","","","","","","","","","","","","","","","","","","",""]
[{"$f":"IF(ISBLANK('Control Sheet'!D375),\"\",'Control Sheet'!D375)","v":""},{"$f":"IF(ISBLANK('Control Sheet'!E375),\"\",'Control Sheet'!E375&\" (\"&'Control Sheet'!F375&\")\")","v":""},"","","","","","","","","","","","","",null,"","","","","","","","","","","","","","","","","","","","","","","","","","","","","","","","","","","","","","","","","","",{"$f":"IF(A395=\"\",\"\",MAX(IF(ISERROR(AU395:BF395),0,AU395:BF395)))","v":""},"","","","","","","","","","","","","","","","","","","","","","","","","","","","","","","","","","","","","","","","","","","","",""]
[{"$f":"IF(ISBLANK('Control Sheet'!D379),\"\",'Control Sheet'!D379)","v":""},{"$f":"IF(ISBLANK('Control Sheet'!E379),\"\",'Control Sheet'!E379&\" (\"&'Control Sheet'!F379&\")\")","v":""},"","","","","","","","","","","","","",null,"","","","","","","","","","","","","","","","","","","","","","","","","","","","","","","","","","","","","","","","","","",{"$f":"IF(A399=\"\",\"\",MAX(IF(ISERROR(AU399:BF399),0,AU399:BF399)))","v":""},"","","","","","","","","","","","","","","","","","","","","","","","","","","","","","","","","","","","","","","","","","","","",""]
[{"$f":"IF(ISBLANK('Control Sheet'!D380),\"\",'Control Sheet'!D380)","v":""},{"$f":"IF(ISBLANK('Control Sheet'!E380),\"\",'Control Sheet'!E380&\" (\"&'Control Sheet'!F380&\")\")","v":""},"","","","","","","","","","","","","",null,"","","","","","","","","","","","","","","","","","","","","","","","","","","","","","","","","","","","","","","","","","",{"$f":"IF(A400=\"\",\"\",MAX(IF(ISERROR(AU400:BF400),0,AU400:BF400)))","v":""},"","","","","","","","","","","","","","","","","","","","","","","","","","","","","","","","","","","","","","","","","","","","",""]
[{"$f":"IF(ISBLANK('Control Sheet'!D383),\"\",'Control Sheet'!D383)","v":""},{"$f":"IF(ISBLANK('Control Sheet'!E383),\"\",'Control Sheet'!E383&\" (\"&'Control Sheet'!F383&\")\")","v":""},"","","","","","","","","","","","","",null,"","","","","","","","","","","","","","","","","","","","","","","","","","","","","","","","","","","","","","","","","","",{"$f":"IF(A403=\"\",\"\",MAX(IF(ISERROR(AU403:BF403),0,AU403:BF403)))","v":""},"","","","","","","","","","","","","","","","","","","","","","","","","","","","","","","","","","","","","","","","","","","","",""]
[{"$f":"IF(ISBLANK('Control Sheet'!D387),\"\",'Control Sheet'!D387)","v":""},{"$f":"IF(ISBLANK('Control Sheet'!E387),\"\",'Control Sheet'!E387&\" (\"&'Control Sheet'!F387&\")\")","v":""},"","","","","","","","","","","","","",null,"","","","","","","","","","","","","","","","","","","","","","","","","","","","","","","","","","","","","","","","","","",{"$f":"IF(A407=\"\",\"\",MAX(IF(ISERROR(AU407:BF407),0,AU407:BF407)))","v":""},"","","","","","","","","","","","","","","","","","","","","","","","","","","","","","","","","","","","","","","","","","","","",""]
[{"$f":"IF(ISBLANK('Control Sheet'!D390),\"\",'Control Sheet'!D390)","v":""},{"$f":"IF(ISBLANK('Control Sheet'!E390),\"\",'Control Sheet'!E390&\" (\"&'Control Sheet'!F390&\")\")","v":""},"","","","","","","","","","","","","",null,"","","","","","","","","","","","","","","","","","","","","","","","","","","","","","","","","","","","","","","","","","",{"$f":"IF(A410=\"\",\"\",MAX(IF(ISERROR(AU410:BF410),0,AU410:BF410)))","v":""},"","","","","","","","","","","","","","","","","","","","","","","","","","","","","","","","","","","","","","","","","","","","",""]
[{"$f":"IF(ISBLANK('Control Sheet'!D392),\"\",'Control Sheet'!D392)","v":""},{"$f":"IF(ISBLANK('Control Sheet'!E392),\"\",'Control Sheet'!E392&\" (\"&'Control Sheet'!F392&\")\")","v":""},"","","","","","","","","","","","","",null,"","","","","","","","","","","","","","","","","","","","","","","","","","","","","","","","","","","","","","","","","","",{"$f":"IF(A412=\"\",\"\",MAX(IF(ISERROR(AU412:BF412),0,AU412:BF412)))","v":""},"","","","","","","","","","","","","","","","","","","","","","","","","","","","","","","","","","","","","","","","","","","","",""]
[{"$f":"IF(ISBLANK('Control Sheet'!D396),\"\",'Control Sheet'!D396)","v":""},{"$f":"IF(ISBLANK('Control Sheet'!E396),\"\",'Control Sheet'!E396&\" (\"&'Control Sheet'!F396&\")\")","v":""},"","","","","","","","","","","","","",null,"","","","","","","","","","","","","","","","","","","","","","","","","","","","","","","","","","","","","","","","","","",{"$f":"IF(A416=\"\",\"\",MAX(IF(ISERROR(AU416:BF416),0,AU416:BF416)))","v":""},"","","","","","","","","","","","","","","","","","","","","","","","","","","","","","","","","","","","","","","","","","","","",""]
[{"$f":"IF(ISBLANK('Control Sheet'!D399),\"\",'Control Sheet'!D399)","v":""},{"$f":"IF(ISBLANK('Control Sheet'!E399),\"\",'Control Sheet'!E399&\" (\"&'Control Sheet'!F399&\")\")","v":""},"","","","","","","","","","","","","",null,"","","","","","","","","","","","","","","","","","","","","","","","","","","","","","","","","","","","","","","","","","",{"$f":"IF(A419=\"\",\"\",MAX(IF(ISERROR(AU419:BF419),0,AU419:BF419)))","v":""},"","","","","","","","","","","","","","","","","","","","","","","","","","","","","","","","","","","","","","","","","","","","",""]
[{"$f":"IF(ISBLANK('Control Sheet'!D402),\"\",'Control Sheet'!D402)","v":""},{"$f":"IF(ISBLANK('Control Sheet'!E402),\"\",'Control Sheet'!E402&\" (\"&'Control Sheet'!F402&\")\")","v":""},"","","","","","","","","","","","","",null,"","","","","","","","","","","","","","","","","","","","","","","","","","","","","","","","","","","","","","","","","","",{"$f":"IF(A422=\"\",\"\",MAX(IF(ISERROR(AU422:BF422),0,AU422:BF422)))","v":""},"","","","","","","","","","","","","","","","","","","","","","","","","","","","","","","","","","","","","","","","","","","","",""]
[{"$f":"IF(ISBLANK('Control Sheet'!D403),\"\",'Control Sheet'!D403)","v":""},{"$f":"IF(ISBLANK('Control Sheet'!E403),\"\",'Control Sheet'!E403&\" (\"&'Control Sheet'!F403&\")\")","v":""},"","","","","","","","","","","","","",null,"","","","","","","","","","","","","","","","","","","","","","","","","","","","","","","","","","","","","","","","","","",{"$f":"IF(A423=\"\",\"\",MAX(IF(ISERROR(AU423:BF423),0,AU423:BF423)))","v":""},"","","","","","","","","","","","","","","","","","","","","","","","","","","","","","","","","","","","","","","","","","","","",""]
[{"$f":"IF(ISBLANK('Control Sheet'!D407),\"\",'Control Sheet'!D407)","v":""},{"$f":"IF(ISBLANK('Control Sheet'!E407),\"\",'Control Sheet'!E407&\" (\"&'Control Sheet'!F407&\")\")","v":""},"","","","","","","","","","","","","",null,"","","","","","","","","","","","","","","","","","","","","","","","","","","","","","","","","","","","","","","","","","",{"$f":"IF(A427=\"\",\"\",MAX(IF(ISERROR(AU427:BF427),0,AU427:BF427)))","v":""},"","","","","","","","","","","","","","","","","","","","","","","","","","","","","","","","","","","","","","","","","","","","",""]
[{"$f":"IF(ISBLANK('Control Sheet'!D409),\"\",'Control Sheet'!D409)","v":""},{"$f":"IF(ISBLANK('Control Sheet'!E409),\"\",'Control Sheet'!E409&\" (\"&'Control Sheet'!F409&\")\")","v":""},"","","","","","","","","","","","","",null,"","","","","","","","","","","","","","","","","","","","","","","","","","","","","","","","","","","","","","","","","","",{"$f":"IF(A429=\"\",\"\",MAX(IF(ISERROR(AU429:BF429),0,AU429:BF429)))","v":""},"","","","","","","","","","","","","","","","","","","","","","","","","","","","","","","","","","","","","","","","","","","","",""]
[{"$f":"IF(ISBLANK('Control Sheet'!D412),\"\",'Control Sheet'!D412)","v":""},{"$f":"IF(ISBLANK('Control Sheet'!E412),\"\",'Control Sheet'!E412&\" (\"&'Control Sheet'!F412&\")\")","v":""},"","","","","","","","","","","","","",null,"","","","","","","","","","","","","","","","","","","","","","","","","","","","","","","","","","","","","","","","","","",{"$f":"IF(A432=\"\",\"\",MAX(IF(ISERROR(AU432:BF432),0,AU432:BF432)))","v":""},"","","","","","","","","","","","","","","","","","","","","","","","","","","","","","","","","","","","","","","","","","","","",""]
[{"$f":"IF(ISBLANK('Control Sheet'!D415),\"\",'Control Sheet'!D415)","v":""},{"$f":"IF(ISBLANK('Control Sheet'!E415),\"\",'Control Sheet'!E415&\" (\"&'Control Sheet'!F415&\")\")","v":""},"","","","","","","","","","","","","",null,"","","","","","","","","","","","","","","","","","","","","","","","","","","","","","","","","","","","","","","","","","",{"$f":"IF(A435=\"\",\"\",MAX(IF(ISERROR(AU435:BF435),0,AU435:BF435)))","v":""},"","","","","","","","","","","","","","","","","","","","","","","","","","","","","","","","","","","","","","","","","","","","",""]
[{"$f":"IF(ISBLANK('Control Sheet'!D419),\"\",'Control Sheet'!D419)","v":""},{"$f":"IF(ISBLANK('Control Sheet'!E419),\"\",'Control Sheet'!E419&\" (\"&'Control Sheet'!F419&\")\")","v":""},"","","","","","","","","","","","","",null,"","","","","","","","","","","","","","","","","","","","","","","","","","","","","","","","","","","","","","","","","","",{"$f":"IF(A439=\"\",\"\",MAX(IF(ISERROR(AU439:BF439),0,AU439:BF439)))","v":""},"","","","","","","","","","","","","","","","","","","","","","","","","","","","","","","","","","","","","","","","","","","","",""]
[{"$f":"IF(ISBLANK('Control Sheet'!D422),\"\",'Control Sheet'!D422)","v":""},{"$f":"IF(ISBLANK('Control Sheet'!E422),\"\",'Control Sheet'!E422&\" (\"&'Control Sheet'!F422&\")\")","v":""},"","","","","","","","","","","","","",null,"","","","","","","","","","","","","","","","","","","","","","","","","","","","","","","","","","","","","","","","","","",{"$f":"IF(A442=\"\",\"\",MAX(IF(ISERROR(AU442:BF442),0,AU442:BF442)))","v":""},"","","","","","","","","","","","","","","","","","","","","","","","","","","","","","","","","","","","","","","","","","","","",""]
[{"$f":"IF(ISBLANK('Control Sheet'!D424),\"\",'Control Sheet'!D424)","v":""},{"$f":"IF(ISBLANK('Control Sheet'!E424),\"\",'Control Sheet'!E424&\" (\"&'Control Sheet'!F424&\")\")","v":""},"","","","","","","","","","","","","",null,"","","","","","","","","","","","","","","","","","","","","","","","","","","","","","","","","","","","","","","","","","",{"$f":"IF(A444=\"\",\"\",MAX(IF(ISERROR(AU444:BF444),0,AU444:BF444)))","v":""},"","","","","","","","","","","","","","","","","","","","","","","","","","","","","","","","","","","","","","","","","","","","",""]
[{"$f":"IF(ISBLANK('Control Sheet'!D425),\"\",'Control Sheet'!D425)","v":""},{"$f":"IF(ISBLANK('Control Sheet'!E425),\"\",'Control Sheet'!E425&\" (\"&'Control Sheet'!F425&\")\")","v":""},"","","","","","","","","","","","","",null,"","","","","","","","","","","","","","","","","","","","","","","","","","","","","","","","","","","","","","","","","","",{"$f":"IF(A445=\"\",\"\",MAX(IF(ISERROR(AU445:BF445),0,AU445:BF445)))","v":""},"","","","","","","","","","","","","","","","","","","","","","","","","","","","","","","","","","","","","","","","","","","","",""]
[{"$f":"IF(ISBLANK('Control Sheet'!D428),\"\",'Control Sheet'!D428)","v":""},{"$f":"IF(ISBLANK('Control Sheet'!E428),\"\",'Control Sheet'!E428&\" (\"&'Control Sheet'!F428&\")\")","v":""},"","","","","","","","","","","","","",null,"","","","","","","","","","","","","","","","","","","","","","","","","","","","","","","","","","","","","","","","","","",{"$f":"IF(A448=\"\",\"\",MAX(IF(ISERROR(AU448:BF448),0,AU448:BF448)))","v":""},"","","","","","","","","","","","","","","","","","","","","","","","","","","","","","","","","","","","","","","","","","","","",""]
[{"$f":"IF(ISBLANK('Control Sheet'!D432),\"\",'Control Sheet'!D432)","v":""},{"$f":"IF(ISBLANK('Control Sheet'!E432),\"\",'Control Sheet'!E432&\" (\"&'Control Sheet'!F432&\")\")","v":""},"","","","","","","","","","","","","",null,"","","","","","","","","","","","","","","","","","","","","","","","","","","","","","","","","","","","","","","","","","",{"$f":"IF(A452=\"\",\"\",MAX(IF(ISERROR(AU452:BF452),0,AU452:BF452)))","v":""},"","","","","","","","","","","","","","","","","","","","","","","","","","","","","","","","","","","","","","","","","","","","",""]
[{"$f":"IF(ISBLANK('Control Sheet'!D435),\"\",'Control Sheet'!D435)","v":""},{"$f":"IF(ISBLANK('Control Sheet'!E435),\"\",'Control Sheet'!E435&\" (\"&'Control Sheet'!F435&\")\")","v":""},"","","","","","","","","","","","","",null,"","","","","","","","","","","","","","","","","","","","","","","","","","","","","","","","","","","","","","","","","","",{"$f":"IF(A455=\"\",\"\",MAX(IF(ISERROR(AU455:BF455),0,AU455:BF455)))","v":""},"","","","","","","","","","","","","","","","","","","","","","","","","","","","","","","","","","","","","","","","","","","","",""]
[{"$f":"IF(ISBLANK('Control Sheet'!D437),\"\",'Control Sheet'!D437)","v":""},{"$f":"IF(ISBLANK('Control Sheet'!E437),\"\",'Control Sheet'!E437&\" (\"&'Control Sheet'!F437&\")\")","v":""},"","","","","","","","","","","","","",null,"","","","","","","","","","","","","","","","","","","","","","","","","","","","","","","","","","","","","","","","","","",{"$f":"IF(A457=\"\",\"\",MAX(IF(ISERROR(AU457:BF457),0,AU457:BF457)))","v":""},"","","","","","","","","","","","","","","","","","","","","","","","","","","","","","","","","","","","","","","","","","","","",""]
[{"$f":"IF(ISBLANK('Control Sheet'!D441),\"\",'Control Sheet'!D441)","v":""},{"$f":"IF(ISBLANK('Control Sheet'!E441),\"\",'Control Sheet'!E441&\" (\"&'Control Sheet'!F441&\")\")","v":""},{"$f":"IF(C$18=1,IF(ISNA(VLOOKUP($A461,INDIRECT(C$20),MUR_col,FALSE)),\"\",VLOOKUP($A461,INDIRECT(C$20),MUR_col,FALSE)),\"\")","v":""},"","","","","","","","","","","","",null,"","","","","","","","","","","","","","","","","","","","","","","","","","","","","","","","","","","","","","","","","","",{"$f":"IF(A461=\"\",\"\",MAX(IF(ISERROR(AU461:BF461),0,AU461:BF461)))","v":""},"","","","","","","","","","","","","","","","","","","","","","","","","","","","","","","","","","","","","","","","","","","","",""]
[{"$f":"IF(ISBLANK('Control Sheet'!D444),\"\",'Control Sheet'!D444)","v":""},{"$f":"IF(ISBLANK('Control Sheet'!E444),\"\",'Control Sheet'!E444&\" (\"&'Control Sheet'!F444&\")\")","v":""},"","","","","","","","","","","","","",null,"","","","","","","","","","","","","","","","","","","","","","","","","","","","","","","","","","","","","","","","","","",{"$f":"IF(A464=\"\",\"\",MAX(IF(ISERROR(AU464:BF464),0,AU464:BF464)))","v":""},"","","","","","","","","","","","","","","","","","","","","","","","","","","","","","","","","","","","","","","","","","","","",""]
[{"$f":"IF(ISBLANK('Control Sheet'!D445),\"\",'Control Sheet'!D445)","v":""},{"$f":"IF(ISBLANK('Control Sheet'!E445),\"\",'Control Sheet'!E445&\" (\"&'Control Sheet'!F445&\")\")","v":""},"","","","","","","","","","","","","",null,"","","","","","","","","","","","","","","","","","","","","","","","","","","","","","","","","","","","","","","","","","",{"$f":"IF(A465=\"\",\"\",MAX(IF(ISERROR(AU465:BF465),0,AU465:BF465)))","v":""},"","","","","","","","","","","","","","","","","","","","","","","","","","","","","","","","","","","","","","","","","","","","",""]
[{"$f":"IF(ISBLANK('Control Sheet'!D448),\"\",'Control Sheet'!D448)","v":""},{"$f":"IF(ISBLANK('Control Sheet'!E448),\"\",'Control Sheet'!E448&\" (\"&'Control Sheet'!F448&\")\")","v":""},"","","","","","","","","","","","","",null,"","","","","","","","","","","","","","","","","","","","","","","","","","","","","","","","","","","","","","","","","","",{"$f":"IF(A468=\"\",\"\",MAX(IF(ISERROR(AU468:BF468),0,AU468:BF468)))","v":""},"","","","","","","","","","","","","","","","","","","","","","","","","","","","","","","","","","","","","","","","","","","","",""]
[{"$f":"IF(ISBLANK('Control Sheet'!D451),\"\",'Control Sheet'!D451)","v":""},{"$f":"IF(ISBLANK('Control Sheet'!E451),\"\",'Control Sheet'!E451&\" (\"&'Control Sheet'!F451&\")\")","v":""},{"$f":"IF(C$18=1,IF(ISNA(VLOOKUP($A471,INDIRECT(C$20),MUR_col,FALSE)),\"\",VLOOKUP($A471,INDIRECT(C$20),MUR_col,FALSE)),\"\")","v":""},"","","","","","","","","","","","",null,"","","","","","","","","","","","","","","","","","","","","","","","","","","","","","","","","","","","","","","","","","",{"$f":"IF(A471=\"\",\"\",MAX(IF(ISERROR(AU471:BF471),0,AU471:BF471)))","v":""},"","","","","","","","","","","","","","","","","","","","","","","","","","","","","","","","","","","","","","","","","","","","",""]
[{"$f":"IF(ISBLANK('Control Sheet'!D454),\"\",'Control Sheet'!D454)","v":""},{"$f":"IF(ISBLANK('Control Sheet'!E454),\"\",'Control Sheet'!E454&\" (\"&'Control Sheet'!F454&\")\")","v":""},"","","","","","","","","","","","","",null,"","","","","","","","","","","","","","","","","","","","","","","","","","","","","","","","","","","","","","","","","","",{"$f":"IF(A474=\"\",\"\",MAX(IF(ISERROR(AU474:BF474),0,AU474:BF474)))","v":""},"","","","","","","","","","","","","","","","","","","","","","","","","","","","","","","","","","","","","","","","","","","","",""]
[{"$f":"IF(ISBLANK('Control Sheet'!D457),\"\",'Control Sheet'!D457)","v":""},{"$f":"IF(ISBLANK('Control Sheet'!E457),\"\",'Control Sheet'!E457&\" (\"&'Control Sheet'!F457&\")\")","v":""},"","","","","","","","","","","","","",null,"","","","","","","","","","","","","","","","","","","","","","","","","","","","","","","","","","","","","","","","","","",{"$f":"IF(A477=\"\",\"\",MAX(IF(ISERROR(AU477:BF477),0,AU477:BF477)))","v":""},"","","","","","","","","","","","","","","","","","","","","","","","","","","","","","","","","","","","","","","","","","","","",""]
[{"$f":"IF(ISBLANK('Control Sheet'!D460),\"\",'Control Sheet'!D460)","v":""},{"$f":"IF(ISBLANK('Control Sheet'!E460),\"\",'Control Sheet'!E460&\" (\"&'Control Sheet'!F460&\")\")","v":""},"","","","","","","","","","","","","",null,"","","","","","","","","","","","","","","","","","","","","","","","","","","","","","","","","","","","","","","","","","",{"$f":"IF(A480=\"\",\"\",MAX(IF(ISERROR(AU480:BF480),0,AU480:BF480)))","v":""},"","","","","","","","","","","","","","","","","","","","","","","","","","","","","","","","","","","","","","","","","","","","",""]
[{"$f":"IF(ISBLANK('Control Sheet'!D464),\"\",'Control Sheet'!D464)","v":""},{"$f":"IF(ISBLANK('Control Sheet'!E464),\"\",'Control Sheet'!E464&\" (\"&'Control Sheet'!F464&\")\")","v":""},"","","","","","","","","","","","","",null,"","","","","","","","","","","","","","","","","","","","","","","","","","","","","","","","","","","","","","","","","","",{"$f":"IF(A484=\"\",\"\",MAX(IF(ISERROR(AU484:BF484),0,AU484:BF484)))","v":""},"","","","","","","","","","","","","","","","","","","","","","","","","","","","","","","","","","","","","","","","","","","","",""]
[{"$f":"IF(ISBLANK('Control Sheet'!D467),\"\",'Control Sheet'!D467)","v":""},{"$f":"IF(ISBLANK('Control Sheet'!E467),\"\",'Control Sheet'!E467&\" (\"&'Control Sheet'!F467&\")\")","v":""},"","","","","","","","","","","","","",null,"","","","","","","","","","","","","","","","","","","","","","","","","","","","","","","","","","","","","","","","","","",{"$f":"IF(A487=\"\",\"\",MAX(IF(ISERROR(AU487:BF487),0,AU487:BF487)))","v":""},"","","","","","","","","","","","","","","","","","","","","","","","","","","","","","","","","","","","","","","","","","","","",""]
[{"$f":"IF(ISBLANK('Control Sheet'!D468),\"\",'Control Sheet'!D468)","v":""},{"$f":"IF(ISBLANK('Control Sheet'!E468),\"\",'Control Sheet'!E468&\" (\"&'Control Sheet'!F468&\")\")","v":""},"","","","","","","","","","","","","",null,"","","","","","","","","","","","","","","","","","","","","","","","","","","","","","","","","","","","","","","","","","",{"$f":"IF(A488=\"\",\"\",MAX(IF(ISERROR(AU488:BF488),0,AU488:BF488)))","v":""},"","","","","","","","","","","","","","","","","","","","","","","","","","","","","","","","","","","","","","","","","","","","",""]
[{"$f":"IF(ISBLANK('Control Sheet'!D471),\"\",'Control Sheet'!D471)","v":""},{"$f":"IF(ISBLANK('Control Sheet'!E471),\"\",'Control Sheet'!E471&\" (\"&'Control Sheet'!F471&\")\")","v":""},{"$f":"IF(C$18=1,IF(ISNA(VLOOKUP($A491,INDIRECT(C$20),MUR_col,FALSE)),\"\",VLOOKUP($A491,INDIRECT(C$20),MUR_col,FALSE)),\"\")","v":""},"","","","","","","","","","","","",null,"","","","","","","","","","","","","","","","","","","","","","","","","","","","","","","","","","","","","","","","","","",{"$f":"IF(A491=\"\",\"\",MAX(IF(ISERROR(AU491:BF491),0,AU491:BF491)))","v":""},"","","","","","","","","","","","","","","","","","","","","","","","","","","","","","","","","","","","","","","","","","","","",""]
[{"$f":"IF(ISBLANK('Control Sheet'!D473),\"\",'Control Sheet'!D473)","v":""},{"$f":"IF(ISBLANK('Control Sheet'!E473),\"\",'Control Sheet'!E473&\" (\"&'Control Sheet'!F473&\")\")","v":""},"","","","","","","","","","","","","",null,"","","","","","","","","","","","","","","","","","","","","","","","","","","","","","","","","","","","","","","","","","",{"$f":"IF(A493=\"\",\"\",MAX(IF(ISERROR(AU493:BF493),0,AU493:BF493)))","v":""},"","","","","","","","","","","","","","","","","","","","","","","","","","","","","","","","","","","","","","","","","","","","",""]
[{"$f":"IF(ISBLANK('Control Sheet'!D477),\"\",'Control Sheet'!D477)","v":""},{"$f":"IF(ISBLANK('Control Sheet'!E477),\"\",'Control Sheet'!E477&\" (\"&'Control Sheet'!F477&\")\")","v":""},"","","","","","","","","","","","","",null,"","","","","","","","","","","","","","","","","","","","","","","","","","","","","","","","","","","","","","","","","","",{"$f":"IF(A497=\"\",\"\",MAX(IF(ISERROR(AU497:BF497),0,AU497:BF497)))","v":""},"","","","","","","","","","","","","","","","","","","","","","","","","","","","","","","","","","","","","","","","","","","","",""]
[{"$f":"IF(ISBLANK('Control Sheet'!D480),\"\",'Control Sheet'!D480)","v":""},{"$f":"IF(ISBLANK('Control Sheet'!E480),\"\",'Control Sheet'!E480&\" (\"&'Control Sheet'!F480&\")\")","v":""},"","","","","","","","","","","","","",null,"","","","","","","","","","","","","","","","","","","","","","","","","","","","","","","","","","","","","","","","","","",{"$f":"IF(A500=\"\",\"\",MAX(IF(ISERROR(AU500:BF500),0,AU500:BF500)))","v":""},"","","","","","","","","","","","","","","","","","","","","","","","","","","","","","","","","","","","","","","","","","","","",""]
[{"$f":"IF(ISBLANK('Control Sheet'!D483),\"\",'Control Sheet'!D483)","v":""},{"$f":"IF(ISBLANK('Control Sheet'!E483),\"\",'Control Sheet'!E483&\" (\"&'Control Sheet'!F483&\")\")","v":""},"","","","","","","","","","","","","",null,"","","","","","","","","","","","","","","","","","","","","","","","","","","","","","","","","","","","","","","","","","",{"$f":"IF(A503=\"\",\"\",MAX(IF(ISERROR(AU503:BF503),0,AU503:BF503)))","v":""},"","","","","","","","","","","","","","","","","","","","","","","","","","","","","","","","","","","","","","","","","","","","",""]
[{"$f":"IF(ISBLANK('Control Sheet'!D486),\"\",'Control Sheet'!D486)","v":""},{"$f":"IF(ISBLANK('Control Sheet'!E486),\"\",'Control Sheet'!E486&\" (\"&'Control Sheet'!F486&\")\")","v":""},"","","","","","","","","","","","","",null,"","","","","","","","","","","","","","","","","","","","","","","","","","","","","","","","","","","","","","","","","","",{"$f":"IF(A506=\"\",\"\",MAX(IF(ISERROR(AU506:BF506),0,AU506:BF506)))","v":""},"","","","","","","","","","","","","","","","","","","","","","","","","","","","","","","","","","","","","","","","","","","","",""]
[{"$f":"IF(ISBLANK('Control Sheet'!D489),\"\",'Control Sheet'!D489)","v":""},{"$f":"IF(ISBLANK('Control Sheet'!E489),\"\",'Control Sheet'!E489&\" (\"&'Control Sheet'!F489&\")\")","v":""},"","","","","","","","","","","","","",null,"","","","","","","","","","","","","","","","","","","","","","","","","","","","","","","","","","","","","","","","","","",{"$f":"IF(A509=\"\",\"\",MAX(IF(ISERROR(AU509:BF509),0,AU509:BF509)))","v":""},"","","","","","","","","","","","","","","","","","","","","","","","","","","","","","","","","","","","","","","","","","","","",""]
[{"$f":"IF(ISBLANK('Control Sheet'!D490),\"\",'Control Sheet'!D490)","v":""},{"$f":"IF(ISBLANK('Control Sheet'!E490),\"\",'Control Sheet'!E490&\" (\"&'Control Sheet'!F490&\")\")","v":""},"","","","","","","","","","","","","",null,"","","","","","","","","","","","","","","","","","","","","","","","","","","","","","","","","","","","","","","","","","",{"$f":"IF(A510=\"\",\"\",MAX(IF(ISERROR(AU510:BF510),0,AU510:BF510)))","v":""},"","","","","","","","","","","","","","","","","","","","","","","","","","","","","","","","","","","","","","","","","","","","",""]
[{"$f":"IF(ISBLANK('Control Sheet'!D493),\"\",'Control Sheet'!D493)","v":""},{"$f":"IF(ISBLANK('Control Sheet'!E493),\"\",'Control Sheet'!E493&\" (\"&'Control Sheet'!F493&\")\")","v":""},"","","","","","","","","","","","","",null,"","","","","","","","","","","","","","","","","","","","","","","","","","","","","","","","","","","","","","","","","","",{"$f":"IF(A513=\"\",\"\",MAX(IF(ISERROR(AU513:BF513),0,AU513:BF513)))","v":""},"","","","","","","","","","","","","","","","","","","","","","","","","","","","","","","","","","","","","","","","","","","","",""]
[{"$f":"IF(ISBLANK('Control Sheet'!D496),\"\",'Control Sheet'!D496)","v":""},{"$f":"IF(ISBLANK('Control Sheet'!E496),\"\",'Control Sheet'!E496&\" (\"&'Control Sheet'!F496&\")\")","v":""},"","","","","","","","","","","","","",null,"","","","","","","","","","","","","","","","","","","","","","","","","","","","","","","","","","","","","","","","","","",{"$f":"IF(A516=\"\",\"\",MAX(IF(ISERROR(AU516:BF516),0,AU516:BF516)))","v":""},"","","","","","","","","","","","","","","","","","","","","","","","","","","","","","","","","","","","","","","","","","","","",""]
[{"$f":"IF(ISBLANK('Control Sheet'!D500),\"\",'Control Sheet'!D500)","v":""},{"$f":"IF(ISBLANK('Control Sheet'!E500),\"\",'Control Sheet'!E500&\" (\"&'Control Sheet'!F500&\")\")","v":""},"","","","","","","","","","","","","",null,"","","","","","","","","","","","","","","","","","","","","","","","","","","","","","","","","","","","","","","","","","",{"$f":"IF(A520=\"\",\"\",MAX(IF(ISERROR(AU520:BF520),0,AU520:BF520)))","v":""},"","","","","","","","","","","","","","","","","","","","","","","","","","","","","","","","","","","","","","","","","","","","",""]
[{"$f":"IF(ISBLANK('Control Sheet'!D503),\"\",'Control Sheet'!D503)","v":""},{"$f":"IF(ISBLANK('Control Sheet'!E503),\"\",'Control Sheet'!E503&\" (\"&'Control Sheet'!F503&\")\")","v":""},"","","","","","","","","","","","","",null,"","","","","","","","","","","","","","","","","","","","","","","","","","","","","","","","","","","","","","","","","","",{"$f":"IF(A523=\"\",\"\",MAX(IF(ISERROR(AU523:BF523),0,AU523:BF523)))","v":""},"","","","","","","","","","","","","","","","","","","","","","","","","","","","","","","","","","","","","","","","","","","","",""]
[{"$f":"IF(ISBLANK('Control Sheet'!D506),\"\",'Control Sheet'!D506)","v":""},{"$f":"IF(ISBLANK('Control Sheet'!E506),\"\",'Control Sheet'!E506&\" (\"&'Control Sheet'!F506&\")\")","v":""},"","","","","","","","","","","","","",null,"","","","","","","","","","","","","","","","","","","","","","","","","","","","","","","","","","","","","","","","","","",{"$f":"IF(A526=\"\",\"\",MAX(IF(ISERROR(AU526:BF526),0,AU526:BF526)))","v":""},"","","","","","","","","","","","","","","","","","","","","","","","","","","","","","","","","","","","","","","","","","","","",""]
[{"$f":"IF(ISBLANK('Control Sheet'!D509),\"\",'Control Sheet'!D509)","v":""},{"$f":"IF(ISBLANK('Control Sheet'!E509),\"\",'Control Sheet'!E509&\" (\"&'Control Sheet'!F509&\")\")","v":""},"","","","","","","","","","","","","",null,"","","","","","","","","","","","","","","","","","","","","","","","","","","","","","","","","","","","","","","","","","",{"$f":"IF(A529=\"\",\"\",MAX(IF(ISERROR(AU529:BF529),0,AU529:BF529)))","v":""},"","","","","","","","","","","","","","","","","","","","","","","","","","","","","","","","","","","","","","","","","","","","",""]
[{"$f":"IF(ISBLANK('Control Sheet'!D512),\"\",'Control Sheet'!D512)","v":""},{"$f":"IF(ISBLANK('Control Sheet'!E512),\"\",'Control Sheet'!E512&\" (\"&'Control Sheet'!F512&\")\")","v":""},"","","","","","","","","","","","","",null,"","","","","","","","","","","","","","","","","","","","","","","","","","","","","","","","","","","","","","","","","","",{"$f":"IF(A532=\"\",\"\",MAX(IF(ISERROR(AU532:BF532),0,AU532:BF532)))","v":""},"","","","","","","","","","","","","","","","","","","","","","","","","","","","","","","","","","","","","","","","","","","","",""]
[{"$f":"IF(ISBLANK('Control Sheet'!D513),\"\",'Control Sheet'!D513)","v":""},{"$f":"IF(ISBLANK('Control Sheet'!E513),\"\",'Control Sheet'!E513&\" (\"&'Control Sheet'!F513&\")\")","v":""},"","","","","","","","","","","","",{"$f":"IF(A533=\"\",\"\",SUM(C533:N533))","v":""},null,"",{"$f":"IF(A533=\"\",\"\",MURMonthsPop-(COUNTA(C533:N533)-COUNTBLANK(C533:N533)))","v":""},{"$f":"IF(C533=\"\",\"\",IF(C533<=C$10,MURmLOScore,IF(C533<=C$7,MURmBAScore,IF(C533<=C$8,MURmLQRScore,IF(C533<=C$9,MURmUQRScore,IF(C533<=C$11,MURmAAScore,MURmUOScore+C533-C$11))))))","v":""},{"$f":"IF(D533=\"\",\"\",IF(D533<=D$10,MURmLOScore,IF(D533<=D$7,MURmBAScore,IF(D533<=D$8,MURmLQRScore,IF(D533<=D$9,MURmUQRScore,IF(D533<=D$11,MURmAAScore,MURmUOScore+D533-D$11))))))","v":""},{"$f":"IF(E533=\"\",\"\",IF(E533<=E$10,MURmLOScore,IF(E533<=E$7,MURmBAScore,IF(E533<=E$8,MURmLQRScore,IF(E533<=E$9,MURmUQRScore,IF(E533<=E$11,MURmAAScore,MURmUOScore+E533-E$11))))))","v":""},{"$f":"IF(F533=\"\",\"\",IF(F533<=F$10,MURmLOScore,IF(F533<=F$7,MURmBAScore,IF(F533<=F$8,MURmLQRScore,IF(F533<=F$9,MURmUQRScore,IF(F533<=F$11,MURmAAScore,MURmUOScore+F533-F$11))))))","v":""},{"$f":"IF(G533=\"\",\"\",IF(G533<=G$10,MURmLOScore,IF(G533<=G$7,MURmBAScore,IF(G533<=G$8,MURmLQRScore,IF(G533<=G$9,MURmUQRScore,IF(G533<=G$11,MURmAAScore,MURmUOScore+G533-G$11))))))","v":""},{"$f":"IF(H533=\"\",\"\",IF(H533<=H$10,MURmLOScore,IF(H533<=H$7,MURmBAScore,IF(H533<=H$8,MURmLQRScore,IF(H533<=H$9,MURmUQRScore,IF(H533<=H$11,MURmAAScore,MURmUOScore+H533-H$11))))))","v":""},{"$f":"IF(I533=\"\",\"\",IF(I533<=I$10,MURmLOScore,IF(I533<=I$7,MURmBAScore,IF(I533<=I$8,MURmLQRScore,IF(I533<=I$9,MURmUQRScore,IF(I533<=I$11,MURmAAScore,MURmUOScore+I533-I$11))))))","v":""},{"$f":"IF(J533=\"\",\"\",IF(J533<=J$10,MURmLOScore,IF(J533<=J$7,MURmBAScore,IF(J533<=J$8,MURmLQRScore,IF(J533<=J$9,MURmUQRScore,IF(J533<=J$11,MURmAAScore,MURmUOScore+J533-J$11))))))","v":""},{"$f":"IF(K533=\"\",\"\",IF(K533<=K$10,MURmLOScore,IF(K533<=K$7,MURmBAScore,IF(K533<=K$8,MURmLQRScore,IF(K533<=K$9,MURmUQRScore,IF(K533<=K$11,MURmAAScore,MURmUOScore+K533-K$11))))))","v":""},{"$f":"IF(L533=\"\",\"\",IF(L533<=L$10,MURmLOScore,IF(L533<=L$7,MURmBAScore,IF(L533<=L$8,MURmLQRScore,IF(L533<=L$9,MURmUQRScore,IF(L533<=L$11,MURmAAScore,MURmUOScore+L533-L$11))))))","v":""},{"$f":"IF(M533=\"\",\"\",IF(M533<=M$10,MURmLOScore,IF(M533<=M$7,MURmBAScore,IF(M533<=M$8,MURmLQRScore,IF(M533<=M$9,MURmUQRScore,IF(M533<=M$11,MURmAAScore,MURmUOScore+M533-M$11))))))","v":""},{"$f":"IF(N533=\"\",\"\",IF(N533<=N$10,MURmLOScore,IF(N533<=N$7,MURmBAScore,IF(N533<=N$8,MURmLQRScore,IF(N533<=N$9,MURmUQRScore,IF(N533<=N$11,MURmAAScore,MURmUOScore+N533-N$11))))))","v":""},{"$f":"IF(A533=\"\",\"\",SUM(S533:AD533))","v":""},{"$f":"IF(OR(A533=\"\",AE533=0),\"\",AE533/(O$18-R533))","v":""},{"$f":"IF(AF533=\"\",\"\",IF(AF533<=MURaLOScore,\"Lower Outlier\",IF(AF533<=MURaBAScore,\"Below Average\",IF(AF533<=MURaLQRScore,\"Lower Quartile\",IF(AF533<=MURaUQRScore,\"Upper Quartile\",IF(AF533<=MURaAAScore, \"Above Average\", \"Upper Outlier\"))))))","v":""},"","","","","","","","","","","","",{"$f":"IF(A533=\"\",\"\",MAX(AH533:AS533))","v":""},{"$f":"IF(OR(A533=\"\",MURMonthsPop=0),\"\",IF(AU$18=MURMonthsPop,AH533,#N/A))","v":""},{"$f":"IF(OR($A533=\"\",MURMonthsPop=0),\"\",IF(AV$18<MURMonthsPop,#N/A,IF(AV$18=MURMonthsPop,AI533,IF(AU533=\"\",\"\",IF(AV$18=MURMonthsPop+1,AU533+(AU533*VLOOKUP(MURMonthsPop-$R533,ForecastMult,3,FALSE)/12),AU533+AU533-AT533)))))","v":""},{"$f":"IF(OR($A533=\"\",MURMonthsPop=0),\"\",IF(AW$18<MURMonthsPop,#N/A,IF(AW$18=MURMonthsPop,AJ533,IF(AV533=\"\",\"\",IF(AW$18=MURMonthsPop+1,AV533+(AV533*VLOOKUP(MURMonthsPop-$R533,ForecastMult,3,FALSE)/12),AV533+AV533-AU533)))))","v":""},{"$f":"IF(OR($A533=\"\",MURMonthsPop=0),\"\",IF(AX$18<MURMonthsPop,#N/A,IF(AX$18=MURMonthsPop,AK533,IF(AW533=\"\",\"\",IF(AX$18=MURMonthsPop+1,AW533+(AW533*VLOOKUP(MURMonthsPop-$R533,ForecastMult,3,FALSE)/12),AW533+AW533-AV533)))))","v":""},{"$f":"IF(OR($A533=\"\",MURMonthsPop=0),\"\",IF(AY$18<MURMonthsPop,#N/A,IF(AY$18=MURMonthsPop,AL533,IF(AX533=\"\",\"\",IF(AY$18=MURMonthsPop+1,AX533+(AX533*VLOOKUP(MURMonthsPop-$R533,ForecastMult,3,FALSE)/12),AX533+AX533-AW533)))))","v":""},{"$f":"IF(OR($A533=\"\",MURMonthsPop=0),\"\",IF(AZ$18<MURMonthsPop,#N/A,IF(AZ$18=MURMonthsPop,AM533,IF(AY533=\"\",\"\",IF(AZ$18=MURMonthsPop+1,AY533+(AY533*VLOOKUP(MURMonthsPop-$R533,ForecastMult,3,FALSE)/12),AY533+AY533-AX533)))))","v":""},{"$f":"IF(OR($A533=\"\",MURMonthsPop=0),\"\",IF(BA$18<MURMonthsPop,#N/A,IF(BA$18=MURMonthsPop,AN533,IF(AZ533=\"\",\"\",IF(BA$18=MURMonthsPop+1,AZ533+(AZ533*VLOOKUP(MURMonthsPop-$R533,ForecastMult,3,FALSE)/12),AZ533+AZ533-AY533)))))","v":""},{"$f":"IF(OR($A533=\"\",MURMonthsPop=0),\"\",IF(BB$18<MURMonthsPop,#N/A,IF(BB$18=MURMonthsPop,AO533,IF(BA533=\"\",\"\",IF(BB$18=MURMonthsPop+1,BA533+(BA533*VLOOKUP(MURMonthsPop-$R533,ForecastMult,3,FALSE)/12),BA533+BA533-AZ533)))))","v":""},{"$f":"IF(OR($A533=\"\",MURMonthsPop=0),\"\",IF(BC$18<MURMonthsPop,#N/A,IF(BC$18=MURMonthsPop,AP533,IF(BB533=\"\",\"\",IF(BC$18=MURMonthsPop+1,BB533+(BB533*VLOOKUP(MURMonthsPop-$R533,ForecastMult,3,FALSE)/12),BB533+BB533-BA533)))))","v":""},{"$f":"IF(OR($A533=\"\",MURMonthsPop=0),\"\",IF(BD$18<MURMonthsPop,#N/A,IF(BD$18=MURMonthsPop,AQ533,IF(BC533=\"\",\"\",IF(BD$18=MURMonthsPop+1,BC533+(BC533*VLOOKUP(MURMonthsPop-$R533,ForecastMult,3,FALSE)/12),BC533+BC533-BB533)))))","v":""},{"$f":"IF(OR($A533=\"\",MURMonthsPop=0),\"\",IF(BE$18<MURMonthsPop,#N/A,IF(BE$18=MURMonthsPop,AR533,IF(BD533=\"\",\"\",IF(BE$18=MURMonthsPop+1,BD533+(BD533*VLOOKUP(MURMonthsPop-$R533,ForecastMult,3,FALSE)/12),BD533+BD533-BC533)))))","v":""},{"$f":"IF(OR($A533=\"\",MURMonthsPop=0),\"\",IF(BF$18<MURMonthsPop,#N/A,IF(BF$18=MURMonthsPop,AS533,IF(BE533=\"\",\"\",IF(BF$18=MURMonthsPop+1,BE533+(BE533*VLOOKUP(MURMonthsPop-$R533,ForecastMult,3,FALSE)/12),BE533+BE533-BD533)))))","v":""},{"$f":"IF(A533=\"\",\"\",MAX(IF(ISERROR(AU533:BF533),0,AU533:BF533)))","v":""},{"$f":"IF(AND(C$18=1,$A533<>\"\"),IF(ISNA(VLOOKUP($A533,INDIRECT(C$20),TOT_STDR_PXS_col,FALSE)),\"\",VLOOKUP($A533,INDIRECT(C$20),TOT_STDR_PXS_col,FALSE)+VLOOKUP($A533,INDIRECT(C$20),TOT_ZDR_PXS_col,FALSE)),\"\")","v":""},{"$f":"IF(AND(D$18=1,$A533<>\"\"),IF(ISNA(VLOOKUP($A533,INDIRECT(D$20),TOT_STDR_PXS_col,FALSE)),\"\",VLOOKUP($A533,INDIRECT(D$20),TOT_STDR_PXS_col,FALSE)+VLOOKUP($A533,INDIRECT(D$20),TOT_ZDR_PXS_col,FALSE)),\"\")","v":""},{"$f":"IF(AND(E$18=1,$A533<>\"\"),IF(ISNA(VLOOKUP($A533,INDIRECT(E$20),TOT_STDR_PXS_col,FALSE)),\"\",VLOOKUP($A533,INDIRECT(E$20),TOT_STDR_PXS_col,FALSE)+VLOOKUP($A533,INDIRECT(E$20),TOT_ZDR_PXS_col,FALSE)),\"\")","v":""},{"$f":"IF(AND(F$18=1,$A533<>\"\"),IF(ISNA(VLOOKUP($A533,INDIRECT(F$20),TOT_STDR_PXS_col,FALSE)),\"\",VLOOKUP($A533,INDIRECT(F$20),TOT_STDR_PXS_col,FALSE)+VLOOKUP($A533,INDIRECT(F$20),TOT_ZDR_PXS_col,FALSE)),\"\")","v":""},{"$f":"IF(AND(G$18=1,$A533<>\"\"),IF(ISNA(VLOOKUP($A533,INDIRECT(G$20),TOT_STDR_PXS_col,FALSE)),\"\",VLOOKUP($A533,INDIRECT(G$20),TOT_STDR_PXS_col,FALSE)+VLOOKUP($A533,INDIRECT(G$20),TOT_ZDR_PXS_col,FALSE)),\"\")","v":""},{"$f":"IF(AND(H$18=1,$A533<>\"\"),IF(ISNA(VLOOKUP($A533,INDIRECT(H$20),TOT_STDR_PXS_col,FALSE)),\"\",VLOOKUP($A533,INDIRECT(H$20),TOT_STDR_PXS_col,FALSE)+VLOOKUP($A533,INDIRECT(H$20),TOT_ZDR_PXS_col,FALSE)),\"\")","v":""},{"$f":"IF(AND(I$18=1,$A533<>\"\"),IF(ISNA(VLOOKUP($A533,INDIRECT(I$20),TOT_STDR_PXS_col,FALSE)),\"\",VLOOKUP($A533,INDIRECT(I$20),TOT_STDR_PXS_col,FALSE)+VLOOKUP($A533,INDIRECT(I$20),TOT_ZDR_PXS_col,FALSE)),\"\")","v":""},{"$f":"IF(AND(J$18=1,$A533<>\"\"),IF(ISNA(VLOOKUP($A533,INDIRECT(J$20),TOT_STDR_PXS_col,FALSE)),\"\",VLOOKUP($A533,INDIRECT(J$20),TOT_STDR_PXS_col,FALSE)+VLOOKUP($A533,INDIRECT(J$20),TOT_ZDR_PXS_col,FALSE)),\"\")","v":""},{"$f":"IF(AND(K$18=1,$A533<>\"\"),IF(ISNA(VLOOKUP($A533,INDIRECT(K$20),TOT_STDR_PXS_col,FALSE)),\"\",VLOOKUP($A533,INDIRECT(K$20),TOT_STDR_PXS_col,FALSE)+VLOOKUP($A533,INDIRECT(K$20),TOT_ZDR_PXS_col,FALSE)),\"\")","v":""},{"$f":"IF(AND(L$18=1,$A533<>\"\"),IF(ISNA(VLOOKUP($A533,INDIRECT(L$20),TOT_STDR_PXS_col,FALSE)),\"\",VLOOKUP($A533,INDIRECT(L$20),TOT_STDR_PXS_col,FALSE)+VLOOKUP($A533,INDIRECT(L$20),TOT_ZDR_PXS_col,FALSE)),\"\")","v":""},{"$f":"IF(AND(M$18=1,$A533<>\"\"),IF(ISNA(VLOOKUP($A533,INDIRECT(M$20),TOT_STDR_PXS_col,FALSE)),\"\",VLOOKUP($A533,INDIRECT(M$20),TOT_STDR_PXS_col,FALSE)+VLOOKUP($A533,INDIRECT(M$20),TOT_ZDR_PXS_col,FALSE)),\"\")","v":""},{"$f":"IF(AND(N$18=1,$A533<>\"\"),IF(ISNA(VLOOKUP($A533,INDIRECT(N$20),TOT_STDR_PXS_col,FALSE)),\"\",VLOOKUP($A533,INDIRECT(N$20),TOT_STDR_PXS_col,FALSE)+VLOOKUP($A533,INDIRECT(N$20),TOT_ZDR_PXS_col,FALSE)),\"\")","v":""},{"$f":"IF(A533=\"\",\"\",SUM(BH533:BS533))","v":""},{"$f":"IF(A533=\"\",\"\",MIN(B533:M533))","v":""},{"$f":"IF(A533=\"\",\"\",MAX(B533:M533))","v":""},{"$f":"IF(A533=\"\",\"\",BV533-BU533)","v":""},{"$f":"IF(A533=\"\",\"\",IF(BW533>$BW$11,\"Yes\",\"No\"))","v":""},{"$f":"IF(A533=\"\",\"\",(COUNTA(C533:N533)-COUNTBLANK(C533:N533)))","v":""},{"$f":"IF(A533=\"\",\"\",BY533-COUNTIF(C533:N533,\"=0\"))","v":""},{"$f":"IF(C$18=1,IF(ISNA(VLOOKUP($A533,INDIRECT(C$20),MUR_fee_col,FALSE)),\"\",VLOOKUP($A533,INDIRECT(C$20),MUR_fee_col,FALSE)),\"\")","v":""},{"$f":"IF(D$18=1,IF(ISNA(VLOOKUP($A533,INDIRECT(D$20),MUR_fee_col,FALSE)),\"\",VLOOKUP($A533,INDIRECT(D$20),MUR_fee_col,FALSE)),\"\")","v":""},{"$f":"IF(E$18=1,IF(ISNA(VLOOKUP($A533,INDIRECT(E$20),MUR_fee_col,FALSE)),\"\",VLOOKUP($A533,INDIRECT(E$20),MUR_fee_col,FALSE)),\"\")","v":""},{"$f":"IF(F$18=1,IF(ISNA(VLOOKUP($A533,INDIRECT(F$20),MUR_fee_col,FALSE)),\"\",VLOOKUP($A533,INDIRECT(F$20),MUR_fee_col,FALSE)),\"\")","v":""},{"$f":"IF(G$18=1,IF(ISNA(VLOOKUP($A533,INDIRECT(G$20),MUR_fee_col,FALSE)),\"\",VLOOKUP($A533,INDIRECT(G$20),MUR_fee_col,FALSE)),\"\")","v":""},{"$f":"IF(H$18=1,IF(ISNA(VLOOKUP($A533,INDIRECT(H$20),MUR_fee_col,FALSE)),\"\",VLOOKUP($A533,INDIRECT(H$20),MUR_fee_col,FALSE)),\"\")","v":""},{"$f":"IF(I$18=1,IF(ISNA(VLOOKUP($A533,INDIRECT(I$20),MUR_fee_col,FALSE)),\"\",VLOOKUP($A533,INDIRECT(I$20),MUR_fee_col,FALSE)),\"\")","v":""},{"$f":"IF(J$18=1,IF(ISNA(VLOOKUP($A533,INDIRECT(J$20),MUR_fee_col,FALSE)),\"\",VLOOKUP($A533,INDIRECT(J$20),MUR_fee_col,FALSE)),\"\")","v":""},{"$f":"IF(K$18=1,IF(ISNA(VLOOKUP($A533,INDIRECT(K$20),MUR_fee_col,FALSE)),\"\",VLOOKUP($A533,INDIRECT(K$20),MUR_fee_col,FALSE)),\"\")","v":""},{"$f":"IF(L$18=1,IF(ISNA(VLOOKUP($A533,INDIRECT(L$20),MUR_fee_col,FALSE)),\"\",VLOOKUP($A533,INDIRECT(L$20),MUR_fee_col,FALSE)),\"\")","v":""},{"$f":"IF(M$18=1,IF(ISNA(VLOOKUP($A533,INDIRECT(M$20),MUR_fee_col,FALSE)),\"\",VLOOKUP($A533,INDIRECT(M$20),MUR_fee_col,FALSE)),\"\")","v":""},{"$f":"IF(N$18=1,IF(ISNA(VLOOKUP($A533,INDIRECT(N$20),MUR_fee_col,FALSE)),\"\",VLOOKUP($A533,INDIRECT(N$20),MUR_fee_col,FALSE)),\"\")","v":""},{"$f":"IF(A533=\"\",\"\",SUM(CA533:CL533))","v":""},{"$f":"IF(C$18=1,IF(ISNA(VLOOKUP($A533,INDIRECT(C$20),MUR_Fee_adj_col,FALSE)),\"\",VLOOKUP($A533,INDIRECT(C$20),MUR_Fee_adj_col,FALSE)),\"\")","v":""},{"$f":"IF(D$18=1,IF(ISNA(VLOOKUP($A533,INDIRECT(D$20),MUR_Fee_adj_col,FALSE)),\"\",VLOOKUP($A533,INDIRECT(D$20),MUR_Fee_adj_col,FALSE)),\"\")","v":""},{"$f":"IF(E$18=1,IF(ISNA(VLOOKUP($A533,INDIRECT(E$20),MUR_Fee_adj_col,FALSE)),\"\",VLOOKUP($A533,INDIRECT(E$20),MUR_Fee_adj_col,FALSE)),\"\")","v":""},{"$f":"IF(F$18=1,IF(ISNA(VLOOKUP($A533,INDIRECT(F$20),MUR_Fee_adj_col,FALSE)),\"\",VLOOKUP($A533,INDIRECT(F$20),MUR_Fee_adj_col,FALSE)),\"\")","v":""},{"$f":"IF(G$18=1,IF(ISNA(VLOOKUP($A533,INDIRECT(G$20),MUR_Fee_adj_col,FALSE)),\"\",VLOOKUP($A533,INDIRECT(G$20),MUR_Fee_adj_col,FALSE)),\"\")","v":""},{"$f":"IF(H$18=1,IF(ISNA(VLOOKUP($A533,INDIRECT(H$20),MUR_Fee_adj_col,FALSE)),\"\",VLOOKUP($A533,INDIRECT(H$20),MUR_Fee_adj_col,FALSE)),\"\")","v":""},{"$f":"IF(I$18=1,IF(ISNA(VLOOKUP($A533,INDIRECT(I$20),MUR_Fee_adj_col,FALSE)),\"\",VLOOKUP($A533,INDIRECT(I$20),MUR_Fee_adj_col,FALSE)),\"\")","v":""},{"$f":"IF(J$18=1,IF(ISNA(VLOOKUP($A533,INDIRECT(J$20),MUR_Fee_adj_col,FALSE)),\"\",VLOOKUP($A533,INDIRECT(J$20),MUR_Fee_adj_col,FALSE)),\"\")","v":""},{"$f":"IF(K$18=1,IF(ISNA(VLOOKUP($A533,INDIRECT(K$20),MUR_Fee_adj_col,FALSE)),\"\",VLOOKUP($A533,INDIRECT(K$20),MUR_Fee_adj_col,FALSE)),\"\")","v":""},{"$f":"IF(L$18=1,IF(ISNA(VLOOKUP($A533,INDIRECT(L$20),MUR_Fee_adj_col,FALSE)),\"\",VLOOKUP($A533,INDIRECT(L$20),MUR_Fee_adj_col,FALSE)),\"\")","v":""},{"$f":"IF(M$18=1,IF(ISNA(VLOOKUP($A533,INDIRECT(M$20),MUR_Fee_adj_col,FALSE)),\"\",VLOOKUP($A533,INDIRECT(M$20),MUR_Fee_adj_col,FALSE)),\"\")","v":""},{"$f":"IF(N$18=1,IF(ISNA(VLOOKUP($A533,INDIRECT(N$20),MUR_Fee_adj_col,FALSE)),\"\",VLOOKUP($A533,INDIRECT(N$20),MUR_Fee_adj_col,FALSE)),\"\")","v":""},{"$f":"IF(A533=\"\",\"\",SUM(CN533:CY533))","v":""}]
[{"$f":"IF(ISBLANK('Control Sheet'!D516),\"\",'Control Sheet'!D516)","v":""},{"$f":"IF(ISBLANK('Control Sheet'!E516),\"\",'Control Sheet'!E516&\" (\"&'Control Sheet'!F516&\")\")","v":""},"","","","","","","","","","","","","",null,"","","","","","","","","","","","","","","","","","","","","","","","","","","","","","","","","","","","","","","","","","",{"$f":"IF(A536=\"\",\"\",MAX(IF(ISERROR(AU536:BF536),0,AU536:BF536)))","v":""},"","","","","","","","","","","","","","","","","","","","","","","","","","","","","","","","","","","","","","","","","","","","",""]
[{"$f":"IF(ISBLANK('Control Sheet'!D520),\"\",'Control Sheet'!D520)","v":""},{"$f":"IF(ISBLANK('Control Sheet'!E520),\"\",'Control Sheet'!E520&\" (\"&'Control Sheet'!F520&\")\")","v":""},"","","","","","","","","","","","","",null,"","","","","","","","","","","","","","","","","","","","","","","","","","","","","","","","","","","","","","","","","","",{"$f":"IF(A540=\"\",\"\",MAX(IF(ISERROR(AU540:BF540),0,AU540:BF540)))","v":""},"","","","","","","","","","","","","","","","","","","","","","","","","","","","","","","","","","","","","","","","","","","","",""]
[{"$f":"IF(ISBLANK('Control Sheet'!D522),\"\",'Control Sheet'!D522)","v":""},{"$f":"IF(ISBLANK('Control Sheet'!E522),\"\",'Control Sheet'!E522&\" (\"&'Control Sheet'!F522&\")\")","v":""},"","","","","","","","","","","","","",null,"","","","","","","","","","","","","","","","","","","","","","","","","","","","","","","","","","","","","","","","","","",{"$f":"IF(A542=\"\",\"\",MAX(IF(ISERROR(AU542:BF542),0,AU542:BF542)))","v":""},"","","","","","","","","","","","","","","","","","","","","","","","","","","","","","","","","","","","","","","","","","","","",""]
[{"$f":"IF(ISBLANK('Control Sheet'!D525),\"\",'Control Sheet'!D525)","v":""},{"$f":"IF(ISBLANK('Control Sheet'!E525),\"\",'Control Sheet'!E525&\" (\"&'Control Sheet'!F525&\")\")","v":""},"","","","","","","","","","","","","",null,"","","","","","","","","","","","","","","","","","","","","","","","","","","","","","","","","","","","","","","","","","",{"$f":"IF(A545=\"\",\"\",MAX(IF(ISERROR(AU545:BF545),0,AU545:BF545)))","v":""},"","","","","","","","","","","","","","","","","","","","","","","","","","","","","","","","","","","","","","","","","","","","",""]
[{"$f":"IF(ISBLANK('Control Sheet'!D529),\"\",'Control Sheet'!D529)","v":""},{"$f":"IF(ISBLANK('Control Sheet'!E529),\"\",'Control Sheet'!E529&\" (\"&'Control Sheet'!F529&\")\")","v":""},"","","","","","","","","","","","","",null,"","","","","","","","","","","","","","","","","","","","","","","","","","","","","","","","","","","","","","","","","","",{"$f":"IF(A549=\"\",\"\",MAX(IF(ISERROR(AU549:BF549),0,AU549:BF549)))","v":""},"","","","","","","","","","","","","","","","","","","","","","","","","","","","","","","","","","","","","","","","","","","","",""]
[{"$f":"IF(ISBLANK('Control Sheet'!D532),\"\",'Control Sheet'!D532)","v":""},{"$f":"IF(ISBLANK('Control Sheet'!E532),\"\",'Control Sheet'!E532&\" (\"&'Control Sheet'!F532&\")\")","v":""},"","","","","","","","","","","","","",null,"","","","","","","","","","","","","","","","","","","","","","","","","","","","","","","","","","","","","","","","","","",{"$f":"IF(A552=\"\",\"\",MAX(IF(ISERROR(AU552:BF552),0,AU552:BF552)))","v":""},"","","","","","","","","","","","","","","","","","","","","","","","","","","","","","","","","","","","","","","","","","","","",""]
[{"$f":"IF(ISBLANK('Control Sheet'!D533),\"\",'Control Sheet'!D533)","v":""},{"$f":"IF(ISBLANK('Control Sheet'!E533),\"\",'Control Sheet'!E533&\" (\"&'Control Sheet'!F533&\")\")","v":""},"","","","","","","","","","","","","",null,"","","","","","","","","","","","","","","","","","","","","","","","","","","","","","","","","","","","","","","","","","",{"$f":"IF(A553=\"\",\"\",MAX(IF(ISERROR(AU553:BF553),0,AU553:BF553)))","v":""},"","","","","","","","","","","","","","","","","","","","","","","","","","","","","","","","","","","","","","","","","","","","",""]
[{"$f":"IF(ISBLANK('Control Sheet'!D535),\"\",'Control Sheet'!D535)","v":""},{"$f":"IF(ISBLANK('Control Sheet'!E535),\"\",'Control Sheet'!E535&\" (\"&'Control Sheet'!F535&\")\")","v":""},"","","","","","","","","","","","","",null,"","","","","","","","","","","","","","","","","","","","","","","","","","","","","","","","","","","","","","","","","","",{"$f":"IF(A555=\"\",\"\",MAX(IF(ISERROR(AU555:BF555),0,AU555:BF555)))","v":""},"","","","","","","","","","","","","","","","","","","","","","","","","","","","","","","","","","","","","","","","","","","","",""]
[{"$f":"IF(ISBLANK('Control Sheet'!D538),\"\",'Control Sheet'!D538)","v":""},{"$f":"IF(ISBLANK('Control Sheet'!E538),\"\",'Control Sheet'!E538&\" (\"&'Control Sheet'!F538&\")\")","v":""},"","","","","","","","","","","","","",null,"","","","","","","","","","","","","","","","","","","","","","","","","","","","","","","","","","","","","","","","","","",{"$f":"IF(A558=\"\",\"\",MAX(IF(ISERROR(AU558:BF558),0,AU558:BF558)))","v":""},"","","","","","","","","","","","","","","","","","","","","","","","","","","","","","","","","","","","","","","","","","","","",""]
[{"$f":"IF(ISBLANK('Control Sheet'!D542),\"\",'Control Sheet'!D542)","v":""},{"$f":"IF(ISBLANK('Control Sheet'!E542),\"\",'Control Sheet'!E542&\" (\"&'Control Sheet'!F542&\")\")","v":""},"","","","","","","","","","","","","",null,"","","","","","","","","","","","","","","","","","","","","","","","","","","","","","","","","","","","","","","","","","",{"$f":"IF(A562=\"\",\"\",MAX(IF(ISERROR(AU562:BF562),0,AU562:BF562)))","v":""},"","","","","","","","","","","","","","","","","","","","","","","","","","","","","","","","","","","","","","","","","","","","",""]
[{"$f":"IF(ISBLANK('Control Sheet'!D545),\"\",'Control Sheet'!D545)","v":""},{"$f":"IF(ISBLANK('Control Sheet'!E545),\"\",'Control Sheet'!E545&\" (\"&'Control Sheet'!F545&\")\")","v":""},"","","","","","","","","","","","","",null,"","","","","","","","","","","","","","","","","","","","","","","","","","","","","","","","","","","","","","","","","","",{"$f":"IF(A565=\"\",\"\",MAX(IF(ISERROR(AU565:BF565),0,AU565:BF565)))","v":""},"","","","","","","","","","","","","","","","","","","","","","","","","","","","","","","","","","","","","","","","","","","","",""]
[{"$f":"IF(ISBLANK('Control Sheet'!D548),\"\",'Control Sheet'!D548)","v":""},{"$f":"IF(ISBLANK('Control Sheet'!E548),\"\",'Control Sheet'!E548&\" (\"&'Control Sheet'!F548&\")\")","v":""},"","","","","","","","","","","","","",null,"","","","","","","","","","","","","","","","","","","","","","","","","","","","","","","","","","","","","","","","","","",{"$f":"IF(A568=\"\",\"\",MAX(IF(ISERROR(AU568:BF568),0,AU568:BF568)))","v":""},"","","","","","","","","","","","","","","","","","","","","","","","","","","","","","","","","","","","","","","","","","","","",""]
[{"$f":"IF(ISBLANK('Control Sheet'!D550),\"\",'Control Sheet'!D550)","v":""},{"$f":"IF(ISBLANK('Control Sheet'!E550),\"\",'Control Sheet'!E550&\" (\"&'Control Sheet'!F550&\")\")","v":""},"","","","","","","","","","","","","",null,"","","","","","","","","","","","","","","","","","","","","","","","","","","","","","","","","","","","","","","","","","",{"$f":"IF(A570=\"\",\"\",MAX(IF(ISERROR(AU570:BF570),0,AU570:BF570)))","v":""},"","","","","","","","","","","","","","","","","","","","","","","","","","","","","","","","","","","","","","","","","","","","",""]
[{"$f":"IF(ISBLANK('Control Sheet'!D554),\"\",'Control Sheet'!D554)","v":""},{"$f":"IF(ISBLANK('Control Sheet'!E554),\"\",'Control Sheet'!E554&\" (\"&'Control Sheet'!F554&\")\")","v":""},"","","","","","","","","","","","","",null,"","","","","","","","","","","","","","","","","","","","","","","","","","","","","","","","","","","","","","","","","","",{"$f":"IF(A574=\"\",\"\",MAX(IF(ISERROR(AU574:BF574),0,AU574:BF574)))","v":""},"","","","","","","","","","","","","","","","","","","","","","","","","","","","","","","","","","","","","","","","","","","","",""]
[{"$f":"IF(ISBLANK('Control Sheet'!D557),\"\",'Control Sheet'!D557)","v":""},{"$f":"IF(ISBLANK('Control Sheet'!E557),\"\",'Control Sheet'!E557&\" (\"&'Control Sheet'!F557&\")\")","v":""},"","","","","","","","","","","","","",null,"","","","","","","","","","","","","","","","","","","","","","","","","","","","","","","","","","","","","","","","","","",{"$f":"IF(A577=\"\",\"\",MAX(IF(ISERROR(AU577:BF577),0,AU577:BF577)))","v":""},"","","","","","","","","","","","","","","","","","","","","","","","","","","","","","","","","","","","","","","","","","","","",""]
[{"$f":"IF(ISBLANK('Control Sheet'!D558),\"\",'Control Sheet'!D558)","v":""},{"$f":"IF(ISBLANK('Control Sheet'!E558),\"\",'Control Sheet'!E558&\" (\"&'Control Sheet'!F558&\")\")","v":""},"","","","","","","","","","","","","",null,"","","","","","","","","","","","","","","","","","","","","","","","","","","","","","","","","","","","","","","","","","",{"$f":"IF(A578=\"\",\"\",MAX(IF(ISERROR(AU578:BF578),0,AU578:BF578)))","v":""},"","","","","","","","","","","","","","","","","","","","","","","","","","","","","","","","","","","","","","","","","","","","",""]
[{"$f":"IF(ISBLANK('Control Sheet'!D561),\"\",'Control Sheet'!D561)","v":""},{"$f":"IF(ISBLANK('Control Sheet'!E561),\"\",'Control Sheet'!E561&\" (\"&'Control Sheet'!F561&\")\")","v":""},{"$f":"IF(C$18=1,IF(ISNA(VLOOKUP($A581,INDIRECT(C$20),MUR_col,FALSE)),\"\",VLOOKUP($A581,INDIRECT(C$20),MUR_col,FALSE)),\"\")","v":""},"","","","","","","","","","","","",null,"","","","","","","","","","","","","","","","","","","","","","","","","","","","","","","","","","","","","","","","","","",{"$f":"IF(A581=\"\",\"\",MAX(IF(ISERROR(AU581:BF581),0,AU581:BF581)))","v":""},"","","","","","","","","","","","","","","","","","","","","","","","","","","","","","","","","","","","","","","","","","","","",""]
[{"$f":"IF(ISBLANK('Control Sheet'!D565),\"\",'Control Sheet'!D565)","v":""},{"$f":"IF(ISBLANK('Control Sheet'!E565),\"\",'Control Sheet'!E565&\" (\"&'Control Sheet'!F565&\")\")","v":""},"","","","","","","","","","","","","",null,"","","","","","","","","","","","","","","","","","","","","","","","","","","","","","","","","","","","","","","","","","",{"$f":"IF(A585=\"\",\"\",MAX(IF(ISERROR(AU585:BF585),0,AU585:BF585)))","v":""},"","","","","","","","","","","","","","","","","","","","","","","","","","","","","","","","","","","","","","","","","","","","",""]
[{"$f":"IF(ISBLANK('Control Sheet'!D567),\"\",'Control Sheet'!D567)","v":""},{"$f":"IF(ISBLANK('Control Sheet'!E567),\"\",'Control Sheet'!E567&\" (\"&'Control Sheet'!F567&\")\")","v":""},"","","","","","","","","","","","","",null,"","","","","","","","","","","","","","","","","","","","","","","","","","","","","","","","","","","","","","","","","","",{"$f":"IF(A587=\"\",\"\",MAX(IF(ISERROR(AU587:BF587),0,AU587:BF587)))","v":""},"","","","","","","","","","","","","","","","","","","","","","","","","","","","","","","","","","","","","","","","","","","","",""]
[{"$f":"IF(ISBLANK('Control Sheet'!D570),\"\",'Control Sheet'!D570)","v":""},{"$f":"IF(ISBLANK('Control Sheet'!E570),\"\",'Control Sheet'!E570&\" (\"&'Control Sheet'!F570&\")\")","v":""},"","","","","","","","","","","","","",null,"","","","","","","","","","","","","","","","","","","","","","","","","","","","","","","","","","","","","","","","","","",{"$f":"IF(A590=\"\",\"\",MAX(IF(ISERROR(AU590:BF590),0,AU590:BF590)))","v":""},"","","","","","","","","","","","","","","","","","","","","","","","","","","","","","","","","","","","","","","","","","","","",""]
[{"$f":"IF(ISBLANK('Control Sheet'!D574),\"\",'Control Sheet'!D574)","v":""},{"$f":"IF(ISBLANK('Control Sheet'!E574),\"\",'Control Sheet'!E574&\" (\"&'Control Sheet'!F574&\")\")","v":""},"","","","","","","","","","","","","",null,"","","","","","","","","","","","","","","","","","","","","","","","","","","","","","","","","","","","","","","","","","",{"$f":"IF(A594=\"\",\"\",MAX(IF(ISERROR(AU594:BF594),0,AU594:BF594)))","v":""},"","","","","","","","","","","","","","","","","","","","","","","","","","","","","","","","","","","","","","","","","","","","",""]
[{"$f":"IF(ISBLANK('Control Sheet'!D577),\"\",'Control Sheet'!D577)","v":""},{"$f":"IF(ISBLANK('Control Sheet'!E577),\"\",'Control Sheet'!E577&\" (\"&'Control Sheet'!F577&\")\")","v":""},"","","","","","","","","","","","",{"$f":"IF(A597=\"\",\"\",SUM(C597:N597))","v":""},null,"",{"$f":"IF(A597=\"\",\"\",MURMonthsPop-(COUNTA(C597:N597)-COUNTBLANK(C597:N597)))","v":""},{"$f":"IF(C597=\"\",\"\",IF(C597<=C$10,MURmLOScore,IF(C597<=C$7,MURmBAScore,IF(C597<=C$8,MURmLQRScore,IF(C597<=C$9,MURmUQRScore,IF(C597<=C$11,MURmAAScore,MURmUOScore+C597-C$11))))))","v":""},{"$f":"IF(D597=\"\",\"\",IF(D597<=D$10,MURmLOScore,IF(D597<=D$7,MURmBAScore,IF(D597<=D$8,MURmLQRScore,IF(D597<=D$9,MURmUQRScore,IF(D597<=D$11,MURmAAScore,MURmUOScore+D597-D$11))))))","v":""},{"$f":"IF(E597=\"\",\"\",IF(E597<=E$10,MURmLOScore,IF(E597<=E$7,MURmBAScore,IF(E597<=E$8,MURmLQRScore,IF(E597<=E$9,MURmUQRScore,IF(E597<=E$11,MURmAAScore,MURmUOScore+E597-E$11))))))","v":""},{"$f":"IF(F597=\"\",\"\",IF(F597<=F$10,MURmLOScore,IF(F597<=F$7,MURmBAScore,IF(F597<=F$8,MURmLQRScore,IF(F597<=F$9,MURmUQRScore,IF(F597<=F$11,MURmAAScore,MURmUOScore+F597-F$11))))))","v":""},{"$f":"IF(G597=\"\",\"\",IF(G597<=G$10,MURmLOScore,IF(G597<=G$7,MURmBAScore,IF(G597<=G$8,MURmLQRScore,IF(G597<=G$9,MURmUQRScore,IF(G597<=G$11,MURmAAScore,MURmUOScore+G597-G$11))))))","v":""},{"$f":"IF(H597=\"\",\"\",IF(H597<=H$10,MURmLOScore,IF(H597<=H$7,MURmBAScore,IF(H597<=H$8,MURmLQRScore,IF(H597<=H$9,MURmUQRScore,IF(H597<=H$11,MURmAAScore,MURmUOScore+H597-H$11))))))","v":""},{"$f":"IF(I597=\"\",\"\",IF(I597<=I$10,MURmLOScore,IF(I597<=I$7,MURmBAScore,IF(I597<=I$8,MURmLQRScore,IF(I597<=I$9,MURmUQRScore,IF(I597<=I$11,MURmAAScore,MURmUOScore+I597-I$11))))))","v":""},{"$f":"IF(J597=\"\",\"\",IF(J597<=J$10,MURmLOScore,IF(J597<=J$7,MURmBAScore,IF(J597<=J$8,MURmLQRScore,IF(J597<=J$9,MURmUQRScore,IF(J597<=J$11,MURmAAScore,MURmUOScore+J597-J$11))))))","v":""},{"$f":"IF(K597=\"\",\"\",IF(K597<=K$10,MURmLOScore,IF(K597<=K$7,MURmBAScore,IF(K597<=K$8,MURmLQRScore,IF(K597<=K$9,MURmUQRScore,IF(K597<=K$11,MURmAAScore,MURmUOScore+K597-K$11))))))","v":""},{"$f":"IF(L597=\"\",\"\",IF(L597<=L$10,MURmLOScore,IF(L597<=L$7,MURmBAScore,IF(L597<=L$8,MURmLQRScore,IF(L597<=L$9,MURmUQRScore,IF(L597<=L$11,MURmAAScore,MURmUOScore+L597-L$11))))))","v":""},{"$f":"IF(M597=\"\",\"\",IF(M597<=M$10,MURmLOScore,IF(M597<=M$7,MURmBAScore,IF(M597<=M$8,MURmLQRScore,IF(M597<=M$9,MURmUQRScore,IF(M597<=M$11,MURmAAScore,MURmUOScore+M597-M$11))))))","v":""},{"$f":"IF(N597=\"\",\"\",IF(N597<=N$10,MURmLOScore,IF(N597<=N$7,MURmBAScore,IF(N597<=N$8,MURmLQRScore,IF(N597<=N$9,MURmUQRScore,IF(N597<=N$11,MURmAAScore,MURmUOScore+N597-N$11))))))","v":""},{"$f":"IF(A597=\"\",\"\",SUM(S597:AD597))","v":""},{"$f":"IF(OR(A597=\"\",AE597=0),\"\",AE597/(O$18-R597))","v":""},{"$f":"IF(AF597=\"\",\"\",IF(AF597<=MURaLOScore,\"Lower Outlier\",IF(AF597<=MURaBAScore,\"Below Average\",IF(AF597<=MURaLQRScore,\"Lower Quartile\",IF(AF597<=MURaUQRScore,\"Upper Quartile\",IF(AF597<=MURaAAScore, \"Above Average\", \"Upper Outlier\"))))))","v":""},"","","","","","","","","","","","",{"$f":"IF(A597=\"\",\"\",MAX(AH597:AS597))","v":""},{"$f":"IF(OR(A597=\"\",MURMonthsPop=0),\"\",IF(AU$18=MURMonthsPop,AH597,#N/A))","v":""},{"$f":"IF(OR($A597=\"\",MURMonthsPop=0),\"\",IF(AV$18<MURMonthsPop,#N/A,IF(AV$18=MURMonthsPop,AI597,IF(AU597=\"\",\"\",IF(AV$18=MURMonthsPop+1,AU597+(AU597*VLOOKUP(MURMonthsPop-$R597,ForecastMult,3,FALSE)/12),AU597+AU597-AT597)))))","v":""},{"$f":"IF(OR($A597=\"\",MURMonthsPop=0),\"\",IF(AW$18<MURMonthsPop,#N/A,IF(AW$18=MURMonthsPop,AJ597,IF(AV597=\"\",\"\",IF(AW$18=MURMonthsPop+1,AV597+(AV597*VLOOKUP(MURMonthsPop-$R597,ForecastMult,3,FALSE)/12),AV597+AV597-AU597)))))","v":""},{"$f":"IF(OR($A597=\"\",MURMonthsPop=0),\"\",IF(AX$18<MURMonthsPop,#N/A,IF(AX$18=MURMonthsPop,AK597,IF(AW597=\"\",\"\",IF(AX$18=MURMonthsPop+1,AW597+(AW597*VLOOKUP(MURMonthsPop-$R597,ForecastMult,3,FALSE)/12),AW597+AW597-AV597)))))","v":""},{"$f":"IF(OR($A597=\"\",MURMonthsPop=0),\"\",IF(AY$18<MURMonthsPop,#N/A,IF(AY$18=MURMonthsPop,AL597,IF(AX597=\"\",\"\",IF(AY$18=MURMonthsPop+1,AX597+(AX597*VLOOKUP(MURMonthsPop-$R597,ForecastMult,3,FALSE)/12),AX597+AX597-AW597)))))","v":""},{"$f":"IF(OR($A597=\"\",MURMonthsPop=0),\"\",IF(AZ$18<MURMonthsPop,#N/A,IF(AZ$18=MURMonthsPop,AM597,IF(AY597=\"\",\"\",IF(AZ$18=MURMonthsPop+1,AY597+(AY597*VLOOKUP(MURMonthsPop-$R597,ForecastMult,3,FALSE)/12),AY597+AY597-AX597)))))","v":""},{"$f":"IF(OR($A597=\"\",MURMonthsPop=0),\"\",IF(BA$18<MURMonthsPop,#N/A,IF(BA$18=MURMonthsPop,AN597,IF(AZ597=\"\",\"\",IF(BA$18=MURMonthsPop+1,AZ597+(AZ597*VLOOKUP(MURMonthsPop-$R597,ForecastMult,3,FALSE)/12),AZ597+AZ597-AY597)))))","v":""},{"$f":"IF(OR($A597=\"\",MURMonthsPop=0),\"\",IF(BB$18<MURMonthsPop,#N/A,IF(BB$18=MURMonthsPop,AO597,IF(BA597=\"\",\"\",IF(BB$18=MURMonthsPop+1,BA597+(BA597*VLOOKUP(MURMonthsPop-$R597,ForecastMult,3,FALSE)/12),BA597+BA597-AZ597)))))","v":""},{"$f":"IF(OR($A597=\"\",MURMonthsPop=0),\"\",IF(BC$18<MURMonthsPop,#N/A,IF(BC$18=MURMonthsPop,AP597,IF(BB597=\"\",\"\",IF(BC$18=MURMonthsPop+1,BB597+(BB597*VLOOKUP(MURMonthsPop-$R597,ForecastMult,3,FALSE)/12),BB597+BB597-BA597)))))","v":""},{"$f":"IF(OR($A597=\"\",MURMonthsPop=0),\"\",IF(BD$18<MURMonthsPop,#N/A,IF(BD$18=MURMonthsPop,AQ597,IF(BC597=\"\",\"\",IF(BD$18=MURMonthsPop+1,BC597+(BC597*VLOOKUP(MURMonthsPop-$R597,ForecastMult,3,FALSE)/12),BC597+BC597-BB597)))))","v":""},{"$f":"IF(OR($A597=\"\",MURMonthsPop=0),\"\",IF(BE$18<MURMonthsPop,#N/A,IF(BE$18=MURMonthsPop,AR597,IF(BD597=\"\",\"\",IF(BE$18=MURMonthsPop+1,BD597+(BD597*VLOOKUP(MURMonthsPop-$R597,ForecastMult,3,FALSE)/12),BD597+BD597-BC597)))))","v":""},{"$f":"IF(OR($A597=\"\",MURMonthsPop=0),\"\",IF(BF$18<MURMonthsPop,#N/A,IF(BF$18=MURMonthsPop,AS597,IF(BE597=\"\",\"\",IF(BF$18=MURMonthsPop+1,BE597+(BE597*VLOOKUP(MURMonthsPop-$R597,ForecastMult,3,FALSE)/12),BE597+BE597-BD597)))))","v":""},{"$f":"IF(A597=\"\",\"\",MAX(IF(ISERROR(AU597:BF597),0,AU597:BF597)))","v":""},{"$f":"IF(AND(C$18=1,$A597<>\"\"),IF(ISNA(VLOOKUP($A597,INDIRECT(C$20),TOT_STDR_PXS_col,FALSE)),\"\",VLOOKUP($A597,INDIRECT(C$20),TOT_STDR_PXS_col,FALSE)+VLOOKUP($A597,INDIRECT(C$20),TOT_ZDR_PXS_col,FALSE)),\"\")","v":""},{"$f":"IF(AND(D$18=1,$A597<>\"\"),IF(ISNA(VLOOKUP($A597,INDIRECT(D$20),TOT_STDR_PXS_col,FALSE)),\"\",VLOOKUP($A597,INDIRECT(D$20),TOT_STDR_PXS_col,FALSE)+VLOOKUP($A597,INDIRECT(D$20),TOT_ZDR_PXS_col,FALSE)),\"\")","v":""},{"$f":"IF(AND(E$18=1,$A597<>\"\"),IF(ISNA(VLOOKUP($A597,INDIRECT(E$20),TOT_STDR_PXS_col,FALSE)),\"\",VLOOKUP($A597,INDIRECT(E$20),TOT_STDR_PXS_col,FALSE)+VLOOKUP($A597,INDIRECT(E$20),TOT_ZDR_PXS_col,FALSE)),\"\")","v":""},{"$f":"IF(AND(F$18=1,$A597<>\"\"),IF(ISNA(VLOOKUP($A597,INDIRECT(F$20),TOT_STDR_PXS_col,FALSE)),\"\",VLOOKUP($A597,INDIRECT(F$20),TOT_STDR_PXS_col,FALSE)+VLOOKUP($A597,INDIRECT(F$20),TOT_ZDR_PXS_col,FALSE)),\"\")","v":""},{"$f":"IF(AND(G$18=1,$A597<>\"\"),IF(ISNA(VLOOKUP($A597,INDIRECT(G$20),TOT_STDR_PXS_col,FALSE)),\"\",VLOOKUP($A597,INDIRECT(G$20),TOT_STDR_PXS_col,FALSE)+VLOOKUP($A597,INDIRECT(G$20),TOT_ZDR_PXS_col,FALSE)),\"\")","v":""},{"$f":"IF(AND(H$18=1,$A597<>\"\"),IF(ISNA(VLOOKUP($A597,INDIRECT(H$20),TOT_STDR_PXS_col,FALSE)),\"\",VLOOKUP($A597,INDIRECT(H$20),TOT_STDR_PXS_col,FALSE)+VLOOKUP($A597,INDIRECT(H$20),TOT_ZDR_PXS_col,FALSE)),\"\")","v":""},{"$f":"IF(AND(I$18=1,$A597<>\"\"),IF(ISNA(VLOOKUP($A597,INDIRECT(I$20),TOT_STDR_PXS_col,FALSE)),\"\",VLOOKUP($A597,INDIRECT(I$20),TOT_STDR_PXS_col,FALSE)+VLOOKUP($A597,INDIRECT(I$20),TOT_ZDR_PXS_col,FALSE)),\"\")","v":""},{"$f":"IF(AND(J$18=1,$A597<>\"\"),IF(ISNA(VLOOKUP($A597,INDIRECT(J$20),TOT_STDR_PXS_col,FALSE)),\"\",VLOOKUP($A597,INDIRECT(J$20),TOT_STDR_PXS_col,FALSE)+VLOOKUP($A597,INDIRECT(J$20),TOT_ZDR_PXS_col,FALSE)),\"\")","v":""},{"$f":"IF(AND(K$18=1,$A597<>\"\"),IF(ISNA(VLOOKUP($A597,INDIRECT(K$20),TOT_STDR_PXS_col,FALSE)),\"\",VLOOKUP($A597,INDIRECT(K$20),TOT_STDR_PXS_col,FALSE)+VLOOKUP($A597,INDIRECT(K$20),TOT_ZDR_PXS_col,FALSE)),\"\")","v":""},{"$f":"IF(AND(L$18=1,$A597<>\"\"),IF(ISNA(VLOOKUP($A597,INDIRECT(L$20),TOT_STDR_PXS_col,FALSE)),\"\",VLOOKUP($A597,INDIRECT(L$20),TOT_STDR_PXS_col,FALSE)+VLOOKUP($A597,INDIRECT(L$20),TOT_ZDR_PXS_col,FALSE)),\"\")","v":""},{"$f":"IF(AND(M$18=1,$A597<>\"\"),IF(ISNA(VLOOKUP($A597,INDIRECT(M$20),TOT_STDR_PXS_col,FALSE)),\"\",VLOOKUP($A597,INDIRECT(M$20),TOT_STDR_PXS_col,FALSE)+VLOOKUP($A597,INDIRECT(M$20),TOT_ZDR_PXS_col,FALSE)),\"\")","v":""},{"$f":"IF(AND(N$18=1,$A597<>\"\"),IF(ISNA(VLOOKUP($A597,INDIRECT(N$20),TOT_STDR_PXS_col,FALSE)),\"\",VLOOKUP($A597,INDIRECT(N$20),TOT_STDR_PXS_col,FALSE)+VLOOKUP($A597,INDIRECT(N$20),TOT_ZDR_PXS_col,FALSE)),\"\")","v":""},{"$f":"IF(A597=\"\",\"\",SUM(BH597:BS597))","v":""},{"$f":"IF(A597=\"\",\"\",MIN(B597:M597))","v":""},{"$f":"IF(A597=\"\",\"\",MAX(B597:M597))","v":""},{"$f":"IF(A597=\"\",\"\",BV597-BU597)","v":""},{"$f":"IF(A597=\"\",\"\",IF(BW597>$BW$11,\"Yes\",\"No\"))","v":""},{"$f":"IF(A597=\"\",\"\",(COUNTA(C597:N597)-COUNTBLANK(C597:N597)))","v":""},{"$f":"IF(A597=\"\",\"\",BY597-COUNTIF(C597:N597,\"=0\"))","v":""},{"$f":"IF(C$18=1,IF(ISNA(VLOOKUP($A597,INDIRECT(C$20),MUR_fee_col,FALSE)),\"\",VLOOKUP($A597,INDIRECT(C$20),MUR_fee_col,FALSE)),\"\")","v":""},{"$f":"IF(D$18=1,IF(ISNA(VLOOKUP($A597,INDIRECT(D$20),MUR_fee_col,FALSE)),\"\",VLOOKUP($A597,INDIRECT(D$20),MUR_fee_col,FALSE)),\"\")","v":""},{"$f":"IF(E$18=1,IF(ISNA(VLOOKUP($A597,INDIRECT(E$20),MUR_fee_col,FALSE)),\"\",VLOOKUP($A597,INDIRECT(E$20),MUR_fee_col,FALSE)),\"\")","v":""},{"$f":"IF(F$18=1,IF(ISNA(VLOOKUP($A597,INDIRECT(F$20),MUR_fee_col,FALSE)),\"\",VLOOKUP($A597,INDIRECT(F$20),MUR_fee_col,FALSE)),\"\")","v":""},{"$f":"IF(G$18=1,IF(ISNA(VLOOKUP($A597,INDIRECT(G$20),MUR_fee_col,FALSE)),\"\",VLOOKUP($A597,INDIRECT(G$20),MUR_fee_col,FALSE)),\"\")","v":""},{"$f":"IF(H$18=1,IF(ISNA(VLOOKUP($A597,INDIRECT(H$20),MUR_fee_col,FALSE)),\"\",VLOOKUP($A597,INDIRECT(H$20),MUR_fee_col,FALSE)),\"\")","v":""},{"$f":"IF(I$18=1,IF(ISNA(VLOOKUP($A597,INDIRECT(I$20),MUR_fee_col,FALSE)),\"\",VLOOKUP($A597,INDIRECT(I$20),MUR_fee_col,FALSE)),\"\")","v":""},{"$f":"IF(J$18=1,IF(ISNA(VLOOKUP($A597,INDIRECT(J$20),MUR_fee_col,FALSE)),\"\",VLOOKUP($A597,INDIRECT(J$20),MUR_fee_col,FALSE)),\"\")","v":""},{"$f":"IF(K$18=1,IF(ISNA(VLOOKUP($A597,INDIRECT(K$20),MUR_fee_col,FALSE)),\"\",VLOOKUP($A597,INDIRECT(K$20),MUR_fee_col,FALSE)),\"\")","v":""},{"$f":"IF(L$18=1,IF(ISNA(VLOOKUP($A597,INDIRECT(L$20),MUR_fee_col,FALSE)),\"\",VLOOKUP($A597,INDIRECT(L$20),MUR_fee_col,FALSE)),\"\")","v":""},{"$f":"IF(M$18=1,IF(ISNA(VLOOKUP($A597,INDIRECT(M$20),MUR_fee_col,FALSE)),\"\",VLOOKUP($A597,INDIRECT(M$20),MUR_fee_col,FALSE)),\"\")","v":""},{"$f":"IF(N$18=1,IF(ISNA(VLOOKUP($A597,INDIRECT(N$20),MUR_fee_col,FALSE)),\"\",VLOOKUP($A597,INDIRECT(N$20),MUR_fee_col,FALSE)),\"\")","v":""},{"$f":"IF(A597=\"\",\"\",SUM(CA597:CL597))","v":""},{"$f":"IF(C$18=1,IF(ISNA(VLOOKUP($A597,INDIRECT(C$20),MUR_Fee_adj_col,FALSE)),\"\",VLOOKUP($A597,INDIRECT(C$20),MUR_Fee_adj_col,FALSE)),\"\")","v":""},{"$f":"IF(D$18=1,IF(ISNA(VLOOKUP($A597,INDIRECT(D$20),MUR_Fee_adj_col,FALSE)),\"\",VLOOKUP($A597,INDIRECT(D$20),MUR_Fee_adj_col,FALSE)),\"\")","v":""},{"$f":"IF(E$18=1,IF(ISNA(VLOOKUP($A597,INDIRECT(E$20),MUR_Fee_adj_col,FALSE)),\"\",VLOOKUP($A597,INDIRECT(E$20),MUR_Fee_adj_col,FALSE)),\"\")","v":""},{"$f":"IF(F$18=1,IF(ISNA(VLOOKUP($A597,INDIRECT(F$20),MUR_Fee_adj_col,FALSE)),\"\",VLOOKUP($A597,INDIRECT(F$20),MUR_Fee_adj_col,FALSE)),\"\")","v":""},{"$f":"IF(G$18=1,IF(ISNA(VLOOKUP($A597,INDIRECT(G$20),MUR_Fee_adj_col,FALSE)),\"\",VLOOKUP($A597,INDIRECT(G$20),MUR_Fee_adj_col,FALSE)),\"\")","v":""},{"$f":"IF(H$18=1,IF(ISNA(VLOOKUP($A597,INDIRECT(H$20),MUR_Fee_adj_col,FALSE)),\"\",VLOOKUP($A597,INDIRECT(H$20),MUR_Fee_adj_col,FALSE)),\"\")","v":""},{"$f":"IF(I$18=1,IF(ISNA(VLOOKUP($A597,INDIRECT(I$20),MUR_Fee_adj_col,FALSE)),\"\",VLOOKUP($A597,INDIRECT(I$20),MUR_Fee_adj_col,FALSE)),\"\")","v":""},{"$f":"IF(J$18=1,IF(ISNA(VLOOKUP($A597,INDIRECT(J$20),MUR_Fee_adj_col,FALSE)),\"\",VLOOKUP($A597,INDIRECT(J$20),MUR_Fee_adj_col,FALSE)),\"\")","v":""},{"$f":"IF(K$18=1,IF(ISNA(VLOOKUP($A597,INDIRECT(K$20),MUR_Fee_adj_col,FALSE)),\"\",VLOOKUP($A597,INDIRECT(K$20),MUR_Fee_adj_col,FALSE)),\"\")","v":""},{"$f":"IF(L$18=1,IF(ISNA(VLOOKUP($A597,INDIRECT(L$20),MUR_Fee_adj_col,FALSE)),\"\",VLOOKUP($A597,INDIRECT(L$20),MUR_Fee_adj_col,FALSE)),\"\")","v":""},{"$f":"IF(M$18=1,IF(ISNA(VLOOKUP($A597,INDIRECT(M$20),MUR_Fee_adj_col,FALSE)),\"\",VLOOKUP($A597,INDIRECT(M$20),MUR_Fee_adj_col,FALSE)),\"\")","v":""},{"$f":"IF(N$18=1,IF(ISNA(VLOOKUP($A597,INDIRECT(N$20),MUR_Fee_adj_col,FALSE)),\"\",VLOOKUP($A597,INDIRECT(N$20),MUR_Fee_adj_col,FALSE)),\"\")","v":""},{"$f":"IF(A597=\"\",\"\",SUM(CN597:CY597))","v":""}]
[{"$f":"IF(ISBLANK('Control Sheet'!D580),\"\",'Control Sheet'!D580)","v":""},{"$f":"IF(ISBLANK('Control Sheet'!E580),\"\",'Control Sheet'!E580&\" (\"&'Control Sheet'!F580&\")\")","v":""},"","","","","","","","","","","","","",null,"","","","","","","","","","","","","","","","","","","","","","","","","","","","","","","","","","","","","","","","","","",{"$f":"IF(A600=\"\",\"\",MAX(IF(ISERROR(AU600:BF600),0,AU600:BF600)))","v":""},"","","","","","","","","","","","","","","","","","","","","","","","","","","","","","","","","","","","","","","","","","","","",""]
[{"$f":"IF(ISBLANK('Control Sheet'!D581),\"\",'Control Sheet'!D581)","v":""},{"$f":"IF(ISBLANK('Control Sheet'!E581),\"\",'Control Sheet'!E581&\" (\"&'Control Sheet'!F581&\")\")","v":""},{"$f":"IF(C$18=1,IF(ISNA(VLOOKUP($A601,INDIRECT(C$20),MUR_col,FALSE)),\"\",VLOOKUP($A601,INDIRECT(C$20),MUR_col,FALSE)),\"\")","v":""},"","","","","","","","","","","","",null,"","","","","","","","","","","","","","","","","","","","","","","","","","","","","","","","","","","","","","","","","","",{"$f":"IF(A601=\"\",\"\",MAX(IF(ISERROR(AU601:BF601),0,AU601:BF601)))","v":""},"","","","","","","","","","","","","","","","","","","","","","","","","","","","","","","","","","","","","","","","","","","","",""]
[{"$f":"IF(ISBLANK('Control Sheet'!D584),\"\",'Control Sheet'!D584)","v":""},{"$f":"IF(ISBLANK('Control Sheet'!E584),\"\",'Control Sheet'!E584&\" (\"&'Control Sheet'!F584&\")\")","v":""},"","","","","","","","","","","","","",null,"","","","","","","","","","","","","","","","","","","","","","","","","","","","","","","","","","","","","","","","","","",{"$f":"IF(A604=\"\",\"\",MAX(IF(ISERROR(AU604:BF604),0,AU604:BF604)))","v":""},"","","","","","","","","","","","","","","","","","","","","","","","","","","","","","","","","","","","","","","","","","","","",""]
[{"$f":"IF(ISBLANK('Control Sheet'!D587),\"\",'Control Sheet'!D587)","v":""},{"$f":"IF(ISBLANK('Control Sheet'!E587),\"\",'Control Sheet'!E587&\" (\"&'Control Sheet'!F587&\")\")","v":""},"","","","","","","","","","","","","",null,"","","","","","","","","","","","","","","","","","","","","","","","","","","","","","","","","","","","","","","","","","",{"$f":"IF(A607=\"\",\"\",MAX(IF(ISERROR(AU607:BF607),0,AU607:BF607)))","v":""},"","","","","","","","","","","","","","","","","","","","","","","","","","","","","","","","","","","","","","","","","","","","",""]
[{"$f":"IF(ISBLANK('Control Sheet'!D590),\"\",'Control Sheet'!D590)","v":""},{"$f":"IF(ISBLANK('Control Sheet'!E590),\"\",'Control Sheet'!E590&\" (\"&'Control Sheet'!F590&\")\")","v":""},"","","","","","","","","","","","","",null,"","","","","","","","","","","","","","","","","","","","","","","","","","","","","","","","","","","","","","","","","","",{"$f":"IF(A610=\"\",\"\",MAX(IF(ISERROR(AU610:BF610),0,AU610:BF610)))","v":""},"","","","","","","","","","","","","","","","","","","","","","","","","","","","","","","","","","","","","","","","","","","","",""]
[{"$f":"IF(ISBLANK('Control Sheet'!D593),\"\",'Control Sheet'!D593)","v":""},{"$f":"IF(ISBLANK('Control Sheet'!E593),\"\",'Control Sheet'!E593&\" (\"&'Control Sheet'!F593&\")\")","v":""},"","","","","","","","","","","","","",null,"","","","","","","","","","","","","","","","","","","","","","","","","","","","","","","","","","","","","","","","","","",{"$f":"IF(A613=\"\",\"\",MAX(IF(ISERROR(AU613:BF613),0,AU613:BF613)))","v":""},"","","","","","","","","","","","","","","","","","","","","","","","","","","","","","","","","","","","","","","","","","","","",""]
[{"$f":"IF(ISBLANK('Control Sheet'!D597),\"\",'Control Sheet'!D597)","v":""},{"$f":"IF(ISBLANK('Control Sheet'!E597),\"\",'Control Sheet'!E597&\" (\"&'Control Sheet'!F597&\")\")","v":""},"","","","","","","","","","","","","",null,"","","","","","","","","","","","","","","","","","","","","","","","","","","","","","","","","","","","","","","","","","",{"$f":"IF(A617=\"\",\"\",MAX(IF(ISERROR(AU617:BF617),0,AU617:BF617)))","v":""},"","","","","","","","","","","","","","","","","","","","","","","","","","","","","","","","","","","","","","","","","","","","",""]
[{"$f":"IF(ISBLANK('Control Sheet'!D599),\"\",'Control Sheet'!D599)","v":""},{"$f":"IF(ISBLANK('Control Sheet'!E599),\"\",'Control Sheet'!E599&\" (\"&'Control Sheet'!F599&\")\")","v":""},"","","","","","","","","","","","","",null,"","","","","","","","","","","","","","","","","","","","","","","","","","","","","","","","","","","","","","","","","","",{"$f":"IF(A619=\"\",\"\",MAX(IF(ISERROR(AU619:BF619),0,AU619:BF619)))","v":""},"","","","","","","","","","","","","","","","","","","","","","","","","","","","","","","","","","","","","","","","","","","","",""]
[{"$f":"IF(ISBLANK('Control Sheet'!D600),\"\",'Control Sheet'!D600)","v":""},{"$f":"IF(ISBLANK('Control Sheet'!E600),\"\",'Control Sheet'!E600&\" (\"&'Control Sheet'!F600&\")\")","v":""},"","","","","","","","","","","","","",null,"","","","","","","","","","","","","","","","","","","","","","","","","","","","","","","","","","","","","","","","","","",{"$f":"IF(A620=\"\",\"\",MAX(IF(ISERROR(AU620:BF620),0,AU620:BF620)))","v":""},"","","","","","","","","","","","","","","","","","","","","","","","","","","","","","","","","","","","","","","","","","","","",""]
[{"$f":"IF(ISBLANK('Control Sheet'!D603),\"\",'Control Sheet'!D603)","v":""},{"$f":"IF(ISBLANK('Control Sheet'!E603),\"\",'Control Sheet'!E603&\" (\"&'Control Sheet'!F603&\")\")","v":""},"","","","","","","","","","","","","",null,"","","","","","","","","","","","","","","","","","","","","","","","","","","","","","","","","","","","","","","","","","",{"$f":"IF(A623=\"\",\"\",MAX(IF(ISERROR(AU623:BF623),0,AU623:BF623)))","v":""},"","","","","","","","","","","","","","","","","","","","","","","","","","","","","","","","","","","","","","","","","","","","",""]
[{"$f":"IF(ISBLANK('Control Sheet'!D606),\"\",'Control Sheet'!D606)","v":""},{"$f":"IF(ISBLANK('Control Sheet'!E606),\"\",'Control Sheet'!E606&\" (\"&'Control Sheet'!F606&\")\")","v":""},"","","","","","","","","","","","","",null,"","","","","","","","","","","","","","","","","","","","","","","","","","","","","","","","","","","","","","","","","","",{"$f":"IF(A626=\"\",\"\",MAX(IF(ISERROR(AU626:BF626),0,AU626:BF626)))","v":""},"","","","","","","","","","","","","","","","","","","","","","","","","","","","","","","","","","","","","","","","","","","","",""]
[{"$f":"IF(ISBLANK('Control Sheet'!D610),\"\",'Control Sheet'!D610)","v":""},{"$f":"IF(ISBLANK('Control Sheet'!E610),\"\",'Control Sheet'!E610&\" (\"&'Control Sheet'!F610&\")\")","v":""},"","","","","","","","","","","","","",null,"","","","","","","","","","","","","","","","","","","","","","","","","","","","","","","","","","","","","","","","","","",{"$f":"IF(A630=\"\",\"\",MAX(IF(ISERROR(AU630:BF630),0,AU630:BF630)))","v":""},"","","","","","","","","","","","","","","","","","","","","","","","","","","","","","","","","","","","","","","","","","","","",""]
[{"$f":"IF(ISBLANK('Control Sheet'!D613),\"\",'Control Sheet'!D613)","v":""},{"$f":"IF(ISBLANK('Control Sheet'!E613),\"\",'Control Sheet'!E613&\" (\"&'Control Sheet'!F613&\")\")","v":""},"","","","","","","","","","","","","",null,"","","","","","","","","","","","","","","","","","","","","","","","","","","","","","","","","","","","","","","","","","",{"$f":"IF(A633=\"\",\"\",MAX(IF(ISERROR(AU633:BF633),0,AU633:BF633)))","v":""},"","","","","","","","","","","","","","","","","","","","","","","","","","","","","","","","","","","","","","","","","","","","",""]
[{"$f":"IF(ISBLANK('Control Sheet'!D616),\"\",'Control Sheet'!D616)","v":""},{"$f":"IF(ISBLANK('Control Sheet'!E616),\"\",'Control Sheet'!E616&\" (\"&'Control Sheet'!F616&\")\")","v":""},"","","","","","","","","","","","","",null,"","","","","","","","","","","","","","","","","","","","","","","","","","","","","","","","","","","","","","","","","","",{"$f":"IF(A636=\"\",\"\",MAX(IF(ISERROR(AU636:BF636),0,AU636:BF636)))","v":""},"","","","","","","","","","","","","","","","","","","","","","","","","","","","","","","","","","","","","","","","","","","","",""]
[{"$f":"IF(ISBLANK('Control Sheet'!D619),\"\",'Control Sheet'!D619)","v":""},{"$f":"IF(ISBLANK('Control Sheet'!E619),\"\",'Control Sheet'!E619&\" (\"&'Control Sheet'!F619&\")\")","v":""},"","","","","","","","","","","","","",null,"","","","","","","","","","","","","","","","","","","","","","","","","","","","","","","","","","","","","","","","","","",{"$f":"IF(A639=\"\",\"\",MAX(IF(ISERROR(AU639:BF639),0,AU639:BF639)))","v":""},"","","","","","","","","","","","","","","","","","","","","","","","","","","","","","","","","","","","","","","","","","","","",""]
[{"$f":"IF(ISBLANK('Control Sheet'!D622),\"\",'Control Sheet'!D622)","v":""},{"$f":"IF(ISBLANK('Control Sheet'!E622),\"\",'Control Sheet'!E622&\" (\"&'Control Sheet'!F622&\")\")","v":""},"","","","","","","","","","","","","",null,"","","","","","","","","","","","","","","","","","","","","","","","","","","","","","","","","","","","","","","","","","",{"$f":"IF(A642=\"\",\"\",MAX(IF(ISERROR(AU642:BF642),0,AU642:BF642)))","v":""},"","","","","","","","","","","","","","","","","","","","","","","","","","","","","","","","","","","","","","","","","","","","",""]
[{"$f":"IF(ISBLANK('Control Sheet'!D623),\"\",'Control Sheet'!D623)","v":""},{"$f":"IF(ISBLANK('Control Sheet'!E623),\"\",'Control Sheet'!E623&\" (\"&'Control Sheet'!F623&\")\")","v":""},"","","","","","","","","","","","","",null,"","","","","","","","","","","","","","","","","","","","","","","","","","","","","","","","","","","","","","","","","","",{"$f":"IF(A643=\"\",\"\",MAX(IF(ISERROR(AU643:BF643),0,AU643:BF643)))","v":""},"","","","","","","","","","","","","","","","","","","","","","","","","","","","","","","","","","","","","","","","","","","","",""]
[{"$f":"IF(ISBLANK('Control Sheet'!D626),\"\",'Control Sheet'!D626)","v":""},{"$f":"IF(ISBLANK('Control Sheet'!E626),\"\",'Control Sheet'!E626&\" (\"&'Control Sheet'!F626&\")\")","v":""},"","","","","","","","","","","","","",null,"","","","","","","","","","","","","","","","","","","","","","","","","","","","","","","","","","","","","","","","","","",{"$f":"IF(A646=\"\",\"\",MAX(IF(ISERROR(AU646:BF646),0,AU646:BF646)))","v":""},"","","","","","","","","","","","","","","","","","","","","","","","","","","","","","","","","","","","","","","","","","","","",""]
[{"$f":"IF(ISBLANK('Control Sheet'!D629),\"\",'Control Sheet'!D629)","v":""},{"$f":"IF(ISBLANK('Control Sheet'!E629),\"\",'Control Sheet'!E629&\" (\"&'Control Sheet'!F629&\")\")","v":""},"","","","","","","","","","","","","",null,"","","","","","","","","","","","","","","","","","","","","","","","","","","","","","","","","","","","","","","","","","",{"$f":"IF(A649=\"\",\"\",MAX(IF(ISERROR(AU649:BF649),0,AU649:BF649)))","v":""},"","","","","","","","","","","","","","","","","","","","","","","","","","","","","","","","","","","","","","","","","","","","",""]
[{"$f":"IF(ISBLANK('Control Sheet'!D633),\"\",'Control Sheet'!D633)","v":""},{"$f":"IF(ISBLANK('Control Sheet'!E633),\"\",'Control Sheet'!E633&\" (\"&'Control Sheet'!F633&\")\")","v":""},"","","","","","","","","","","","","",null,"","","","","","","","","","","","","","","","","","","","","","","","","","","","","","","","","","","","","","","","","","",{"$f":"IF(A653=\"\",\"\",MAX(IF(ISERROR(AU653:BF653),0,AU653:BF653)))","v":""},"","","","","","","","","","","","","","","","","","","","","","","","","","","","","","","","","","","","","","","","","","","","",""]
[{"$f":"IF(ISBLANK('Control Sheet'!D635),\"\",'Control Sheet'!D635)","v":""},{"$f":"IF(ISBLANK('Control Sheet'!E635),\"\",'Control Sheet'!E635&\" (\"&'Control Sheet'!F635&\")\")","v":""},"","","","","","","","","","","","","",null,"","","","","","","","","","","","","","","","","","","","","","","","","","","","","","","","","","","","","","","","","","",{"$f":"IF(A655=\"\",\"\",MAX(IF(ISERROR(AU655:BF655),0,AU655:BF655)))","v":""},"","","","","","","","","","","","","","","","","","","","","","","","","","","","","","","","","","","","","","","","","","","","",""]
[{"$f":"IF(ISBLANK('Control Sheet'!D639),\"\",'Control Sheet'!D639)","v":""},{"$f":"IF(ISBLANK('Control Sheet'!E639),\"\",'Control Sheet'!E639&\" (\"&'Control Sheet'!F639&\")\")","v":""},"","","","","","","","","","","","","",null,"","","","","","","","","","","","","","","","","","","","","","","","","","","","","","","","","","","","","","","","","","",{"$f":"IF(A659=\"\",\"\",MAX(IF(ISERROR(AU659:BF659),0,AU659:BF659)))","v":""},"","","","","","","","","","","","","","","","","","","","","","","","","","","","","","","","","","","","","","","","","","","","",""]
[{"$f":"IF(ISBLANK('Control Sheet'!D642),\"\",'Control Sheet'!D642)","v":""},{"$f":"IF(ISBLANK('Control Sheet'!E642),\"\",'Control Sheet'!E642&\" (\"&'Control Sheet'!F642&\")\")","v":""},"","","","","","","","","","","","","",null,{"$f":"IF(A662=\"\",\"\",IF(BG662<=400,\"No\",\"Yes\"))","v":""},"","","","","","","","","","","","","","","","",{"$f":"IF(C$18=1,C662,\"\")","v":""},{"$f":"IF(D$18=1,IF(D662=\"\",IF(AH662=\"\",\"\",AH662),IF(AND(D662>=0,AH662=\"\"),D662,IF(ISERROR(D662+AH662),#N/A,D662+AH662))),\"\")","v":""},{"$f":"IF(E$18=1,IF(E662=\"\",IF(AI662=\"\",\"\",AI662),IF(AND(E662>=0,AI662=\"\"),E662,IF(ISERROR(E662+AI662),#N/A,E662+AI662))),\"\")","v":""},{"$f":"IF(F$18=1,IF(F662=\"\",IF(AJ662=\"\",\"\",AJ662),IF(AND(F662>=0,AJ662=\"\"),F662,IF(ISERROR(F662+AJ662),#N/A,F662+AJ662))),\"\")","v":""},{"$f":"IF(G$18=1,IF(G662=\"\",IF(AK662=\"\",\"\",AK662),IF(AND(G662>=0,AK662=\"\"),G662,IF(ISERROR(G662+AK662),#N/A,G662+AK662))),\"\")","v":""},{"$f":"IF(H$18=1,IF(H662=\"\",IF(AL662=\"\",\"\",AL662),IF(AND(H662>=0,AL662=\"\"),H662,IF(ISERROR(H662+AL662),#N/A,H662+AL662))),\"\")","v":""},{"$f":"IF(I$18=1,IF(I662=\"\",IF(AM662=\"\",\"\",AM662),IF(AND(I662>=0,AM662=\"\"),I662,IF(ISERROR(I662+AM662),#N/A,I662+AM662))),\"\")","v":""},{"$f":"IF(J$18=1,IF(J662=\"\",IF(AN662=\"\",\"\",AN662),IF(AND(J662>=0,AN662=\"\"),J662,IF(ISERROR(J662+AN662),#N/A,J662+AN662))),\"\")","v":""},{"$f":"IF(K$18=1,IF(K662=\"\",IF(AO662=\"\",\"\",AO662),IF(AND(K662>=0,AO662=\"\"),K662,IF(ISERROR(K662+AO662),#N/A,K662+AO662))),\"\")","v":""},{"$f":"IF(L$18=1,IF(L662=\"\",IF(AP662=\"\",\"\",AP662),IF(AND(L662>=0,AP662=\"\"),L662,IF(ISERROR(L662+AP662),#N/A,L662+AP662))),\"\")","v":""},{"$f":"IF(M$18=1,IF(M662=\"\",IF(AQ662=\"\",\"\",AQ662),IF(AND(M662>=0,AQ662=\"\"),M662,IF(ISERROR(M662+AQ662),#N/A,M662+AQ662))),\"\")","v":""},{"$f":"IF(N$18=1,IF(N662=\"\",IF(AR662=\"\",\"\",AR662),IF(AND(N662>=0,AR662=\"\"),N662,IF(ISERROR(N662+AR662),#N/A,N662+AR662))),\"\")","v":""},"","","","","","","","","","","","","",{"$f":"IF(A662=\"\",\"\",MAX(IF(ISERROR(AU662:BF662),0,AU662:BF662)))","v":""},"","","","","","","","","","","","","","","","","","","","","","","","","","","","","","","","","","","","","","","","","","","","",""]
[{"$f":"IF(ISBLANK('Control Sheet'!D645),\"\",'Control Sheet'!D645)","v":""},{"$f":"IF(ISBLANK('Control Sheet'!E645),\"\",'Control Sheet'!E645&\" (\"&'Control Sheet'!F645&\")\")","v":""},"","","","","","","","","","","","","",null,"","","","","","","","","","","","","","","","","","","","","","","","","","","","","","","","","","","","","","","","","","",{"$f":"IF(A665=\"\",\"\",MAX(IF(ISERROR(AU665:BF665),0,AU665:BF665)))","v":""},"","","","","","","","","","","","","","","","","","","","","","","","","","","","","","","","","","","","","","","","","","","","",""]
[{"$f":"IF(ISBLANK('Control Sheet'!D646),\"\",'Control Sheet'!D646)","v":""},{"$f":"IF(ISBLANK('Control Sheet'!E646),\"\",'Control Sheet'!E646&\" (\"&'Control Sheet'!F646&\")\")","v":""},"","","","","","","","","","","","","",null,"","","","","","","","","","","","","","","","","","","","","","","","","","","","","","","","","","","","","","","","","","",{"$f":"IF(A666=\"\",\"\",MAX(IF(ISERROR(AU666:BF666),0,AU666:BF666)))","v":""},"","","","","","","","","","","","","","","","","","","","","","","","","","","","","","","","","","","","","","","","","","","","",""]
[{"$f":"IF(ISBLANK('Control Sheet'!D648),\"\",'Control Sheet'!D648)","v":""},{"$f":"IF(ISBLANK('Control Sheet'!E648),\"\",'Control Sheet'!E648&\" (\"&'Control Sheet'!F648&\")\")","v":""},"","","","","","","","","","","","","",null,"","","","","","","","","","","","","","","","","","","","","","","","","","","","","","","","","","","","","","","","","","",{"$f":"IF(A668=\"\",\"\",MAX(IF(ISERROR(AU668:BF668),0,AU668:BF668)))","v":""},"","","","","","","","","","","","","","","","","","","","","","","","","","","","","","","","","","","","","","","","","","","","",""]
[{"$f":"IF(ISBLANK('Control Sheet'!D651),\"\",'Control Sheet'!D651)","v":""},{"$f":"IF(ISBLANK('Control Sheet'!E651),\"\",'Control Sheet'!E651&\" (\"&'Control Sheet'!F651&\")\")","v":""},{"$f":"IF(C$18=1,IF(ISNA(VLOOKUP($A671,INDIRECT(C$20),MUR_col,FALSE)),\"\",VLOOKUP($A671,INDIRECT(C$20),MUR_col,FALSE)),\"\")","v":""},"","","","","","","","","","","","",null,"","","","","","","","","","","","","","","","","","","","","","","","","","","","","","","","","","","","","","","","","","",{"$f":"IF(A671=\"\",\"\",MAX(IF(ISERROR(AU671:BF671),0,AU671:BF671)))","v":""},"","","","","","","","","","","","","","","","","","","","","","","","","","","","","","","","","","","","","","","","","","","","",""]
[{"$f":"IF(ISBLANK('Control Sheet'!D655),\"\",'Control Sheet'!D655)","v":""},{"$f":"IF(ISBLANK('Control Sheet'!E655),\"\",'Control Sheet'!E655&\" (\"&'Control Sheet'!F655&\")\")","v":""},"","","","","","","","","","","","","",null,"","","","","","","","","","","","","","","","","","","","","","","","","","","","","","","","","","","","","","","","","","",{"$f":"IF(A675=\"\",\"\",MAX(IF(ISERROR(AU675:BF675),0,AU675:BF675)))","v":""},"","","","","","","","","","","","","","","","","","","","","","","","","","","","","","","","","","","","","","","","","","","","",""]
[{"$f":"IF(ISBLANK('Control Sheet'!D658),\"\",'Control Sheet'!D658)","v":""},{"$f":"IF(ISBLANK('Control Sheet'!E658),\"\",'Control Sheet'!E658&\" (\"&'Control Sheet'!F658&\")\")","v":""},"","","","","","","","","","","","","",null,"","","","","","","","","","","","","","","","","","","","","","","","","","","","","","","","","","","","","","","","","","",{"$f":"IF(A678=\"\",\"\",MAX(IF(ISERROR(AU678:BF678),0,AU678:BF678)))","v":""},"","","","","","","","","","","","","","","","","","","","","","","","","","","","","","","","","","","","","","","","","","","","",""]
[{"$f":"IF(ISBLANK('Control Sheet'!D662),\"\",'Control Sheet'!D662)","v":""},{"$f":"IF(ISBLANK('Control Sheet'!E662),\"\",'Control Sheet'!E662&\" (\"&'Control Sheet'!F662&\")\")","v":""},"","","","","","","","","","","","","",null,"","","","","","","","","","","","","","","","","","","","","","","","","","","","","","","","","","","","","","","","","","",{"$f":"IF(A682=\"\",\"\",MAX(IF(ISERROR(AU682:BF682),0,AU682:BF682)))","v":""},"","","","","","","","","","","","","","","","","","","","","","","","","","","","","","","","","","","","","","","","","","","","",""]
[{"$f":"IF(ISBLANK('Control Sheet'!D663),\"\",'Control Sheet'!D663)","v":""},{"$f":"IF(ISBLANK('Control Sheet'!E663),\"\",'Control Sheet'!E663&\" (\"&'Control Sheet'!F663&\")\")","v":""},"","","","","","","","","","","","","",null,"","","","","","","","","","","","","","","","","","","","","","","","","","","","","","","","","","","","","","","","","","",{"$f":"IF(A683=\"\",\"\",MAX(IF(ISERROR(AU683:BF683),0,AU683:BF683)))","v":""},"","","","","","","","","","","","","","","","","","","","","","","","","","","","","","","","","","","","","","","","","","","","",""]
[{"$f":"IF(ISBLANK('Control Sheet'!D667),\"\",'Control Sheet'!D667)","v":""},{"$f":"IF(ISBLANK('Control Sheet'!E667),\"\",'Control Sheet'!E667&\" (\"&'Control Sheet'!F667&\")\")","v":""},"","","","","","","","","","","","","",null,"","","","","","","","","","","","","","","","","","","","","","","","","","","","","","","","","","","","","","","","","","",{"$f":"IF(A687=\"\",\"\",MAX(IF(ISERROR(AU687:BF687),0,AU687:BF687)))","v":""},"","","","","","","","","","","","","","","","","","","","","","","","","","","","","","","","","","","","","","","","","","","","",""]
[{"$f":"IF(ISBLANK('Control Sheet'!D668),\"\",'Control Sheet'!D668)","v":""},{"$f":"IF(ISBLANK('Control Sheet'!E668),\"\",'Control Sheet'!E668&\" (\"&'Control Sheet'!F668&\")\")","v":""},"","","","","","","","","","","","","",null,"","","","","","","","","","","","","","","","","","","","","","","","","","","","","","","","","","","","","","","","","","",{"$f":"IF(A688=\"\",\"\",MAX(IF(ISERROR(AU688:BF688),0,AU688:BF688)))","v":""},"","","","","","","","","","","","","","","","","","","","","","","","","","","","","","","","","","","","","","","","","","","","",""]
[{"$f":"IF(ISBLANK('Control Sheet'!D671),\"\",'Control Sheet'!D671)","v":""},{"$f":"IF(ISBLANK('Control Sheet'!E671),\"\",'Control Sheet'!E671&\" (\"&'Control Sheet'!F671&\")\")","v":""},{"$f":"IF(C$18=1,IF(ISNA(VLOOKUP($A691,INDIRECT(C$20),MUR_col,FALSE)),\"\",VLOOKUP($A691,INDIRECT(C$20),MUR_col,FALSE)),\"\")","v":""},"","","","","","","","","","","","",null,"","","","","","","","","","","","","","","","","","","","","","","","","","","","","","","","","","","","","","","","","","",{"$f":"IF(A691=\"\",\"\",MAX(IF(ISERROR(AU691:BF691),0,AU691:BF691)))","v":""},"","","","","","","","","","","","","","","","","","","","","","","","","","","","","","","","","","","","","","","","","","","","",""]
[{"$f":"IF(ISBLANK('Control Sheet'!D674),\"\",'Control Sheet'!D674)","v":""},{"$f":"IF(ISBLANK('Control Sheet'!E674),\"\",'Control Sheet'!E674&\" (\"&'Control Sheet'!F674&\")\")","v":""},"","","","","","","","","","","","","",null,"","","","","","","","","","","","","","","","","","","","","","","","","","","","","","","","","","","","","","","","","","",{"$f":"IF(A694=\"\",\"\",MAX(IF(ISERROR(AU694:BF694),0,AU694:BF694)))","v":""},"","","","","","","","","","","","","","","","","","","","","","","","","","","","","","","","","","","","","","","","","","","","",""]
[{"$f":"IF(ISBLANK('Control Sheet'!D678),\"\",'Control Sheet'!D678)","v":""},{"$f":"IF(ISBLANK('Control Sheet'!E678),\"\",'Control Sheet'!E678&\" (\"&'Control Sheet'!F678&\")\")","v":""},"","","","","","","","","","","","","",null,"","","","","","","","","","","","","","","","","","","","","","","","","","","","","","","","","","","","","","","","","","",{"$f":"IF(A698=\"\",\"\",MAX(IF(ISERROR(AU698:BF698),0,AU698:BF698)))","v":""},"","","","","","","","","","","","","","","","","","","","","","","","","","","","","","","","","","","","","","","","","","","","",""]
[{"$f":"IF(ISBLANK('Control Sheet'!D680),\"\",'Control Sheet'!D680)","v":""},{"$f":"IF(ISBLANK('Control Sheet'!E680),\"\",'Control Sheet'!E680&\" (\"&'Control Sheet'!F680&\")\")","v":""},"","","","","","","","","","","","","",null,"","","","","","","","","","","","","","","","","","","","","","","","","","","","","","","","","","","","","","","","","","",{"$f":"IF(A700=\"\",\"\",MAX(IF(ISERROR(AU700:BF700),0,AU700:BF700)))","v":""},"","","","","","","","","","","","","","","","","","","","","","","","","","","","","","","","","","","","","","","","","","","","",""]
[{"$f":"IF(ISBLANK('Control Sheet'!D684),\"\",'Control Sheet'!D684)","v":""},{"$f":"IF(ISBLANK('Control Sheet'!E684),\"\",'Control Sheet'!E684&\" (\"&'Control Sheet'!F684&\")\")","v":""},"","","","","","","","","","","","","",null,"","","","","","","","","","","","","","","","","","","","","","","","","","","","","","","","","","","","","","","","","","",{"$f":"IF(A704=\"\",\"\",MAX(IF(ISERROR(AU704:BF704),0,AU704:BF704)))","v":""},"","","","","","","","","","","","","","","","","","","","","","","","","","","","","","","","","","","","","","","","","","","","",""]
[{"$f":"IF(ISBLANK('Control Sheet'!D687),\"\",'Control Sheet'!D687)","v":""},{"$f":"IF(ISBLANK('Control Sheet'!E687),\"\",'Control Sheet'!E687&\" (\"&'Control Sheet'!F687&\")\")","v":""},"","","","","","","","","","","","","",null,"","","","","","","","","","","","","","","","","","","","","","","","","","","","","","","","","","","","","","","","","","",{"$f":"IF(A707=\"\",\"\",MAX(IF(ISERROR(AU707:BF707),0,AU707:BF707)))","v":""},"","","","","","","","","","","","","","","","","","","","","","","","","","","","","","","","","","","","","","","","","","","","",""]
[{"$f":"IF(ISBLANK('Control Sheet'!D690),\"\",'Control Sheet'!D690)","v":""},{"$f":"IF(ISBLANK('Control Sheet'!E690),\"\",'Control Sheet'!E690&\" (\"&'Control Sheet'!F690&\")\")","v":""},"","","","","","","","","","","","","",null,"","","","","","","","","","","","","","","","","","","","","","","","","","","","","","","","","","","","","","","","","","",{"$f":"IF(A710=\"\",\"\",MAX(IF(ISERROR(AU710:BF710),0,AU710:BF710)))","v":""},"","","","","","","","","","","","","","","","","","","","","","","","","","","","","","","","","","","","","","","","","","","","",""]
[{"$f":"IF(ISBLANK('Control Sheet'!D691),\"\",'Control Sheet'!D691)","v":""},{"$f":"IF(ISBLANK('Control Sheet'!E691),\"\",'Control Sheet'!E691&\" (\"&'Control Sheet'!F691&\")\")","v":""},{"$f":"IF(C$18=1,IF(ISNA(VLOOKUP($A711,INDIRECT(C$20),MUR_col,FALSE)),\"\",VLOOKUP($A711,INDIRECT(C$20),MUR_col,FALSE)),\"\")","v":""},"","","","","","","","","","","","",null,"","","","","","","","","","","","","","","","","","","","","","","","","","","","","","","","","","","","","","","","","","",{"$f":"IF(A711=\"\",\"\",MAX(IF(ISERROR(AU711:BF711),0,AU711:BF711)))","v":""},"","","","","","","","","","","","","","","","","","","","","","","","","","","","","","","","","","","","","","","","","","","","",""]
[{"$f":"IF(ISBLANK('Control Sheet'!D695),\"\",'Control Sheet'!D695)","v":""},{"$f":"IF(ISBLANK('Control Sheet'!E695),\"\",'Control Sheet'!E695&\" (\"&'Control Sheet'!F695&\")\")","v":""},"","","","","","","","","","","","","",null,"","","","","","","","","","","","","","","","","","","","","","","","","","","","","","","","","","","","","","","","","","",{"$f":"IF(A715=\"\",\"\",MAX(IF(ISERROR(AU715:BF715),0,AU715:BF715)))","v":""},"","","","","","","","","","","","","","","","","","","","","","","","","","","","","","","","","","","","","","","","","","","","",""]
[{"$f":"IF(ISBLANK('Control Sheet'!D697),\"\",'Control Sheet'!D697)","v":""},{"$f":"IF(ISBLANK('Control Sheet'!E697),\"\",'Control Sheet'!E697&\" (\"&'Control Sheet'!F697&\")\")","v":""},"","","","","","","","","","","","","",null,"","","","","","","","","","","","","","","","","","","","","","","","","","","","","","","","","","","","","","","","","","",{"$f":"IF(A717=\"\",\"\",MAX(IF(ISERROR(AU717:BF717),0,AU717:BF717)))","v":""},"","","","","","","","","","","","","","","","","","","","","","","","","","","","","","","","","","","","","","","","","","","","",""]
[{"$f":"IF(ISBLANK('Control Sheet'!D700),\"\",'Control Sheet'!D700)","v":""},{"$f":"IF(ISBLANK('Control Sheet'!E700),\"\",'Control Sheet'!E700&\" (\"&'Control Sheet'!F700&\")\")","v":""},"","","","","","","","","","","","","",null,"","","","","","","","","","","","","","","","","","","","","","","","","","","","","","","","","","","","","","","","","","",{"$f":"IF(A720=\"\",\"\",MAX(IF(ISERROR(AU720:BF720),0,AU720:BF720)))","v":""},"","","","","","","","","","","","","","","","","","","","","","","","","","","","","","","","","","","","","","","","","","","","",""]
[{"$f":"IF(ISBLANK('Control Sheet'!D703),\"\",'Control Sheet'!D703)","v":""},{"$f":"IF(ISBLANK('Control Sheet'!E703),\"\",'Control Sheet'!E703&\" (\"&'Control Sheet'!F703&\")\")","v":""},"","","","","","","","","","","","","",null,"","","","","","","","","","","","","","","","","","","","","","","","","","","","","","","","","","","","","","","","","","",{"$f":"IF(A723=\"\",\"\",MAX(IF(ISERROR(AU723:BF723),0,AU723:BF723)))","v":""},"","","","","","","","","","","","","","","","","","","","","","","","","","","","","","","","","","","","","","","","","","","","",""]
[{"$f":"IF(ISBLANK('Control Sheet'!D707),\"\",'Control Sheet'!D707)","v":""},{"$f":"IF(ISBLANK('Control Sheet'!E707),\"\",'Control Sheet'!E707&\" (\"&'Control Sheet'!F707&\")\")","v":""},"","","","","","","","","","","","","",null,"","","","","","","","","","","","","","","","","","","","","","","","","","","","","","","","","","","","","","","","","","",{"$f":"IF(A727=\"\",\"\",MAX(IF(ISERROR(AU727:BF727),0,AU727:BF727)))","v":""},"","","","","","","","","","","","","","","","","","","","","","","","","","","","","","","","","","","","","","","","","","","","",""]
[{"$f":"IF(ISBLANK('Control Sheet'!D710),\"\",'Control Sheet'!D710)","v":""},{"$f":"IF(ISBLANK('Control Sheet'!E710),\"\",'Control Sheet'!E710&\" (\"&'Control Sheet'!F710&\")\")","v":""},"","","","","","","","","","","","","",null,"","","","","","","","","","","","","","","","","","","","","","","","","","","","","","","","","","","","","","","","","","",{"$f":"IF(A730=\"\",\"\",MAX(IF(ISERROR(AU730:BF730),0,AU730:BF730)))","v":""},"","","","","","","","","","","","","","","","","","","","","","","","","","","","","","","","","","","","","","","","","","","","",""]
[{"$f":"IF(ISBLANK('Control Sheet'!D712),\"\",'Control Sheet'!D712)","v":""},{"$f":"IF(ISBLANK('Control Sheet'!E712),\"\",'Control Sheet'!E712&\" (\"&'Control Sheet'!F712&\")\")","v":""},"","","","","","","","","","","","","",null,"","","","","","","","","","","","","","","","","","","","","","","","","","","","","","","","","","","","","","","","","","",{"$f":"IF(A732=\"\",\"\",MAX(IF(ISERROR(AU732:BF732),0,AU732:BF732)))","v":""},"","","","","","","","","","","","","","","","","","","","","","","","","","","","","","","","","","","","","","","","","","","","",""]
[{"$f":"IF(ISBLANK('Control Sheet'!D713),\"\",'Control Sheet'!D713)","v":""},{"$f":"IF(ISBLANK('Control Sheet'!E713),\"\",'Control Sheet'!E713&\" (\"&'Control Sheet'!F713&\")\")","v":""},"","","","","","","","","","","","","",null,"","","","","","","","","","","","","","","","","","","","","","","","","","","","","","","","","","","","","","","","","","",{"$f":"IF(A733=\"\",\"\",MAX(IF(ISERROR(AU733:BF733),0,AU733:BF733)))","v":""},"","","","","","","","","","","","","","","","","","","","","","","","","","","","","","","","","","","","","","","","","","","","",""]
[{"$f":"IF(ISBLANK('Control Sheet'!D716),\"\",'Control Sheet'!D716)","v":""},{"$f":"IF(ISBLANK('Control Sheet'!E716),\"\",'Control Sheet'!E716&\" (\"&'Control Sheet'!F716&\")\")","v":""},"","","","","","","","","","","","","",null,"","","","","","","","","","","","","","","","","","","","","","","","","","","","","","","","","","","","","","","","","","",{"$f":"IF(A736=\"\",\"\",MAX(IF(ISERROR(AU736:BF736),0,AU736:BF736)))","v":""},"","","","","","","","","","","","","","","","","","","","","","","","","","","","","","","","","","","","","","","","","","","","",""]
[{"$f":"IF(ISBLANK('Control Sheet'!D720),\"\",'Control Sheet'!D720)","v":""},{"$f":"IF(ISBLANK('Control Sheet'!E720),\"\",'Control Sheet'!E720&\" (\"&'Control Sheet'!F720&\")\")","v":""},"","","","","","","","","","","","","",null,"","","","","","","","","","","","","","","","","","","","","","","","","","","","","","","","","","","","","","","","","","",{"$f":"IF(A740=\"\",\"\",MAX(IF(ISERROR(AU740:BF740),0,AU740:BF740)))","v":""},"","","","","","","","","","","","","","","","","","","","","","","","","","","","","","","","","","","","","","","","","","","","",""]
[{"$f":"IF(ISBLANK('Control Sheet'!D723),\"\",'Control Sheet'!D723)","v":""},{"$f":"IF(ISBLANK('Control Sheet'!E723),\"\",'Control Sheet'!E723&\" (\"&'Control Sheet'!F723&\")\")","v":""},"","","","","","","","","","","","","",null,"","","","","","","","","","","","","","","","","","","","","","","","","","","","","","","","","","","","","","","","","","",{"$f":"IF(A743=\"\",\"\",MAX(IF(ISERROR(AU743:BF743),0,AU743:BF743)))","v":""},"","","","","","","","","","","","","","","","","","","","","","","","","","","","","","","","","","","","","","","","","","","","",""]
[{"$f":"IF(ISBLANK('Control Sheet'!D726),\"\",'Control Sheet'!D726)","v":""},{"$f":"IF(ISBLANK('Control Sheet'!E726),\"\",'Control Sheet'!E726&\" (\"&'Control Sheet'!F726&\")\")","v":""},"","","","","","","","","","","","","",null,"","","","","","","","","","","","","","","","","","","","","","","","","","","","","","","","","","","","","","","","","","",{"$f":"IF(A746=\"\",\"\",MAX(IF(ISERROR(AU746:BF746),0,AU746:BF746)))","v":""},"","","","","","","","","","","","","","","","","","","","","","","","","","","","","","","","","","","","","","","","","","","","",""]
[{"$f":"IF(ISBLANK('Control Sheet'!D729),\"\",'Control Sheet'!D729)","v":""},{"$f":"IF(ISBLANK('Control Sheet'!E729),\"\",'Control Sheet'!E729&\" (\"&'Control Sheet'!F729&\")\")","v":""},"","","","","","","","","","","","","",null,"","","","","","","","","","","","","","","","","","","","","","","","","","","","","","","","","","","","","","","","","","",{"$f":"IF(A749=\"\",\"\",MAX(IF(ISERROR(AU749:BF749),0,AU749:BF749)))","v":""},"","","","","","","","","","","","","","","","","","","","","","","","","","","","","","","","","","","","","","","","","","","","",""]
[{"$f":"IF(ISBLANK('Control Sheet'!D732),\"\",'Control Sheet'!D732)","v":""},{"$f":"IF(ISBLANK('Control Sheet'!E732),\"\",'Control Sheet'!E732&\" (\"&'Control Sheet'!F732&\")\")","v":""},"","","","","","","","","","","","","",null,"","","","","","","","","","","","","","","","","","","","","","","","","","","","","","","","","","","","","","","","","","",{"$f":"IF(A752=\"\",\"\",MAX(IF(ISERROR(AU752:BF752),0,AU752:BF752)))","v":""},"","","","","","","","","","","","","","","","","","","","","","","","","","","","","","","","","","","","","","","","","","","","",""]
[{"$f":"IF(ISBLANK('Control Sheet'!D735),\"\",'Control Sheet'!D735)","v":""},{"$f":"IF(ISBLANK('Control Sheet'!E735),\"\",'Control Sheet'!E735&\" (\"&'Control Sheet'!F735&\")\")","v":""},"","","","","","","","","","","","","",null,"","","","","","","","","","","","","","","","","","","","","","","","","","","","","","","","","","","","","","","","","","",{"$f":"IF(A755=\"\",\"\",MAX(IF(ISERROR(AU755:BF755),0,AU755:BF755)))","v":""},"","","","","","","","","","","","","","","","","","","","","","","","","","","","","","","","","","","","","","","","","","","","",""]
[{"$f":"IF(ISBLANK('Control Sheet'!D736),\"\",'Control Sheet'!D736)","v":""},{"$f":"IF(ISBLANK('Control Sheet'!E736),\"\",'Control Sheet'!E736&\" (\"&'Control Sheet'!F736&\")\")","v":""},"","","","","","","","","","","","","",null,"","","","","","","","","","","","","","","","","","","","","","","","","","","","","","","","","","","","","","","","","","",{"$f":"IF(A756=\"\",\"\",MAX(IF(ISERROR(AU756:BF756),0,AU756:BF756)))","v":""},"","","","","","","","","","","","","","","","","","","","","","","","","","","","","","","","","","","","","","","","","","","","",""]
[{"$f":"IF(ISBLANK('Control Sheet'!D739),\"\",'Control Sheet'!D739)","v":""},{"$f":"IF(ISBLANK('Control Sheet'!E739),\"\",'Control Sheet'!E739&\" (\"&'Control Sheet'!F739&\")\")","v":""},"","","","","","","","","","","","","",null,"","","","","","","","","","","","","","","","","","","","","","","","","","","","","","","","","","","","","","","","","","",{"$f":"IF(A759=\"\",\"\",MAX(IF(ISERROR(AU759:BF759),0,AU759:BF759)))","v":""},"","","","","","","","","","","","","","","","","","","","","","","","","","","","","","","","","","","","","","","","","","","","",""]
[{"$f":"IF(ISBLANK('Control Sheet'!D742),\"\",'Control Sheet'!D742)","v":""},{"$f":"IF(ISBLANK('Control Sheet'!E742),\"\",'Control Sheet'!E742&\" (\"&'Control Sheet'!F742&\")\")","v":""},"","","","","","","","","","","","","",null,"","","","","","","","","","","","","","","","","","","","","","","","","","","","","","","","","","","","","","","","","","",{"$f":"IF(A762=\"\",\"\",MAX(IF(ISERROR(AU762:BF762),0,AU762:BF762)))","v":""},"","","","","","","","","","","","","","","","","","","","","","","","","","","","","","","","","","","","","","","","","","","","",""]
[{"$f":"IF(ISBLANK('Control Sheet'!D745),\"\",'Control Sheet'!D745)","v":""},{"$f":"IF(ISBLANK('Control Sheet'!E745),\"\",'Control Sheet'!E745&\" (\"&'Control Sheet'!F745&\")\")","v":""},"","","","","","","","","","","","","",null,"","","","","","","","","","","","","","","","","","","","","","","","","","","","","","","","","","","","","","","","","","",{"$f":"IF(A765=\"\",\"\",MAX(IF(ISERROR(AU765:BF765),0,AU765:BF765)))","v":""},"","","","","","","","","","","","","","","","","","","","","","","","","","","","","","","","","","","","","","","","","","","","",""]
[{"$f":"IF(ISBLANK('Control Sheet'!D748),\"\",'Control Sheet'!D748)","v":""},{"$f":"IF(ISBLANK('Control Sheet'!E748),\"\",'Control Sheet'!E748&\" (\"&'Control Sheet'!F748&\")\")","v":""},"","","","","","","","","","","","","",null,"","","","","","","","","","","","","","","","","","","","","","","","","","","","","","","","","","","","","","","","","","",{"$f":"IF(A768=\"\",\"\",MAX(IF(ISERROR(AU768:BF768),0,AU768:BF768)))","v":""},"","","","","","","","","","","","","","","","","","","","","","","","","","","","","","","","","","","","","","","","","","","","",""]
[{"$f":"IF(ISBLANK('Control Sheet'!D752),\"\",'Control Sheet'!D752)","v":""},{"$f":"IF(ISBLANK('Control Sheet'!E752),\"\",'Control Sheet'!E752&\" (\"&'Control Sheet'!F752&\")\")","v":""},"","","","","","","","","","","","","",null,"","","","","","","","","","","","","","","","","","","","","","","","","","","","","","","","","","","","","","","","","","",{"$f":"IF(A772=\"\",\"\",MAX(IF(ISERROR(AU772:BF772),0,AU772:BF772)))","v":""},"","","","","","","","","","","","","","","","","","","","","","","","","","","","","","","","","","","","","","","","","","","","",""]
[{"$f":"IF(ISBLANK('Control Sheet'!D755),\"\",'Control Sheet'!D755)","v":""},{"$f":"IF(ISBLANK('Control Sheet'!E755),\"\",'Control Sheet'!E755&\" (\"&'Control Sheet'!F755&\")\")","v":""},"","","","","","","","","","","","","",null,"","","","","","","","","","","","","","","","","","","","","","","","","","","","","","","","","","","","","","","","","","",{"$f":"IF(A775=\"\",\"\",MAX(IF(ISERROR(AU775:BF775),0,AU775:BF775)))","v":""},"","","","","","","","","","","","","","","","","","","","","","","","","","","","","","","","","","","","","","","","","","","","",""]
[{"$f":"IF(ISBLANK('Control Sheet'!D756),\"\",'Control Sheet'!D756)","v":""},{"$f":"IF(ISBLANK('Control Sheet'!E756),\"\",'Control Sheet'!E756&\" (\"&'Control Sheet'!F756&\")\")","v":""},"","","","","","","","","","","","","",null,"","","","","","","","","","","","","","","","","","","","","","","","","","","","","","","","","","","","","","","","","","",{"$f":"IF(A776=\"\",\"\",MAX(IF(ISERROR(AU776:BF776),0,AU776:BF776)))","v":""},"","","","","","","","","","","","","","","","","","","","","","","","","","","","","","","","","","","","","","","","","","","","",""]
[{"$f":"IF(ISBLANK('Control Sheet'!D759),\"\",'Control Sheet'!D759)","v":""},{"$f":"IF(ISBLANK('Control Sheet'!E759),\"\",'Control Sheet'!E759&\" (\"&'Control Sheet'!F759&\")\")","v":""},"","","","","","","","","","","","","",null,"","","","","","","","","","","","","","","","","","","","","","","","","","","","","","","","","","","","","","","","","","",{"$f":"IF(A779=\"\",\"\",MAX(IF(ISERROR(AU779:BF779),0,AU779:BF779)))","v":""},"","","","","","","","","","","","","","","","","","","","","","","","","","","","","","","","","","","","","","","","","","","","",""]
[{"$f":"IF(ISBLANK('Control Sheet'!D761),\"\",'Control Sheet'!D761)","v":""},{"$f":"IF(ISBLANK('Control Sheet'!E761),\"\",'Control Sheet'!E761&\" (\"&'Control Sheet'!F761&\")\")","v":""},{"$f":"IF(C$18=1,IF(ISNA(VLOOKUP($A781,INDIRECT(C$20),MUR_col,FALSE)),\"\",VLOOKUP($A781,INDIRECT(C$20),MUR_col,FALSE)),\"\")","v":""},"","","","","","","","","","","","",null,"","","","","","","","","","","","","","","","","","","","","","","","","","","","","","","","","","","","","","","","","","",{"$f":"IF(A781=\"\",\"\",MAX(IF(ISERROR(AU781:BF781),0,AU781:BF781)))","v":""},"","","","","","","","","","","","","","","","","","","","","","","","","","","","","","","","","","","","","","","","","","","","",""]
[{"$f":"IF(ISBLANK('Control Sheet'!D765),\"\",'Control Sheet'!D765)","v":""},{"$f":"IF(ISBLANK('Control Sheet'!E765),\"\",'Control Sheet'!E765&\" (\"&'Control Sheet'!F765&\")\")","v":""},"","","","","","","","","","","","","",null,"","","","","","","","","","","","","","","","","","","","","","","","","","","","","","","","","","","","","","","","","","",{"$f":"IF(A785=\"\",\"\",MAX(IF(ISERROR(AU785:BF785),0,AU785:BF785)))","v":""},"","","","","","","","","","","","","","","","","","","","","","","","","","","","","","","","","","","","","","","","","","","","",""]
[{"$f":"IF(ISBLANK('Control Sheet'!D768),\"\",'Control Sheet'!D768)","v":""},{"$f":"IF(ISBLANK('Control Sheet'!E768),\"\",'Control Sheet'!E768&\" (\"&'Control Sheet'!F768&\")\")","v":""},"","","","","","","","","","","","","",null,"","","","","","","","","","","","","","","","","","","","","","","","","","","","","","","","","","","","","","","","","","",{"$f":"IF(A788=\"\",\"\",MAX(IF(ISERROR(AU788:BF788),0,AU788:BF788)))","v":""},"","","","","","","","","","","","","","","","","","","","","","","","","","","","","","","","","","","","","","","","","","","","",""]
[{"$f":"IF(ISBLANK('Control Sheet'!D771),\"\",'Control Sheet'!D771)","v":""},{"$f":"IF(ISBLANK('Control Sheet'!E771),\"\",'Control Sheet'!E771&\" (\"&'Control Sheet'!F771&\")\")","v":""},{"$f":"IF(C$18=1,IF(ISNA(VLOOKUP($A791,INDIRECT(C$20),MUR_col,FALSE)),\"\",VLOOKUP($A791,INDIRECT(C$20),MUR_col,FALSE)),\"\")","v":""},"","","","","","","","","","","","",null,"","","","","","","","","","","","","","","","","","","","","","","","","","","","","","","","","","","","","","","","","","",{"$f":"IF(A791=\"\",\"\",MAX(IF(ISERROR(AU791:BF791),0,AU791:BF791)))","v":""},"","","","","","","","","","","","","","","","","","","","","","","","","","","","","","","","","","","","","","","","","","","","",""]
[{"$f":"IF(ISBLANK('Control Sheet'!D775),\"\",'Control Sheet'!D775)","v":""},{"$f":"IF(ISBLANK('Control Sheet'!E775),\"\",'Control Sheet'!E775&\" (\"&'Control Sheet'!F775&\")\")","v":""},"","","","","","","","","","","","","",null,"","","","","","","","","","","","","","","","","","","","","","","","","","","","","","","","","","","","","","","","","","",{"$f":"IF(A795=\"\",\"\",MAX(IF(ISERROR(AU795:BF795),0,AU795:BF795)))","v":""},"","","","","","","","","","","","","","","","","","","","","","","","","","","","","","","","","","","","","","","","","","","","",""]
[{"$f":"IF(ISBLANK('Control Sheet'!D776),\"\",'Control Sheet'!D776)","v":""},{"$f":"IF(ISBLANK('Control Sheet'!E776),\"\",'Control Sheet'!E776&\" (\"&'Control Sheet'!F776&\")\")","v":""},"","","","","","","","","","","","","",null,"","","","","","","","","","","","","","","","","","","","","","","","","","","","","","","","","","","","","","","","","","",{"$f":"IF(A796=\"\",\"\",MAX(IF(ISERROR(AU796:BF796),0,AU796:BF796)))","v":""},"","","","","","","","","","","","","","","","","","","","","","","","","","","","","","","","","","","","","","","","","","","","",""]
[{"$f":"IF(ISBLANK('Control Sheet'!D778),\"\",'Control Sheet'!D778)","v":""},{"$f":"IF(ISBLANK('Control Sheet'!E778),\"\",'Control Sheet'!E778&\" (\"&'Control Sheet'!F778&\")\")","v":""},"","","","","","","","","","","","","",null,"","","","","","","","","","","","","","","","","","","","","","","","","","","","","","","","","","","","","","","","","","",{"$f":"IF(A798=\"\",\"\",MAX(IF(ISERROR(AU798:BF798),0,AU798:BF798)))","v":""},"","","","","","","","","","","","","","","","","","","","","","","","","","","","","","","","","","","","","","","","","","","","",""]
[{"$f":"IF(ISBLANK('Control Sheet'!D781),\"\",'Control Sheet'!D781)","v":""},{"$f":"IF(ISBLANK('Control Sheet'!E781),\"\",'Control Sheet'!E781&\" (\"&'Control Sheet'!F781&\")\")","v":""},{"$f":"IF(C$18=1,IF(ISNA(VLOOKUP($A801,INDIRECT(C$20),MUR_col,FALSE)),\"\",VLOOKUP($A801,INDIRECT(C$20),MUR_col,FALSE)),\"\")","v":""},"","","","","","","","","","","","",null,"","","","","","","","","","","","","","","","","","","","","","","","","","","","","","","","","","","","","","","","","","",{"$f":"IF(A801=\"\",\"\",MAX(IF(ISERROR(AU801:BF801),0,AU801:BF801)))","v":""},"","","","","","","","","","","","","","","","","","","","","","","","","","","","","","","","","","","","","","","","","","","","",""]
[{"$f":"IF(ISBLANK('Control Sheet'!D784),\"\",'Control Sheet'!D784)","v":""},{"$f":"IF(ISBLANK('Control Sheet'!E784),\"\",'Control Sheet'!E784&\" (\"&'Control Sheet'!F784&\")\")","v":""},"","","","","","","","","","","","","",null,"","","","","","","","","","","","","","","","","","","","","","","","","","","","","","","","","","","","","","","","","","",{"$f":"IF(A804=\"\",\"\",MAX(IF(ISERROR(AU804:BF804),0,AU804:BF804)))","v":""},"","","","","","","","","","","","","","","","","","","","","","","","","","","","","","","","","","","","","","","","","","","","",""]
[{"$f":"IF(ISBLANK('Control Sheet'!D788),\"\",'Control Sheet'!D788)","v":""},{"$f":"IF(ISBLANK('Control Sheet'!E788),\"\",'Control Sheet'!E788&\" (\"&'Control Sheet'!F788&\")\")","v":""},"","","","","","","","","","","","","",null,"","","","","","","","","","","","","","","","","","","","","","","","","","","","","","","","","","","","","","","","","","",{"$f":"IF(A808=\"\",\"\",MAX(IF(ISERROR(AU808:BF808),0,AU808:BF808)))","v":""},"","","","","","","","","","","","","","","","","","","","","","","","","","","","","","","","","","","","","","","","","","","","",""]
[{"$f":"IF(ISBLANK('Control Sheet'!D791),\"\",'Control Sheet'!D791)","v":""},{"$f":"IF(ISBLANK('Control Sheet'!E791),\"\",'Control Sheet'!E791&\" (\"&'Control Sheet'!F791&\")\")","v":""},{"$f":"IF(C$18=1,IF(ISNA(VLOOKUP($A811,INDIRECT(C$20),MUR_col,FALSE)),\"\",VLOOKUP($A811,INDIRECT(C$20),MUR_col,FALSE)),\"\")","v":""},"","","","","","","","","","","","",null,"","","","","","","","","","","","","","","","","","","","","","","","","","","","","","","","","","","","","","","","","","",{"$f":"IF(A811=\"\",\"\",MAX(IF(ISERROR(AU811:BF811),0,AU811:BF811)))","v":""},"","","","","","","","","","","","","","","","","","","","","","","","","","","","","","","","","","","","","","","","","","","","",""]
[{"$f":"IF(ISBLANK('Control Sheet'!D794),\"\",'Control Sheet'!D794)","v":""},{"$f":"IF(ISBLANK('Control Sheet'!E794),\"\",'Control Sheet'!E794&\" (\"&'Control Sheet'!F794&\")\")","v":""},"","","","","","","","","","","","","",null,"","","","","","","","","","","","","","","","","","","","","","","","","","","","","","","","","","","","","","","","","","",{"$f":"IF(A814=\"\",\"\",MAX(IF(ISERROR(AU814:BF814),0,AU814:BF814)))","v":""},"","","","","","","","","","","","","","","","","","","","","","","","","","","","","","","","","","","","","","","","","","","","",""]
[{"$f":"IF(ISBLANK('Control Sheet'!D797),\"\",'Control Sheet'!D797)","v":""},{"$f":"IF(ISBLANK('Control Sheet'!E797),\"\",'Control Sheet'!E797&\" (\"&'Control Sheet'!F797&\")\")","v":""},"","","","","","","","","","","","","",null,"","","","","","","","","","","","","","","","","","","","","","","","","","","","","","","","","","","","","","","","","","",{"$f":"IF(A817=\"\",\"\",MAX(IF(ISERROR(AU817:BF817),0,AU817:BF817)))","v":""},"","","","","","","","","","","","","","","","","","","","","","","","","","","","","","","","","","","","","","","","","","","","",""]
[{"$f":"IF(ISBLANK('Control Sheet'!D800),\"\",'Control Sheet'!D800)","v":""},{"$f":"IF(ISBLANK('Control Sheet'!E800),\"\",'Control Sheet'!E800&\" (\"&'Control Sheet'!F800&\")\")","v":""},"","","","","","","","","","","","","",null,"","","","","","","","","","","","","","","","","","","","","","","","","","","","","","","","","","","","","","","","","","",{"$f":"IF(A820=\"\",\"\",MAX(IF(ISERROR(AU820:BF820),0,AU820:BF820)))","v":""},"","","","","","","","","","","","","","","","","","","","","","","","","","","","","","","","","","","","","","","","","","","","",""]
[{"$f":"IF(ISBLANK('Control Sheet'!D801),\"\",'Control Sheet'!D801)","v":""},{"$f":"IF(ISBLANK('Control Sheet'!E801),\"\",'Control Sheet'!E801&\" (\"&'Control Sheet'!F801&\")\")","v":""},{"$f":"IF(C$18=1,IF(ISNA(VLOOKUP($A821,INDIRECT(C$20),MUR_col,FALSE)),\"\",VLOOKUP($A821,INDIRECT(C$20),MUR_col,FALSE)),\"\")","v":""},"","","","","","","","","","","","",null,"","","","","","","","","","","","","","","","","","","","","","","","","","","","","","","","","","","","","","","","","","",{"$f":"IF(A821=\"\",\"\",MAX(IF(ISERROR(AU821:BF821),0,AU821:BF821)))","v":""},"","","","","","","","","","","","","","","","","","","","","","","","","","","","","","","","","","","","","","","","","","","","",""]
[{"$f":"IF(ISBLANK('Control Sheet'!D804),\"\",'Control Sheet'!D804)","v":""},{"$f":"IF(ISBLANK('Control Sheet'!E804),\"\",'Control Sheet'!E804&\" (\"&'Control Sheet'!F804&\")\")","v":""},"","","","","","","","","","","","","",null,"","","","","","","","","","","","","","","","","","","","","","","","","","","","","","","","","","","","","","","","","","",{"$f":"IF(A824=\"\",\"\",MAX(IF(ISERROR(AU824:BF824),0,AU824:BF824)))","v":""},"","","","","","","","","","","","","","","","","","","","","","","","","","","","","","","","","","","","","","","","","","","","",""]
[{"$f":"IF(ISBLANK('Control Sheet'!D808),\"\",'Control Sheet'!D808)","v":""},{"$f":"IF(ISBLANK('Control Sheet'!E808),\"\",'Control Sheet'!E808&\" (\"&'Control Sheet'!F808&\")\")","v":""},"","","","","","","","","","","","","",null,"","","","","","","","","","","","","","","","","","","","","","","","","","","","","","","","","","","","","","","","","","",{"$f":"IF(A828=\"\",\"\",MAX(IF(ISERROR(AU828:BF828),0,AU828:BF828)))","v":""},"","","","","","","","","","","","","","","","","","","","","","","","","","","","","","","","","","","","","","","","","","","","",""]
[{"$f":"IF(ISBLANK('Control Sheet'!D810),\"\",'Control Sheet'!D810)","v":""},{"$f":"IF(ISBLANK('Control Sheet'!E810),\"\",'Control Sheet'!E810&\" (\"&'Control Sheet'!F810&\")\")","v":""},"","","","","","","","","","","","","",null,"","","","","","","","","","","","","","","","","","","","","","","","","","","","","","","","","","","","","","","","","","",{"$f":"IF(A830=\"\",\"\",MAX(IF(ISERROR(AU830:BF830),0,AU830:BF830)))","v":""},"","","","","","","","","","","","","","","","","","","","","","","","","","","","","","","","","","","","","","","","","","","","",""]
[{"$f":"IF(ISBLANK('Control Sheet'!D813),\"\",'Control Sheet'!D813)","v":""},{"$f":"IF(ISBLANK('Control Sheet'!E813),\"\",'Control Sheet'!E813&\" (\"&'Control Sheet'!F813&\")\")","v":""},"","","","","","","","","","","","","",null,"","","","","","","","","","","","","","","","","","","","","","","","","","","","","","","","","","","","","","","","","","",{"$f":"IF(A833=\"\",\"\",MAX(IF(ISERROR(AU833:BF833),0,AU833:BF833)))","v":""},"","","","","","","","","","","","","","","","","","","","","","","","","","","","","","","","","","","","","","","","","","","","",""]
[{"$f":"IF(ISBLANK('Control Sheet'!D817),\"\",'Control Sheet'!D817)","v":""},{"$f":"IF(ISBLANK('Control Sheet'!E817),\"\",'Control Sheet'!E817&\" (\"&'Control Sheet'!F817&\")\")","v":""},"","","","","","","","","","","","","",null,"","","","","","","","","","","","","","","","","","","","","","","","","","","","","","","","","","","","","","","","","","",{"$f":"IF(A837=\"\",\"\",MAX(IF(ISERROR(AU837:BF837),0,AU837:BF837)))","v":""},"","","","","","","","","","","","","","","","","","","","","","","","","","","","","","","","","","","","","","","","","","","","",""]
[{"$f":"IF(ISBLANK('Control Sheet'!D820),\"\",'Control Sheet'!D820)","v":""},{"$f":"IF(ISBLANK('Control Sheet'!E820),\"\",'Control Sheet'!E820&\" (\"&'Control Sheet'!F820&\")\")","v":""},"","","","","","","","","","","","","",null,"","","","","","","","","","","","","","","","","","","","","","","","","","","","","","","","","","","","","","","","","","",{"$f":"IF(A840=\"\",\"\",MAX(IF(ISERROR(AU840:BF840),0,AU840:BF840)))","v":""},"","","","","","","","","","","","","","","","","","","","","","","","","","","","","","","","","","","","","","","","","","","","",""]
[{"$f":"IF(ISBLANK('Control Sheet'!D823),\"\",'Control Sheet'!D823)","v":""},{"$f":"IF(ISBLANK('Control Sheet'!E823),\"\",'Control Sheet'!E823&\" (\"&'Control Sheet'!F823&\")\")","v":""},"","","","","","","","","","","","","",null,"","","","","","","","","","","","","","","","","","","","","","","","","","","","","","","","","","","","","","","","","","",{"$f":"IF(A843=\"\",\"\",MAX(IF(ISERROR(AU843:BF843),0,AU843:BF843)))","v":""},"","","","","","","","","","","","","","","","","","","","","","","","","","","","","","","","","","","","","","","","","","","","",""]
[{"$f":"IF(ISBLANK('Control Sheet'!D825),\"\",'Control Sheet'!D825)","v":""},{"$f":"IF(ISBLANK('Control Sheet'!E825),\"\",'Control Sheet'!E825&\" (\"&'Control Sheet'!F825&\")\")","v":""},"","","","","","","","","","","","","",null,"","","","","","","","","","","","","","","","","","","","","","","","","","","","","","","","","","","","","","","","","","",{"$f":"IF(A845=\"\",\"\",MAX(IF(ISERROR(AU845:BF845),0,AU845:BF845)))","v":""},"","","","","","","","","","","","","","","","","","","","","","","","","","","","","","","","","","","","","","","","","","","","",""]
[{"$f":"IF(ISBLANK('Control Sheet'!D826),\"\",'Control Sheet'!D826)","v":""},{"$f":"IF(ISBLANK('Control Sheet'!E826),\"\",'Control Sheet'!E826&\" (\"&'Control Sheet'!F826&\")\")","v":""},"","","","","","","","","","","","","",null,"","","","","","","","","","","","","","","","","","","","","","","","","","","","","","","","","","","","","","","","","","",{"$f":"IF(A846=\"\",\"\",MAX(IF(ISERROR(AU846:BF846),0,AU846:BF846)))","v":""},"","","","","","","","","","","","","","","","","","","","","","","","","","","","","","","","","","","","","","","","","","","","",""]
[{"$f":"IF(ISBLANK('Control Sheet'!D829),\"\",'Control Sheet'!D829)","v":""},{"$f":"IF(ISBLANK('Control Sheet'!E829),\"\",'Control Sheet'!E829&\" (\"&'Control Sheet'!F829&\")\")","v":""},"","","","","","","","","","","","","",null,"","","","","","","","","","","","","","","","","","","","","","","","","","","","","","","","","","","","","","","","","","",{"$f":"IF(A849=\"\",\"\",MAX(IF(ISERROR(AU849:BF849),0,AU849:BF849)))","v":""},"","","","","","","","","","","","","","","","","","","","","","","","","","","","","","","","","","","","","","","","","","","","",""]
[{"$f":"IF(ISBLANK('Control Sheet'!D833),\"\",'Control Sheet'!D833)","v":""},{"$f":"IF(ISBLANK('Control Sheet'!E833),\"\",'Control Sheet'!E833&\" (\"&'Control Sheet'!F833&\")\")","v":""},"","","","","","","","","","","","",{"$f":"IF(A853=\"\",\"\",SUM(C853:N853))","v":""},null,"",{"$f":"IF(A853=\"\",\"\",MURMonthsPop-(COUNTA(C853:N853)-COUNTBLANK(C853:N853)))","v":""},{"$f":"IF(C853=\"\",\"\",IF(C853<=C$10,MURmLOScore,IF(C853<=C$7,MURmBAScore,IF(C853<=C$8,MURmLQRScore,IF(C853<=C$9,MURmUQRScore,IF(C853<=C$11,MURmAAScore,MURmUOScore+C853-C$11))))))","v":""},{"$f":"IF(D853=\"\",\"\",IF(D853<=D$10,MURmLOScore,IF(D853<=D$7,MURmBAScore,IF(D853<=D$8,MURmLQRScore,IF(D853<=D$9,MURmUQRScore,IF(D853<=D$11,MURmAAScore,MURmUOScore+D853-D$11))))))","v":""},{"$f":"IF(E853=\"\",\"\",IF(E853<=E$10,MURmLOScore,IF(E853<=E$7,MURmBAScore,IF(E853<=E$8,MURmLQRScore,IF(E853<=E$9,MURmUQRScore,IF(E853<=E$11,MURmAAScore,MURmUOScore+E853-E$11))))))","v":""},{"$f":"IF(F853=\"\",\"\",IF(F853<=F$10,MURmLOScore,IF(F853<=F$7,MURmBAScore,IF(F853<=F$8,MURmLQRScore,IF(F853<=F$9,MURmUQRScore,IF(F853<=F$11,MURmAAScore,MURmUOScore+F853-F$11))))))","v":""},{"$f":"IF(G853=\"\",\"\",IF(G853<=G$10,MURmLOScore,IF(G853<=G$7,MURmBAScore,IF(G853<=G$8,MURmLQRScore,IF(G853<=G$9,MURmUQRScore,IF(G853<=G$11,MURmAAScore,MURmUOScore+G853-G$11))))))","v":""},{"$f":"IF(H853=\"\",\"\",IF(H853<=H$10,MURmLOScore,IF(H853<=H$7,MURmBAScore,IF(H853<=H$8,MURmLQRScore,IF(H853<=H$9,MURmUQRScore,IF(H853<=H$11,MURmAAScore,MURmUOScore+H853-H$11))))))","v":""},{"$f":"IF(I853=\"\",\"\",IF(I853<=I$10,MURmLOScore,IF(I853<=I$7,MURmBAScore,IF(I853<=I$8,MURmLQRScore,IF(I853<=I$9,MURmUQRScore,IF(I853<=I$11,MURmAAScore,MURmUOScore+I853-I$11))))))","v":""},{"$f":"IF(J853=\"\",\"\",IF(J853<=J$10,MURmLOScore,IF(J853<=J$7,MURmBAScore,IF(J853<=J$8,MURmLQRScore,IF(J853<=J$9,MURmUQRScore,IF(J853<=J$11,MURmAAScore,MURmUOScore+J853-J$11))))))","v":""},{"$f":"IF(K853=\"\",\"\",IF(K853<=K$10,MURmLOScore,IF(K853<=K$7,MURmBAScore,IF(K853<=K$8,MURmLQRScore,IF(K853<=K$9,MURmUQRScore,IF(K853<=K$11,MURmAAScore,MURmUOScore+K853-K$11))))))","v":""},{"$f":"IF(L853=\"\",\"\",IF(L853<=L$10,MURmLOScore,IF(L853<=L$7,MURmBAScore,IF(L853<=L$8,MURmLQRScore,IF(L853<=L$9,MURmUQRScore,IF(L853<=L$11,MURmAAScore,MURmUOScore+L853-L$11))))))","v":""},{"$f":"IF(M853=\"\",\"\",IF(M853<=M$10,MURmLOScore,IF(M853<=M$7,MURmBAScore,IF(M853<=M$8,MURmLQRScore,IF(M853<=M$9,MURmUQRScore,IF(M853<=M$11,MURmAAScore,MURmUOScore+M853-M$11))))))","v":""},{"$f":"IF(N853=\"\",\"\",IF(N853<=N$10,MURmLOScore,IF(N853<=N$7,MURmBAScore,IF(N853<=N$8,MURmLQRScore,IF(N853<=N$9,MURmUQRScore,IF(N853<=N$11,MURmAAScore,MURmUOScore+N853-N$11))))))","v":""},{"$f":"IF(A853=\"\",\"\",SUM(S853:AD853))","v":""},{"$f":"IF(OR(A853=\"\",AE853=0),\"\",AE853/(O$18-R853))","v":""},{"$f":"IF(AF853=\"\",\"\",IF(AF853<=MURaLOScore,\"Lower Outlier\",IF(AF853<=MURaBAScore,\"Below Average\",IF(AF853<=MURaLQRScore,\"Lower Quartile\",IF(AF853<=MURaUQRScore,\"Upper Quartile\",IF(AF853<=MURaAAScore, \"Above Average\", \"Upper Outlier\"))))))","v":""},"","","","","","","","","","","","",{"$f":"IF(A853=\"\",\"\",MAX(AH853:AS853))","v":""},{"$f":"IF(OR(A853=\"\",MURMonthsPop=0),\"\",IF(AU$18=MURMonthsPop,AH853,#N/A))","v":""},{"$f":"IF(OR($A853=\"\",MURMonthsPop=0),\"\",IF(AV$18<MURMonthsPop,#N/A,IF(AV$18=MURMonthsPop,AI853,IF(AU853=\"\",\"\",IF(AV$18=MURMonthsPop+1,AU853+(AU853*VLOOKUP(MURMonthsPop-$R853,ForecastMult,3,FALSE)/12),AU853+AU853-AT853)))))","v":""},{"$f":"IF(OR($A853=\"\",MURMonthsPop=0),\"\",IF(AW$18<MURMonthsPop,#N/A,IF(AW$18=MURMonthsPop,AJ853,IF(AV853=\"\",\"\",IF(AW$18=MURMonthsPop+1,AV853+(AV853*VLOOKUP(MURMonthsPop-$R853,ForecastMult,3,FALSE)/12),AV853+AV853-AU853)))))","v":""},{"$f":"IF(OR($A853=\"\",MURMonthsPop=0),\"\",IF(AX$18<MURMonthsPop,#N/A,IF(AX$18=MURMonthsPop,AK853,IF(AW853=\"\",\"\",IF(AX$18=MURMonthsPop+1,AW853+(AW853*VLOOKUP(MURMonthsPop-$R853,ForecastMult,3,FALSE)/12),AW853+AW853-AV853)))))","v":""},{"$f":"IF(OR($A853=\"\",MURMonthsPop=0),\"\",IF(AY$18<MURMonthsPop,#N/A,IF(AY$18=MURMonthsPop,AL853,IF(AX853=\"\",\"\",IF(AY$18=MURMonthsPop+1,AX853+(AX853*VLOOKUP(MURMonthsPop-$R853,ForecastMult,3,FALSE)/12),AX853+AX853-AW853)))))","v":""},{"$f":"IF(OR($A853=\"\",MURMonthsPop=0),\"\",IF(AZ$18<MURMonthsPop,#N/A,IF(AZ$18=MURMonthsPop,AM853,IF(AY853=\"\",\"\",IF(AZ$18=MURMonthsPop+1,AY853+(AY853*VLOOKUP(MURMonthsPop-$R853,ForecastMult,3,FALSE)/12),AY853+AY853-AX853)))))","v":""},{"$f":"IF(OR($A853=\"\",MURMonthsPop=0),\"\",IF(BA$18<MURMonthsPop,#N/A,IF(BA$18=MURMonthsPop,AN853,IF(AZ853=\"\",\"\",IF(BA$18=MURMonthsPop+1,AZ853+(AZ853*VLOOKUP(MURMonthsPop-$R853,ForecastMult,3,FALSE)/12),AZ853+AZ853-AY853)))))","v":""},{"$f":"IF(OR($A853=\"\",MURMonthsPop=0),\"\",IF(BB$18<MURMonthsPop,#N/A,IF(BB$18=MURMonthsPop,AO853,IF(BA853=\"\",\"\",IF(BB$18=MURMonthsPop+1,BA853+(BA853*VLOOKUP(MURMonthsPop-$R853,ForecastMult,3,FALSE)/12),BA853+BA853-AZ853)))))","v":""},{"$f":"IF(OR($A853=\"\",MURMonthsPop=0),\"\",IF(BC$18<MURMonthsPop,#N/A,IF(BC$18=MURMonthsPop,AP853,IF(BB853=\"\",\"\",IF(BC$18=MURMonthsPop+1,BB853+(BB853*VLOOKUP(MURMonthsPop-$R853,ForecastMult,3,FALSE)/12),BB853+BB853-BA853)))))","v":""},{"$f":"IF(OR($A853=\"\",MURMonthsPop=0),\"\",IF(BD$18<MURMonthsPop,#N/A,IF(BD$18=MURMonthsPop,AQ853,IF(BC853=\"\",\"\",IF(BD$18=MURMonthsPop+1,BC853+(BC853*VLOOKUP(MURMonthsPop-$R853,ForecastMult,3,FALSE)/12),BC853+BC853-BB853)))))","v":""},{"$f":"IF(OR($A853=\"\",MURMonthsPop=0),\"\",IF(BE$18<MURMonthsPop,#N/A,IF(BE$18=MURMonthsPop,AR853,IF(BD853=\"\",\"\",IF(BE$18=MURMonthsPop+1,BD853+(BD853*VLOOKUP(MURMonthsPop-$R853,ForecastMult,3,FALSE)/12),BD853+BD853-BC853)))))","v":""},{"$f":"IF(OR($A853=\"\",MURMonthsPop=0),\"\",IF(BF$18<MURMonthsPop,#N/A,IF(BF$18=MURMonthsPop,AS853,IF(BE853=\"\",\"\",IF(BF$18=MURMonthsPop+1,BE853+(BE853*VLOOKUP(MURMonthsPop-$R853,ForecastMult,3,FALSE)/12),BE853+BE853-BD853)))))","v":""},{"$f":"IF(A853=\"\",\"\",MAX(IF(ISERROR(AU853:BF853),0,AU853:BF853)))","v":""},{"$f":"IF(AND(C$18=1,$A853<>\"\"),IF(ISNA(VLOOKUP($A853,INDIRECT(C$20),TOT_STDR_PXS_col,FALSE)),\"\",VLOOKUP($A853,INDIRECT(C$20),TOT_STDR_PXS_col,FALSE)+VLOOKUP($A853,INDIRECT(C$20),TOT_ZDR_PXS_col,FALSE)),\"\")","v":""},{"$f":"IF(AND(D$18=1,$A853<>\"\"),IF(ISNA(VLOOKUP($A853,INDIRECT(D$20),TOT_STDR_PXS_col,FALSE)),\"\",VLOOKUP($A853,INDIRECT(D$20),TOT_STDR_PXS_col,FALSE)+VLOOKUP($A853,INDIRECT(D$20),TOT_ZDR_PXS_col,FALSE)),\"\")","v":""},{"$f":"IF(AND(E$18=1,$A853<>\"\"),IF(ISNA(VLOOKUP($A853,INDIRECT(E$20),TOT_STDR_PXS_col,FALSE)),\"\",VLOOKUP($A853,INDIRECT(E$20),TOT_STDR_PXS_col,FALSE)+VLOOKUP($A853,INDIRECT(E$20),TOT_ZDR_PXS_col,FALSE)),\"\")","v":""},{"$f":"IF(AND(F$18=1,$A853<>\"\"),IF(ISNA(VLOOKUP($A853,INDIRECT(F$20),TOT_STDR_PXS_col,FALSE)),\"\",VLOOKUP($A853,INDIRECT(F$20),TOT_STDR_PXS_col,FALSE)+VLOOKUP($A853,INDIRECT(F$20),TOT_ZDR_PXS_col,FALSE)),\"\")","v":""},{"$f":"IF(AND(G$18=1,$A853<>\"\"),IF(ISNA(VLOOKUP($A853,INDIRECT(G$20),TOT_STDR_PXS_col,FALSE)),\"\",VLOOKUP($A853,INDIRECT(G$20),TOT_STDR_PXS_col,FALSE)+VLOOKUP($A853,INDIRECT(G$20),TOT_ZDR_PXS_col,FALSE)),\"\")","v":""},{"$f":"IF(AND(H$18=1,$A853<>\"\"),IF(ISNA(VLOOKUP($A853,INDIRECT(H$20),TOT_STDR_PXS_col,FALSE)),\"\",VLOOKUP($A853,INDIRECT(H$20),TOT_STDR_PXS_col,FALSE)+VLOOKUP($A853,INDIRECT(H$20),TOT_ZDR_PXS_col,FALSE)),\"\")","v":""},{"$f":"IF(AND(I$18=1,$A853<>\"\"),IF(ISNA(VLOOKUP($A853,INDIRECT(I$20),TOT_STDR_PXS_col,FALSE)),\"\",VLOOKUP($A853,INDIRECT(I$20),TOT_STDR_PXS_col,FALSE)+VLOOKUP($A853,INDIRECT(I$20),TOT_ZDR_PXS_col,FALSE)),\"\")","v":""},{"$f":"IF(AND(J$18=1,$A853<>\"\"),IF(ISNA(VLOOKUP($A853,INDIRECT(J$20),TOT_STDR_PXS_col,FALSE)),\"\",VLOOKUP($A853,INDIRECT(J$20),TOT_STDR_PXS_col,FALSE)+VLOOKUP($A853,INDIRECT(J$20),TOT_ZDR_PXS_col,FALSE)),\"\")","v":""},{"$f":"IF(AND(K$18=1,$A853<>\"\"),IF(ISNA(VLOOKUP($A853,INDIRECT(K$20),TOT_STDR_PXS_col,FALSE)),\"\",VLOOKUP($A853,INDIRECT(K$20),TOT_STDR_PXS_col,FALSE)+VLOOKUP($A853,INDIRECT(K$20),TOT_ZDR_PXS_col,FALSE)),\"\")","v":""},{"$f":"IF(AND(L$18=1,$A853<>\"\"),IF(ISNA(VLOOKUP($A853,INDIRECT(L$20),TOT_STDR_PXS_col,FALSE)),\"\",VLOOKUP($A853,INDIRECT(L$20),TOT_STDR_PXS_col,FALSE)+VLOOKUP($A853,INDIRECT(L$20),TOT_ZDR_PXS_col,FALSE)),\"\")","v":""},{"$f":"IF(AND(M$18=1,$A853<>\"\"),IF(ISNA(VLOOKUP($A853,INDIRECT(M$20),TOT_STDR_PXS_col,FALSE)),\"\",VLOOKUP($A853,INDIRECT(M$20),TOT_STDR_PXS_col,FALSE)+VLOOKUP($A853,INDIRECT(M$20),TOT_ZDR_PXS_col,FALSE)),\"\")","v":""},{"$f":"IF(AND(N$18=1,$A853<>\"\"),IF(ISNA(VLOOKUP($A853,INDIRECT(N$20),TOT_STDR_PXS_col,FALSE)),\"\",VLOOKUP($A853,INDIRECT(N$20),TOT_STDR_PXS_col,FALSE)+VLOOKUP($A853,INDIRECT(N$20),TOT_ZDR_PXS_col,FALSE)),\"\")","v":""},{"$f":"IF(A853=\"\",\"\",SUM(BH853:BS853))","v":""},{"$f":"IF(A853=\"\",\"\",MIN(B853:M853))","v":""},{"$f":"IF(A853=\"\",\"\",MAX(B853:M853))","v":""},{"$f":"IF(A853=\"\",\"\",BV853-BU853)","v":""},{"$f":"IF(A853=\"\",\"\",IF(BW853>$BW$11,\"Yes\",\"No\"))","v":""},{"$f":"IF(A853=\"\",\"\",(COUNTA(C853:N853)-COUNTBLANK(C853:N853)))","v":""},{"$f":"IF(A853=\"\",\"\",BY853-COUNTIF(C853:N853,\"=0\"))","v":""},{"$f":"IF(C$18=1,IF(ISNA(VLOOKUP($A853,INDIRECT(C$20),MUR_fee_col,FALSE)),\"\",VLOOKUP($A853,INDIRECT(C$20),MUR_fee_col,FALSE)),\"\")","v":""},{"$f":"IF(D$18=1,IF(ISNA(VLOOKUP($A853,INDIRECT(D$20),MUR_fee_col,FALSE)),\"\",VLOOKUP($A853,INDIRECT(D$20),MUR_fee_col,FALSE)),\"\")","v":""},{"$f":"IF(E$18=1,IF(ISNA(VLOOKUP($A853,INDIRECT(E$20),MUR_fee_col,FALSE)),\"\",VLOOKUP($A853,INDIRECT(E$20),MUR_fee_col,FALSE)),\"\")","v":""},{"$f":"IF(F$18=1,IF(ISNA(VLOOKUP($A853,INDIRECT(F$20),MUR_fee_col,FALSE)),\"\",VLOOKUP($A853,INDIRECT(F$20),MUR_fee_col,FALSE)),\"\")","v":""},{"$f":"IF(G$18=1,IF(ISNA(VLOOKUP($A853,INDIRECT(G$20),MUR_fee_col,FALSE)),\"\",VLOOKUP($A853,INDIRECT(G$20),MUR_fee_col,FALSE)),\"\")","v":""},{"$f":"IF(H$18=1,IF(ISNA(VLOOKUP($A853,INDIRECT(H$20),MUR_fee_col,FALSE)),\"\",VLOOKUP($A853,INDIRECT(H$20),MUR_fee_col,FALSE)),\"\")","v":""},{"$f":"IF(I$18=1,IF(ISNA(VLOOKUP($A853,INDIRECT(I$20),MUR_fee_col,FALSE)),\"\",VLOOKUP($A853,INDIRECT(I$20),MUR_fee_col,FALSE)),\"\")","v":""},{"$f":"IF(J$18=1,IF(ISNA(VLOOKUP($A853,INDIRECT(J$20),MUR_fee_col,FALSE)),\"\",VLOOKUP($A853,INDIRECT(J$20),MUR_fee_col,FALSE)),\"\")","v":""},{"$f":"IF(K$18=1,IF(ISNA(VLOOKUP($A853,INDIRECT(K$20),MUR_fee_col,FALSE)),\"\",VLOOKUP($A853,INDIRECT(K$20),MUR_fee_col,FALSE)),\"\")","v":""},{"$f":"IF(L$18=1,IF(ISNA(VLOOKUP($A853,INDIRECT(L$20),MUR_fee_col,FALSE)),\"\",VLOOKUP($A853,INDIRECT(L$20),MUR_fee_col,FALSE)),\"\")","v":""},{"$f":"IF(M$18=1,IF(ISNA(VLOOKUP($A853,INDIRECT(M$20),MUR_fee_col,FALSE)),\"\",VLOOKUP($A853,INDIRECT(M$20),MUR_fee_col,FALSE)),\"\")","v":""},{"$f":"IF(N$18=1,IF(ISNA(VLOOKUP($A853,INDIRECT(N$20),MUR_fee_col,FALSE)),\"\",VLOOKUP($A853,INDIRECT(N$20),MUR_fee_col,FALSE)),\"\")","v":""},{"$f":"IF(A853=\"\",\"\",SUM(CA853:CL853))","v":""},{"$f":"IF(C$18=1,IF(ISNA(VLOOKUP($A853,INDIRECT(C$20),MUR_Fee_adj_col,FALSE)),\"\",VLOOKUP($A853,INDIRECT(C$20),MUR_Fee_adj_col,FALSE)),\"\")","v":""},{"$f":"IF(D$18=1,IF(ISNA(VLOOKUP($A853,INDIRECT(D$20),MUR_Fee_adj_col,FALSE)),\"\",VLOOKUP($A853,INDIRECT(D$20),MUR_Fee_adj_col,FALSE)),\"\")","v":""},{"$f":"IF(E$18=1,IF(ISNA(VLOOKUP($A853,INDIRECT(E$20),MUR_Fee_adj_col,FALSE)),\"\",VLOOKUP($A853,INDIRECT(E$20),MUR_Fee_adj_col,FALSE)),\"\")","v":""},{"$f":"IF(F$18=1,IF(ISNA(VLOOKUP($A853,INDIRECT(F$20),MUR_Fee_adj_col,FALSE)),\"\",VLOOKUP($A853,INDIRECT(F$20),MUR_Fee_adj_col,FALSE)),\"\")","v":""},{"$f":"IF(G$18=1,IF(ISNA(VLOOKUP($A853,INDIRECT(G$20),MUR_Fee_adj_col,FALSE)),\"\",VLOOKUP($A853,INDIRECT(G$20),MUR_Fee_adj_col,FALSE)),\"\")","v":""},{"$f":"IF(H$18=1,IF(ISNA(VLOOKUP($A853,INDIRECT(H$20),MUR_Fee_adj_col,FALSE)),\"\",VLOOKUP($A853,INDIRECT(H$20),MUR_Fee_adj_col,FALSE)),\"\")","v":""},{"$f":"IF(I$18=1,IF(ISNA(VLOOKUP($A853,INDIRECT(I$20),MUR_Fee_adj_col,FALSE)),\"\",VLOOKUP($A853,INDIRECT(I$20),MUR_Fee_adj_col,FALSE)),\"\")","v":""},{"$f":"IF(J$18=1,IF(ISNA(VLOOKUP($A853,INDIRECT(J$20),MUR_Fee_adj_col,FALSE)),\"\",VLOOKUP($A853,INDIRECT(J$20),MUR_Fee_adj_col,FALSE)),\"\")","v":""},{"$f":"IF(K$18=1,IF(ISNA(VLOOKUP($A853,INDIRECT(K$20),MUR_Fee_adj_col,FALSE)),\"\",VLOOKUP($A853,INDIRECT(K$20),MUR_Fee_adj_col,FALSE)),\"\")","v":""},{"$f":"IF(L$18=1,IF(ISNA(VLOOKUP($A853,INDIRECT(L$20),MUR_Fee_adj_col,FALSE)),\"\",VLOOKUP($A853,INDIRECT(L$20),MUR_Fee_adj_col,FALSE)),\"\")","v":""},{"$f":"IF(M$18=1,IF(ISNA(VLOOKUP($A853,INDIRECT(M$20),MUR_Fee_adj_col,FALSE)),\"\",VLOOKUP($A853,INDIRECT(M$20),MUR_Fee_adj_col,FALSE)),\"\")","v":""},{"$f":"IF(N$18=1,IF(ISNA(VLOOKUP($A853,INDIRECT(N$20),MUR_Fee_adj_col,FALSE)),\"\",VLOOKUP($A853,INDIRECT(N$20),MUR_Fee_adj_col,FALSE)),\"\")","v":""},{"$f":"IF(A853=\"\",\"\",SUM(CN853:CY853))","v":""}]
[{"$f":"IF(ISBLANK('Control Sheet'!D836),\"\",'Control Sheet'!D836)","v":""},{"$f":"IF(ISBLANK('Control Sheet'!E836),\"\",'Control Sheet'!E836&\" (\"&'Control Sheet'!F836&\")\")","v":""},"","","","","","","","","","","","","",null,"","","","","","","","","","","","","","","","","","","","","","","","","","","","","","","","","","","","","","","","","","",{"$f":"IF(A856=\"\",\"\",MAX(IF(ISERROR(AU856:BF856),0,AU856:BF856)))","v":""},"","","","","","","","","","","","","","","","","","","","","","","","","","","","","","","","","","","","","","","","","","","","",""]
[{"$f":"IF(ISBLANK('Control Sheet'!D838),\"\",'Control Sheet'!D838)","v":""},{"$f":"IF(ISBLANK('Control Sheet'!E838),\"\",'Control Sheet'!E838&\" (\"&'Control Sheet'!F838&\")\")","v":""},"","","","","","","","","","","","","",null,"","","","","","","","","","","","","","","","","","","","","","","","","","","","","","","","","","","","","","","","","","",{"$f":"IF(A858=\"\",\"\",MAX(IF(ISERROR(AU858:BF858),0,AU858:BF858)))","v":""},"","","","","","","","","","","","","","","","","","","","","","","","","","","","","","","","","","","","","","","","","","","","",""]
[{"$f":"IF(ISBLANK('Control Sheet'!D842),\"\",'Control Sheet'!D842)","v":""},{"$f":"IF(ISBLANK('Control Sheet'!E842),\"\",'Control Sheet'!E842&\" (\"&'Control Sheet'!F842&\")\")","v":""},"","","","","","","","","","","","","",null,"","","","","","","","","","","","","","","","","","","","","","","","","","","","","","","","","","","","","","","","","","",{"$f":"IF(A862=\"\",\"\",MAX(IF(ISERROR(AU862:BF862),0,AU862:BF862)))","v":""},"","","","","","","","","","","","","","","","","","","","","","","","","","","","","","","","","","","","","","","","","","","","",""]
[{"$f":"IF(ISBLANK('Control Sheet'!D845),\"\",'Control Sheet'!D845)","v":""},{"$f":"IF(ISBLANK('Control Sheet'!E845),\"\",'Control Sheet'!E845&\" (\"&'Control Sheet'!F845&\")\")","v":""},"","","","","","","","","","","","","",null,"","","","","","","","","","","","","","","","","","","","","","","","","","","","","","","","","","","","","","","","","","",{"$f":"IF(A865=\"\",\"\",MAX(IF(ISERROR(AU865:BF865),0,AU865:BF865)))","v":""},"","","","","","","","","","","","","","","","","","","","","","","","","","","","","","","","","","","","","","","","","","","","",""]
[{"$f":"IF(ISBLANK('Control Sheet'!D846),\"\",'Control Sheet'!D846)","v":""},{"$f":"IF(ISBLANK('Control Sheet'!E846),\"\",'Control Sheet'!E846&\" (\"&'Control Sheet'!F846&\")\")","v":""},"","","","","","","","","","","","","",null,"","","","","","","","","","","","","","","","","","","","","","","","","","","","","","","","","","","","","","","","","","",{"$f":"IF(A866=\"\",\"\",MAX(IF(ISERROR(AU866:BF866),0,AU866:BF866)))","v":""},"","","","","","","","","","","","","","","","","","","","","","","","","","","","","","","","","","","","","","","","","","","","",""]
[{"$f":"IF(ISBLANK('Control Sheet'!D849),\"\",'Control Sheet'!D849)","v":""},{"$f":"IF(ISBLANK('Control Sheet'!E849),\"\",'Control Sheet'!E849&\" (\"&'Control Sheet'!F849&\")\")","v":""},"","","","","","","","","","","","","",null,"","","","","","","","","","","","","","","","","","","","","","","","","","","","","","","","","","","","","","","","","","",{"$f":"IF(A869=\"\",\"\",MAX(IF(ISERROR(AU869:BF869),0,AU869:BF869)))","v":""},"","","","","","","","","","","","","","","","","","","","","","","","","","","","","","","","","","","","","","","","","","","","",""]
[{"$f":"IF(ISBLANK('Control Sheet'!D853),\"\",'Control Sheet'!D853)","v":""},{"$f":"IF(ISBLANK('Control Sheet'!E853),\"\",'Control Sheet'!E853&\" (\"&'Control Sheet'!F853&\")\")","v":""},"","","","","","","","","","","","","",null,"","","","","","","","","","","","","","","","","","","","","","","","","","","","","","","","","","","","","","","","","","",{"$f":"IF(A873=\"\",\"\",MAX(IF(ISERROR(AU873:BF873),0,AU873:BF873)))","v":""},"","","","","","","","","","","","","","","","","","","","","","","","","","","","","","","","","","","","","","","","","","","","",""]
[{"$f":"IF(ISBLANK('Control Sheet'!D855),\"\",'Control Sheet'!D855)","v":""},{"$f":"IF(ISBLANK('Control Sheet'!E855),\"\",'Control Sheet'!E855&\" (\"&'Control Sheet'!F855&\")\")","v":""},"","","","","","","","","","","","","",null,"","","","","","","","","","","","","","","","","","","","","","","","","","","","","","","","","","","","","","","","","","",{"$f":"IF(A875=\"\",\"\",MAX(IF(ISERROR(AU875:BF875),0,AU875:BF875)))","v":""},"","","","","","","","","","","","","","","","","","","","","","","","","","","","","","","","","","","","","","","","","","","","",""]
[{"$f":"IF(ISBLANK('Control Sheet'!D858),\"\",'Control Sheet'!D858)","v":""},{"$f":"IF(ISBLANK('Control Sheet'!E858),\"\",'Control Sheet'!E858&\" (\"&'Control Sheet'!F858&\")\")","v":""},"","","","","","","","","","","","","",null,"","","","","","","","","","","","","","","","","","","","","","","","","","","","","","","","","","","","","","","","","","",{"$f":"IF(A878=\"\",\"\",MAX(IF(ISERROR(AU878:BF878),0,AU878:BF878)))","v":""},"","","","","","","","","","","","","","","","","","","","","","","","","","","","","","","","","","","","","","","","","","","","",""]
[{"$f":"IF(ISBLANK('Control Sheet'!D862),\"\",'Control Sheet'!D862)","v":""},{"$f":"IF(ISBLANK('Control Sheet'!E862),\"\",'Control Sheet'!E862&\" (\"&'Control Sheet'!F862&\")\")","v":""},"","","","","","","","","","","","","",null,"","","","","","","","","","","","","","","","","","","","","","","","","","","","","","","","","","","","","","","","","","",{"$f":"IF(A882=\"\",\"\",MAX(IF(ISERROR(AU882:BF882),0,AU882:BF882)))","v":""},"","","","","","","","","","","","","","","","","","","","","","","","","","","","","","","","","","","","","","","","","","","","",""]
[{"$f":"IF(ISBLANK('Control Sheet'!D865),\"\",'Control Sheet'!D865)","v":""},{"$f":"IF(ISBLANK('Control Sheet'!E865),\"\",'Control Sheet'!E865&\" (\"&'Control Sheet'!F865&\")\")","v":""},"","","","","","","","","","","","","",null,"","","","","","","","","","","","","","","","","","","","","","","","","","","","","","","","","","","","","","","","","","",{"$f":"IF(A885=\"\",\"\",MAX(IF(ISERROR(AU885:BF885),0,AU885:BF885)))","v":""},"","","","","","","","","","","","","","","","","","","","","","","","","","","","","","","","","","","","","","","","","","","","",""]
[{"$f":"IF(ISBLANK('Control Sheet'!D868),\"\",'Control Sheet'!D868)","v":""},{"$f":"IF(ISBLANK('Control Sheet'!E868),\"\",'Control Sheet'!E868&\" (\"&'Control Sheet'!F868&\")\")","v":""},"","","","","","","","","","","","","",null,"","","","","","","","","","","","","","","","","","","","","","","","","","","","","","","","","","","","","","","","","","",{"$f":"IF(A888=\"\",\"\",MAX(IF(ISERROR(AU888:BF888),0,AU888:BF888)))","v":""},"","","","","","","","","","","","","","","","","","","","","","","","","","","","","","","","","","","","","","","","","","","","",""]
[{"$f":"IF(ISBLANK('Control Sheet'!D869),\"\",'Control Sheet'!D869)","v":""},{"$f":"IF(ISBLANK('Control Sheet'!E869),\"\",'Control Sheet'!E869&\" (\"&'Control Sheet'!F869&\")\")","v":""},"","","","","","","","","","","","","",null,"","","","","","","","","","","","","","","","","","","","","","","","","","","","","","","","","","","","","","","","","","",{"$f":"IF(A889=\"\",\"\",MAX(IF(ISERROR(AU889:BF889),0,AU889:BF889)))","v":""},"","","","","","","","","","","","","","","","","","","","","","","","","","","","","","","","","","","","","","","","","","","","",""]
[{"$f":"IF(ISBLANK('Control Sheet'!D872),\"\",'Control Sheet'!D872)","v":""},{"$f":"IF(ISBLANK('Control Sheet'!E872),\"\",'Control Sheet'!E872&\" (\"&'Control Sheet'!F872&\")\")","v":""},"","","","","","","","","","","","","",null,"","","","","","","","","","","","","","","","","","","","","","","","","","","","","","","","","","","","","","","","","","",{"$f":"IF(A892=\"\",\"\",MAX(IF(ISERROR(AU892:BF892),0,AU892:BF892)))","v":""},"","","","","","","","","","","","","","","","","","","","","","","","","","","","","","","","","","","","","","","","","","","","",""]
[{"$f":"IF(ISBLANK('Control Sheet'!D875),\"\",'Control Sheet'!D875)","v":""},{"$f":"IF(ISBLANK('Control Sheet'!E875),\"\",'Control Sheet'!E875&\" (\"&'Control Sheet'!F875&\")\")","v":""},"","","","","","","","","","","","","",null,"","","","","","","","","","","","","","","","","","","","","","","","","","","","","","","","","","","","","","","","","","",{"$f":"IF(A895=\"\",\"\",MAX(IF(ISERROR(AU895:BF895),0,AU895:BF895)))","v":""},"","","","","","","","","","","","","","","","","","","","","","","","","","","","","","","","","","","","","","","","","","","","",""]
[{"$f":"IF(ISBLANK('Control Sheet'!D878),\"\",'Control Sheet'!D878)","v":""},{"$f":"IF(ISBLANK('Control Sheet'!E878),\"\",'Control Sheet'!E878&\" (\"&'Control Sheet'!F878&\")\")","v":""},"","","","","","","","","","","","","",null,"","","","","","","","","","","","","","","","","","","","","","","","","","","","","","","","","","","","","","","","","","",{"$f":"IF(A898=\"\",\"\",MAX(IF(ISERROR(AU898:BF898),0,AU898:BF898)))","v":""},"","","","","","","","","","","","","","","","","","","","","","","","","","","","","","","","","","","","","","","","","","","","",""]
[{"$f":"IF(ISBLANK('Control Sheet'!D881),\"\",'Control Sheet'!D881)","v":""},{"$f":"IF(ISBLANK('Control Sheet'!E881),\"\",'Control Sheet'!E881&\" (\"&'Control Sheet'!F881&\")\")","v":""},{"$f":"IF(C$18=1,IF(ISNA(VLOOKUP($A901,INDIRECT(C$20),MUR_col,FALSE)),\"\",VLOOKUP($A901,INDIRECT(C$20),MUR_col,FALSE)),\"\")","v":""},"","","","","","","","","","","","",null,"","","","","","","","","","","","","","","","","","","","","","","","","","","","","","","","","","","","","","","","","","",{"$f":"IF(A901=\"\",\"\",MAX(IF(ISERROR(AU901:BF901),0,AU901:BF901)))","v":""},"","","","","","","","","","","","","","","","","","","","","","","","","","","","","","","","","","","","","","","","","","","","",""]
[{"$f":"IF(ISBLANK('Control Sheet'!D885),\"\",'Control Sheet'!D885)","v":""},{"$f":"IF(ISBLANK('Control Sheet'!E885),\"\",'Control Sheet'!E885&\" (\"&'Control Sheet'!F885&\")\")","v":""},"","","","","","","","","","","","","",null,"","","","","","","","","","","","","","","","","","","","","","","","","","","","","","","","","","","","","","","","","","",{"$f":"IF(A905=\"\",\"\",MAX(IF(ISERROR(AU905:BF905),0,AU905:BF905)))","v":""},"","","","","","","","","","","","","","","","","","","","","","","","","","","","","","","","","","","","","","","","","","","","",""]
[{"$f":"IF(ISBLANK('Control Sheet'!D887),\"\",'Control Sheet'!D887)","v":""},{"$f":"IF(ISBLANK('Control Sheet'!E887),\"\",'Control Sheet'!E887&\" (\"&'Control Sheet'!F887&\")\")","v":""},"","","","","","","","","","","","","",null,"","","","","","","","","","","","","","","","","","","","","","","","","","","","","","","","","","","","","","","","","","",{"$f":"IF(A907=\"\",\"\",MAX(IF(ISERROR(AU907:BF907),0,AU907:BF907)))","v":""},"","","","","","","","","","","","","","","","","","","","","","","","","","","","","","","","","","","","","","","","","","","","",""]
[{"$f":"IF(ISBLANK('Control Sheet'!D890),\"\",'Control Sheet'!D890)","v":""},{"$f":"IF(ISBLANK('Control Sheet'!E890),\"\",'Control Sheet'!E890&\" (\"&'Control Sheet'!F890&\")\")","v":""},"","","","","","","","","","","","","",null,"","","","","","","","","","","","","","","","","","","","","","","","","","","","","","","","","","","","","","","","","","",{"$f":"IF(A910=\"\",\"\",MAX(IF(ISERROR(AU910:BF910),0,AU910:BF910)))","v":""},"","","","","","","","","","","","","","","","","","","","","","","","","","","","","","","","","","","","","","","","","","","","",""]
[{"$f":"IF(ISBLANK('Control Sheet'!D891),\"\",'Control Sheet'!D891)","v":""},{"$f":"IF(ISBLANK('Control Sheet'!E891),\"\",'Control Sheet'!E891&\" (\"&'Control Sheet'!F891&\")\")","v":""},{"$f":"IF(C$18=1,IF(ISNA(VLOOKUP($A911,INDIRECT(C$20),MUR_col,FALSE)),\"\",VLOOKUP($A911,INDIRECT(C$20),MUR_col,FALSE)),\"\")","v":""},"","","","","","","","","","","","",null,"","","","","","","","","","","","","","","","","","","","","","","","","","","","","","","","","","","","","","","","","","",{"$f":"IF(A911=\"\",\"\",MAX(IF(ISERROR(AU911:BF911),0,AU911:BF911)))","v":""},"","","","","","","","","","","","","","","","","","","","","","","","","","","","","","","","","","","","","","","","","","","","",""]
[{"$f":"IF(ISBLANK('Control Sheet'!D894),\"\",'Control Sheet'!D894)","v":""},{"$f":"IF(ISBLANK('Control Sheet'!E894),\"\",'Control Sheet'!E894&\" (\"&'Control Sheet'!F894&\")\")","v":""},"","","","","","","","","","","","","",null,"","","","","","","","","","","","","","","","","","","","","","","","","","","","","","","","","","","","","","","","","","",{"$f":"IF(A914=\"\",\"\",MAX(IF(ISERROR(AU914:BF914),0,AU914:BF914)))","v":""},"","","","","","","","","","","","","","","","","","","","","","","","","","","","","","","","","","","","","","","","","","","","",""]
[{"$f":"IF(ISBLANK('Control Sheet'!D898),\"\",'Control Sheet'!D898)","v":""},{"$f":"IF(ISBLANK('Control Sheet'!E898),\"\",'Control Sheet'!E898&\" (\"&'Control Sheet'!F898&\")\")","v":""},"","","","","","","","","","","","","",null,{"$f":"IF(A918=\"\",\"\",IF(BG918<=400,\"No\",\"Yes\"))","v":""},"","","","","","","","","","","","","","","","",{"$f":"IF(C$18=1,C918,\"\")","v":""},{"$f":"IF(D$18=1,IF(D918=\"\",IF(AH918=\"\",\"\",AH918),IF(AND(D918>=0,AH918=\"\"),D918,IF(ISERROR(D918+AH918),#N/A,D918+AH918))),\"\")","v":""},{"$f":"IF(E$18=1,IF(E918=\"\",IF(AI918=\"\",\"\",AI918),IF(AND(E918>=0,AI918=\"\"),E918,IF(ISERROR(E918+AI918),#N/A,E918+AI918))),\"\")","v":""},{"$f":"IF(F$18=1,IF(F918=\"\",IF(AJ918=\"\",\"\",AJ918),IF(AND(F918>=0,AJ918=\"\"),F918,IF(ISERROR(F918+AJ918),#N/A,F918+AJ918))),\"\")","v":""},{"$f":"IF(G$18=1,IF(G918=\"\",IF(AK918=\"\",\"\",AK918),IF(AND(G918>=0,AK918=\"\"),G918,IF(ISERROR(G918+AK918),#N/A,G918+AK918))),\"\")","v":""},{"$f":"IF(H$18=1,IF(H918=\"\",IF(AL918=\"\",\"\",AL918),IF(AND(H918>=0,AL918=\"\"),H918,IF(ISERROR(H918+AL918),#N/A,H918+AL918))),\"\")","v":""},{"$f":"IF(I$18=1,IF(I918=\"\",IF(AM918=\"\",\"\",AM918),IF(AND(I918>=0,AM918=\"\"),I918,IF(ISERROR(I918+AM918),#N/A,I918+AM918))),\"\")","v":""},{"$f":"IF(J$18=1,IF(J918=\"\",IF(AN918=\"\",\"\",AN918),IF(AND(J918>=0,AN918=\"\"),J918,IF(ISERROR(J918+AN918),#N/A,J918+AN918))),\"\")","v":""},{"$f":"IF(K$18=1,IF(K918=\"\",IF(AO918=\"\",\"\",AO918),IF(AND(K918>=0,AO918=\"\"),K918,IF(ISERROR(K918+AO918),#N/A,K918+AO918))),\"\")","v":""},{"$f":"IF(L$18=1,IF(L918=\"\",IF(AP918=\"\",\"\",AP918),IF(AND(L918>=0,AP918=\"\"),L918,IF(ISERROR(L918+AP918),#N/A,L918+AP918))),\"\")","v":""},{"$f":"IF(M$18=1,IF(M918=\"\",IF(AQ918=\"\",\"\",AQ918),IF(AND(M918>=0,AQ918=\"\"),M918,IF(ISERROR(M918+AQ918),#N/A,M918+AQ918))),\"\")","v":""},{"$f":"IF(N$18=1,IF(N918=\"\",IF(AR918=\"\",\"\",AR918),IF(AND(N918>=0,AR918=\"\"),N918,IF(ISERROR(N918+AR918),#N/A,N918+AR918))),\"\")","v":""},"","","","","","","","","","","","","",{"$f":"IF(A918=\"\",\"\",MAX(IF(ISERROR(AU918:BF918),0,AU918:BF918)))","v":""},"","","","","","","","","","","","","","","","","","","","","","","","","","","","","","","","","","","","","","","","","","","","",""]
[{"$f":"IF(ISBLANK('Control Sheet'!D901),\"\",'Control Sheet'!D901)","v":""},{"$f":"IF(ISBLANK('Control Sheet'!E901),\"\",'Control Sheet'!E901&\" (\"&'Control Sheet'!F901&\")\")","v":""},{"$f":"IF(C$18=1,IF(ISNA(VLOOKUP($A921,INDIRECT(C$20),MUR_col,FALSE)),\"\",VLOOKUP($A921,INDIRECT(C$20),MUR_col,FALSE)),\"\")","v":""},"","","","","","","","","","","","",null,"","","","","","","","","","","","","","","","","","","","","","","","","","","","","","","","","","","","","","","","","","",{"$f":"IF(A921=\"\",\"\",MAX(IF(ISERROR(AU921:BF921),0,AU921:BF921)))","v":""},"","","","","","","","","","","","","","","","","","","","","","","","","","","","","","","","","","","","","","","","","","","","",""]
[{"$f":"IF(ISBLANK('Control Sheet'!D904),\"\",'Control Sheet'!D904)","v":""},{"$f":"IF(ISBLANK('Control Sheet'!E904),\"\",'Control Sheet'!E904&\" (\"&'Control Sheet'!F904&\")\")","v":""},"","","","","","","","","","","","","",null,"","","","","","","","","","","","","","","","","","","","","","","","","","","","","","","","","","","","","","","","","","",{"$f":"IF(A924=\"\",\"\",MAX(IF(ISERROR(AU924:BF924),0,AU924:BF924)))","v":""},"","","","","","","","","","","","","","","","","","","","","","","","","","","","","","","","","","","","","","","","","","","","",""]
[{"$f":"IF(ISBLANK('Control Sheet'!D907),\"\",'Control Sheet'!D907)","v":""},{"$f":"IF(ISBLANK('Control Sheet'!E907),\"\",'Control Sheet'!E907&\" (\"&'Control Sheet'!F907&\")\")","v":""},"","","","","","","","","","","","","",null,"","","","","","","","","","","","","","","","","","","","","","","","","","","","","","","","","","","","","","","","","","",{"$f":"IF(A927=\"\",\"\",MAX(IF(ISERROR(AU927:BF927),0,AU927:BF927)))","v":""},"","","","","","","","","","","","","","","","","","","","","","","","","","","","","","","","","","","","","","","","","","","","",""]
[{"$f":"IF(ISBLANK('Control Sheet'!D910),\"\",'Control Sheet'!D910)","v":""},{"$f":"IF(ISBLANK('Control Sheet'!E910),\"\",'Control Sheet'!E910&\" (\"&'Control Sheet'!F910&\")\")","v":""},"","","","","","","","","","","","","",null,"","","","","","","","","","","","","","","","","","","","","","","","","","","","","","","","","","","","","","","","","","",{"$f":"IF(A930=\"\",\"\",MAX(IF(ISERROR(AU930:BF930),0,AU930:BF930)))","v":""},"","","","","","","","","","","","","","","","","","","","","","","","","","","","","","","","","","","","","","","","","","","","",""]
[{"$f":"IF(ISBLANK('Control Sheet'!D911),\"\",'Control Sheet'!D911)","v":""},{"$f":"IF(ISBLANK('Control Sheet'!E911),\"\",'Control Sheet'!E911&\" (\"&'Control Sheet'!F911&\")\")","v":""},{"$f":"IF(C$18=1,IF(ISNA(VLOOKUP($A931,INDIRECT(C$20),MUR_col,FALSE)),\"\",VLOOKUP($A931,INDIRECT(C$20),MUR_col,FALSE)),\"\")","v":""},"","","","","","","","","","","","",null,"","","","","","","","","","","","","","","","","","","","","","","","","","","","","","","","","","","","","","","","","","",{"$f":"IF(A931=\"\",\"\",MAX(IF(ISERROR(AU931:BF931),0,AU931:BF931)))","v":""},"","","","","","","","","","","","","","","","","","","","","","","","","","","","","","","","","","","","","","","","","","","","",""]
[{"$f":"IF(ISBLANK('Control Sheet'!D914),\"\",'Control Sheet'!D914)","v":""},{"$f":"IF(ISBLANK('Control Sheet'!E914),\"\",'Control Sheet'!E914&\" (\"&'Control Sheet'!F914&\")\")","v":""},"","","","","","","","","","","","","",null,"","","","","","","","","","","","","","","","","","","","","","","","","","","","","","","","","","","","","","","","","","",{"$f":"IF(A934=\"\",\"\",MAX(IF(ISERROR(AU934:BF934),0,AU934:BF934)))","v":""},"","","","","","","","","","","","","","","","","","","","","","","","","","","","","","","","","","","","","","","","","","","","",""]
[{"$f":"IF(ISBLANK('Control Sheet'!D917),\"\",'Control Sheet'!D917)","v":""},{"$f":"IF(ISBLANK('Control Sheet'!E917),\"\",'Control Sheet'!E917&\" (\"&'Control Sheet'!F917&\")\")","v":""},"","","","","","","","","","","","","",null,"","","","","","","","","","","","","","","","","","","","","","","","","","","","","","","","","","","","","","","","","","",{"$f":"IF(A937=\"\",\"\",MAX(IF(ISERROR(AU937:BF937),0,AU937:BF937)))","v":""},"","","","","","","","","","","","","","","","","","","","","","","","","","","","","","","","","","","","","","","","","","","","",""]
[{"$f":"IF(ISBLANK('Control Sheet'!D921),\"\",'Control Sheet'!D921)","v":""},{"$f":"IF(ISBLANK('Control Sheet'!E921),\"\",'Control Sheet'!E921&\" (\"&'Control Sheet'!F921&\")\")","v":""},{"$f":"IF(C$18=1,IF(ISNA(VLOOKUP($A941,INDIRECT(C$20),MUR_col,FALSE)),\"\",VLOOKUP($A941,INDIRECT(C$20),MUR_col,FALSE)),\"\")","v":""},"","","","","","","","","","","","",null,"","","","","","","","","","","","","","","","","","","","","","","","","","","","","","","","","","","","","","","","","","",{"$f":"IF(A941=\"\",\"\",MAX(IF(ISERROR(AU941:BF941),0,AU941:BF941)))","v":""},"","","","","","","","","","","","","","","","","","","","","","","","","","","","","","","","","","","","","","","","","","","","",""]
[{"$f":"IF(ISBLANK('Control Sheet'!D923),\"\",'Control Sheet'!D923)","v":""},{"$f":"IF(ISBLANK('Control Sheet'!E923),\"\",'Control Sheet'!E923&\" (\"&'Control Sheet'!F923&\")\")","v":""},"","","","","","","","","","","","","",null,"","","","","","","","","","","","","","","","","","","","","","","","","","","","","","","","","","","","","","","","","","",{"$f":"IF(A943=\"\",\"\",MAX(IF(ISERROR(AU943:BF943),0,AU943:BF943)))","v":""},"","","","","","","","","","","","","","","","","","","","","","","","","","","","","","","","","","","","","","","","","","","","",""]
[{"$f":"IF(ISBLANK('Control Sheet'!D926),\"\",'Control Sheet'!D926)","v":""},{"$f":"IF(ISBLANK('Control Sheet'!E926),\"\",'Control Sheet'!E926&\" (\"&'Control Sheet'!F926&\")\")","v":""},"","","","","","","","","","","","","",null,"","","","","","","","","","","","","","","","","","","","","","","","","","","","","","","","","","","","","","","","","","",{"$f":"IF(A946=\"\",\"\",MAX(IF(ISERROR(AU946:BF946),0,AU946:BF946)))","v":""},"","","","","","","","","","","","","","","","","","","","","","","","","","","","","","","","","","","","","","","","","","","","",""]
[{"$f":"IF(ISBLANK('Control Sheet'!D930),\"\",'Control Sheet'!D930)","v":""},{"$f":"IF(ISBLANK('Control Sheet'!E930),\"\",'Control Sheet'!E930&\" (\"&'Control Sheet'!F930&\")\")","v":""},"","","","","","","","","","","","","",null,"","","","","","","","","","","","","","","","","","","","","","","","","","","","","","","","","","","","","","","","","","",{"$f":"IF(A950=\"\",\"\",MAX(IF(ISERROR(AU950:BF950),0,AU950:BF950)))","v":""},"","","","","","","","","","","","","","","","","","","","","","","","","","","","","","","","","","","","","","","","","","","","",""]
[{"$f":"IF(ISBLANK('Control Sheet'!D933),\"\",'Control Sheet'!D933)","v":""},{"$f":"IF(ISBLANK('Control Sheet'!E933),\"\",'Control Sheet'!E933&\" (\"&'Control Sheet'!F933&\")\")","v":""},"","","","","","","","","","","","","",null,"","","","","","","","","","","","","","","","","","","","","","","","","","","","","","","","","","","","","","","","","","",{"$f":"IF(A953=\"\",\"\",MAX(IF(ISERROR(AU953:BF953),0,AU953:BF953)))","v":""},"","","","","","","","","","","","","","","","","","","","","","","","","","","","","","","","","","","","","","","","","","","","",""]
[{"$f":"IF(ISBLANK('Control Sheet'!D934),\"\",'Control Sheet'!D934)","v":""},{"$f":"IF(ISBLANK('Control Sheet'!E934),\"\",'Control Sheet'!E934&\" (\"&'Control Sheet'!F934&\")\")","v":""},"","","","","","","","","","","","","",null,"","","","","","","","","","","","","","","","","","","","","","","","","","","","","","","","","","","","","","","","","","",{"$f":"IF(A954=\"\",\"\",MAX(IF(ISERROR(AU954:BF954),0,AU954:BF954)))","v":""},"","","","","","","","","","","","","","","","","","","","","","","","","","","","","","","","","","","","","","","","","","","","",""]
[{"$f":"IF(ISBLANK('Control Sheet'!D937),\"\",'Control Sheet'!D937)","v":""},{"$f":"IF(ISBLANK('Control Sheet'!E937),\"\",'Control Sheet'!E937&\" (\"&'Control Sheet'!F937&\")\")","v":""},"","","","","","","","","","","","","",null,"","","","","","","","","","","","","","","","","","","","","","","","","","","","","","","","","","","","","","","","","","",{"$f":"IF(A957=\"\",\"\",MAX(IF(ISERROR(AU957:BF957),0,AU957:BF957)))","v":""},"","","","","","","","","","","","","","","","","","","","","","","","","","","","","","","","","","","","","","","","","","","","",""]
[{"$f":"IF(ISBLANK('Control Sheet'!D938),\"\",'Control Sheet'!D938)","v":""},{"$f":"IF(ISBLANK('Control Sheet'!E938),\"\",'Control Sheet'!E938&\" (\"&'Control Sheet'!F938&\")\")","v":""},"","","","","","","","","","","","","",null,"","","","","","","","","","","","","","","","","","","","","","","","","","","","","","","","","","","","","","","","","","",{"$f":"IF(A958=\"\",\"\",MAX(IF(ISERROR(AU958:BF958),0,AU958:BF958)))","v":""},"","","","","","","","","","","","","","","","","","","","","","","","","","","","","","","","","","","","","","","","","","","","",""]
[{"$f":"IF(ISBLANK('Control Sheet'!D939),\"\",'Control Sheet'!D939)","v":""},{"$f":"IF(ISBLANK('Control Sheet'!E939),\"\",'Control Sheet'!E939&\" (\"&'Control Sheet'!F939&\")\")","v":""},"","","","","","","","","","","","","",null,"","","","","","","","","","","","","","","","","","","","","","","","","","","","","","","","","","","","","","","","","","",{"$f":"IF(A959=\"\",\"\",MAX(IF(ISERROR(AU959:BF959),0,AU959:BF959)))","v":""},"","","","","","","","","","","","","","","","","","","","","","","","","","","","","","","","","","","","","","","","","","","","",""]
[{"$f":"IF(ISBLANK('Control Sheet'!D940),\"\",'Control Sheet'!D940)","v":""},{"$f":"IF(ISBLANK('Control Sheet'!E940),\"\",'Control Sheet'!E940&\" (\"&'Control Sheet'!F940&\")\")","v":""},"","","","","","","","","","","","","",null,"","","","","","","","","","","","","","","","","","","","","","","","","","","","","","","","","","","","","","","","","","",{"$f":"IF(A960=\"\",\"\",MAX(IF(ISERROR(AU960:BF960),0,AU960:BF960)))","v":""},"","","","","","","","","","","","","","","","","","","","","","","","","","","","","","","","","","","","","","","","","","","","",""]
[{"$f":"IF(ISBLANK('Control Sheet'!D941),\"\",'Control Sheet'!D941)","v":""},{"$f":"IF(ISBLANK('Control Sheet'!E941),\"\",'Control Sheet'!E941&\" (\"&'Control Sheet'!F941&\")\")","v":""},{"$f":"IF(C$18=1,IF(ISNA(VLOOKUP($A961,INDIRECT(C$20),MUR_col,FALSE)),\"\",VLOOKUP($A961,INDIRECT(C$20),MUR_col,FALSE)),\"\")","v":""},"","","","","","","","","","","","",null,"","","","","","","","","","","","","","","","","","","","","","","","","","","","","","","","","","","","","","","","","","",{"$f":"IF(A961=\"\",\"\",MAX(IF(ISERROR(AU961:BF961),0,AU961:BF961)))","v":""},"","","","","","","","","","","","","","","","","","","","","","","","","","","","","","","","","","","","","","","","","","","","",""]
[{"$f":"IF(ISBLANK('Control Sheet'!D942),\"\",'Control Sheet'!D942)","v":""},{"$f":"IF(ISBLANK('Control Sheet'!E942),\"\",'Control Sheet'!E942&\" (\"&'Control Sheet'!F942&\")\")","v":""},"","","","","","","","","","","","","",null,"","","","","","","","","","","","","","","","","","","","","","","","","","","","","","","","","","","","","","","","","","",{"$f":"IF(A962=\"\",\"\",MAX(IF(ISERROR(AU962:BF962),0,AU962:BF962)))","v":""},"","","","","","","","","","","","","","","","","","","","","","","","","","","","","","","","","","","","","","","","","","","","",""]
[{"$f":"IF(ISBLANK('Control Sheet'!D943),\"\",'Control Sheet'!D943)","v":""},{"$f":"IF(ISBLANK('Control Sheet'!E943),\"\",'Control Sheet'!E943&\" (\"&'Control Sheet'!F943&\")\")","v":""},"","","","","","","","","","","","","",null,"","","","","","","","","","","","","","","","","","","","","","","","","","","","","","","","","","","","","","","","","","",{"$f":"IF(A963=\"\",\"\",MAX(IF(ISERROR(AU963:BF963),0,AU963:BF963)))","v":""},"","","","","","","","","","","","","","","","","","","","","","","","","","","","","","","","","","","","","","","","","","","","",""]
[{"$f":"IF(ISBLANK('Control Sheet'!D944),\"\",'Control Sheet'!D944)","v":""},{"$f":"IF(ISBLANK('Control Sheet'!E944),\"\",'Control Sheet'!E944&\" (\"&'Control Sheet'!F944&\")\")","v":""},"","","","","","","","","","","","","",null,"","","","","","","","","","","","","","","","","","","","","","","","","","","","","","","","","","","","","","","","","","",{"$f":"IF(A964=\"\",\"\",MAX(IF(ISERROR(AU964:BF964),0,AU964:BF964)))","v":""},"","","","","","","","","","","","","","","","","","","","","","","","","","","","","","","","","","","","","","","","","","","","",""]
[{"$f":"IF(ISBLANK('Control Sheet'!D945),\"\",'Control Sheet'!D945)","v":""},{"$f":"IF(ISBLANK('Control Sheet'!E945),\"\",'Control Sheet'!E945&\" (\"&'Control Sheet'!F945&\")\")","v":""},"","","","","","","","","","","","","",null,"","","","","","","","","","","","","","","","","","","","","","","","","","","","","","","","","","","","","","","","","","",{"$f":"IF(A965=\"\",\"\",MAX(IF(ISERROR(AU965:BF965),0,AU965:BF965)))","v":""},"","","","","","","","","","","","","","","","","","","","","","","","","","","","","","","","","","","","","","","","","","","","",""]
[{"$f":"IF(ISBLANK('Control Sheet'!D946),\"\",'Control Sheet'!D946)","v":""},{"$f":"IF(ISBLANK('Control Sheet'!E946),\"\",'Control Sheet'!E946&\" (\"&'Control Sheet'!F946&\")\")","v":""},"","","","","","","","","","","","","",null,"","","","","","","","","","","","","","","","","","","","","","","","","","","","","","","","","","","","","","","","","","",{"$f":"IF(A966=\"\",\"\",MAX(IF(ISERROR(AU966:BF966),0,AU966:BF966)))","v":""},"","","","","","","","","","","","","","","","","","","","","","","","","","","","","","","","","","","","","","","","","","","","",""]
[{"$f":"IF(ISBLANK('Control Sheet'!D947),\"\",'Control Sheet'!D947)","v":""},{"$f":"IF(ISBLANK('Control Sheet'!E947),\"\",'Control Sheet'!E947&\" (\"&'Control Sheet'!F947&\")\")","v":""},"","","","","","","","","","","","","",null,"","","","","","","","","","","","","","","","","","","","","","","","","","","","","","","","","","","","","","","","","","",{"$f":"IF(A967=\"\",\"\",MAX(IF(ISERROR(AU967:BF967),0,AU967:BF967)))","v":""},"","","","","","","","","","","","","","","","","","","","","","","","","","","","","","","","","","","","","","","","","","","","",""]
[{"$f":"IF(ISBLANK('Control Sheet'!D948),\"\",'Control Sheet'!D948)","v":""},{"$f":"IF(ISBLANK('Control Sheet'!E948),\"\",'Control Sheet'!E948&\" (\"&'Control Sheet'!F948&\")\")","v":""},"","","","","","","","","","","","","",null,"","","","","","","","","","","","","","","","","","","","","","","","","","","","","","","","","","","","","","","","","","",{"$f":"IF(A968=\"\",\"\",MAX(IF(ISERROR(AU968:BF968),0,AU968:BF968)))","v":""},"","","","","","","","","","","","","","","","","","","","","","","","","","","","","","","","","","","","","","","","","","","","",""]
[{"$f":"IF(ISBLANK('Control Sheet'!D949),\"\",'Control Sheet'!D949)","v":""},{"$f":"IF(ISBLANK('Control Sheet'!E949),\"\",'Control Sheet'!E949&\" (\"&'Control Sheet'!F949&\")\")","v":""},"","","","","","","","","","","","","",null,"","","","","","","","","","","","","","","","","","","","","","","","","","","","","","","","","","","","","","","","","","",{"$f":"IF(A969=\"\",\"\",MAX(IF(ISERROR(AU969:BF969),0,AU969:BF969)))","v":""},"","","","","","","","","","","","","","","","","","","","","","","","","","","","","","","","","","","","","","","","","","","","",""]
[{"$f":"IF(ISBLANK('Control Sheet'!D950),\"\",'Control Sheet'!D950)","v":""},{"$f":"IF(ISBLANK('Control Sheet'!E950),\"\",'Control Sheet'!E950&\" (\"&'Control Sheet'!F950&\")\")","v":""},"","","","","","","","","","","","","",null,"","","","","","","","","","","","","","","","","","","","","","","","","","","","","","","","","","","","","","","","","","",{"$f":"IF(A970=\"\",\"\",MAX(IF(ISERROR(AU970:BF970),0,AU970:BF970)))","v":""},"","","","","","","","","","","","","","","","","","","","","","","","","","","","","","","","","","","","","","","","","","","","",""]
[{"$f":"IF(ISBLANK('Control Sheet'!D951),\"\",'Control Sheet'!D951)","v":""},{"$f":"IF(ISBLANK('Control Sheet'!E951),\"\",'Control Sheet'!E951&\" (\"&'Control Sheet'!F951&\")\")","v":""},{"$f":"IF(C$18=1,IF(ISNA(VLOOKUP($A971,INDIRECT(C$20),MUR_col,FALSE)),\"\",VLOOKUP($A971,INDIRECT(C$20),MUR_col,FALSE)),\"\")","v":""},"","","","","","","","","","","","",null,"","","","","","","","","","","","","","","","","","","","","","","","","","","","","","","","","","","","","","","","","","",{"$f":"IF(A971=\"\",\"\",MAX(IF(ISERROR(AU971:BF971),0,AU971:BF971)))","v":""},"","","","","","","","","","","","","","","","","","","","","","","","","","","","","","","","","","","","","","","","","","","","",""]
[{"$f":"IF(ISBLANK('Control Sheet'!D952),\"\",'Control Sheet'!D952)","v":""},{"$f":"IF(ISBLANK('Control Sheet'!E952),\"\",'Control Sheet'!E952&\" (\"&'Control Sheet'!F952&\")\")","v":""},"","","","","","","","","","","","","",null,"","","","","","","","","","","","","","","","","","","","","","","","","","","","","","","","","","","","","","","","","","",{"$f":"IF(A972=\"\",\"\",MAX(IF(ISERROR(AU972:BF972),0,AU972:BF972)))","v":""},"","","","","","","","","","","","","","","","","","","","","","","","","","","","","","","","","","","","","","","","","","","","",""]
[{"$f":"IF(ISBLANK('Control Sheet'!D953),\"\",'Control Sheet'!D953)","v":""},{"$f":"IF(ISBLANK('Control Sheet'!E953),\"\",'Control Sheet'!E953&\" (\"&'Control Sheet'!F953&\")\")","v":""},"","","","","","","","","","","","","",null,"","","","","","","","","","","","","","","","","","","","","","","","","","","","","","","","","","","","","","","","","","",{"$f":"IF(A973=\"\",\"\",MAX(IF(ISERROR(AU973:BF973),0,AU973:BF973)))","v":""},"","","","","","","","","","","","","","","","","","","","","","","","","","","","","","","","","","","","","","","","","","","","",""]
[{"$f":"IF(ISBLANK('Control Sheet'!D954),\"\",'Control Sheet'!D954)","v":""},{"$f":"IF(ISBLANK('Control Sheet'!E954),\"\",'Control Sheet'!E954&\" (\"&'Control Sheet'!F954&\")\")","v":""},"","","","","","","","","","","","","",null,"","","","","","","","","","","","","","","","","","","","","","","","","","","","","","","","","","","","","","","","","","",{"$f":"IF(A974=\"\",\"\",MAX(IF(ISERROR(AU974:BF974),0,AU974:BF974)))","v":""},"","","","","","","","","","","","","","","","","","","","","","","","","","","","","","","","","","","","","","","","","","","","",""]
[{"$f":"IF(ISBLANK('Control Sheet'!D955),\"\",'Control Sheet'!D955)","v":""},{"$f":"IF(ISBLANK('Control Sheet'!E955),\"\",'Control Sheet'!E955&\" (\"&'Control Sheet'!F955&\")\")","v":""},"","","","","","","","","","","","","",null,"","","","","","","","","","","","","","","","","","","","","","","","","","","","","","","","","","","","","","","","","","",{"$f":"IF(A975=\"\",\"\",MAX(IF(ISERROR(AU975:BF975),0,AU975:BF975)))","v":""},"","","","","","","","","","","","","","","","","","","","","","","","","","","","","","","","","","","","","","","","","","","","",""]
[{"$f":"IF(ISBLANK('Control Sheet'!D956),\"\",'Control Sheet'!D956)","v":""},{"$f":"IF(ISBLANK('Control Sheet'!E956),\"\",'Control Sheet'!E956&\" (\"&'Control Sheet'!F956&\")\")","v":""},"","","","","","","","","","","","","",null,"","","","","","","","","","","","","","","","","","","","","","","","","","","","","","","","","","","","","","","","","","",{"$f":"IF(A976=\"\",\"\",MAX(IF(ISERROR(AU976:BF976),0,AU976:BF976)))","v":""},"","","","","","","","","","","","","","","","","","","","","","","","","","","","","","","","","","","","","","","","","","","","",""]
[{"$f":"IF(ISBLANK('Control Sheet'!D957),\"\",'Control Sheet'!D957)","v":""},{"$f":"IF(ISBLANK('Control Sheet'!E957),\"\",'Control Sheet'!E957&\" (\"&'Control Sheet'!F957&\")\")","v":""},"","","","","","","","","","","","","",null,"","","","","","","","","","","","","","","","","","","","","","","","","","","","","","","","","","","","","","","","","","",{"$f":"IF(A977=\"\",\"\",MAX(IF(ISERROR(AU977:BF977),0,AU977:BF977)))","v":""},"","","","","","","","","","","","","","","","","","","","","","","","","","","","","","","","","","","","","","","","","","","","",""]
[{"$f":"IF(ISBLANK('Control Sheet'!D958),\"\",'Control Sheet'!D958)","v":""},{"$f":"IF(ISBLANK('Control Sheet'!E958),\"\",'Control Sheet'!E958&\" (\"&'Control Sheet'!F958&\")\")","v":""},"","","","","","","","","","","","","",null,"","","","","","","","","","","","","","","","","","","","","","","","","","","","","","","","","","","","","","","","","","",{"$f":"IF(A978=\"\",\"\",MAX(IF(ISERROR(AU978:BF978),0,AU978:BF978)))","v":""},"","","","","","","","","","","","","","","","","","","","","","","","","","","","","","","","","","","","","","","","","","","","",""]
[{"$f":"IF(ISBLANK('Control Sheet'!D959),\"\",'Control Sheet'!D959)","v":""},{"$f":"IF(ISBLANK('Control Sheet'!E959),\"\",'Control Sheet'!E959&\" (\"&'Control Sheet'!F959&\")\")","v":""},"","","","","","","","","","","","","",null,"","","","","","","","","","","","","","","","","","","","","","","","","","","","","","","","","","","","","","","","","","",{"$f":"IF(A979=\"\",\"\",MAX(IF(ISERROR(AU979:BF979),0,AU979:BF979)))","v":""},"","","","","","","","","","","","","","","","","","","","","","","","","","","","","","","","","","","","","","","","","","","","",""]
[{"$f":"IF(ISBLANK('Control Sheet'!D960),\"\",'Control Sheet'!D960)","v":""},{"$f":"IF(ISBLANK('Control Sheet'!E960),\"\",'Control Sheet'!E960&\" (\"&'Control Sheet'!F960&\")\")","v":""},"","","","","","","","","","","","","",null,"","","","","","","","","","","","","","","","","","","","","","","","","","","","","","","","","","","","","","","","","","",{"$f":"IF(A980=\"\",\"\",MAX(IF(ISERROR(AU980:BF980),0,AU980:BF980)))","v":""},"","","","","","","","","","","","","","","","","","","","","","","","","","","","","","","","","","","","","","","","","","","","",""]
[{"$f":"IF(ISBLANK('Control Sheet'!D961),\"\",'Control Sheet'!D961)","v":""},{"$f":"IF(ISBLANK('Control Sheet'!E961),\"\",'Control Sheet'!E961&\" (\"&'Control Sheet'!F961&\")\")","v":""},{"$f":"IF(C$18=1,IF(ISNA(VLOOKUP($A981,INDIRECT(C$20),MUR_col,FALSE)),\"\",VLOOKUP($A981,INDIRECT(C$20),MUR_col,FALSE)),\"\")","v":""},"","","","","","","","","","","",{"$f":"IF(A981=\"\",\"\",SUM(C981:N981))","v":""},null,"",{"$f":"IF(A981=\"\",\"\",MURMonthsPop-(COUNTA(C981:N981)-COUNTBLANK(C981:N981)))","v":""},{"$f":"IF(C981=\"\",\"\",IF(C981<=C$10,MURmLOScore,IF(C981<=C$7,MURmBAScore,IF(C981<=C$8,MURmLQRScore,IF(C981<=C$9,MURmUQRScore,IF(C981<=C$11,MURmAAScore,MURmUOScore+C981-C$11))))))","v":""},{"$f":"IF(D981=\"\",\"\",IF(D981<=D$10,MURmLOScore,IF(D981<=D$7,MURmBAScore,IF(D981<=D$8,MURmLQRScore,IF(D981<=D$9,MURmUQRScore,IF(D981<=D$11,MURmAAScore,MURmUOScore+D981-D$11))))))","v":""},{"$f":"IF(E981=\"\",\"\",IF(E981<=E$10,MURmLOScore,IF(E981<=E$7,MURmBAScore,IF(E981<=E$8,MURmLQRScore,IF(E981<=E$9,MURmUQRScore,IF(E981<=E$11,MURmAAScore,MURmUOScore+E981-E$11))))))","v":""},{"$f":"IF(F981=\"\",\"\",IF(F981<=F$10,MURmLOScore,IF(F981<=F$7,MURmBAScore,IF(F981<=F$8,MURmLQRScore,IF(F981<=F$9,MURmUQRScore,IF(F981<=F$11,MURmAAScore,MURmUOScore+F981-F$11))))))","v":""},{"$f":"IF(G981=\"\",\"\",IF(G981<=G$10,MURmLOScore,IF(G981<=G$7,MURmBAScore,IF(G981<=G$8,MURmLQRScore,IF(G981<=G$9,MURmUQRScore,IF(G981<=G$11,MURmAAScore,MURmUOScore+G981-G$11))))))","v":""},{"$f":"IF(H981=\"\",\"\",IF(H981<=H$10,MURmLOScore,IF(H981<=H$7,MURmBAScore,IF(H981<=H$8,MURmLQRScore,IF(H981<=H$9,MURmUQRScore,IF(H981<=H$11,MURmAAScore,MURmUOScore+H981-H$11))))))","v":""},{"$f":"IF(I981=\"\",\"\",IF(I981<=I$10,MURmLOScore,IF(I981<=I$7,MURmBAScore,IF(I981<=I$8,MURmLQRScore,IF(I981<=I$9,MURmUQRScore,IF(I981<=I$11,MURmAAScore,MURmUOScore+I981-I$11))))))","v":""},{"$f":"IF(J981=\"\",\"\",IF(J981<=J$10,MURmLOScore,IF(J981<=J$7,MURmBAScore,IF(J981<=J$8,MURmLQRScore,IF(J981<=J$9,MURmUQRScore,IF(J981<=J$11,MURmAAScore,MURmUOScore+J981-J$11))))))","v":""},{"$f":"IF(K981=\"\",\"\",IF(K981<=K$10,MURmLOScore,IF(K981<=K$7,MURmBAScore,IF(K981<=K$8,MURmLQRScore,IF(K981<=K$9,MURmUQRScore,IF(K981<=K$11,MURmAAScore,MURmUOScore+K981-K$11))))))","v":""},{"$f":"IF(L981=\"\",\"\",IF(L981<=L$10,MURmLOScore,IF(L981<=L$7,MURmBAScore,IF(L981<=L$8,MURmLQRScore,IF(L981<=L$9,MURmUQRScore,IF(L981<=L$11,MURmAAScore,MURmUOScore+L981-L$11))))))","v":""},{"$f":"IF(M981=\"\",\"\",IF(M981<=M$10,MURmLOScore,IF(M981<=M$7,MURmBAScore,IF(M981<=M$8,MURmLQRScore,IF(M981<=M$9,MURmUQRScore,IF(M981<=M$11,MURmAAScore,MURmUOScore+M981-M$11))))))","v":""},{"$f":"IF(N981=\"\",\"\",IF(N981<=N$10,MURmLOScore,IF(N981<=N$7,MURmBAScore,IF(N981<=N$8,MURmLQRScore,IF(N981<=N$9,MURmUQRScore,IF(N981<=N$11,MURmAAScore,MURmUOScore+N981-N$11))))))","v":""},{"$f":"IF(A981=\"\",\"\",SUM(S981:AD981))","v":""},{"$f":"IF(OR(A981=\"\",AE981=0),\"\",AE981/(O$18-R981))","v":""},{"$f":"IF(AF981=\"\",\"\",IF(AF981<=MURaLOScore,\"Lower Outlier\",IF(AF981<=MURaBAScore,\"Below Average\",IF(AF981<=MURaLQRScore,\"Lower Quartile\",IF(AF981<=MURaUQRScore,\"Upper Quartile\",IF(AF981<=MURaAAScore, \"Above Average\", \"Upper Outlier\"))))))","v":""},"","","","","","","","","","","","",{"$f":"IF(A981=\"\",\"\",MAX(AH981:AS981))","v":""},{"$f":"IF(OR(A981=\"\",MURMonthsPop=0),\"\",IF(AU$18=MURMonthsPop,AH981,#N/A))","v":""},{"$f":"IF(OR($A981=\"\",MURMonthsPop=0),\"\",IF(AV$18<MURMonthsPop,#N/A,IF(AV$18=MURMonthsPop,AI981,IF(AU981=\"\",\"\",IF(AV$18=MURMonthsPop+1,AU981+(AU981*VLOOKUP(MURMonthsPop-$R981,ForecastMult,3,FALSE)/12),AU981+AU981-AT981)))))","v":""},{"$f":"IF(OR($A981=\"\",MURMonthsPop=0),\"\",IF(AW$18<MURMonthsPop,#N/A,IF(AW$18=MURMonthsPop,AJ981,IF(AV981=\"\",\"\",IF(AW$18=MURMonthsPop+1,AV981+(AV981*VLOOKUP(MURMonthsPop-$R981,ForecastMult,3,FALSE)/12),AV981+AV981-AU981)))))","v":""},{"$f":"IF(OR($A981=\"\",MURMonthsPop=0),\"\",IF(AX$18<MURMonthsPop,#N/A,IF(AX$18=MURMonthsPop,AK981,IF(AW981=\"\",\"\",IF(AX$18=MURMonthsPop+1,AW981+(AW981*VLOOKUP(MURMonthsPop-$R981,ForecastMult,3,FALSE)/12),AW981+AW981-AV981)))))","v":""},{"$f":"IF(OR($A981=\"\",MURMonthsPop=0),\"\",IF(AY$18<MURMonthsPop,#N/A,IF(AY$18=MURMonthsPop,AL981,IF(AX981=\"\",\"\",IF(AY$18=MURMonthsPop+1,AX981+(AX981*VLOOKUP(MURMonthsPop-$R981,ForecastMult,3,FALSE)/12),AX981+AX981-AW981)))))","v":""},{"$f":"IF(OR($A981=\"\",MURMonthsPop=0),\"\",IF(AZ$18<MURMonthsPop,#N/A,IF(AZ$18=MURMonthsPop,AM981,IF(AY981=\"\",\"\",IF(AZ$18=MURMonthsPop+1,AY981+(AY981*VLOOKUP(MURMonthsPop-$R981,ForecastMult,3,FALSE)/12),AY981+AY981-AX981)))))","v":""},{"$f":"IF(OR($A981=\"\",MURMonthsPop=0),\"\",IF(BA$18<MURMonthsPop,#N/A,IF(BA$18=MURMonthsPop,AN981,IF(AZ981=\"\",\"\",IF(BA$18=MURMonthsPop+1,AZ981+(AZ981*VLOOKUP(MURMonthsPop-$R981,ForecastMult,3,FALSE)/12),AZ981+AZ981-AY981)))))","v":""},{"$f":"IF(OR($A981=\"\",MURMonthsPop=0),\"\",IF(BB$18<MURMonthsPop,#N/A,IF(BB$18=MURMonthsPop,AO981,IF(BA981=\"\",\"\",IF(BB$18=MURMonthsPop+1,BA981+(BA981*VLOOKUP(MURMonthsPop-$R981,ForecastMult,3,FALSE)/12),BA981+BA981-AZ981)))))","v":""},{"$f":"IF(OR($A981=\"\",MURMonthsPop=0),\"\",IF(BC$18<MURMonthsPop,#N/A,IF(BC$18=MURMonthsPop,AP981,IF(BB981=\"\",\"\",IF(BC$18=MURMonthsPop+1,BB981+(BB981*VLOOKUP(MURMonthsPop-$R981,ForecastMult,3,FALSE)/12),BB981+BB981-BA981)))))","v":""},{"$f":"IF(OR($A981=\"\",MURMonthsPop=0),\"\",IF(BD$18<MURMonthsPop,#N/A,IF(BD$18=MURMonthsPop,AQ981,IF(BC981=\"\",\"\",IF(BD$18=MURMonthsPop+1,BC981+(BC981*VLOOKUP(MURMonthsPop-$R981,ForecastMult,3,FALSE)/12),BC981+BC981-BB981)))))","v":""},{"$f":"IF(OR($A981=\"\",MURMonthsPop=0),\"\",IF(BE$18<MURMonthsPop,#N/A,IF(BE$18=MURMonthsPop,AR981,IF(BD981=\"\",\"\",IF(BE$18=MURMonthsPop+1,BD981+(BD981*VLOOKUP(MURMonthsPop-$R981,ForecastMult,3,FALSE)/12),BD981+BD981-BC981)))))","v":""},{"$f":"IF(OR($A981=\"\",MURMonthsPop=0),\"\",IF(BF$18<MURMonthsPop,#N/A,IF(BF$18=MURMonthsPop,AS981,IF(BE981=\"\",\"\",IF(BF$18=MURMonthsPop+1,BE981+(BE981*VLOOKUP(MURMonthsPop-$R981,ForecastMult,3,FALSE)/12),BE981+BE981-BD981)))))","v":""},{"$f":"IF(A981=\"\",\"\",MAX(IF(ISERROR(AU981:BF981),0,AU981:BF981)))","v":""},{"$f":"IF(AND(C$18=1,$A981<>\"\"),IF(ISNA(VLOOKUP($A981,INDIRECT(C$20),TOT_STDR_PXS_col,FALSE)),\"\",VLOOKUP($A981,INDIRECT(C$20),TOT_STDR_PXS_col,FALSE)+VLOOKUP($A981,INDIRECT(C$20),TOT_ZDR_PXS_col,FALSE)),\"\")","v":""},{"$f":"IF(AND(D$18=1,$A981<>\"\"),IF(ISNA(VLOOKUP($A981,INDIRECT(D$20),TOT_STDR_PXS_col,FALSE)),\"\",VLOOKUP($A981,INDIRECT(D$20),TOT_STDR_PXS_col,FALSE)+VLOOKUP($A981,INDIRECT(D$20),TOT_ZDR_PXS_col,FALSE)),\"\")","v":""},{"$f":"IF(AND(E$18=1,$A981<>\"\"),IF(ISNA(VLOOKUP($A981,INDIRECT(E$20),TOT_STDR_PXS_col,FALSE)),\"\",VLOOKUP($A981,INDIRECT(E$20),TOT_STDR_PXS_col,FALSE)+VLOOKUP($A981,INDIRECT(E$20),TOT_ZDR_PXS_col,FALSE)),\"\")","v":""},{"$f":"IF(AND(F$18=1,$A981<>\"\"),IF(ISNA(VLOOKUP($A981,INDIRECT(F$20),TOT_STDR_PXS_col,FALSE)),\"\",VLOOKUP($A981,INDIRECT(F$20),TOT_STDR_PXS_col,FALSE)+VLOOKUP($A981,INDIRECT(F$20),TOT_ZDR_PXS_col,FALSE)),\"\")","v":""},{"$f":"IF(AND(G$18=1,$A981<>\"\"),IF(ISNA(VLOOKUP($A981,INDIRECT(G$20),TOT_STDR_PXS_col,FALSE)),\"\",VLOOKUP($A981,INDIRECT(G$20),TOT_STDR_PXS_col,FALSE)+VLOOKUP($A981,INDIRECT(G$20),TOT_ZDR_PXS_col,FALSE)),\"\")","v":""},{"$f":"IF(AND(H$18=1,$A981<>\"\"),IF(ISNA(VLOOKUP($A981,INDIRECT(H$20),TOT_STDR_PXS_col,FALSE)),\"\",VLOOKUP($A981,INDIRECT(H$20),TOT_STDR_PXS_col,FALSE)+VLOOKUP($A981,INDIRECT(H$20),TOT_ZDR_PXS_col,FALSE)),\"\")","v":""},{"$f":"IF(AND(I$18=1,$A981<>\"\"),IF(ISNA(VLOOKUP($A981,INDIRECT(I$20),TOT_STDR_PXS_col,FALSE)),\"\",VLOOKUP($A981,INDIRECT(I$20),TOT_STDR_PXS_col,FALSE)+VLOOKUP($A981,INDIRECT(I$20),TOT_ZDR_PXS_col,FALSE)),\"\")","v":""},{"$f":"IF(AND(J$18=1,$A981<>\"\"),IF(ISNA(VLOOKUP($A981,INDIRECT(J$20),TOT_STDR_PXS_col,FALSE)),\"\",VLOOKUP($A981,INDIRECT(J$20),TOT_STDR_PXS_col,FALSE)+VLOOKUP($A981,INDIRECT(J$20),TOT_ZDR_PXS_col,FALSE)),\"\")","v":""},{"$f":"IF(AND(K$18=1,$A981<>\"\"),IF(ISNA(VLOOKUP($A981,INDIRECT(K$20),TOT_STDR_PXS_col,FALSE)),\"\",VLOOKUP($A981,INDIRECT(K$20),TOT_STDR_PXS_col,FALSE)+VLOOKUP($A981,INDIRECT(K$20),TOT_ZDR_PXS_col,FALSE)),\"\")","v":""},{"$f":"IF(AND(L$18=1,$A981<>\"\"),IF(ISNA(VLOOKUP($A981,INDIRECT(L$20),TOT_STDR_PXS_col,FALSE)),\"\",VLOOKUP($A981,INDIRECT(L$20),TOT_STDR_PXS_col,FALSE)+VLOOKUP($A981,INDIRECT(L$20),TOT_ZDR_PXS_col,FALSE)),\"\")","v":""},{"$f":"IF(AND(M$18=1,$A981<>\"\"),IF(ISNA(VLOOKUP($A981,INDIRECT(M$20),TOT_STDR_PXS_col,FALSE)),\"\",VLOOKUP($A981,INDIRECT(M$20),TOT_STDR_PXS_col,FALSE)+VLOOKUP($A981,INDIRECT(M$20),TOT_ZDR_PXS_col,FALSE)),\"\")","v":""},{"$f":"IF(AND(N$18=1,$A981<>\"\"),IF(ISNA(VLOOKUP($A981,INDIRECT(N$20),TOT_STDR_PXS_col,FALSE)),\"\",VLOOKUP($A981,INDIRECT(N$20),TOT_STDR_PXS_col,FALSE)+VLOOKUP($A981,INDIRECT(N$20),TOT_ZDR_PXS_col,FALSE)),\"\")","v":""},{"$f":"IF(A981=\"\",\"\",SUM(BH981:BS981))","v":""},{"$f":"IF(A981=\"\",\"\",MIN(B981:M981))","v":""},{"$f":"IF(A981=\"\",\"\",MAX(B981:M981))","v":""},{"$f":"IF(A981=\"\",\"\",BV981-BU981)","v":""},{"$f":"IF(A981=\"\",\"\",IF(BW981>$BW$11,\"Yes\",\"No\"))","v":""},{"$f":"IF(A981=\"\",\"\",(COUNTA(C981:N981)-COUNTBLANK(C981:N981)))","v":""},{"$f":"IF(A981=\"\",\"\",BY981-COUNTIF(C981:N981,\"=0\"))","v":""},{"$f":"IF(C$18=1,IF(ISNA(VLOOKUP($A981,INDIRECT(C$20),MUR_fee_col,FALSE)),\"\",VLOOKUP($A981,INDIRECT(C$20),MUR_fee_col,FALSE)),\"\")","v":""},{"$f":"IF(D$18=1,IF(ISNA(VLOOKUP($A981,INDIRECT(D$20),MUR_fee_col,FALSE)),\"\",VLOOKUP($A981,INDIRECT(D$20),MUR_fee_col,FALSE)),\"\")","v":""},{"$f":"IF(E$18=1,IF(ISNA(VLOOKUP($A981,INDIRECT(E$20),MUR_fee_col,FALSE)),\"\",VLOOKUP($A981,INDIRECT(E$20),MUR_fee_col,FALSE)),\"\")","v":""},{"$f":"IF(F$18=1,IF(ISNA(VLOOKUP($A981,INDIRECT(F$20),MUR_fee_col,FALSE)),\"\",VLOOKUP($A981,INDIRECT(F$20),MUR_fee_col,FALSE)),\"\")","v":""},{"$f":"IF(G$18=1,IF(ISNA(VLOOKUP($A981,INDIRECT(G$20),MUR_fee_col,FALSE)),\"\",VLOOKUP($A981,INDIRECT(G$20),MUR_fee_col,FALSE)),\"\")","v":""},{"$f":"IF(H$18=1,IF(ISNA(VLOOKUP($A981,INDIRECT(H$20),MUR_fee_col,FALSE)),\"\",VLOOKUP($A981,INDIRECT(H$20),MUR_fee_col,FALSE)),\"\")","v":""},{"$f":"IF(I$18=1,IF(ISNA(VLOOKUP($A981,INDIRECT(I$20),MUR_fee_col,FALSE)),\"\",VLOOKUP($A981,INDIRECT(I$20),MUR_fee_col,FALSE)),\"\")","v":""},{"$f":"IF(J$18=1,IF(ISNA(VLOOKUP($A981,INDIRECT(J$20),MUR_fee_col,FALSE)),\"\",VLOOKUP($A981,INDIRECT(J$20),MUR_fee_col,FALSE)),\"\")","v":""},{"$f":"IF(K$18=1,IF(ISNA(VLOOKUP($A981,INDIRECT(K$20),MUR_fee_col,FALSE)),\"\",VLOOKUP($A981,INDIRECT(K$20),MUR_fee_col,FALSE)),\"\")","v":""},{"$f":"IF(L$18=1,IF(ISNA(VLOOKUP($A981,INDIRECT(L$20),MUR_fee_col,FALSE)),\"\",VLOOKUP($A981,INDIRECT(L$20),MUR_fee_col,FALSE)),\"\")","v":""},{"$f":"IF(M$18=1,IF(ISNA(VLOOKUP($A981,INDIRECT(M$20),MUR_fee_col,FALSE)),\"\",VLOOKUP($A981,INDIRECT(M$20),MUR_fee_col,FALSE)),\"\")","v":""},{"$f":"IF(N$18=1,IF(ISNA(VLOOKUP($A981,INDIRECT(N$20),MUR_fee_col,FALSE)),\"\",VLOOKUP($A981,INDIRECT(N$20),MUR_fee_col,FALSE)),\"\")","v":""},{"$f":"IF(A981=\"\",\"\",SUM(CA981:CL981))","v":""},{"$f":"IF(C$18=1,IF(ISNA(VLOOKUP($A981,INDIRECT(C$20),MUR_Fee_adj_col,FALSE)),\"\",VLOOKUP($A981,INDIRECT(C$20),MUR_Fee_adj_col,FALSE)),\"\")","v":""},{"$f":"IF(D$18=1,IF(ISNA(VLOOKUP($A981,INDIRECT(D$20),MUR_Fee_adj_col,FALSE)),\"\",VLOOKUP($A981,INDIRECT(D$20),MUR_Fee_adj_col,FALSE)),\"\")","v":""},{"$f":"IF(E$18=1,IF(ISNA(VLOOKUP($A981,INDIRECT(E$20),MUR_Fee_adj_col,FALSE)),\"\",VLOOKUP($A981,INDIRECT(E$20),MUR_Fee_adj_col,FALSE)),\"\")","v":""},{"$f":"IF(F$18=1,IF(ISNA(VLOOKUP($A981,INDIRECT(F$20),MUR_Fee_adj_col,FALSE)),\"\",VLOOKUP($A981,INDIRECT(F$20),MUR_Fee_adj_col,FALSE)),\"\")","v":""},{"$f":"IF(G$18=1,IF(ISNA(VLOOKUP($A981,INDIRECT(G$20),MUR_Fee_adj_col,FALSE)),\"\",VLOOKUP($A981,INDIRECT(G$20),MUR_Fee_adj_col,FALSE)),\"\")","v":""},{"$f":"IF(H$18=1,IF(ISNA(VLOOKUP($A981,INDIRECT(H$20),MUR_Fee_adj_col,FALSE)),\"\",VLOOKUP($A981,INDIRECT(H$20),MUR_Fee_adj_col,FALSE)),\"\")","v":""},{"$f":"IF(I$18=1,IF(ISNA(VLOOKUP($A981,INDIRECT(I$20),MUR_Fee_adj_col,FALSE)),\"\",VLOOKUP($A981,INDIRECT(I$20),MUR_Fee_adj_col,FALSE)),\"\")","v":""},{"$f":"IF(J$18=1,IF(ISNA(VLOOKUP($A981,INDIRECT(J$20),MUR_Fee_adj_col,FALSE)),\"\",VLOOKUP($A981,INDIRECT(J$20),MUR_Fee_adj_col,FALSE)),\"\")","v":""},{"$f":"IF(K$18=1,IF(ISNA(VLOOKUP($A981,INDIRECT(K$20),MUR_Fee_adj_col,FALSE)),\"\",VLOOKUP($A981,INDIRECT(K$20),MUR_Fee_adj_col,FALSE)),\"\")","v":""},{"$f":"IF(L$18=1,IF(ISNA(VLOOKUP($A981,INDIRECT(L$20),MUR_Fee_adj_col,FALSE)),\"\",VLOOKUP($A981,INDIRECT(L$20),MUR_Fee_adj_col,FALSE)),\"\")","v":""},{"$f":"IF(M$18=1,IF(ISNA(VLOOKUP($A981,INDIRECT(M$20),MUR_Fee_adj_col,FALSE)),\"\",VLOOKUP($A981,INDIRECT(M$20),MUR_Fee_adj_col,FALSE)),\"\")","v":""},{"$f":"IF(N$18=1,IF(ISNA(VLOOKUP($A981,INDIRECT(N$20),MUR_Fee_adj_col,FALSE)),\"\",VLOOKUP($A981,INDIRECT(N$20),MUR_Fee_adj_col,FALSE)),\"\")","v":""},{"$f":"IF(A981=\"\",\"\",SUM(CN981:CY981))","v":""}]
[{"$f":"IF(ISBLANK('Control Sheet'!D962),\"\",'Control Sheet'!D962)","v":""},{"$f":"IF(ISBLANK('Control Sheet'!E962),\"\",'Control Sheet'!E962&\" (\"&'Control Sheet'!F962&\")\")","v":""},"","","","","","","","","","","","","",null,{"$f":"IF(A982=\"\",\"\",IF(BG982<=400,\"No\",\"Yes\"))","v":""},"","","","","","","","","","","","","","","","",{"$f":"IF(C$18=1,C982,\"\")","v":""},{"$f":"IF(D$18=1,IF(D982=\"\",IF(AH982=\"\",\"\",AH982),IF(AND(D982>=0,AH982=\"\"),D982,IF(ISERROR(D982+AH982),#N/A,D982+AH982))),\"\")","v":""},{"$f":"IF(E$18=1,IF(E982=\"\",IF(AI982=\"\",\"\",AI982),IF(AND(E982>=0,AI982=\"\"),E982,IF(ISERROR(E982+AI982),#N/A,E982+AI982))),\"\")","v":""},{"$f":"IF(F$18=1,IF(F982=\"\",IF(AJ982=\"\",\"\",AJ982),IF(AND(F982>=0,AJ982=\"\"),F982,IF(ISERROR(F982+AJ982),#N/A,F982+AJ982))),\"\")","v":""},{"$f":"IF(G$18=1,IF(G982=\"\",IF(AK982=\"\",\"\",AK982),IF(AND(G982>=0,AK982=\"\"),G982,IF(ISERROR(G982+AK982),#N/A,G982+AK982))),\"\")","v":""},{"$f":"IF(H$18=1,IF(H982=\"\",IF(AL982=\"\",\"\",AL982),IF(AND(H982>=0,AL982=\"\"),H982,IF(ISERROR(H982+AL982),#N/A,H982+AL982))),\"\")","v":""},{"$f":"IF(I$18=1,IF(I982=\"\",IF(AM982=\"\",\"\",AM982),IF(AND(I982>=0,AM982=\"\"),I982,IF(ISERROR(I982+AM982),#N/A,I982+AM982))),\"\")","v":""},{"$f":"IF(J$18=1,IF(J982=\"\",IF(AN982=\"\",\"\",AN982),IF(AND(J982>=0,AN982=\"\"),J982,IF(ISERROR(J982+AN982),#N/A,J982+AN982))),\"\")","v":""},{"$f":"IF(K$18=1,IF(K982=\"\",IF(AO982=\"\",\"\",AO982),IF(AND(K982>=0,AO982=\"\"),K982,IF(ISERROR(K982+AO982),#N/A,K982+AO982))),\"\")","v":""},{"$f":"IF(L$18=1,IF(L982=\"\",IF(AP982=\"\",\"\",AP982),IF(AND(L982>=0,AP982=\"\"),L982,IF(ISERROR(L982+AP982),#N/A,L982+AP982))),\"\")","v":""},{"$f":"IF(M$18=1,IF(M982=\"\",IF(AQ982=\"\",\"\",AQ982),IF(AND(M982>=0,AQ982=\"\"),M982,IF(ISERROR(M982+AQ982),#N/A,M982+AQ982))),\"\")","v":""},{"$f":"IF(N$18=1,IF(N982=\"\",IF(AR982=\"\",\"\",AR982),IF(AND(N982>=0,AR982=\"\"),N982,IF(ISERROR(N982+AR982),#N/A,N982+AR982))),\"\")","v":""},"","","","","","","","","","","","","",{"$f":"IF(A982=\"\",\"\",MAX(IF(ISERROR(AU982:BF982),0,AU982:BF982)))","v":""},"","","","","","","","","","","","","","","","","","","","","","","","","","","","","","","","","","","","","","","","","","","","",""]
[{"$f":"IF(ISBLANK('Control Sheet'!D963),\"\",'Control Sheet'!D963)","v":""},{"$f":"IF(ISBLANK('Control Sheet'!E963),\"\",'Control Sheet'!E963&\" (\"&'Control Sheet'!F963&\")\")","v":""},"","","","","","","","","","","","","",null,"","","","","","","","","","","","","","","","","","","","","","","","","","","","","","","","","","","","","","","","","","",{"$f":"IF(A983=\"\",\"\",MAX(IF(ISERROR(AU983:BF983),0,AU983:BF983)))","v":""},"","","","","","","","","","","","","","","","","","","","","","","","","","","","","","","","","","","","","","","","","","","","",""]
[{"$f":"IF(ISBLANK('Control Sheet'!D964),\"\",'Control Sheet'!D964)","v":""},{"$f":"IF(ISBLANK('Control Sheet'!E964),\"\",'Control Sheet'!E964&\" (\"&'Control Sheet'!F964&\")\")","v":""},"","","","","","","","","","","","","",null,"","","","","","","","","","","","","","","","","","","","","","","","","","","","","","","","","","","","","","","","","","",{"$f":"IF(A984=\"\",\"\",MAX(IF(ISERROR(AU984:BF984),0,AU984:BF984)))","v":""},"","","","","","","","","","","","","","","","","","","","","","","","","","","","","","","","","","","","","","","","","","","","",""]
[{"$f":"IF(ISBLANK('Control Sheet'!D965),\"\",'Control Sheet'!D965)","v":""},{"$f":"IF(ISBLANK('Control Sheet'!E965),\"\",'Control Sheet'!E965&\" (\"&'Control Sheet'!F965&\")\")","v":""},"","","","","","","","","","","","","",null,"","","","","","","","","","","","","","","","","","","","","","","","","","","","","","","","","","","","","","","","","","",{"$f":"IF(A985=\"\",\"\",MAX(IF(ISERROR(AU985:BF985),0,AU985:BF985)))","v":""},"","","","","","","","","","","","","","","","","","","","","","","","","","","","","","","","","","","","","","","","","","","","",""]
[{"$f":"IF(ISBLANK('Control Sheet'!D966),\"\",'Control Sheet'!D966)","v":""},{"$f":"IF(ISBLANK('Control Sheet'!E966),\"\",'Control Sheet'!E966&\" (\"&'Control Sheet'!F966&\")\")","v":""},"","","","","","","","","","","","","",null,"","","","","","","","","","","","","","","","","","","","","","","","","","","","","","","","","","","","","","","","","","",{"$f":"IF(A986=\"\",\"\",MAX(IF(ISERROR(AU986:BF986),0,AU986:BF986)))","v":""},"","","","","","","","","","","","","","","","","","","","","","","","","","","","","","","","","","","","","","","","","","","","",""]
[{"$f":"IF(ISBLANK('Control Sheet'!D967),\"\",'Control Sheet'!D967)","v":""},{"$f":"IF(ISBLANK('Control Sheet'!E967),\"\",'Control Sheet'!E967&\" (\"&'Control Sheet'!F967&\")\")","v":""},"","","","","","","","","","","","","",null,"","","","","","","","","","","","","","","","","","","","","","","","","","","","","","","","","","","","","","","","","","",{"$f":"IF(A987=\"\",\"\",MAX(IF(ISERROR(AU987:BF987),0,AU987:BF987)))","v":""},"","","","","","","","","","","","","","","","","","","","","","","","","","","","","","","","","","","","","","","","","","","","",""]
[{"$f":"IF(ISBLANK('Control Sheet'!D968),\"\",'Control Sheet'!D968)","v":""},{"$f":"IF(ISBLANK('Control Sheet'!E968),\"\",'Control Sheet'!E968&\" (\"&'Control Sheet'!F968&\")\")","v":""},"","","","","","","","","","","","","",null,"","","","","","","","","","","","","","","","","","","","","","","","","","","","","","","","","","","","","","","","","","",{"$f":"IF(A988=\"\",\"\",MAX(IF(ISERROR(AU988:BF988),0,AU988:BF988)))","v":""},"","","","","","","","","","","","","","","","","","","","","","","","","","","","","","","","","","","","","","","","","","","","",""]
[{"$f":"IF(ISBLANK('Control Sheet'!D969),\"\",'Control Sheet'!D969)","v":""},{"$f":"IF(ISBLANK('Control Sheet'!E969),\"\",'Control Sheet'!E969&\" (\"&'Control Sheet'!F969&\")\")","v":""},"","","","","","","","","","","","","",null,"","","","","","","","","","","","","","","","","","","","","","","","","","","","","","","","","","","","","","","","","","",{"$f":"IF(A989=\"\",\"\",MAX(IF(ISERROR(AU989:BF989),0,AU989:BF989)))","v":""},"","","","","","","","","","","","","","","","","","","","","","","","","","","","","","","","","","","","","","","","","","","","",""]
[{"$f":"IF(ISBLANK('Control Sheet'!D970),\"\",'Control Sheet'!D970)","v":""},{"$f":"IF(ISBLANK('Control Sheet'!E970),\"\",'Control Sheet'!E970&\" (\"&'Control Sheet'!F970&\")\")","v":""},"","","","","","","","","","","","","",null,"","","","","","","","","","","","","","","","","","","","","","","","","","","","","","","","","","","","","","","","","","",{"$f":"IF(A990=\"\",\"\",MAX(IF(ISERROR(AU990:BF990),0,AU990:BF990)))","v":""},"","","","","","","","","","","","","","","","","","","","","","","","","","","","","","","","","","","","","","","","","","","","",""]
[{"$f":"IF(ISBLANK('Control Sheet'!D971),\"\",'Control Sheet'!D971)","v":""},{"$f":"IF(ISBLANK('Control Sheet'!E971),\"\",'Control Sheet'!E971&\" (\"&'Control Sheet'!F971&\")\")","v":""},{"$f":"IF(C$18=1,IF(ISNA(VLOOKUP($A991,INDIRECT(C$20),MUR_col,FALSE)),\"\",VLOOKUP($A991,INDIRECT(C$20),MUR_col,FALSE)),\"\")","v":""},"","","","","","","","","","","","",null,"","","","","","","","","","","","","","","","","","","","","","","","","","","","","","","","","","","","","","","","","","",{"$f":"IF(A991=\"\",\"\",MAX(IF(ISERROR(AU991:BF991),0,AU991:BF991)))","v":""},"","","","","","","","","","","","","","","","","","","","","","","","","","","","","","","","","","","","","","","","","","","","",""]
[{"$f":"IF(ISBLANK('Control Sheet'!D972),\"\",'Control Sheet'!D972)","v":""},{"$f":"IF(ISBLANK('Control Sheet'!E972),\"\",'Control Sheet'!E972&\" (\"&'Control Sheet'!F972&\")\")","v":""},"","","","","","","","","","","","","",null,"","","","","","","","","","","","","","","","","","","","","","","","","","","","","","","","","","","","","","","","","","",{"$f":"IF(A992=\"\",\"\",MAX(IF(ISERROR(AU992:BF992),0,AU992:BF992)))","v":""},"","","","","","","","","","","","","","","","","","","","","","","","","","","","","","","","","","","","","","","","","","","","",""]
[{"$f":"IF(ISBLANK('Control Sheet'!D973),\"\",'Control Sheet'!D973)","v":""},{"$f":"IF(ISBLANK('Control Sheet'!E973),\"\",'Control Sheet'!E973&\" (\"&'Control Sheet'!F973&\")\")","v":""},"","","","","","","","","","","","","",null,"","","","","","","","","","","","","","","","","","","","","","","","","","","","","","","","","","","","","","","","","","",{"$f":"IF(A993=\"\",\"\",MAX(IF(ISERROR(AU993:BF993),0,AU993:BF993)))","v":""},"","","","","","","","","","","","","","","","","","","","","","","","","","","","","","","","","","","","","","","","","","","","",""]
[{"$f":"IF(ISBLANK('Control Sheet'!D974),\"\",'Control Sheet'!D974)","v":""},{"$f":"IF(ISBLANK('Control Sheet'!E974),\"\",'Control Sheet'!E974&\" (\"&'Control Sheet'!F974&\")\")","v":""},"","","","","","","","","","","","","",null,"","","","","","","","","","","","","","","","","","","","","","","","","","","","","","","","","","","","","","","","","","",{"$f":"IF(A994=\"\",\"\",MAX(IF(ISERROR(AU994:BF994),0,AU994:BF994)))","v":""},"","","","","","","","","","","","","","","","","","","","","","","","","","","","","","","","","","","","","","","","","","","","",""]
[{"$f":"IF(ISBLANK('Control Sheet'!D975),\"\",'Control Sheet'!D975)","v":""},{"$f":"IF(ISBLANK('Control Sheet'!E975),\"\",'Control Sheet'!E975&\" (\"&'Control Sheet'!F975&\")\")","v":""},"","","","","","","","","","","","","",null,"","","","","","","","","","","","","","","","","","","","","","","","","","","","","","","","","","","","","","","","","","",{"$f":"IF(A995=\"\",\"\",MAX(IF(ISERROR(AU995:BF995),0,AU995:BF995)))","v":""},"","","","","","","","","","","","","","","","","","","","","","","","","","","","","","","","","","","","","","","","","","","","",""]
[{"$f":"IF(ISBLANK('Control Sheet'!D976),\"\",'Control Sheet'!D976)","v":""},{"$f":"IF(ISBLANK('Control Sheet'!E976),\"\",'Control Sheet'!E976&\" (\"&'Control Sheet'!F976&\")\")","v":""},"","","","","","","","","","","","","",null,"","","","","","","","","","","","","","","","","","","","","","","","","","","","","","","","","","","","","","","","","","",{"$f":"IF(A996=\"\",\"\",MAX(IF(ISERROR(AU996:BF996),0,AU996:BF996)))","v":""},"","","","","","","","","","","","","","","","","","","","","","","","","","","","","","","","","","","","","","","","","","","","",""]
[{"$f":"IF(ISBLANK('Control Sheet'!D977),\"\",'Control Sheet'!D977)","v":""},{"$f":"IF(ISBLANK('Control Sheet'!E977),\"\",'Control Sheet'!E977&\" (\"&'Control Sheet'!F977&\")\")","v":""},"","","","","","","","","","","","","",null,"","","","","","","","","","","","","","","","","","","","","","","","","","","","","","","","","","","","","","","","","","",{"$f":"IF(A997=\"\",\"\",MAX(IF(ISERROR(AU997:BF997),0,AU997:BF997)))","v":""},"","","","","","","","","","","","","","","","","","","","","","","","","","","","","","","","","","","","","","","","","","","","",""]
[{"$f":"IF(ISBLANK('Control Sheet'!D978),\"\",'Control Sheet'!D978)","v":""},{"$f":"IF(ISBLANK('Control Sheet'!E978),\"\",'Control Sheet'!E978&\" (\"&'Control Sheet'!F978&\")\")","v":""},"","","","","","","","","","","","","",null,"","","","","","","","","","","","","","","","","","","","","","","","","","","","","","","","","","","","","","","","","","",{"$f":"IF(A998=\"\",\"\",MAX(IF(ISERROR(AU998:BF998),0,AU998:BF998)))","v":""},"","","","","","","","","","","","","","","","","","","","","","","","","","","","","","","","","","","","","","","","","","","","",""]
[{"$f":"IF(ISBLANK('Control Sheet'!D979),\"\",'Control Sheet'!D979)","v":""},{"$f":"IF(ISBLANK('Control Sheet'!E979),\"\",'Control Sheet'!E979&\" (\"&'Control Sheet'!F979&\")\")","v":""},"","","","","","","","","","","","","",null,"","","","","","","","","","","","","","","","","","","","","","","","","","","","","","","","","","","","","","","","","","",{"$f":"IF(A999=\"\",\"\",MAX(IF(ISERROR(AU999:BF999),0,AU999:BF999)))","v":""},"","","","","","","","","","","","","","","","","","","","","","","","","","","","","","","","","","","","","","","","","","","","",""]
[{"$f":"IF(ISBLANK('Control Sheet'!D980),\"\",'Control Sheet'!D980)","v":""},{"$f":"IF(ISBLANK('Control Sheet'!E980),\"\",'Control Sheet'!E980&\" (\"&'Control Sheet'!F980&\")\")","v":""},"","","","","","","","","","","","","",null,"","","","","","","","","","","","","","","","","","","","","","","","","","","","","","","","","","","","","","","","","","",{"$f":"IF(A1000=\"\",\"\",MAX(IF(ISERROR(AU1000:BF1000),0,AU1000:BF1000)))","v":""},"","","","","","","","","","","","","","","","","","","","","","","","","","","","","","","","","","","","","","","","","","","","",""]
[{"$f":"IF(ISBLANK('Control Sheet'!D981),\"\",'Control Sheet'!D981)","v":""},{"$f":"IF(ISBLANK('Control Sheet'!E981),\"\",'Control Sheet'!E981&\" (\"&'Control Sheet'!F981&\")\")","v":""},{"$f":"IF(C$18=1,IF(ISNA(VLOOKUP($A1001,INDIRECT(C$20),MUR_col,FALSE)),\"\",VLOOKUP($A1001,INDIRECT(C$20),MUR_col,FALSE)),\"\")","v":""},"","","","","","","","","","","","",null,"","","","","","","","","","","","","","","","","","","","","","","","","","","","","","","","","","","","","","","","","","",{"$f":"IF(A1001=\"\",\"\",MAX(IF(ISERROR(AU1001:BF1001),0,AU1001:BF1001)))","v":""},"","","","","","","","","","","","","","","","","","","","","","","","","","","","","","","","","","","","","","","","","","","","",""]
[{"$f":"IF(ISBLANK('Control Sheet'!D982),\"\",'Control Sheet'!D982)","v":""},{"$f":"IF(ISBLANK('Control Sheet'!E982),\"\",'Control Sheet'!E982&\" (\"&'Control Sheet'!F982&\")\")","v":""},"","","","","","","","","","","","","",null,"","","","","","","","","","","","","","","","","","","","","","","","","","","","","","","","","","","","","","","","","","",{"$f":"IF(A1002=\"\",\"\",MAX(IF(ISERROR(AU1002:BF1002),0,AU1002:BF1002)))","v":""},"","","","","","","","","","","","","","","","","","","","","","","","","","","","","","","","","","","","","","","","","","","","",""]
[{"$f":"IF(ISBLANK('Control Sheet'!D983),\"\",'Control Sheet'!D983)","v":""},{"$f":"IF(ISBLANK('Control Sheet'!E983),\"\",'Control Sheet'!E983&\" (\"&'Control Sheet'!F983&\")\")","v":""},"","","","","","","","","","","","","",null,"","","","","","","","","","","","","","","","","","","","","","","","","","","","","","","","","","","","","","","","","","",{"$f":"IF(A1003=\"\",\"\",MAX(IF(ISERROR(AU1003:BF1003),0,AU1003:BF1003)))","v":""},"","","","","","","","","","","","","","","","","","","","","","","","","","","","","","","","","","","","","","","","","","","","",""]
[{"$f":"IF(ISBLANK('Control Sheet'!D984),\"\",'Control Sheet'!D984)","v":""},{"$f":"IF(ISBLANK('Control Sheet'!E984),\"\",'Control Sheet'!E984&\" (\"&'Control Sheet'!F984&\")\")","v":""},"","","","","","","","","","","","","",null,"","","","","","","","","","","","","","","","","","","","","","","","","","","","","","","","","","","","","","","","","","",{"$f":"IF(A1004=\"\",\"\",MAX(IF(ISERROR(AU1004:BF1004),0,AU1004:BF1004)))","v":""},"","","","","","","","","","","","","","","","","","","","","","","","","","","","","","","","","","","","","","","","","","","","",""]
[{"$f":"IF(ISBLANK('Control Sheet'!D985),\"\",'Control Sheet'!D985)","v":""},{"$f":"IF(ISBLANK('Control Sheet'!E985),\"\",'Control Sheet'!E985&\" (\"&'Control Sheet'!F985&\")\")","v":""},"","","","","","","","","","","","","",null,"","","","","","","","","","","","","","","","","","","","","","","","","","","","","","","","","","","","","","","","","","",{"$f":"IF(A1005=\"\",\"\",MAX(IF(ISERROR(AU1005:BF1005),0,AU1005:BF1005)))","v":""},"","","","","","","","","","","","","","","","","","","","","","","","","","","","","","","","","","","","","","","","","","","","",""]
[{"$f":"IF(ISBLANK('Control Sheet'!D986),\"\",'Control Sheet'!D986)","v":""},{"$f":"IF(ISBLANK('Control Sheet'!E986),\"\",'Control Sheet'!E986&\" (\"&'Control Sheet'!F986&\")\")","v":""},"","","","","","","","","","","","","",null,"","","","","","","","","","","","","","","","","","","","","","","","","","","","","","","","","","","","","","","","","","",{"$f":"IF(A1006=\"\",\"\",MAX(IF(ISERROR(AU1006:BF1006),0,AU1006:BF1006)))","v":""},"","","","","","","","","","","","","","","","","","","","","","","","","","","","","","","","","","","","","","","","","","","","",""]
[{"$f":"IF(ISBLANK('Control Sheet'!D987),\"\",'Control Sheet'!D987)","v":""},{"$f":"IF(ISBLANK('Control Sheet'!E987),\"\",'Control Sheet'!E987&\" (\"&'Control Sheet'!F987&\")\")","v":""},"","","","","","","","","","","","","",null,"","","","","","","","","","","","","","","","","","","","","","","","","","","","","","","","","","","","","","","","","","",{"$f":"IF(A1007=\"\",\"\",MAX(IF(ISERROR(AU1007:BF1007),0,AU1007:BF1007)))","v":""},"","","","","","","","","","","","","","","","","","","","","","","","","","","","","","","","","","","","","","","","","","","","",""]
[{"$f":"IF(ISBLANK('Control Sheet'!D988),\"\",'Control Sheet'!D988)","v":""},{"$f":"IF(ISBLANK('Control Sheet'!E988),\"\",'Control Sheet'!E988&\" (\"&'Control Sheet'!F988&\")\")","v":""},"","","","","","","","","","","","","",null,"","","","","","","","","","","","","","","","","","","","","","","","","","","","","","","","","","","","","","","","","","",{"$f":"IF(A1008=\"\",\"\",MAX(IF(ISERROR(AU1008:BF1008),0,AU1008:BF1008)))","v":""},"","","","","","","","","","","","","","","","","","","","","","","","","","","","","","","","","","","","","","","","","","","","",""]
[{"$f":"IF(ISBLANK('Control Sheet'!D989),\"\",'Control Sheet'!D989)","v":""},{"$f":"IF(ISBLANK('Control Sheet'!E989),\"\",'Control Sheet'!E989&\" (\"&'Control Sheet'!F989&\")\")","v":""},"","","","","","","","","","","","","",null,"","","","","","","","","","","","","","","","","","","","","","","","","","","","","","","","","","","","","","","","","","",{"$f":"IF(A1009=\"\",\"\",MAX(IF(ISERROR(AU1009:BF1009),0,AU1009:BF1009)))","v":""},"","","","","","","","","","","","","","","","","","","","","","","","","","","","","","","","","","","","","","","","","","","","",""]
[{"$f":"IF(ISBLANK('Control Sheet'!D990),\"\",'Control Sheet'!D990)","v":""},{"$f":"IF(ISBLANK('Control Sheet'!E990),\"\",'Control Sheet'!E990&\" (\"&'Control Sheet'!F990&\")\")","v":""},"","","","","","","","","","","","","",null,"","","","","","","","","","","","","","","","","","","","","","","","","","","","","","","","","","","","","","","","","","",{"$f":"IF(A1010=\"\",\"\",MAX(IF(ISERROR(AU1010:BF1010),0,AU1010:BF1010)))","v":""},"","","","","","","","","","","","","","","","","","","","","","","","","","","","","","","","","","","","","","","","","","","","",""]
[{"$f":"IF(ISBLANK('Control Sheet'!D991),\"\",'Control Sheet'!D991)","v":""},{"$f":"IF(ISBLANK('Control Sheet'!E991),\"\",'Control Sheet'!E991&\" (\"&'Control Sheet'!F991&\")\")","v":""},{"$f":"IF(C$18=1,IF(ISNA(VLOOKUP($A1011,INDIRECT(C$20),MUR_col,FALSE)),\"\",VLOOKUP($A1011,INDIRECT(C$20),MUR_col,FALSE)),\"\")","v":""},"","","","","","","","","","","","",null,"","","","","","","","","","","","","","","","","","","","","","","","","","","","","","","","","","","","","","","","","","",{"$f":"IF(A1011=\"\",\"\",MAX(IF(ISERROR(AU1011:BF1011),0,AU1011:BF1011)))","v":""},"","","","","","","","","","","","","","","","","","","","","","","","","","","","","","","","","","","","","","","","","","","","",""]
[{"$f":"IF(ISBLANK('Control Sheet'!D992),\"\",'Control Sheet'!D992)","v":""},{"$f":"IF(ISBLANK('Control Sheet'!E992),\"\",'Control Sheet'!E992&\" (\"&'Control Sheet'!F992&\")\")","v":""},"","","","","","","","","","","","","",null,"","","","","","","","","","","","","","","","","","","","","","","","","","","","","","","","","","","","","","","","","","",{"$f":"IF(A1012=\"\",\"\",MAX(IF(ISERROR(AU1012:BF1012),0,AU1012:BF1012)))","v":""},"","","","","","","","","","","","","","","","","","","","","","","","","","","","","","","","","","","","","","","","","","","","",""]
[{"$f":"IF(ISBLANK('Control Sheet'!D993),\"\",'Control Sheet'!D993)","v":""},{"$f":"IF(ISBLANK('Control Sheet'!E993),\"\",'Control Sheet'!E993&\" (\"&'Control Sheet'!F993&\")\")","v":""},"","","","","","","","","","","","","",null,"","","","","","","","","","","","","","","","","","","","","","","","","","","","","","","","","","","","","","","","","","",{"$f":"IF(A1013=\"\",\"\",MAX(IF(ISERROR(AU1013:BF1013),0,AU1013:BF1013)))","v":""},"","","","","","","","","","","","","","","","","","","","","","","","","","","","","","","","","","","","","","","","","","","","",""]
[{"$f":"IF(ISBLANK('Control Sheet'!D994),\"\",'Control Sheet'!D994)","v":""},{"$f":"IF(ISBLANK('Control Sheet'!E994),\"\",'Control Sheet'!E994&\" (\"&'Control Sheet'!F994&\")\")","v":""},"","","","","","","","","","","","","",null,"","","","","","","","","","","","","","","","","","","","","","","","","","","","","","","","","","","","","","","","","","",{"$f":"IF(A1014=\"\",\"\",MAX(IF(ISERROR(AU1014:BF1014),0,AU1014:BF1014)))","v":""},"","","","","","","","","","","","","","","","","","","","","","","","","","","","","","","","","","","","","","","","","","","","",""]
[{"$f":"IF(ISBLANK('Control Sheet'!D995),\"\",'Control Sheet'!D995)","v":""},{"$f":"IF(ISBLANK('Control Sheet'!E995),\"\",'Control Sheet'!E995&\" (\"&'Control Sheet'!F995&\")\")","v":""},"","","","","","","","","","","","","",null,"","","","","","","","","","","","","","","","","","","","","","","","","","","","","","","","","","","","","","","","","","",{"$f":"IF(A1015=\"\",\"\",MAX(IF(ISERROR(AU1015:BF1015),0,AU1015:BF1015)))","v":""},"","","","","","","","","","","","","","","","","","","","","","","","","","","","","","","","","","","","","","","","","","","","",""]
[{"$f":"IF(ISBLANK('Control Sheet'!D996),\"\",'Control Sheet'!D996)","v":""},{"$f":"IF(ISBLANK('Control Sheet'!E996),\"\",'Control Sheet'!E996&\" (\"&'Control Sheet'!F996&\")\")","v":""},"","","","","","","","","","","","","",null,"","","","","","","","","","","","","","","","","","","","","","","","","","","","","","","","","","","","","","","","","","",{"$f":"IF(A1016=\"\",\"\",MAX(IF(ISERROR(AU1016:BF1016),0,AU1016:BF1016)))","v":""},"","","","","","","","","","","","","","","","","","","","","","","","","","","","","","","","","","","","","","","","","","","","",""]
[{"$f":"IF(ISBLANK('Control Sheet'!D997),\"\",'Control Sheet'!D997)","v":""},{"$f":"IF(ISBLANK('Control Sheet'!E997),\"\",'Control Sheet'!E997&\" (\"&'Control Sheet'!F997&\")\")","v":""},"","","","","","","","","","","","","",null,"","","","","","","","","","","","","","","","","",{"$f":"IF(C$18=1,C1017,\"\")","v":""},"","","","","","","","","","","","","","","","","","","","","","","","",{"$f":"IF(A1017=\"\",\"\",MAX(IF(ISERROR(AU1017:BF1017),0,AU1017:BF1017)))","v":""},"","","","","","","","","","","","","","","","","","","","","","","","","","","","","","","","","","","","","","","","","","","","",""]
[{"$f":"IF(ISBLANK('Control Sheet'!D998),\"\",'Control Sheet'!D998)","v":""},{"$f":"IF(ISBLANK('Control Sheet'!E998),\"\",'Control Sheet'!E998&\" (\"&'Control Sheet'!F998&\")\")","v":""},"","","","","","","","","","","","","",null,"","","","","","","","","","","","","","","","","",{"$f":"IF(C$18=1,C1018,\"\")","v":""},"","","","","","","","","","","","","","","","","","","","","","","","",{"$f":"IF(A1018=\"\",\"\",MAX(IF(ISERROR(AU1018:BF1018),0,AU1018:BF1018)))","v":""},"","","","","","","","","","","","","","","","","","","","","","","","","","","","","","","","","","","","","","","","","","","","",""]

{"sheet":"OOPE Workings","index":6,"n_rows":1018,"n_cols":78,"rows_kept":1018,"cut":false,"hidden":true,"merged":[]}
["Metric",null,"OOPE",null,"AT:",{"$f":"Apr!A2","v":""},null,"Contractors:",{"$f":"COUNT(O21:O1016)","v":1},null,null,null,null,null,null,null,null,null,null,null,null,null,null,null,null,null,null,null,null,null,null,"Lower Outlier",{"$f":"COUNTIF(AG$21:AG$1016,\"Lower Outlier\")","v":0}]
["Tot OOPE (ytd)",null,{"$f":"SUM(C21:N1016)","v":0},null,"Avg (ytd)",{"$f":"IF(OOPEMonthsPop=0,0,AVERAGE(C21:N1016))","v":0},null,"St Dev (ytd)",{"$f":"STDEVA(C21:N1016)","v":0},null,"YTD Spent",{"$f":"C2","v":0},null,{"$f":"MAX(C21:M1016)","v":0},null,null,null,null,null,null,null,null,null,null,null,null,null,null,null,null,null,"Below Average",{"$f":"COUNTIF(AG$21:AG$1016,\"Below Average\")","v":0}]
["Monthly Total",null,{"$f":"IF(C18=1,SUM(C21:C1016),#N/A)","v":{"$error":"#N/A"}},{"$f":"IF(D18=1,SUM(D21:D1016),#N/A)","v":{"$error":"#N/A"}},{"$error":"#N/A"},{"$error":"#N/A"},{"$error":"#N/A"},{"$error":"#N/A"},{"$error":"#N/A"},{"$error":"#N/A"},{"$error":"#N/A"},{"$error":"#N/A"},{"$error":"#N/A"},{"$error":"#N/A"},{"$f":"IF(MURMonthsPop=0,0,SUMIF(C3:N3,\"<>#N/A\")/SUM(C18:N18))","v":0},null,null,null,null,null,null,null,null,null,null,null,null,null,null,null,null,"Lower Quartile",{"$f":"COUNTIF(AG$21:AG$1016,\"Lower Quartile\")","v":0},null,null,null,null,null,null,null,null,null,null,null,null,null,null,null,null,null,null,null,null,null,null,null,null,null,null,{"$f":"SUM(BH21:BH1016)","v":0},{"$f":"SUM(BI21:BI1016)","v":0},0,0,0,0,0,0,0,0,0,0,0,0,0,0]
["Monthly Cummulative",null,{"$f":"SUM($C3:C3)","v":{"$error":"#N/A"}},{"$f":"SUM($C3:D3)","v":{"$error":"#N/A"}},{"$f":"SUM($C3:E3)","v":{"$error":"#N/A"}},{"$f":"SUM($C3:F3)","v":{"$error":"#N/A"}},{"$f":"SUM($C3:G3)","v":{"$error":"#N/A"}},{"$f":"SUM($C3:H3)","v":{"$error":"#N/A"}},{"$f":"SUM($C3:I3)","v":{"$error":"#N/A"}},{"$f":"SUM($C3:J3)","v":{"$error":"#N/A"}},{"$f":"SUM($C3:K3)","v":{"$error":"#N/A"}},{"$f":"SUM($C3:L3)","v":{"$error":"#N/A"}},{"$f":"SUM($C3:M3)","v":{"$error":"#N/A"}},{"$f":"SUM($C3:N3)","v":{"$error":"#N/A"}},null,null,null,null,null,null,null,null,null,null,null,null,null,null,null,null,null,"Upper Quartile",{"$f":"COUNTIF(AG$21:AG$1016,\"Upper Quartile\")","v":0}]
["Monthly Average",null,{"$f":"IF(C18=0,#N/A,AVERAGE(IF(C21:C1016>0,C21:C1016)))","v":{"$error":"#N/A"}},{"$f":"IF(D18=0,#N/A,AVERAGE(IF(D21:D1016>0,D21:D1016)))","v":{"$error":"#N/A"}},{"$f":"IF(E18=0,#N/A,AVERAGE(IF(E21:E1016>0,E21:E1016)))","v":{"$error":"#N/A"}},{"$f":"IF(F18=0,#N/A,AVERAGE(IF(F21:F1016>0,F21:F1016)))","v":{"$error":"#N/A"}},{"$f":"IF(G18=0,#N/A,AVERAGE(IF(G21:G1016>0,G21:G1016)))","v":{"$error":"#N/A"}},{"$f":"IF(H18=0,#N/A,AVERAGE(IF(H21:H1016>0,H21:H1016)))","v":{"$error":"#N/A"}},{"$f":"IF(I18=0,#N/A,AVERAGE(IF(I21:I1016>0,I21:I1016)))","v":{"$error":"#N/A"}},{"$f":"IF(J18=0,#N/A,AVERAGE(IF(J21:J1016>0,J21:J1016)))","v":{"$error":"#N/A"}},{"$f":"IF(K18=0,#N/A,AVERAGE(IF(K21:K1016>0,K21:K1016)))","v":{"$error":"#N/A"}},{"$f":"IF(L18=0,#N/A,AVERAGE(IF(L21:L1016>0,L21:L1016)))","v":{"$error":"#N/A"}},{"$f":"IF(M18=0,#N/A,AVERAGE(IF(M21:M1016>0,M21:M1016)))","v":{"$error":"#N/A"}},{"$f":"IF(N18=0,#N/A,AVERAGE(IF(N21:N1016>0,N21:N1016)))","v":{"$error":"#N/A"}},{"$f":"IF(O18=0,0,AVERAGE(IF(O21:O1016>0,O21:O1016)))","v":0},null,null,null,null,null,null,null,null,null,null,null,null,null,null,null,null,"Above Average",{"$f":"COUNTIF(AG$21:AG$1016,\"Above Average\")","v":0},null,null,null,null,null,null,null,null,null,null,null,null,null,null,null,null,null,null,null,null,null,null,null,null,null,null,{"$f":"IF(C18=0,0,AVERAGE(BH21:BH1016))","v":0},{"$f":"IF(D18=0,0,AVERAGE(BI21:BI1016))","v":0},0,0,0,0,0,0,0,0,0,0,0,{"$f":"IF(ISERROR(AVERAGE(BU21:BU1016)),0,AVERAGE(BU21:BU1016))","v":0},{"$f":"IF(ISERROR(AVERAGE(BV21:BV1016)),0,AVERAGE(BV21:BV1016))","v":0},{"$f":"IF(ISERROR(AVERAGE(BW21:BW1016)),0,AVERAGE(BW21:BW1016))","v":0}]
["Minumum Value",null,{"$f":"IF(C18=0,#N/A,QUARTILE(IF(C21:C1016>0,C21:C1016),0))","v":{"$error":"#N/A"}},{"$f":"IF(D18=0,#N/A,QUARTILE(IF(D21:D1016>0,D21:D1016),0))","v":{"$error":"#N/A"}},{"$f":"IF(E18=0,#N/A,QUARTILE(IF(E21:E1016>0,E21:E1016),0))","v":{"$error":"#N/A"}},{"$f":"IF(F18=0,#N/A,QUARTILE(IF(F21:F1016>0,F21:F1016),0))","v":{"$error":"#N/A"}},{"$f":"IF(G18=0,#N/A,QUARTILE(IF(G21:G1016>0,G21:G1016),0))","v":{"$error":"#N/A"}},{"$f":"IF(H18=0,#N/A,QUARTILE(IF(H21:H1016>0,H21:H1016),0))","v":{"$error":"#N/A"}},{"$f":"IF(I18=0,#N/A,QUARTILE(IF(I21:I1016>0,I21:I1016),0))","v":{"$error":"#N/A"}},{"$f":"IF(J18=0,#N/A,QUARTILE(IF(J21:J1016>0,J21:J1016),0))","v":{"$error":"#N/A"}},{"$f":"IF(K18=0,#N/A,QUARTILE(IF(K21:K1016>0,K21:K1016),0))","v":{"$error":"#N/A"}},{"$f":"IF(L18=0,#N/A,QUARTILE(IF(L21:L1016>0,L21:L1016),0))","v":{"$error":"#N/A"}},{"$f":"IF(M18=0,#N/A,QUARTILE(IF(M21:M1016>0,M21:M1016),0))","v":{"$error":"#N/A"}},{"$f":"IF(N18=0,#N/A,QUARTILE(IF(N21:N1016>0,N21:N1016),0))","v":{"$error":"#N/A"}},{"$f":"IF(O18=0,0,QUARTILE(IF(O21:O1016>0,O21:O1016),0))","v":0},null,null,null,null,null,null,null,null,null,null,null,null,null,null,null,null,"Upper Outlier",{"$f":"COUNTIF(AG$21:AG$1016,\"Upper Outlier\")","v":0},null,null,null,null,null,null,null,null,null,null,null,null,null,null,null,null,null,null,null,null,null,null,null,null,null,null,null,null,null,null,null,null,null,null,null,null,null,null,null,{"$f":"IF(ISERROR(QUARTILE(BU21:BU1016,0)),0,QUARTILE(BU21:BU1016,0))","v":0},{"$f":"IF(ISERROR(QUARTILE(BV21:BV1016,0)),0,QUARTILE(BV21:BV1016,0))","v":0},{"$f":"IF(ISERROR(QUARTILE(BW21:BW1016,0)),0,QUARTILE(BW21:BW1016,0))","v":0}]
["Q1",null,{"$f":"IF(C18=0,0,QUARTILE(IF(C21:C1016>0,C21:C1016),1))","v":0},{"$f":"IF(D18=0,0,QUARTILE(IF(D21:D1016>0,D21:D1016),1))","v":0},{"$f":"IF(E18=0,0,QUARTILE(IF(E21:E1016>0,E21:E1016),1))","v":0},{"$f":"IF(F18=0,0,QUARTILE(IF(F21:F1016>0,F21:F1016),1))","v":0},{"$f":"IF(G18=0,0,QUARTILE(IF(G21:G1016>0,G21:G1016),1))","v":0},{"$f":"IF(H18=0,0,QUARTILE(IF(H21:H1016>0,H21:H1016),1))","v":0},{"$f":"IF(I18=0,0,QUARTILE(IF(I21:I1016>0,I21:I1016),1))","v":0},{"$f":"IF(J18=0,0,QUARTILE(IF(J21:J1016>0,J21:J1016),1))","v":0},{"$f":"IF(K18=0,0,QUARTILE(IF(K21:K1016>0,K21:K1016),1))","v":0},{"$f":"IF(L18=0,0,QUARTILE(IF(L21:L1016>0,L21:L1016),1))","v":0},{"$f":"IF(M18=0,0,QUARTILE(IF(M21:M1016>0,M21:M1016),1))","v":0},{"$f":"IF(N18=0,0,QUARTILE(IF(N21:N1016>0,N21:N1016),1))","v":0},{"$f":"IF(O18=0,0,QUARTILE(IF(O21:O1016>0,O21:O1016),1))","v":0},null,null,null,null,null,null,null,null,null,null,null,null,null,null,null,null,null,null,null,null,null,null,null,null,null,null,null,null,null,null,null,null,null,null,null,null,null,null,null,null,null,null,null,null,null,null,null,null,null,null,null,null,null,null,null,null,null,{"$f":"IF(ISERROR(QUARTILE(BU21:BU1016,1)),0,QUARTILE(BU21:BU1016,1))","v":0},{"$f":"IF(ISERROR(QUARTILE(BV21:BV1016,1)),0,QUARTILE(BV21:BV1016,1))","v":0},{"$f":"IF(ISERROR(QUARTILE(BW21:BW1016,1)),0,QUARTILE(BW21:BW1016,1))","v":0}]
["Q2",null,{"$f":"IF(C18=0,0,QUARTILE(IF(C21:C1016>0,C21:C1016),2))","v":0},{"$f":"IF(D18=0,0,QUARTILE(IF(D21:D1016>0,D21:D1016),2))","v":0},{"$f":"IF(E18=0,0,QUARTILE(IF(E21:E1016>0,E21:E1016),2))","v":0},{"$f":"IF(F18=0,0,QUARTILE(IF(F21:F1016>0,F21:F1016),2))","v":0},{"$f":"IF(G18=0,0,QUARTILE(IF(G21:G1016>0,G21:G1016),2))","v":0},{"$f":"IF(H18=0,0,QUARTILE(IF(H21:H1016>0,H21:H1016),2))","v":0},{"$f":"IF(I18=0,0,QUARTILE(IF(I21:I1016>0,I21:I1016),2))","v":0},{"$f":"IF(J18=0,0,QUARTILE(IF(J21:J1016>0,J21:J1016),2))","v":0},{"$f":"IF(K18=0,0,QUARTILE(IF(K21:K1016>0,K21:K1016),2))","v":0},{"$f":"IF(L18=0,0,QUARTILE(IF(L21:L1016>0,L21:L1016),2))","v":0},{"$f":"IF(M18=0,0,QUARTILE(IF(M21:M1016>0,M21:M1016),2))","v":0},{"$f":"IF(N18=0,0,QUARTILE(IF(N21:N1016>0,N21:N1016),2))","v":0},{"$f":"IF(O18=0,0,QUARTILE(IF(O21:O1016>0,O21:O1016),2))","v":0},null,null,null,null,null,null,null,null,null,null,null,null,null,null,null,null,null,null,null,null,null,null,null,null,null,null,null,null,null,null,null,null,null,null,null,null,null,null,null,null,null,null,null,null,null,null,null,null,null,null,null,null,null,null,null,null,null,{"$f":"IF(ISERROR(QUARTILE(BU21:BU1016,2)),0,QUARTILE(BU21:BU1016,2))","v":0},{"$f":"IF(ISERROR(QUARTILE(BV21:BV1016,2)),0,QUARTILE(BV21:BV1016,2))","v":0},{"$f":"IF(ISERROR(QUARTILE(BW21:BW1016,2)),0,QUARTILE(BW21:BW1016,2))","v":0}]
["Q3",null,{"$f":"IF(C18=0,0,QUARTILE(IF(C21:C1016>0,C21:C1016),3))","v":0},{"$f":"IF(D18=0,0,QUARTILE(IF(D21:D1016>0,D21:D1016),3))","v":0},{"$f":"IF(E18=0,0,QUARTILE(IF(E21:E1016>0,E21:E1016),3))","v":0},{"$f":"IF(F18=0,0,QUARTILE(IF(F21:F1016>0,F21:F1016),3))","v":0},{"$f":"IF(G18=0,0,QUARTILE(IF(G21:G1016>0,G21:G1016),3))","v":0},{"$f":"IF(H18=0,0,QUARTILE(IF(H21:H1016>0,H21:H1016),3))","v":0},{"$f":"IF(I18=0,0,QUARTILE(IF(I21:I1016>0,I21:I1016),3))","v":0},{"$f":"IF(J18=0,0,QUARTILE(IF(J21:J1016>0,J21:J1016),3))","v":0},{"$f":"IF(K18=0,0,QUARTILE(IF(K21:K1016>0,K21:K1016),3))","v":0},{"$f":"IF(L18=0,0,QUARTILE(IF(L21:L1016>0,L21:L1016),3))","v":0},{"$f":"IF(M18=0,0,QUARTILE(IF(M21:M1016>0,M21:M1016),3))","v":0},{"$f":"IF(N18=0,0,QUARTILE(IF(N21:N1016>0,N21:N1016),3))","v":0},{"$f":"IF(O18=0,0,QUARTILE(IF(O21:O1016>0,O21:O1016),3))","v":0},null,null,null,null,null,null,null,null,null,null,null,null,null,null,null,null,null,null,null,null,null,null,null,null,null,null,null,null,null,null,null,null,null,null,null,null,null,null,null,null,null,null,null,null,null,null,null,null,null,null,null,null,null,null,null,null,null,{"$f":"IF(ISERROR(QUARTILE(BU21:BU1016,3)),0,QUARTILE(BU21:BU1016,3))","v":0},{"$f":"IF(ISERROR(QUARTILE(BV21:BV1016,3)),0,QUARTILE(BV21:BV1016,3))","v":0},{"$f":"IF(ISERROR(QUARTILE(BW21:BW1016,3)),0,QUARTILE(BW21:BW1016,3))","v":0}]
["Lower Outlier",null,{"$f":"IF(C18=0,0, IF((C7-(1.5*C12))<0,0,(C7-(1.5*C12))))","v":0},{"$f":"IF(D18=0,0, IF((D7-(1.5*D12))<0,0,(D7-(1.5*D12))))","v":0},{"$f":"IF(E18=0,0, IF((E7-(1.5*E12))<0,0,(E7-(1.5*E12))))","v":0},{"$f":"IF(F18=0,0, IF((F7-(1.5*F12))<0,0,(F7-(1.5*F12))))","v":0},{"$f":"IF(G18=0,0, IF((G7-(1.5*G12))<0,0,(G7-(1.5*G12))))","v":0},{"$f":"IF(H18=0,0, IF((H7-(1.5*H12))<0,0,(H7-(1.5*H12))))","v":0},{"$f":"IF(I18=0,0, IF((I7-(1.5*I12))<0,0,(I7-(1.5*I12))))","v":0},{"$f":"IF(J18=0,0, IF((J7-(1.5*J12))<0,0,(J7-(1.5*J12))))","v":0},{"$f":"IF(K18=0,0, IF((K7-(1.5*K12))<0,0,(K7-(1.5*K12))))","v":0},{"$f":"IF(L18=0,0, IF((L7-(1.5*L12))<0,0,(L7-(1.5*L12))))","v":0},{"$f":"IF(M18=0,0, IF((M7-(1.5*M12))<0,0,(M7-(1.5*M12))))","v":0},{"$f":"IF(N18=0,0, IF((N7-(1.5*N12))<0,0,(N7-(1.5*N12))))","v":0},{"$f":"IF(O18=0,0, IF((O7-(1.5*O12))<0,0,(O7-(1.5*O12))))","v":0},null,null,null,null,null,null,null,null,null,null,null,null,null,null,null,null,null,null,null,null,null,null,null,null,null,null,null,null,null,null,null,null,null,null,null,null,null,null,null,null,null,null,null,null,null,null,null,null,null,null,null,null,null,null,null,null,null,{"$f":"BU7-(1.5*BU12)","v":0},{"$f":"BV7-(1.5*BV12)","v":0},{"$f":"BW7-(1.5*BW12)","v":0}]
["Upper Outlier",null,{"$f":"IF(C18=0,#N/A,(C9+(1.5*C12)))","v":{"$error":"#N/A"}},{"$f":"IF(D18=0,#N/A,(D9+(1.5*D12)))","v":{"$error":"#N/A"}},{"$error":"#N/A"},{"$error":"#N/A"},{"$error":"#N/A"},{"$error":"#N/A"},{"$error":"#N/A"},{"$error":"#N/A"},{"$error":"#N/A"},{"$error":"#N/A"},{"$error":"#N/A"},{"$error":"#N/A"},{"$f":"IF(O18=0,0,(O9+(1.5*O12)))","v":0},null,null,null,null,null,null,null,null,null,null,null,null,null,null,null,null,null,null,null,null,null,null,null,null,null,null,null,null,null,null,null,null,null,null,null,null,null,null,null,null,null,null,null,null,null,null,null,null,null,null,null,null,null,null,null,null,null,{"$f":"(BU9+(1.5*BU12))","v":0},{"$f":"(BV9+(1.5*BV12))","v":0},{"$f":"(BW9+(1.5*BW12))","v":0}]
["IQR",null,{"$f":"IF(C18=0,0,C9-C7)","v":0},{"$f":"IF(D18=0,0,D9-D7)","v":0},0,0,0,0,0,0,0,0,0,0,{"$f":"IF(O18=0,0,O9-O7)","v":0},null,null,null,null,null,null,null,null,null,null,null,null,null,null,null,null,null,null,null,null,null,null,null,null,null,null,null,null,null,null,null,null,null,null,null,null,null,null,null,null,null,null,null,null,null,null,null,null,null,null,null,null,null,null,null,null,null,{"$f":"BU9-BU7","v":0},{"$f":"BV9-BV7","v":0},{"$f":"BW9-BW7","v":0}]
["Maximum",null,{"$f":"IF(C18=0,#N/A,MAX(C21:C1016))","v":{"$error":"#N/A"}},{"$f":"IF(D18=0,#N/A,MAX(D21:D1016))","v":{"$error":"#N/A"}},{"$error":"#N/A"},{"$error":"#N/A"},{"$error":"#N/A"},{"$error":"#N/A"},{"$error":"#N/A"},{"$error":"#N/A"},{"$error":"#N/A"},{"$error":"#N/A"},{"$error":"#N/A"},{"$error":"#N/A"},{"$f":"IF(O18=0,0,MAX(O21:O1016))","v":0},null,null,null,null,null,null,null,null,null,null,null,null,null,null,null,null,null,null,{"$f":"MAX(AH21:AH1016)","v":0},{"$f":"MAX(AI21:AI1016)","v":0},0,0,0,0,0,0,0,0,0,0,{"$f":"MAX(AT21:AT1016)","v":0},null,null,null,null,null,null,null,null,null,null,null,null,null,{"$f":"MAX(BH21,BH1016)","v":0},{"$f":"MAX(BI21,BI1016)","v":0},0,0,0,0,0,0,0,0,0,0,{"$f":"MAX(BT21:BT1016)","v":0},{"$f":"IF(ISERROR(QUARTILE(BU21:BU1016,4)),0,QUARTILE(BU21:BU1016,4))","v":0},{"$f":"IF(ISERROR(QUARTILE(BV21:BV1016,4)),0,QUARTILE(BV21:BV1016,4))","v":0},{"$f":"IF(ISERROR(QUARTILE(BW21:BW1016,4)),0,QUARTILE(BW21:BW1016,4))","v":0}]
["Total Contractoprs",null,{"$f":"COUNT(C21:C1016)","v":0},{"$f":"COUNT(D21:D1016)","v":0},0,0,0,0,0,0,0,0,0,0,1]
["Conducting MUR",null,{"$f":"C14-C16","v":0},{"$f":"D14-D16","v":0},0,0,0,0,0,0,0,0,0,0,0]
["Not Conducting MUR",null,{"$f":"COUNTIF(C21:C1016,0)","v":0},{"$f":"COUNTIF(D21:D1016,0)","v":0},0,0,0,0,0,0,0,0,0,0,1]
[]
["Populated",null,{"$f":"IF(Apr!B1=\"\",0,1)","v":0},{"$f":"IF(May!B1=\"\",0,1)","v":0},{"$f":"IF(Jun!B1=\"\",0,1)","v":0},{"$f":"IF(Jul!B1=\"\",0,1)","v":0},{"$f":"IF(Aug!B1=\"\",0,1)","v":0},{"$f":"IF(Sep!B1=\"\",0,1)","v":0},{"$f":"IF(Oct!B1=\"\",0,1)","v":0},{"$f":"IF(Nov!B1=\"\",0,1)","v":0},{"$f":"IF(Dec!B1=\"\",0,1)","v":0},{"$f":"IF(Jan!B1=\"\",0,1)","v":0},{"$f":"IF(Feb!B1=\"\",0,1)","v":0},{"$f":"IF(Mar!B1=\"\",0,1)","v":0},{"$f":"SUM(C18:N18)","v":0},null,null,null,null,null,null,null,null,null,null,null,null,null,null,null,null,null,null,null,null,null,null,null,null,null,null,null,null,null,null,null,1,2,3,4,5,6,7,8,9,10,11,12]
[null,null,"Actual Recorded Values",null,null,null,null,null,null,null,null,null,null,null,null,null,null,null,"Boxplot Scoring",null,null,null,null,null,null,null,null,null,null,null,null,null,null,"Actual Cummulitive",null,null,null,null,null,null,null,null,null,null,null,null,"Forecasts",null,null,null,null,null,null,null,null,null,null,null,null,"Total Items dispnesed",null,null,null,null,null,null,null,null,null,null,null,null,"Spread Analysis"]
["Contractor","Name","Apr","May","Jun","Jul","Aug","Sep","Oct","Nov","Dec","Jan","Feb","Mar","Cumm Tot","Projected Total","Project over 400","MonthMod","BP_Apr","BP_May","BP_Jun","BP_Jul","BP_Aug","BP_Sep","BP_Oct","BP_Nov","BP_Dec","BP_Jan","BP_Feb","BP_Mar","bp_Total","Average Score","Contains Outlier Activity","Cum_Apr","Cum_May","Cum_Jun","Cum_Jul","Cum_Aug","Cum_Sep","Cum_Oct","Cum_Nov","Cum_Dec","Cum_Jan","Cum_Feb","Cum_Mar","Cum_to_date","For_Apr","For_May","For_Jun","For_Jul","For_Aug","For_Sep","For_Oct","For_Nov","For_Dec","For_Jan","For_Feb","For_Mar","For_Tot","It_Apr","It_May","It_Jun","It_Jul","It_Aug","It_Sep","It_Oct","It_Nov","It_Dec","It_Jan","It_Feb","It_Mar","Tot Items","MIN","MAX","Spread","Spread Outlier","Months Sub","Months Cond"]
[{"$f":"IF(ISBLANK('Control Sheet'!D1),\"\",'Control Sheet'!D1)","v":"Blank"},{"$f":"IF(ISBLANK('Control Sheet'!E1),\"\",'Control Sheet'!E1&\" (\"&'Control Sheet'!F1&\")\")","v":""},{"$f":"IF(C$18=1,IF(ISNA(VLOOKUP($A21,INDIRECT(C$20),OOPE_col,FALSE)),\"\",VLOOKUP($A21,INDIRECT(C$20),OOPE_col,FALSE)),\"\")","v":""},"","","","","","","","","","","",{"$f":"IF(A21=\"\",\"\",SUM(C21:N21))","v":0},null,{"$f":"IF(A21=\"\",\"\",IF(BG21<=400,\"No\",\"Yes\"))","v":"No"},{"$f":"IF(A21=\"\",\"\",OOPEMonthsPop-(COUNTA(C21:N21)-COUNTBLANK(C21:N21)))","v":0},{"$f":"IF(C21=\"\",\"\",IF(C21<=C$10,1,IF(C21<=C$7,2,IF(C21<=C$8,3,IF(C21<=C$9,4,IF(C21<=C$11,5,60))))))","v":""},"","","","","","","","","","","",{"$f":"IF(A21=\"\",\"\",SUM(S21:AD21))","v":0},{"$f":"IF(OR(A21=\"\",AE21=0),\"\",AE21/O$18)","v":""},{"$f":"IF(AF21=\"\",\"\",IF(AF21<=1,\"Lower Outlier\",IF(AF21<=2,\"Below Average\",IF(AF21<=3,\"Lower Quartile\",IF(AF21<=4,\"Upper Quartile\",IF(AF21<=5, \"Above Average\", \"Upper Outlier\"))))))","v":""},{"$f":"IF(C$18=1,C21,\"\")","v":""},{"$f":"IF(D$18=1,IF(D21=\"\",IF(AH21=\"\",\"\",AH21),IF(AND(D21>=0,AH21=\"\"),D21,IF(ISERROR(D21+AH21),#N/A,D21+AH21))),\"\")","v":""},{"$f":"IF(E$18=1,IF(E21=\"\",IF(AI21=\"\",\"\",AI21),IF(AND(E21>=0,AI21=\"\"),E21,IF(ISERROR(E21+AI21),#N/A,E21+AI21))),\"\")","v":""},"","","","","","","","","",{"$f":"IF(A21=\"\",\"\",MAX(AH21:AS21))","v":0},{"$f":"IF(OR(A21=\"\",OOPEMonthsPop=0),\"\",IF(AU$18=OOPEMonthsPop,AH21,#N/A))","v":""},{"$f":"IF(OR($A21=\"\",OOPEMonthsPop=0),\"\",IF(AV$18<OOPEMonthsPop,#N/A,IF(AV$18=OOPEMonthsPop,AI21,IF(AU21=\"\",\"\",IF(AV$18=OOPEMonthsPop+1,AU21+(AU21*VLOOKUP(OOPEMonthsPop-$R21,ForecastMult,3,FALSE)/12),AU21+AU21-AT21)))))","v":""},{"$f":"IF(OR($A21=\"\",OOPEMonthsPop=0),\"\",IF(AW$18<OOPEMonthsPop,#N/A,IF(AW$18=OOPEMonthsPop,AJ21,IF(AV21=\"\",\"\",IF(AW$18=OOPEMonthsPop+1,AV21+(AV21*VLOOKUP(OOPEMonthsPop-$R21,ForecastMult,3,FALSE)/12),AV21+AV21-AU21)))))","v":""},{"$f":"IF(OR($A21=\"\",OOPEMonthsPop=0),\"\",IF(AX$18<OOPEMonthsPop,#N/A,IF(AX$18=OOPEMonthsPop,AK21,IF(AW21=\"\",\"\",IF(AX$18=OOPEMonthsPop+1,AW21+(AW21*VLOOKUP(OOPEMonthsPop-$R21,ForecastMult,3,FALSE)/12),AW21+AW21-AV21)))))","v":""},{"$f":"IF(OR($A21=\"\",OOPEMonthsPop=0),\"\",IF(AY$18<OOPEMonthsPop,#N/A,IF(AY$18=OOPEMonthsPop,AL21,IF(AX21=\"\",\"\",IF(AY$18=OOPEMonthsPop+1,AX21+(AX21*VLOOKUP(OOPEMonthsPop-$R21,ForecastMult,3,FALSE)/12),AX21+AX21-AW21)))))","v":""},{"$f":"IF(OR($A21=\"\",OOPEMonthsPop=0),\"\",IF(AZ$18<OOPEMonthsPop,#N/A,IF(AZ$18=OOPEMonthsPop,AM21,IF(AY21=\"\",\"\",IF(AZ$18=OOPEMonthsPop+1,AY21+(AY21*VLOOKUP(OOPEMonthsPop-$R21,ForecastMult,3,FALSE)/12),AY21+AY21-AX21)))))","v":""},{"$f":"IF(OR($A21=\"\",OOPEMonthsPop=0),\"\",IF(BA$18<OOPEMonthsPop,#N/A,IF(BA$18=OOPEMonthsPop,AN21,IF(AZ21=\"\",\"\",IF(BA$18=OOPEMonthsPop+1,AZ21+(AZ21*VLOOKUP(OOPEMonthsPop-$R21,ForecastMult,3,FALSE)/12),AZ21+AZ21-AY21)))))","v":""},{"$f":"IF(OR($A21=\"\",OOPEMonthsPop=0),\"\",IF(BB$18<OOPEMonthsPop,#N/A,IF(BB$18=OOPEMonthsPop,AO21,IF(BA21=\"\",\"\",IF(BB$18=OOPEMonthsPop+1,BA21+(BA21*VLOOKUP(OOPEMonthsPop-$R21,ForecastMult,3,FALSE)/12),BA21+BA21-AZ21)))))","v":""},{"$f":"IF(OR($A21=\"\",OOPEMonthsPop=0),\"\",IF(BC$18<OOPEMonthsPop,#N/A,IF(BC$18=OOPEMonthsPop,AP21,IF(BB21=\"\",\"\",IF(BC$18=OOPEMonthsPop+1,BB21+(BB21*VLOOKUP(OOPEMonthsPop-$R21,ForecastMult,3,FALSE)/12),BB21+BB21-BA21)))))","v":""},{"$f":"IF(OR($A21=\"\",OOPEMonthsPop=0),\"\",IF(BD$18<OOPEMonthsPop,#N/A,IF(BD$18=OOPEMonthsPop,AQ21,IF(BC21=\"\",\"\",IF(BD$18=OOPEMonthsPop+1,BC21+(BC21*VLOOKUP(OOPEMonthsPop-$R21,ForecastMult,3,FALSE)/12),BC21+BC21-BB21)))))","v":""},{"$f":"IF(OR($A21=\"\",OOPEMonthsPop=0),\"\",IF(BE$18<OOPEMonthsPop,#N/A,IF(BE$18=OOPEMonthsPop,AR21,IF(BD21=\"\",\"\",IF(BE$18=OOPEMonthsPop+1,BD21+(BD21*VLOOKUP(OOPEMonthsPop-$R21,ForecastMult,3,FALSE)/12),BD21+BD21-BC21)))))","v":""},{"$f":"IF(OR($A21=\"\",OOPEMonthsPop=0),\"\",IF(BF$18<OOPEMonthsPop,#N/A,IF(BF$18=OOPEMonthsPop,AS21,IF(BE21=\"\",\"\",IF(BF$18=OOPEMonthsPop+1,BE21+(BE21*VLOOKUP(OOPEMonthsPop-$R21,ForecastMult,3,FALSE)/12),BE21+BE21-BD21)))))","v":""},{"$f":"IF(A21=\"\",\"\",MAX(IF(ISERROR(AU21:BF21),0,AU21:BF21)))","v":0},{"$f":"IF(AND(C$18=1,$A21<>\"\"),IF(ISNA(VLOOKUP($A21,INDIRECT(C$20),TOT_STDR_PXS_col,FALSE)),\"\",VLOOKUP($A21,INDIRECT(C$20),TOT_STDR_PXS_col,FALSE)+VLOOKUP($A21,INDIRECT(C$20),TOT_ZDR_PXS_col,FALSE)),\"\")","v":""},{"$f":"IF(AND(D$18=1,$A21<>\"\"),IF(ISNA(VLOOKUP($A21,INDIRECT(D$20),TOT_STDR_PXS_col,FALSE)),\"\",VLOOKUP($A21,INDIRECT(D$20),TOT_STDR_PXS_col,FALSE)+VLOOKUP($A21,INDIRECT(D$20),TOT_ZDR_PXS_col,FALSE)),\"\")","v":""},{"$f":"IF(AND(E$18=1,$A21<>\"\"),IF(ISNA(VLOOKUP($A21,INDIRECT(E$20),TOT_STDR_PXS_col,FALSE)),\"\",VLOOKUP($A21,INDIRECT(E$20),TOT_STDR_PXS_col,FALSE)+VLOOKUP($A21,INDIRECT(E$20),TOT_ZDR_PXS_col,FALSE)),\"\")","v":""},{"$f":"IF(AND(F$18=1,$A21<>\"\"),IF(ISNA(VLOOKUP($A21,INDIRECT(F$20),TOT_STDR_PXS_col,FALSE)),\"\",VLOOKUP($A21,INDIRECT(F$20),TOT_STDR_PXS_col,FALSE)+VLOOKUP($A21,INDIRECT(F$20),TOT_ZDR_PXS_col,FALSE)),\"\")","v":""},{"$f":"IF(AND(G$18=1,$A21<>\"\"),IF(ISNA(VLOOKUP($A21,INDIRECT(G$20),TOT_STDR_PXS_col,FALSE)),\"\",VLOOKUP($A21,INDIRECT(G$20),TOT_STDR_PXS_col,FALSE)+VLOOKUP($A21,INDIRECT(G$20),TOT_ZDR_PXS_col,FALSE)),\"\")","v":""},{"$f":"IF(AND(H$18=1,$A21<>\"\"),IF(ISNA(VLOOKUP($A21,INDIRECT(H$20),TOT_STDR_PXS_col,FALSE)),\"\",VLOOKUP($A21,INDIRECT(H$20),TOT_STDR_PXS_col,FALSE)+VLOOKUP($A21,INDIRECT(H$20),TOT_ZDR_PXS_col,FALSE)),\"\")","v":""},{"$f":"IF(AND(I$18=1,$A21<>\"\"),IF(ISNA(VLOOKUP($A21,INDIRECT(I$20),TOT_STDR_PXS_col,FALSE)),\"\",VLOOKUP($A21,INDIRECT(I$20),TOT_STDR_PXS_col,FALSE)+VLOOKUP($A21,INDIRECT(I$20),TOT_ZDR_PXS_col,FALSE)),\"\")","v":""},{"$f":"IF(AND(J$18=1,$A21<>\"\"),IF(ISNA(VLOOKUP($A21,INDIRECT(J$20),TOT_STDR_PXS_col,FALSE)),\"\",VLOOKUP($A21,INDIRECT(J$20),TOT_STDR_PXS_col,FALSE)+VLOOKUP($A21,INDIRECT(J$20),TOT_ZDR_PXS_col,FALSE)),\"\")","v":""},{"$f":"IF(AND(K$18=1,$A21<>\"\"),IF(ISNA(VLOOKUP($A21,INDIRECT(K$20),TOT_STDR_PXS_col,FALSE)),\"\",VLOOKUP($A21,INDIRECT(K$20),TOT_STDR_PXS_col,FALSE)+VLOOKUP($A21,INDIRECT(K$20),TOT_ZDR_PXS_col,FALSE)),\"\")","v":""},{"$f":"IF(AND(L$18=1,$A21<>\"\"),IF(ISNA(VLOOKUP($A21,INDIRECT(L$20),TOT_STDR_PXS_col,FALSE)),\"\",VLOOKUP($A21,INDIRECT(L$20),TOT_STDR_PXS_col,FALSE)+VLOOKUP($A21,INDIRECT(L$20),TOT_ZDR_PXS_col,FALSE)),\"\")","v":""},{"$f":"IF(AND(M$18=1,$A21<>\"\"),IF(ISNA(VLOOKUP($A21,INDIRECT(M$20),TOT_STDR_PXS_col,FALSE)),\"\",VLOOKUP($A21,INDIRECT(M$20),TOT_STDR_PXS_col,FALSE)+VLOOKUP($A21,INDIRECT(M$20),TOT_ZDR_PXS_col,FALSE)),\"\")","v":""},{"$f":"IF(AND(N$18=1,$A21<>\"\"),IF(ISNA(VLOOKUP($A21,INDIRECT(N$20),TOT_STDR_PXS_col,FALSE)),\"\",VLOOKUP($A21,INDIRECT(N$20),TOT_STDR_PXS_col,FALSE)+VLOOKUP($A21,INDIRECT(N$20),TOT_ZDR_PXS_col,FALSE)),\"\")","v":""},{"$f":"IF(A21=\"\",\"\",SUM(BH21:BS21))","v":0},{"$f":"IF(A21=\"\",\"\",MIN(B21:M21))","v":0},{"$f":"IF(A21=\"\",\"\",MAX(B21:M21))","v":0},{"$f":"IF(A21=\"\",\"\",IF(BV21-BU21=0,\"\",BV21-BU21))","v":""},{"$f":"IF(A21=\"\",\"\",IF(BW21=\"\",\"No\",IF(BW21>$BW$11,\"Yes\",\"No\")))","v":"No"},{"$f":"IF(A21=\"\",\"\",(COUNTA(C21:N21)-COUNTBLANK(C21:N21)))","v":0},{"$f":"IF(A21=\"\",\"\",BY21-COUNTIF(C21:N21,\"=0\"))","v":0}]
[{"$f":"IF(ISBLANK('Control Sheet'!D2),\"\",'Control Sheet'!D2)","v":""},{"$f":"IF(ISBLANK('Control Sheet'!E2),\"\",'Control Sheet'!E2&\" (\"&'Control Sheet'!F2&\")\")","v":""},"","","","","","","","","","","","",{"$f":"IF(A22=\"\",\"\",SUM(C22:N22))","v":""},null,{"$f":"IF(A22=\"\",\"\",IF(BG22<=400,\"No\",\"Yes\"))","v":""},"",{"$f":"IF(C22=\"\",\"\",IF(C22<=C$10,1,IF(C22<=C$7,2,IF(C22<=C$8,3,IF(C22<=C$9,4,IF(C22<=C$11,5,60))))))","v":""},{"$f":"IF(D22=\"\",\"\",IF(D22<=D$10,1,IF(D22<=D$7,2,IF(D22<=D$8,3,IF(D22<=D$9,4,IF(D22<=D$11,5,60))))))","v":""},{"$f":"IF(E22=\"\",\"\",IF(E22<=E$10,1,IF(E22<=E$7,2,IF(E22<=E$8,3,IF(E22<=E$9,4,IF(E22<=E$11,5,60))))))","v":""},{"$f":"IF(F22=\"\",\"\",IF(F22<=F$10,1,IF(F22<=F$7,2,IF(F22<=F$8,3,IF(F22<=F$9,4,IF(F22<=F$11,5,60))))))","v":""},{"$f":"IF(G22=\"\",\"\",IF(G22<=G$10,1,IF(G22<=G$7,2,IF(G22<=G$8,3,IF(G22<=G$9,4,IF(G22<=G$11,5,60))))))","v":""},{"$f":"IF(H22=\"\",\"\",IF(H22<=H$10,1,IF(H22<=H$7,2,IF(H22<=H$8,3,IF(H22<=H$9,4,IF(H22<=H$11,5,60))))))","v":""},{"$f":"IF(I22=\"\",\"\",IF(I22<=I$10,1,IF(I22<=I$7,2,IF(I22<=I$8,3,IF(I22<=I$9,4,IF(I22<=I$11,5,60))))))","v":""},{"$f":"IF(J22=\"\",\"\",IF(J22<=J$10,1,IF(J22<=J$7,2,IF(J22<=J$8,3,IF(J22<=J$9,4,IF(J22<=J$11,5,60))))))","v":""},{"$f":"IF(K22=\"\",\"\",IF(K22<=K$10,1,IF(K22<=K$7,2,IF(K22<=K$8,3,IF(K22<=K$9,4,IF(K22<=K$11,5,60))))))","v":""},{"$f":"IF(L22=\"\",\"\",IF(L22<=L$10,1,IF(L22<=L$7,2,IF(L22<=L$8,3,IF(L22<=L$9,4,IF(L22<=L$11,5,60))))))","v":""},{"$f":"IF(M22=\"\",\"\",IF(M22<=M$10,1,IF(M22<=M$7,2,IF(M22<=M$8,3,IF(M22<=M$9,4,IF(M22<=M$11,5,60))))))","v":""},{"$f":"IF(N22=\"\",\"\",IF(N22<=N$10,1,IF(N22<=N$7,2,IF(N22<=N$8,3,IF(N22<=N$9,4,IF(N22<=N$11,5,60))))))","v":""},{"$f":"IF(A22=\"\",\"\",SUM(S22:AD22))","v":""},{"$f":"IF(OR(A22=\"\",AE22=0),\"\",AE22/O$18)","v":""},{"$f":"IF(AF22=\"\",\"\",IF(AF22<=1,\"Lower Outlier\",IF(AF22<=2,\"Below Average\",IF(AF22<=3,\"Lower Quartile\",IF(AF22<=4,\"Upper Quartile\",IF(AF22<=5, \"Above Average\", \"Upper Outlier\"))))))","v":""},{"$f":"IF(C$18=1,C22,\"\")","v":""},{"$f":"IF(D$18=1,IF(D22=\"\",IF(AH22=\"\",\"\",AH22),IF(AND(D22>=0,AH22=\"\"),D22,IF(ISERROR(D22+AH22),#N/A,D22+AH22))),\"\")","v":""},{"$f":"IF(E$18=1,IF(E22=\"\",IF(AI22=\"\",\"\",AI22),IF(AND(E22>=0,AI22=\"\"),E22,IF(ISERROR(E22+AI22),#N/A,E22+AI22))),\"\")","v":""},{"$f":"IF(F$18=1,IF(F22=\"\",IF(AJ22=\"\",\"\",AJ22),IF(AND(F22>=0,AJ22=\"\"),F22,IF(ISERROR(F22+AJ22),#N/A,F22+AJ22))),\"\")","v":""},{"$f":"IF(G$18=1,IF(G22=\"\",IF(AK22=\"\",\"\",AK22),IF(AND(G22>=0,AK22=\"\"),G22,IF(ISERROR(G22+AK22),#N/A,G22+AK22))),\"\")","v":""},{"$f":"IF(H$18=1,IF(H22=\"\",IF(AL22=\"\",\"\",AL22),IF(AND(H22>=0,AL22=\"\"),H22,IF(ISERROR(H22+AL22),#N/A,H22+AL22))),\"\")","v":""},{"$f":"IF(I$18=1,IF(I22=\"\",IF(AM22=\"\",\"\",AM22),IF(AND(I22>=0,AM22=\"\"),I22,IF(ISERROR(I22+AM22),#N/A,I22+AM22))),\"\")","v":""},{"$f":"IF(J$18=1,IF(J22=\"\",IF(AN22=\"\",\"\",AN22),IF(AND(J22>=0,AN22=\"\"),J22,IF(ISERROR(J22+AN22),#N/A,J22+AN22))),\"\")","v":""},{"$f":"IF(K$18=1,IF(K22=\"\",IF(AO22=\"\",\"\",AO22),IF(AND(K22>=0,AO22=\"\"),K22,IF(ISERROR(K22+AO22),#N/A,K22+AO22))),\"\")","v":""},{"$f":"IF(L$18=1,IF(L22=\"\",IF(AP22=\"\",\"\",AP22),IF(AND(L22>=0,AP22=\"\"),L22,IF(ISERROR(L22+AP22),#N/A,L22+AP22))),\"\")","v":""},{"$f":"IF(M$18=1,IF(M22=\"\",IF(AQ22=\"\",\"\",AQ22),IF(AND(M22>=0,AQ22=\"\"),M22,IF(ISERROR(M22+AQ22),#N/A,M22+AQ22))),\"\")","v":""},{"$f":"IF(N$18=1,IF(N22=\"\",IF(AR22=\"\",\"\",AR22),IF(AND(N22>=0,AR22=\"\"),N22,IF(ISERROR(N22+AR22),#N/A,N22+AR22))),\"\")","v":""},{"$f":"IF(A22=\"\",\"\",MAX(AH22:AS22))","v":""},"","","","","","","","","","","","",{"$f":"IF(A22=\"\",\"\",MAX(IF(ISERROR(AU22:BF22),0,AU22:BF22)))","v":""},"","","","","","","","","","","","",{"$f":"IF(A22=\"\",\"\",SUM(BH22:BS22))","v":""},{"$f":"IF(A22=\"\",\"\",MIN(B22:M22))","v":""},{"$f":"IF(A22=\"\",\"\",MAX(B22:M22))","v":""},{"$f":"IF(A22=\"\",\"\",IF(BV22-BU22=0,\"\",BV22-BU22))","v":""},{"$f":"IF(A22=\"\",\"\",IF(BW22=\"\",\"No\",IF(BW22>$BW$11,\"Yes\",\"No\")))","v":""},{"$f":"IF(A22=\"\",\"\",(COUNTA(C22:N22)-COUNTBLANK(C22:N22)))","v":""},{"$f":"IF(A22=\"\",\"\",BY22-COUNTIF(C22:N22,\"=0\"))","v":""}]
[{"$f":"IF(ISBLANK('Control Sheet'!D3),\"\",'Control Sheet'!D3)","v":""},{"$f":"IF(ISBLANK('Control Sheet'!E3),\"\",'Control Sheet'!E3&\" (\"&'Control Sheet'!F3&\")\")","v":""},"","","","","","","","","","","","","",null,"","","","","","","","","","","","","","","","","","","","","","","","","","","","","","","","","","","","","","","","","","",{"$f":"IF(A23=\"\",\"\",MAX(IF(ISERROR(AU23:BF23),0,AU23:BF23)))","v":""},"","","","","","","","","","","","","","","","","","",""]
[{"$f":"IF(ISBLANK('Control Sheet'!D4),\"\",'Control Sheet'!D4)","v":""},{"$f":"IF(ISBLANK('Control Sheet'!E4),\"\",'Control Sheet'!E4&\" (\"&'Control Sheet'!F4&\")\")","v":""},"","","","","","","","","","","","","",null,"","","","","","","","","","","","","","","","","","","","","","","","","","","","","","","","","","","","","","","","","","",{"$f":"IF(A24=\"\",\"\",MAX(IF(ISERROR(AU24:BF24),0,AU24:BF24)))","v":""},"","","","","","","","","","","","","","","","","","",""]
[{"$f":"IF(ISBLANK('Control Sheet'!D5),\"\",'Control Sheet'!D5)","v":""},{"$f":"IF(ISBLANK('Control Sheet'!E5),\"\",'Control Sheet'!E5&\" (\"&'Control Sheet'!F5&\")\")","v":""},"","","","","","","","","","","","","",null,"","","","","","","","","","","","","","","","","","","","","","","","","","","","","","","","","","","","","","","","","","",{"$f":"IF(A25=\"\",\"\",MAX(IF(ISERROR(AU25:BF25),0,AU25:BF25)))","v":""},"","","","","","","","","","","","","","","","","","",""]
[{"$f":"IF(ISBLANK('Control Sheet'!D6),\"\",'Control Sheet'!D6)","v":""},{"$f":"IF(ISBLANK('Control Sheet'!E6),\"\",'Control Sheet'!E6&\" (\"&'Control Sheet'!F6&\")\")","v":""},"","","","","","","","","","","","","",null,"","","","","","","","","","","","","","","","","","","","","","","","","","","","","","","","","","","","","","","","","","",{"$f":"IF(A26=\"\",\"\",MAX(IF(ISERROR(AU26:BF26),0,AU26:BF26)))","v":""},"","","","","","","","","","","","","","","","","","",""]
[{"$f":"IF(ISBLANK('Control Sheet'!D7),\"\",'Control Sheet'!D7)","v":""},{"$f":"IF(ISBLANK('Control Sheet'!E7),\"\",'Control Sheet'!E7&\" (\"&'Control Sheet'!F7&\")\")","v":""},"","","","","","","","","","","","","",null,"","","","","","","","","","","","","","","","","","","","","","","","","","","","","","","","","","","","","","","","","","",{"$f":"IF(A27=\"\",\"\",MAX(IF(ISERROR(AU27:BF27),0,AU27:BF27)))","v":""},"","","","","","","","","","","","","","","","","","",""]
[{"$f":"IF(ISBLANK('Control Sheet'!D8),\"\",'Control Sheet'!D8)","v":""},{"$f":"IF(ISBLANK('Control Sheet'!E8),\"\",'Control Sheet'!E8&\" (\"&'Control Sheet'!F8&\")\")","v":""},"","","","","","","","","","","","","",null,"","","","","","","","","","","","","","","","","","","","","","","","","","","","","","","","","","","","","","","","","","",{"$f":"IF(A28=\"\",\"\",MAX(IF(ISERROR(AU28:BF28),0,AU28:BF28)))","v":""},"","","","","","","","","","","","","","","","","","",""]
[{"$f":"IF(ISBLANK('Control Sheet'!D9),\"\",'Control Sheet'!D9)","v":""},{"$f":"IF(ISBLANK('Control Sheet'!E9),\"\",'Control Sheet'!E9&\" (\"&'Control Sheet'!F9&\")\")","v":""},"","","","","","","","","","","","","",null,"","","","","","","","","","","","","","","","","","","","","","","","","","","","","","","","","","","","","","","","","","",{"$f":"IF(A29=\"\",\"\",MAX(IF(ISERROR(AU29:BF29),0,AU29:BF29)))","v":""},"","","","","","","","","","","","","","","","","","",""]
[{"$f":"IF(ISBLANK('Control Sheet'!D10),\"\",'Control Sheet'!D10)","v":""},{"$f":"IF(ISBLANK('Control Sheet'!E10),\"\",'Control Sheet'!E10&\" (\"&'Control Sheet'!F10&\")\")","v":""},"","","","","","","","","","","","","",null,"","","","","","","","","","","","","","","","","","","","","","","","","","","","","","","","","","","","","","","","","","",{"$f":"IF(A30=\"\",\"\",MAX(IF(ISERROR(AU30:BF30),0,AU30:BF30)))","v":""},"","","","","","","","","","","","","","","","","","",""]
[{"$f":"IF(ISBLANK('Control Sheet'!D11),\"\",'Control Sheet'!D11)","v":""},{"$f":"IF(ISBLANK('Control Sheet'!E11),\"\",'Control Sheet'!E11&\" (\"&'Control Sheet'!F11&\")\")","v":""},{"$f":"IF(C$18=1,IF(ISNA(VLOOKUP($A31,INDIRECT(C$20),OOPE_col,FALSE)),\"\",VLOOKUP($A31,INDIRECT(C$20),OOPE_col,FALSE)),\"\")","v":""},"","","","","","","","","","","","",null,"","","","","","","","","","","","","","","","","","","","","","","","","","","","","","","","","","","","","","","","","","",{"$f":"IF(A31=\"\",\"\",MAX(IF(ISERROR(AU31:BF31),0,AU31:BF31)))","v":""},"","","","","","","","","","","","","","","","","","",""]
[{"$f":"IF(ISBLANK('Control Sheet'!D12),\"\",'Control Sheet'!D12)","v":""},{"$f":"IF(ISBLANK('Control Sheet'!E12),\"\",'Control Sheet'!E12&\" (\"&'Control Sheet'!F12&\")\")","v":""},"","","","","","","","","","","","","",null,"","","","","","","","","","","","","","","","","","","","","","","","","","","","","","","","","","","","","","","","","","",{"$f":"IF(A32=\"\",\"\",MAX(IF(ISERROR(AU32:BF32),0,AU32:BF32)))","v":""},"","","","","","","","","","","","","","","","","","",""]
[{"$f":"IF(ISBLANK('Control Sheet'!D13),\"\",'Control Sheet'!D13)","v":""},{"$f":"IF(ISBLANK('Control Sheet'!E13),\"\",'Control Sheet'!E13&\" (\"&'Control Sheet'!F13&\")\")","v":""},"","","","","","","","","","","","","",null,"","","","","","","","","","","","","","","","","","","","","","","","","","","","","","","","","","","","","","","","","","",{"$f":"IF(A33=\"\",\"\",MAX(IF(ISERROR(AU33:BF33),0,AU33:BF33)))","v":""},"","","","","","","","","","","","","","","","","","",""]
[{"$f":"IF(ISBLANK('Control Sheet'!D14),\"\",'Control Sheet'!D14)","v":""},{"$f":"IF(ISBLANK('Control Sheet'!E14),\"\",'Control Sheet'!E14&\" (\"&'Control Sheet'!F14&\")\")","v":""},"","","","","","","","","","","","","",null,"","","","","","","","","","","","","","","","","","","","","","","","","","","","","","","","","","","","","","","","","","",{"$f":"IF(A34=\"\",\"\",MAX(IF(ISERROR(AU34:BF34),0,AU34:BF34)))","v":""},"","","","","","","","","","","","","","","","","","",""]
[{"$f":"IF(ISBLANK('Control Sheet'!D15),\"\",'Control Sheet'!D15)","v":""},{"$f":"IF(ISBLANK('Control Sheet'!E15),\"\",'Control Sheet'!E15&\" (\"&'Control Sheet'!F15&\")\")","v":""},"","","","","","","","","","","","","",null,"","","","","","","","","","","","","","","","","","","","","","","","","","","","","","","","","","","","","","","","","","",{"$f":"IF(A35=\"\",\"\",MAX(IF(ISERROR(AU35:BF35),0,AU35:BF35)))","v":""},"","","","","","","","","","","","","","","","","","",""]
[{"$f":"IF(ISBLANK('Control Sheet'!D16),\"\",'Control Sheet'!D16)","v":""},{"$f":"IF(ISBLANK('Control Sheet'!E16),\"\",'Control Sheet'!E16&\" (\"&'Control Sheet'!F16&\")\")","v":""},"","","","","","","","","","","","","",null,"","","","","","","","","","","","","","","","","","","","","","","","","","","","","","","","","","","","","","","","","","",{"$f":"IF(A36=\"\",\"\",MAX(IF(ISERROR(AU36:BF36),0,AU36:BF36)))","v":""},"","","","","","","","","","","","","","","","","","",""]
[{"$f":"IF(ISBLANK('Control Sheet'!D17),\"\",'Control Sheet'!D17)","v":""},{"$f":"IF(ISBLANK('Control Sheet'!E17),\"\",'Control Sheet'!E17&\" (\"&'Control Sheet'!F17&\")\")","v":""},"","","","","","","","","","","","","",null,"","","","","","","","","","","","","","","","","","","","","","","","","","","","","","","","","","","","","","","","","","",{"$f":"IF(A37=\"\",\"\",MAX(IF(ISERROR(AU37:BF37),0,AU37:BF37)))","v":""},"","","","","","","","","","","","","","","","","","",""]
[{"$f":"IF(ISBLANK('Control Sheet'!D18),\"\",'Control Sheet'!D18)","v":""},{"$f":"IF(ISBLANK('Control Sheet'!E18),\"\",'Control Sheet'!E18&\" (\"&'Control Sheet'!F18&\")\")","v":""},"","","","","","","","","","","","","",null,"","","","","","","","","","","","","","","","","","","","","","","","","","","","","","","","","","","","","","","","","","",{"$f":"IF(A38=\"\",\"\",MAX(IF(ISERROR(AU38:BF38),0,AU38:BF38)))","v":""},"","","","","","","","","","","","","","","","","","",""]
[{"$f":"IF(ISBLANK('Control Sheet'!D19),\"\",'Control Sheet'!D19)","v":""},{"$f":"IF(ISBLANK('Control Sheet'!E19),\"\",'Control Sheet'!E19&\" (\"&'Control Sheet'!F19&\")\")","v":""},"","","","","","","","","","","","","",null,"","","","","","","","","","","","","","","","","","","","","","","","","","","","","","","","","","","","","","","","","","",{"$f":"IF(A39=\"\",\"\",MAX(IF(ISERROR(AU39:BF39),0,AU39:BF39)))","v":""},"","","","","","","","","","","","","","","","","","",""]
[{"$f":"IF(ISBLANK('Control Sheet'!D20),\"\",'Control Sheet'!D20)","v":""},{"$f":"IF(ISBLANK('Control Sheet'!E20),\"\",'Control Sheet'!E20&\" (\"&'Control Sheet'!F20&\")\")","v":""},"","","","","","","","","","","","","",null,"","","","","","","","","","","","","","","","","","","","","","","","","","","","","","","","","","","","","","","","","","",{"$f":"IF(A40=\"\",\"\",MAX(IF(ISERROR(AU40:BF40),0,AU40:BF40)))","v":""},"","","","","","","","","","","","","","","","","","",""]
[{"$f":"IF(ISBLANK('Control Sheet'!D21),\"\",'Control Sheet'!D21)","v":""},{"$f":"IF(ISBLANK('Control Sheet'!E21),\"\",'Control Sheet'!E21&\" (\"&'Control Sheet'!F21&\")\")","v":""},{"$f":"IF(C$18=1,IF(ISNA(VLOOKUP($A41,INDIRECT(C$20),OOPE_col,FALSE)),\"\",VLOOKUP($A41,INDIRECT(C$20),OOPE_col,FALSE)),\"\")","v":""},"","","","","","","","","","","","",null,"","","","","","","","","","","","","","","","","","","","","","","","","","","","","","","","","","","","","","","","","","",{"$f":"IF(A41=\"\",\"\",MAX(IF(ISERROR(AU41:BF41),0,AU41:BF41)))","v":""},"","","","","","","","","","","","","","","","","","",""]
[{"$f":"IF(ISBLANK('Control Sheet'!D22),\"\",'Control Sheet'!D22)","v":""},{"$f":"IF(ISBLANK('Control Sheet'!E22),\"\",'Control Sheet'!E22&\" (\"&'Control Sheet'!F22&\")\")","v":""},"","","","","","","","","","","","","",null,"","","","","","","","","","","","","","","","","","","","","","","","","","","","","","","","","","","","","","","","","","",{"$f":"IF(A42=\"\",\"\",MAX(IF(ISERROR(AU42:BF42),0,AU42:BF42)))","v":""},"","","","","","","","","","","","","","","","","","",""]
[{"$f":"IF(ISBLANK('Control Sheet'!D23),\"\",'Control Sheet'!D23)","v":""},{"$f":"IF(ISBLANK('Control Sheet'!E23),\"\",'Control Sheet'!E23&\" (\"&'Control Sheet'!F23&\")\")","v":""},"","","","","","","","","","","","","",null,"","","","","","","","","","","","","","","","","","","","","","","","","","","","","","","","","","","","","","","","","","",{"$f":"IF(A43=\"\",\"\",MAX(IF(ISERROR(AU43:BF43),0,AU43:BF43)))","v":""},"","","","","","","","","","","","","","","","","","",""]
[{"$f":"IF(ISBLANK('Control Sheet'!D24),\"\",'Control Sheet'!D24)","v":""},{"$f":"IF(ISBLANK('Control Sheet'!E24),\"\",'Control Sheet'!E24&\" (\"&'Control Sheet'!F24&\")\")","v":""},"","","","","","","","","","","","","",null,"","","","","","","","","","","","","","","","","","","","","","","","","","","","","","","","","","","","","","","","","","",{"$f":"IF(A44=\"\",\"\",MAX(IF(ISERROR(AU44:BF44),0,AU44:BF44)))","v":""},"","","","","","","","","","","","","","","","","","",""]
[{"$f":"IF(ISBLANK('Control Sheet'!D25),\"\",'Control Sheet'!D25)","v":""},{"$f":"IF(ISBLANK('Control Sheet'!E25),\"\",'Control Sheet'!E25&\" (\"&'Control Sheet'!F25&\")\")","v":""},"","","","","","","","","","","","","",null,"","","","","","","","","","","","","","","","","","","","","","","","","","","","","","","","","","","","","","","","","","",{"$f":"IF(A45=\"\",\"\",MAX(IF(ISERROR(AU45:BF45),0,AU45:BF45)))","v":""},"","","","","","","","","","","","","","","","","","",""]
[{"$f":"IF(ISBLANK('Control Sheet'!D26),\"\",'Control Sheet'!D26)","v":""},{"$f":"IF(ISBLANK('Control Sheet'!E26),\"\",'Control Sheet'!E26&\" (\"&'Control Sheet'!F26&\")\")","v":""},"","","","","","","","","","","","","",null,"","","","","","","","","","","","","","","","","","","","","","","","","","","","","","","","","","","","","","","","","","",{"$f":"IF(A46=\"\",\"\",MAX(IF(ISERROR(AU46:BF46),0,AU46:BF46)))","v":""},"","","","","","","","","","","","","","","","","","",""]
[{"$f":"IF(ISBLANK('Control Sheet'!D27),\"\",'Control Sheet'!D27)","v":""},{"$f":"IF(ISBLANK('Control Sheet'!E27),\"\",'Control Sheet'!E27&\" (\"&'Control Sheet'!F27&\")\")","v":""},"","","","","","","","","","","","","",null,"","","","","","","","","","","","","","","","","","","","","","","","","","","","","","","","","","","","","","","","","","",{"$f":"IF(A47=\"\",\"\",MAX(IF(ISERROR(AU47:BF47),0,AU47:BF47)))","v":""},"","","","","","","","","","","","","","","","","","",""]
[{"$f":"IF(ISBLANK('Control Sheet'!D28),\"\",'Control Sheet'!D28)","v":""},{"$f":"IF(ISBLANK('Control Sheet'!E28),\"\",'Control Sheet'!E28&\" (\"&'Control Sheet'!F28&\")\")","v":""},"","","","","","","","","","","","","",null,"","","","","","","","","","","","","","","","","","","","","","","","","","","","","","","","","","","","","","","","","","",{"$f":"IF(A48=\"\",\"\",MAX(IF(ISERROR(AU48:BF48),0,AU48:BF48)))","v":""},"","","","","","","","","","","","","","","","","","",""]
[{"$f":"IF(ISBLANK('Control Sheet'!D29),\"\",'Control Sheet'!D29)","v":""},{"$f":"IF(ISBLANK('Control Sheet'!E29),\"\",'Control Sheet'!E29&\" (\"&'Control Sheet'!F29&\")\")","v":""},"","","","","","","","","","","","","",null,"","","","","","","","","","","","","","","","","","","","","","","","","","","","","","","","","","","","","","","","","","",{"$f":"IF(A49=\"\",\"\",MAX(IF(ISERROR(AU49:BF49),0,AU49:BF49)))","v":""},"","","","","","","","","","","","","","","","","","",""]
[{"$f":"IF(ISBLANK('Control Sheet'!D30),\"\",'Control Sheet'!D30)","v":""},{"$f":"IF(ISBLANK('Control Sheet'!E30),\"\",'Control Sheet'!E30&\" (\"&'Control Sheet'!F30&\")\")","v":""},"","","","","","","","","","","","","",null,"","","","","","","","","","","","","","","","","","","","","","","","","","","","","","","","","","","","","","","","","","",{"$f":"IF(A50=\"\",\"\",MAX(IF(ISERROR(AU50:BF50),0,AU50:BF50)))","v":""},"","","","","","","","","","","","","","","","","","",""]
[{"$f":"IF(ISBLANK('Control Sheet'!D31),\"\",'Control Sheet'!D31)","v":""},{"$f":"IF(ISBLANK('Control Sheet'!E31),\"\",'Control Sheet'!E31&\" (\"&'Control Sheet'!F31&\")\")","v":""},{"$f":"IF(C$18=1,IF(ISNA(VLOOKUP($A51,INDIRECT(C$20),OOPE_col,FALSE)),\"\",VLOOKUP($A51,INDIRECT(C$20),OOPE_col,FALSE)),\"\")","v":""},"","","","","","","","","","","","",null,"","","","","","","","","","","","","","","","","","","","","","","","","","","","","","","","","","","","","","","","","","",{"$f":"IF(A51=\"\",\"\",MAX(IF(ISERROR(AU51:BF51),0,AU51:BF51)))","v":""},"","","","","","","","","","","","","","","","","","",""]
[{"$f":"IF(ISBLANK('Control Sheet'!D32),\"\",'Control Sheet'!D32)","v":""},{"$f":"IF(ISBLANK('Control Sheet'!E32),\"\",'Control Sheet'!E32&\" (\"&'Control Sheet'!F32&\")\")","v":""},"","","","","","","","","","","","","",null,"","","","","","","","","","","","","","","","","","","","","","","","","","","","","","","","","","","","","","","","","","",{"$f":"IF(A52=\"\",\"\",MAX(IF(ISERROR(AU52:BF52),0,AU52:BF52)))","v":""},"","","","","","","","","","","","","","","","","","",""]
[{"$f":"IF(ISBLANK('Control Sheet'!D33),\"\",'Control Sheet'!D33)","v":""},{"$f":"IF(ISBLANK('Control Sheet'!E33),\"\",'Control Sheet'!E33&\" (\"&'Control Sheet'!F33&\")\")","v":""},"","","","","","","","","","","","","",null,"","","","","","","","","","","","","","","","","","","","","","","","","","","","","","","","","","","","","","","","","","",{"$f":"IF(A53=\"\",\"\",MAX(IF(ISERROR(AU53:BF53),0,AU53:BF53)))","v":""},"","","","","","","","","","","","","","","","","","",""]
[{"$f":"IF(ISBLANK('Control Sheet'!D34),\"\",'Control Sheet'!D34)","v":""},{"$f":"IF(ISBLANK('Control Sheet'!E34),\"\",'Control Sheet'!E34&\" (\"&'Control Sheet'!F34&\")\")","v":""},"","","","","","","","","","","","","",null,"","","","","","","","","","","","","","","","","","","","","","","","","","","","","","","","","","","","","","","","","","",{"$f":"IF(A54=\"\",\"\",MAX(IF(ISERROR(AU54:BF54),0,AU54:BF54)))","v":""},"","","","","","","","","","","","","","","","","","",""]
[{"$f":"IF(ISBLANK('Control Sheet'!D35),\"\",'Control Sheet'!D35)","v":""},{"$f":"IF(ISBLANK('Control Sheet'!E35),\"\",'Control Sheet'!E35&\" (\"&'Control Sheet'!F35&\")\")","v":""},"","","","","","","","","","","","","",null,"","","","","","","","","","","","","","","","","","","","","","","","","","","","","","","","","","","","","","","","","","",{"$f":"IF(A55=\"\",\"\",MAX(IF(ISERROR(AU55:BF55),0,AU55:BF55)))","v":""},"","","","","","","","","","","","","","","","","","",""]
[{"$f":"IF(ISBLANK('Control Sheet'!D36),\"\",'Control Sheet'!D36)","v":""},{"$f":"IF(ISBLANK('Control Sheet'!E36),\"\",'Control Sheet'!E36&\" (\"&'Control Sheet'!F36&\")\")","v":""},"","","","","","","","","","","","","",null,"","","","","","","","","","","","","","","","","","","","","","","","","","","","","","","","","","","","","","","","","","",{"$f":"IF(A56=\"\",\"\",MAX(IF(ISERROR(AU56:BF56),0,AU56:BF56)))","v":""},"","","","","","","","","","","","","","","","","","",""]
[{"$f":"IF(ISBLANK('Control Sheet'!D37),\"\",'Control Sheet'!D37)","v":""},{"$f":"IF(ISBLANK('Control Sheet'!E37),\"\",'Control Sheet'!E37&\" (\"&'Control Sheet'!F37&\")\")","v":""},"","","","","","","","","","","","","",null,"","","","","","","","","","","","","","","","","","","","","","","","","","","","","","","","","","","","","","","","","","",{"$f":"IF(A57=\"\",\"\",MAX(IF(ISERROR(AU57:BF57),0,AU57:BF57)))","v":""},"","","","","","","","","","","","","","","","","","",""]
[{"$f":"IF(ISBLANK('Control Sheet'!D38),\"\",'Control Sheet'!D38)","v":""},{"$f":"IF(ISBLANK('Control Sheet'!E38),\"\",'Control Sheet'!E38&\" (\"&'Control Sheet'!F38&\")\")","v":""},"","","","","","","","","","","","","",null,"","","","","","","","","","","","","","","","","","","","","","","","","","","","","","","","","","","","","","","","","","",{"$f":"IF(A58=\"\",\"\",MAX(IF(ISERROR(AU58:BF58),0,AU58:BF58)))","v":""},"","","","","","","","","","","","","","","","","","",""]
[{"$f":"IF(ISBLANK('Control Sheet'!D39),\"\",'Control Sheet'!D39)","v":""},{"$f":"IF(ISBLANK('Control Sheet'!E39),\"\",'Control Sheet'!E39&\" (\"&'Control Sheet'!F39&\")\")","v":""},"","","","","","","","","","","","","",null,"","","","","","","","","","","","","","","","","","","","","","","","","","","","","","","","","","","","","","","","","","",{"$f":"IF(A59=\"\",\"\",MAX(IF(ISERROR(AU59:BF59),0,AU59:BF59)))","v":""},"","","","","","","","","","","","","","","","","","",""]
[{"$f":"IF(ISBLANK('Control Sheet'!D40),\"\",'Control Sheet'!D40)","v":""},{"$f":"IF(ISBLANK('Control Sheet'!E40),\"\",'Control Sheet'!E40&\" (\"&'Control Sheet'!F40&\")\")","v":""},"","","","","","","","","","","","","",null,"","","","","","","","","","","","","","","","","","","","","","","","","","","","","","","","","","","","","","","","","","",{"$f":"IF(A60=\"\",\"\",MAX(IF(ISERROR(AU60:BF60),0,AU60:BF60)))","v":""},"","","","","","","","","","","","","","","","","","",""]
[{"$f":"IF(ISBLANK('Control Sheet'!D41),\"\",'Control Sheet'!D41)","v":""},{"$f":"IF(ISBLANK('Control Sheet'!E41),\"\",'Control Sheet'!E41&\" (\"&'Control Sheet'!F41&\")\")","v":""},{"$f":"IF(C$18=1,IF(ISNA(VLOOKUP($A61,INDIRECT(C$20),OOPE_col,FALSE)),\"\",VLOOKUP($A61,INDIRECT(C$20),OOPE_col,FALSE)),\"\")","v":""},"","","","","","","","","","","","",null,"","","","","","","","","","","","","","","","","","","","","","","","","","","","","","","","","","","","","","","","","","",{"$f":"IF(A61=\"\",\"\",MAX(IF(ISERROR(AU61:BF61),0,AU61:BF61)))","v":""},"","","","","","","","","","","","","","","","","","",""]
[{"$f":"IF(ISBLANK('Control Sheet'!D42),\"\",'Control Sheet'!D42)","v":""},{"$f":"IF(ISBLANK('Control Sheet'!E42),\"\",'Control Sheet'!E42&\" (\"&'Control Sheet'!F42&\")\")","v":""},"","","","","","","","","","","","","",null,"","","","","","","","","","","","","","","","","","","","","","","","","","","","","","","","","","","","","","","","","","",{"$f":"IF(A62=\"\",\"\",MAX(IF(ISERROR(AU62:BF62),0,AU62:BF62)))","v":""},"","","","","","","","","","","","","","","","","","",""]
[{"$f":"IF(ISBLANK('Control Sheet'!D43),\"\",'Control Sheet'!D43)","v":""},{"$f":"IF(ISBLANK('Control Sheet'!E43),\"\",'Control Sheet'!E43&\" (\"&'Control Sheet'!F43&\")\")","v":""},"","","","","","","","","","","","","",null,"","","","","","","","","","","","","","","","","","","","","","","","","","","","","","","","","","","","","","","","","","",{"$f":"IF(A63=\"\",\"\",MAX(IF(ISERROR(AU63:BF63),0,AU63:BF63)))","v":""},"","","","","","","","","","","","","","","","","","",""]
[{"$f":"IF(ISBLANK('Control Sheet'!D44),\"\",'Control Sheet'!D44)","v":""},{"$f":"IF(ISBLANK('Control Sheet'!E44),\"\",'Control Sheet'!E44&\" (\"&'Control Sheet'!F44&\")\")","v":""},"","","","","","","","","","","","","",null,"","","","","","","","","","","","","","","","","","","","","","","","","","","","","","","","","","","","","","","","","","",{"$f":"IF(A64=\"\",\"\",MAX(IF(ISERROR(AU64:BF64),0,AU64:BF64)))","v":""},"","","","","","","","","","","","","","","","","","",""]
[{"$f":"IF(ISBLANK('Control Sheet'!D45),\"\",'Control Sheet'!D45)","v":""},{"$f":"IF(ISBLANK('Control Sheet'!E45),\"\",'Control Sheet'!E45&\" (\"&'Control Sheet'!F45&\")\")","v":""},"","","","","","","","","","","","","",null,"","","","","","","","","","","","","","","","","","","","","","","","","","","","","","","","","","","","","","","","","","",{"$f":"IF(A65=\"\",\"\",MAX(IF(ISERROR(AU65:BF65),0,AU65:BF65)))","v":""},"","","","","","","","","","","","","","","","","","",""]
[{"$f":"IF(ISBLANK('Control Sheet'!D46),\"\",'Control Sheet'!D46)","v":""},{"$f":"IF(ISBLANK('Control Sheet'!E46),\"\",'Control Sheet'!E46&\" (\"&'Control Sheet'!F46&\")\")","v":""},"","","","","","","","","","","","","",null,"","","","","","","","","","","","","","","","","","","","","","","","","","","","","","","","","","","","","","","","","","",{"$f":"IF(A66=\"\",\"\",MAX(IF(ISERROR(AU66:BF66),0,AU66:BF66)))","v":""},"","","","","","","","","","","","","","","","","","",""]
[{"$f":"IF(ISBLANK('Control Sheet'!D47),\"\",'Control Sheet'!D47)","v":""},{"$f":"IF(ISBLANK('Control Sheet'!E47),\"\",'Control Sheet'!E47&\" (\"&'Control Sheet'!F47&\")\")","v":""},"","","","","","","","","","","","","",null,"","","","","","","","","","","","","","","","","","","","","","","","","","","","","","","","","","","","","","","","","","",{"$f":"IF(A67=\"\",\"\",MAX(IF(ISERROR(AU67:BF67),0,AU67:BF67)))","v":""},"","","","","","","","","","","","","","","","","","",""]
[{"$f":"IF(ISBLANK('Control Sheet'!D48),\"\",'Control Sheet'!D48)","v":""},{"$f":"IF(ISBLANK('Control Sheet'!E48),\"\",'Control Sheet'!E48&\" (\"&'Control Sheet'!F48&\")\")","v":""},"","","","","","","","","","","","","",null,"","","","","","","","","","","","","","","","","","","","","","","","","","","","","","","","","","","","","","","","","","",{"$f":"IF(A68=\"\",\"\",MAX(IF(ISERROR(AU68:BF68),0,AU68:BF68)))","v":""},"","","","","","","","","","","","","","","","","","",""]
[{"$f":"IF(ISBLANK('Control Sheet'!D49),\"\",'Control Sheet'!D49)","v":""},{"$f":"IF(ISBLANK('Control Sheet'!E49),\"\",'Control Sheet'!E49&\" (\"&'Control Sheet'!F49&\")\")","v":""},"","","","","","","","","","","","","",null,"","","","","","","","","","","","","","","","","","","","","","","","","","","","","","","","","","","","","","","","","","",{"$f":"IF(A69=\"\",\"\",MAX(IF(ISERROR(AU69:BF69),0,AU69:BF69)))","v":""},"","","","","","","","","","","","","","","","","","",""]
[{"$f":"IF(ISBLANK('Control Sheet'!D50),\"\",'Control Sheet'!D50)","v":""},{"$f":"IF(ISBLANK('Control Sheet'!E50),\"\",'Control Sheet'!E50&\" (\"&'Control Sheet'!F50&\")\")","v":""},"","","","","","","","","","","","","",null,"","","","","","","","","","","","","","","","","","","","","","","","","","","","","","","","","","","","","","","","","","",{"$f":"IF(A70=\"\",\"\",MAX(IF(ISERROR(AU70:BF70),0,AU70:BF70)))","v":""},"","","","","","","","","","","","","","","","","","",""]
[{"$f":"IF(ISBLANK('Control Sheet'!D51),\"\",'Control Sheet'!D51)","v":""},{"$f":"IF(ISBLANK('Control Sheet'!E51),\"\",'Control Sheet'!E51&\" (\"&'Control Sheet'!F51&\")\")","v":""},{"$f":"IF(C$18=1,IF(ISNA(VLOOKUP($A71,INDIRECT(C$20),OOPE_col,FALSE)),\"\",VLOOKUP($A71,INDIRECT(C$20),OOPE_col,FALSE)),\"\")","v":""},"","","","","","","","","","","","",null,"","","","","","","","","","","","","","","","","","","","","","","","","","","","","","","","","","","","","","","","","","",{"$f":"IF(A71=\"\",\"\",MAX(IF(ISERROR(AU71:BF71),0,AU71:BF71)))","v":""},"","","","","","","","","","","","","","","","","","",""]
[{"$f":"IF(ISBLANK('Control Sheet'!D52),\"\",'Control Sheet'!D52)","v":""},{"$f":"IF(ISBLANK('Control Sheet'!E52),\"\",'Control Sheet'!E52&\" (\"&'Control Sheet'!F52&\")\")","v":""},"","","","","","","","","","","","","",null,"","","","","","","","","","","","","","","","","","","","","","","","","","","","","","","","","","","","","","","","","","",{"$f":"IF(A72=\"\",\"\",MAX(IF(ISERROR(AU72:BF72),0,AU72:BF72)))","v":""},"","","","","","","","","","","","","","","","","","",""]
[{"$f":"IF(ISBLANK('Control Sheet'!D53),\"\",'Control Sheet'!D53)","v":""},{"$f":"IF(ISBLANK('Control Sheet'!E53),\"\",'Control Sheet'!E53&\" (\"&'Control Sheet'!F53&\")\")","v":""},"","","","","","","","","","","","","",null,"","","","","","","","","","","","","","","","","","","","","","","","","","","","","","","","","","","","","","","","","","",{"$f":"IF(A73=\"\",\"\",MAX(IF(ISERROR(AU73:BF73),0,AU73:BF73)))","v":""},"","","","","","","","","","","","","","","","","","",""]
[{"$f":"IF(ISBLANK('Control Sheet'!D54),\"\",'Control Sheet'!D54)","v":""},{"$f":"IF(ISBLANK('Control Sheet'!E54),\"\",'Control Sheet'!E54&\" (\"&'Control Sheet'!F54&\")\")","v":""},"","","","","","","","","","","","","",null,"","","","","","","","","","","","","","","","","","","","","","","","","","","","","","","","","","","","","","","","","","",{"$f":"IF(A74=\"\",\"\",MAX(IF(ISERROR(AU74:BF74),0,AU74:BF74)))","v":""},"","","","","","","","","","","","","","","","","","",""]
[{"$f":"IF(ISBLANK('Control Sheet'!D55),\"\",'Control Sheet'!D55)","v":""},{"$f":"IF(ISBLANK('Control Sheet'!E55),\"\",'Control Sheet'!E55&\" (\"&'Control Sheet'!F55&\")\")","v":""},"","","","","","","","","","","","","",null,"","","","","","","","","","","","","","","","","","","","","","","","","","","","","","","","","","","","","","","","","","",{"$f":"IF(A75=\"\",\"\",MAX(IF(ISERROR(AU75:BF75),0,AU75:BF75)))","v":""},"","","","","","","","","","","","","","","","","","",""]
[{"$f":"IF(ISBLANK('Control Sheet'!D56),\"\",'Control Sheet'!D56)","v":""},{"$f":"IF(ISBLANK('Control Sheet'!E56),\"\",'Control Sheet'!E56&\" (\"&'Control Sheet'!F56&\")\")","v":""},"","","","","","","","","","","","","",null,"","","","","","","","","","","","","","","","","","","","","","","","","","","","","","","","","","","","","","","","","","",{"$f":"IF(A76=\"\",\"\",MAX(IF(ISERROR(AU76:BF76),0,AU76:BF76)))","v":""},"","","","","","","","","","","","","","","","","","",""]
[{"$f":"IF(ISBLANK('Control Sheet'!D57),\"\",'Control Sheet'!D57)","v":""},{"$f":"IF(ISBLANK('Control Sheet'!E57),\"\",'Control Sheet'!E57&\" (\"&'Control Sheet'!F57&\")\")","v":""},"","","","","","","","","","","","","",null,"","","","","","","","","","","","","","","","","","","","","","","","","","","","","","","","","","","","","","","","","","",{"$f":"IF(A77=\"\",\"\",MAX(IF(ISERROR(AU77:BF77),0,AU77:BF77)))","v":""},"","","","","","","","","","","","","","","","","","",""]
[{"$f":"IF(ISBLANK('Control Sheet'!D58),\"\",'Control Sheet'!D58)","v":""},{"$f":"IF(ISBLANK('Control Sheet'!E58),\"\",'Control Sheet'!E58&\" (\"&'Control Sheet'!F58&\")\")","v":""},"","","","","","","","","","","","","",null,"","","","","","","","","","","","","","","","","","","","","","","","","","","","","","","","","","","","","","","","","","",{"$f":"IF(A78=\"\",\"\",MAX(IF(ISERROR(AU78:BF78),0,AU78:BF78)))","v":""},"","","","","","","","","","","","","","","","","","",""]
[{"$f":"IF(ISBLANK('Control Sheet'!D59),\"\",'Control Sheet'!D59)","v":""},{"$f":"IF(ISBLANK('Control Sheet'!E59),\"\",'Control Sheet'!E59&\" (\"&'Control Sheet'!F59&\")\")","v":""},"","","","","","","","","","","","","",null,"","","","","","","","","","","","","","","","","","","","","","","","","","","","","","","","","","","","","","","","","","",{"$f":"IF(A79=\"\",\"\",MAX(IF(ISERROR(AU79:BF79),0,AU79:BF79)))","v":""},"","","","","","","","","","","","","","","","","","",""]
[{"$f":"IF(ISBLANK('Control Sheet'!D60),\"\",'Control Sheet'!D60)","v":""},{"$f":"IF(ISBLANK('Control Sheet'!E60),\"\",'Control Sheet'!E60&\" (\"&'Control Sheet'!F60&\")\")","v":""},"","","","","","","","","","","","","",null,"","","","","","","","","","","","","","","","","","","","","","","","","","","","","","","","","","","","","","","","","","",{"$f":"IF(A80=\"\",\"\",MAX(IF(ISERROR(AU80:BF80),0,AU80:BF80)))","v":""},"","","","","","","","","","","","","","","","","","",""]
[{"$f":"IF(ISBLANK('Control Sheet'!D61),\"\",'Control Sheet'!D61)","v":""},{"$f":"IF(ISBLANK('Control Sheet'!E61),\"\",'Control Sheet'!E61&\" (\"&'Control Sheet'!F61&\")\")","v":""},{"$f":"IF(C$18=1,IF(ISNA(VLOOKUP($A81,INDIRECT(C$20),OOPE_col,FALSE)),\"\",VLOOKUP($A81,INDIRECT(C$20),OOPE_col,FALSE)),\"\")","v":""},"","","","","","","","","","","","",null,"","","","","","","","","","","","","","","","","","","","","","","","","","","","","","","","","","","","","","","","","","",{"$f":"IF(A81=\"\",\"\",MAX(IF(ISERROR(AU81:BF81),0,AU81:BF81)))","v":""},"","","","","","","","","","","","","","","","","","",""]
[{"$f":"IF(ISBLANK('Control Sheet'!D62),\"\",'Control Sheet'!D62)","v":""},{"$f":"IF(ISBLANK('Control Sheet'!E62),\"\",'Control Sheet'!E62&\" (\"&'Control Sheet'!F62&\")\")","v":""},"","","","","","","","","","","","","",null,"","","","","","","","","","","","","","","","","","","","","","","","","","","","","","","","","","","","","","","","","","",{"$f":"IF(A82=\"\",\"\",MAX(IF(ISERROR(AU82:BF82),0,AU82:BF82)))","v":""},"","","","","","","","","","","","","","","","","","",""]
[{"$f":"IF(ISBLANK('Control Sheet'!D63),\"\",'Control Sheet'!D63)","v":""},{"$f":"IF(ISBLANK('Control Sheet'!E63),\"\",'Control Sheet'!E63&\" (\"&'Control Sheet'!F63&\")\")","v":""},"","","","","","","","","","","","","",null,"","","","","","","","","","","","","","","","","","","","","","","","","","","","","","","","","","","","","","","","","","",{"$f":"IF(A83=\"\",\"\",MAX(IF(ISERROR(AU83:BF83),0,AU83:BF83)))","v":""},"","","","","","","","","","","","","","","","","","",""]
[{"$f":"IF(ISBLANK('Control Sheet'!D64),\"\",'Control Sheet'!D64)","v":""},{"$f":"IF(ISBLANK('Control Sheet'!E64),\"\",'Control Sheet'!E64&\" (\"&'Control Sheet'!F64&\")\")","v":""},"","","","","","","","","","","","","",null,"","","","","","","","","","","","","","","","","","","","","","","","","","","","","","","","","","","","","","","","","","",{"$f":"IF(A84=\"\",\"\",MAX(IF(ISERROR(AU84:BF84),0,AU84:BF84)))","v":""},"","","","","","","","","","","","","","","","","","",""]
[{"$f":"IF(ISBLANK('Control Sheet'!D65),\"\",'Control Sheet'!D65)","v":""},{"$f":"IF(ISBLANK('Control Sheet'!E65),\"\",'Control Sheet'!E65&\" (\"&'Control Sheet'!F65&\")\")","v":""},"","","","","","","","","","","","","",null,"",{"$f":"IF(A85=\"\",\"\",OOPEMonthsPop-(COUNTA(C85:N85)-COUNTBLANK(C85:N85)))","v":""},"","","","","","","","","","","","","","","","","","","","","","","","","","","","",{"$f":"IF(OR(A85=\"\",OOPEMonthsPop=0),\"\",IF(AU$18=OOPEMonthsPop,AH85,#N/A))","v":""},{"$f":"IF(OR($A85=\"\",OOPEMonthsPop=0),\"\",IF(AV$18<OOPEMonthsPop,#N/A,IF(AV$18=OOPEMonthsPop,AI85,IF(AU85=\"\",\"\",IF(AV$18=OOPEMonthsPop+1,AU85+(AU85*VLOOKUP(OOPEMonthsPop-$R85,ForecastMult,3,FALSE)/12),AU85+AU85-AT85)))))","v":""},{"$f":"IF(OR($A85=\"\",OOPEMonthsPop=0),\"\",IF(AW$18<OOPEMonthsPop,#N/A,IF(AW$18=OOPEMonthsPop,AJ85,IF(AV85=\"\",\"\",IF(AW$18=OOPEMonthsPop+1,AV85+(AV85*VLOOKUP(OOPEMonthsPop-$R85,ForecastMult,3,FALSE)/12),AV85+AV85-AU85)))))","v":""},{"$f":"IF(OR($A85=\"\",OOPEMonthsPop=0),\"\",IF(AX$18<OOPEMonthsPop,#N/A,IF(AX$18=OOPEMonthsPop,AK85,IF(AW85=\"\",\"\",IF(AX$18=OOPEMonthsPop+1,AW85+(AW85*VLOOKUP(OOPEMonthsPop-$R85,ForecastMult,3,FALSE)/12),AW85+AW85-AV85)))))","v":""},{"$f":"IF(OR($A85=\"\",OOPEMonthsPop=0),\"\",IF(AY$18<OOPEMonthsPop,#N/A,IF(AY$18=OOPEMonthsPop,AL85,IF(AX85=\"\",\"\",IF(AY$18=OOPEMonthsPop+1,AX85+(AX85*VLOOKUP(OOPEMonthsPop-$R85,ForecastMult,3,FALSE)/12),AX85+AX85-AW85)))))","v":""},{"$f":"IF(OR($A85=\"\",OOPEMonthsPop=0),\"\",IF(AZ$18<OOPEMonthsPop,#N/A,IF(AZ$18=OOPEMonthsPop,AM85,IF(AY85=\"\",\"\",IF(AZ$18=OOPEMonthsPop+1,AY85+(AY85*VLOOKUP(OOPEMonthsPop-$R85,ForecastMult,3,FALSE)/12),AY85+AY85-AX85)))))","v":""},{"$f":"IF(OR($A85=\"\",OOPEMonthsPop=0),\"\",IF(BA$18<OOPEMonthsPop,#N/A,IF(BA$18=OOPEMonthsPop,AN85,IF(AZ85=\"\",\"\",IF(BA$18=OOPEMonthsPop+1,AZ85+(AZ85*VLOOKUP(OOPEMonthsPop-$R85,ForecastMult,3,FALSE)/12),AZ85+AZ85-AY85)))))","v":""},{"$f":"IF(OR($A85=\"\",OOPEMonthsPop=0),\"\",IF(BB$18<OOPEMonthsPop,#N/A,IF(BB$18=OOPEMonthsPop,AO85,IF(BA85=\"\",\"\",IF(BB$18=OOPEMonthsPop+1,BA85+(BA85*VLOOKUP(OOPEMonthsPop-$R85,ForecastMult,3,FALSE)/12),BA85+BA85-AZ85)))))","v":""},{"$f":"IF(OR($A85=\"\",OOPEMonthsPop=0),\"\",IF(BC$18<OOPEMonthsPop,#N/A,IF(BC$18=OOPEMonthsPop,AP85,IF(BB85=\"\",\"\",IF(BC$18=OOPEMonthsPop+1,BB85+(BB85*VLOOKUP(OOPEMonthsPop-$R85,ForecastMult,3,FALSE)/12),BB85+BB85-BA85)))))","v":""},{"$f":"IF(OR($A85=\"\",OOPEMonthsPop=0),\"\",IF(BD$18<OOPEMonthsPop,#N/A,IF(BD$18=OOPEMonthsPop,AQ85,IF(BC85=\"\",\"\",IF(BD$18=OOPEMonthsPop+1,BC85+(BC85*VLOOKUP(OOPEMonthsPop-$R85,ForecastMult,3,FALSE)/12),BC85+BC85-BB85)))))","v":""},{"$f":"IF(OR($A85=\"\",OOPEMonthsPop=0),\"\",IF(BE$18<OOPEMonthsPop,#N/A,IF(BE$18=OOPEMonthsPop,AR85,IF(BD85=\"\",\"\",IF(BE$18=OOPEMonthsPop+1,BD85+(BD85*VLOOKUP(OOPEMonthsPop-$R85,ForecastMult,3,FALSE)/12),BD85+BD85-BC85)))))","v":""},{"$f":"IF(OR($A85=\"\",OOPEMonthsPop=0),\"\",IF(BF$18<OOPEMonthsPop,#N/A,IF(BF$18=OOPEMonthsPop,AS85,IF(BE85=\"\",\"\",IF(BF$18=OOPEMonthsPop+1,BE85+(BE85*VLOOKUP(OOPEMonthsPop-$R85,ForecastMult,3,FALSE)/12),BE85+BE85-BD85)))))","v":""},{"$f":"IF(A85=\"\",\"\",MAX(IF(ISERROR(AU85:BF85),0,AU85:BF85)))","v":""},{"$f":"IF(AND(C$18=1,$A85<>\"\"),IF(ISNA(VLOOKUP($A85,INDIRECT(C$20),TOT_STDR_PXS_col,FALSE)),\"\",VLOOKUP($A85,INDIRECT(C$20),TOT_STDR_PXS_col,FALSE)+VLOOKUP($A85,INDIRECT(C$20),TOT_ZDR_PXS_col,FALSE)),\"\")","v":""},{"$f":"IF(AND(D$18=1,$A85<>\"\"),IF(ISNA(VLOOKUP($A85,INDIRECT(D$20),TOT_STDR_PXS_col,FALSE)),\"\",VLOOKUP($A85,INDIRECT(D$20),TOT_STDR_PXS_col,FALSE)+VLOOKUP($A85,INDIRECT(D$20),TOT_ZDR_PXS_col,FALSE)),\"\")","v":""},{"$f":"IF(AND(E$18=1,$A85<>\"\"),IF(ISNA(VLOOKUP($A85,INDIRECT(E$20),TOT_STDR_PXS_col,FALSE)),\"\",VLOOKUP($A85,INDIRECT(E$20),TOT_STDR_PXS_col,FALSE)+VLOOKUP($A85,INDIRECT(E$20),TOT_ZDR_PXS_col,FALSE)),\"\")","v":""},{"$f":"IF(AND(F$18=1,$A85<>\"\"),IF(ISNA(VLOOKUP($A85,INDIRECT(F$20),TOT_STDR_PXS_col,FALSE)),\"\",VLOOKUP($A85,INDIRECT(F$20),TOT_STDR_PXS_col,FALSE)+VLOOKUP($A85,INDIRECT(F$20),TOT_ZDR_PXS_col,FALSE)),\"\")","v":""},{"$f":"IF(AND(G$18=1,$A85<>\"\"),IF(ISNA(VLOOKUP($A85,INDIRECT(G$20),TOT_STDR_PXS_col,FALSE)),\"\",VLOOKUP($A85,INDIRECT(G$20),TOT_STDR_PXS_col,FALSE)+VLOOKUP($A85,INDIRECT(G$20),TOT_ZDR_PXS_col,FALSE)),\"\")","v":""},{"$f":"IF(AND(H$18=1,$A85<>\"\"),IF(ISNA(VLOOKUP($A85,INDIRECT(H$20),TOT_STDR_PXS_col,FALSE)),\"\",VLOOKUP($A85,INDIRECT(H$20),TOT_STDR_PXS_col,FALSE)+VLOOKUP($A85,INDIRECT(H$20),TOT_ZDR_PXS_col,FALSE)),\"\")","v":""},{"$f":"IF(AND(I$18=1,$A85<>\"\"),IF(ISNA(VLOOKUP($A85,INDIRECT(I$20),TOT_STDR_PXS_col,FALSE)),\"\",VLOOKUP($A85,INDIRECT(I$20),TOT_STDR_PXS_col,FALSE)+VLOOKUP($A85,INDIRECT(I$20),TOT_ZDR_PXS_col,FALSE)),\"\")","v":""},{"$f":"IF(AND(J$18=1,$A85<>\"\"),IF(ISNA(VLOOKUP($A85,INDIRECT(J$20),TOT_STDR_PXS_col,FALSE)),\"\",VLOOKUP($A85,INDIRECT(J$20),TOT_STDR_PXS_col,FALSE)+VLOOKUP($A85,INDIRECT(J$20),TOT_ZDR_PXS_col,FALSE)),\"\")","v":""},{"$f":"IF(AND(K$18=1,$A85<>\"\"),IF(ISNA(VLOOKUP($A85,INDIRECT(K$20),TOT_STDR_PXS_col,FALSE)),\"\",VLOOKUP($A85,INDIRECT(K$20),TOT_STDR_PXS_col,FALSE)+VLOOKUP($A85,INDIRECT(K$20),TOT_ZDR_PXS_col,FALSE)),\"\")","v":""},{"$f":"IF(AND(L$18=1,$A85<>\"\"),IF(ISNA(VLOOKUP($A85,INDIRECT(L$20),TOT_STDR_PXS_col,FALSE)),\"\",VLOOKUP($A85,INDIRECT(L$20),TOT_STDR_PXS_col,FALSE)+VLOOKUP($A85,INDIRECT(L$20),TOT_ZDR_PXS_col,FALSE)),\"\")","v":""},{"$f":"IF(AND(M$18=1,$A85<>\"\"),IF(ISNA(VLOOKUP($A85,INDIRECT(M$20),TOT_STDR_PXS_col,FALSE)),\"\",VLOOKUP($A85,INDIRECT(M$20),TOT_STDR_PXS_col,FALSE)+VLOOKUP($A85,INDIRECT(M$20),TOT_ZDR_PXS_col,FALSE)),\"\")","v":""},{"$f":"IF(AND(N$18=1,$A85<>\"\"),IF(ISNA(VLOOKUP($A85,INDIRECT(N$20),TOT_STDR_PXS_col,FALSE)),\"\",VLOOKUP($A85,INDIRECT(N$20),TOT_STDR_PXS_col,FALSE)+VLOOKUP($A85,INDIRECT(N$20),TOT_ZDR_PXS_col,FALSE)),\"\")","v":""},"","","","","","",""]
[{"$f":"IF(ISBLANK('Control Sheet'!D66),\"\",'Control Sheet'!D66)","v":""},{"$f":"IF(ISBLANK('Control Sheet'!E66),\"\",'Control Sheet'!E66&\" (\"&'Control Sheet'!F66&\")\")","v":""},"","","","","","","","","","","","",{"$f":"IF(A86=\"\",\"\",SUM(C86:N86))","v":""},null,{"$f":"IF(A86=\"\",\"\",IF(BG86<=400,\"No\",\"Yes\"))","v":""},"",{"$f":"IF(C86=\"\",\"\",IF(C86<=C$10,1,IF(C86<=C$7,2,IF(C86<=C$8,3,IF(C86<=C$9,4,IF(C86<=C$11,5,60))))))","v":""},{"$f":"IF(D86=\"\",\"\",IF(D86<=D$10,1,IF(D86<=D$7,2,IF(D86<=D$8,3,IF(D86<=D$9,4,IF(D86<=D$11,5,60))))))","v":""},{"$f":"IF(E86=\"\",\"\",IF(E86<=E$10,1,IF(E86<=E$7,2,IF(E86<=E$8,3,IF(E86<=E$9,4,IF(E86<=E$11,5,60))))))","v":""},{"$f":"IF(F86=\"\",\"\",IF(F86<=F$10,1,IF(F86<=F$7,2,IF(F86<=F$8,3,IF(F86<=F$9,4,IF(F86<=F$11,5,60))))))","v":""},{"$f":"IF(G86=\"\",\"\",IF(G86<=G$10,1,IF(G86<=G$7,2,IF(G86<=G$8,3,IF(G86<=G$9,4,IF(G86<=G$11,5,60))))))","v":""},{"$f":"IF(H86=\"\",\"\",IF(H86<=H$10,1,IF(H86<=H$7,2,IF(H86<=H$8,3,IF(H86<=H$9,4,IF(H86<=H$11,5,60))))))","v":""},{"$f":"IF(I86=\"\",\"\",IF(I86<=I$10,1,IF(I86<=I$7,2,IF(I86<=I$8,3,IF(I86<=I$9,4,IF(I86<=I$11,5,60))))))","v":""},{"$f":"IF(J86=\"\",\"\",IF(J86<=J$10,1,IF(J86<=J$7,2,IF(J86<=J$8,3,IF(J86<=J$9,4,IF(J86<=J$11,5,60))))))","v":""},{"$f":"IF(K86=\"\",\"\",IF(K86<=K$10,1,IF(K86<=K$7,2,IF(K86<=K$8,3,IF(K86<=K$9,4,IF(K86<=K$11,5,60))))))","v":""},{"$f":"IF(L86=\"\",\"\",IF(L86<=L$10,1,IF(L86<=L$7,2,IF(L86<=L$8,3,IF(L86<=L$9,4,IF(L86<=L$11,5,60))))))","v":""},{"$f":"IF(M86=\"\",\"\",IF(M86<=M$10,1,IF(M86<=M$7,2,IF(M86<=M$8,3,IF(M86<=M$9,4,IF(M86<=M$11,5,60))))))","v":""},{"$f":"IF(N86=\"\",\"\",IF(N86<=N$10,1,IF(N86<=N$7,2,IF(N86<=N$8,3,IF(N86<=N$9,4,IF(N86<=N$11,5,60))))))","v":""},{"$f":"IF(A86=\"\",\"\",SUM(S86:AD86))","v":""},{"$f":"IF(OR(A86=\"\",AE86=0),\"\",AE86/O$18)","v":""},{"$f":"IF(AF86=\"\",\"\",IF(AF86<=1,\"Lower Outlier\",IF(AF86<=2,\"Below Average\",IF(AF86<=3,\"Lower Quartile\",IF(AF86<=4,\"Upper Quartile\",IF(AF86<=5, \"Above Average\", \"Upper Outlier\"))))))","v":""},{"$f":"IF(C$18=1,C86,\"\")","v":""},{"$f":"IF(D$18=1,IF(D86=\"\",IF(AH86=\"\",\"\",AH86),IF(AND(D86>=0,AH86=\"\"),D86,IF(ISERROR(D86+AH86),#N/A,D86+AH86))),\"\")","v":""},{"$f":"IF(E$18=1,IF(E86=\"\",IF(AI86=\"\",\"\",AI86),IF(AND(E86>=0,AI86=\"\"),E86,IF(ISERROR(E86+AI86),#N/A,E86+AI86))),\"\")","v":""},{"$f":"IF(F$18=1,IF(F86=\"\",IF(AJ86=\"\",\"\",AJ86),IF(AND(F86>=0,AJ86=\"\"),F86,IF(ISERROR(F86+AJ86),#N/A,F86+AJ86))),\"\")","v":""},{"$f":"IF(G$18=1,IF(G86=\"\",IF(AK86=\"\",\"\",AK86),IF(AND(G86>=0,AK86=\"\"),G86,IF(ISERROR(G86+AK86),#N/A,G86+AK86))),\"\")","v":""},{"$f":"IF(H$18=1,IF(H86=\"\",IF(AL86=\"\",\"\",AL86),IF(AND(H86>=0,AL86=\"\"),H86,IF(ISERROR(H86+AL86),#N/A,H86+AL86))),\"\")","v":""},{"$f":"IF(I$18=1,IF(I86=\"\",IF(AM86=\"\",\"\",AM86),IF(AND(I86>=0,AM86=\"\"),I86,IF(ISERROR(I86+AM86),#N/A,I86+AM86))),\"\")","v":""},{"$f":"IF(J$18=1,IF(J86=\"\",IF(AN86=\"\",\"\",AN86),IF(AND(J86>=0,AN86=\"\"),J86,IF(ISERROR(J86+AN86),#N/A,J86+AN86))),\"\")","v":""},{"$f":"IF(K$18=1,IF(K86=\"\",IF(AO86=\"\",\"\",AO86),IF(AND(K86>=0,AO86=\"\"),K86,IF(ISERROR(K86+AO86),#N/A,K86+AO86))),\"\")","v":""},{"$f":"IF(L$18=1,IF(L86=\"\",IF(AP86=\"\",\"\",AP86),IF(AND(L86>=0,AP86=\"\"),L86,IF(ISERROR(L86+AP86),#N/A,L86+AP86))),\"\")","v":""},{"$f":"IF(M$18=1,IF(M86=\"\",IF(AQ86=\"\",\"\",AQ86),IF(AND(M86>=0,AQ86=\"\"),M86,IF(ISERROR(M86+AQ86),#N/A,M86+AQ86))),\"\")","v":""},{"$f":"IF(N$18=1,IF(N86=\"\",IF(AR86=\"\",\"\",AR86),IF(AND(N86>=0,AR86=\"\"),N86,IF(ISERROR(N86+AR86),#N/A,N86+AR86))),\"\")","v":""},{"$f":"IF(A86=\"\",\"\",MAX(AH86:AS86))","v":""},"","","","","","","","","","","","",{"$f":"IF(A86=\"\",\"\",MAX(IF(ISERROR(AU86:BF86),0,AU86:BF86)))","v":""},"","","","","","","","","","","","",{"$f":"IF(A86=\"\",\"\",SUM(BH86:BS86))","v":""},{"$f":"IF(A86=\"\",\"\",MIN(B86:M86))","v":""},{"$f":"IF(A86=\"\",\"\",MAX(B86:M86))","v":""},{"$f":"IF(A86=\"\",\"\",IF(BV86-BU86=0,\"\",BV86-BU86))","v":""},{"$f":"IF(A86=\"\",\"\",IF(BW86=\"\",\"No\",IF(BW86>$BW$11,\"Yes\",\"No\")))","v":""},{"$f":"IF(A86=\"\",\"\",(COUNTA(C86:N86)-COUNTBLANK(C86:N86)))","v":""},{"$f":"IF(A86=\"\",\"\",BY86-COUNTIF(C86:N86,\"=0\"))","v":""}]
[{"$f":"IF(ISBLANK('Control Sheet'!D67),\"\",'Control Sheet'!D67)","v":""},{"$f":"IF(ISBLANK('Control Sheet'!E67),\"\",'Control Sheet'!E67&\" (\"&'Control Sheet'!F67&\")\")","v":""},"","","","","","","","","","","","","",null,"","","","","","","","","","","","","","","","","","","","","","","","","","","","","","","","","","","","","","","","","","",{"$f":"IF(A87=\"\",\"\",MAX(IF(ISERROR(AU87:BF87),0,AU87:BF87)))","v":""},"","","","","","","","","","","","","","","","","","",""]
[{"$f":"IF(ISBLANK('Control Sheet'!D68),\"\",'Control Sheet'!D68)","v":""},{"$f":"IF(ISBLANK('Control Sheet'!E68),\"\",'Control Sheet'!E68&\" (\"&'Control Sheet'!F68&\")\")","v":""},"","","","","","","","","","","","","",null,"","","","","","","","","","","","","","","","","","","","","","","","","","","","","","","","","","","","","","","","","","",{"$f":"IF(A88=\"\",\"\",MAX(IF(ISERROR(AU88:BF88),0,AU88:BF88)))","v":""},"","","","","","","","","","","","","","","","","","",""]
[{"$f":"IF(ISBLANK('Control Sheet'!D69),\"\",'Control Sheet'!D69)","v":""},{"$f":"IF(ISBLANK('Control Sheet'!E69),\"\",'Control Sheet'!E69&\" (\"&'Control Sheet'!F69&\")\")","v":""},"","","","","","","","","","","","","",null,"","","","","","","","","","","","","","","","","","","","","","","","","","","","","","","","","","","","","","","","","","",{"$f":"IF(A89=\"\",\"\",MAX(IF(ISERROR(AU89:BF89),0,AU89:BF89)))","v":""},"","","","","","","","","","","","","","","","","","",""]
[{"$f":"IF(ISBLANK('Control Sheet'!D70),\"\",'Control Sheet'!D70)","v":""},{"$f":"IF(ISBLANK('Control Sheet'!E70),\"\",'Control Sheet'!E70&\" (\"&'Control Sheet'!F70&\")\")","v":""},"","","","","","","","","","","","","",null,"","","","","","","","","","","","","","","","","","","","","","","","","","","","","","","","","","","","","","","","","","",{"$f":"IF(A90=\"\",\"\",MAX(IF(ISERROR(AU90:BF90),0,AU90:BF90)))","v":""},"","","","","","","","","","","","","","","","","","",""]
[{"$f":"IF(ISBLANK('Control Sheet'!D71),\"\",'Control Sheet'!D71)","v":""},{"$f":"IF(ISBLANK('Control Sheet'!E71),\"\",'Control Sheet'!E71&\" (\"&'Control Sheet'!F71&\")\")","v":""},{"$f":"IF(C$18=1,IF(ISNA(VLOOKUP($A91,INDIRECT(C$20),OOPE_col,FALSE)),\"\",VLOOKUP($A91,INDIRECT(C$20),OOPE_col,FALSE)),\"\")","v":""},"","","","","","","","","","","","",null,"","","","","","","","","","","","","","","","","","","","","","","","","","","","","","","","","","","","","","","","","","",{"$f":"IF(A91=\"\",\"\",MAX(IF(ISERROR(AU91:BF91),0,AU91:BF91)))","v":""},"","","","","","","","","","","","","","","","","","",""]
[{"$f":"IF(ISBLANK('Control Sheet'!D72),\"\",'Control Sheet'!D72)","v":""},{"$f":"IF(ISBLANK('Control Sheet'!E72),\"\",'Control Sheet'!E72&\" (\"&'Control Sheet'!F72&\")\")","v":""},"","","","","","","","","","","","","",null,"","","","","","","","","","","","","","","","","","","","","","","","","","","","","","","","","","","","","","","","","","",{"$f":"IF(A92=\"\",\"\",MAX(IF(ISERROR(AU92:BF92),0,AU92:BF92)))","v":""},"","","","","","","","","","","","","","","","","","",""]
[{"$f":"IF(ISBLANK('Control Sheet'!D73),\"\",'Control Sheet'!D73)","v":""},{"$f":"IF(ISBLANK('Control Sheet'!E73),\"\",'Control Sheet'!E73&\" (\"&'Control Sheet'!F73&\")\")","v":""},"","","","","","","","","","","","","",null,"","","","","","","","","","","","","","","","","","","","","","","","","","","","","","","","","","","","","","","","","","",{"$f":"IF(A93=\"\",\"\",MAX(IF(ISERROR(AU93:BF93),0,AU93:BF93)))","v":""},"","","","","","","","","","","","","","","","","","",""]
[{"$f":"IF(ISBLANK('Control Sheet'!D74),\"\",'Control Sheet'!D74)","v":""},{"$f":"IF(ISBLANK('Control Sheet'!E74),\"\",'Control Sheet'!E74&\" (\"&'Control Sheet'!F74&\")\")","v":""},"","","","","","","","","","","","","",null,"","","","","","","","","","","","","","","","","","","","","","","","","","","","","","","","","","","","","","","","","","",{"$f":"IF(A94=\"\",\"\",MAX(IF(ISERROR(AU94:BF94),0,AU94:BF94)))","v":""},"","","","","","","","","","","","","","","","","","",""]
[{"$f":"IF(ISBLANK('Control Sheet'!D75),\"\",'Control Sheet'!D75)","v":""},{"$f":"IF(ISBLANK('Control Sheet'!E75),\"\",'Control Sheet'!E75&\" (\"&'Control Sheet'!F75&\")\")","v":""},"","","","","","","","","","","","","",null,"","","","","","","","","","","","","","","","","","","","","","","","","","","","","","","","","","","","","","","","","","",{"$f":"IF(A95=\"\",\"\",MAX(IF(ISERROR(AU95:BF95),0,AU95:BF95)))","v":""},"","","","","","","","","","","","","","","","","","",""]
[{"$f":"IF(ISBLANK('Control Sheet'!D76),\"\",'Control Sheet'!D76)","v":""},{"$f":"IF(ISBLANK('Control Sheet'!E76),\"\",'Control Sheet'!E76&\" (\"&'Control Sheet'!F76&\")\")","v":""},"","","","","","","","","","","","","",null,"","","","","","","","","","","","","","","","","","","","","","","","","","","","","","","","","","","","","","","","","","",{"$f":"IF(A96=\"\",\"\",MAX(IF(ISERROR(AU96:BF96),0,AU96:BF96)))","v":""},"","","","","","","","","","","","","","","","","","",""]
[{"$f":"IF(ISBLANK('Control Sheet'!D77),\"\",'Control Sheet'!D77)","v":""},{"$f":"IF(ISBLANK('Control Sheet'!E77),\"\",'Control Sheet'!E77&\" (\"&'Control Sheet'!F77&\")\")","v":""},"","","","","","","","","","","","","",null,"","","","","","","","","","","","","","","","","","","","","","","","","","","","","","","","","","","","","","","","","","",{"$f":"IF(A97=\"\",\"\",MAX(IF(ISERROR(AU97:BF97),0,AU97:BF97)))","v":""},"","","","","","","","","","","","","","","","","","",""]
[{"$f":"IF(ISBLANK('Control Sheet'!D78),\"\",'Control Sheet'!D78)","v":""},{"$f":"IF(ISBLANK('Control Sheet'!E78),\"\",'Control Sheet'!E78&\" (\"&'Control Sheet'!F78&\")\")","v":""},"","","","","","","","","","","","","",null,"","","","","","","","","","","","","","","","","","","","","","","","","","","","","","","","","","","","","","","","","","",{"$f":"IF(A98=\"\",\"\",MAX(IF(ISERROR(AU98:BF98),0,AU98:BF98)))","v":""},"","","","","","","","","","","","","","","","","","",""]
[{"$f":"IF(ISBLANK('Control Sheet'!D79),\"\",'Control Sheet'!D79)","v":""},{"$f":"IF(ISBLANK('Control Sheet'!E79),\"\",'Control Sheet'!E79&\" (\"&'Control Sheet'!F79&\")\")","v":""},"","","","","","","","","","","","","",null,"","","","","","","","","","","","","","","","","","","","","","","","","","","","","","","","","","","","","","","","","","",{"$f":"IF(A99=\"\",\"\",MAX(IF(ISERROR(AU99:BF99),0,AU99:BF99)))","v":""},"","","","","","","","","","","","","","","","","","",""]
[{"$f":"IF(ISBLANK('Control Sheet'!D80),\"\",'Control Sheet'!D80)","v":""},{"$f":"IF(ISBLANK('Control Sheet'!E80),\"\",'Control Sheet'!E80&\" (\"&'Control Sheet'!F80&\")\")","v":""},"","","","","","","","","","","","","",null,"","","","","","","","","","","","","","","","","","","","","","","","","","","","","","","","","","","","","","","","","","",{"$f":"IF(A100=\"\",\"\",MAX(IF(ISERROR(AU100:BF100),0,AU100:BF100)))","v":""},"","","","","","","","","","","","","","","","","","",""]
[{"$f":"IF(ISBLANK('Control Sheet'!D81),\"\",'Control Sheet'!D81)","v":""},{"$f":"IF(ISBLANK('Control Sheet'!E81),\"\",'Control Sheet'!E81&\" (\"&'Control Sheet'!F81&\")\")","v":""},{"$f":"IF(C$18=1,IF(ISNA(VLOOKUP($A101,INDIRECT(C$20),OOPE_col,FALSE)),\"\",VLOOKUP($A101,INDIRECT(C$20),OOPE_col,FALSE)),\"\")","v":""},"","","","","","","","","","","","",null,"","","","","","","","","","","","","","","","","","","","","","","","","","","","","","","","","","","","","","","","","","",{"$f":"IF(A101=\"\",\"\",MAX(IF(ISERROR(AU101:BF101),0,AU101:BF101)))","v":""},"","","","","","","","","","","","","","","","","","",""]
[{"$f":"IF(ISBLANK('Control Sheet'!D82),\"\",'Control Sheet'!D82)","v":""},{"$f":"IF(ISBLANK('Control Sheet'!E82),\"\",'Control Sheet'!E82&\" (\"&'Control Sheet'!F82&\")\")","v":""},"","","","","","","","","","","","","",null,"","","","","","","","","","","","","","","","","","","","","","","","","","","","","","","","","","","","","","","","","","",{"$f":"IF(A102=\"\",\"\",MAX(IF(ISERROR(AU102:BF102),0,AU102:BF102)))","v":""},"","","","","","","","","","","","","","","","","","",""]
[{"$f":"IF(ISBLANK('Control Sheet'!D83),\"\",'Control Sheet'!D83)","v":""},{"$f":"IF(ISBLANK('Control Sheet'!E83),\"\",'Control Sheet'!E83&\" (\"&'Control Sheet'!F83&\")\")","v":""},"","","","","","","","","","","","","",null,"","","","","","","","","","","","","","","","","","","","","","","","","","","","","","","","","","","","","","","","","","",{"$f":"IF(A103=\"\",\"\",MAX(IF(ISERROR(AU103:BF103),0,AU103:BF103)))","v":""},"","","","","","","","","","","","","","","","","","",""]
[{"$f":"IF(ISBLANK('Control Sheet'!D84),\"\",'Control Sheet'!D84)","v":""},{"$f":"IF(ISBLANK('Control Sheet'!E84),\"\",'Control Sheet'!E84&\" (\"&'Control Sheet'!F84&\")\")","v":""},"","","","","","","","","","","","","",null,"","","","","","","","","","","","","","","","","","","","","","","","","","","","","","","","","","","","","","","","","","",{"$f":"IF(A104=\"\",\"\",MAX(IF(ISERROR(AU104:BF104),0,AU104:BF104)))","v":""},"","","","","","","","","","","","","","","","","","",""]
[{"$f":"IF(ISBLANK('Control Sheet'!D85),\"\",'Control Sheet'!D85)","v":""},{"$f":"IF(ISBLANK('Control Sheet'!E85),\"\",'Control Sheet'!E85&\" (\"&'Control Sheet'!F85&\")\")","v":""},"","","","","","","","","","","","","",null,"","","","","","","","","","","","","","","","","","","","","","","","","","","","","","","","","","","","","","","","","","",{"$f":"IF(A105=\"\",\"\",MAX(IF(ISERROR(AU105:BF105),0,AU105:BF105)))","v":""},"","","","","","","","","","","","","","","","","","",""]
[{"$f":"IF(ISBLANK('Control Sheet'!D86),\"\",'Control Sheet'!D86)","v":""},{"$f":"IF(ISBLANK('Control Sheet'!E86),\"\",'Control Sheet'!E86&\" (\"&'Control Sheet'!F86&\")\")","v":""},"","","","","","","","","","","","","",null,"","","","","","","","","","","","","","","","","","","","","","","","","","","","","","","","","","","","","","","","","","",{"$f":"IF(A106=\"\",\"\",MAX(IF(ISERROR(AU106:BF106),0,AU106:BF106)))","v":""},"","","","","","","","","","","","","","","","","","",""]
[{"$f":"IF(ISBLANK('Control Sheet'!D87),\"\",'Control Sheet'!D87)","v":""},{"$f":"IF(ISBLANK('Control Sheet'!E87),\"\",'Control Sheet'!E87&\" (\"&'Control Sheet'!F87&\")\")","v":""},"","","","","","","","","","","","","",null,"","","","","","","","","","","","","","","","","","","","","","","","","","","","","","","","","","","","","","","","","","",{"$f":"IF(A107=\"\",\"\",MAX(IF(ISERROR(AU107:BF107),0,AU107:BF107)))","v":""},"","","","","","","","","","","","","","","","","","",""]
[{"$f":"IF(ISBLANK('Control Sheet'!D88),\"\",'Control Sheet'!D88)","v":""},{"$f":"IF(ISBLANK('Control Sheet'!E88),\"\",'Control Sheet'!E88&\" (\"&'Control Sheet'!F88&\")\")","v":""},"","","","","","","","","","","","","",null,"","","","","","","","","","","","","","","","","","","","","","","","","","","","","","","","","","","","","","","","","","",{"$f":"IF(A108=\"\",\"\",MAX(IF(ISERROR(AU108:BF108),0,AU108:BF108)))","v":""},"","","","","","","","","","","","","","","","","","",""]
[{"$f":"IF(ISBLANK('Control Sheet'!D89),\"\",'Control Sheet'!D89)","v":""},{"$f":"IF(ISBLANK('Control Sheet'!E89),\"\",'Control Sheet'!E89&\" (\"&'Control Sheet'!F89&\")\")","v":""},"","","","","","","","","","","","","",null,"","","","","","","","","","","","","","","","","","","","","","","","","","","","","","","","","","","","","","","","","","",{"$f":"IF(A109=\"\",\"\",MAX(IF(ISERROR(AU109:BF109),0,AU109:BF109)))","v":""},"","","","","","","","","","","","","","","","","","",""]
[{"$f":"IF(ISBLANK('Control Sheet'!D90),\"\",'Control Sheet'!D90)","v":""},{"$f":"IF(ISBLANK('Control Sheet'!E90),\"\",'Control Sheet'!E90&\" (\"&'Control Sheet'!F90&\")\")","v":""},"","","","","","","","","","","","","",null,"","","","","","","","","","","","","","","","","","","","","","","","","","","","","","","","","","","","","","","","","","",{"$f":"IF(A110=\"\",\"\",MAX(IF(ISERROR(AU110:BF110),0,AU110:BF110)))","v":""},"","","","","","","","","","","","","","","","","","",""]
[{"$f":"IF(ISBLANK('Control Sheet'!D91),\"\",'Control Sheet'!D91)","v":""},{"$f":"IF(ISBLANK('Control Sheet'!E91),\"\",'Control Sheet'!E91&\" (\"&'Control Sheet'!F91&\")\")","v":""},{"$f":"IF(C$18=1,IF(ISNA(VLOOKUP($A111,INDIRECT(C$20),OOPE_col,FALSE)),\"\",VLOOKUP($A111,INDIRECT(C$20),OOPE_col,FALSE)),\"\")","v":""},"","","","","","","","","","","","",null,"","","","","","","","","","","","","","","","","","","","","","","","","","","","","","","","","","","","","","","","","","",{"$f":"IF(A111=\"\",\"\",MAX(IF(ISERROR(AU111:BF111),0,AU111:BF111)))","v":""},"","","","","","","","","","","","","","","","","","",""]
[{"$f":"IF(ISBLANK('Control Sheet'!D92),\"\",'Control Sheet'!D92)","v":""},{"$f":"IF(ISBLANK('Control Sheet'!E92),\"\",'Control Sheet'!E92&\" (\"&'Control Sheet'!F92&\")\")","v":""},"","","","","","","","","","","","","",null,"","","","","","","","","","","","","","","","","","","","","","","","","","","","","","","","","","","","","","","","","","",{"$f":"IF(A112=\"\",\"\",MAX(IF(ISERROR(AU112:BF112),0,AU112:BF112)))","v":""},"","","","","","","","","","","","","","","","","","",""]
[{"$f":"IF(ISBLANK('Control Sheet'!D93),\"\",'Control Sheet'!D93)","v":""},{"$f":"IF(ISBLANK('Control Sheet'!E93),\"\",'Control Sheet'!E93&\" (\"&'Control Sheet'!F93&\")\")","v":""},"","","","","","","","","","","","","",null,"","","","","","","","","","","","","","","","","","","","","","","","","","","","","","","","","","","","","","","","","","",{"$f":"IF(A113=\"\",\"\",MAX(IF(ISERROR(AU113:BF113),0,AU113:BF113)))","v":""},"","","","","","","","","","","","","","","","","","",""]
[{"$f":"IF(ISBLANK('Control Sheet'!D94),\"\",'Control Sheet'!D94)","v":""},{"$f":"IF(ISBLANK('Control Sheet'!E94),\"\",'Control Sheet'!E94&\" (\"&'Control Sheet'!F94&\")\")","v":""},"","","","","","","","","","","","","",null,"","","","","","","","","","","","","","","","","","","","","","","","","","","","","","","","","","","","","","","","","","",{"$f":"IF(A114=\"\",\"\",MAX(IF(ISERROR(AU114:BF114),0,AU114:BF114)))","v":""},"","","","","","","","","","","","","","","","","","",""]
[{"$f":"IF(ISBLANK('Control Sheet'!D95),\"\",'Control Sheet'!D95)","v":""},{"$f":"IF(ISBLANK('Control Sheet'!E95),\"\",'Control Sheet'!E95&\" (\"&'Control Sheet'!F95&\")\")","v":""},"","","","","","","","","","","","","",null,"","","","","","","","","","","","","","","","","","","","","","","","","","","","","","","","","","","","","","","","","","",{"$f":"IF(A115=\"\",\"\",MAX(IF(ISERROR(AU115:BF115),0,AU115:BF115)))","v":""},"","","","","","","","","","","","","","","","","","",""]
[{"$f":"IF(ISBLANK('Control Sheet'!D96),\"\",'Control Sheet'!D96)","v":""},{"$f":"IF(ISBLANK('Control Sheet'!E96),\"\",'Control Sheet'!E96&\" (\"&'Control Sheet'!F96&\")\")","v":""},"","","","","","","","","","","","","",null,"","","","","","","","","","","","","","","","","","","","","","","","","","","","","","","","","","","","","","","","","","",{"$f":"IF(A116=\"\",\"\",MAX(IF(ISERROR(AU116:BF116),0,AU116:BF116)))","v":""},"","","","","","","","","","","","","","","","","","",""]
[{"$f":"IF(ISBLANK('Control Sheet'!D97),\"\",'Control Sheet'!D97)","v":""},{"$f":"IF(ISBLANK('Control Sheet'!E97),\"\",'Control Sheet'!E97&\" (\"&'Control Sheet'!F97&\")\")","v":""},"","","","","","","","","","","","","",null,"","","","","","","","","","","","","","","","","","","","","","","","","","","","","","","","","","","","","","","","","","",{"$f":"IF(A117=\"\",\"\",MAX(IF(ISERROR(AU117:BF117),0,AU117:BF117)))","v":""},"","","","","","","","","","","","","","","","","","",""]
[{"$f":"IF(ISBLANK('Control Sheet'!D98),\"\",'Control Sheet'!D98)","v":""},{"$f":"IF(ISBLANK('Control Sheet'!E98),\"\",'Control Sheet'!E98&\" (\"&'Control Sheet'!F98&\")\")","v":""},"","","","","","","","","","","","","",null,"","","","","","","","","","","","","","","","","","","","","","","","","","","","","","","","","","","","","","","","","","",{"$f":"IF(A118=\"\",\"\",MAX(IF(ISERROR(AU118:BF118),0,AU118:BF118)))","v":""},"","","","","","","","","","","","","","","","","","",""]
[{"$f":"IF(ISBLANK('Control Sheet'!D99),\"\",'Control Sheet'!D99)","v":""},{"$f":"IF(ISBLANK('Control Sheet'!E99),\"\",'Control Sheet'!E99&\" (\"&'Control Sheet'!F99&\")\")","v":""},"","","","","","","","","","","","","",null,"","","","","","","","","","","","","","","","","","","","","","","","","","","","","","","","","","","","","","","","","","",{"$f":"IF(A119=\"\",\"\",MAX(IF(ISERROR(AU119:BF119),0,AU119:BF119)))","v":""},"","","","","","","","","","","","","","","","","","",""]
[{"$f":"IF(ISBLANK('Control Sheet'!D100),\"\",'Control Sheet'!D100)","v":""},{"$f":"IF(ISBLANK('Control Sheet'!E100),\"\",'Control Sheet'!E100&\" (\"&'Control Sheet'!F100&\")\")","v":""},"","","","","","","","","","","","","",null,"","","","","","","","","","","","","","","","","","","","","","","","","","","","","","","","","","","","","","","","","","",{"$f":"IF(A120=\"\",\"\",MAX(IF(ISERROR(AU120:BF120),0,AU120:BF120)))","v":""},"","","","","","","","","","","","","","","","","","",""]
[{"$f":"IF(ISBLANK('Control Sheet'!D101),\"\",'Control Sheet'!D101)","v":""},{"$f":"IF(ISBLANK('Control Sheet'!E101),\"\",'Control Sheet'!E101&\" (\"&'Control Sheet'!F101&\")\")","v":""},{"$f":"IF(C$18=1,IF(ISNA(VLOOKUP($A121,INDIRECT(C$20),OOPE_col,FALSE)),\"\",VLOOKUP($A121,INDIRECT(C$20),OOPE_col,FALSE)),\"\")","v":""},"","","","","","","","","","","","",null,"","","","","","","","","","","","","","","","","","","","","","","","","","","","","","","","","","","","","","","","","","",{"$f":"IF(A121=\"\",\"\",MAX(IF(ISERROR(AU121:BF121),0,AU121:BF121)))","v":""},"","","","","","","","","","","","","","","","","","",""]
[{"$f":"IF(ISBLANK('Control Sheet'!D102),\"\",'Control Sheet'!D102)","v":""},{"$f":"IF(ISBLANK('Control Sheet'!E102),\"\",'Control Sheet'!E102&\" (\"&'Control Sheet'!F102&\")\")","v":""},"","","","","","","","","","","","","",null,"","","","","","","","","","","","","","","","","","","","","","","","","","","","","","","","","","","","","","","","","","",{"$f":"IF(A122=\"\",\"\",MAX(IF(ISERROR(AU122:BF122),0,AU122:BF122)))","v":""},"","","","","","","","","","","","","","","","","","",""]
[{"$f":"IF(ISBLANK('Control Sheet'!D103),\"\",'Control Sheet'!D103)","v":""},{"$f":"IF(ISBLANK('Control Sheet'!E103),\"\",'Control Sheet'!E103&\" (\"&'Control Sheet'!F103&\")\")","v":""},"","","","","","","","","","","","","",null,"","","","","","","","","","","","","","","","","","","","","","","","","","","","","","","","","","","","","","","","","","",{"$f":"IF(A123=\"\",\"\",MAX(IF(ISERROR(AU123:BF123),0,AU123:BF123)))","v":""},"","","","","","","","","","","","","","","","","","",""]
[{"$f":"IF(ISBLANK('Control Sheet'!D104),\"\",'Control Sheet'!D104)","v":""},{"$f":"IF(ISBLANK('Control Sheet'!E104),\"\",'Control Sheet'!E104&\" (\"&'Control Sheet'!F104&\")\")","v":""},"","","","","","","","","","","","","",null,"","","","","","","","","","","","","","","","","","","","","","","","","","","","","","","","","","","","","","","","","","",{"$f":"IF(A124=\"\",\"\",MAX(IF(ISERROR(AU124:BF124),0,AU124:BF124)))","v":""},"","","","","","","","","","","","","","","","","","",""]
[{"$f":"IF(ISBLANK('Control Sheet'!D105),\"\",'Control Sheet'!D105)","v":""},{"$f":"IF(ISBLANK('Control Sheet'!E105),\"\",'Control Sheet'!E105&\" (\"&'Control Sheet'!F105&\")\")","v":""},"","","","","","","","","","","","","",null,"","","","","","","","","","","","","","","","","","","","","","","","","","","","","","","","","","","","","","","","","","",{"$f":"IF(A125=\"\",\"\",MAX(IF(ISERROR(AU125:BF125),0,AU125:BF125)))","v":""},"","","","","","","","","","","","","","","","","","",""]
[{"$f":"IF(ISBLANK('Control Sheet'!D106),\"\",'Control Sheet'!D106)","v":""},{"$f":"IF(ISBLANK('Control Sheet'!E106),\"\",'Control Sheet'!E106&\" (\"&'Control Sheet'!F106&\")\")","v":""},"","","","","","","","","","","","","",null,"","","","","","","","","","","","","","","","","","","","","","","","","","","","","","","","","","","","","","","","","","",{"$f":"IF(A126=\"\",\"\",MAX(IF(ISERROR(AU126:BF126),0,AU126:BF126)))","v":""},"","","","","","","","","","","","","","","","","","",""]
[{"$f":"IF(ISBLANK('Control Sheet'!D107),\"\",'Control Sheet'!D107)","v":""},{"$f":"IF(ISBLANK('Control Sheet'!E107),\"\",'Control Sheet'!E107&\" (\"&'Control Sheet'!F107&\")\")","v":""},"","","","","","","","","","","","","",null,"","","","","","","","","","","","","","","","","","","","","","","","","","","","","","","","","","","","","","","","","","",{"$f":"IF(A127=\"\",\"\",MAX(IF(ISERROR(AU127:BF127),0,AU127:BF127)))","v":""},"","","","","","","","","","","","","","","","","","",""]
[{"$f":"IF(ISBLANK('Control Sheet'!D108),\"\",'Control Sheet'!D108)","v":""},{"$f":"IF(ISBLANK('Control Sheet'!E108),\"\",'Control Sheet'!E108&\" (\"&'Control Sheet'!F108&\")\")","v":""},"","","","","","","","","","","","","",null,"","","","","","","","","","","","","","","","","","","","","","","","","","","","","","","","","","","","","","","","","","",{"$f":"IF(A128=\"\",\"\",MAX(IF(ISERROR(AU128:BF128),0,AU128:BF128)))","v":""},"","","","","","","","","","","","","","","","","","",""]
[{"$f":"IF(ISBLANK('Control Sheet'!D109),\"\",'Control Sheet'!D109)","v":""},{"$f":"IF(ISBLANK('Control Sheet'!E109),\"\",'Control Sheet'!E109&\" (\"&'Control Sheet'!F109&\")\")","v":""},"","","","","","","","","","","","","",null,"","","","","","","","","","","","","","","","","","","","","","","","","","","","","","","","","","","","","","","","","","",{"$f":"IF(A129=\"\",\"\",MAX(IF(ISERROR(AU129:BF129),0,AU129:BF129)))","v":""},"","","","","","","","","","","","","","","","","","",""]
[{"$f":"IF(ISBLANK('Control Sheet'!D110),\"\",'Control Sheet'!D110)","v":""},{"$f":"IF(ISBLANK('Control Sheet'!E110),\"\",'Control Sheet'!E110&\" (\"&'Control Sheet'!F110&\")\")","v":""},"","","","","","","","","","","","","",null,"","","","","","","","","","","","","","","","","","","","","","","","","","","","","","","","","","","","","","","","","","",{"$f":"IF(A130=\"\",\"\",MAX(IF(ISERROR(AU130:BF130),0,AU130:BF130)))","v":""},"","","","","","","","","","","","","","","","","","",""]
[{"$f":"IF(ISBLANK('Control Sheet'!D111),\"\",'Control Sheet'!D111)","v":""},{"$f":"IF(ISBLANK('Control Sheet'!E111),\"\",'Control Sheet'!E111&\" (\"&'Control Sheet'!F111&\")\")","v":""},{"$f":"IF(C$18=1,IF(ISNA(VLOOKUP($A131,INDIRECT(C$20),OOPE_col,FALSE)),\"\",VLOOKUP($A131,INDIRECT(C$20),OOPE_col,FALSE)),\"\")","v":""},"","","","","","","","","","","","",null,"","","","","","","","","","","","","","","","","","","","","","","","","","","","","","","","","","","","","","","","","","",{"$f":"IF(A131=\"\",\"\",MAX(IF(ISERROR(AU131:BF131),0,AU131:BF131)))","v":""},"","","","","","","","","","","","","","","","","","",""]
[{"$f":"IF(ISBLANK('Control Sheet'!D112),\"\",'Control Sheet'!D112)","v":""},{"$f":"IF(ISBLANK('Control Sheet'!E112),\"\",'Control Sheet'!E112&\" (\"&'Control Sheet'!F112&\")\")","v":""},"","","","","","","","","","","","","",null,"","","","","","","","","","","","","","","","","","","","","","","","","","","","","","","","","","","","","","","","","","",{"$f":"IF(A132=\"\",\"\",MAX(IF(ISERROR(AU132:BF132),0,AU132:BF132)))","v":""},"","","","","","","","","","","","","","","","","","",""]
[{"$f":"IF(ISBLANK('Control Sheet'!D113),\"\",'Control Sheet'!D113)","v":""},{"$f":"IF(ISBLANK('Control Sheet'!E113),\"\",'Control Sheet'!E113&\" (\"&'Control Sheet'!F113&\")\")","v":""},"","","","","","","","","","","","","",null,"","","","","","","","","","","","","","","","","","","","","","","","","","","","","","","","","","","","","","","","","","",{"$f":"IF(A133=\"\",\"\",MAX(IF(ISERROR(AU133:BF133),0,AU133:BF133)))","v":""},"","","","","","","","","","","","","","","","","","",""]
[{"$f":"IF(ISBLANK('Control Sheet'!D114),\"\",'Control Sheet'!D114)","v":""},{"$f":"IF(ISBLANK('Control Sheet'!E114),\"\",'Control Sheet'!E114&\" (\"&'Control Sheet'!F114&\")\")","v":""},"","","","","","","","","","","","","",null,"","","","","","","","","","","","","","","","","","","","","","","","","","","","","","","","","","","","","","","","","","",{"$f":"IF(A134=\"\",\"\",MAX(IF(ISERROR(AU134:BF134),0,AU134:BF134)))","v":""},"","","","","","","","","","","","","","","","","","",""]
[{"$f":"IF(ISBLANK('Control Sheet'!D115),\"\",'Control Sheet'!D115)","v":""},{"$f":"IF(ISBLANK('Control Sheet'!E115),\"\",'Control Sheet'!E115&\" (\"&'Control Sheet'!F115&\")\")","v":""},"","","","","","","","","","","","","",null,"","","","","","","","","","","","","","","","","","","","","","","","","","","","","","","","","","","","","","","","","","",{"$f":"IF(A135=\"\",\"\",MAX(IF(ISERROR(AU135:BF135),0,AU135:BF135)))","v":""},"","","","","","","","","","","","","","","","","","",""]
[{"$f":"IF(ISBLANK('Control Sheet'!D116),\"\",'Control Sheet'!D116)","v":""},{"$f":"IF(ISBLANK('Control Sheet'!E116),\"\",'Control Sheet'!E116&\" (\"&'Control Sheet'!F116&\")\")","v":""},"","","","","","","","","","","","","",null,"","","","","","","","","","","","","","","","","","","","","","","","","","","","","","","","","","","","","","","","","","",{"$f":"IF(A136=\"\",\"\",MAX(IF(ISERROR(AU136:BF136),0,AU136:BF136)))","v":""},"","","","","","","","","","","","","","","","","","",""]
[{"$f":"IF(ISBLANK('Control Sheet'!D117),\"\",'Control Sheet'!D117)","v":""},{"$f":"IF(ISBLANK('Control Sheet'!E117),\"\",'Control Sheet'!E117&\" (\"&'Control Sheet'!F117&\")\")","v":""},"","","","","","","","","","","","","",null,"","","","","","","","","","","","","","","","","","","","","","","","","","","","","","","","","","","","","","","","","","",{"$f":"IF(A137=\"\",\"\",MAX(IF(ISERROR(AU137:BF137),0,AU137:BF137)))","v":""},"","","","","","","","","","","","","","","","","","",""]
[{"$f":"IF(ISBLANK('Control Sheet'!D118),\"\",'Control Sheet'!D118)","v":""},{"$f":"IF(ISBLANK('Control Sheet'!E118),\"\",'Control Sheet'!E118&\" (\"&'Control Sheet'!F118&\")\")","v":""},"","","","","","","","","","","","","",null,"","","","","","","","","","","","","","","","","","","","","","","","","","","","","","","","","","","","","","","","","","",{"$f":"IF(A138=\"\",\"\",MAX(IF(ISERROR(AU138:BF138),0,AU138:BF138)))","v":""},"","","","","","","","","","","","","","","","","","",""]
[{"$f":"IF(ISBLANK('Control Sheet'!D119),\"\",'Control Sheet'!D119)","v":""},{"$f":"IF(ISBLANK('Control Sheet'!E119),\"\",'Control Sheet'!E119&\" (\"&'Control Sheet'!F119&\")\")","v":""},"","","","","","","","","","","","","",null,"","","","","","","","","","","","","","","","","","","","","","","","","","","","","","","","","","","","","","","","","","",{"$f":"IF(A139=\"\",\"\",MAX(IF(ISERROR(AU139:BF139),0,AU139:BF139)))","v":""},"","","","","","","","","","","","","","","","","","",""]
[{"$f":"IF(ISBLANK('Control Sheet'!D120),\"\",'Control Sheet'!D120)","v":""},{"$f":"IF(ISBLANK('Control Sheet'!E120),\"\",'Control Sheet'!E120&\" (\"&'Control Sheet'!F120&\")\")","v":""},"","","","","","","","","","","","","",null,"","","","","","","","","","","","","","","","","","","","","","","","","","","","","","","","","","","","","","","","","","",{"$f":"IF(A140=\"\",\"\",MAX(IF(ISERROR(AU140:BF140),0,AU140:BF140)))","v":""},"","","","","","","","","","","","","","","","","","",""]
[{"$f":"IF(ISBLANK('Control Sheet'!D121),\"\",'Control Sheet'!D121)","v":""},{"$f":"IF(ISBLANK('Control Sheet'!E121),\"\",'Control Sheet'!E121&\" (\"&'Control Sheet'!F121&\")\")","v":""},{"$f":"IF(C$18=1,IF(ISNA(VLOOKUP($A141,INDIRECT(C$20),OOPE_col,FALSE)),\"\",VLOOKUP($A141,INDIRECT(C$20),OOPE_col,FALSE)),\"\")","v":""},"","","","","","","","","","","","",null,"","","","","","","","","","","","","","","","","","","","","","","","","","","","","","","","","","","","","","","","","","",{"$f":"IF(A141=\"\",\"\",MAX(IF(ISERROR(AU141:BF141),0,AU141:BF141)))","v":""},"","","","","","","","","","","","","","","","","","",""]
[{"$f":"IF(ISBLANK('Control Sheet'!D122),\"\",'Control Sheet'!D122)","v":""},{"$f":"IF(ISBLANK('Control Sheet'!E122),\"\",'Control Sheet'!E122&\" (\"&'Control Sheet'!F122&\")\")","v":""},"","","","","","","","","","","","","",null,"","","","","","","","","","","","","","","","","","","","","","","","","","","","","","","","","","","","","","","","","","",{"$f":"IF(A142=\"\",\"\",MAX(IF(ISERROR(AU142:BF142),0,AU142:BF142)))","v":""},"","","","","","","","","","","","","","","","","","",""]
[{"$f":"IF(ISBLANK('Control Sheet'!D123),\"\",'Control Sheet'!D123)","v":""},{"$f":"IF(ISBLANK('Control Sheet'!E123),\"\",'Control Sheet'!E123&\" (\"&'Control Sheet'!F123&\")\")","v":""},"","","","","","","","","","","","","",null,"","","","","","","","","","","","","","","","","","","","","","","","","","","","","","","","","","","","","","","","","","",{"$f":"IF(A143=\"\",\"\",MAX(IF(ISERROR(AU143:BF143),0,AU143:BF143)))","v":""},"","","","","","","","","","","","","","","","","","",""]
[{"$f":"IF(ISBLANK('Control Sheet'!D124),\"\",'Control Sheet'!D124)","v":""},{"$f":"IF(ISBLANK('Control Sheet'!E124),\"\",'Control Sheet'!E124&\" (\"&'Control Sheet'!F124&\")\")","v":""},"","","","","","","","","","","","","",null,"","","","","","","","","","","","","","","","","","","","","","","","","","","","","","","","","","","","","","","","","","",{"$f":"IF(A144=\"\",\"\",MAX(IF(ISERROR(AU144:BF144),0,AU144:BF144)))","v":""},"","","","","","","","","","","","","","","","","","",""]
[{"$f":"IF(ISBLANK('Control Sheet'!D125),\"\",'Control Sheet'!D125)","v":""},{"$f":"IF(ISBLANK('Control Sheet'!E125),\"\",'Control Sheet'!E125&\" (\"&'Control Sheet'!F125&\")\")","v":""},"","","","","","","","","","","","","",null,"","","","","","","","","","","","","","","","","","","","","","","","","","","","","","","","","","","","","","","","","","",{"$f":"IF(A145=\"\",\"\",MAX(IF(ISERROR(AU145:BF145),0,AU145:BF145)))","v":""},"","","","","","","","","","","","","","","","","","",""]
[{"$f":"IF(ISBLANK('Control Sheet'!D126),\"\",'Control Sheet'!D126)","v":""},{"$f":"IF(ISBLANK('Control Sheet'!E126),\"\",'Control Sheet'!E126&\" (\"&'Control Sheet'!F126&\")\")","v":""},"","","","","","","","","","","","","",null,"","","","","","","","","","","","","","","","","","","","","","","","","","","","","","","","","","","","","","","","","","",{"$f":"IF(A146=\"\",\"\",MAX(IF(ISERROR(AU146:BF146),0,AU146:BF146)))","v":""},"","","","","","","","","","","","","","","","","","",""]
[{"$f":"IF(ISBLANK('Control Sheet'!D127),\"\",'Control Sheet'!D127)","v":""},{"$f":"IF(ISBLANK('Control Sheet'!E127),\"\",'Control Sheet'!E127&\" (\"&'Control Sheet'!F127&\")\")","v":""},"","","","","","","","","","","","","",null,"","","","","","","","","","","","","","","","","","","","","","","","","","","","","","","","","","","","","","","","","","",{"$f":"IF(A147=\"\",\"\",MAX(IF(ISERROR(AU147:BF147),0,AU147:BF147)))","v":""},"","","","","","","","","","","","","","","","","","",""]
[{"$f":"IF(ISBLANK('Control Sheet'!D128),\"\",'Control Sheet'!D128)","v":""},{"$f":"IF(ISBLANK('Control Sheet'!E128),\"\",'Control Sheet'!E128&\" (\"&'Control Sheet'!F128&\")\")","v":""},"","","","","","","","","","","","","",null,"","","","","","","","","","","","","","","","","","","","","","","","","","","","","","","","","","","","","","","","","","",{"$f":"IF(A148=\"\",\"\",MAX(IF(ISERROR(AU148:BF148),0,AU148:BF148)))","v":""},"","","","","","","","","","","","","","","","","","",""]
[{"$f":"IF(ISBLANK('Control Sheet'!D129),\"\",'Control Sheet'!D129)","v":""},{"$f":"IF(ISBLANK('Control Sheet'!E129),\"\",'Control Sheet'!E129&\" (\"&'Control Sheet'!F129&\")\")","v":""},"","","","","","","","","","","","","",null,"",{"$f":"IF(A149=\"\",\"\",OOPEMonthsPop-(COUNTA(C149:N149)-COUNTBLANK(C149:N149)))","v":""},"","","","","","","","","","","","","","","","","","","","","","","","","","","","",{"$f":"IF(OR(A149=\"\",OOPEMonthsPop=0),\"\",IF(AU$18=OOPEMonthsPop,AH149,#N/A))","v":""},{"$f":"IF(OR($A149=\"\",OOPEMonthsPop=0),\"\",IF(AV$18<OOPEMonthsPop,#N/A,IF(AV$18=OOPEMonthsPop,AI149,IF(AU149=\"\",\"\",IF(AV$18=OOPEMonthsPop+1,AU149+(AU149*VLOOKUP(OOPEMonthsPop-$R149,ForecastMult,3,FALSE)/12),AU149+AU149-AT149)))))","v":""},{"$f":"IF(OR($A149=\"\",OOPEMonthsPop=0),\"\",IF(AW$18<OOPEMonthsPop,#N/A,IF(AW$18=OOPEMonthsPop,AJ149,IF(AV149=\"\",\"\",IF(AW$18=OOPEMonthsPop+1,AV149+(AV149*VLOOKUP(OOPEMonthsPop-$R149,ForecastMult,3,FALSE)/12),AV149+AV149-AU149)))))","v":""},{"$f":"IF(OR($A149=\"\",OOPEMonthsPop=0),\"\",IF(AX$18<OOPEMonthsPop,#N/A,IF(AX$18=OOPEMonthsPop,AK149,IF(AW149=\"\",\"\",IF(AX$18=OOPEMonthsPop+1,AW149+(AW149*VLOOKUP(OOPEMonthsPop-$R149,ForecastMult,3,FALSE)/12),AW149+AW149-AV149)))))","v":""},{"$f":"IF(OR($A149=\"\",OOPEMonthsPop=0),\"\",IF(AY$18<OOPEMonthsPop,#N/A,IF(AY$18=OOPEMonthsPop,AL149,IF(AX149=\"\",\"\",IF(AY$18=OOPEMonthsPop+1,AX149+(AX149*VLOOKUP(OOPEMonthsPop-$R149,ForecastMult,3,FALSE)/12),AX149+AX149-AW149)))))","v":""},{"$f":"IF(OR($A149=\"\",OOPEMonthsPop=0),\"\",IF(AZ$18<OOPEMonthsPop,#N/A,IF(AZ$18=OOPEMonthsPop,AM149,IF(AY149=\"\",\"\",IF(AZ$18=OOPEMonthsPop+1,AY149+(AY149*VLOOKUP(OOPEMonthsPop-$R149,ForecastMult,3,FALSE)/12),AY149+AY149-AX149)))))","v":""},{"$f":"IF(OR($A149=\"\",OOPEMonthsPop=0),\"\",IF(BA$18<OOPEMonthsPop,#N/A,IF(BA$18=OOPEMonthsPop,AN149,IF(AZ149=\"\",\"\",IF(BA$18=OOPEMonthsPop+1,AZ149+(AZ149*VLOOKUP(OOPEMonthsPop-$R149,ForecastMult,3,FALSE)/12),AZ149+AZ149-AY149)))))","v":""},{"$f":"IF(OR($A149=\"\",OOPEMonthsPop=0),\"\",IF(BB$18<OOPEMonthsPop,#N/A,IF(BB$18=OOPEMonthsPop,AO149,IF(BA149=\"\",\"\",IF(BB$18=OOPEMonthsPop+1,BA149+(BA149*VLOOKUP(OOPEMonthsPop-$R149,ForecastMult,3,FALSE)/12),BA149+BA149-AZ149)))))","v":""},{"$f":"IF(OR($A149=\"\",OOPEMonthsPop=0),\"\",IF(BC$18<OOPEMonthsPop,#N/A,IF(BC$18=OOPEMonthsPop,AP149,IF(BB149=\"\",\"\",IF(BC$18=OOPEMonthsPop+1,BB149+(BB149*VLOOKUP(OOPEMonthsPop-$R149,ForecastMult,3,FALSE)/12),BB149+BB149-BA149)))))","v":""},{"$f":"IF(OR($A149=\"\",OOPEMonthsPop=0),\"\",IF(BD$18<OOPEMonthsPop,#N/A,IF(BD$18=OOPEMonthsPop,AQ149,IF(BC149=\"\",\"\",IF(BD$18=OOPEMonthsPop+1,BC149+(BC149*VLOOKUP(OOPEMonthsPop-$R149,ForecastMult,3,FALSE)/12),BC149+BC149-BB149)))))","v":""},{"$f":"IF(OR($A149=\"\",OOPEMonthsPop=0),\"\",IF(BE$18<OOPEMonthsPop,#N/A,IF(BE$18=OOPEMonthsPop,AR149,IF(BD149=\"\",\"\",IF(BE$18=OOPEMonthsPop+1,BD149+(BD149*VLOOKUP(OOPEMonthsPop-$R149,ForecastMult,3,FALSE)/12),BD149+BD149-BC149)))))","v":""},{"$f":"IF(OR($A149=\"\",OOPEMonthsPop=0),\"\",IF(BF$18<OOPEMonthsPop,#N/A,IF(BF$18=OOPEMonthsPop,AS149,IF(BE149=\"\",\"\",IF(BF$18=OOPEMonthsPop+1,BE149+(BE149*VLOOKUP(OOPEMonthsPop-$R149,ForecastMult,3,FALSE)/12),BE149+BE149-BD149)))))","v":""},{"$f":"IF(A149=\"\",\"\",MAX(IF(ISERROR(AU149:BF149),0,AU149:BF149)))","v":""},{"$f":"IF(AND(C$18=1,$A149<>\"\"),IF(ISNA(VLOOKUP($A149,INDIRECT(C$20),TOT_STDR_PXS_col,FALSE)),\"\",VLOOKUP($A149,INDIRECT(C$20),TOT_STDR_PXS_col,FALSE)+VLOOKUP($A149,INDIRECT(C$20),TOT_ZDR_PXS_col,FALSE)),\"\")","v":""},{"$f":"IF(AND(D$18=1,$A149<>\"\"),IF(ISNA(VLOOKUP($A149,INDIRECT(D$20),TOT_STDR_PXS_col,FALSE)),\"\",VLOOKUP($A149,INDIRECT(D$20),TOT_STDR_PXS_col,FALSE)+VLOOKUP($A149,INDIRECT(D$20),TOT_ZDR_PXS_col,FALSE)),\"\")","v":""},{"$f":"IF(AND(E$18=1,$A149<>\"\"),IF(ISNA(VLOOKUP($A149,INDIRECT(E$20),TOT_STDR_PXS_col,FALSE)),\"\",VLOOKUP($A149,INDIRECT(E$20),TOT_STDR_PXS_col,FALSE)+VLOOKUP($A149,INDIRECT(E$20),TOT_ZDR_PXS_col,FALSE)),\"\")","v":""},{"$f":"IF(AND(F$18=1,$A149<>\"\"),IF(ISNA(VLOOKUP($A149,INDIRECT(F$20),TOT_STDR_PXS_col,FALSE)),\"\",VLOOKUP($A149,INDIRECT(F$20),TOT_STDR_PXS_col,FALSE)+VLOOKUP($A149,INDIRECT(F$20),TOT_ZDR_PXS_col,FALSE)),\"\")","v":""},{"$f":"IF(AND(G$18=1,$A149<>\"\"),IF(ISNA(VLOOKUP($A149,INDIRECT(G$20),TOT_STDR_PXS_col,FALSE)),\"\",VLOOKUP($A149,INDIRECT(G$20),TOT_STDR_PXS_col,FALSE)+VLOOKUP($A149,INDIRECT(G$20),TOT_ZDR_PXS_col,FALSE)),\"\")","v":""},{"$f":"IF(AND(H$18=1,$A149<>\"\"),IF(ISNA(VLOOKUP($A149,INDIRECT(H$20),TOT_STDR_PXS_col,FALSE)),\"\",VLOOKUP($A149,INDIRECT(H$20),TOT_STDR_PXS_col,FALSE)+VLOOKUP($A149,INDIRECT(H$20),TOT_ZDR_PXS_col,FALSE)),\"\")","v":""},{"$f":"IF(AND(I$18=1,$A149<>\"\"),IF(ISNA(VLOOKUP($A149,INDIRECT(I$20),TOT_STDR_PXS_col,FALSE)),\"\",VLOOKUP($A149,INDIRECT(I$20),TOT_STDR_PXS_col,FALSE)+VLOOKUP($A149,INDIRECT(I$20),TOT_ZDR_PXS_col,FALSE)),\"\")","v":""},{"$f":"IF(AND(J$18=1,$A149<>\"\"),IF(ISNA(VLOOKUP($A149,INDIRECT(J$20),TOT_STDR_PXS_col,FALSE)),\"\",VLOOKUP($A149,INDIRECT(J$20),TOT_STDR_PXS_col,FALSE)+VLOOKUP($A149,INDIRECT(J$20),TOT_ZDR_PXS_col,FALSE)),\"\")","v":""},{"$f":"IF(AND(K$18=1,$A149<>\"\"),IF(ISNA(VLOOKUP($A149,INDIRECT(K$20),TOT_STDR_PXS_col,FALSE)),\"\",VLOOKUP($A149,INDIRECT(K$20),TOT_STDR_PXS_col,FALSE)+VLOOKUP($A149,INDIRECT(K$20),TOT_ZDR_PXS_col,FALSE)),\"\")","v":""},{"$f":"IF(AND(L$18=1,$A149<>\"\"),IF(ISNA(VLOOKUP($A149,INDIRECT(L$20),TOT_STDR_PXS_col,FALSE)),\"\",VLOOKUP($A149,INDIRECT(L$20),TOT_STDR_PXS_col,FALSE)+VLOOKUP($A149,INDIRECT(L$20),TOT_ZDR_PXS_col,FALSE)),\"\")","v":""},{"$f":"IF(AND(M$18=1,$A149<>\"\"),IF(ISNA(VLOOKUP($A149,INDIRECT(M$20),TOT_STDR_PXS_col,FALSE)),\"\",VLOOKUP($A149,INDIRECT(M$20),TOT_STDR_PXS_col,FALSE)+VLOOKUP($A149,INDIRECT(M$20),TOT_ZDR_PXS_col,FALSE)),\"\")","v":""},{"$f":"IF(AND(N$18=1,$A149<>\"\"),IF(ISNA(VLOOKUP($A149,INDIRECT(N$20),TOT_STDR_PXS_col,FALSE)),\"\",VLOOKUP($A149,INDIRECT(N$20),TOT_STDR_PXS_col,FALSE)+VLOOKUP($A149,INDIRECT(N$20),TOT_ZDR_PXS_col,FALSE)),\"\")","v":""},"","","","","","",""]
[{"$f":"IF(ISBLANK('Control Sheet'!D130),\"\",'Control Sheet'!D130)","v":""},{"$f":"IF(ISBLANK('Control Sheet'!E130),\"\",'Control Sheet'!E130&\" (\"&'Control Sheet'!F130&\")\")","v":""},"","","","","","","","","","","","",{"$f":"IF(A150=\"\",\"\",SUM(C150:N150))","v":""},null,{"$f":"IF(A150=\"\",\"\",IF(BG150<=400,\"No\",\"Yes\"))","v":""},"",{"$f":"IF(C150=\"\",\"\",IF(C150<=C$10,1,IF(C150<=C$7,2,IF(C150<=C$8,3,IF(C150<=C$9,4,IF(C150<=C$11,5,60))))))","v":""},{"$f":"IF(D150=\"\",\"\",IF(D150<=D$10,1,IF(D150<=D$7,2,IF(D150<=D$8,3,IF(D150<=D$9,4,IF(D150<=D$11,5,60))))))","v":""},{"$f":"IF(E150=\"\",\"\",IF(E150<=E$10,1,IF(E150<=E$7,2,IF(E150<=E$8,3,IF(E150<=E$9,4,IF(E150<=E$11,5,60))))))","v":""},{"$f":"IF(F150=\"\",\"\",IF(F150<=F$10,1,IF(F150<=F$7,2,IF(F150<=F$8,3,IF(F150<=F$9,4,IF(F150<=F$11,5,60))))))","v":""},{"$f":"IF(G150=\"\",\"\",IF(G150<=G$10,1,IF(G150<=G$7,2,IF(G150<=G$8,3,IF(G150<=G$9,4,IF(G150<=G$11,5,60))))))","v":""},{"$f":"IF(H150=\"\",\"\",IF(H150<=H$10,1,IF(H150<=H$7,2,IF(H150<=H$8,3,IF(H150<=H$9,4,IF(H150<=H$11,5,60))))))","v":""},{"$f":"IF(I150=\"\",\"\",IF(I150<=I$10,1,IF(I150<=I$7,2,IF(I150<=I$8,3,IF(I150<=I$9,4,IF(I150<=I$11,5,60))))))","v":""},{"$f":"IF(J150=\"\",\"\",IF(J150<=J$10,1,IF(J150<=J$7,2,IF(J150<=J$8,3,IF(J150<=J$9,4,IF(J150<=J$11,5,60))))))","v":""},{"$f":"IF(K150=\"\",\"\",IF(K150<=K$10,1,IF(K150<=K$7,2,IF(K150<=K$8,3,IF(K150<=K$9,4,IF(K150<=K$11,5,60))))))","v":""},{"$f":"IF(L150=\"\",\"\",IF(L150<=L$10,1,IF(L150<=L$7,2,IF(L150<=L$8,3,IF(L150<=L$9,4,IF(L150<=L$11,5,60))))))","v":""},{"$f":"IF(M150=\"\",\"\",IF(M150<=M$10,1,IF(M150<=M$7,2,IF(M150<=M$8,3,IF(M150<=M$9,4,IF(M150<=M$11,5,60))))))","v":""},{"$f":"IF(N150=\"\",\"\",IF(N150<=N$10,1,IF(N150<=N$7,2,IF(N150<=N$8,3,IF(N150<=N$9,4,IF(N150<=N$11,5,60))))))","v":""},{"$f":"IF(A150=\"\",\"\",SUM(S150:AD150))","v":""},{"$f":"IF(OR(A150=\"\",AE150=0),\"\",AE150/O$18)","v":""},{"$f":"IF(AF150=\"\",\"\",IF(AF150<=1,\"Lower Outlier\",IF(AF150<=2,\"Below Average\",IF(AF150<=3,\"Lower Quartile\",IF(AF150<=4,\"Upper Quartile\",IF(AF150<=5, \"Above Average\", \"Upper Outlier\"))))))","v":""},{"$f":"IF(C$18=1,C150,\"\")","v":""},{"$f":"IF(D$18=1,IF(D150=\"\",IF(AH150=\"\",\"\",AH150),IF(AND(D150>=0,AH150=\"\"),D150,IF(ISERROR(D150+AH150),#N/A,D150+AH150))),\"\")","v":""},{"$f":"IF(E$18=1,IF(E150=\"\",IF(AI150=\"\",\"\",AI150),IF(AND(E150>=0,AI150=\"\"),E150,IF(ISERROR(E150+AI150),#N/A,E150+AI150))),\"\")","v":""},{"$f":"IF(F$18=1,IF(F150=\"\",IF(AJ150=\"\",\"\",AJ150),IF(AND(F150>=0,AJ150=\"\"),F150,IF(ISERROR(F150+AJ150),#N/A,F150+AJ150))),\"\")","v":""},{"$f":"IF(G$18=1,IF(G150=\"\",IF(AK150=\"\",\"\",AK150),IF(AND(G150>=0,AK150=\"\"),G150,IF(ISERROR(G150+AK150),#N/A,G150+AK150))),\"\")","v":""},{"$f":"IF(H$18=1,IF(H150=\"\",IF(AL150=\"\",\"\",AL150),IF(AND(H150>=0,AL150=\"\"),H150,IF(ISERROR(H150+AL150),#N/A,H150+AL150))),\"\")","v":""},{"$f":"IF(I$18=1,IF(I150=\"\",IF(AM150=\"\",\"\",AM150),IF(AND(I150>=0,AM150=\"\"),I150,IF(ISERROR(I150+AM150),#N/A,I150+AM150))),\"\")","v":""},{"$f":"IF(J$18=1,IF(J150=\"\",IF(AN150=\"\",\"\",AN150),IF(AND(J150>=0,AN150=\"\"),J150,IF(ISERROR(J150+AN150),#N/A,J150+AN150))),\"\")","v":""},{"$f":"IF(K$18=1,IF(K150=\"\",IF(AO150=\"\",\"\",AO150),IF(AND(K150>=0,AO150=\"\"),K150,IF(ISERROR(K150+AO150),#N/A,K150+AO150))),\"\")","v":""},{"$f":"IF(L$18=1,IF(L150=\"\",IF(AP150=\"\",\"\",AP150),IF(AND(L150>=0,AP150=\"\"),L150,IF(ISERROR(L150+AP150),#N/A,L150+AP150))),\"\")","v":""},{"$f":"IF(M$18=1,IF(M150=\"\",IF(AQ150=\"\",\"\",AQ150),IF(AND(M150>=0,AQ150=\"\"),M150,IF(ISERROR(M150+AQ150),#N/A,M150+AQ150))),\"\")","v":""},{"$f":"IF(N$18=1,IF(N150=\"\",IF(AR150=\"\",\"\",AR150),IF(AND(N150>=0,AR150=\"\"),N150,IF(ISERROR(N150+AR150),#N/A,N150+AR150))),\"\")","v":""},{"$f":"IF(A150=\"\",\"\",MAX(AH150:AS150))","v":""},"","","","","","","","","","","","",{"$f":"IF(A150=\"\",\"\",MAX(IF(ISERROR(AU150:BF150),0,AU150:BF150)))","v":""},"","","","","","","","","","","","",{"$f":"IF(A150=\"\",\"\",SUM(BH150:BS150))","v":""},{"$f":"IF(A150=\"\",\"\",MIN(B150:M150))","v":""},{"$f":"IF(A150=\"\",\"\",MAX(B150:M150))","v":""},{"$f":"IF(A150=\"\",\"\",IF(BV150-BU150=0,\"\",BV150-BU150))","v":""},{"$f":"IF(A150=\"\",\"\",IF(BW150=\"\",\"No\",IF(BW150>$BW$11,\"Yes\",\"No\")))","v":""},{"$f":"IF(A150=\"\",\"\",(COUNTA(C150:N150)-COUNTBLANK(C150:N150)))","v":""},{"$f":"IF(A150=\"\",\"\",BY150-COUNTIF(C150:N150,\"=0\"))","v":""}]
[{"$f":"IF(ISBLANK('Control Sheet'!D131),\"\",'Control Sheet'!D131)","v":""},{"$f":"IF(ISBLANK('Control Sheet'!E131),\"\",'Control Sheet'!E131&\" (\"&'Control Sheet'!F131&\")\")","v":""},{"$f":"IF(C$18=1,IF(ISNA(VLOOKUP($A151,INDIRECT(C$20),OOPE_col,FALSE)),\"\",VLOOKUP($A151,INDIRECT(C$20),OOPE_col,FALSE)),\"\")","v":""},"","","","","","","","","","","","",null,"","","","","","","","","","","","","","","","","","","","","","","","","","","","","","","","","","","","","","","","","","",{"$f":"IF(A151=\"\",\"\",MAX(IF(ISERROR(AU151:BF151),0,AU151:BF151)))","v":""},"","","","","","","","","","","","","","","","","","",""]
[{"$f":"IF(ISBLANK('Control Sheet'!D132),\"\",'Control Sheet'!D132)","v":""},{"$f":"IF(ISBLANK('Control Sheet'!E132),\"\",'Control Sheet'!E132&\" (\"&'Control Sheet'!F132&\")\")","v":""},"","","","","","","","","","","","","",null,"","","","","","","","","","","","","","","","","","","","","","","","","","","","","","","","","","","","","","","","","","",{"$f":"IF(A152=\"\",\"\",MAX(IF(ISERROR(AU152:BF152),0,AU152:BF152)))","v":""},"","","","","","","","","","","","","","","","","","",""]
[{"$f":"IF(ISBLANK('Control Sheet'!D133),\"\",'Control Sheet'!D133)","v":""},{"$f":"IF(ISBLANK('Control Sheet'!E133),\"\",'Control Sheet'!E133&\" (\"&'Control Sheet'!F133&\")\")","v":""},"","","","","","","","","","","","","",null,"","","","","","","","","","","","","","","","","","","","","","","","","","","","","","","","","","","","","","","","","","",{"$f":"IF(A153=\"\",\"\",MAX(IF(ISERROR(AU153:BF153),0,AU153:BF153)))","v":""},"","","","","","","","","","","","","","","","","","",""]
[{"$f":"IF(ISBLANK('Control Sheet'!D134),\"\",'Control Sheet'!D134)","v":""},{"$f":"IF(ISBLANK('Control Sheet'!E134),\"\",'Control Sheet'!E134&\" (\"&'Control Sheet'!F134&\")\")","v":""},"","","","","","","","","","","","","",null,"","","","","","","","","","","","","","","","","","","","","","","","","","","","","","","","","","","","","","","","","","",{"$f":"IF(A154=\"\",\"\",MAX(IF(ISERROR(AU154:BF154),0,AU154:BF154)))","v":""},"","","","","","","","","","","","","","","","","","",""]
[{"$f":"IF(ISBLANK('Control Sheet'!D135),\"\",'Control Sheet'!D135)","v":""},{"$f":"IF(ISBLANK('Control Sheet'!E135),\"\",'Control Sheet'!E135&\" (\"&'Control Sheet'!F135&\")\")","v":""},"","","","","","","","","","","","","",null,"","","","","","","","","","","","","","","","","","","","","","","","","","","","","","","","","","","","","","","","","","",{"$f":"IF(A155=\"\",\"\",MAX(IF(ISERROR(AU155:BF155),0,AU155:BF155)))","v":""},"","","","","","","","","","","","","","","","","","",""]
[{"$f":"IF(ISBLANK('Control Sheet'!D136),\"\",'Control Sheet'!D136)","v":""},{"$f":"IF(ISBLANK('Control Sheet'!E136),\"\",'Control Sheet'!E136&\" (\"&'Control Sheet'!F136&\")\")","v":""},"","","","","","","","","","","","","",null,"","","","","","","","","","","","","","","","","","","","","","","","","","","","","","","","","","","","","","","","","","",{"$f":"IF(A156=\"\",\"\",MAX(IF(ISERROR(AU156:BF156),0,AU156:BF156)))","v":""},"","","","","","","","","","","","","","","","","","",""]
[{"$f":"IF(ISBLANK('Control Sheet'!D137),\"\",'Control Sheet'!D137)","v":""},{"$f":"IF(ISBLANK('Control Sheet'!E137),\"\",'Control Sheet'!E137&\" (\"&'Control Sheet'!F137&\")\")","v":""},"","","","","","","","","","","","","",null,"","","","","","","","","","","","","","","","","","","","","","","","","","","","","","","","","","","","","","","","","","",{"$f":"IF(A157=\"\",\"\",MAX(IF(ISERROR(AU157:BF157),0,AU157:BF157)))","v":""},"","","","","","","","","","","","","","","","","","",""]
[{"$f":"IF(ISBLANK('Control Sheet'!D138),\"\",'Control Sheet'!D138)","v":""},{"$f":"IF(ISBLANK('Control Sheet'!E138),\"\",'Control Sheet'!E138&\" (\"&'Control Sheet'!F138&\")\")","v":""},"","","","","","","","","","","","","",null,"","","","","","","","","","","","","","","","","","","","","","","","","","","","","","","","","","","","","","","","","","",{"$f":"IF(A158=\"\",\"\",MAX(IF(ISERROR(AU158:BF158),0,AU158:BF158)))","v":""},"","","","","","","","","","","","","","","","","","",""]
[{"$f":"IF(ISBLANK('Control Sheet'!D139),\"\",'Control Sheet'!D139)","v":""},{"$f":"IF(ISBLANK('Control Sheet'!E139),\"\",'Control Sheet'!E139&\" (\"&'Control Sheet'!F139&\")\")","v":""},"","","","","","","","","","","","","",null,"","","","","","","","","","","","","","","","","","","","","","","","","","","","","","","","","","","","","","","","","","",{"$f":"IF(A159=\"\",\"\",MAX(IF(ISERROR(AU159:BF159),0,AU159:BF159)))","v":""},"","","","","","","","","","","","","","","","","","",""]
[{"$f":"IF(ISBLANK('Control Sheet'!D140),\"\",'Control Sheet'!D140)","v":""},{"$f":"IF(ISBLANK('Control Sheet'!E140),\"\",'Control Sheet'!E140&\" (\"&'Control Sheet'!F140&\")\")","v":""},"","","","","","","","","","","","","",null,"","","","","","","","","","","","","","","","","","","","","","","","","","","","","","","","","","","","","","","","","","",{"$f":"IF(A160=\"\",\"\",MAX(IF(ISERROR(AU160:BF160),0,AU160:BF160)))","v":""},"","","","","","","","","","","","","","","","","","",""]
[{"$f":"IF(ISBLANK('Control Sheet'!D141),\"\",'Control Sheet'!D141)","v":""},{"$f":"IF(ISBLANK('Control Sheet'!E141),\"\",'Control Sheet'!E141&\" (\"&'Control Sheet'!F141&\")\")","v":""},{"$f":"IF(C$18=1,IF(ISNA(VLOOKUP($A161,INDIRECT(C$20),OOPE_col,FALSE)),\"\",VLOOKUP($A161,INDIRECT(C$20),OOPE_col,FALSE)),\"\")","v":""},"","","","","","","","","","","","",null,"","","","","","","","","","","","","","","","","","","","","","","","","","","","","","","","","","","","","","","","","","",{"$f":"IF(A161=\"\",\"\",MAX(IF(ISERROR(AU161:BF161),0,AU161:BF161)))","v":""},"","","","","","","","","","","","","","","","","","",""]
[{"$f":"IF(ISBLANK('Control Sheet'!D142),\"\",'Control Sheet'!D142)","v":""},{"$f":"IF(ISBLANK('Control Sheet'!E142),\"\",'Control Sheet'!E142&\" (\"&'Control Sheet'!F142&\")\")","v":""},"","","","","","","","","","","","","",null,"","","","","","","","","","","","","","","","","","","","","","","","","","","","","","","","","","","","","","","","","","",{"$f":"IF(A162=\"\",\"\",MAX(IF(ISERROR(AU162:BF162),0,AU162:BF162)))","v":""},"","","","","","","","","","","","","","","","","","",""]
[{"$f":"IF(ISBLANK('Control Sheet'!D143),\"\",'Control Sheet'!D143)","v":""},{"$f":"IF(ISBLANK('Control Sheet'!E143),\"\",'Control Sheet'!E143&\" (\"&'Control Sheet'!F143&\")\")","v":""},"","","","","","","","","","","","","",null,"","","","","","","","","","","","","","","","","","","","","","","","","","","","","","","","","","","","","","","","","","",{"$f":"IF(A163=\"\",\"\",MAX(IF(ISERROR(AU163:BF163),0,AU163:BF163)))","v":""},"","","","","","","","","","","","","","","","","","",""]
[{"$f":"IF(ISBLANK('Control Sheet'!D144),\"\",'Control Sheet'!D144)","v":""},{"$f":"IF(ISBLANK('Control Sheet'!E144),\"\",'Control Sheet'!E144&\" (\"&'Control Sheet'!F144&\")\")","v":""},"","","","","","","","","","","","","",null,"","","","","","","","","","","","","","","","","","","","","","","","","","","","","","","","","","","","","","","","","","",{"$f":"IF(A164=\"\",\"\",MAX(IF(ISERROR(AU164:BF164),0,AU164:BF164)))","v":""},"","","","","","","","","","","","","","","","","","",""]
[{"$f":"IF(ISBLANK('Control Sheet'!D145),\"\",'Control Sheet'!D145)","v":""},{"$f":"IF(ISBLANK('Control Sheet'!E145),\"\",'Control Sheet'!E145&\" (\"&'Control Sheet'!F145&\")\")","v":""},"","","","","","","","","","","","","",null,"","","","","","","","","","","","","","","","","","","","","","","","","","","","","","","","","","","","","","","","","","",{"$f":"IF(A165=\"\",\"\",MAX(IF(ISERROR(AU165:BF165),0,AU165:BF165)))","v":""},"","","","","","","","","","","","","","","","","","",""]
[{"$f":"IF(ISBLANK('Control Sheet'!D146),\"\",'Control Sheet'!D146)","v":""},{"$f":"IF(ISBLANK('Control Sheet'!E146),\"\",'Control Sheet'!E146&\" (\"&'Control Sheet'!F146&\")\")","v":""},"","","","","","","","","","","","","",null,"","","","","","","","","","","","","","","","","","","","","","","","","","","","","","","","","","","","","","","","","","",{"$f":"IF(A166=\"\",\"\",MAX(IF(ISERROR(AU166:BF166),0,AU166:BF166)))","v":""},"","","","","","","","","","","","","","","","","","",""]
[{"$f":"IF(ISBLANK('Control Sheet'!D147),\"\",'Control Sheet'!D147)","v":""},{"$f":"IF(ISBLANK('Control Sheet'!E147),\"\",'Control Sheet'!E147&\" (\"&'Control Sheet'!F147&\")\")","v":""},"","","","","","","","","","","","","",null,"","","","","","","","","","","","","","","","","","","","","","","","","","","","","","","","","","","","","","","","","","",{"$f":"IF(A167=\"\",\"\",MAX(IF(ISERROR(AU167:BF167),0,AU167:BF167)))","v":""},"","","","","","","","","","","","","","","","","","",""]
[{"$f":"IF(ISBLANK('Control Sheet'!D148),\"\",'Control Sheet'!D148)","v":""},{"$f":"IF(ISBLANK('Control Sheet'!E148),\"\",'Control Sheet'!E148&\" (\"&'Control Sheet'!F148&\")\")","v":""},"","","","","","","","","","","","","",null,"","","","","","","","","","","","","","","","","","","","","","","","","","","","","","","","","","","","","","","","","","",{"$f":"IF(A168=\"\",\"\",MAX(IF(ISERROR(AU168:BF168),0,AU168:BF168)))","v":""},"","","","","","","","","","","","","","","","","","",""]
[{"$f":"IF(ISBLANK('Control Sheet'!D149),\"\",'Control Sheet'!D149)","v":""},{"$f":"IF(ISBLANK('Control Sheet'!E149),\"\",'Control Sheet'!E149&\" (\"&'Control Sheet'!F149&\")\")","v":""},"","","","","","","","","","","","","",null,"","","","","","","","","","","","","","","","","","","","","","","","","","","","","","","","","","","","","","","","","","",{"$f":"IF(A169=\"\",\"\",MAX(IF(ISERROR(AU169:BF169),0,AU169:BF169)))","v":""},"","","","","","","","","","","","","","","","","","",""]
[{"$f":"IF(ISBLANK('Control Sheet'!D150),\"\",'Control Sheet'!D150)","v":""},{"$f":"IF(ISBLANK('Control Sheet'!E150),\"\",'Control Sheet'!E150&\" (\"&'Control Sheet'!F150&\")\")","v":""},"","","","","","","","","","","","","",null,"","","","","","","","","","","","","","","","","","","","","","","","","","","","","","","","","","","","","","","","","","",{"$f":"IF(A170=\"\",\"\",MAX(IF(ISERROR(AU170:BF170),0,AU170:BF170)))","v":""},"","","","","","","","","","","","","","","","","","",""]
[{"$f":"IF(ISBLANK('Control Sheet'!D151),\"\",'Control Sheet'!D151)","v":""},{"$f":"IF(ISBLANK('Control Sheet'!E151),\"\",'Control Sheet'!E151&\" (\"&'Control Sheet'!F151&\")\")","v":""},{"$f":"IF(C$18=1,IF(ISNA(VLOOKUP($A171,INDIRECT(C$20),OOPE_col,FALSE)),\"\",VLOOKUP($A171,INDIRECT(C$20),OOPE_col,FALSE)),\"\")","v":""},"","","","","","","","","","","","",null,"","","","","","","","","","","","","","","","","","","","","","","","","","","","","","","","","","","","","","","","","","",{"$f":"IF(A171=\"\",\"\",MAX(IF(ISERROR(AU171:BF171),0,AU171:BF171)))","v":""},"","","","","","","","","","","","","","","","","","",""]
[{"$f":"IF(ISBLANK('Control Sheet'!D152),\"\",'Control Sheet'!D152)","v":""},{"$f":"IF(ISBLANK('Control Sheet'!E152),\"\",'Control Sheet'!E152&\" (\"&'Control Sheet'!F152&\")\")","v":""},"","","","","","","","","","","","","",null,"","","","","","","","","","","","","","","","","","","","","","","","","","","","","","","","","","","","","","","","","","",{"$f":"IF(A172=\"\",\"\",MAX(IF(ISERROR(AU172:BF172),0,AU172:BF172)))","v":""},"","","","","","","","","","","","","","","","","","",""]
[{"$f":"IF(ISBLANK('Control Sheet'!D153),\"\",'Control Sheet'!D153)","v":""},{"$f":"IF(ISBLANK('Control Sheet'!E153),\"\",'Control Sheet'!E153&\" (\"&'Control Sheet'!F153&\")\")","v":""},"","","","","","","","","","","","","",null,"","","","","","","","","","","","","","","","","","","","","","","","","","","","","","","","","","","","","","","","","","",{"$f":"IF(A173=\"\",\"\",MAX(IF(ISERROR(AU173:BF173),0,AU173:BF173)))","v":""},"","","","","","","","","","","","","","","","","","",""]
[{"$f":"IF(ISBLANK('Control Sheet'!D154),\"\",'Control Sheet'!D154)","v":""},{"$f":"IF(ISBLANK('Control Sheet'!E154),\"\",'Control Sheet'!E154&\" (\"&'Control Sheet'!F154&\")\")","v":""},"","","","","","","","","","","","","",null,"","","","","","","","","","","","","","","","","","","","","","","","","","","","","","","","","","","","","","","","","","",{"$f":"IF(A174=\"\",\"\",MAX(IF(ISERROR(AU174:BF174),0,AU174:BF174)))","v":""},"","","","","","","","","","","","","","","","","","",""]
[{"$f":"IF(ISBLANK('Control Sheet'!D155),\"\",'Control Sheet'!D155)","v":""},{"$f":"IF(ISBLANK('Control Sheet'!E155),\"\",'Control Sheet'!E155&\" (\"&'Control Sheet'!F155&\")\")","v":""},"","","","","","","","","","","","","",null,"","","","","","","","","","","","","","","","","","","","","","","","","","","","","","","","","","","","","","","","","","",{"$f":"IF(A175=\"\",\"\",MAX(IF(ISERROR(AU175:BF175),0,AU175:BF175)))","v":""},"","","","","","","","","","","","","","","","","","",""]
[{"$f":"IF(ISBLANK('Control Sheet'!D156),\"\",'Control Sheet'!D156)","v":""},{"$f":"IF(ISBLANK('Control Sheet'!E156),\"\",'Control Sheet'!E156&\" (\"&'Control Sheet'!F156&\")\")","v":""},"","","","","","","","","","","","","",null,"","","","","","","","","","","","","","","","","","","","","","","","","","","","","","","","","","","","","","","","","","",{"$f":"IF(A176=\"\",\"\",MAX(IF(ISERROR(AU176:BF176),0,AU176:BF176)))","v":""},"","","","","","","","","","","","","","","","","","",""]
[{"$f":"IF(ISBLANK('Control Sheet'!D157),\"\",'Control Sheet'!D157)","v":""},{"$f":"IF(ISBLANK('Control Sheet'!E157),\"\",'Control Sheet'!E157&\" (\"&'Control Sheet'!F157&\")\")","v":""},"","","","","","","","","","","","","",null,"","","","","","","","","","","","","","","","","","","","","","","","","","","","","","","","","","","","","","","","","","",{"$f":"IF(A177=\"\",\"\",MAX(IF(ISERROR(AU177:BF177),0,AU177:BF177)))","v":""},"","","","","","","","","","","","","","","","","","",""]
[{"$f":"IF(ISBLANK('Control Sheet'!D158),\"\",'Control Sheet'!D158)","v":""},{"$f":"IF(ISBLANK('Control Sheet'!E158),\"\",'Control Sheet'!E158&\" (\"&'Control Sheet'!F158&\")\")","v":""},"","","","","","","","","","","","","",null,"","","","","","","","","","","","","","","","","","","","","","","","","","","","","","","","","","","","","","","","","","",{"$f":"IF(A178=\"\",\"\",MAX(IF(ISERROR(AU178:BF178),0,AU178:BF178)))","v":""},"","","","","","","","","","","","","","","","","","",""]
[{"$f":"IF(ISBLANK('Control Sheet'!D159),\"\",'Control Sheet'!D159)","v":""},{"$f":"IF(ISBLANK('Control Sheet'!E159),\"\",'Control Sheet'!E159&\" (\"&'Control Sheet'!F159&\")\")","v":""},"","","","","","","","","","","","","",null,"","","","","","","","","","","","","","","",{"$f":"IF(OR(A179=\"\",AE179=0),\"\",AE179/(O$18-R21))","v":""},"","","","","","","","","","","","","","","","","","","","","","","","","","",{"$f":"IF(A179=\"\",\"\",MAX(IF(ISERROR(AU179:BF179),0,AU179:BF179)))","v":""},"","","","","","","","","","","","","","","","","","",""]
[{"$f":"IF(ISBLANK('Control Sheet'!D160),\"\",'Control Sheet'!D160)","v":""},{"$f":"IF(ISBLANK('Control Sheet'!E160),\"\",'Control Sheet'!E160&\" (\"&'Control Sheet'!F160&\")\")","v":""},"","","","","","","","","","","","","",null,"","","","","","","","","","","","","","","",{"$f":"IF(OR(A180=\"\",AE180=0),\"\",AE180/(O$18-R22))","v":""},"","","","","","","","","","","","","","","","","","","","","","","","","","",{"$f":"IF(A180=\"\",\"\",MAX(IF(ISERROR(AU180:BF180),0,AU180:BF180)))","v":""},"","","","","","","","","","","","","","","","","","",""]
[{"$f":"IF(ISBLANK('Control Sheet'!D161),\"\",'Control Sheet'!D161)","v":""},{"$f":"IF(ISBLANK('Control Sheet'!E161),\"\",'Control Sheet'!E161&\" (\"&'Control Sheet'!F161&\")\")","v":""},{"$f":"IF(C$18=1,IF(ISNA(VLOOKUP($A181,INDIRECT(C$20),OOPE_col,FALSE)),\"\",VLOOKUP($A181,INDIRECT(C$20),OOPE_col,FALSE)),\"\")","v":""},"","","","","","","","","","","","",null,"","","","","","","","","","","","","","","","","","","","","","","","","","","","","","","","","","","","","","","","","","",{"$f":"IF(A181=\"\",\"\",MAX(IF(ISERROR(AU181:BF181),0,AU181:BF181)))","v":""},"","","","","","","","","","","","","","","","","","",""]
[{"$f":"IF(ISBLANK('Control Sheet'!D162),\"\",'Control Sheet'!D162)","v":""},{"$f":"IF(ISBLANK('Control Sheet'!E162),\"\",'Control Sheet'!E162&\" (\"&'Control Sheet'!F162&\")\")","v":""},"","","","","","","","","","","","","",null,"","","","","","","","","","","","","","","","","","","","","","","","","","","","","","","","","","","","","","","","","","",{"$f":"IF(A182=\"\",\"\",MAX(IF(ISERROR(AU182:BF182),0,AU182:BF182)))","v":""},"","","","","","","","","","","","","","","","","","",""]
[{"$f":"IF(ISBLANK('Control Sheet'!D163),\"\",'Control Sheet'!D163)","v":""},{"$f":"IF(ISBLANK('Control Sheet'!E163),\"\",'Control Sheet'!E163&\" (\"&'Control Sheet'!F163&\")\")","v":""},"","","","","","","","","","","","","",null,"","","","","","","","","","","","","","","","","","","","","","","","","","","","","","","","","","","","","","","","","","",{"$f":"IF(A183=\"\",\"\",MAX(IF(ISERROR(AU183:BF183),0,AU183:BF183)))","v":""},"","","","","","","","","","","","","","","","","","",""]
[{"$f":"IF(ISBLANK('Control Sheet'!D164),\"\",'Control Sheet'!D164)","v":""},{"$f":"IF(ISBLANK('Control Sheet'!E164),\"\",'Control Sheet'!E164&\" (\"&'Control Sheet'!F164&\")\")","v":""},"","","","","","","","","","","","","",null,"","","","","","","","","","","","","","","","","","","","","","","","","","","","","","","","","","","","","","","","","","",{"$f":"IF(A184=\"\",\"\",MAX(IF(ISERROR(AU184:BF184),0,AU184:BF184)))","v":""},"","","","","","","","","","","","","","","","","","",""]
[{"$f":"IF(ISBLANK('Control Sheet'!D165),\"\",'Control Sheet'!D165)","v":""},{"$f":"IF(ISBLANK('Control Sheet'!E165),\"\",'Control Sheet'!E165&\" (\"&'Control Sheet'!F165&\")\")","v":""},"","","","","","","","","","","","","",null,"","","","","","","","","","","","","","","","","","","","","","","","","","","","","","","","","","","","","","","","","","",{"$f":"IF(A185=\"\",\"\",MAX(IF(ISERROR(AU185:BF185),0,AU185:BF185)))","v":""},"","","","","","","","","","","","","","","","","","",""]
[{"$f":"IF(ISBLANK('Control Sheet'!D166),\"\",'Control Sheet'!D166)","v":""},{"$f":"IF(ISBLANK('Control Sheet'!E166),\"\",'Control Sheet'!E166&\" (\"&'Control Sheet'!F166&\")\")","v":""},"","","","","","","","","","","","","",null,"","","","","","","","","","","","","","","","","","","","","","","","","","","","","","","","","","","","","","","","","","",{"$f":"IF(A186=\"\",\"\",MAX(IF(ISERROR(AU186:BF186),0,AU186:BF186)))","v":""},"","","","","","","","","","","","","","","","","","",""]
[{"$f":"IF(ISBLANK('Control Sheet'!D167),\"\",'Control Sheet'!D167)","v":""},{"$f":"IF(ISBLANK('Control Sheet'!E167),\"\",'Control Sheet'!E167&\" (\"&'Control Sheet'!F167&\")\")","v":""},"","","","","","","","","","","","","",null,"","","","","","","","","","","","","","","","","","","","","","","","","","","","","","","","","","","","","","","","","","",{"$f":"IF(A187=\"\",\"\",MAX(IF(ISERROR(AU187:BF187),0,AU187:BF187)))","v":""},"","","","","","","","","","","","","","","","","","",""]
[{"$f":"IF(ISBLANK('Control Sheet'!D168),\"\",'Control Sheet'!D168)","v":""},{"$f":"IF(ISBLANK('Control Sheet'!E168),\"\",'Control Sheet'!E168&\" (\"&'Control Sheet'!F168&\")\")","v":""},"","","","","","","","","","","","","",null,"","","","","","","","","","","","","","","","","","","","","","","","","","","","","","","","","","","","","","","","","","",{"$f":"IF(A188=\"\",\"\",MAX(IF(ISERROR(AU188:BF188),0,AU188:BF188)))","v":""},"","","","","","","","","","","","","","","","","","",""]
[{"$f":"IF(ISBLANK('Control Sheet'!D169),\"\",'Control Sheet'!D169)","v":""},{"$f":"IF(ISBLANK('Control Sheet'!E169),\"\",'Control Sheet'!E169&\" (\"&'Control Sheet'!F169&\")\")","v":""},"","","","","","","","","","","","","",null,"","","","","","","","","","","","","","","","","","","","","","","","","","","","","","","","","","","","","","","","","","",{"$f":"IF(A189=\"\",\"\",MAX(IF(ISERROR(AU189:BF189),0,AU189:BF189)))","v":""},"","","","","","","","","","","","","","","","","","",""]
[{"$f":"IF(ISBLANK('Control Sheet'!D170),\"\",'Control Sheet'!D170)","v":""},{"$f":"IF(ISBLANK('Control Sheet'!E170),\"\",'Control Sheet'!E170&\" (\"&'Control Sheet'!F170&\")\")","v":""},"","","","","","","","","","","","","",null,"","","","","","","","","","","","","","","","","","","","","","","","","","","","","","","","","","","","","","","","","","",{"$f":"IF(A190=\"\",\"\",MAX(IF(ISERROR(AU190:BF190),0,AU190:BF190)))","v":""},"","","","","","","","","","","","","","","","","","",""]
[{"$f":"IF(ISBLANK('Control Sheet'!D171),\"\",'Control Sheet'!D171)","v":""},{"$f":"IF(ISBLANK('Control Sheet'!E171),\"\",'Control Sheet'!E171&\" (\"&'Control Sheet'!F171&\")\")","v":""},{"$f":"IF(C$18=1,IF(ISNA(VLOOKUP($A191,INDIRECT(C$20),OOPE_col,FALSE)),\"\",VLOOKUP($A191,INDIRECT(C$20),OOPE_col,FALSE)),\"\")","v":""},"","","","","","","","","","","","",null,"","","","","","","","","","","","","","","","","","","","","","","","","","","","","","","","","","","","","","","","","","",{"$f":"IF(A191=\"\",\"\",MAX(IF(ISERROR(AU191:BF191),0,AU191:BF191)))","v":""},"","","","","","","","","","","","","","","","","","",""]
[{"$f":"IF(ISBLANK('Control Sheet'!D172),\"\",'Control Sheet'!D172)","v":""},{"$f":"IF(ISBLANK('Control Sheet'!E172),\"\",'Control Sheet'!E172&\" (\"&'Control Sheet'!F172&\")\")","v":""},"","","","","","","","","","","","","",null,"","","","","","","","","","","","","","","","","","","","","","","","","","","","","","","","","","","","","","","","","","",{"$f":"IF(A192=\"\",\"\",MAX(IF(ISERROR(AU192:BF192),0,AU192:BF192)))","v":""},"","","","","","","","","","","","","","","","","","",""]
[{"$f":"IF(ISBLANK('Control Sheet'!D173),\"\",'Control Sheet'!D173)","v":""},{"$f":"IF(ISBLANK('Control Sheet'!E173),\"\",'Control Sheet'!E173&\" (\"&'Control Sheet'!F173&\")\")","v":""},"","","","","","","","","","","","","",null,"","","","","","","","","","","","","","","","","","","","","","","","","","","","","","","","","","","","","","","","","","",{"$f":"IF(A193=\"\",\"\",MAX(IF(ISERROR(AU193:BF193),0,AU193:BF193)))","v":""},"","","","","","","","","","","","","","","","","","",""]
[{"$f":"IF(ISBLANK('Control Sheet'!D174),\"\",'Control Sheet'!D174)","v":""},{"$f":"IF(ISBLANK('Control Sheet'!E174),\"\",'Control Sheet'!E174&\" (\"&'Control Sheet'!F174&\")\")","v":""},"","","","","","","","","","","","","",null,"","","","","","","","","","","","","","","","","","","","","","","","","","","","","","","","","","","","","","","","","","",{"$f":"IF(A194=\"\",\"\",MAX(IF(ISERROR(AU194:BF194),0,AU194:BF194)))","v":""},"","","","","","","","","","","","","","","","","","",""]
[{"$f":"IF(ISBLANK('Control Sheet'!D175),\"\",'Control Sheet'!D175)","v":""},{"$f":"IF(ISBLANK('Control Sheet'!E175),\"\",'Control Sheet'!E175&\" (\"&'Control Sheet'!F175&\")\")","v":""},"","","","","","","","","","","","","",null,"","","","","","","","","","","","","","","","","","","","","","","","","","","","","","","","","","","","","","","","","","",{"$f":"IF(A195=\"\",\"\",MAX(IF(ISERROR(AU195:BF195),0,AU195:BF195)))","v":""},"","","","","","","","","","","","","","","","","","",""]
[{"$f":"IF(ISBLANK('Control Sheet'!D176),\"\",'Control Sheet'!D176)","v":""},{"$f":"IF(ISBLANK('Control Sheet'!E176),\"\",'Control Sheet'!E176&\" (\"&'Control Sheet'!F176&\")\")","v":""},"","","","","","","","","","","","","",null,"","","","","","","","","","","","","","","","","","","","","","","","","","","","","","","","","","","","","","","","","","",{"$f":"IF(A196=\"\",\"\",MAX(IF(ISERROR(AU196:BF196),0,AU196:BF196)))","v":""},"","","","","","","","","","","","","","","","","","",""]
[{"$f":"IF(ISBLANK('Control Sheet'!D177),\"\",'Control Sheet'!D177)","v":""},{"$f":"IF(ISBLANK('Control Sheet'!E177),\"\",'Control Sheet'!E177&\" (\"&'Control Sheet'!F177&\")\")","v":""},"","","","","","","","","","","","","",null,"","","","","","","","","","","","","","","","","","","","","","","","","","","","","","","","","","","","","","","","","","",{"$f":"IF(A197=\"\",\"\",MAX(IF(ISERROR(AU197:BF197),0,AU197:BF197)))","v":""},"","","","","","","","","","","","","","","","","","",""]
[{"$f":"IF(ISBLANK('Control Sheet'!D178),\"\",'Control Sheet'!D178)","v":""},{"$f":"IF(ISBLANK('Control Sheet'!E178),\"\",'Control Sheet'!E178&\" (\"&'Control Sheet'!F178&\")\")","v":""},"","","","","","","","","","","","","",null,"","","","","","","","","","","","","","","","","","","","","","","","","","","","","","","","","","","","","","","","","","",{"$f":"IF(A198=\"\",\"\",MAX(IF(ISERROR(AU198:BF198),0,AU198:BF198)))","v":""},"","","","","","","","","","","","","","","","","","",""]
[{"$f":"IF(ISBLANK('Control Sheet'!D179),\"\",'Control Sheet'!D179)","v":""},{"$f":"IF(ISBLANK('Control Sheet'!E179),\"\",'Control Sheet'!E179&\" (\"&'Control Sheet'!F179&\")\")","v":""},"","","","","","","","","","","","","",null,"","","","","","","","","","","","","","","","","","","","","","","","","","","","","","","","","","","","","","","","","","",{"$f":"IF(A199=\"\",\"\",MAX(IF(ISERROR(AU199:BF199),0,AU199:BF199)))","v":""},"","","","","","","","","","","","","","","","","","",""]
[{"$f":"IF(ISBLANK('Control Sheet'!D180),\"\",'Control Sheet'!D180)","v":""},{"$f":"IF(ISBLANK('Control Sheet'!E180),\"\",'Control Sheet'!E180&\" (\"&'Control Sheet'!F180&\")\")","v":""},"","","","","","","","","","","","","",null,"","","","","","","","","","","","","","","","","","","","","","","","","","","","","","","","","","","","","","","","","","",{"$f":"IF(A200=\"\",\"\",MAX(IF(ISERROR(AU200:BF200),0,AU200:BF200)))","v":""},"","","","","","","","","","","","","","","","","","",""]
[{"$f":"IF(ISBLANK('Control Sheet'!D181),\"\",'Control Sheet'!D181)","v":""},{"$f":"IF(ISBLANK('Control Sheet'!E181),\"\",'Control Sheet'!E181&\" (\"&'Control Sheet'!F181&\")\")","v":""},{"$f":"IF(C$18=1,IF(ISNA(VLOOKUP($A201,INDIRECT(C$20),OOPE_col,FALSE)),\"\",VLOOKUP($A201,INDIRECT(C$20),OOPE_col,FALSE)),\"\")","v":""},"","","","","","","","","","","","",null,"","","","","","","","","","","","","","","","","","","","","","","","","","","","","","","","","","","","","","","","","","",{"$f":"IF(A201=\"\",\"\",MAX(IF(ISERROR(AU201:BF201),0,AU201:BF201)))","v":""},"","","","","","","","","","","","","","","","","","",""]
[{"$f":"IF(ISBLANK('Control Sheet'!D182),\"\",'Control Sheet'!D182)","v":""},{"$f":"IF(ISBLANK('Control Sheet'!E182),\"\",'Control Sheet'!E182&\" (\"&'Control Sheet'!F182&\")\")","v":""},"","","","","","","","","","","","","",null,"","","","","","","","","","","","","","","","","","","","","","","","","","","","","","","","","","","","","","","","","","",{"$f":"IF(A202=\"\",\"\",MAX(IF(ISERROR(AU202:BF202),0,AU202:BF202)))","v":""},"","","","","","","","","","","","","","","","","","",""]
[{"$f":"IF(ISBLANK('Control Sheet'!D183),\"\",'Control Sheet'!D183)","v":""},{"$f":"IF(ISBLANK('Control Sheet'!E183),\"\",'Control Sheet'!E183&\" (\"&'Control Sheet'!F183&\")\")","v":""},"","","","","","","","","","","","","",null,"","","","","","","","","","","","","","","","","","","","","","","","","","","","","","","","","","","","","","","","","","",{"$f":"IF(A203=\"\",\"\",MAX(IF(ISERROR(AU203:BF203),0,AU203:BF203)))","v":""},"","","","","","","","","","","","","","","","","","",""]
[{"$f":"IF(ISBLANK('Control Sheet'!D184),\"\",'Control Sheet'!D184)","v":""},{"$f":"IF(ISBLANK('Control Sheet'!E184),\"\",'Control Sheet'!E184&\" (\"&'Control Sheet'!F184&\")\")","v":""},"","","","","","","","","","","","","",null,"","","","","","","","","","","","","","","","","","","","","","","","","","","","","","","","","","","","","","","","","","",{"$f":"IF(A204=\"\",\"\",MAX(IF(ISERROR(AU204:BF204),0,AU204:BF204)))","v":""},"","","","","","","","","","","","","","","","","","",""]
[{"$f":"IF(ISBLANK('Control Sheet'!D185),\"\",'Control Sheet'!D185)","v":""},{"$f":"IF(ISBLANK('Control Sheet'!E185),\"\",'Control Sheet'!E185&\" (\"&'Control Sheet'!F185&\")\")","v":""},"","","","","","","","","","","","","",null,"","","","","","","","","","","","","","","","","","","","","","","","","","","","","","","","","","","","","","","","","","",{"$f":"IF(A205=\"\",\"\",MAX(IF(ISERROR(AU205:BF205),0,AU205:BF205)))","v":""},"","","","","","","","","","","","","","","","","","",""]
[{"$f":"IF(ISBLANK('Control Sheet'!D186),\"\",'Control Sheet'!D186)","v":""},{"$f":"IF(ISBLANK('Control Sheet'!E186),\"\",'Control Sheet'!E186&\" (\"&'Control Sheet'!F186&\")\")","v":""},"","","","","","","","","","","","","",null,"","","","","","","","","","","","","","","","","","","","","","","","","","","","","","","","","","","","","","","","","","",{"$f":"IF(A206=\"\",\"\",MAX(IF(ISERROR(AU206:BF206),0,AU206:BF206)))","v":""},"","","","","","","","","","","","","","","","","","",""]
[{"$f":"IF(ISBLANK('Control Sheet'!D187),\"\",'Control Sheet'!D187)","v":""},{"$f":"IF(ISBLANK('Control Sheet'!E187),\"\",'Control Sheet'!E187&\" (\"&'Control Sheet'!F187&\")\")","v":""},"","","","","","","","","","","","","",null,"","","","","","","","","","","","","","","","","","","","","","","","","","","","","","","","","","","","","","","","","","",{"$f":"IF(A207=\"\",\"\",MAX(IF(ISERROR(AU207:BF207),0,AU207:BF207)))","v":""},"","","","","","","","","","","","","","","","","","",""]
[{"$f":"IF(ISBLANK('Control Sheet'!D188),\"\",'Control Sheet'!D188)","v":""},{"$f":"IF(ISBLANK('Control Sheet'!E188),\"\",'Control Sheet'!E188&\" (\"&'Control Sheet'!F188&\")\")","v":""},"","","","","","","","","","","","","",null,"","","","","","","","","","","","","","","","","","","","","","","","","","","","","","","","","","","","","","","","","","",{"$f":"IF(A208=\"\",\"\",MAX(IF(ISERROR(AU208:BF208),0,AU208:BF208)))","v":""},"","","","","","","","","","","","","","","","","","",""]
[{"$f":"IF(ISBLANK('Control Sheet'!D189),\"\",'Control Sheet'!D189)","v":""},{"$f":"IF(ISBLANK('Control Sheet'!E189),\"\",'Control Sheet'!E189&\" (\"&'Control Sheet'!F189&\")\")","v":""},"","","","","","","","","","","","","",null,"","","","","","","","","","","","","","","","","","","","","","","","","","","","","","","","","","","","","","","","","","",{"$f":"IF(A209=\"\",\"\",MAX(IF(ISERROR(AU209:BF209),0,AU209:BF209)))","v":""},"","","","","","","","","","","","","","","","","","",""]
[{"$f":"IF(ISBLANK('Control Sheet'!D190),\"\",'Control Sheet'!D190)","v":""},{"$f":"IF(ISBLANK('Control Sheet'!E190),\"\",'Control Sheet'!E190&\" (\"&'Control Sheet'!F190&\")\")","v":""},"","","","","","","","","","","","","",null,"","","","","","","","","","","","","","","","","","","","","","","","","","","","","","","","","","","","","","","","","","",{"$f":"IF(A210=\"\",\"\",MAX(IF(ISERROR(AU210:BF210),0,AU210:BF210)))","v":""},"","","","","","","","","","","","","","","","","","",""]
[{"$f":"IF(ISBLANK('Control Sheet'!D191),\"\",'Control Sheet'!D191)","v":""},{"$f":"IF(ISBLANK('Control Sheet'!E191),\"\",'Control Sheet'!E191&\" (\"&'Control Sheet'!F191&\")\")","v":""},{"$f":"IF(C$18=1,IF(ISNA(VLOOKUP($A211,INDIRECT(C$20),OOPE_col,FALSE)),\"\",VLOOKUP($A211,INDIRECT(C$20),OOPE_col,FALSE)),\"\")","v":""},"","","","","","","","","","","","",null,"","","","","","","","","","","","","","","","","","","","","","","","","","","","","","","","","","","","","","","","","","",{"$f":"IF(A211=\"\",\"\",MAX(IF(ISERROR(AU211:BF211),0,AU211:BF211)))","v":""},"","","","","","","","","","","","","","","","","","",""]
[{"$f":"IF(ISBLANK('Control Sheet'!D192),\"\",'Control Sheet'!D192)","v":""},{"$f":"IF(ISBLANK('Control Sheet'!E192),\"\",'Control Sheet'!E192&\" (\"&'Control Sheet'!F192&\")\")","v":""},"","","","","","","","","","","","","",null,"","","","","","","","","","","","","","","","","","","","","","","","","","","","","","","","","","","","","","","","","","",{"$f":"IF(A212=\"\",\"\",MAX(IF(ISERROR(AU212:BF212),0,AU212:BF212)))","v":""},"","","","","","","","","","","","","","","","","","",""]
[{"$f":"IF(ISBLANK('Control Sheet'!D193),\"\",'Control Sheet'!D193)","v":""},{"$f":"IF(ISBLANK('Control Sheet'!E193),\"\",'Control Sheet'!E193&\" (\"&'Control Sheet'!F193&\")\")","v":""},"","","","","","","","","","","","","",null,"",{"$f":"IF(A213=\"\",\"\",OOPEMonthsPop-(COUNTA(C213:N213)-COUNTBLANK(C213:N213)))","v":""},"","","","","","","","","","","","","","","","","","","","","","","","","","","","",{"$f":"IF(OR(A213=\"\",OOPEMonthsPop=0),\"\",IF(AU$18=OOPEMonthsPop,AH213,#N/A))","v":""},{"$f":"IF(OR($A213=\"\",OOPEMonthsPop=0),\"\",IF(AV$18<OOPEMonthsPop,#N/A,IF(AV$18=OOPEMonthsPop,AI213,IF(AU213=\"\",\"\",IF(AV$18=OOPEMonthsPop+1,AU213+(AU213*VLOOKUP(OOPEMonthsPop-$R213,ForecastMult,3,FALSE)/12),AU213+AU213-AT213)))))","v":""},{"$f":"IF(OR($A213=\"\",OOPEMonthsPop=0),\"\",IF(AW$18<OOPEMonthsPop,#N/A,IF(AW$18=OOPEMonthsPop,AJ213,IF(AV213=\"\",\"\",IF(AW$18=OOPEMonthsPop+1,AV213+(AV213*VLOOKUP(OOPEMonthsPop-$R213,ForecastMult,3,FALSE)/12),AV213+AV213-AU213)))))","v":""},{"$f":"IF(OR($A213=\"\",OOPEMonthsPop=0),\"\",IF(AX$18<OOPEMonthsPop,#N/A,IF(AX$18=OOPEMonthsPop,AK213,IF(AW213=\"\",\"\",IF(AX$18=OOPEMonthsPop+1,AW213+(AW213*VLOOKUP(OOPEMonthsPop-$R213,ForecastMult,3,FALSE)/12),AW213+AW213-AV213)))))","v":""},{"$f":"IF(OR($A213=\"\",OOPEMonthsPop=0),\"\",IF(AY$18<OOPEMonthsPop,#N/A,IF(AY$18=OOPEMonthsPop,AL213,IF(AX213=\"\",\"\",IF(AY$18=OOPEMonthsPop+1,AX213+(AX213*VLOOKUP(OOPEMonthsPop-$R213,ForecastMult,3,FALSE)/12),AX213+AX213-AW213)))))","v":""},{"$f":"IF(OR($A213=\"\",OOPEMonthsPop=0),\"\",IF(AZ$18<OOPEMonthsPop,#N/A,IF(AZ$18=OOPEMonthsPop,AM213,IF(AY213=\"\",\"\",IF(AZ$18=OOPEMonthsPop+1,AY213+(AY213*VLOOKUP(OOPEMonthsPop-$R213,ForecastMult,3,FALSE)/12),AY213+AY213-AX213)))))","v":""},{"$f":"IF(OR($A213=\"\",OOPEMonthsPop=0),\"\",IF(BA$18<OOPEMonthsPop,#N/A,IF(BA$18=OOPEMonthsPop,AN213,IF(AZ213=\"\",\"\",IF(BA$18=OOPEMonthsPop+1,AZ213+(AZ213*VLOOKUP(OOPEMonthsPop-$R213,ForecastMult,3,FALSE)/12),AZ213+AZ213-AY213)))))","v":""},{"$f":"IF(OR($A213=\"\",OOPEMonthsPop=0),\"\",IF(BB$18<OOPEMonthsPop,#N/A,IF(BB$18=OOPEMonthsPop,AO213,IF(BA213=\"\",\"\",IF(BB$18=OOPEMonthsPop+1,BA213+(BA213*VLOOKUP(OOPEMonthsPop-$R213,ForecastMult,3,FALSE)/12),BA213+BA213-AZ213)))))","v":""},{"$f":"IF(OR($A213=\"\",OOPEMonthsPop=0),\"\",IF(BC$18<OOPEMonthsPop,#N/A,IF(BC$18=OOPEMonthsPop,AP213,IF(BB213=\"\",\"\",IF(BC$18=OOPEMonthsPop+1,BB213+(BB213*VLOOKUP(OOPEMonthsPop-$R213,ForecastMult,3,FALSE)/12),BB213+BB213-BA213)))))","v":""},{"$f":"IF(OR($A213=\"\",OOPEMonthsPop=0),\"\",IF(BD$18<OOPEMonthsPop,#N/A,IF(BD$18=OOPEMonthsPop,AQ213,IF(BC213=\"\",\"\",IF(BD$18=OOPEMonthsPop+1,BC213+(BC213*VLOOKUP(OOPEMonthsPop-$R213,ForecastMult,3,FALSE)/12),BC213+BC213-BB213)))))","v":""},{"$f":"IF(OR($A213=\"\",OOPEMonthsPop=0),\"\",IF(BE$18<OOPEMonthsPop,#N/A,IF(BE$18=OOPEMonthsPop,AR213,IF(BD213=\"\",\"\",IF(BE$18=OOPEMonthsPop+1,BD213+(BD213*VLOOKUP(OOPEMonthsPop-$R213,ForecastMult,3,FALSE)/12),BD213+BD213-BC213)))))","v":""},{"$f":"IF(OR($A213=\"\",OOPEMonthsPop=0),\"\",IF(BF$18<OOPEMonthsPop,#N/A,IF(BF$18=OOPEMonthsPop,AS213,IF(BE213=\"\",\"\",IF(BF$18=OOPEMonthsPop+1,BE213+(BE213*VLOOKUP(OOPEMonthsPop-$R213,ForecastMult,3,FALSE)/12),BE213+BE213-BD213)))))","v":""},{"$f":"IF(A213=\"\",\"\",MAX(IF(ISERROR(AU213:BF213),0,AU213:BF213)))","v":""},{"$f":"IF(AND(C$18=1,$A213<>\"\"),IF(ISNA(VLOOKUP($A213,INDIRECT(C$20),TOT_STDR_PXS_col,FALSE)),\"\",VLOOKUP($A213,INDIRECT(C$20),TOT_STDR_PXS_col,FALSE)+VLOOKUP($A213,INDIRECT(C$20),TOT_ZDR_PXS_col,FALSE)),\"\")","v":""},{"$f":"IF(AND(D$18=1,$A213<>\"\"),IF(ISNA(VLOOKUP($A213,INDIRECT(D$20),TOT_STDR_PXS_col,FALSE)),\"\",VLOOKUP($A213,INDIRECT(D$20),TOT_STDR_PXS_col,FALSE)+VLOOKUP($A213,INDIRECT(D$20),TOT_ZDR_PXS_col,FALSE)),\"\")","v":""},{"$f":"IF(AND(E$18=1,$A213<>\"\"),IF(ISNA(VLOOKUP($A213,INDIRECT(E$20),TOT_STDR_PXS_col,FALSE)),\"\",VLOOKUP($A213,INDIRECT(E$20),TOT_STDR_PXS_col,FALSE)+VLOOKUP($A213,INDIRECT(E$20),TOT_ZDR_PXS_col,FALSE)),\"\")","v":""},{"$f":"IF(AND(F$18=1,$A213<>\"\"),IF(ISNA(VLOOKUP($A213,INDIRECT(F$20),TOT_STDR_PXS_col,FALSE)),\"\",VLOOKUP($A213,INDIRECT(F$20),TOT_STDR_PXS_col,FALSE)+VLOOKUP($A213,INDIRECT(F$20),TOT_ZDR_PXS_col,FALSE)),\"\")","v":""},{"$f":"IF(AND(G$18=1,$A213<>\"\"),IF(ISNA(VLOOKUP($A213,INDIRECT(G$20),TOT_STDR_PXS_col,FALSE)),\"\",VLOOKUP($A213,INDIRECT(G$20),TOT_STDR_PXS_col,FALSE)+VLOOKUP($A213,INDIRECT(G$20),TOT_ZDR_PXS_col,FALSE)),\"\")","v":""},{"$f":"IF(AND(H$18=1,$A213<>\"\"),IF(ISNA(VLOOKUP($A213,INDIRECT(H$20),TOT_STDR_PXS_col,FALSE)),\"\",VLOOKUP($A213,INDIRECT(H$20),TOT_STDR_PXS_col,FALSE)+VLOOKUP($A213,INDIRECT(H$20),TOT_ZDR_PXS_col,FALSE)),\"\")","v":""},{"$f":"IF(AND(I$18=1,$A213<>\"\"),IF(ISNA(VLOOKUP($A213,INDIRECT(I$20),TOT_STDR_PXS_col,FALSE)),\"\",VLOOKUP($A213,INDIRECT(I$20),TOT_STDR_PXS_col,FALSE)+VLOOKUP($A213,INDIRECT(I$20),TOT_ZDR_PXS_col,FALSE)),\"\")","v":""},{"$f":"IF(AND(J$18=1,$A213<>\"\"),IF(ISNA(VLOOKUP($A213,INDIRECT(J$20),TOT_STDR_PXS_col,FALSE)),\"\",VLOOKUP($A213,INDIRECT(J$20),TOT_STDR_PXS_col,FALSE)+VLOOKUP($A213,INDIRECT(J$20),TOT_ZDR_PXS_col,FALSE)),\"\")","v":""},{"$f":"IF(AND(K$18=1,$A213<>\"\"),IF(ISNA(VLOOKUP($A213,INDIRECT(K$20),TOT_STDR_PXS_col,FALSE)),\"\",VLOOKUP($A213,INDIRECT(K$20),TOT_STDR_PXS_col,FALSE)+VLOOKUP($A213,INDIRECT(K$20),TOT_ZDR_PXS_col,FALSE)),\"\")","v":""},{"$f":"IF(AND(L$18=1,$A213<>\"\"),IF(ISNA(VLOOKUP($A213,INDIRECT(L$20),TOT_STDR_PXS_col,FALSE)),\"\",VLOOKUP($A213,INDIRECT(L$20),TOT_STDR_PXS_col,FALSE)+VLOOKUP($A213,INDIRECT(L$20),TOT_ZDR_PXS_col,FALSE)),\"\")","v":""},{"$f":"IF(AND(M$18=1,$A213<>\"\"),IF(ISNA(VLOOKUP($A213,INDIRECT(M$20),TOT_STDR_PXS_col,FALSE)),\"\",VLOOKUP($A213,INDIRECT(M$20),TOT_STDR_PXS_col,FALSE)+VLOOKUP($A213,INDIRECT(M$20),TOT_ZDR_PXS_col,FALSE)),\"\")","v":""},{"$f":"IF(AND(N$18=1,$A213<>\"\"),IF(ISNA(VLOOKUP($A213,INDIRECT(N$20),TOT_STDR_PXS_col,FALSE)),\"\",VLOOKUP($A213,INDIRECT(N$20),TOT_STDR_PXS_col,FALSE)+VLOOKUP($A213,INDIRECT(N$20),TOT_ZDR_PXS_col,FALSE)),\"\")","v":""},"","","","","","",""]
[{"$f":"IF(ISBLANK('Control Sheet'!D194),\"\",'Control Sheet'!D194)","v":""},{"$f":"IF(ISBLANK('Control Sheet'!E194),\"\",'Control Sheet'!E194&\" (\"&'Control Sheet'!F194&\")\")","v":""},"","","","","","","","","","","","",{"$f":"IF(A214=\"\",\"\",SUM(C214:N214))","v":""},null,{"$f":"IF(A214=\"\",\"\",IF(BG214<=400,\"No\",\"Yes\"))","v":""},"",{"$f":"IF(C214=\"\",\"\",IF(C214<=C$10,1,IF(C214<=C$7,2,IF(C214<=C$8,3,IF(C214<=C$9,4,IF(C214<=C$11,5,60))))))","v":""},{"$f":"IF(D214=\"\",\"\",IF(D214<=D$10,1,IF(D214<=D$7,2,IF(D214<=D$8,3,IF(D214<=D$9,4,IF(D214<=D$11,5,60))))))","v":""},{"$f":"IF(E214=\"\",\"\",IF(E214<=E$10,1,IF(E214<=E$7,2,IF(E214<=E$8,3,IF(E214<=E$9,4,IF(E214<=E$11,5,60))))))","v":""},{"$f":"IF(F214=\"\",\"\",IF(F214<=F$10,1,IF(F214<=F$7,2,IF(F214<=F$8,3,IF(F214<=F$9,4,IF(F214<=F$11,5,60))))))","v":""},{"$f":"IF(G214=\"\",\"\",IF(G214<=G$10,1,IF(G214<=G$7,2,IF(G214<=G$8,3,IF(G214<=G$9,4,IF(G214<=G$11,5,60))))))","v":""},{"$f":"IF(H214=\"\",\"\",IF(H214<=H$10,1,IF(H214<=H$7,2,IF(H214<=H$8,3,IF(H214<=H$9,4,IF(H214<=H$11,5,60))))))","v":""},{"$f":"IF(I214=\"\",\"\",IF(I214<=I$10,1,IF(I214<=I$7,2,IF(I214<=I$8,3,IF(I214<=I$9,4,IF(I214<=I$11,5,60))))))","v":""},{"$f":"IF(J214=\"\",\"\",IF(J214<=J$10,1,IF(J214<=J$7,2,IF(J214<=J$8,3,IF(J214<=J$9,4,IF(J214<=J$11,5,60))))))","v":""},{"$f":"IF(K214=\"\",\"\",IF(K214<=K$10,1,IF(K214<=K$7,2,IF(K214<=K$8,3,IF(K214<=K$9,4,IF(K214<=K$11,5,60))))))","v":""},{"$f":"IF(L214=\"\",\"\",IF(L214<=L$10,1,IF(L214<=L$7,2,IF(L214<=L$8,3,IF(L214<=L$9,4,IF(L214<=L$11,5,60))))))","v":""},{"$f":"IF(M214=\"\",\"\",IF(M214<=M$10,1,IF(M214<=M$7,2,IF(M214<=M$8,3,IF(M214<=M$9,4,IF(M214<=M$11,5,60))))))","v":""},{"$f":"IF(N214=\"\",\"\",IF(N214<=N$10,1,IF(N214<=N$7,2,IF(N214<=N$8,3,IF(N214<=N$9,4,IF(N214<=N$11,5,60))))))","v":""},{"$f":"IF(A214=\"\",\"\",SUM(S214:AD214))","v":""},"",{"$f":"IF(AF214=\"\",\"\",IF(AF214<=1,\"Lower Outlier\",IF(AF214<=2,\"Below Average\",IF(AF214<=3,\"Lower Quartile\",IF(AF214<=4,\"Upper Quartile\",IF(AF214<=5, \"Above Average\", \"Upper Outlier\"))))))","v":""},{"$f":"IF(C$18=1,C214,\"\")","v":""},{"$f":"IF(D$18=1,IF(D214=\"\",IF(AH214=\"\",\"\",AH214),IF(AND(D214>=0,AH214=\"\"),D214,IF(ISERROR(D214+AH214),#N/A,D214+AH214))),\"\")","v":""},{"$f":"IF(E$18=1,IF(E214=\"\",IF(AI214=\"\",\"\",AI214),IF(AND(E214>=0,AI214=\"\"),E214,IF(ISERROR(E214+AI214),#N/A,E214+AI214))),\"\")","v":""},{"$f":"IF(F$18=1,IF(F214=\"\",IF(AJ214=\"\",\"\",AJ214),IF(AND(F214>=0,AJ214=\"\"),F214,IF(ISERROR(F214+AJ214),#N/A,F214+AJ214))),\"\")","v":""},{"$f":"IF(G$18=1,IF(G214=\"\",IF(AK214=\"\",\"\",AK214),IF(AND(G214>=0,AK214=\"\"),G214,IF(ISERROR(G214+AK214),#N/A,G214+AK214))),\"\")","v":""},{"$f":"IF(H$18=1,IF(H214=\"\",IF(AL214=\"\",\"\",AL214),IF(AND(H214>=0,AL214=\"\"),H214,IF(ISERROR(H214+AL214),#N/A,H214+AL214))),\"\")","v":""},{"$f":"IF(I$18=1,IF(I214=\"\",IF(AM214=\"\",\"\",AM214),IF(AND(I214>=0,AM214=\"\"),I214,IF(ISERROR(I214+AM214),#N/A,I214+AM214))),\"\")","v":""},{"$f":"IF(J$18=1,IF(J214=\"\",IF(AN214=\"\",\"\",AN214),IF(AND(J214>=0,AN214=\"\"),J214,IF(ISERROR(J214+AN214),#N/A,J214+AN214))),\"\")","v":""},{"$f":"IF(K$18=1,IF(K214=\"\",IF(AO214=\"\",\"\",AO214),IF(AND(K214>=0,AO214=\"\"),K214,IF(ISERROR(K214+AO214),#N/A,K214+AO214))),\"\")","v":""},{"$f":"IF(L$18=1,IF(L214=\"\",IF(AP214=\"\",\"\",AP214),IF(AND(L214>=0,AP214=\"\"),L214,IF(ISERROR(L214+AP214),#N/A,L214+AP214))),\"\")","v":""},{"$f":"IF(M$18=1,IF(M214=\"\",IF(AQ214=\"\",\"\",AQ214),IF(AND(M214>=0,AQ214=\"\"),M214,IF(ISERROR(M214+AQ214),#N/A,M214+AQ214))),\"\")","v":""},{"$f":"IF(N$18=1,IF(N214=\"\",IF(AR214=\"\",\"\",AR214),IF(AND(N214>=0,AR214=\"\"),N214,IF(ISERROR(N214+AR214),#N/A,N214+AR214))),\"\")","v":""},{"$f":"IF(A214=\"\",\"\",MAX(AH214:AS214))","v":""},"","","","","","","","","","","","",{"$f":"IF(A214=\"\",\"\",MAX(IF(ISERROR(AU214:BF214),0,AU214:BF214)))","v":""},"","","","","","","","","","","","",{"$f":"IF(A214=\"\",\"\",SUM(BH214:BS214))","v":""},{"$f":"IF(A214=\"\",\"\",MIN(B214:M214))","v":""},{"$f":"IF(A214=\"\",\"\",MAX(B214:M214))","v":""},{"$f":"IF(A214=\"\",\"\",IF(BV214-BU214=0,\"\",BV214-BU214))","v":""},{"$f":"IF(A214=\"\",\"\",IF(BW214=\"\",\"No\",IF(BW214>$BW$11,\"Yes\",\"No\")))","v":""},{"$f":"IF(A214=\"\",\"\",(COUNTA(C214:N214)-COUNTBLANK(C214:N214)))","v":""},{"$f":"IF(A214=\"\",\"\",BY214-COUNTIF(C214:N214,\"=0\"))","v":""}]
[{"$f":"IF(ISBLANK('Control Sheet'!D195),\"\",'Control Sheet'!D195)","v":""},{"$f":"IF(ISBLANK('Control Sheet'!E195),\"\",'Control Sheet'!E195&\" (\"&'Control Sheet'!F195&\")\")","v":""},"","","","","","","","","","","","","",null,"","","","","","","","","","","","","","","","","","","","","","","","","","","","","","","","","","","","","","","","","","",{"$f":"IF(A215=\"\",\"\",MAX(IF(ISERROR(AU215:BF215),0,AU215:BF215)))","v":""},"","","","","","","","","","","","","","","","","","",""]
[{"$f":"IF(ISBLANK('Control Sheet'!D196),\"\",'Control Sheet'!D196)","v":""},{"$f":"IF(ISBLANK('Control Sheet'!E196),\"\",'Control Sheet'!E196&\" (\"&'Control Sheet'!F196&\")\")","v":""},"","","","","","","","","","","","","",null,"","","","","","","","","","","","","","","","","","","","","","","","","","","","","","","","","","","","","","","","","","",{"$f":"IF(A216=\"\",\"\",MAX(IF(ISERROR(AU216:BF216),0,AU216:BF216)))","v":""},"","","","","","","","","","","","","","","","","","",""]
[{"$f":"IF(ISBLANK('Control Sheet'!D197),\"\",'Control Sheet'!D197)","v":""},{"$f":"IF(ISBLANK('Control Sheet'!E197),\"\",'Control Sheet'!E197&\" (\"&'Control Sheet'!F197&\")\")","v":""},"","","","","","","","","","","","","",null,"","","","","","","","","","","","","","","","","","","","","","","","","","","","","","","","","","","","","","","","","","",{"$f":"IF(A217=\"\",\"\",MAX(IF(ISERROR(AU217:BF217),0,AU217:BF217)))","v":""},"","","","","","","","","","","","","","","","","","",""]
[{"$f":"IF(ISBLANK('Control Sheet'!D198),\"\",'Control Sheet'!D198)","v":""},{"$f":"IF(ISBLANK('Control Sheet'!E198),\"\",'Control Sheet'!E198&\" (\"&'Control Sheet'!F198&\")\")","v":""},"","","","","","","","","","","","","",null,"","","","","","","","","","","","","","","","","","","","","","","","","","","","","","","","","","","","","","","","","","",{"$f":"IF(A218=\"\",\"\",MAX(IF(ISERROR(AU218:BF218),0,AU218:BF218)))","v":""},"","","","","","","","","","","","","","","","","","",""]
[{"$f":"IF(ISBLANK('Control Sheet'!D199),\"\",'Control Sheet'!D199)","v":""},{"$f":"IF(ISBLANK('Control Sheet'!E199),\"\",'Control Sheet'!E199&\" (\"&'Control Sheet'!F199&\")\")","v":""},"","","","","","","","","","","","","",null,"","","","","","","","","","","","","","","","","","","","","","","","","","","","","","","","","","","","","","","","","","",{"$f":"IF(A219=\"\",\"\",MAX(IF(ISERROR(AU219:BF219),0,AU219:BF219)))","v":""},"","","","","","","","","","","","","","","","","","",""]
[{"$f":"IF(ISBLANK('Control Sheet'!D200),\"\",'Control Sheet'!D200)","v":""},{"$f":"IF(ISBLANK('Control Sheet'!E200),\"\",'Control Sheet'!E200&\" (\"&'Control Sheet'!F200&\")\")","v":""},"","","","","","","","","","","","","",null,"","","","","","","","","","","","","","","","","","","","","","","","","","","","","","","","","","","","","","","","","","",{"$f":"IF(A220=\"\",\"\",MAX(IF(ISERROR(AU220:BF220),0,AU220:BF220)))","v":""},"","","","","","","","","","","","","","","","","","",""]
[{"$f":"IF(ISBLANK('Control Sheet'!D201),\"\",'Control Sheet'!D201)","v":""},{"$f":"IF(ISBLANK('Control Sheet'!E201),\"\",'Control Sheet'!E201&\" (\"&'Control Sheet'!F201&\")\")","v":""},{"$f":"IF(C$18=1,IF(ISNA(VLOOKUP($A221,INDIRECT(C$20),OOPE_col,FALSE)),\"\",VLOOKUP($A221,INDIRECT(C$20),OOPE_col,FALSE)),\"\")","v":""},"","","","","","","","","","","","",null,"","","","","","","","","","","","","","","","","","","","","","","","","","","","","","","","","","","","","","","","","","",{"$f":"IF(A221=\"\",\"\",MAX(IF(ISERROR(AU221:BF221),0,AU221:BF221)))","v":""},"","","","","","","","","","","","","","","","","","",""]
[{"$f":"IF(ISBLANK('Control Sheet'!D202),\"\",'Control Sheet'!D202)","v":""},{"$f":"IF(ISBLANK('Control Sheet'!E202),\"\",'Control Sheet'!E202&\" (\"&'Control Sheet'!F202&\")\")","v":""},"","","","","","","","","","","","","",null,"","","","","","","","","","","","","","","","","","","","","","","","","","","","","","","","","","","","","","","","","","",{"$f":"IF(A222=\"\",\"\",MAX(IF(ISERROR(AU222:BF222),0,AU222:BF222)))","v":""},"","","","","","","","","","","","","","","","","","",""]
[{"$f":"IF(ISBLANK('Control Sheet'!D203),\"\",'Control Sheet'!D203)","v":""},{"$f":"IF(ISBLANK('Control Sheet'!E203),\"\",'Control Sheet'!E203&\" (\"&'Control Sheet'!F203&\")\")","v":""},"","","","","","","","","","","","","",null,"","","","","","","","","","","","","","","","","","","","","","","","","","","","","","","","","","","","","","","","","","",{"$f":"IF(A223=\"\",\"\",MAX(IF(ISERROR(AU223:BF223),0,AU223:BF223)))","v":""},"","","","","","","","","","","","","","","","","","",""]
[{"$f":"IF(ISBLANK('Control Sheet'!D204),\"\",'Control Sheet'!D204)","v":""},{"$f":"IF(ISBLANK('Control Sheet'!E204),\"\",'Control Sheet'!E204&\" (\"&'Control Sheet'!F204&\")\")","v":""},"","","","","","","","","","","","","",null,"","","","","","","","","","","","","","","","","","","","","","","","","","","","","","","","","","","","","","","","","","",{"$f":"IF(A224=\"\",\"\",MAX(IF(ISERROR(AU224:BF224),0,AU224:BF224)))","v":""},"","","","","","","","","","","","","","","","","","",""]
[{"$f":"IF(ISBLANK('Control Sheet'!D205),\"\",'Control Sheet'!D205)","v":""},{"$f":"IF(ISBLANK('Control Sheet'!E205),\"\",'Control Sheet'!E205&\" (\"&'Control Sheet'!F205&\")\")","v":""},"","","","","","","","","","","","","",null,"","","","","","","","","","","","","","","","","","","","","","","","","","","","","","","","","","","","","","","","","","",{"$f":"IF(A225=\"\",\"\",MAX(IF(ISERROR(AU225:BF225),0,AU225:BF225)))","v":""},"","","","","","","","","","","","","","","","","","",""]
[{"$f":"IF(ISBLANK('Control Sheet'!D206),\"\",'Control Sheet'!D206)","v":""},{"$f":"IF(ISBLANK('Control Sheet'!E206),\"\",'Control Sheet'!E206&\" (\"&'Control Sheet'!F206&\")\")","v":""},"","","","","","","","","","","","","",null,"","","","","","","","","","","","","","","","","","","","","","","","","","","","","","","","","","","","","","","","","","",{"$f":"IF(A226=\"\",\"\",MAX(IF(ISERROR(AU226:BF226),0,AU226:BF226)))","v":""},"","","","","","","","","","","","","","","","","","",""]
[{"$f":"IF(ISBLANK('Control Sheet'!D207),\"\",'Control Sheet'!D207)","v":""},{"$f":"IF(ISBLANK('Control Sheet'!E207),\"\",'Control Sheet'!E207&\" (\"&'Control Sheet'!F207&\")\")","v":""},"","","","","","","","","","","","","",null,"","","","","","","","","","","","","","","","","","","","","","","","","","","","","","","","","","","","","","","","","","",{"$f":"IF(A227=\"\",\"\",MAX(IF(ISERROR(AU227:BF227),0,AU227:BF227)))","v":""},"","","","","","","","","","","","","","","","","","",""]
[{"$f":"IF(ISBLANK('Control Sheet'!D208),\"\",'Control Sheet'!D208)","v":""},{"$f":"IF(ISBLANK('Control Sheet'!E208),\"\",'Control Sheet'!E208&\" (\"&'Control Sheet'!F208&\")\")","v":""},"","","","","","","","","","","","","",null,"","","","","","","","","","","","","","","","","","","","","","","","","","","","","","","","","","","","","","","","","","",{"$f":"IF(A228=\"\",\"\",MAX(IF(ISERROR(AU228:BF228),0,AU228:BF228)))","v":""},"","","","","","","","","","","","","","","","","","",""]
[{"$f":"IF(ISBLANK('Control Sheet'!D209),\"\",'Control Sheet'!D209)","v":""},{"$f":"IF(ISBLANK('Control Sheet'!E209),\"\",'Control Sheet'!E209&\" (\"&'Control Sheet'!F209&\")\")","v":""},"","","","","","","","","","","","","",null,"","","","","","","","","","","","","","","","","","","","","","","","","","","","","","","","","","","","","","","","","","",{"$f":"IF(A229=\"\",\"\",MAX(IF(ISERROR(AU229:BF229),0,AU229:BF229)))","v":""},"","","","","","","","","","","","","","","","","","",""]
[{"$f":"IF(ISBLANK('Control Sheet'!D210),\"\",'Control Sheet'!D210)","v":""},{"$f":"IF(ISBLANK('Control Sheet'!E210),\"\",'Control Sheet'!E210&\" (\"&'Control Sheet'!F210&\")\")","v":""},"","","","","","","","","","","","","",null,"","","","","","","","","","","","","","","","","","","","","","","","","","","","","","","","","","","","","","","","","","",{"$f":"IF(A230=\"\",\"\",MAX(IF(ISERROR(AU230:BF230),0,AU230:BF230)))","v":""},"","","","","","","","","","","","","","","","","","",""]
[{"$f":"IF(ISBLANK('Control Sheet'!D211),\"\",'Control Sheet'!D211)","v":""},{"$f":"IF(ISBLANK('Control Sheet'!E211),\"\",'Control Sheet'!E211&\" (\"&'Control Sheet'!F211&\")\")","v":""},{"$f":"IF(C$18=1,IF(ISNA(VLOOKUP($A231,INDIRECT(C$20),OOPE_col,FALSE)),\"\",VLOOKUP($A231,INDIRECT(C$20),OOPE_col,FALSE)),\"\")","v":""},"","","","","","","","","","","","",null,"","","","","","","","","","","","","","","","","","","","","","","","","","","","","","","","","","","","","","","","","","",{"$f":"IF(A231=\"\",\"\",MAX(IF(ISERROR(AU231:BF231),0,AU231:BF231)))","v":""},"","","","","","","","","","","","","","","","","","",""]
[{"$f":"IF(ISBLANK('Control Sheet'!D212),\"\",'Control Sheet'!D212)","v":""},{"$f":"IF(ISBLANK('Control Sheet'!E212),\"\",'Control Sheet'!E212&\" (\"&'Control Sheet'!F212&\")\")","v":""},"","","","","","","","","","","","","",null,"","","","","","","","","","","","","","","","","","","","","","","","","","","","","","","","","","","","","","","","","","",{"$f":"IF(A232=\"\",\"\",MAX(IF(ISERROR(AU232:BF232),0,AU232:BF232)))","v":""},"","","","","","","","","","","","","","","","","","",""]
[{"$f":"IF(ISBLANK('Control Sheet'!D213),\"\",'Control Sheet'!D213)","v":""},{"$f":"IF(ISBLANK('Control Sheet'!E213),\"\",'Control Sheet'!E213&\" (\"&'Control Sheet'!F213&\")\")","v":""},"","","","","","","","","","","","","",null,"","","","","","","","","","","","","","","","","","","","","","","","","","","","","","","","","","","","","","","","","","",{"$f":"IF(A233=\"\",\"\",MAX(IF(ISERROR(AU233:BF233),0,AU233:BF233)))","v":""},"","","","","","","","","","","","","","","","","","",""]
[{"$f":"IF(ISBLANK('Control Sheet'!D214),\"\",'Control Sheet'!D214)","v":""},{"$f":"IF(ISBLANK('Control Sheet'!E214),\"\",'Control Sheet'!E214&\" (\"&'Control Sheet'!F214&\")\")","v":""},"","","","","","","","","","","","","",null,"","","","","","","","","","","","","","","","","","","","","","","","","","","","","","","","","","","","","","","","","","",{"$f":"IF(A234=\"\",\"\",MAX(IF(ISERROR(AU234:BF234),0,AU234:BF234)))","v":""},"","","","","","","","","","","","","","","","","","",""]
[{"$f":"IF(ISBLANK('Control Sheet'!D215),\"\",'Control Sheet'!D215)","v":""},{"$f":"IF(ISBLANK('Control Sheet'!E215),\"\",'Control Sheet'!E215&\" (\"&'Control Sheet'!F215&\")\")","v":""},"","","","","","","","","","","","","",null,"","","","","","","","","","","","","","","","","","","","","","","","","","","","","","","","","","","","","","","","","","",{"$f":"IF(A235=\"\",\"\",MAX(IF(ISERROR(AU235:BF235),0,AU235:BF235)))","v":""},"","","","","","","","","","","","","","","","","","",""]
[{"$f":"IF(ISBLANK('Control Sheet'!D216),\"\",'Control Sheet'!D216)","v":""},{"$f":"IF(ISBLANK('Control Sheet'!E216),\"\",'Control Sheet'!E216&\" (\"&'Control Sheet'!F216&\")\")","v":""},"","","","","","","","","","","","","",null,"","","","","","","","","","","","","","","","","","","","","","","","","","","","","","","","","","","","","","","","","","",{"$f":"IF(A236=\"\",\"\",MAX(IF(ISERROR(AU236:BF236),0,AU236:BF236)))","v":""},"","","","","","","","","","","","","","","","","","",""]
[{"$f":"IF(ISBLANK('Control Sheet'!D217),\"\",'Control Sheet'!D217)","v":""},{"$f":"IF(ISBLANK('Control Sheet'!E217),\"\",'Control Sheet'!E217&\" (\"&'Control Sheet'!F217&\")\")","v":""},"","","","","","","","","","","","","",null,"","","","","","","","","","","","","","","","","","","","","","","","","","","","","","","","","","","","","","","","","","",{"$f":"IF(A237=\"\",\"\",MAX(IF(ISERROR(AU237:BF237),0,AU237:BF237)))","v":""},"","","","","","","","","","","","","","","","","","",""]
[{"$f":"IF(ISBLANK('Control Sheet'!D218),\"\",'Control Sheet'!D218)","v":""},{"$f":"IF(ISBLANK('Control Sheet'!E218),\"\",'Control Sheet'!E218&\" (\"&'Control Sheet'!F218&\")\")","v":""},"","","","","","","","","","","","","",null,"","","","","","","","","","","","","","","","","","","","","","","","","","","","","","","","","","","","","","","","","","",{"$f":"IF(A238=\"\",\"\",MAX(IF(ISERROR(AU238:BF238),0,AU238:BF238)))","v":""},"","","","","","","","","","","","","","","","","","",""]
[{"$f":"IF(ISBLANK('Control Sheet'!D219),\"\",'Control Sheet'!D219)","v":""},{"$f":"IF(ISBLANK('Control Sheet'!E219),\"\",'Control Sheet'!E219&\" (\"&'Control Sheet'!F219&\")\")","v":""},"","","","","","","","","","","","","",null,"","","","","","","","","","","","","","","","","","","","","","","","","","","","","","","","","","","","","","","","","","",{"$f":"IF(A239=\"\",\"\",MAX(IF(ISERROR(AU239:BF239),0,AU239:BF239)))","v":""},"","","","","","","","","","","","","","","","","","",""]
[{"$f":"IF(ISBLANK('Control Sheet'!D220),\"\",'Control Sheet'!D220)","v":""},{"$f":"IF(ISBLANK('Control Sheet'!E220),\"\",'Control Sheet'!E220&\" (\"&'Control Sheet'!F220&\")\")","v":""},"","","","","","","","","","","","","",null,"","","","","","","","","","","","","","","","","","","","","","","","","","","","","","","","","","","","","","","","","","",{"$f":"IF(A240=\"\",\"\",MAX(IF(ISERROR(AU240:BF240),0,AU240:BF240)))","v":""},"","","","","","","","","","","","","","","","","","",""]
[{"$f":"IF(ISBLANK('Control Sheet'!D221),\"\",'Control Sheet'!D221)","v":""},{"$f":"IF(ISBLANK('Control Sheet'!E221),\"\",'Control Sheet'!E221&\" (\"&'Control Sheet'!F221&\")\")","v":""},{"$f":"IF(C$18=1,IF(ISNA(VLOOKUP($A241,INDIRECT(C$20),OOPE_col,FALSE)),\"\",VLOOKUP($A241,INDIRECT(C$20),OOPE_col,FALSE)),\"\")","v":""},"","","","","","","","","","","","",null,"","","","","","","","","","","","","","","","","","","","","","","","","","","","","","","","","","","","","","","","","","",{"$f":"IF(A241=\"\",\"\",MAX(IF(ISERROR(AU241:BF241),0,AU241:BF241)))","v":""},"","","","","","","","","","","","","","","","","","",""]
[{"$f":"IF(ISBLANK('Control Sheet'!D222),\"\",'Control Sheet'!D222)","v":""},{"$f":"IF(ISBLANK('Control Sheet'!E222),\"\",'Control Sheet'!E222&\" (\"&'Control Sheet'!F222&\")\")","v":""},"","","","","","","","","","","","","",null,"","","","","","","","","","","","","","","","","","","","","","","","","","","","","","","","","","","","","","","","","","",{"$f":"IF(A242=\"\",\"\",MAX(IF(ISERROR(AU242:BF242),0,AU242:BF242)))","v":""},"","","","","","","","","","","","","","","","","","",""]
[{"$f":"IF(ISBLANK('Control Sheet'!D223),\"\",'Control Sheet'!D223)","v":""},{"$f":"IF(ISBLANK('Control Sheet'!E223),\"\",'Control Sheet'!E223&\" (\"&'Control Sheet'!F223&\")\")","v":""},"","","","","","","","","","","","","",null,"","","","","","","","","","","","","","","","","","","","","","","","","","","","","","","","","","","","","","","","","","",{"$f":"IF(A243=\"\",\"\",MAX(IF(ISERROR(AU243:BF243),0,AU243:BF243)))","v":""},"","","","","","","","","","","","","","","","","","",""]
[{"$f":"IF(ISBLANK('Control Sheet'!D224),\"\",'Control Sheet'!D224)","v":""},{"$f":"IF(ISBLANK('Control Sheet'!E224),\"\",'Control Sheet'!E224&\" (\"&'Control Sheet'!F224&\")\")","v":""},"","","","","","","","","","","","","",null,"","","","","","","","","","","","","","","",{"$f":"IF(OR(A244=\"\",AE244=0),\"\",AE244/(O$18-R86))","v":""},"","","","","","","","","","","","","","","","","","","","","","","","","","",{"$f":"IF(A244=\"\",\"\",MAX(IF(ISERROR(AU244:BF244),0,AU244:BF244)))","v":""},"","","","","","","","","","","","","","","","","","",""]
[{"$f":"IF(ISBLANK('Control Sheet'!D225),\"\",'Control Sheet'!D225)","v":""},{"$f":"IF(ISBLANK('Control Sheet'!E225),\"\",'Control Sheet'!E225&\" (\"&'Control Sheet'!F225&\")\")","v":""},"","","","","","","","","","","","","",null,"","","","","","","","","","","","","","","","","","","","","","","","","","","","","","","","","","","","","","","","","","",{"$f":"IF(A245=\"\",\"\",MAX(IF(ISERROR(AU245:BF245),0,AU245:BF245)))","v":""},"","","","","","","","","","","","","","","","","","",""]
[{"$f":"IF(ISBLANK('Control Sheet'!D226),\"\",'Control Sheet'!D226)","v":""},{"$f":"IF(ISBLANK('Control Sheet'!E226),\"\",'Control Sheet'!E226&\" (\"&'Control Sheet'!F226&\")\")","v":""},"","","","","","","","","","","","","",null,"","","","","","","","","","","","","","","","","","","","","","","","","","","","","","","","","","","","","","","","","","",{"$f":"IF(A246=\"\",\"\",MAX(IF(ISERROR(AU246:BF246),0,AU246:BF246)))","v":""},"","","","","","","","","","","","","","","","","","",""]
[{"$f":"IF(ISBLANK('Control Sheet'!D227),\"\",'Control Sheet'!D227)","v":""},{"$f":"IF(ISBLANK('Control Sheet'!E227),\"\",'Control Sheet'!E227&\" (\"&'Control Sheet'!F227&\")\")","v":""},"","","","","","","","","","","","","",null,"","","","","","","","","","","","","","","","","","","","","","","","","","","","","","","","","","","","","","","","","","",{"$f":"IF(A247=\"\",\"\",MAX(IF(ISERROR(AU247:BF247),0,AU247:BF247)))","v":""},"","","","","","","","","","","","","","","","","","",""]
[{"$f":"IF(ISBLANK('Control Sheet'!D228),\"\",'Control Sheet'!D228)","v":""},{"$f":"IF(ISBLANK('Control Sheet'!E228),\"\",'Control Sheet'!E228&\" (\"&'Control Sheet'!F228&\")\")","v":""},"","","","","","","","","","","","","",null,"","","","","","","","","","","","","","","","","","","","","","","","","","","","","","","","","","","","","","","","","","",{"$f":"IF(A248=\"\",\"\",MAX(IF(ISERROR(AU248:BF248),0,AU248:BF248)))","v":""},"","","","","","","","","","","","","","","","","","",""]
[{"$f":"IF(ISBLANK('Control Sheet'!D229),\"\",'Control Sheet'!D229)","v":""},{"$f":"IF(ISBLANK('Control Sheet'!E229),\"\",'Control Sheet'!E229&\" (\"&'Control Sheet'!F229&\")\")","v":""},"","","","","","","","","","","","","",null,"","","","","","","","","","","","","","","","","","","","","","","","","","","","","","","","","","","","","","","","","","",{"$f":"IF(A249=\"\",\"\",MAX(IF(ISERROR(AU249:BF249),0,AU249:BF249)))","v":""},"","","","","","","","","","","","","","","","","","",""]
[{"$f":"IF(ISBLANK('Control Sheet'!D230),\"\",'Control Sheet'!D230)","v":""},{"$f":"IF(ISBLANK('Control Sheet'!E230),\"\",'Control Sheet'!E230&\" (\"&'Control Sheet'!F230&\")\")","v":""},"","","","","","","","","","","","","",null,"","","","","","","","","","","","","","","","","","","","","","","","","","","","","","","","","","","","","","","","","","",{"$f":"IF(A250=\"\",\"\",MAX(IF(ISERROR(AU250:BF250),0,AU250:BF250)))","v":""},"","","","","","","","","","","","","","","","","","",""]
[{"$f":"IF(ISBLANK('Control Sheet'!D231),\"\",'Control Sheet'!D231)","v":""},{"$f":"IF(ISBLANK('Control Sheet'!E231),\"\",'Control Sheet'!E231&\" (\"&'Control Sheet'!F231&\")\")","v":""},{"$f":"IF(C$18=1,IF(ISNA(VLOOKUP($A251,INDIRECT(C$20),OOPE_col,FALSE)),\"\",VLOOKUP($A251,INDIRECT(C$20),OOPE_col,FALSE)),\"\")","v":""},"","","","","","","","","","","","",null,"","","","","","","","","","","","","","","","","","","","","","","","","","","","","","","","","","","","","","","","","","",{"$f":"IF(A251=\"\",\"\",MAX(IF(ISERROR(AU251:BF251),0,AU251:BF251)))","v":""},"","","","","","","","","","","","","","","","","","",""]
[{"$f":"IF(ISBLANK('Control Sheet'!D232),\"\",'Control Sheet'!D232)","v":""},{"$f":"IF(ISBLANK('Control Sheet'!E232),\"\",'Control Sheet'!E232&\" (\"&'Control Sheet'!F232&\")\")","v":""},"","","","","","","","","","","","","",null,"","","","","","","","","","","","","","","","","","","","","","","","","","","","","","","","","","","","","","","","","","",{"$f":"IF(A252=\"\",\"\",MAX(IF(ISERROR(AU252:BF252),0,AU252:BF252)))","v":""},"","","","","","","","","","","","","","","","","","",""]
[{"$f":"IF(ISBLANK('Control Sheet'!D233),\"\",'Control Sheet'!D233)","v":""},{"$f":"IF(ISBLANK('Control Sheet'!E233),\"\",'Control Sheet'!E233&\" (\"&'Control Sheet'!F233&\")\")","v":""},"","","","","","","","","","","","","",null,"","","","","","","","","","","","","","","","","","","","","","","","","","","","","","","","","","","","","","","","","","",{"$f":"IF(A253=\"\",\"\",MAX(IF(ISERROR(AU253:BF253),0,AU253:BF253)))","v":""},"","","","","","","","","","","","","","","","","","",""]
[{"$f":"IF(ISBLANK('Control Sheet'!D234),\"\",'Control Sheet'!D234)","v":""},{"$f":"IF(ISBLANK('Control Sheet'!E234),\"\",'Control Sheet'!E234&\" (\"&'Control Sheet'!F234&\")\")","v":""},"","","","","","","","","","","","","",null,"","","","","","","","","","","","","","","","","","","","","","","","","","","","","","","","","","","","","","","","","","",{"$f":"IF(A254=\"\",\"\",MAX(IF(ISERROR(AU254:BF254),0,AU254:BF254)))","v":""},"","","","","","","","","","","","","","","","","","",""]
[{"$f":"IF(ISBLANK('Control Sheet'!D235),\"\",'Control Sheet'!D235)","v":""},{"$f":"IF(ISBLANK('Control Sheet'!E235),\"\",'Control Sheet'!E235&\" (\"&'Control Sheet'!F235&\")\")","v":""},"","","","","","","","","","","","","",null,"","","","","","","","","","","","","","","","","","","","","","","","","","","","","","","","","","","","","","","","","","",{"$f":"IF(A255=\"\",\"\",MAX(IF(ISERROR(AU255:BF255),0,AU255:BF255)))","v":""},"","","","","","","","","","","","","","","","","","",""]
[{"$f":"IF(ISBLANK('Control Sheet'!D236),\"\",'Control Sheet'!D236)","v":""},{"$f":"IF(ISBLANK('Control Sheet'!E236),\"\",'Control Sheet'!E236&\" (\"&'Control Sheet'!F236&\")\")","v":""},"","","","","","","","","","","","","",null,"","","","","","","","","","","","","","","","","","","","","","","","","","","","","","","","","","","","","","","","","","",{"$f":"IF(A256=\"\",\"\",MAX(IF(ISERROR(AU256:BF256),0,AU256:BF256)))","v":""},"","","","","","","","","","","","","","","","","","",""]
[{"$f":"IF(ISBLANK('Control Sheet'!D237),\"\",'Control Sheet'!D237)","v":""},{"$f":"IF(ISBLANK('Control Sheet'!E237),\"\",'Control Sheet'!E237&\" (\"&'Control Sheet'!F237&\")\")","v":""},"","","","","","","","","","","","","",null,"","","","","","","","","","","","","","","","","","","","","","","","","","","","","","","","","","","","","","","","","","",{"$f":"IF(A257=\"\",\"\",MAX(IF(ISERROR(AU257:BF257),0,AU257:BF257)))","v":""},"","","","","","","","","","","","","","","","","","",""]
[{"$f":"IF(ISBLANK('Control Sheet'!D238),\"\",'Control Sheet'!D238)","v":""},{"$f":"IF(ISBLANK('Control Sheet'!E238),\"\",'Control Sheet'!E238&\" (\"&'Control Sheet'!F238&\")\")","v":""},"","","","","","","","","","","","","",null,"","","","","","","","","","","","","","","","","","","","","","","","","","","","","","","","","","","","","","","","","","",{"$f":"IF(A258=\"\",\"\",MAX(IF(ISERROR(AU258:BF258),0,AU258:BF258)))","v":""},"","","","","","","","","","","","","","","","","","",""]
[{"$f":"IF(ISBLANK('Control Sheet'!D239),\"\",'Control Sheet'!D239)","v":""},{"$f":"IF(ISBLANK('Control Sheet'!E239),\"\",'Control Sheet'!E239&\" (\"&'Control Sheet'!F239&\")\")","v":""},"","","","","","","","","","","","","",null,"","","","","","","","","","","","","","","","","","","","","","","","","","","","","","","","","","","","","","","","","","",{"$f":"IF(A259=\"\",\"\",MAX(IF(ISERROR(AU259:BF259),0,AU259:BF259)))","v":""},"","","","","","","","","","","","","","","","","","",""]
[{"$f":"IF(ISBLANK('Control Sheet'!D240),\"\",'Control Sheet'!D240)","v":""},{"$f":"IF(ISBLANK('Control Sheet'!E240),\"\",'Control Sheet'!E240&\" (\"&'Control Sheet'!F240&\")\")","v":""},"","","","","","","","","","","","","",null,"","","","","","","","","","","","","","","","","","","","","","","","","","","","","","","","","","","","","","","","","","",{"$f":"IF(A260=\"\",\"\",MAX(IF(ISERROR(AU260:BF260),0,AU260:BF260)))","v":""},"","","","","","","","","","","","","","","","","","",""]
[{"$f":"IF(ISBLANK('Control Sheet'!D241),\"\",'Control Sheet'!D241)","v":""},{"$f":"IF(ISBLANK('Control Sheet'!E241),\"\",'Control Sheet'!E241&\" (\"&'Control Sheet'!F241&\")\")","v":""},{"$f":"IF(C$18=1,IF(ISNA(VLOOKUP($A261,INDIRECT(C$20),OOPE_col,FALSE)),\"\",VLOOKUP($A261,INDIRECT(C$20),OOPE_col,FALSE)),\"\")","v":""},"","","","","","","","","","","","",null,"","","","","","","","","","","","","","","","","","","","","","","","","","","","","","","","","","","","","","","","","","",{"$f":"IF(A261=\"\",\"\",MAX(IF(ISERROR(AU261:BF261),0,AU261:BF261)))","v":""},"","","","","","","","","","","","","","","","","","",""]
[{"$f":"IF(ISBLANK('Control Sheet'!D242),\"\",'Control Sheet'!D242)","v":""},{"$f":"IF(ISBLANK('Control Sheet'!E242),\"\",'Control Sheet'!E242&\" (\"&'Control Sheet'!F242&\")\")","v":""},"","","","","","","","","","","","","",null,"","","","","","","","","","","","","","","","","","","","","","","","","","","","","","","","","","","","","","","","","","",{"$f":"IF(A262=\"\",\"\",MAX(IF(ISERROR(AU262:BF262),0,AU262:BF262)))","v":""},"","","","","","","","","","","","","","","","","","",""]
[{"$f":"IF(ISBLANK('Control Sheet'!D243),\"\",'Control Sheet'!D243)","v":""},{"$f":"IF(ISBLANK('Control Sheet'!E243),\"\",'Control Sheet'!E243&\" (\"&'Control Sheet'!F243&\")\")","v":""},"","","","","","","","","","","","","",null,"","","","","","","","","","","","","","","","","","","","","","","","","","","","","","","","","","","","","","","","","","",{"$f":"IF(A263=\"\",\"\",MAX(IF(ISERROR(AU263:BF263),0,AU263:BF263)))","v":""},"","","","","","","","","","","","","","","","","","",""]
[{"$f":"IF(ISBLANK('Control Sheet'!D244),\"\",'Control Sheet'!D244)","v":""},{"$f":"IF(ISBLANK('Control Sheet'!E244),\"\",'Control Sheet'!E244&\" (\"&'Control Sheet'!F244&\")\")","v":""},"","","","","","","","","","","","","",null,"","","","","","","","","","","","","","","","","","","","","","","","","","","","","","","","","","","","","","","","","","",{"$f":"IF(A264=\"\",\"\",MAX(IF(ISERROR(AU264:BF264),0,AU264:BF264)))","v":""},"","","","","","","","","","","","","","","","","","",""]
[{"$f":"IF(ISBLANK('Control Sheet'!D245),\"\",'Control Sheet'!D245)","v":""},{"$f":"IF(ISBLANK('Control Sheet'!E245),\"\",'Control Sheet'!E245&\" (\"&'Control Sheet'!F245&\")\")","v":""},"","","","","","","","","","","","","",null,"","","","","","","","","","","","","","","","","","","","","","","","","","","","","","","","","","","","","","","","","","",{"$f":"IF(A265=\"\",\"\",MAX(IF(ISERROR(AU265:BF265),0,AU265:BF265)))","v":""},"","","","","","","","","","","","","","","","","","",""]
[{"$f":"IF(ISBLANK('Control Sheet'!D246),\"\",'Control Sheet'!D246)","v":""},{"$f":"IF(ISBLANK('Control Sheet'!E246),\"\",'Control Sheet'!E246&\" (\"&'Control Sheet'!F246&\")\")","v":""},"","","","","","","","","","","","","",null,"","","","","","","","","","","","","","","","","","","","","","","","","","","","","","","","","","","","","","","","","","",{"$f":"IF(A266=\"\",\"\",MAX(IF(ISERROR(AU266:BF266),0,AU266:BF266)))","v":""},"","","","","","","","","","","","","","","","","","",""]
[{"$f":"IF(ISBLANK('Control Sheet'!D247),\"\",'Control Sheet'!D247)","v":""},{"$f":"IF(ISBLANK('Control Sheet'!E247),\"\",'Control Sheet'!E247&\" (\"&'Control Sheet'!F247&\")\")","v":""},"","","","","","","","","","","","","",null,"","","","","","","","","","","","","","","","","","","","","","","","","","","","","","","","","","","","","","","","","","",{"$f":"IF(A267=\"\",\"\",MAX(IF(ISERROR(AU267:BF267),0,AU267:BF267)))","v":""},"","","","","","","","","","","","","","","","","","",""]
[{"$f":"IF(ISBLANK('Control Sheet'!D248),\"\",'Control Sheet'!D248)","v":""},{"$f":"IF(ISBLANK('Control Sheet'!E248),\"\",'Control Sheet'!E248&\" (\"&'Control Sheet'!F248&\")\")","v":""},"","","","","","","","","","","","","",null,"","","","","","","","","","","","","","","","","","","","","","","","","","","","","","","","","","","","","","","","","","",{"$f":"IF(A268=\"\",\"\",MAX(IF(ISERROR(AU268:BF268),0,AU268:BF268)))","v":""},"","","","","","","","","","","","","","","","","","",""]
[{"$f":"IF(ISBLANK('Control Sheet'!D249),\"\",'Control Sheet'!D249)","v":""},{"$f":"IF(ISBLANK('Control Sheet'!E249),\"\",'Control Sheet'!E249&\" (\"&'Control Sheet'!F249&\")\")","v":""},"","","","","","","","","","","","","",null,"","","","","","","","","","","","","","","","","","","","","","","","","","","","","","","","","","","","","","","","","","",{"$f":"IF(A269=\"\",\"\",MAX(IF(ISERROR(AU269:BF269),0,AU269:BF269)))","v":""},"","","","","","","","","","","","","","","","","","",""]
[{"$f":"IF(ISBLANK('Control Sheet'!D250),\"\",'Control Sheet'!D250)","v":""},{"$f":"IF(ISBLANK('Control Sheet'!E250),\"\",'Control Sheet'!E250&\" (\"&'Control Sheet'!F250&\")\")","v":""},"","","","","","","","","","","","","",null,"","","","","","","","","","","","","","","","","","","","","","","","","","","","","","","","","","","","","","","","","","",{"$f":"IF(A270=\"\",\"\",MAX(IF(ISERROR(AU270:BF270),0,AU270:BF270)))","v":""},"","","","","","","","","","","","","","","","","","",""]
[{"$f":"IF(ISBLANK('Control Sheet'!D251),\"\",'Control Sheet'!D251)","v":""},{"$f":"IF(ISBLANK('Control Sheet'!E251),\"\",'Control Sheet'!E251&\" (\"&'Control Sheet'!F251&\")\")","v":""},{"$f":"IF(C$18=1,IF(ISNA(VLOOKUP($A271,INDIRECT(C$20),OOPE_col,FALSE)),\"\",VLOOKUP($A271,INDIRECT(C$20),OOPE_col,FALSE)),\"\")","v":""},"","","","","","","","","","","","",null,"","","","","","","","","","","","","","","","","","","","","","","","","","","","","","","","","","","","","","","","","","",{"$f":"IF(A271=\"\",\"\",MAX(IF(ISERROR(AU271:BF271),0,AU271:BF271)))","v":""},"","","","","","","","","","","","","","","","","","",""]
[{"$f":"IF(ISBLANK('Control Sheet'!D252),\"\",'Control Sheet'!D252)","v":""},{"$f":"IF(ISBLANK('Control Sheet'!E252),\"\",'Control Sheet'!E252&\" (\"&'Control Sheet'!F252&\")\")","v":""},"","","","","","","","","","","","","",null,"","","","","","","","","","","","","","","","","","","","","","","","","","","","","","","","","","","","","","","","","","",{"$f":"IF(A272=\"\",\"\",MAX(IF(ISERROR(AU272:BF272),0,AU272:BF272)))","v":""},"","","","","","","","","","","","","","","","","","",""]
[{"$f":"IF(ISBLANK('Control Sheet'!D253),\"\",'Control Sheet'!D253)","v":""},{"$f":"IF(ISBLANK('Control Sheet'!E253),\"\",'Control Sheet'!E253&\" (\"&'Control Sheet'!F253&\")\")","v":""},"","","","","","","","","","","","","",null,"","","","","","","","","","","","","","","","","","","","","","","","","","","","","","","","","","","","","","","","","","",{"$f":"IF(A273=\"\",\"\",MAX(IF(ISERROR(AU273:BF273),0,AU273:BF273)))","v":""},"","","","","","","","","","","","","","","","","","",""]
[{"$f":"IF(ISBLANK('Control Sheet'!D254),\"\",'Control Sheet'!D254)","v":""},{"$f":"IF(ISBLANK('Control Sheet'!E254),\"\",'Control Sheet'!E254&\" (\"&'Control Sheet'!F254&\")\")","v":""},"","","","","","","","","","","","","",null,"","","","","","","","","","","","","","","","","","","","","","","","","","","","","","","","","","","","","","","","","","",{"$f":"IF(A274=\"\",\"\",MAX(IF(ISERROR(AU274:BF274),0,AU274:BF274)))","v":""},"","","","","","","","","","","","","","","","","","",""]
[{"$f":"IF(ISBLANK('Control Sheet'!D255),\"\",'Control Sheet'!D255)","v":""},{"$f":"IF(ISBLANK('Control Sheet'!E255),\"\",'Control Sheet'!E255&\" (\"&'Control Sheet'!F255&\")\")","v":""},"","","","","","","","","","","","","",null,"","","","","","","","","","","","","","","","","","","","","","","","","","","","","","","","","","","","","","","","","","",{"$f":"IF(A275=\"\",\"\",MAX(IF(ISERROR(AU275:BF275),0,AU275:BF275)))","v":""},"","","","","","","","","","","","","","","","","","",""]
[{"$f":"IF(ISBLANK('Control Sheet'!D256),\"\",'Control Sheet'!D256)","v":""},{"$f":"IF(ISBLANK('Control Sheet'!E256),\"\",'Control Sheet'!E256&\" (\"&'Control Sheet'!F256&\")\")","v":""},"","","","","","","","","","","","","",null,"","","","","","","","","","","","","","","","","","","","","","","","","","","","","","","","","","","","","","","","","","",{"$f":"IF(A276=\"\",\"\",MAX(IF(ISERROR(AU276:BF276),0,AU276:BF276)))","v":""},"","","","","","","","","","","","","","","","","","",""]
[{"$f":"IF(ISBLANK('Control Sheet'!D257),\"\",'Control Sheet'!D257)","v":""},{"$f":"IF(ISBLANK('Control Sheet'!E257),\"\",'Control Sheet'!E257&\" (\"&'Control Sheet'!F257&\")\")","v":""},"","","","","","","","","","","","","",null,"",{"$f":"IF(A277=\"\",\"\",OOPEMonthsPop-(COUNTA(C277:N277)-COUNTBLANK(C277:N277)))","v":""},"","","","","","","","","","","","","","","","","","","","","","","","","","","","",{"$f":"IF(OR(A277=\"\",OOPEMonthsPop=0),\"\",IF(AU$18=OOPEMonthsPop,AH277,#N/A))","v":""},{"$f":"IF(OR($A277=\"\",OOPEMonthsPop=0),\"\",IF(AV$18<OOPEMonthsPop,#N/A,IF(AV$18=OOPEMonthsPop,AI277,IF(AU277=\"\",\"\",IF(AV$18=OOPEMonthsPop+1,AU277+(AU277*VLOOKUP(OOPEMonthsPop-$R277,ForecastMult,3,FALSE)/12),AU277+AU277-AT277)))))","v":""},{"$f":"IF(OR($A277=\"\",OOPEMonthsPop=0),\"\",IF(AW$18<OOPEMonthsPop,#N/A,IF(AW$18=OOPEMonthsPop,AJ277,IF(AV277=\"\",\"\",IF(AW$18=OOPEMonthsPop+1,AV277+(AV277*VLOOKUP(OOPEMonthsPop-$R277,ForecastMult,3,FALSE)/12),AV277+AV277-AU277)))))","v":""},{"$f":"IF(OR($A277=\"\",OOPEMonthsPop=0),\"\",IF(AX$18<OOPEMonthsPop,#N/A,IF(AX$18=OOPEMonthsPop,AK277,IF(AW277=\"\",\"\",IF(AX$18=OOPEMonthsPop+1,AW277+(AW277*VLOOKUP(OOPEMonthsPop-$R277,ForecastMult,3,FALSE)/12),AW277+AW277-AV277)))))","v":""},{"$f":"IF(OR($A277=\"\",OOPEMonthsPop=0),\"\",IF(AY$18<OOPEMonthsPop,#N/A,IF(AY$18=OOPEMonthsPop,AL277,IF(AX277=\"\",\"\",IF(AY$18=OOPEMonthsPop+1,AX277+(AX277*VLOOKUP(OOPEMonthsPop-$R277,ForecastMult,3,FALSE)/12),AX277+AX277-AW277)))))","v":""},{"$f":"IF(OR($A277=\"\",OOPEMonthsPop=0),\"\",IF(AZ$18<OOPEMonthsPop,#N/A,IF(AZ$18=OOPEMonthsPop,AM277,IF(AY277=\"\",\"\",IF(AZ$18=OOPEMonthsPop+1,AY277+(AY277*VLOOKUP(OOPEMonthsPop-$R277,ForecastMult,3,FALSE)/12),AY277+AY277-AX277)))))","v":""},{"$f":"IF(OR($A277=\"\",OOPEMonthsPop=0),\"\",IF(BA$18<OOPEMonthsPop,#N/A,IF(BA$18=OOPEMonthsPop,AN277,IF(AZ277=\"\",\"\",IF(BA$18=OOPEMonthsPop+1,AZ277+(AZ277*VLOOKUP(OOPEMonthsPop-$R277,ForecastMult,3,FALSE)/12),AZ277+AZ277-AY277)))))","v":""},{"$f":"IF(OR($A277=\"\",OOPEMonthsPop=0),\"\",IF(BB$18<OOPEMonthsPop,#N/A,IF(BB$18=OOPEMonthsPop,AO277,IF(BA277=\"\",\"\",IF(BB$18=OOPEMonthsPop+1,BA277+(BA277*VLOOKUP(OOPEMonthsPop-$R277,ForecastMult,3,FALSE)/12),BA277+BA277-AZ277)))))","v":""},{"$f":"IF(OR($A277=\"\",OOPEMonthsPop=0),\"\",IF(BC$18<OOPEMonthsPop,#N/A,IF(BC$18=OOPEMonthsPop,AP277,IF(BB277=\"\",\"\",IF(BC$18=OOPEMonthsPop+1,BB277+(BB277*VLOOKUP(OOPEMonthsPop-$R277,ForecastMult,3,FALSE)/12),BB277+BB277-BA277)))))","v":""},{"$f":"IF(OR($A277=\"\",OOPEMonthsPop=0),\"\",IF(BD$18<OOPEMonthsPop,#N/A,IF(BD$18=OOPEMonthsPop,AQ277,IF(BC277=\"\",\"\",IF(BD$18=OOPEMonthsPop+1,BC277+(BC277*VLOOKUP(OOPEMonthsPop-$R277,ForecastMult,3,FALSE)/12),BC277+BC277-BB277)))))","v":""},{"$f":"IF(OR($A277=\"\",OOPEMonthsPop=0),\"\",IF(BE$18<OOPEMonthsPop,#N/A,IF(BE$18=OOPEMonthsPop,AR277,IF(BD277=\"\",\"\",IF(BE$18=OOPEMonthsPop+1,BD277+(BD277*VLOOKUP(OOPEMonthsPop-$R277,ForecastMult,3,FALSE)/12),BD277+BD277-BC277)))))","v":""},{"$f":"IF(OR($A277=\"\",OOPEMonthsPop=0),\"\",IF(BF$18<OOPEMonthsPop,#N/A,IF(BF$18=OOPEMonthsPop,AS277,IF(BE277=\"\",\"\",IF(BF$18=OOPEMonthsPop+1,BE277+(BE277*VLOOKUP(OOPEMonthsPop-$R277,ForecastMult,3,FALSE)/12),BE277+BE277-BD277)))))","v":""},{"$f":"IF(A277=\"\",\"\",MAX(IF(ISERROR(AU277:BF277),0,AU277:BF277)))","v":""},{"$f":"IF(AND(C$18=1,$A277<>\"\"),IF(ISNA(VLOOKUP($A277,INDIRECT(C$20),TOT_STDR_PXS_col,FALSE)),\"\",VLOOKUP($A277,INDIRECT(C$20),TOT_STDR_PXS_col,FALSE)+VLOOKUP($A277,INDIRECT(C$20),TOT_ZDR_PXS_col,FALSE)),\"\")","v":""},{"$f":"IF(AND(D$18=1,$A277<>\"\"),IF(ISNA(VLOOKUP($A277,INDIRECT(D$20),TOT_STDR_PXS_col,FALSE)),\"\",VLOOKUP($A277,INDIRECT(D$20),TOT_STDR_PXS_col,FALSE)+VLOOKUP($A277,INDIRECT(D$20),TOT_ZDR_PXS_col,FALSE)),\"\")","v":""},{"$f":"IF(AND(E$18=1,$A277<>\"\"),IF(ISNA(VLOOKUP($A277,INDIRECT(E$20),TOT_STDR_PXS_col,FALSE)),\"\",VLOOKUP($A277,INDIRECT(E$20),TOT_STDR_PXS_col,FALSE)+VLOOKUP($A277,INDIRECT(E$20),TOT_ZDR_PXS_col,FALSE)),\"\")","v":""},{"$f":"IF(AND(F$18=1,$A277<>\"\"),IF(ISNA(VLOOKUP($A277,INDIRECT(F$20),TOT_STDR_PXS_col,FALSE)),\"\",VLOOKUP($A277,INDIRECT(F$20),TOT_STDR_PXS_col,FALSE)+VLOOKUP($A277,INDIRECT(F$20),TOT_ZDR_PXS_col,FALSE)),\"\")","v":""},{"$f":"IF(AND(G$18=1,$A277<>\"\"),IF(ISNA(VLOOKUP($A277,INDIRECT(G$20),TOT_STDR_PXS_col,FALSE)),\"\",VLOOKUP($A277,INDIRECT(G$20),TOT_STDR_PXS_col,FALSE)+VLOOKUP($A277,INDIRECT(G$20),TOT_ZDR_PXS_col,FALSE)),\"\")","v":""},{"$f":"IF(AND(H$18=1,$A277<>\"\"),IF(ISNA(VLOOKUP($A277,INDIRECT(H$20),TOT_STDR_PXS_col,FALSE)),\"\",VLOOKUP($A277,INDIRECT(H$20),TOT_STDR_PXS_col,FALSE)+VLOOKUP($A277,INDIRECT(H$20),TOT_ZDR_PXS_col,FALSE)),\"\")","v":""},{"$f":"IF(AND(I$18=1,$A277<>\"\"),IF(ISNA(VLOOKUP($A277,INDIRECT(I$20),TOT_STDR_PXS_col,FALSE)),\"\",VLOOKUP($A277,INDIRECT(I$20),TOT_STDR_PXS_col,FALSE)+VLOOKUP($A277,INDIRECT(I$20),TOT_ZDR_PXS_col,FALSE)),\"\")","v":""},{"$f":"IF(AND(J$18=1,$A277<>\"\"),IF(ISNA(VLOOKUP($A277,INDIRECT(J$20),TOT_STDR_PXS_col,FALSE)),\"\",VLOOKUP($A277,INDIRECT(J$20),TOT_STDR_PXS_col,FALSE)+VLOOKUP($A277,INDIRECT(J$20),TOT_ZDR_PXS_col,FALSE)),\"\")","v":""},{"$f":"IF(AND(K$18=1,$A277<>\"\"),IF(ISNA(VLOOKUP($A277,INDIRECT(K$20),TOT_STDR_PXS_col,FALSE)),\"\",VLOOKUP($A277,INDIRECT(K$20),TOT_STDR_PXS_col,FALSE)+VLOOKUP($A277,INDIRECT(K$20),TOT_ZDR_PXS_col,FALSE)),\"\")","v":""},{"$f":"IF(AND(L$18=1,$A277<>\"\"),IF(ISNA(VLOOKUP($A277,INDIRECT(L$20),TOT_STDR_PXS_col,FALSE)),\"\",VLOOKUP($A277,INDIRECT(L$20),TOT_STDR_PXS_col,FALSE)+VLOOKUP($A277,INDIRECT(L$20),TOT_ZDR_PXS_col,FALSE)),\"\")","v":""},{"$f":"IF(AND(M$18=1,$A277<>\"\"),IF(ISNA(VLOOKUP($A277,INDIRECT(M$20),TOT_STDR_PXS_col,FALSE)),\"\",VLOOKUP($A277,INDIRECT(M$20),TOT_STDR_PXS_col,FALSE)+VLOOKUP($A277,INDIRECT(M$20),TOT_ZDR_PXS_col,FALSE)),\"\")","v":""},{"$f":"IF(AND(N$18=1,$A277<>\"\"),IF(ISNA(VLOOKUP($A277,INDIRECT(N$20),TOT_STDR_PXS_col,FALSE)),\"\",VLOOKUP($A277,INDIRECT(N$20),TOT_STDR_PXS_col,FALSE)+VLOOKUP($A277,INDIRECT(N$20),TOT_ZDR_PXS_col,FALSE)),\"\")","v":""},"","","","","","",""]
[{"$f":"IF(ISBLANK('Control Sheet'!D258),\"\",'Control Sheet'!D258)","v":""},{"$f":"IF(ISBLANK('Control Sheet'!E258),\"\",'Control Sheet'!E258&\" (\"&'Control Sheet'!F258&\")\")","v":""},"","","","","","","","","","","","",{"$f":"IF(A278=\"\",\"\",SUM(C278:N278))","v":""},null,{"$f":"IF(A278=\"\",\"\",IF(BG278<=400,\"No\",\"Yes\"))","v":""},"",{"$f":"IF(C278=\"\",\"\",IF(C278<=C$10,1,IF(C278<=C$7,2,IF(C278<=C$8,3,IF(C278<=C$9,4,IF(C278<=C$11,5,60))))))","v":""},{"$f":"IF(D278=\"\",\"\",IF(D278<=D$10,1,IF(D278<=D$7,2,IF(D278<=D$8,3,IF(D278<=D$9,4,IF(D278<=D$11,5,60))))))","v":""},{"$f":"IF(E278=\"\",\"\",IF(E278<=E$10,1,IF(E278<=E$7,2,IF(E278<=E$8,3,IF(E278<=E$9,4,IF(E278<=E$11,5,60))))))","v":""},{"$f":"IF(F278=\"\",\"\",IF(F278<=F$10,1,IF(F278<=F$7,2,IF(F278<=F$8,3,IF(F278<=F$9,4,IF(F278<=F$11,5,60))))))","v":""},{"$f":"IF(G278=\"\",\"\",IF(G278<=G$10,1,IF(G278<=G$7,2,IF(G278<=G$8,3,IF(G278<=G$9,4,IF(G278<=G$11,5,60))))))","v":""},{"$f":"IF(H278=\"\",\"\",IF(H278<=H$10,1,IF(H278<=H$7,2,IF(H278<=H$8,3,IF(H278<=H$9,4,IF(H278<=H$11,5,60))))))","v":""},{"$f":"IF(I278=\"\",\"\",IF(I278<=I$10,1,IF(I278<=I$7,2,IF(I278<=I$8,3,IF(I278<=I$9,4,IF(I278<=I$11,5,60))))))","v":""},{"$f":"IF(J278=\"\",\"\",IF(J278<=J$10,1,IF(J278<=J$7,2,IF(J278<=J$8,3,IF(J278<=J$9,4,IF(J278<=J$11,5,60))))))","v":""},{"$f":"IF(K278=\"\",\"\",IF(K278<=K$10,1,IF(K278<=K$7,2,IF(K278<=K$8,3,IF(K278<=K$9,4,IF(K278<=K$11,5,60))))))","v":""},{"$f":"IF(L278=\"\",\"\",IF(L278<=L$10,1,IF(L278<=L$7,2,IF(L278<=L$8,3,IF(L278<=L$9,4,IF(L278<=L$11,5,60))))))","v":""},{"$f":"IF(M278=\"\",\"\",IF(M278<=M$10,1,IF(M278<=M$7,2,IF(M278<=M$8,3,IF(M278<=M$9,4,IF(M278<=M$11,5,60))))))","v":""},{"$f":"IF(N278=\"\",\"\",IF(N278<=N$10,1,IF(N278<=N$7,2,IF(N278<=N$8,3,IF(N278<=N$9,4,IF(N278<=N$11,5,60))))))","v":""},{"$f":"IF(A278=\"\",\"\",SUM(S278:AD278))","v":""},"",{"$f":"IF(AF278=\"\",\"\",IF(AF278<=1,\"Lower Outlier\",IF(AF278<=2,\"Below Average\",IF(AF278<=3,\"Lower Quartile\",IF(AF278<=4,\"Upper Quartile\",IF(AF278<=5, \"Above Average\", \"Upper Outlier\"))))))","v":""},{"$f":"IF(C$18=1,C278,\"\")","v":""},{"$f":"IF(D$18=1,IF(D278=\"\",IF(AH278=\"\",\"\",AH278),IF(AND(D278>=0,AH278=\"\"),D278,IF(ISERROR(D278+AH278),#N/A,D278+AH278))),\"\")","v":""},{"$f":"IF(E$18=1,IF(E278=\"\",IF(AI278=\"\",\"\",AI278),IF(AND(E278>=0,AI278=\"\"),E278,IF(ISERROR(E278+AI278),#N/A,E278+AI278))),\"\")","v":""},{"$f":"IF(F$18=1,IF(F278=\"\",IF(AJ278=\"\",\"\",AJ278),IF(AND(F278>=0,AJ278=\"\"),F278,IF(ISERROR(F278+AJ278),#N/A,F278+AJ278))),\"\")","v":""},{"$f":"IF(G$18=1,IF(G278=\"\",IF(AK278=\"\",\"\",AK278),IF(AND(G278>=0,AK278=\"\"),G278,IF(ISERROR(G278+AK278),#N/A,G278+AK278))),\"\")","v":""},{"$f":"IF(H$18=1,IF(H278=\"\",IF(AL278=\"\",\"\",AL278),IF(AND(H278>=0,AL278=\"\"),H278,IF(ISERROR(H278+AL278),#N/A,H278+AL278))),\"\")","v":""},{"$f":"IF(I$18=1,IF(I278=\"\",IF(AM278=\"\",\"\",AM278),IF(AND(I278>=0,AM278=\"\"),I278,IF(ISERROR(I278+AM278),#N/A,I278+AM278))),\"\")","v":""},{"$f":"IF(J$18=1,IF(J278=\"\",IF(AN278=\"\",\"\",AN278),IF(AND(J278>=0,AN278=\"\"),J278,IF(ISERROR(J278+AN278),#N/A,J278+AN278))),\"\")","v":""},{"$f":"IF(K$18=1,IF(K278=\"\",IF(AO278=\"\",\"\",AO278),IF(AND(K278>=0,AO278=\"\"),K278,IF(ISERROR(K278+AO278),#N/A,K278+AO278))),\"\")","v":""},{"$f":"IF(L$18=1,IF(L278=\"\",IF(AP278=\"\",\"\",AP278),IF(AND(L278>=0,AP278=\"\"),L278,IF(ISERROR(L278+AP278),#N/A,L278+AP278))),\"\")","v":""},{"$f":"IF(M$18=1,IF(M278=\"\",IF(AQ278=\"\",\"\",AQ278),IF(AND(M278>=0,AQ278=\"\"),M278,IF(ISERROR(M278+AQ278),#N/A,M278+AQ278))),\"\")","v":""},{"$f":"IF(N$18=1,IF(N278=\"\",IF(AR278=\"\",\"\",AR278),IF(AND(N278>=0,AR278=\"\"),N278,IF(ISERROR(N278+AR278),#N/A,N278+AR278))),\"\")","v":""},{"$f":"IF(A278=\"\",\"\",MAX(AH278:AS278))","v":""},"","","","","","","","","","","","",{"$f":"IF(A278=\"\",\"\",MAX(IF(ISERROR(AU278:BF278),0,AU278:BF278)))","v":""},"","","","","","","","","","","","",{"$f":"IF(A278=\"\",\"\",SUM(BH278:BS278))","v":""},{"$f":"IF(A278=\"\",\"\",MIN(B278:M278))","v":""},{"$f":"IF(A278=\"\",\"\",MAX(B278:M278))","v":""},{"$f":"IF(A278=\"\",\"\",IF(BV278-BU278=0,\"\",BV278-BU278))","v":""},{"$f":"IF(A278=\"\",\"\",IF(BW278=\"\",\"No\",IF(BW278>$BW$11,\"Yes\",\"No\")))","v":""},{"$f":"IF(A278=\"\",\"\",(COUNTA(C278:N278)-COUNTBLANK(C278:N278)))","v":""},{"$f":"IF(A278=\"\",\"\",BY278-COUNTIF(C278:N278,\"=0\"))","v":""}]
[{"$f":"IF(ISBLANK('Control Sheet'!D259),\"\",'Control Sheet'!D259)","v":""},{"$f":"IF(ISBLANK('Control Sheet'!E259),\"\",'Control Sheet'!E259&\" (\"&'Control Sheet'!F259&\")\")","v":""},"","","","","","","","","","","","","",null,"","","","","","","","","","","","","","","","","","","","","","","","","","","","","","","","","","","","","","","","","","",{"$f":"IF(A279=\"\",\"\",MAX(IF(ISERROR(AU279:BF279),0,AU279:BF279)))","v":""},"","","","","","","","","","","","","","","","","","",""]
[{"$f":"IF(ISBLANK('Control Sheet'!D260),\"\",'Control Sheet'!D260)","v":""},{"$f":"IF(ISBLANK('Control Sheet'!E260),\"\",'Control Sheet'!E260&\" (\"&'Control Sheet'!F260&\")\")","v":""},"","","","","","","","","","","","","",null,"","","","","","","","","","","","","","","","","","","","","","","","","","","","","","","","","","","","","","","","","","",{"$f":"IF(A280=\"\",\"\",MAX(IF(ISERROR(AU280:BF280),0,AU280:BF280)))","v":""},"","","","","","","","","","","","","","","","","","",""]
[{"$f":"IF(ISBLANK('Control Sheet'!D261),\"\",'Control Sheet'!D261)","v":""},{"$f":"IF(ISBLANK('Control Sheet'!E261),\"\",'Control Sheet'!E261&\" (\"&'Control Sheet'!F261&\")\")","v":""},{"$f":"IF(C$18=1,IF(ISNA(VLOOKUP($A281,INDIRECT(C$20),OOPE_col,FALSE)),\"\",VLOOKUP($A281,INDIRECT(C$20),OOPE_col,FALSE)),\"\")","v":""},"","","","","","","","","","","","",null,"","","","","","","","","","","","","","","","","","","","","","","","","","","","","","","","","","","","","","","","","","",{"$f":"IF(A281=\"\",\"\",MAX(IF(ISERROR(AU281:BF281),0,AU281:BF281)))","v":""},"","","","","","","","","","","","","","","","","","",""]
[{"$f":"IF(ISBLANK('Control Sheet'!D262),\"\",'Control Sheet'!D262)","v":""},{"$f":"IF(ISBLANK('Control Sheet'!E262),\"\",'Control Sheet'!E262&\" (\"&'Control Sheet'!F262&\")\")","v":""},"","","","","","","","","","","","","",null,"","","","","","","","","","","","","","","","","","","","","","","","","","","","","","","","","","","","","","","","","","",{"$f":"IF(A282=\"\",\"\",MAX(IF(ISERROR(AU282:BF282),0,AU282:BF282)))","v":""},"","","","","","","","","","","","","","","","","","",""]
[{"$f":"IF(ISBLANK('Control Sheet'!D263),\"\",'Control Sheet'!D263)","v":""},{"$f":"IF(ISBLANK('Control Sheet'!E263),\"\",'Control Sheet'!E263&\" (\"&'Control Sheet'!F263&\")\")","v":""},"","","","","","","","","","","","","",null,"","","","","","","","","","","","","","","","","","","","","","","","","","","","","","","","","","","","","","","","","","",{"$f":"IF(A283=\"\",\"\",MAX(IF(ISERROR(AU283:BF283),0,AU283:BF283)))","v":""},"","","","","","","","","","","","","","","","","","",""]
[{"$f":"IF(ISBLANK('Control Sheet'!D264),\"\",'Control Sheet'!D264)","v":""},{"$f":"IF(ISBLANK('Control Sheet'!E264),\"\",'Control Sheet'!E264&\" (\"&'Control Sheet'!F264&\")\")","v":""},"","","","","","","","","","","","","",null,"","","","","","","","","","","","","","","","","","","","","","","","","","","","","","","","","","","","","","","","","","",{"$f":"IF(A284=\"\",\"\",MAX(IF(ISERROR(AU284:BF284),0,AU284:BF284)))","v":""},"","","","","","","","","","","","","","","","","","",""]
[{"$f":"IF(ISBLANK('Control Sheet'!D265),\"\",'Control Sheet'!D265)","v":""},{"$f":"IF(ISBLANK('Control Sheet'!E265),\"\",'Control Sheet'!E265&\" (\"&'Control Sheet'!F265&\")\")","v":""},"","","","","","","","","","","","","",null,"","","","","","","","","","","","","","","","","","","","","","","","","","","","","","","","","","","","","","","","","","",{"$f":"IF(A285=\"\",\"\",MAX(IF(ISERROR(AU285:BF285),0,AU285:BF285)))","v":""},"","","","","","","","","","","","","","","","","","",""]
[{"$f":"IF(ISBLANK('Control Sheet'!D266),\"\",'Control Sheet'!D266)","v":""},{"$f":"IF(ISBLANK('Control Sheet'!E266),\"\",'Control Sheet'!E266&\" (\"&'Control Sheet'!F266&\")\")","v":""},"","","","","","","","","","","","","",null,"","","","","","","","","","","","","","","","","","","","","","","","","","","","","","","","","","","","","","","","","","",{"$f":"IF(A286=\"\",\"\",MAX(IF(ISERROR(AU286:BF286),0,AU286:BF286)))","v":""},"","","","","","","","","","","","","","","","","","",""]
[{"$f":"IF(ISBLANK('Control Sheet'!D267),\"\",'Control Sheet'!D267)","v":""},{"$f":"IF(ISBLANK('Control Sheet'!E267),\"\",'Control Sheet'!E267&\" (\"&'Control Sheet'!F267&\")\")","v":""},"","","","","","","","","","","","","",null,"","","","","","","","","","","","","","","","","","","","","","","","","","","","","","","","","","","","","","","","","","",{"$f":"IF(A287=\"\",\"\",MAX(IF(ISERROR(AU287:BF287),0,AU287:BF287)))","v":""},"","","","","","","","","","","","","","","","","","",""]
[{"$f":"IF(ISBLANK('Control Sheet'!D268),\"\",'Control Sheet'!D268)","v":""},{"$f":"IF(ISBLANK('Control Sheet'!E268),\"\",'Control Sheet'!E268&\" (\"&'Control Sheet'!F268&\")\")","v":""},"","","","","","","","","","","","","",null,"","","","","","","","","","","","","","","","","","","","","","","","","","","","","","","","","","","","","","","","","","",{"$f":"IF(A288=\"\",\"\",MAX(IF(ISERROR(AU288:BF288),0,AU288:BF288)))","v":""},"","","","","","","","","","","","","","","","","","",""]
[{"$f":"IF(ISBLANK('Control Sheet'!D269),\"\",'Control Sheet'!D269)","v":""},{"$f":"IF(ISBLANK('Control Sheet'!E269),\"\",'Control Sheet'!E269&\" (\"&'Control Sheet'!F269&\")\")","v":""},"","","","","","","","","","","","","",null,"","","","","","","","","","","","","","","","","","","","","","","","","","","","","","","","","","","","","","","","","","",{"$f":"IF(A289=\"\",\"\",MAX(IF(ISERROR(AU289:BF289),0,AU289:BF289)))","v":""},"","","","","","","","","","","","","","","","","","",""]
[{"$f":"IF(ISBLANK('Control Sheet'!D270),\"\",'Control Sheet'!D270)","v":""},{"$f":"IF(ISBLANK('Control Sheet'!E270),\"\",'Control Sheet'!E270&\" (\"&'Control Sheet'!F270&\")\")","v":""},"","","","","","","","","","","","","",null,"","","","","","","","","","","","","","","","","","","","","","","","","","","","","","","","","","","","","","","","","","",{"$f":"IF(A290=\"\",\"\",MAX(IF(ISERROR(AU290:BF290),0,AU290:BF290)))","v":""},"","","","","","","","","","","","","","","","","","",""]
[{"$f":"IF(ISBLANK('Control Sheet'!D271),\"\",'Control Sheet'!D271)","v":""},{"$f":"IF(ISBLANK('Control Sheet'!E271),\"\",'Control Sheet'!E271&\" (\"&'Control Sheet'!F271&\")\")","v":""},{"$f":"IF(C$18=1,IF(ISNA(VLOOKUP($A291,INDIRECT(C$20),OOPE_col,FALSE)),\"\",VLOOKUP($A291,INDIRECT(C$20),OOPE_col,FALSE)),\"\")","v":""},"","","","","","","","","","","","",null,"","","","","","","","","","","","","","","","","","","","","","","","","","","","","","","","","","","","","","","","","","",{"$f":"IF(A291=\"\",\"\",MAX(IF(ISERROR(AU291:BF291),0,AU291:BF291)))","v":""},"","","","","","","","","","","","","","","","","","",""]
[{"$f":"IF(ISBLANK('Control Sheet'!D272),\"\",'Control Sheet'!D272)","v":""},{"$f":"IF(ISBLANK('Control Sheet'!E272),\"\",'Control Sheet'!E272&\" (\"&'Control Sheet'!F272&\")\")","v":""},"","","","","","","","","","","","","",null,"","","","","","","","","","","","","","","","","","","","","","","","","","","","","","","","","","","","","","","","","","",{"$f":"IF(A292=\"\",\"\",MAX(IF(ISERROR(AU292:BF292),0,AU292:BF292)))","v":""},"","","","","","","","","","","","","","","","","","",""]
[{"$f":"IF(ISBLANK('Control Sheet'!D273),\"\",'Control Sheet'!D273)","v":""},{"$f":"IF(ISBLANK('Control Sheet'!E273),\"\",'Control Sheet'!E273&\" (\"&'Control Sheet'!F273&\")\")","v":""},"","","","","","","","","","","","","",null,"","","","","","","","","","","","","","","","","","","","","","","","","","","","","","","","","","","","","","","","","","",{"$f":"IF(A293=\"\",\"\",MAX(IF(ISERROR(AU293:BF293),0,AU293:BF293)))","v":""},"","","","","","","","","","","","","","","","","","",""]
[{"$f":"IF(ISBLANK('Control Sheet'!D274),\"\",'Control Sheet'!D274)","v":""},{"$f":"IF(ISBLANK('Control Sheet'!E274),\"\",'Control Sheet'!E274&\" (\"&'Control Sheet'!F274&\")\")","v":""},"","","","","","","","","","","","","",null,"","","","","","","","","","","","","","","","","","","","","","","","","","","","","","","","","","","","","","","","","","",{"$f":"IF(A294=\"\",\"\",MAX(IF(ISERROR(AU294:BF294),0,AU294:BF294)))","v":""},"","","","","","","","","","","","","","","","","","",""]
[{"$f":"IF(ISBLANK('Control Sheet'!D275),\"\",'Control Sheet'!D275)","v":""},{"$f":"IF(ISBLANK('Control Sheet'!E275),\"\",'Control Sheet'!E275&\" (\"&'Control Sheet'!F275&\")\")","v":""},"","","","","","","","","","","","","",null,"","","","","","","","","","","","","","","","","","","","","","","","","","","","","","","","","","","","","","","","","","",{"$f":"IF(A295=\"\",\"\",MAX(IF(ISERROR(AU295:BF295),0,AU295:BF295)))","v":""},"","","","","","","","","","","","","","","","","","",""]
[{"$f":"IF(ISBLANK('Control Sheet'!D276),\"\",'Control Sheet'!D276)","v":""},{"$f":"IF(ISBLANK('Control Sheet'!E276),\"\",'Control Sheet'!E276&\" (\"&'Control Sheet'!F276&\")\")","v":""},"","","","","","","","","","","","","",null,"","","","","","","","","","","","","","","","","","","","","","","","","","","","","","","","","","","","","","","","","","",{"$f":"IF(A296=\"\",\"\",MAX(IF(ISERROR(AU296:BF296),0,AU296:BF296)))","v":""},"","","","","","","","","","","","","","","","","","",""]
[{"$f":"IF(ISBLANK('Control Sheet'!D277),\"\",'Control Sheet'!D277)","v":""},{"$f":"IF(ISBLANK('Control Sheet'!E277),\"\",'Control Sheet'!E277&\" (\"&'Control Sheet'!F277&\")\")","v":""},"","","","","","","","","","","","","",null,"","","","","","","","","","","","","","","","","","","","","","","","","","","","","","","","","","","","","","","","","","",{"$f":"IF(A297=\"\",\"\",MAX(IF(ISERROR(AU297:BF297),0,AU297:BF297)))","v":""},"","","","","","","","","","","","","","","","","","",""]
[{"$f":"IF(ISBLANK('Control Sheet'!D278),\"\",'Control Sheet'!D278)","v":""},{"$f":"IF(ISBLANK('Control Sheet'!E278),\"\",'Control Sheet'!E278&\" (\"&'Control Sheet'!F278&\")\")","v":""},"","","","","","","","","","","","","",null,"","","","","","","","","","","","","","","","","","","","","","","","","","","","","","","","","","","","","","","","","","",{"$f":"IF(A298=\"\",\"\",MAX(IF(ISERROR(AU298:BF298),0,AU298:BF298)))","v":""},"","","","","","","","","","","","","","","","","","",""]
[{"$f":"IF(ISBLANK('Control Sheet'!D279),\"\",'Control Sheet'!D279)","v":""},{"$f":"IF(ISBLANK('Control Sheet'!E279),\"\",'Control Sheet'!E279&\" (\"&'Control Sheet'!F279&\")\")","v":""},"","","","","","","","","","","","","",null,"","","","","","","","","","","","","","","","","","","","","","","","","","","","","","","","","","","","","","","","","","",{"$f":"IF(A299=\"\",\"\",MAX(IF(ISERROR(AU299:BF299),0,AU299:BF299)))","v":""},"","","","","","","","","","","","","","","","","","",""]
[{"$f":"IF(ISBLANK('Control Sheet'!D280),\"\",'Control Sheet'!D280)","v":""},{"$f":"IF(ISBLANK('Control Sheet'!E280),\"\",'Control Sheet'!E280&\" (\"&'Control Sheet'!F280&\")\")","v":""},"","","","","","","","","","","","","",null,"","","","","","","","","","","","","","","","","","","","","","","","","","","","","","","","","","","","","","","","","","",{"$f":"IF(A300=\"\",\"\",MAX(IF(ISERROR(AU300:BF300),0,AU300:BF300)))","v":""},"","","","","","","","","","","","","","","","","","",""]
[{"$f":"IF(ISBLANK('Control Sheet'!D281),\"\",'Control Sheet'!D281)","v":""},{"$f":"IF(ISBLANK('Control Sheet'!E281),\"\",'Control Sheet'!E281&\" (\"&'Control Sheet'!F281&\")\")","v":""},{"$f":"IF(C$18=1,IF(ISNA(VLOOKUP($A301,INDIRECT(C$20),OOPE_col,FALSE)),\"\",VLOOKUP($A301,INDIRECT(C$20),OOPE_col,FALSE)),\"\")","v":""},"","","","","","","","","","","","",null,"","","","","","","","","","","","","","","","","","","","","","","","","","","","","","","","","","","","","","","","","","",{"$f":"IF(A301=\"\",\"\",MAX(IF(ISERROR(AU301:BF301),0,AU301:BF301)))","v":""},"","","","","","","","","","","","","","","","","","",""]
[{"$f":"IF(ISBLANK('Control Sheet'!D282),\"\",'Control Sheet'!D282)","v":""},{"$f":"IF(ISBLANK('Control Sheet'!E282),\"\",'Control Sheet'!E282&\" (\"&'Control Sheet'!F282&\")\")","v":""},"","","","","","","","","","","","","",null,"","","","","","","","","","","","","","","","","","","","","","","","","","","","","","","","","","","","","","","","","","",{"$f":"IF(A302=\"\",\"\",MAX(IF(ISERROR(AU302:BF302),0,AU302:BF302)))","v":""},"","","","","","","","","","","","","","","","","","",""]
[{"$f":"IF(ISBLANK('Control Sheet'!D283),\"\",'Control Sheet'!D283)","v":""},{"$f":"IF(ISBLANK('Control Sheet'!E283),\"\",'Control Sheet'!E283&\" (\"&'Control Sheet'!F283&\")\")","v":""},"","","","","","","","","","","","","",null,"","","","","","","","","","","","","","","","","","","","","","","","","","","","","","","","","","","","","","","","","","",{"$f":"IF(A303=\"\",\"\",MAX(IF(ISERROR(AU303:BF303),0,AU303:BF303)))","v":""},"","","","","","","","","","","","","","","","","","",""]
[{"$f":"IF(ISBLANK('Control Sheet'!D284),\"\",'Control Sheet'!D284)","v":""},{"$f":"IF(ISBLANK('Control Sheet'!E284),\"\",'Control Sheet'!E284&\" (\"&'Control Sheet'!F284&\")\")","v":""},"","","","","","","","","","","","","",null,"","","","","","","","","","","","","","","","","","","","","","","","","","","","","","","","","","","","","","","","","","",{"$f":"IF(A304=\"\",\"\",MAX(IF(ISERROR(AU304:BF304),0,AU304:BF304)))","v":""},"","","","","","","","","","","","","","","","","","",""]
[{"$f":"IF(ISBLANK('Control Sheet'!D285),\"\",'Control Sheet'!D285)","v":""},{"$f":"IF(ISBLANK('Control Sheet'!E285),\"\",'Control Sheet'!E285&\" (\"&'Control Sheet'!F285&\")\")","v":""},"","","","","","","","","","","","","",null,"","","","","","","","","","","","","","","","","","","","","","","","","","","","","","","","","","","","","","","","","","",{"$f":"IF(A305=\"\",\"\",MAX(IF(ISERROR(AU305:BF305),0,AU305:BF305)))","v":""},"","","","","","","","","","","","","","","","","","",""]
[{"$f":"IF(ISBLANK('Control Sheet'!D286),\"\",'Control Sheet'!D286)","v":""},{"$f":"IF(ISBLANK('Control Sheet'!E286),\"\",'Control Sheet'!E286&\" (\"&'Control Sheet'!F286&\")\")","v":""},"","","","","","","","","","","","","",null,"","","","","","","","","","","","","","","","","","","","","","","","","","","","","","","","","","","","","","","","","","",{"$f":"IF(A306=\"\",\"\",MAX(IF(ISERROR(AU306:BF306),0,AU306:BF306)))","v":""},"","","","","","","","","","","","","","","","","","",""]
[{"$f":"IF(ISBLANK('Control Sheet'!D287),\"\",'Control Sheet'!D287)","v":""},{"$f":"IF(ISBLANK('Control Sheet'!E287),\"\",'Control Sheet'!E287&\" (\"&'Control Sheet'!F287&\")\")","v":""},"","","","","","","","","","","","","",null,"","","","","","","","","","","","","","","","","","","","","","","","","","","","","","","","","","","","","","","","","","",{"$f":"IF(A307=\"\",\"\",MAX(IF(ISERROR(AU307:BF307),0,AU307:BF307)))","v":""},"","","","","","","","","","","","","","","","","","",""]
[{"$f":"IF(ISBLANK('Control Sheet'!D288),\"\",'Control Sheet'!D288)","v":""},{"$f":"IF(ISBLANK('Control Sheet'!E288),\"\",'Control Sheet'!E288&\" (\"&'Control Sheet'!F288&\")\")","v":""},"","","","","","","","","","","","","",null,"","","","","","","","","","","","","","","",{"$f":"IF(OR(A308=\"\",AE308=0),\"\",AE308/(O$18-R150))","v":""},"","","","","","","","","","","","","","","","","","","","","","","","","","",{"$f":"IF(A308=\"\",\"\",MAX(IF(ISERROR(AU308:BF308),0,AU308:BF308)))","v":""},"","","","","","","","","","","","","","","","","","",""]
[{"$f":"IF(ISBLANK('Control Sheet'!D289),\"\",'Control Sheet'!D289)","v":""},{"$f":"IF(ISBLANK('Control Sheet'!E289),\"\",'Control Sheet'!E289&\" (\"&'Control Sheet'!F289&\")\")","v":""},"","","","","","","","","","","","","",null,"","","","","","","","","","","","","","","","","","","","","","","","","","","","","","","","","","","","","","","","","","",{"$f":"IF(A309=\"\",\"\",MAX(IF(ISERROR(AU309:BF309),0,AU309:BF309)))","v":""},"","","","","","","","","","","","","","","","","","",""]
[{"$f":"IF(ISBLANK('Control Sheet'!D290),\"\",'Control Sheet'!D290)","v":""},{"$f":"IF(ISBLANK('Control Sheet'!E290),\"\",'Control Sheet'!E290&\" (\"&'Control Sheet'!F290&\")\")","v":""},"","","","","","","","","","","","","",null,"","","","","","","","","","","","","","","","","","","","","","","","","","","","","","","","","","","","","","","","","","",{"$f":"IF(A310=\"\",\"\",MAX(IF(ISERROR(AU310:BF310),0,AU310:BF310)))","v":""},"","","","","","","","","","","","","","","","","","",""]
[{"$f":"IF(ISBLANK('Control Sheet'!D291),\"\",'Control Sheet'!D291)","v":""},{"$f":"IF(ISBLANK('Control Sheet'!E291),\"\",'Control Sheet'!E291&\" (\"&'Control Sheet'!F291&\")\")","v":""},{"$f":"IF(C$18=1,IF(ISNA(VLOOKUP($A311,INDIRECT(C$20),OOPE_col,FALSE)),\"\",VLOOKUP($A311,INDIRECT(C$20),OOPE_col,FALSE)),\"\")","v":""},"","","","","","","","","","","","",null,"","","","","","","","","","","","","","","","","","","","","","","","","","","","","","","","","","","","","","","","","","",{"$f":"IF(A311=\"\",\"\",MAX(IF(ISERROR(AU311:BF311),0,AU311:BF311)))","v":""},"","","","","","","","","","","","","","","","","","",""]
[{"$f":"IF(ISBLANK('Control Sheet'!D292),\"\",'Control Sheet'!D292)","v":""},{"$f":"IF(ISBLANK('Control Sheet'!E292),\"\",'Control Sheet'!E292&\" (\"&'Control Sheet'!F292&\")\")","v":""},"","","","","","","","","","","","","",null,"","","","","","","","","","","","","","","","","","","","","","","","","","","","","","","","","","","","","","","","","","",{"$f":"IF(A312=\"\",\"\",MAX(IF(ISERROR(AU312:BF312),0,AU312:BF312)))","v":""},"","","","","","","","","","","","","","","","","","",""]
[{"$f":"IF(ISBLANK('Control Sheet'!D293),\"\",'Control Sheet'!D293)","v":""},{"$f":"IF(ISBLANK('Control Sheet'!E293),\"\",'Control Sheet'!E293&\" (\"&'Control Sheet'!F293&\")\")","v":""},"","","","","","","","","","","","","",null,"","","","","","","","","","","","","","","","","","","","","","","","","","","","","","","","","","","","","","","","","","",{"$f":"IF(A313=\"\",\"\",MAX(IF(ISERROR(AU313:BF313),0,AU313:BF313)))","v":""},"","","","","","","","","","","","","","","","","","",""]
[{"$f":"IF(ISBLANK('Control Sheet'!D294),\"\",'Control Sheet'!D294)","v":""},{"$f":"IF(ISBLANK('Control Sheet'!E294),\"\",'Control Sheet'!E294&\" (\"&'Control Sheet'!F294&\")\")","v":""},"","","","","","","","","","","","","",null,"","","","","","","","","","","","","","","","","","","","","","","","","","","","","","","","","","","","","","","","","","",{"$f":"IF(A314=\"\",\"\",MAX(IF(ISERROR(AU314:BF314),0,AU314:BF314)))","v":""},"","","","","","","","","","","","","","","","","","",""]
[{"$f":"IF(ISBLANK('Control Sheet'!D295),\"\",'Control Sheet'!D295)","v":""},{"$f":"IF(ISBLANK('Control Sheet'!E295),\"\",'Control Sheet'!E295&\" (\"&'Control Sheet'!F295&\")\")","v":""},"","","","","","","","","","","","","",null,"","","","","","","","","","","","","","","","","","","","","","","","","","","","","","","","","","","","","","","","","","",{"$f":"IF(A315=\"\",\"\",MAX(IF(ISERROR(AU315:BF315),0,AU315:BF315)))","v":""},"","","","","","","","","","","","","","","","","","",""]
[{"$f":"IF(ISBLANK('Control Sheet'!D296),\"\",'Control Sheet'!D296)","v":""},{"$f":"IF(ISBLANK('Control Sheet'!E296),\"\",'Control Sheet'!E296&\" (\"&'Control Sheet'!F296&\")\")","v":""},"","","","","","","","","","","","","",null,"","","","","","","","","","","","","","","","","","","","","","","","","","","","","","","","","","","","","","","","","","",{"$f":"IF(A316=\"\",\"\",MAX(IF(ISERROR(AU316:BF316),0,AU316:BF316)))","v":""},"","","","","","","","","","","","","","","","","","",""]
[{"$f":"IF(ISBLANK('Control Sheet'!D297),\"\",'Control Sheet'!D297)","v":""},{"$f":"IF(ISBLANK('Control Sheet'!E297),\"\",'Control Sheet'!E297&\" (\"&'Control Sheet'!F297&\")\")","v":""},"","","","","","","","","","","","","",null,"","","","","","","","","","","","","","","","","","","","","","","","","","","","","","","","","","","","","","","","","","",{"$f":"IF(A317=\"\",\"\",MAX(IF(ISERROR(AU317:BF317),0,AU317:BF317)))","v":""},"","","","","","","","","","","","","","","","","","",""]
[{"$f":"IF(ISBLANK('Control Sheet'!D298),\"\",'Control Sheet'!D298)","v":""},{"$f":"IF(ISBLANK('Control Sheet'!E298),\"\",'Control Sheet'!E298&\" (\"&'Control Sheet'!F298&\")\")","v":""},"","","","","","","","","","","","","",null,"","","","","","","","","","","","","","","","","","","","","","","","","","","","","","","","","","","","","","","","","","",{"$f":"IF(A318=\"\",\"\",MAX(IF(ISERROR(AU318:BF318),0,AU318:BF318)))","v":""},"","","","","","","","","","","","","","","","","","",""]
[{"$f":"IF(ISBLANK('Control Sheet'!D299),\"\",'Control Sheet'!D299)","v":""},{"$f":"IF(ISBLANK('Control Sheet'!E299),\"\",'Control Sheet'!E299&\" (\"&'Control Sheet'!F299&\")\")","v":""},"","","","","","","","","","","","","",null,"","","","","","","","","","","","","","","","","","","","","","","","","","","","","","","","","","","","","","","","","","",{"$f":"IF(A319=\"\",\"\",MAX(IF(ISERROR(AU319:BF319),0,AU319:BF319)))","v":""},"","","","","","","","","","","","","","","","","","",""]
[{"$f":"IF(ISBLANK('Control Sheet'!D300),\"\",'Control Sheet'!D300)","v":""},{"$f":"IF(ISBLANK('Control Sheet'!E300),\"\",'Control Sheet'!E300&\" (\"&'Control Sheet'!F300&\")\")","v":""},"","","","","","","","","","","","","",null,"","","","","","","","","","","","","","","","","","","","","","","","","","","","","","","","","","","","","","","","","","",{"$f":"IF(A320=\"\",\"\",MAX(IF(ISERROR(AU320:BF320),0,AU320:BF320)))","v":""},"","","","","","","","","","","","","","","","","","",""]
[{"$f":"IF(ISBLANK('Control Sheet'!D301),\"\",'Control Sheet'!D301)","v":""},{"$f":"IF(ISBLANK('Control Sheet'!E301),\"\",'Control Sheet'!E301&\" (\"&'Control Sheet'!F301&\")\")","v":""},{"$f":"IF(C$18=1,IF(ISNA(VLOOKUP($A321,INDIRECT(C$20),OOPE_col,FALSE)),\"\",VLOOKUP($A321,INDIRECT(C$20),OOPE_col,FALSE)),\"\")","v":""},"","","","","","","","","","","","",null,"","","","","","","","","","","","","","","","","","","","","","","","","","","","","","","","","","","","","","","","","","",{"$f":"IF(A321=\"\",\"\",MAX(IF(ISERROR(AU321:BF321),0,AU321:BF321)))","v":""},"","","","","","","","","","","","","","","","","","",""]
[{"$f":"IF(ISBLANK('Control Sheet'!D302),\"\",'Control Sheet'!D302)","v":""},{"$f":"IF(ISBLANK('Control Sheet'!E302),\"\",'Control Sheet'!E302&\" (\"&'Control Sheet'!F302&\")\")","v":""},"","","","","","","","","","","","","",null,"","","","","","","","","","","","","","","","","","","","","","","","","","","","","","","","","","","","","","","","","","",{"$f":"IF(A322=\"\",\"\",MAX(IF(ISERROR(AU322:BF322),0,AU322:BF322)))","v":""},"","","","","","","","","","","","","","","","","","",""]
[{"$f":"IF(ISBLANK('Control Sheet'!D303),\"\",'Control Sheet'!D303)","v":""},{"$f":"IF(ISBLANK('Control Sheet'!E303),\"\",'Control Sheet'!E303&\" (\"&'Control Sheet'!F303&\")\")","v":""},"","","","","","","","","","","","","",null,"","","","","","","","","","","","","","","","","","","","","","","","","","","","","","","","","","","","","","","","","","",{"$f":"IF(A323=\"\",\"\",MAX(IF(ISERROR(AU323:BF323),0,AU323:BF323)))","v":""},"","","","","","","","","","","","","","","","","","",""]
[{"$f":"IF(ISBLANK('Control Sheet'!D304),\"\",'Control Sheet'!D304)","v":""},{"$f":"IF(ISBLANK('Control Sheet'!E304),\"\",'Control Sheet'!E304&\" (\"&'Control Sheet'!F304&\")\")","v":""},"","","","","","","","","","","","","",null,"","","","","","","","","","","","","","","","","","","","","","","","","","","","","","","","","","","","","","","","","","",{"$f":"IF(A324=\"\",\"\",MAX(IF(ISERROR(AU324:BF324),0,AU324:BF324)))","v":""},"","","","","","","","","","","","","","","","","","",""]
[{"$f":"IF(ISBLANK('Control Sheet'!D305),\"\",'Control Sheet'!D305)","v":""},{"$f":"IF(ISBLANK('Control Sheet'!E305),\"\",'Control Sheet'!E305&\" (\"&'Control Sheet'!F305&\")\")","v":""},"","","","","","","","","","","","","",null,"","","","","","","","","","","","","","","","","","","","","","","","","","","","","","","","","","","","","","","","","","",{"$f":"IF(A325=\"\",\"\",MAX(IF(ISERROR(AU325:BF325),0,AU325:BF325)))","v":""},"","","","","","","","","","","","","","","","","","",""]
[{"$f":"IF(ISBLANK('Control Sheet'!D306),\"\",'Control Sheet'!D306)","v":""},{"$f":"IF(ISBLANK('Control Sheet'!E306),\"\",'Control Sheet'!E306&\" (\"&'Control Sheet'!F306&\")\")","v":""},"","","","","","","","","","","","","",null,"","","","","","","","","","","","","","","","","","","","","","","","","","","","","","","","","","","","","","","","","","",{"$f":"IF(A326=\"\",\"\",MAX(IF(ISERROR(AU326:BF326),0,AU326:BF326)))","v":""},"","","","","","","","","","","","","","","","","","",""]
[{"$f":"IF(ISBLANK('Control Sheet'!D307),\"\",'Control Sheet'!D307)","v":""},{"$f":"IF(ISBLANK('Control Sheet'!E307),\"\",'Control Sheet'!E307&\" (\"&'Control Sheet'!F307&\")\")","v":""},"","","","","","","","","","","","","",null,"","","","","","","","","","","","","","","","","","","","","","","","","","","","","","","","","","","","","","","","","","",{"$f":"IF(A327=\"\",\"\",MAX(IF(ISERROR(AU327:BF327),0,AU327:BF327)))","v":""},"","","","","","","","","","","","","","","","","","",""]
[{"$f":"IF(ISBLANK('Control Sheet'!D308),\"\",'Control Sheet'!D308)","v":""},{"$f":"IF(ISBLANK('Control Sheet'!E308),\"\",'Control Sheet'!E308&\" (\"&'Control Sheet'!F308&\")\")","v":""},"","","","","","","","","","","","","",null,"","","","","","","","","","","","","","","","","","","","","","","","","","","","","","","","","","","","","","","","","","",{"$f":"IF(A328=\"\",\"\",MAX(IF(ISERROR(AU328:BF328),0,AU328:BF328)))","v":""},"","","","","","","","","","","","","","","","","","",""]
[{"$f":"IF(ISBLANK('Control Sheet'!D309),\"\",'Control Sheet'!D309)","v":""},{"$f":"IF(ISBLANK('Control Sheet'!E309),\"\",'Control Sheet'!E309&\" (\"&'Control Sheet'!F309&\")\")","v":""},"","","","","","","","","","","","","",null,"","","","","","","","","","","","","","","","","","","","","","","","","","","","","","","","","","","","","","","","","","",{"$f":"IF(A329=\"\",\"\",MAX(IF(ISERROR(AU329:BF329),0,AU329:BF329)))","v":""},"","","","","","","","","","","","","","","","","","",""]
[{"$f":"IF(ISBLANK('Control Sheet'!D310),\"\",'Control Sheet'!D310)","v":""},{"$f":"IF(ISBLANK('Control Sheet'!E310),\"\",'Control Sheet'!E310&\" (\"&'Control Sheet'!F310&\")\")","v":""},"","","","","","","","","","","","","",null,"","","","","","","","","","","","","","","","","","","","","","","","","","","","","","","","","","","","","","","","","","",{"$f":"IF(A330=\"\",\"\",MAX(IF(ISERROR(AU330:BF330),0,AU330:BF330)))","v":""},"","","","","","","","","","","","","","","","","","",""]
[{"$f":"IF(ISBLANK('Control Sheet'!D311),\"\",'Control Sheet'!D311)","v":""},{"$f":"IF(ISBLANK('Control Sheet'!E311),\"\",'Control Sheet'!E311&\" (\"&'Control Sheet'!F311&\")\")","v":""},{"$f":"IF(C$18=1,IF(ISNA(VLOOKUP($A331,INDIRECT(C$20),OOPE_col,FALSE)),\"\",VLOOKUP($A331,INDIRECT(C$20),OOPE_col,FALSE)),\"\")","v":""},"","","","","","","","","","","","",null,"","","","","","","","","","","","","","","","","","","","","","","","","","","","","","","","","","","","","","","","","","",{"$f":"IF(A331=\"\",\"\",MAX(IF(ISERROR(AU331:BF331),0,AU331:BF331)))","v":""},"","","","","","","","","","","","","","","","","","",""]
[{"$f":"IF(ISBLANK('Control Sheet'!D312),\"\",'Control Sheet'!D312)","v":""},{"$f":"IF(ISBLANK('Control Sheet'!E312),\"\",'Control Sheet'!E312&\" (\"&'Control Sheet'!F312&\")\")","v":""},"","","","","","","","","","","","","",null,"","","","","","","","","","","","","","","","","","","","","","","","","","","","","","","","","","","","","","","","","","",{"$f":"IF(A332=\"\",\"\",MAX(IF(ISERROR(AU332:BF332),0,AU332:BF332)))","v":""},"","","","","","","","","","","","","","","","","","",""]
[{"$f":"IF(ISBLANK('Control Sheet'!D313),\"\",'Control Sheet'!D313)","v":""},{"$f":"IF(ISBLANK('Control Sheet'!E313),\"\",'Control Sheet'!E313&\" (\"&'Control Sheet'!F313&\")\")","v":""},"","","","","","","","","","","","","",null,"","","","","","","","","","","","","","","","","","","","","","","","","","","","","","","","","","","","","","","","","","",{"$f":"IF(A333=\"\",\"\",MAX(IF(ISERROR(AU333:BF333),0,AU333:BF333)))","v":""},"","","","","","","","","","","","","","","","","","",""]
[{"$f":"IF(ISBLANK('Control Sheet'!D314),\"\",'Control Sheet'!D314)","v":""},{"$f":"IF(ISBLANK('Control Sheet'!E314),\"\",'Control Sheet'!E314&\" (\"&'Control Sheet'!F314&\")\")","v":""},"","","","","","","","","","","","","",null,"","","","","","","","","","","","","","","","","","","","","","","","","","","","","","","","","","","","","","","","","","",{"$f":"IF(A334=\"\",\"\",MAX(IF(ISERROR(AU334:BF334),0,AU334:BF334)))","v":""},"","","","","","","","","","","","","","","","","","",""]
[{"$f":"IF(ISBLANK('Control Sheet'!D315),\"\",'Control Sheet'!D315)","v":""},{"$f":"IF(ISBLANK('Control Sheet'!E315),\"\",'Control Sheet'!E315&\" (\"&'Control Sheet'!F315&\")\")","v":""},"","","","","","","","","","","","","",null,"","","","","","","","","","","","","","","","","","","","","","","","","","","","","","","","","","","","","","","","","","",{"$f":"IF(A335=\"\",\"\",MAX(IF(ISERROR(AU335:BF335),0,AU335:BF335)))","v":""},"","","","","","","","","","","","","","","","","","",""]
[{"$f":"IF(ISBLANK('Control Sheet'!D316),\"\",'Control Sheet'!D316)","v":""},{"$f":"IF(ISBLANK('Control Sheet'!E316),\"\",'Control Sheet'!E316&\" (\"&'Control Sheet'!F316&\")\")","v":""},"","","","","","","","","","","","","",null,"","","","","","","","","","","","","","","","","","","","","","","","","","","","","","","","","","","","","","","","","","",{"$f":"IF(A336=\"\",\"\",MAX(IF(ISERROR(AU336:BF336),0,AU336:BF336)))","v":""},"","","","","","","","","","","","","","","","","","",""]
[{"$f":"IF(ISBLANK('Control Sheet'!D317),\"\",'Control Sheet'!D317)","v":""},{"$f":"IF(ISBLANK('Control Sheet'!E317),\"\",'Control Sheet'!E317&\" (\"&'Control Sheet'!F317&\")\")","v":""},"","","","","","","","","","","","","",null,"","","","","","","","","","","","","","","","","","","","","","","","","","","","","","","","","","","","","","","","","","",{"$f":"IF(A337=\"\",\"\",MAX(IF(ISERROR(AU337:BF337),0,AU337:BF337)))","v":""},"","","","","","","","","","","","","","","","","","",""]
[{"$f":"IF(ISBLANK('Control Sheet'!D318),\"\",'Control Sheet'!D318)","v":""},{"$f":"IF(ISBLANK('Control Sheet'!E318),\"\",'Control Sheet'!E318&\" (\"&'Control Sheet'!F318&\")\")","v":""},"","","","","","","","","","","","","",null,"","","","","","","","","","","","","","","","","","","","","","","","","","","","","","","","","","","","","","","","","","",{"$f":"IF(A338=\"\",\"\",MAX(IF(ISERROR(AU338:BF338),0,AU338:BF338)))","v":""},"","","","","","","","","","","","","","","","","","",""]
[{"$f":"IF(ISBLANK('Control Sheet'!D319),\"\",'Control Sheet'!D319)","v":""},{"$f":"IF(ISBLANK('Control Sheet'!E319),\"\",'Control Sheet'!E319&\" (\"&'Control Sheet'!F319&\")\")","v":""},"","","","","","","","","","","","","",null,"","","","","","","","","","","","","","","","","","","","","","","","","","","","","","","","","","","","","","","","","","",{"$f":"IF(A339=\"\",\"\",MAX(IF(ISERROR(AU339:BF339),0,AU339:BF339)))","v":""},"","","","","","","","","","","","","","","","","","",""]
[{"$f":"IF(ISBLANK('Control Sheet'!D320),\"\",'Control Sheet'!D320)","v":""},{"$f":"IF(ISBLANK('Control Sheet'!E320),\"\",'Control Sheet'!E320&\" (\"&'Control Sheet'!F320&\")\")","v":""},"","","","","","","","","","","","","",null,"","","","","","","","","","","","","","","","","","","","","","","","","","","","","","","","","","","","","","","","","","",{"$f":"IF(A340=\"\",\"\",MAX(IF(ISERROR(AU340:BF340),0,AU340:BF340)))","v":""},"","","","","","","","","","","","","","","","","","",""]
[{"$f":"IF(ISBLANK('Control Sheet'!D321),\"\",'Control Sheet'!D321)","v":""},{"$f":"IF(ISBLANK('Control Sheet'!E321),\"\",'Control Sheet'!E321&\" (\"&'Control Sheet'!F321&\")\")","v":""},{"$f":"IF(C$18=1,IF(ISNA(VLOOKUP($A341,INDIRECT(C$20),OOPE_col,FALSE)),\"\",VLOOKUP($A341,INDIRECT(C$20),OOPE_col,FALSE)),\"\")","v":""},"","","","","","","","","","","","",null,"",{"$f":"IF(A341=\"\",\"\",OOPEMonthsPop-(COUNTA(C341:N341)-COUNTBLANK(C341:N341)))","v":""},"","","","","","","","","","","","","","","","","","","","","","","","","","","","",{"$f":"IF(OR(A341=\"\",OOPEMonthsPop=0),\"\",IF(AU$18=OOPEMonthsPop,AH341,#N/A))","v":""},{"$f":"IF(OR($A341=\"\",OOPEMonthsPop=0),\"\",IF(AV$18<OOPEMonthsPop,#N/A,IF(AV$18=OOPEMonthsPop,AI341,IF(AU341=\"\",\"\",IF(AV$18=OOPEMonthsPop+1,AU341+(AU341*VLOOKUP(OOPEMonthsPop-$R341,ForecastMult,3,FALSE)/12),AU341+AU341-AT341)))))","v":""},{"$f":"IF(OR($A341=\"\",OOPEMonthsPop=0),\"\",IF(AW$18<OOPEMonthsPop,#N/A,IF(AW$18=OOPEMonthsPop,AJ341,IF(AV341=\"\",\"\",IF(AW$18=OOPEMonthsPop+1,AV341+(AV341*VLOOKUP(OOPEMonthsPop-$R341,ForecastMult,3,FALSE)/12),AV341+AV341-AU341)))))","v":""},{"$f":"IF(OR($A341=\"\",OOPEMonthsPop=0),\"\",IF(AX$18<OOPEMonthsPop,#N/A,IF(AX$18=OOPEMonthsPop,AK341,IF(AW341=\"\",\"\",IF(AX$18=OOPEMonthsPop+1,AW341+(AW341*VLOOKUP(OOPEMonthsPop-$R341,ForecastMult,3,FALSE)/12),AW341+AW341-AV341)))))","v":""},{"$f":"IF(OR($A341=\"\",OOPEMonthsPop=0),\"\",IF(AY$18<OOPEMonthsPop,#N/A,IF(AY$18=OOPEMonthsPop,AL341,IF(AX341=\"\",\"\",IF(AY$18=OOPEMonthsPop+1,AX341+(AX341*VLOOKUP(OOPEMonthsPop-$R341,ForecastMult,3,FALSE)/12),AX341+AX341-AW341)))))","v":""},{"$f":"IF(OR($A341=\"\",OOPEMonthsPop=0),\"\",IF(AZ$18<OOPEMonthsPop,#N/A,IF(AZ$18=OOPEMonthsPop,AM341,IF(AY341=\"\",\"\",IF(AZ$18=OOPEMonthsPop+1,AY341+(AY341*VLOOKUP(OOPEMonthsPop-$R341,ForecastMult,3,FALSE)/12),AY341+AY341-AX341)))))","v":""},{"$f":"IF(OR($A341=\"\",OOPEMonthsPop=0),\"\",IF(BA$18<OOPEMonthsPop,#N/A,IF(BA$18=OOPEMonthsPop,AN341,IF(AZ341=\"\",\"\",IF(BA$18=OOPEMonthsPop+1,AZ341+(AZ341*VLOOKUP(OOPEMonthsPop-$R341,ForecastMult,3,FALSE)/12),AZ341+AZ341-AY341)))))","v":""},{"$f":"IF(OR($A341=\"\",OOPEMonthsPop=0),\"\",IF(BB$18<OOPEMonthsPop,#N/A,IF(BB$18=OOPEMonthsPop,AO341,IF(BA341=\"\",\"\",IF(BB$18=OOPEMonthsPop+1,BA341+(BA341*VLOOKUP(OOPEMonthsPop-$R341,ForecastMult,3,FALSE)/12),BA341+BA341-AZ341)))))","v":""},{"$f":"IF(OR($A341=\"\",OOPEMonthsPop=0),\"\",IF(BC$18<OOPEMonthsPop,#N/A,IF(BC$18=OOPEMonthsPop,AP341,IF(BB341=\"\",\"\",IF(BC$18=OOPEMonthsPop+1,BB341+(BB341*VLOOKUP(OOPEMonthsPop-$R341,ForecastMult,3,FALSE)/12),BB341+BB341-BA341)))))","v":""},{"$f":"IF(OR($A341=\"\",OOPEMonthsPop=0),\"\",IF(BD$18<OOPEMonthsPop,#N/A,IF(BD$18=OOPEMonthsPop,AQ341,IF(BC341=\"\",\"\",IF(BD$18=OOPEMonthsPop+1,BC341+(BC341*VLOOKUP(OOPEMonthsPop-$R341,ForecastMult,3,FALSE)/12),BC341+BC341-BB341)))))","v":""},{"$f":"IF(OR($A341=\"\",OOPEMonthsPop=0),\"\",IF(BE$18<OOPEMonthsPop,#N/A,IF(BE$18=OOPEMonthsPop,AR341,IF(BD341=\"\",\"\",IF(BE$18=OOPEMonthsPop+1,BD341+(BD341*VLOOKUP(OOPEMonthsPop-$R341,ForecastMult,3,FALSE)/12),BD341+BD341-BC341)))))","v":""},{"$f":"IF(OR($A341=\"\",OOPEMonthsPop=0),\"\",IF(BF$18<OOPEMonthsPop,#N/A,IF(BF$18=OOPEMonthsPop,AS341,IF(BE341=\"\",\"\",IF(BF$18=OOPEMonthsPop+1,BE341+(BE341*VLOOKUP(OOPEMonthsPop-$R341,ForecastMult,3,FALSE)/12),BE341+BE341-BD341)))))","v":""},{"$f":"IF(A341=\"\",\"\",MAX(IF(ISERROR(AU341:BF341),0,AU341:BF341)))","v":""},{"$f":"IF(AND(C$18=1,$A341<>\"\"),IF(ISNA(VLOOKUP($A341,INDIRECT(C$20),TOT_STDR_PXS_col,FALSE)),\"\",VLOOKUP($A341,INDIRECT(C$20),TOT_STDR_PXS_col,FALSE)+VLOOKUP($A341,INDIRECT(C$20),TOT_ZDR_PXS_col,FALSE)),\"\")","v":""},{"$f":"IF(AND(D$18=1,$A341<>\"\"),IF(ISNA(VLOOKUP($A341,INDIRECT(D$20),TOT_STDR_PXS_col,FALSE)),\"\",VLOOKUP($A341,INDIRECT(D$20),TOT_STDR_PXS_col,FALSE)+VLOOKUP($A341,INDIRECT(D$20),TOT_ZDR_PXS_col,FALSE)),\"\")","v":""},{"$f":"IF(AND(E$18=1,$A341<>\"\"),IF(ISNA(VLOOKUP($A341,INDIRECT(E$20),TOT_STDR_PXS_col,FALSE)),\"\",VLOOKUP($A341,INDIRECT(E$20),TOT_STDR_PXS_col,FALSE)+VLOOKUP($A341,INDIRECT(E$20),TOT_ZDR_PXS_col,FALSE)),\"\")","v":""},{"$f":"IF(AND(F$18=1,$A341<>\"\"),IF(ISNA(VLOOKUP($A341,INDIRECT(F$20),TOT_STDR_PXS_col,FALSE)),\"\",VLOOKUP($A341,INDIRECT(F$20),TOT_STDR_PXS_col,FALSE)+VLOOKUP($A341,INDIRECT(F$20),TOT_ZDR_PXS_col,FALSE)),\"\")","v":""},{"$f":"IF(AND(G$18=1,$A341<>\"\"),IF(ISNA(VLOOKUP($A341,INDIRECT(G$20),TOT_STDR_PXS_col,FALSE)),\"\",VLOOKUP($A341,INDIRECT(G$20),TOT_STDR_PXS_col,FALSE)+VLOOKUP($A341,INDIRECT(G$20),TOT_ZDR_PXS_col,FALSE)),\"\")","v":""},{"$f":"IF(AND(H$18=1,$A341<>\"\"),IF(ISNA(VLOOKUP($A341,INDIRECT(H$20),TOT_STDR_PXS_col,FALSE)),\"\",VLOOKUP($A341,INDIRECT(H$20),TOT_STDR_PXS_col,FALSE)+VLOOKUP($A341,INDIRECT(H$20),TOT_ZDR_PXS_col,FALSE)),\"\")","v":""},{"$f":"IF(AND(I$18=1,$A341<>\"\"),IF(ISNA(VLOOKUP($A341,INDIRECT(I$20),TOT_STDR_PXS_col,FALSE)),\"\",VLOOKUP($A341,INDIRECT(I$20),TOT_STDR_PXS_col,FALSE)+VLOOKUP($A341,INDIRECT(I$20),TOT_ZDR_PXS_col,FALSE)),\"\")","v":""},{"$f":"IF(AND(J$18=1,$A341<>\"\"),IF(ISNA(VLOOKUP($A341,INDIRECT(J$20),TOT_STDR_PXS_col,FALSE)),\"\",VLOOKUP($A341,INDIRECT(J$20),TOT_STDR_PXS_col,FALSE)+VLOOKUP($A341,INDIRECT(J$20),TOT_ZDR_PXS_col,FALSE)),\"\")","v":""},{"$f":"IF(AND(K$18=1,$A341<>\"\"),IF(ISNA(VLOOKUP($A341,INDIRECT(K$20),TOT_STDR_PXS_col,FALSE)),\"\",VLOOKUP($A341,INDIRECT(K$20),TOT_STDR_PXS_col,FALSE)+VLOOKUP($A341,INDIRECT(K$20),TOT_ZDR_PXS_col,FALSE)),\"\")","v":""},{"$f":"IF(AND(L$18=1,$A341<>\"\"),IF(ISNA(VLOOKUP($A341,INDIRECT(L$20),TOT_STDR_PXS_col,FALSE)),\"\",VLOOKUP($A341,INDIRECT(L$20),TOT_STDR_PXS_col,FALSE)+VLOOKUP($A341,INDIRECT(L$20),TOT_ZDR_PXS_col,FALSE)),\"\")","v":""},{"$f":"IF(AND(M$18=1,$A341<>\"\"),IF(ISNA(VLOOKUP($A341,INDIRECT(M$20),TOT_STDR_PXS_col,FALSE)),\"\",VLOOKUP($A341,INDIRECT(M$20),TOT_STDR_PXS_col,FALSE)+VLOOKUP($A341,INDIRECT(M$20),TOT_ZDR_PXS_col,FALSE)),\"\")","v":""},{"$f":"IF(AND(N$18=1,$A341<>\"\"),IF(ISNA(VLOOKUP($A341,INDIRECT(N$20),TOT_STDR_PXS_col,FALSE)),\"\",VLOOKUP($A341,INDIRECT(N$20),TOT_STDR_PXS_col,FALSE)+VLOOKUP($A341,INDIRECT(N$20),TOT_ZDR_PXS_col,FALSE)),\"\")","v":""},"","","","","","",""]
[{"$f":"IF(ISBLANK('Control Sheet'!D322),\"\",'Control Sheet'!D322)","v":""},{"$f":"IF(ISBLANK('Control Sheet'!E322),\"\",'Control Sheet'!E322&\" (\"&'Control Sheet'!F322&\")\")","v":""},"","","","","","","","","","","","",{"$f":"IF(A342=\"\",\"\",SUM(C342:N342))","v":""},null,{"$f":"IF(A342=\"\",\"\",IF(BG342<=400,\"No\",\"Yes\"))","v":""},"",{"$f":"IF(C342=\"\",\"\",IF(C342<=C$10,1,IF(C342<=C$7,2,IF(C342<=C$8,3,IF(C342<=C$9,4,IF(C342<=C$11,5,60))))))","v":""},{"$f":"IF(D342=\"\",\"\",IF(D342<=D$10,1,IF(D342<=D$7,2,IF(D342<=D$8,3,IF(D342<=D$9,4,IF(D342<=D$11,5,60))))))","v":""},{"$f":"IF(E342=\"\",\"\",IF(E342<=E$10,1,IF(E342<=E$7,2,IF(E342<=E$8,3,IF(E342<=E$9,4,IF(E342<=E$11,5,60))))))","v":""},{"$f":"IF(F342=\"\",\"\",IF(F342<=F$10,1,IF(F342<=F$7,2,IF(F342<=F$8,3,IF(F342<=F$9,4,IF(F342<=F$11,5,60))))))","v":""},{"$f":"IF(G342=\"\",\"\",IF(G342<=G$10,1,IF(G342<=G$7,2,IF(G342<=G$8,3,IF(G342<=G$9,4,IF(G342<=G$11,5,60))))))","v":""},{"$f":"IF(H342=\"\",\"\",IF(H342<=H$10,1,IF(H342<=H$7,2,IF(H342<=H$8,3,IF(H342<=H$9,4,IF(H342<=H$11,5,60))))))","v":""},{"$f":"IF(I342=\"\",\"\",IF(I342<=I$10,1,IF(I342<=I$7,2,IF(I342<=I$8,3,IF(I342<=I$9,4,IF(I342<=I$11,5,60))))))","v":""},{"$f":"IF(J342=\"\",\"\",IF(J342<=J$10,1,IF(J342<=J$7,2,IF(J342<=J$8,3,IF(J342<=J$9,4,IF(J342<=J$11,5,60))))))","v":""},{"$f":"IF(K342=\"\",\"\",IF(K342<=K$10,1,IF(K342<=K$7,2,IF(K342<=K$8,3,IF(K342<=K$9,4,IF(K342<=K$11,5,60))))))","v":""},{"$f":"IF(L342=\"\",\"\",IF(L342<=L$10,1,IF(L342<=L$7,2,IF(L342<=L$8,3,IF(L342<=L$9,4,IF(L342<=L$11,5,60))))))","v":""},{"$f":"IF(M342=\"\",\"\",IF(M342<=M$10,1,IF(M342<=M$7,2,IF(M342<=M$8,3,IF(M342<=M$9,4,IF(M342<=M$11,5,60))))))","v":""},{"$f":"IF(N342=\"\",\"\",IF(N342<=N$10,1,IF(N342<=N$7,2,IF(N342<=N$8,3,IF(N342<=N$9,4,IF(N342<=N$11,5,60))))))","v":""},{"$f":"IF(A342=\"\",\"\",SUM(S342:AD342))","v":""},"",{"$f":"IF(AF342=\"\",\"\",IF(AF342<=1,\"Lower Outlier\",IF(AF342<=2,\"Below Average\",IF(AF342<=3,\"Lower Quartile\",IF(AF342<=4,\"Upper Quartile\",IF(AF342<=5, \"Above Average\", \"Upper Outlier\"))))))","v":""},{"$f":"IF(C$18=1,C342,\"\")","v":""},{"$f":"IF(D$18=1,IF(D342=\"\",IF(AH342=\"\",\"\",AH342),IF(AND(D342>=0,AH342=\"\"),D342,IF(ISERROR(D342+AH342),#N/A,D342+AH342))),\"\")","v":""},{"$f":"IF(E$18=1,IF(E342=\"\",IF(AI342=\"\",\"\",AI342),IF(AND(E342>=0,AI342=\"\"),E342,IF(ISERROR(E342+AI342),#N/A,E342+AI342))),\"\")","v":""},{"$f":"IF(F$18=1,IF(F342=\"\",IF(AJ342=\"\",\"\",AJ342),IF(AND(F342>=0,AJ342=\"\"),F342,IF(ISERROR(F342+AJ342),#N/A,F342+AJ342))),\"\")","v":""},{"$f":"IF(G$18=1,IF(G342=\"\",IF(AK342=\"\",\"\",AK342),IF(AND(G342>=0,AK342=\"\"),G342,IF(ISERROR(G342+AK342),#N/A,G342+AK342))),\"\")","v":""},{"$f":"IF(H$18=1,IF(H342=\"\",IF(AL342=\"\",\"\",AL342),IF(AND(H342>=0,AL342=\"\"),H342,IF(ISERROR(H342+AL342),#N/A,H342+AL342))),\"\")","v":""},{"$f":"IF(I$18=1,IF(I342=\"\",IF(AM342=\"\",\"\",AM342),IF(AND(I342>=0,AM342=\"\"),I342,IF(ISERROR(I342+AM342),#N/A,I342+AM342))),\"\")","v":""},{"$f":"IF(J$18=1,IF(J342=\"\",IF(AN342=\"\",\"\",AN342),IF(AND(J342>=0,AN342=\"\"),J342,IF(ISERROR(J342+AN342),#N/A,J342+AN342))),\"\")","v":""},{"$f":"IF(K$18=1,IF(K342=\"\",IF(AO342=\"\",\"\",AO342),IF(AND(K342>=0,AO342=\"\"),K342,IF(ISERROR(K342+AO342),#N/A,K342+AO342))),\"\")","v":""},{"$f":"IF(L$18=1,IF(L342=\"\",IF(AP342=\"\",\"\",AP342),IF(AND(L342>=0,AP342=\"\"),L342,IF(ISERROR(L342+AP342),#N/A,L342+AP342))),\"\")","v":""},{"$f":"IF(M$18=1,IF(M342=\"\",IF(AQ342=\"\",\"\",AQ342),IF(AND(M342>=0,AQ342=\"\"),M342,IF(ISERROR(M342+AQ342),#N/A,M342+AQ342))),\"\")","v":""},{"$f":"IF(N$18=1,IF(N342=\"\",IF(AR342=\"\",\"\",AR342),IF(AND(N342>=0,AR342=\"\"),N342,IF(ISERROR(N342+AR342),#N/A,N342+AR342))),\"\")","v":""},{"$f":"IF(A342=\"\",\"\",MAX(AH342:AS342))","v":""},"","","","","","","","","","","","",{"$f":"IF(A342=\"\",\"\",MAX(IF(ISERROR(AU342:BF342),0,AU342:BF342)))","v":""},"","","","","","","","","","","","",{"$f":"IF(A342=\"\",\"\",SUM(BH342:BS342))","v":""},{"$f":"IF(A342=\"\",\"\",MIN(B342:M342))","v":""},{"$f":"IF(A342=\"\",\"\",MAX(B342:M342))","v":""},{"$f":"IF(A342=\"\",\"\",IF(BV342-BU342=0,\"\",BV342-BU342))","v":""},{"$f":"IF(A342=\"\",\"\",IF(BW342=\"\",\"No\",IF(BW342>$BW$11,\"Yes\",\"No\")))","v":""},{"$f":"IF(A342=\"\",\"\",(COUNTA(C342:N342)-COUNTBLANK(C342:N342)))","v":""},{"$f":"IF(A342=\"\",\"\",BY342-COUNTIF(C342:N342,\"=0\"))","v":""}]
[{"$f":"IF(ISBLANK('Control Sheet'!D323),\"\",'Control Sheet'!D323)","v":""},{"$f":"IF(ISBLANK('Control Sheet'!E323),\"\",'Control Sheet'!E323&\" (\"&'Control Sheet'!F323&\")\")","v":""},"","","","","","","","","","","","","",null,"","","","","","","","","","","","","","","","","","","","","","","","","","","","","","","","","","","","","","","","","","",{"$f":"IF(A343=\"\",\"\",MAX(IF(ISERROR(AU343:BF343),0,AU343:BF343)))","v":""},"","","","","","","","","","","","","","","","","","",""]
[{"$f":"IF(ISBLANK('Control Sheet'!D324),\"\",'Control Sheet'!D324)","v":""},{"$f":"IF(ISBLANK('Control Sheet'!E324),\"\",'Control Sheet'!E324&\" (\"&'Control Sheet'!F324&\")\")","v":""},"","","","","","","","","","","","","",null,"","","","","","","","","","","","","","","","","","","","","","","","","","","","","","","","","","","","","","","","","","",{"$f":"IF(A344=\"\",\"\",MAX(IF(ISERROR(AU344:BF344),0,AU344:BF344)))","v":""},"","","","","","","","","","","","","","","","","","",""]
[{"$f":"IF(ISBLANK('Control Sheet'!D325),\"\",'Control Sheet'!D325)","v":""},{"$f":"IF(ISBLANK('Control Sheet'!E325),\"\",'Control Sheet'!E325&\" (\"&'Control Sheet'!F325&\")\")","v":""},"","","","","","","","","","","","","",null,"","","","","","","","","","","","","","","","","","","","","","","","","","","","","","","","","","","","","","","","","","",{"$f":"IF(A345=\"\",\"\",MAX(IF(ISERROR(AU345:BF345),0,AU345:BF345)))","v":""},"","","","","","","","","","","","","","","","","","",""]
[{"$f":"IF(ISBLANK('Control Sheet'!D326),\"\",'Control Sheet'!D326)","v":""},{"$f":"IF(ISBLANK('Control Sheet'!E326),\"\",'Control Sheet'!E326&\" (\"&'Control Sheet'!F326&\")\")","v":""},"","","","","","","","","","","","","",null,"","","","","","","","","","","","","","","","","","","","","","","","","","","","","","","","","","","","","","","","","","",{"$f":"IF(A346=\"\",\"\",MAX(IF(ISERROR(AU346:BF346),0,AU346:BF346)))","v":""},"","","","","","","","","","","","","","","","","","",""]
[{"$f":"IF(ISBLANK('Control Sheet'!D327),\"\",'Control Sheet'!D327)","v":""},{"$f":"IF(ISBLANK('Control Sheet'!E327),\"\",'Control Sheet'!E327&\" (\"&'Control Sheet'!F327&\")\")","v":""},"","","","","","","","","","","","","",null,"","","","","","","","","","","","","","","","","","","","","","","","","","","","","","","","","","","","","","","","","","",{"$f":"IF(A347=\"\",\"\",MAX(IF(ISERROR(AU347:BF347),0,AU347:BF347)))","v":""},"","","","","","","","","","","","","","","","","","",""]
[{"$f":"IF(ISBLANK('Control Sheet'!D328),\"\",'Control Sheet'!D328)","v":""},{"$f":"IF(ISBLANK('Control Sheet'!E328),\"\",'Control Sheet'!E328&\" (\"&'Control Sheet'!F328&\")\")","v":""},"","","","","","","","","","","","","",null,"","","","","","","","","","","","","","","","","","","","","","","","","","","","","","","","","","","","","","","","","","",{"$f":"IF(A348=\"\",\"\",MAX(IF(ISERROR(AU348:BF348),0,AU348:BF348)))","v":""},"","","","","","","","","","","","","","","","","","",""]
[{"$f":"IF(ISBLANK('Control Sheet'!D329),\"\",'Control Sheet'!D329)","v":""},{"$f":"IF(ISBLANK('Control Sheet'!E329),\"\",'Control Sheet'!E329&\" (\"&'Control Sheet'!F329&\")\")","v":""},"","","","","","","","","","","","","",null,"","","","","","","","","","","","","","","","","","","","","","","","","","","","","","","","","","","","","","","","","","",{"$f":"IF(A349=\"\",\"\",MAX(IF(ISERROR(AU349:BF349),0,AU349:BF349)))","v":""},"","","","","","","","","","","","","","","","","","",""]
[{"$f":"IF(ISBLANK('Control Sheet'!D330),\"\",'Control Sheet'!D330)","v":""},{"$f":"IF(ISBLANK('Control Sheet'!E330),\"\",'Control Sheet'!E330&\" (\"&'Control Sheet'!F330&\")\")","v":""},"","","","","","","","","","","","","",null,"","","","","","","","","","","","","","","","","","","","","","","","","","","","","","","","","","","","","","","","","","",{"$f":"IF(A350=\"\",\"\",MAX(IF(ISERROR(AU350:BF350),0,AU350:BF350)))","v":""},"","","","","","","","","","","","","","","","","","",""]
[{"$f":"IF(ISBLANK('Control Sheet'!D331),\"\",'Control Sheet'!D331)","v":""},{"$f":"IF(ISBLANK('Control Sheet'!E331),\"\",'Control Sheet'!E331&\" (\"&'Control Sheet'!F331&\")\")","v":""},{"$f":"IF(C$18=1,IF(ISNA(VLOOKUP($A351,INDIRECT(C$20),OOPE_col,FALSE)),\"\",VLOOKUP($A351,INDIRECT(C$20),OOPE_col,FALSE)),\"\")","v":""},"","","","","","","","","","","","",null,"","","","","","","","","","","","","","","","","","","","","","","","","","","","","","","","","","","","","","","","","","",{"$f":"IF(A351=\"\",\"\",MAX(IF(ISERROR(AU351:BF351),0,AU351:BF351)))","v":""},"","","","","","","","","","","","","","","","","","",""]
[{"$f":"IF(ISBLANK('Control Sheet'!D332),\"\",'Control Sheet'!D332)","v":""},{"$f":"IF(ISBLANK('Control Sheet'!E332),\"\",'Control Sheet'!E332&\" (\"&'Control Sheet'!F332&\")\")","v":""},"","","","","","","","","","","","","",null,"","","","","","","","","","","","","","","","","","","","","","","","","","","","","","","","","","","","","","","","","","",{"$f":"IF(A352=\"\",\"\",MAX(IF(ISERROR(AU352:BF352),0,AU352:BF352)))","v":""},"","","","","","","","","","","","","","","","","","",""]
[{"$f":"IF(ISBLANK('Control Sheet'!D333),\"\",'Control Sheet'!D333)","v":""},{"$f":"IF(ISBLANK('Control Sheet'!E333),\"\",'Control Sheet'!E333&\" (\"&'Control Sheet'!F333&\")\")","v":""},"","","","","","","","","","","","","",null,"","","","","","","","","","","","","","","","","","","","","","","","","","","","","","","","","","","","","","","","","","",{"$f":"IF(A353=\"\",\"\",MAX(IF(ISERROR(AU353:BF353),0,AU353:BF353)))","v":""},"","","","","","","","","","","","","","","","","","",""]
[{"$f":"IF(ISBLANK('Control Sheet'!D334),\"\",'Control Sheet'!D334)","v":""},{"$f":"IF(ISBLANK('Control Sheet'!E334),\"\",'Control Sheet'!E334&\" (\"&'Control Sheet'!F334&\")\")","v":""},"","","","","","","","","","","","","",null,"","","","","","","","","","","","","","","","","","","","","","","","","","","","","","","","","","","","","","","","","","",{"$f":"IF(A354=\"\",\"\",MAX(IF(ISERROR(AU354:BF354),0,AU354:BF354)))","v":""},"","","","","","","","","","","","","","","","","","",""]
[{"$f":"IF(ISBLANK('Control Sheet'!D335),\"\",'Control Sheet'!D335)","v":""},{"$f":"IF(ISBLANK('Control Sheet'!E335),\"\",'Control Sheet'!E335&\" (\"&'Control Sheet'!F335&\")\")","v":""},"","","","","","","","","","","","","",null,"","","","","","","","","","","","","","","","","","","","","","","","","","","","","","","","","","","","","","","","","","",{"$f":"IF(A355=\"\",\"\",MAX(IF(ISERROR(AU355:BF355),0,AU355:BF355)))","v":""},"","","","","","","","","","","","","","","","","","",""]
[{"$f":"IF(ISBLANK('Control Sheet'!D336),\"\",'Control Sheet'!D336)","v":""},{"$f":"IF(ISBLANK('Control Sheet'!E336),\"\",'Control Sheet'!E336&\" (\"&'Control Sheet'!F336&\")\")","v":""},"","","","","","","","","","","","","",null,"","","","","","","","","","","","","","","","","","","","","","","","","","","","","","","","","","","","","","","","","","",{"$f":"IF(A356=\"\",\"\",MAX(IF(ISERROR(AU356:BF356),0,AU356:BF356)))","v":""},"","","","","","","","","","","","","","","","","","",""]
[{"$f":"IF(ISBLANK('Control Sheet'!D337),\"\",'Control Sheet'!D337)","v":""},{"$f":"IF(ISBLANK('Control Sheet'!E337),\"\",'Control Sheet'!E337&\" (\"&'Control Sheet'!F337&\")\")","v":""},"","","","","","","","","","","","","",null,"","","","","","","","","","","","","","","","","","","","","","","","","","","","","","","","","","","","","","","","","","",{"$f":"IF(A357=\"\",\"\",MAX(IF(ISERROR(AU357:BF357),0,AU357:BF357)))","v":""},"","","","","","","","","","","","","","","","","","",""]
[{"$f":"IF(ISBLANK('Control Sheet'!D338),\"\",'Control Sheet'!D338)","v":""},{"$f":"IF(ISBLANK('Control Sheet'!E338),\"\",'Control Sheet'!E338&\" (\"&'Control Sheet'!F338&\")\")","v":""},"","","","","","","","","","","","","",null,"","","","","","","","","","","","","","","","","","","","","","","","","","","","","","","","","","","","","","","","","","",{"$f":"IF(A358=\"\",\"\",MAX(IF(ISERROR(AU358:BF358),0,AU358:BF358)))","v":""},"","","","","","","","","","","","","","","","","","",""]
[{"$f":"IF(ISBLANK('Control Sheet'!D339),\"\",'Control Sheet'!D339)","v":""},{"$f":"IF(ISBLANK('Control Sheet'!E339),\"\",'Control Sheet'!E339&\" (\"&'Control Sheet'!F339&\")\")","v":""},"","","","","","","","","","","","","",null,"","","","","","","","","","","","","","","","","","","","","","","","","","","","","","","","","","","","","","","","","","",{"$f":"IF(A359=\"\",\"\",MAX(IF(ISERROR(AU359:BF359),0,AU359:BF359)))","v":""},"","","","","","","","","","","","","","","","","","",""]
[{"$f":"IF(ISBLANK('Control Sheet'!D340),\"\",'Control Sheet'!D340)","v":""},{"$f":"IF(ISBLANK('Control Sheet'!E340),\"\",'Control Sheet'!E340&\" (\"&'Control Sheet'!F340&\")\")","v":""},"","","","","","","","","","","","","",null,"","","","","","","","","","","","","","","","","","","","","","","","","","","","","","","","","","","","","","","","","","",{"$f":"IF(A360=\"\",\"\",MAX(IF(ISERROR(AU360:BF360),0,AU360:BF360)))","v":""},"","","","","","","","","","","","","","","","","","",""]
[{"$f":"IF(ISBLANK('Control Sheet'!D341),\"\",'Control Sheet'!D341)","v":""},{"$f":"IF(ISBLANK('Control Sheet'!E341),\"\",'Control Sheet'!E341&\" (\"&'Control Sheet'!F341&\")\")","v":""},{"$f":"IF(C$18=1,IF(ISNA(VLOOKUP($A361,INDIRECT(C$20),OOPE_col,FALSE)),\"\",VLOOKUP($A361,INDIRECT(C$20),OOPE_col,FALSE)),\"\")","v":""},"","","","","","","","","","","","",null,"","","","","","","","","","","","","","","","","","","","","","","","","","","","","","","","","","","","","","","","","","",{"$f":"IF(A361=\"\",\"\",MAX(IF(ISERROR(AU361:BF361),0,AU361:BF361)))","v":""},"","","","","","","","","","","","","","","","","","",""]
[{"$f":"IF(ISBLANK('Control Sheet'!D342),\"\",'Control Sheet'!D342)","v":""},{"$f":"IF(ISBLANK('Control Sheet'!E342),\"\",'Control Sheet'!E342&\" (\"&'Control Sheet'!F342&\")\")","v":""},"","","","","","","","","","","","","",null,"","","","","","","","","","","","","","","","","","","","","","","","","","","","","","","","","","","","","","","","","","",{"$f":"IF(A362=\"\",\"\",MAX(IF(ISERROR(AU362:BF362),0,AU362:BF362)))","v":""},"","","","","","","","","","","","","","","","","","",""]
[{"$f":"IF(ISBLANK('Control Sheet'!D343),\"\",'Control Sheet'!D343)","v":""},{"$f":"IF(ISBLANK('Control Sheet'!E343),\"\",'Control Sheet'!E343&\" (\"&'Control Sheet'!F343&\")\")","v":""},"","","","","","","","","","","","","",null,"","","","","","","","","","","","","","","","","","","","","","","","","","","","","","","","","","","","","","","","","","",{"$f":"IF(A363=\"\",\"\",MAX(IF(ISERROR(AU363:BF363),0,AU363:BF363)))","v":""},"","","","","","","","","","","","","","","","","","",""]
[{"$f":"IF(ISBLANK('Control Sheet'!D344),\"\",'Control Sheet'!D344)","v":""},{"$f":"IF(ISBLANK('Control Sheet'!E344),\"\",'Control Sheet'!E344&\" (\"&'Control Sheet'!F344&\")\")","v":""},"","","","","","","","","","","","","",null,"","","","","","","","","","","","","","","","","","","","","","","","","","","","","","","","","","","","","","","","","","",{"$f":"IF(A364=\"\",\"\",MAX(IF(ISERROR(AU364:BF364),0,AU364:BF364)))","v":""},"","","","","","","","","","","","","","","","","","",""]
[{"$f":"IF(ISBLANK('Control Sheet'!D345),\"\",'Control Sheet'!D345)","v":""},{"$f":"IF(ISBLANK('Control Sheet'!E345),\"\",'Control Sheet'!E345&\" (\"&'Control Sheet'!F345&\")\")","v":""},"","","","","","","","","","","","","",null,"","","","","","","","","","","","","","","","","","","","","","","","","","","","","","","","","","","","","","","","","","",{"$f":"IF(A365=\"\",\"\",MAX(IF(ISERROR(AU365:BF365),0,AU365:BF365)))","v":""},"","","","","","","","","","","","","","","","","","",""]
[{"$f":"IF(ISBLANK('Control Sheet'!D346),\"\",'Control Sheet'!D346)","v":""},{"$f":"IF(ISBLANK('Control Sheet'!E346),\"\",'Control Sheet'!E346&\" (\"&'Control Sheet'!F346&\")\")","v":""},"","","","","","","","","","","","","",null,"","","","","","","","","","","","","","","","","","","","","","","","","","","","","","","","","","","","","","","","","","",{"$f":"IF(A366=\"\",\"\",MAX(IF(ISERROR(AU366:BF366),0,AU366:BF366)))","v":""},"","","","","","","","","","","","","","","","","","",""]
[{"$f":"IF(ISBLANK('Control Sheet'!D347),\"\",'Control Sheet'!D347)","v":""},{"$f":"IF(ISBLANK('Control Sheet'!E347),\"\",'Control Sheet'!E347&\" (\"&'Control Sheet'!F347&\")\")","v":""},"","","","","","","","","","","","","",null,"","","","","","","","","","","","","","","","","","","","","","","","","","","","","","","","","","","","","","","","","","",{"$f":"IF(A367=\"\",\"\",MAX(IF(ISERROR(AU367:BF367),0,AU367:BF367)))","v":""},"","","","","","","","","","","","","","","","","","",""]
[{"$f":"IF(ISBLANK('Control Sheet'!D348),\"\",'Control Sheet'!D348)","v":""},{"$f":"IF(ISBLANK('Control Sheet'!E348),\"\",'Control Sheet'!E348&\" (\"&'Control Sheet'!F348&\")\")","v":""},"","","","","","","","","","","","","",null,"","","","","","","","","","","","","","","","","","","","","","","","","","","","","","","","","","","","","","","","","","",{"$f":"IF(A368=\"\",\"\",MAX(IF(ISERROR(AU368:BF368),0,AU368:BF368)))","v":""},"","","","","","","","","","","","","","","","","","",""]
[{"$f":"IF(ISBLANK('Control Sheet'!D349),\"\",'Control Sheet'!D349)","v":""},{"$f":"IF(ISBLANK('Control Sheet'!E349),\"\",'Control Sheet'!E349&\" (\"&'Control Sheet'!F349&\")\")","v":""},"","","","","","","","","","","","","",null,"","","","","","","","","","","","","","","","","","","","","","","","","","","","","","","","","","","","","","","","","","",{"$f":"IF(A369=\"\",\"\",MAX(IF(ISERROR(AU369:BF369),0,AU369:BF369)))","v":""},"","","","","","","","","","","","","","","","","","",""]
[{"$f":"IF(ISBLANK('Control Sheet'!D350),\"\",'Control Sheet'!D350)","v":""},{"$f":"IF(ISBLANK('Control Sheet'!E350),\"\",'Control Sheet'!E350&\" (\"&'Control Sheet'!F350&\")\")","v":""},"","","","","","","","","","","","","",null,"","","","","","","","","","","","","","","","","","","","","","","","","","","","","","","","","","","","","","","","","","",{"$f":"IF(A370=\"\",\"\",MAX(IF(ISERROR(AU370:BF370),0,AU370:BF370)))","v":""},"","","","","","","","","","","","","","","","","","",""]
[{"$f":"IF(ISBLANK('Control Sheet'!D351),\"\",'Control Sheet'!D351)","v":""},{"$f":"IF(ISBLANK('Control Sheet'!E351),\"\",'Control Sheet'!E351&\" (\"&'Control Sheet'!F351&\")\")","v":""},{"$f":"IF(C$18=1,IF(ISNA(VLOOKUP($A371,INDIRECT(C$20),OOPE_col,FALSE)),\"\",VLOOKUP($A371,INDIRECT(C$20),OOPE_col,FALSE)),\"\")","v":""},"","","","","","","","","","","","",null,"","","","","","","","","","","","","","","","","","","","","","","","","","","","","","","","","","","","","","","","","","",{"$f":"IF(A371=\"\",\"\",MAX(IF(ISERROR(AU371:BF371),0,AU371:BF371)))","v":""},"","","","","","","","","","","","","","","","","","",""]
[{"$f":"IF(ISBLANK('Control Sheet'!D352),\"\",'Control Sheet'!D352)","v":""},{"$f":"IF(ISBLANK('Control Sheet'!E352),\"\",'Control Sheet'!E352&\" (\"&'Control Sheet'!F352&\")\")","v":""},"","","","","","","","","","","","","",null,"","","","","","","","","","","","","","","",{"$f":"IF(OR(A372=\"\",AE372=0),\"\",AE372/(O$18-R214))","v":""},"","","","","","","","","","","","","","","","","","","","","","","","","","",{"$f":"IF(A372=\"\",\"\",MAX(IF(ISERROR(AU372:BF372),0,AU372:BF372)))","v":""},"","","","","","","","","","","","","","","","","","",""]
[{"$f":"IF(ISBLANK('Control Sheet'!D353),\"\",'Control Sheet'!D353)","v":""},{"$f":"IF(ISBLANK('Control Sheet'!E353),\"\",'Control Sheet'!E353&\" (\"&'Control Sheet'!F353&\")\")","v":""},"","","","","","","","","","","","","",null,"","","","","","","","","","","","","","","","","","","","","","","","","","","","","","","","","","","","","","","","","","",{"$f":"IF(A373=\"\",\"\",MAX(IF(ISERROR(AU373:BF373),0,AU373:BF373)))","v":""},"","","","","","","","","","","","","","","","","","",""]
[{"$f":"IF(ISBLANK('Control Sheet'!D354),\"\",'Control Sheet'!D354)","v":""},{"$f":"IF(ISBLANK('Control Sheet'!E354),\"\",'Control Sheet'!E354&\" (\"&'Control Sheet'!F354&\")\")","v":""},"","","","","","","","","","","","","",null,"","","","","","","","","","","","","","","","","","","","","","","","","","","","","","","","","","","","","","","","","","",{"$f":"IF(A374=\"\",\"\",MAX(IF(ISERROR(AU374:BF374),0,AU374:BF374)))","v":""},"","","","","","","","","","","","","","","","","","",""]
[{"$f":"IF(ISBLANK('Control Sheet'!D355),\"\",'Control Sheet'!D355)","v":""},{"$f":"IF(ISBLANK('Control Sheet'!E355),\"\",'Control Sheet'!E355&\" (\"&'Control Sheet'!F355&\")\")","v":""},"","","","","","","","","","","","","",null,"","","","","","","","","","","","","","","","","","","","","","","","","","","","","","","","","","","","","","","","","","",{"$f":"IF(A375=\"\",\"\",MAX(IF(ISERROR(AU375:BF375),0,AU375:BF375)))","v":""},"","","","","","","","","","","","","","","","","","",""]
[{"$f":"IF(ISBLANK('Control Sheet'!D356),\"\",'Control Sheet'!D356)","v":""},{"$f":"IF(ISBLANK('Control Sheet'!E356),\"\",'Control Sheet'!E356&\" (\"&'Control Sheet'!F356&\")\")","v":""},"","","","","","","","","","","","","",null,"","","","","","","","","","","","","","","","","","","","","","","","","","","","","","","","","","","","","","","","","","",{"$f":"IF(A376=\"\",\"\",MAX(IF(ISERROR(AU376:BF376),0,AU376:BF376)))","v":""},"","","","","","","","","","","","","","","","","","",""]
[{"$f":"IF(ISBLANK('Control Sheet'!D357),\"\",'Control Sheet'!D357)","v":""},{"$f":"IF(ISBLANK('Control Sheet'!E357),\"\",'Control Sheet'!E357&\" (\"&'Control Sheet'!F357&\")\")","v":""},"","","","","","","","","","","","","",null,"","","","","","","","","","","","","","","","","","","","","","","","","","","","","","","","","","","","","","","","","","",{"$f":"IF(A377=\"\",\"\",MAX(IF(ISERROR(AU377:BF377),0,AU377:BF377)))","v":""},"","","","","","","","","","","","","","","","","","",""]
[{"$f":"IF(ISBLANK('Control Sheet'!D358),\"\",'Control Sheet'!D358)","v":""},{"$f":"IF(ISBLANK('Control Sheet'!E358),\"\",'Control Sheet'!E358&\" (\"&'Control Sheet'!F358&\")\")","v":""},"","","","","","","","","","","","","",null,"","","","","","","","","","","","","","","","","","","","","","","","","","","","","","","","","","","","","","","","","","",{"$f":"IF(A378=\"\",\"\",MAX(IF(ISERROR(AU378:BF378),0,AU378:BF378)))","v":""},"","","","","","","","","","","","","","","","","","",""]
[{"$f":"IF(ISBLANK('Control Sheet'!D359),\"\",'Control Sheet'!D359)","v":""},{"$f":"IF(ISBLANK('Control Sheet'!E359),\"\",'Control Sheet'!E359&\" (\"&'Control Sheet'!F359&\")\")","v":""},"","","","","","","","","","","","","",null,"","","","","","","","","","","","","","","","","","","","","","","","","","","","","","","","","","","","","","","","","","",{"$f":"IF(A379=\"\",\"\",MAX(IF(ISERROR(AU379:BF379),0,AU379:BF379)))","v":""},"","","","","","","","","","","","","","","","","","",""]
[{"$f":"IF(ISBLANK('Control Sheet'!D360),\"\",'Control Sheet'!D360)","v":""},{"$f":"IF(ISBLANK('Control Sheet'!E360),\"\",'Control Sheet'!E360&\" (\"&'Control Sheet'!F360&\")\")","v":""},"","","","","","","","","","","","","",null,"","","","","","","","","","","","","","","","","","","","","","","","","","","","","","","","","","","","","","","","","","",{"$f":"IF(A380=\"\",\"\",MAX(IF(ISERROR(AU380:BF380),0,AU380:BF380)))","v":""},"","","","","","","","","","","","","","","","","","",""]
[{"$f":"IF(ISBLANK('Control Sheet'!D361),\"\",'Control Sheet'!D361)","v":""},{"$f":"IF(ISBLANK('Control Sheet'!E361),\"\",'Control Sheet'!E361&\" (\"&'Control Sheet'!F361&\")\")","v":""},{"$f":"IF(C$18=1,IF(ISNA(VLOOKUP($A381,INDIRECT(C$20),OOPE_col,FALSE)),\"\",VLOOKUP($A381,INDIRECT(C$20),OOPE_col,FALSE)),\"\")","v":""},"","","","","","","","","","","","",null,"","","","","","","","","","","","","","","","","","","","","","","","","","","","","","","","","","","","","","","","","","",{"$f":"IF(A381=\"\",\"\",MAX(IF(ISERROR(AU381:BF381),0,AU381:BF381)))","v":""},"","","","","","","","","","","","","","","","","","",""]
[{"$f":"IF(ISBLANK('Control Sheet'!D362),\"\",'Control Sheet'!D362)","v":""},{"$f":"IF(ISBLANK('Control Sheet'!E362),\"\",'Control Sheet'!E362&\" (\"&'Control Sheet'!F362&\")\")","v":""},"","","","","","","","","","","","","",null,"","","","","","","","","","","","","","","","","","","","","","","","","","","","","","","","","","","","","","","","","","",{"$f":"IF(A382=\"\",\"\",MAX(IF(ISERROR(AU382:BF382),0,AU382:BF382)))","v":""},"","","","","","","","","","","","","","","","","","",""]
[{"$f":"IF(ISBLANK('Control Sheet'!D363),\"\",'Control Sheet'!D363)","v":""},{"$f":"IF(ISBLANK('Control Sheet'!E363),\"\",'Control Sheet'!E363&\" (\"&'Control Sheet'!F363&\")\")","v":""},"","","","","","","","","","","","","",null,"","","","","","","","","","","","","","","","","","","","","","","","","","","","","","","","","","","","","","","","","","",{"$f":"IF(A383=\"\",\"\",MAX(IF(ISERROR(AU383:BF383),0,AU383:BF383)))","v":""},"","","","","","","","","","","","","","","","","","",""]
[{"$f":"IF(ISBLANK('Control Sheet'!D364),\"\",'Control Sheet'!D364)","v":""},{"$f":"IF(ISBLANK('Control Sheet'!E364),\"\",'Control Sheet'!E364&\" (\"&'Control Sheet'!F364&\")\")","v":""},"","","","","","","","","","","","","",null,"","","","","","","","","","","","","","","","","","","","","","","","","","","","","","","","","","","","","","","","","","",{"$f":"IF(A384=\"\",\"\",MAX(IF(ISERROR(AU384:BF384),0,AU384:BF384)))","v":""},"","","","","","","","","","","","","","","","","","",""]
[{"$f":"IF(ISBLANK('Control Sheet'!D365),\"\",'Control Sheet'!D365)","v":""},{"$f":"IF(ISBLANK('Control Sheet'!E365),\"\",'Control Sheet'!E365&\" (\"&'Control Sheet'!F365&\")\")","v":""},"","","","","","","","","","","","","",null,"","","","","","","","","","","","","","","","","","","","","","","","","","","","","","","","","","","","","","","","","","",{"$f":"IF(A385=\"\",\"\",MAX(IF(ISERROR(AU385:BF385),0,AU385:BF385)))","v":""},"","","","","","","","","","","","","","","","","","",""]
[{"$f":"IF(ISBLANK('Control Sheet'!D366),\"\",'Control Sheet'!D366)","v":""},{"$f":"IF(ISBLANK('Control Sheet'!E366),\"\",'Control Sheet'!E366&\" (\"&'Control Sheet'!F366&\")\")","v":""},"","","","","","","","","","","","","",null,"","","","","","","","","","","","","","","","","","","","","","","","","","","","","","","","","","","","","","","","","","",{"$f":"IF(A386=\"\",\"\",MAX(IF(ISERROR(AU386:BF386),0,AU386:BF386)))","v":""},"","","","","","","","","","","","","","","","","","",""]
[{"$f":"IF(ISBLANK('Control Sheet'!D367),\"\",'Control Sheet'!D367)","v":""},{"$f":"IF(ISBLANK('Control Sheet'!E367),\"\",'Control Sheet'!E367&\" (\"&'Control Sheet'!F367&\")\")","v":""},"","","","","","","","","","","","","",null,"","","","","","","","","","","","","","","","","","","","","","","","","","","","","","","","","","","","","","","","","","",{"$f":"IF(A387=\"\",\"\",MAX(IF(ISERROR(AU387:BF387),0,AU387:BF387)))","v":""},"","","","","","","","","","","","","","","","","","",""]
[{"$f":"IF(ISBLANK('Control Sheet'!D368),\"\",'Control Sheet'!D368)","v":""},{"$f":"IF(ISBLANK('Control Sheet'!E368),\"\",'Control Sheet'!E368&\" (\"&'Control Sheet'!F368&\")\")","v":""},"","","","","","","","","","","","","",null,"","","","","","","","","","","","","","","","","","","","","","","","","","","","","","","","","","","","","","","","","","",{"$f":"IF(A388=\"\",\"\",MAX(IF(ISERROR(AU388:BF388),0,AU388:BF388)))","v":""},"","","","","","","","","","","","","","","","","","",""]
[{"$f":"IF(ISBLANK('Control Sheet'!D369),\"\",'Control Sheet'!D369)","v":""},{"$f":"IF(ISBLANK('Control Sheet'!E369),\"\",'Control Sheet'!E369&\" (\"&'Control Sheet'!F369&\")\")","v":""},"","","","","","","","","","","","","",null,"","","","","","","","","","","","","","","","","","","","","","","","","","","","","","","","","","","","","","","","","","",{"$f":"IF(A389=\"\",\"\",MAX(IF(ISERROR(AU389:BF389),0,AU389:BF389)))","v":""},"","","","","","","","","","","","","","","","","","",""]
[{"$f":"IF(ISBLANK('Control Sheet'!D370),\"\",'Control Sheet'!D370)","v":""},{"$f":"IF(ISBLANK('Control Sheet'!E370),\"\",'Control Sheet'!E370&\" (\"&'Control Sheet'!F370&\")\")","v":""},"","","","","","","","","","","","","",null,"","","","","","","","","","","","","","","","","","","","","","","","","","","","","","","","","","","","","","","","","","",{"$f":"IF(A390=\"\",\"\",MAX(IF(ISERROR(AU390:BF390),0,AU390:BF390)))","v":""},"","","","","","","","","","","","","","","","","","",""]
[{"$f":"IF(ISBLANK('Control Sheet'!D371),\"\",'Control Sheet'!D371)","v":""},{"$f":"IF(ISBLANK('Control Sheet'!E371),\"\",'Control Sheet'!E371&\" (\"&'Control Sheet'!F371&\")\")","v":""},{"$f":"IF(C$18=1,IF(ISNA(VLOOKUP($A391,INDIRECT(C$20),OOPE_col,FALSE)),\"\",VLOOKUP($A391,INDIRECT(C$20),OOPE_col,FALSE)),\"\")","v":""},"","","","","","","","","","","","",null,"","","","","","","","","","","","","","","","","","","","","","","","","","","","","","","","","","","","","","","","","","",{"$f":"IF(A391=\"\",\"\",MAX(IF(ISERROR(AU391:BF391),0,AU391:BF391)))","v":""},"","","","","","","","","","","","","","","","","","",""]
[{"$f":"IF(ISBLANK('Control Sheet'!D372),\"\",'Control Sheet'!D372)","v":""},{"$f":"IF(ISBLANK('Control Sheet'!E372),\"\",'Control Sheet'!E372&\" (\"&'Control Sheet'!F372&\")\")","v":""},"","","","","","","","","","","","","",null,"","","","","","","","","","","","","","","","","","","","","","","","","","","","","","","","","","","","","","","","","","",{"$f":"IF(A392=\"\",\"\",MAX(IF(ISERROR(AU392:BF392),0,AU392:BF392)))","v":""},"","","","","","","","","","","","","","","","","","",""]
[{"$f":"IF(ISBLANK('Control Sheet'!D373),\"\",'Control Sheet'!D373)","v":""},{"$f":"IF(ISBLANK('Control Sheet'!E373),\"\",'Control Sheet'!E373&\" (\"&'Control Sheet'!F373&\")\")","v":""},"","","","","","","","","","","","","",null,"","","","","","","","","","","","","","","","","","","","","","","","","","","","","","","","","","","","","","","","","","",{"$f":"IF(A393=\"\",\"\",MAX(IF(ISERROR(AU393:BF393),0,AU393:BF393)))","v":""},"","","","","","","","","","","","","","","","","","",""]
[{"$f":"IF(ISBLANK('Control Sheet'!D374),\"\",'Control Sheet'!D374)","v":""},{"$f":"IF(ISBLANK('Control Sheet'!E374),\"\",'Control Sheet'!E374&\" (\"&'Control Sheet'!F374&\")\")","v":""},"","","","","","","","","","","","","",null,"","","","","","","","","","","","","","","","","","","","","","","","","","","","","","","","","","","","","","","","","","",{"$f":"IF(A394=\"\",\"\",MAX(IF(ISERROR(AU394:BF394),0,AU394:BF394)))","v":""},"","","","","","","","","","","","","","","","","","",""]
[{"$f":"IF(ISBLANK('Control Sheet'!D375),\"\",'Control Sheet'!D375)","v":""},{"$f":"IF(ISBLANK('Control Sheet'!E375),\"\",'Control Sheet'!E375&\" (\"&'Control Sheet'!F375&\")\")","v":""},"","","","","","","","","","","","","",null,"","","","","","","","","","","","","","","","","","","","","","","","","","","","","","","","","","","","","","","","","","",{"$f":"IF(A395=\"\",\"\",MAX(IF(ISERROR(AU395:BF395),0,AU395:BF395)))","v":""},"","","","","","","","","","","","","","","","","","",""]
[{"$f":"IF(ISBLANK('Control Sheet'!D376),\"\",'Control Sheet'!D376)","v":""},{"$f":"IF(ISBLANK('Control Sheet'!E376),\"\",'Control Sheet'!E376&\" (\"&'Control Sheet'!F376&\")\")","v":""},"","","","","","","","","","","","","",null,"","","","","","","","","","","","","","","","","","","","","","","","","","","","","","","","","","","","","","","","","","",{"$f":"IF(A396=\"\",\"\",MAX(IF(ISERROR(AU396:BF396),0,AU396:BF396)))","v":""},"","","","","","","","","","","","","","","","","","",""]
[{"$f":"IF(ISBLANK('Control Sheet'!D377),\"\",'Control Sheet'!D377)","v":""},{"$f":"IF(ISBLANK('Control Sheet'!E377),\"\",'Control Sheet'!E377&\" (\"&'Control Sheet'!F377&\")\")","v":""},"","","","","","","","","","","","","",null,"","","","","","","","","","","","","","","","","","","","","","","","","","","","","","","","","","","","","","","","","","",{"$f":"IF(A397=\"\",\"\",MAX(IF(ISERROR(AU397:BF397),0,AU397:BF397)))","v":""},"","","","","","","","","","","","","","","","","","",""]
[{"$f":"IF(ISBLANK('Control Sheet'!D378),\"\",'Control Sheet'!D378)","v":""},{"$f":"IF(ISBLANK('Control Sheet'!E378),\"\",'Control Sheet'!E378&\" (\"&'Control Sheet'!F378&\")\")","v":""},"","","","","","","","","","","","","",null,"","","","","","","","","","","","","","","","","","","","","","","","","","","","","","","","","","","","","","","","","","",{"$f":"IF(A398=\"\",\"\",MAX(IF(ISERROR(AU398:BF398),0,AU398:BF398)))","v":""},"","","","","","","","","","","","","","","","","","",""]
[{"$f":"IF(ISBLANK('Control Sheet'!D379),\"\",'Control Sheet'!D379)","v":""},{"$f":"IF(ISBLANK('Control Sheet'!E379),\"\",'Control Sheet'!E379&\" (\"&'Control Sheet'!F379&\")\")","v":""},"","","","","","","","","","","","","",null,"","","","","","","","","","","","","","","","","","","","","","","","","","","","","","","","","","","","","","","","","","",{"$f":"IF(A399=\"\",\"\",MAX(IF(ISERROR(AU399:BF399),0,AU399:BF399)))","v":""},"","","","","","","","","","","","","","","","","","",""]
[{"$f":"IF(ISBLANK('Control Sheet'!D380),\"\",'Control Sheet'!D380)","v":""},{"$f":"IF(ISBLANK('Control Sheet'!E380),\"\",'Control Sheet'!E380&\" (\"&'Control Sheet'!F380&\")\")","v":""},"","","","","","","","","","","","","",null,"","","","","","","","","","","","","","","","","","","","","","","","","","","","","","","","","","","","","","","","","","",{"$f":"IF(A400=\"\",\"\",MAX(IF(ISERROR(AU400:BF400),0,AU400:BF400)))","v":""},"","","","","","","","","","","","","","","","","","",""]
[{"$f":"IF(ISBLANK('Control Sheet'!D381),\"\",'Control Sheet'!D381)","v":""},{"$f":"IF(ISBLANK('Control Sheet'!E381),\"\",'Control Sheet'!E381&\" (\"&'Control Sheet'!F381&\")\")","v":""},{"$f":"IF(C$18=1,IF(ISNA(VLOOKUP($A401,INDIRECT(C$20),OOPE_col,FALSE)),\"\",VLOOKUP($A401,INDIRECT(C$20),OOPE_col,FALSE)),\"\")","v":""},"","","","","","","","","","","","",null,"","","","","","","","","","","","","","","","","","","","","","","","","","","","","","","","","","","","","","","","","","",{"$f":"IF(A401=\"\",\"\",MAX(IF(ISERROR(AU401:BF401),0,AU401:BF401)))","v":""},"","","","","","","","","","","","","","","","","","",""]
[{"$f":"IF(ISBLANK('Control Sheet'!D382),\"\",'Control Sheet'!D382)","v":""},{"$f":"IF(ISBLANK('Control Sheet'!E382),\"\",'Control Sheet'!E382&\" (\"&'Control Sheet'!F382&\")\")","v":""},"","","","","","","","","","","","","",null,"","","","","","","","","","","","","","","","","","","","","","","","","","","","","","","","","","","","","","","","","","",{"$f":"IF(A402=\"\",\"\",MAX(IF(ISERROR(AU402:BF402),0,AU402:BF402)))","v":""},"","","","","","","","","","","","","","","","","","",""]
[{"$f":"IF(ISBLANK('Control Sheet'!D383),\"\",'Control Sheet'!D383)","v":""},{"$f":"IF(ISBLANK('Control Sheet'!E383),\"\",'Control Sheet'!E383&\" (\"&'Control Sheet'!F383&\")\")","v":""},"","","","","","","","","","","","","",null,"","","","","","","","","","","","","","","","","","","","","","","","","","","","","","","","","","","","","","","","","","",{"$f":"IF(A403=\"\",\"\",MAX(IF(ISERROR(AU403:BF403),0,AU403:BF403)))","v":""},"","","","","","","","","","","","","","","","","","",""]
[{"$f":"IF(ISBLANK('Control Sheet'!D384),\"\",'Control Sheet'!D384)","v":""},{"$f":"IF(ISBLANK('Control Sheet'!E384),\"\",'Control Sheet'!E384&\" (\"&'Control Sheet'!F384&\")\")","v":""},"","","","","","","","","","","","","",null,"","","","","","","","","","","","","","","","","","","","","","","","","","","","","","","","","","","","","","","","","","",{"$f":"IF(A404=\"\",\"\",MAX(IF(ISERROR(AU404:BF404),0,AU404:BF404)))","v":""},"","","","","","","","","","","","","","","","","","",""]
[{"$f":"IF(ISBLANK('Control Sheet'!D385),\"\",'Control Sheet'!D385)","v":""},{"$f":"IF(ISBLANK('Control Sheet'!E385),\"\",'Control Sheet'!E385&\" (\"&'Control Sheet'!F385&\")\")","v":""},"","","","","","","","","","","","","",null,"",{"$f":"IF(A405=\"\",\"\",OOPEMonthsPop-(COUNTA(C405:N405)-COUNTBLANK(C405:N405)))","v":""},"","","","","","","","","","","","","","","","","","","","","","","","","","","","",{"$f":"IF(OR(A405=\"\",OOPEMonthsPop=0),\"\",IF(AU$18=OOPEMonthsPop,AH405,#N/A))","v":""},{"$f":"IF(OR($A405=\"\",OOPEMonthsPop=0),\"\",IF(AV$18<OOPEMonthsPop,#N/A,IF(AV$18=OOPEMonthsPop,AI405,IF(AU405=\"\",\"\",IF(AV$18=OOPEMonthsPop+1,AU405+(AU405*VLOOKUP(OOPEMonthsPop-$R405,ForecastMult,3,FALSE)/12),AU405+AU405-AT405)))))","v":""},{"$f":"IF(OR($A405=\"\",OOPEMonthsPop=0),\"\",IF(AW$18<OOPEMonthsPop,#N/A,IF(AW$18=OOPEMonthsPop,AJ405,IF(AV405=\"\",\"\",IF(AW$18=OOPEMonthsPop+1,AV405+(AV405*VLOOKUP(OOPEMonthsPop-$R405,ForecastMult,3,FALSE)/12),AV405+AV405-AU405)))))","v":""},{"$f":"IF(OR($A405=\"\",OOPEMonthsPop=0),\"\",IF(AX$18<OOPEMonthsPop,#N/A,IF(AX$18=OOPEMonthsPop,AK405,IF(AW405=\"\",\"\",IF(AX$18=OOPEMonthsPop+1,AW405+(AW405*VLOOKUP(OOPEMonthsPop-$R405,ForecastMult,3,FALSE)/12),AW405+AW405-AV405)))))","v":""},{"$f":"IF(OR($A405=\"\",OOPEMonthsPop=0),\"\",IF(AY$18<OOPEMonthsPop,#N/A,IF(AY$18=OOPEMonthsPop,AL405,IF(AX405=\"\",\"\",IF(AY$18=OOPEMonthsPop+1,AX405+(AX405*VLOOKUP(OOPEMonthsPop-$R405,ForecastMult,3,FALSE)/12),AX405+AX405-AW405)))))","v":""},{"$f":"IF(OR($A405=\"\",OOPEMonthsPop=0),\"\",IF(AZ$18<OOPEMonthsPop,#N/A,IF(AZ$18=OOPEMonthsPop,AM405,IF(AY405=\"\",\"\",IF(AZ$18=OOPEMonthsPop+1,AY405+(AY405*VLOOKUP(OOPEMonthsPop-$R405,ForecastMult,3,FALSE)/12),AY405+AY405-AX405)))))","v":""},{"$f":"IF(OR($A405=\"\",OOPEMonthsPop=0),\"\",IF(BA$18<OOPEMonthsPop,#N/A,IF(BA$18=OOPEMonthsPop,AN405,IF(AZ405=\"\",\"\",IF(BA$18=OOPEMonthsPop+1,AZ405+(AZ405*VLOOKUP(OOPEMonthsPop-$R405,ForecastMult,3,FALSE)/12),AZ405+AZ405-AY405)))))","v":""},{"$f":"IF(OR($A405=\"\",OOPEMonthsPop=0),\"\",IF(BB$18<OOPEMonthsPop,#N/A,IF(BB$18=OOPEMonthsPop,AO405,IF(BA405=\"\",\"\",IF(BB$18=OOPEMonthsPop+1,BA405+(BA405*VLOOKUP(OOPEMonthsPop-$R405,ForecastMult,3,FALSE)/12),BA405+BA405-AZ405)))))","v":""},{"$f":"IF(OR($A405=\"\",OOPEMonthsPop=0),\"\",IF(BC$18<OOPEMonthsPop,#N/A,IF(BC$18=OOPEMonthsPop,AP405,IF(BB405=\"\",\"\",IF(BC$18=OOPEMonthsPop+1,BB405+(BB405*VLOOKUP(OOPEMonthsPop-$R405,ForecastMult,3,FALSE)/12),BB405+BB405-BA405)))))","v":""},{"$f":"IF(OR($A405=\"\",OOPEMonthsPop=0),\"\",IF(BD$18<OOPEMonthsPop,#N/A,IF(BD$18=OOPEMonthsPop,AQ405,IF(BC405=\"\",\"\",IF(BD$18=OOPEMonthsPop+1,BC405+(BC405*VLOOKUP(OOPEMonthsPop-$R405,ForecastMult,3,FALSE)/12),BC405+BC405-BB405)))))","v":""},{"$f":"IF(OR($A405=\"\",OOPEMonthsPop=0),\"\",IF(BE$18<OOPEMonthsPop,#N/A,IF(BE$18=OOPEMonthsPop,AR405,IF(BD405=\"\",\"\",IF(BE$18=OOPEMonthsPop+1,BD405+(BD405*VLOOKUP(OOPEMonthsPop-$R405,ForecastMult,3,FALSE)/12),BD405+BD405-BC405)))))","v":""},{"$f":"IF(OR($A405=\"\",OOPEMonthsPop=0),\"\",IF(BF$18<OOPEMonthsPop,#N/A,IF(BF$18=OOPEMonthsPop,AS405,IF(BE405=\"\",\"\",IF(BF$18=OOPEMonthsPop+1,BE405+(BE405*VLOOKUP(OOPEMonthsPop-$R405,ForecastMult,3,FALSE)/12),BE405+BE405-BD405)))))","v":""},{"$f":"IF(A405=\"\",\"\",MAX(IF(ISERROR(AU405:BF405),0,AU405:BF405)))","v":""},{"$f":"IF(AND(C$18=1,$A405<>\"\"),IF(ISNA(VLOOKUP($A405,INDIRECT(C$20),TOT_STDR_PXS_col,FALSE)),\"\",VLOOKUP($A405,INDIRECT(C$20),TOT_STDR_PXS_col,FALSE)+VLOOKUP($A405,INDIRECT(C$20),TOT_ZDR_PXS_col,FALSE)),\"\")","v":""},{"$f":"IF(AND(D$18=1,$A405<>\"\"),IF(ISNA(VLOOKUP($A405,INDIRECT(D$20),TOT_STDR_PXS_col,FALSE)),\"\",VLOOKUP($A405,INDIRECT(D$20),TOT_STDR_PXS_col,FALSE)+VLOOKUP($A405,INDIRECT(D$20),TOT_ZDR_PXS_col,FALSE)),\"\")","v":""},{"$f":"IF(AND(E$18=1,$A405<>\"\"),IF(ISNA(VLOOKUP($A405,INDIRECT(E$20),TOT_STDR_PXS_col,FALSE)),\"\",VLOOKUP($A405,INDIRECT(E$20),TOT_STDR_PXS_col,FALSE)+VLOOKUP($A405,INDIRECT(E$20),TOT_ZDR_PXS_col,FALSE)),\"\")","v":""},{"$f":"IF(AND(F$18=1,$A405<>\"\"),IF(ISNA(VLOOKUP($A405,INDIRECT(F$20),TOT_STDR_PXS_col,FALSE)),\"\",VLOOKUP($A405,INDIRECT(F$20),TOT_STDR_PXS_col,FALSE)+VLOOKUP($A405,INDIRECT(F$20),TOT_ZDR_PXS_col,FALSE)),\"\")","v":""},{"$f":"IF(AND(G$18=1,$A405<>\"\"),IF(ISNA(VLOOKUP($A405,INDIRECT(G$20),TOT_STDR_PXS_col,FALSE)),\"\",VLOOKUP($A405,INDIRECT(G$20),TOT_STDR_PXS_col,FALSE)+VLOOKUP($A405,INDIRECT(G$20),TOT_ZDR_PXS_col,FALSE)),\"\")","v":""},{"$f":"IF(AND(H$18=1,$A405<>\"\"),IF(ISNA(VLOOKUP($A405,INDIRECT(H$20),TOT_STDR_PXS_col,FALSE)),\"\",VLOOKUP($A405,INDIRECT(H$20),TOT_STDR_PXS_col,FALSE)+VLOOKUP($A405,INDIRECT(H$20),TOT_ZDR_PXS_col,FALSE)),\"\")","v":""},{"$f":"IF(AND(I$18=1,$A405<>\"\"),IF(ISNA(VLOOKUP($A405,INDIRECT(I$20),TOT_STDR_PXS_col,FALSE)),\"\",VLOOKUP($A405,INDIRECT(I$20),TOT_STDR_PXS_col,FALSE)+VLOOKUP($A405,INDIRECT(I$20),TOT_ZDR_PXS_col,FALSE)),\"\")","v":""},{"$f":"IF(AND(J$18=1,$A405<>\"\"),IF(ISNA(VLOOKUP($A405,INDIRECT(J$20),TOT_STDR_PXS_col,FALSE)),\"\",VLOOKUP($A405,INDIRECT(J$20),TOT_STDR_PXS_col,FALSE)+VLOOKUP($A405,INDIRECT(J$20),TOT_ZDR_PXS_col,FALSE)),\"\")","v":""},{"$f":"IF(AND(K$18=1,$A405<>\"\"),IF(ISNA(VLOOKUP($A405,INDIRECT(K$20),TOT_STDR_PXS_col,FALSE)),\"\",VLOOKUP($A405,INDIRECT(K$20),TOT_STDR_PXS_col,FALSE)+VLOOKUP($A405,INDIRECT(K$20),TOT_ZDR_PXS_col,FALSE)),\"\")","v":""},{"$f":"IF(AND(L$18=1,$A405<>\"\"),IF(ISNA(VLOOKUP($A405,INDIRECT(L$20),TOT_STDR_PXS_col,FALSE)),\"\",VLOOKUP($A405,INDIRECT(L$20),TOT_STDR_PXS_col,FALSE)+VLOOKUP($A405,INDIRECT(L$20),TOT_ZDR_PXS_col,FALSE)),\"\")","v":""},{"$f":"IF(AND(M$18=1,$A405<>\"\"),IF(ISNA(VLOOKUP($A405,INDIRECT(M$20),TOT_STDR_PXS_col,FALSE)),\"\",VLOOKUP($A405,INDIRECT(M$20),TOT_STDR_PXS_col,FALSE)+VLOOKUP($A405,INDIRECT(M$20),TOT_ZDR_PXS_col,FALSE)),\"\")","v":""},{"$f":"IF(AND(N$18=1,$A405<>\"\"),IF(ISNA(VLOOKUP($A405,INDIRECT(N$20),TOT_STDR_PXS_col,FALSE)),\"\",VLOOKUP($A405,INDIRECT(N$20),TOT_STDR_PXS_col,FALSE)+VLOOKUP($A405,INDIRECT(N$20),TOT_ZDR_PXS_col,FALSE)),\"\")","v":""},"","","","","","",""]
[{"$f":"IF(ISBLANK('Control Sheet'!D386),\"\",'Control Sheet'!D386)","v":""},{"$f":"IF(ISBLANK('Control Sheet'!E386),\"\",'Control Sheet'!E386&\" (\"&'Control Sheet'!F386&\")\")","v":""},"","","","","","","","","","","","",{"$f":"IF(A406=\"\",\"\",SUM(C406:N406))","v":""},null,{"$f":"IF(A406=\"\",\"\",IF(BG406<=400,\"No\",\"Yes\"))","v":""},"",{"$f":"IF(C406=\"\",\"\",IF(C406<=C$10,1,IF(C406<=C$7,2,IF(C406<=C$8,3,IF(C406<=C$9,4,IF(C406<=C$11,5,60))))))","v":""},{"$f":"IF(D406=\"\",\"\",IF(D406<=D$10,1,IF(D406<=D$7,2,IF(D406<=D$8,3,IF(D406<=D$9,4,IF(D406<=D$11,5,60))))))","v":""},{"$f":"IF(E406=\"\",\"\",IF(E406<=E$10,1,IF(E406<=E$7,2,IF(E406<=E$8,3,IF(E406<=E$9,4,IF(E406<=E$11,5,60))))))","v":""},{"$f":"IF(F406=\"\",\"\",IF(F406<=F$10,1,IF(F406<=F$7,2,IF(F406<=F$8,3,IF(F406<=F$9,4,IF(F406<=F$11,5,60))))))","v":""},{"$f":"IF(G406=\"\",\"\",IF(G406<=G$10,1,IF(G406<=G$7,2,IF(G406<=G$8,3,IF(G406<=G$9,4,IF(G406<=G$11,5,60))))))","v":""},{"$f":"IF(H406=\"\",\"\",IF(H406<=H$10,1,IF(H406<=H$7,2,IF(H406<=H$8,3,IF(H406<=H$9,4,IF(H406<=H$11,5,60))))))","v":""},{"$f":"IF(I406=\"\",\"\",IF(I406<=I$10,1,IF(I406<=I$7,2,IF(I406<=I$8,3,IF(I406<=I$9,4,IF(I406<=I$11,5,60))))))","v":""},{"$f":"IF(J406=\"\",\"\",IF(J406<=J$10,1,IF(J406<=J$7,2,IF(J406<=J$8,3,IF(J406<=J$9,4,IF(J406<=J$11,5,60))))))","v":""},{"$f":"IF(K406=\"\",\"\",IF(K406<=K$10,1,IF(K406<=K$7,2,IF(K406<=K$8,3,IF(K406<=K$9,4,IF(K406<=K$11,5,60))))))","v":""},{"$f":"IF(L406=\"\",\"\",IF(L406<=L$10,1,IF(L406<=L$7,2,IF(L406<=L$8,3,IF(L406<=L$9,4,IF(L406<=L$11,5,60))))))","v":""},{"$f":"IF(M406=\"\",\"\",IF(M406<=M$10,1,IF(M406<=M$7,2,IF(M406<=M$8,3,IF(M406<=M$9,4,IF(M406<=M$11,5,60))))))","v":""},{"$f":"IF(N406=\"\",\"\",IF(N406<=N$10,1,IF(N406<=N$7,2,IF(N406<=N$8,3,IF(N406<=N$9,4,IF(N406<=N$11,5,60))))))","v":""},{"$f":"IF(A406=\"\",\"\",SUM(S406:AD406))","v":""},"",{"$f":"IF(AF406=\"\",\"\",IF(AF406<=1,\"Lower Outlier\",IF(AF406<=2,\"Below Average\",IF(AF406<=3,\"Lower Quartile\",IF(AF406<=4,\"Upper Quartile\",IF(AF406<=5, \"Above Average\", \"Upper Outlier\"))))))","v":""},{"$f":"IF(C$18=1,C406,\"\")","v":""},{"$f":"IF(D$18=1,IF(D406=\"\",IF(AH406=\"\",\"\",AH406),IF(AND(D406>=0,AH406=\"\"),D406,IF(ISERROR(D406+AH406),#N/A,D406+AH406))),\"\")","v":""},{"$f":"IF(E$18=1,IF(E406=\"\",IF(AI406=\"\",\"\",AI406),IF(AND(E406>=0,AI406=\"\"),E406,IF(ISERROR(E406+AI406),#N/A,E406+AI406))),\"\")","v":""},{"$f":"IF(F$18=1,IF(F406=\"\",IF(AJ406=\"\",\"\",AJ406),IF(AND(F406>=0,AJ406=\"\"),F406,IF(ISERROR(F406+AJ406),#N/A,F406+AJ406))),\"\")","v":""},{"$f":"IF(G$18=1,IF(G406=\"\",IF(AK406=\"\",\"\",AK406),IF(AND(G406>=0,AK406=\"\"),G406,IF(ISERROR(G406+AK406),#N/A,G406+AK406))),\"\")","v":""},{"$f":"IF(H$18=1,IF(H406=\"\",IF(AL406=\"\",\"\",AL406),IF(AND(H406>=0,AL406=\"\"),H406,IF(ISERROR(H406+AL406),#N/A,H406+AL406))),\"\")","v":""},{"$f":"IF(I$18=1,IF(I406=\"\",IF(AM406=\"\",\"\",AM406),IF(AND(I406>=0,AM406=\"\"),I406,IF(ISERROR(I406+AM406),#N/A,I406+AM406))),\"\")","v":""},{"$f":"IF(J$18=1,IF(J406=\"\",IF(AN406=\"\",\"\",AN406),IF(AND(J406>=0,AN406=\"\"),J406,IF(ISERROR(J406+AN406),#N/A,J406+AN406))),\"\")","v":""},{"$f":"IF(K$18=1,IF(K406=\"\",IF(AO406=\"\",\"\",AO406),IF(AND(K406>=0,AO406=\"\"),K406,IF(ISERROR(K406+AO406),#N/A,K406+AO406))),\"\")","v":""},{"$f":"IF(L$18=1,IF(L406=\"\",IF(AP406=\"\",\"\",AP406),IF(AND(L406>=0,AP406=\"\"),L406,IF(ISERROR(L406+AP406),#N/A,L406+AP406))),\"\")","v":""},{"$f":"IF(M$18=1,IF(M406=\"\",IF(AQ406=\"\",\"\",AQ406),IF(AND(M406>=0,AQ406=\"\"),M406,IF(ISERROR(M406+AQ406),#N/A,M406+AQ406))),\"\")","v":""},{"$f":"IF(N$18=1,IF(N406=\"\",IF(AR406=\"\",\"\",AR406),IF(AND(N406>=0,AR406=\"\"),N406,IF(ISERROR(N406+AR406),#N/A,N406+AR406))),\"\")","v":""},{"$f":"IF(A406=\"\",\"\",MAX(AH406:AS406))","v":""},"","","","","","","","","","","","",{"$f":"IF(A406=\"\",\"\",MAX(IF(ISERROR(AU406:BF406),0,AU406:BF406)))","v":""},"","","","","","","","","","","","",{"$f":"IF(A406=\"\",\"\",SUM(BH406:BS406))","v":""},{"$f":"IF(A406=\"\",\"\",MIN(B406:M406))","v":""},{"$f":"IF(A406=\"\",\"\",MAX(B406:M406))","v":""},{"$f":"IF(A406=\"\",\"\",IF(BV406-BU406=0,\"\",BV406-BU406))","v":""},{"$f":"IF(A406=\"\",\"\",IF(BW406=\"\",\"No\",IF(BW406>$BW$11,\"Yes\",\"No\")))","v":""},{"$f":"IF(A406=\"\",\"\",(COUNTA(C406:N406)-COUNTBLANK(C406:N406)))","v":""},{"$f":"IF(A406=\"\",\"\",BY406-COUNTIF(C406:N406,\"=0\"))","v":""}]
[{"$f":"IF(ISBLANK('Control Sheet'!D387),\"\",'Control Sheet'!D387)","v":""},{"$f":"IF(ISBLANK('Control Sheet'!E387),\"\",'Control Sheet'!E387&\" (\"&'Control Sheet'!F387&\")\")","v":""},"","","","","","","","","","","","","",null,"","","","","","","","","","","","","","","","","","","","","","","","","","","","","","","","","","","","","","","","","","",{"$f":"IF(A407=\"\",\"\",MAX(IF(ISERROR(AU407:BF407),0,AU407:BF407)))","v":""},"","","","","","","","","","","","","","","","","","",""]
[{"$f":"IF(ISBLANK('Control Sheet'!D388),\"\",'Control Sheet'!D388)","v":""},{"$f":"IF(ISBLANK('Control Sheet'!E388),\"\",'Control Sheet'!E388&\" (\"&'Control Sheet'!F388&\")\")","v":""},"","","","","","","","","","","","","",null,"","","","","","","","","","","","","","","","","","","","","","","","","","","","","","","","","","","","","","","","","","",{"$f":"IF(A408=\"\",\"\",MAX(IF(ISERROR(AU408:BF408),0,AU408:BF408)))","v":""},"","","","","","","","","","","","","","","","","","",""]
[{"$f":"IF(ISBLANK('Control Sheet'!D389),\"\",'Control Sheet'!D389)","v":""},{"$f":"IF(ISBLANK('Control Sheet'!E389),\"\",'Control Sheet'!E389&\" (\"&'Control Sheet'!F389&\")\")","v":""},"","","","","","","","","","","","","",null,"","","","","","","","","","","","","","","","","","","","","","","","","","","","","","","","","","","","","","","","","","",{"$f":"IF(A409=\"\",\"\",MAX(IF(ISERROR(AU409:BF409),0,AU409:BF409)))","v":""},"","","","","","","","","","","","","","","","","","",""]
[{"$f":"IF(ISBLANK('Control Sheet'!D390),\"\",'Control Sheet'!D390)","v":""},{"$f":"IF(ISBLANK('Control Sheet'!E390),\"\",'Control Sheet'!E390&\" (\"&'Control Sheet'!F390&\")\")","v":""},"","","","","","","","","","","","","",null,"","","","","","","","","","","","","","","","","","","","","","","","","","","","","","","","","","","","","","","","","","",{"$f":"IF(A410=\"\",\"\",MAX(IF(ISERROR(AU410:BF410),0,AU410:BF410)))","v":""},"","","","","","","","","","","","","","","","","","",""]
[{"$f":"IF(ISBLANK('Control Sheet'!D391),\"\",'Control Sheet'!D391)","v":""},{"$f":"IF(ISBLANK('Control Sheet'!E391),\"\",'Control Sheet'!E391&\" (\"&'Control Sheet'!F391&\")\")","v":""},{"$f":"IF(C$18=1,IF(ISNA(VLOOKUP($A411,INDIRECT(C$20),OOPE_col,FALSE)),\"\",VLOOKUP($A411,INDIRECT(C$20),OOPE_col,FALSE)),\"\")","v":""},"","","","","","","","","","","","",null,"","","","","","","","","","","","","","","","","","","","","","","","","","","","","","","","","","","","","","","","","","",{"$f":"IF(A411=\"\",\"\",MAX(IF(ISERROR(AU411:BF411),0,AU411:BF411)))","v":""},"","","","","","","","","","","","","","","","","","",""]
[{"$f":"IF(ISBLANK('Control Sheet'!D392),\"\",'Control Sheet'!D392)","v":""},{"$f":"IF(ISBLANK('Control Sheet'!E392),\"\",'Control Sheet'!E392&\" (\"&'Control Sheet'!F392&\")\")","v":""},"","","","","","","","","","","","","",null,"","","","","","","","","","","","","","","","","","","","","","","","","","","","","","","","","","","","","","","","","","",{"$f":"IF(A412=\"\",\"\",MAX(IF(ISERROR(AU412:BF412),0,AU412:BF412)))","v":""},"","","","","","","","","","","","","","","","","","",""]
[{"$f":"IF(ISBLANK('Control Sheet'!D393),\"\",'Control Sheet'!D393)","v":""},{"$f":"IF(ISBLANK('Control Sheet'!E393),\"\",'Control Sheet'!E393&\" (\"&'Control Sheet'!F393&\")\")","v":""},"","","","","","","","","","","","","",null,"","","","","","","","","","","","","","","","","","","","","","","","","","","","","","","","","","","","","","","","","","",{"$f":"IF(A413=\"\",\"\",MAX(IF(ISERROR(AU413:BF413),0,AU413:BF413)))","v":""},"","","","","","","","","","","","","","","","","","",""]
[{"$f":"IF(ISBLANK('Control Sheet'!D394),\"\",'Control Sheet'!D394)","v":""},{"$f":"IF(ISBLANK('Control Sheet'!E394),\"\",'Control Sheet'!E394&\" (\"&'Control Sheet'!F394&\")\")","v":""},"","","","","","","","","","","","","",null,"","","","","","","","","","","","","","","","","","","","","","","","","","","","","","","","","","","","","","","","","","",{"$f":"IF(A414=\"\",\"\",MAX(IF(ISERROR(AU414:BF414),0,AU414:BF414)))","v":""},"","","","","","","","","","","","","","","","","","",""]
[{"$f":"IF(ISBLANK('Control Sheet'!D395),\"\",'Control Sheet'!D395)","v":""},{"$f":"IF(ISBLANK('Control Sheet'!E395),\"\",'Control Sheet'!E395&\" (\"&'Control Sheet'!F395&\")\")","v":""},"","","","","","","","","","","","","",null,"","","","","","","","","","","","","","","","","","","","","","","","","","","","","","","","","","","","","","","","","","",{"$f":"IF(A415=\"\",\"\",MAX(IF(ISERROR(AU415:BF415),0,AU415:BF415)))","v":""},"","","","","","","","","","","","","","","","","","",""]
[{"$f":"IF(ISBLANK('Control Sheet'!D396),\"\",'Control Sheet'!D396)","v":""},{"$f":"IF(ISBLANK('Control Sheet'!E396),\"\",'Control Sheet'!E396&\" (\"&'Control Sheet'!F396&\")\")","v":""},"","","","","","","","","","","","","",null,"","","","","","","","","","","","","","","","","","","","","","","","","","","","","","","","","","","","","","","","","","",{"$f":"IF(A416=\"\",\"\",MAX(IF(ISERROR(AU416:BF416),0,AU416:BF416)))","v":""},"","","","","","","","","","","","","","","","","","",""]
[{"$f":"IF(ISBLANK('Control Sheet'!D397),\"\",'Control Sheet'!D397)","v":""},{"$f":"IF(ISBLANK('Control Sheet'!E397),\"\",'Control Sheet'!E397&\" (\"&'Control Sheet'!F397&\")\")","v":""},"","","","","","","","","","","","","",null,"","","","","","","","","","","","","","","","","","","","","","","","","","","","","","","","","","","","","","","","","","",{"$f":"IF(A417=\"\",\"\",MAX(IF(ISERROR(AU417:BF417),0,AU417:BF417)))","v":""},"","","","","","","","","","","","","","","","","","",""]
[{"$f":"IF(ISBLANK('Control Sheet'!D398),\"\",'Control Sheet'!D398)","v":""},{"$f":"IF(ISBLANK('Control Sheet'!E398),\"\",'Control Sheet'!E398&\" (\"&'Control Sheet'!F398&\")\")","v":""},"","","","","","","","","","","","","",null,"","","","","","","","","","","","","","","","","","","","","","","","","","","","","","","","","","","","","","","","","","",{"$f":"IF(A418=\"\",\"\",MAX(IF(ISERROR(AU418:BF418),0,AU418:BF418)))","v":""},"","","","","","","","","","","","","","","","","","",""]
[{"$f":"IF(ISBLANK('Control Sheet'!D399),\"\",'Control Sheet'!D399)","v":""},{"$f":"IF(ISBLANK('Control Sheet'!E399),\"\",'Control Sheet'!E399&\" (\"&'Control Sheet'!F399&\")\")","v":""},"","","","","","","","","","","","","",null,"","","","","","","","","","","","","","","","","","","","","","","","","","","","","","","","","","","","","","","","","","",{"$f":"IF(A419=\"\",\"\",MAX(IF(ISERROR(AU419:BF419),0,AU419:BF419)))","v":""},"","","","","","","","","","","","","","","","","","",""]
[{"$f":"IF(ISBLANK('Control Sheet'!D400),\"\",'Control Sheet'!D400)","v":""},{"$f":"IF(ISBLANK('Control Sheet'!E400),\"\",'Control Sheet'!E400&\" (\"&'Control Sheet'!F400&\")\")","v":""},"","","","","","","","","","","","","",null,"","","","","","","","","","","","","","","","","","","","","","","","","","","","","","","","","","","","","","","","","","",{"$f":"IF(A420=\"\",\"\",MAX(IF(ISERROR(AU420:BF420),0,AU420:BF420)))","v":""},"","","","","","","","","","","","","","","","","","",""]
[{"$f":"IF(ISBLANK('Control Sheet'!D401),\"\",'Control Sheet'!D401)","v":""},{"$f":"IF(ISBLANK('Control Sheet'!E401),\"\",'Control Sheet'!E401&\" (\"&'Control Sheet'!F401&\")\")","v":""},{"$f":"IF(C$18=1,IF(ISNA(VLOOKUP($A421,INDIRECT(C$20),OOPE_col,FALSE)),\"\",VLOOKUP($A421,INDIRECT(C$20),OOPE_col,FALSE)),\"\")","v":""},"","","","","","","","","","","","",null,"","","","","","","","","","","","","","","","","","","","","","","","","","","","","","","","","","","","","","","","","","",{"$f":"IF(A421=\"\",\"\",MAX(IF(ISERROR(AU421:BF421),0,AU421:BF421)))","v":""},"","","","","","","","","","","","","","","","","","",""]
[{"$f":"IF(ISBLANK('Control Sheet'!D402),\"\",'Control Sheet'!D402)","v":""},{"$f":"IF(ISBLANK('Control Sheet'!E402),\"\",'Control Sheet'!E402&\" (\"&'Control Sheet'!F402&\")\")","v":""},"","","","","","","","","","","","","",null,"","","","","","","","","","","","","","","","","","","","","","","","","","","","","","","","","","","","","","","","","","",{"$f":"IF(A422=\"\",\"\",MAX(IF(ISERROR(AU422:BF422),0,AU422:BF422)))","v":""},"","","","","","","","","","","","","","","","","","",""]
[{"$f":"IF(ISBLANK('Control Sheet'!D403),\"\",'Control Sheet'!D403)","v":""},{"$f":"IF(ISBLANK('Control Sheet'!E403),\"\",'Control Sheet'!E403&\" (\"&'Control Sheet'!F403&\")\")","v":""},"","","","","","","","","","","","","",null,"","","","","","","","","","","","","","","","","","","","","","","","","","","","","","","","","","","","","","","","","","",{"$f":"IF(A423=\"\",\"\",MAX(IF(ISERROR(AU423:BF423),0,AU423:BF423)))","v":""},"","","","","","","","","","","","","","","","","","",""]
[{"$f":"IF(ISBLANK('Control Sheet'!D404),\"\",'Control Sheet'!D404)","v":""},{"$f":"IF(ISBLANK('Control Sheet'!E404),\"\",'Control Sheet'!E404&\" (\"&'Control Sheet'!F404&\")\")","v":""},"","","","","","","","","","","","","",null,"","","","","","","","","","","","","","","","","","","","","","","","","","","","","","","","","","","","","","","","","","",{"$f":"IF(A424=\"\",\"\",MAX(IF(ISERROR(AU424:BF424),0,AU424:BF424)))","v":""},"","","","","","","","","","","","","","","","","","",""]
[{"$f":"IF(ISBLANK('Control Sheet'!D405),\"\",'Control Sheet'!D405)","v":""},{"$f":"IF(ISBLANK('Control Sheet'!E405),\"\",'Control Sheet'!E405&\" (\"&'Control Sheet'!F405&\")\")","v":""},"","","","","","","","","","","","","",null,"","","","","","","","","","","","","","","","","","","","","","","","","","","","","","","","","","","","","","","","","","",{"$f":"IF(A425=\"\",\"\",MAX(IF(ISERROR(AU425:BF425),0,AU425:BF425)))","v":""},"","","","","","","","","","","","","","","","","","",""]
[{"$f":"IF(ISBLANK('Control Sheet'!D406),\"\",'Control Sheet'!D406)","v":""},{"$f":"IF(ISBLANK('Control Sheet'!E406),\"\",'Control Sheet'!E406&\" (\"&'Control Sheet'!F406&\")\")","v":""},"","","","","","","","","","","","","",null,"","","","","","","","","","","","","","","","","","","","","","","","","","","","","","","","","","","","","","","","","","",{"$f":"IF(A426=\"\",\"\",MAX(IF(ISERROR(AU426:BF426),0,AU426:BF426)))","v":""},"","","","","","","","","","","","","","","","","","",""]
[{"$f":"IF(ISBLANK('Control Sheet'!D407),\"\",'Control Sheet'!D407)","v":""},{"$f":"IF(ISBLANK('Control Sheet'!E407),\"\",'Control Sheet'!E407&\" (\"&'Control Sheet'!F407&\")\")","v":""},"","","","","","","","","","","","","",null,"","","","","","","","","","","","","","","","","","","","","","","","","","","","","","","","","","","","","","","","","","",{"$f":"IF(A427=\"\",\"\",MAX(IF(ISERROR(AU427:BF427),0,AU427:BF427)))","v":""},"","","","","","","","","","","","","","","","","","",""]
[{"$f":"IF(ISBLANK('Control Sheet'!D408),\"\",'Control Sheet'!D408)","v":""},{"$f":"IF(ISBLANK('Control Sheet'!E408),\"\",'Control Sheet'!E408&\" (\"&'Control Sheet'!F408&\")\")","v":""},"","","","","","","","","","","","","",null,"","","","","","","","","","","","","","","","","","","","","","","","","","","","","","","","","","","","","","","","","","",{"$f":"IF(A428=\"\",\"\",MAX(IF(ISERROR(AU428:BF428),0,AU428:BF428)))","v":""},"","","","","","","","","","","","","","","","","","",""]
[{"$f":"IF(ISBLANK('Control Sheet'!D409),\"\",'Control Sheet'!D409)","v":""},{"$f":"IF(ISBLANK('Control Sheet'!E409),\"\",'Control Sheet'!E409&\" (\"&'Control Sheet'!F409&\")\")","v":""},"","","","","","","","","","","","","",null,"","","","","","","","","","","","","","","","","","","","","","","","","","","","","","","","","","","","","","","","","","",{"$f":"IF(A429=\"\",\"\",MAX(IF(ISERROR(AU429:BF429),0,AU429:BF429)))","v":""},"","","","","","","","","","","","","","","","","","",""]
[{"$f":"IF(ISBLANK('Control Sheet'!D410),\"\",'Control Sheet'!D410)","v":""},{"$f":"IF(ISBLANK('Control Sheet'!E410),\"\",'Control Sheet'!E410&\" (\"&'Control Sheet'!F410&\")\")","v":""},"","","","","","","","","","","","","",null,"","","","","","","","","","","","","","","","","","","","","","","","","","","","","","","","","","","","","","","","","","",{"$f":"IF(A430=\"\",\"\",MAX(IF(ISERROR(AU430:BF430),0,AU430:BF430)))","v":""},"","","","","","","","","","","","","","","","","","",""]
[{"$f":"IF(ISBLANK('Control Sheet'!D411),\"\",'Control Sheet'!D411)","v":""},{"$f":"IF(ISBLANK('Control Sheet'!E411),\"\",'Control Sheet'!E411&\" (\"&'Control Sheet'!F411&\")\")","v":""},{"$f":"IF(C$18=1,IF(ISNA(VLOOKUP($A431,INDIRECT(C$20),OOPE_col,FALSE)),\"\",VLOOKUP($A431,INDIRECT(C$20),OOPE_col,FALSE)),\"\")","v":""},"","","","","","","","","","","","",null,"","","","","","","","","","","","","","","","","","","","","","","","","","","","","","","","","","","","","","","","","","",{"$f":"IF(A431=\"\",\"\",MAX(IF(ISERROR(AU431:BF431),0,AU431:BF431)))","v":""},"","","","","","","","","","","","","","","","","","",""]
[{"$f":"IF(ISBLANK('Control Sheet'!D412),\"\",'Control Sheet'!D412)","v":""},{"$f":"IF(ISBLANK('Control Sheet'!E412),\"\",'Control Sheet'!E412&\" (\"&'Control Sheet'!F412&\")\")","v":""},"","","","","","","","","","","","","",null,"","","","","","","","","","","","","","","","","","","","","","","","","","","","","","","","","","","","","","","","","","",{"$f":"IF(A432=\"\",\"\",MAX(IF(ISERROR(AU432:BF432),0,AU432:BF432)))","v":""},"","","","","","","","","","","","","","","","","","",""]
[{"$f":"IF(ISBLANK('Control Sheet'!D413),\"\",'Control Sheet'!D413)","v":""},{"$f":"IF(ISBLANK('Control Sheet'!E413),\"\",'Control Sheet'!E413&\" (\"&'Control Sheet'!F413&\")\")","v":""},"","","","","","","","","","","","","",null,"","","","","","","","","","","","","","","","","","","","","","","","","","","","","","","","","","","","","","","","","","",{"$f":"IF(A433=\"\",\"\",MAX(IF(ISERROR(AU433:BF433),0,AU433:BF433)))","v":""},"","","","","","","","","","","","","","","","","","",""]
[{"$f":"IF(ISBLANK('Control Sheet'!D414),\"\",'Control Sheet'!D414)","v":""},{"$f":"IF(ISBLANK('Control Sheet'!E414),\"\",'Control Sheet'!E414&\" (\"&'Control Sheet'!F414&\")\")","v":""},"","","","","","","","","","","","","",null,"","","","","","","","","","","","","","","","","","","","","","","","","","","","","","","","","","","","","","","","","","",{"$f":"IF(A434=\"\",\"\",MAX(IF(ISERROR(AU434:BF434),0,AU434:BF434)))","v":""},"","","","","","","","","","","","","","","","","","",""]
[{"$f":"IF(ISBLANK('Control Sheet'!D415),\"\",'Control Sheet'!D415)","v":""},{"$f":"IF(ISBLANK('Control Sheet'!E415),\"\",'Control Sheet'!E415&\" (\"&'Control Sheet'!F415&\")\")","v":""},"","","","","","","","","","","","","",null,"","","","","","","","","","","","","","","","","","","","","","","","","","","","","","","","","","","","","","","","","","",{"$f":"IF(A435=\"\",\"\",MAX(IF(ISERROR(AU435:BF435),0,AU435:BF435)))","v":""},"","","","","","","","","","","","","","","","","","",""]
[{"$f":"IF(ISBLANK('Control Sheet'!D416),\"\",'Control Sheet'!D416)","v":""},{"$f":"IF(ISBLANK('Control Sheet'!E416),\"\",'Control Sheet'!E416&\" (\"&'Control Sheet'!F416&\")\")","v":""},"","","","","","","","","","","","","",null,"","","","","","","","","","","","","","","",{"$f":"IF(OR(A436=\"\",AE436=0),\"\",AE436/(O$18-R278))","v":""},"","","","","","","","","","","","","","","","","","","","","","","","","","",{"$f":"IF(A436=\"\",\"\",MAX(IF(ISERROR(AU436:BF436),0,AU436:BF436)))","v":""},"","","","","","","","","","","","","","","","","","",""]
[{"$f":"IF(ISBLANK('Control Sheet'!D417),\"\",'Control Sheet'!D417)","v":""},{"$f":"IF(ISBLANK('Control Sheet'!E417),\"\",'Control Sheet'!E417&\" (\"&'Control Sheet'!F417&\")\")","v":""},"","","","","","","","","","","","","",null,"","","","","","","","","","","","","","","","","","","","","","","","","","","","","","","","","","","","","","","","","","",{"$f":"IF(A437=\"\",\"\",MAX(IF(ISERROR(AU437:BF437),0,AU437:BF437)))","v":""},"","","","","","","","","","","","","","","","","","",""]
[{"$f":"IF(ISBLANK('Control Sheet'!D418),\"\",'Control Sheet'!D418)","v":""},{"$f":"IF(ISBLANK('Control Sheet'!E418),\"\",'Control Sheet'!E418&\" (\"&'Control Sheet'!F418&\")\")","v":""},"","","","","","","","","","","","","",null,"","","","","","","","","","","","","","","","","","","","","","","","","","","","","","","","","","","","","","","","","","",{"$f":"IF(A438=\"\",\"\",MAX(IF(ISERROR(AU438:BF438),0,AU438:BF438)))","v":""},"","","","","","","","","","","","","","","","","","",""]
[{"$f":"IF(ISBLANK('Control Sheet'!D419),\"\",'Control Sheet'!D419)","v":""},{"$f":"IF(ISBLANK('Control Sheet'!E419),\"\",'Control Sheet'!E419&\" (\"&'Control Sheet'!F419&\")\")","v":""},"","","","","","","","","","","","","",null,"","","","","","","","","","","","","","","","","","","","","","","","","","","","","","","","","","","","","","","","","","",{"$f":"IF(A439=\"\",\"\",MAX(IF(ISERROR(AU439:BF439),0,AU439:BF439)))","v":""},"","","","","","","","","","","","","","","","","","",""]
[{"$f":"IF(ISBLANK('Control Sheet'!D420),\"\",'Control Sheet'!D420)","v":""},{"$f":"IF(ISBLANK('Control Sheet'!E420),\"\",'Control Sheet'!E420&\" (\"&'Control Sheet'!F420&\")\")","v":""},"","","","","","","","","","","","","",null,"","","","","","","","","","","","","","","","","","","","","","","","","","","","","","","","","","","","","","","","","","",{"$f":"IF(A440=\"\",\"\",MAX(IF(ISERROR(AU440:BF440),0,AU440:BF440)))","v":""},"","","","","","","","","","","","","","","","","","",""]
[{"$f":"IF(ISBLANK('Control Sheet'!D421),\"\",'Control Sheet'!D421)","v":""},{"$f":"IF(ISBLANK('Control Sheet'!E421),\"\",'Control Sheet'!E421&\" (\"&'Control Sheet'!F421&\")\")","v":""},{"$f":"IF(C$18=1,IF(ISNA(VLOOKUP($A441,INDIRECT(C$20),OOPE_col,FALSE)),\"\",VLOOKUP($A441,INDIRECT(C$20),OOPE_col,FALSE)),\"\")","v":""},"","","","","","","","","","","","",null,"","","","","","","","","","","","","","","","","","","","","","","","","","","","","","","","","","","","","","","","","","",{"$f":"IF(A441=\"\",\"\",MAX(IF(ISERROR(AU441:BF441),0,AU441:BF441)))","v":""},"","","","","","","","","","","","","","","","","","",""]
[{"$f":"IF(ISBLANK('Control Sheet'!D422),\"\",'Control Sheet'!D422)","v":""},{"$f":"IF(ISBLANK('Control Sheet'!E422),\"\",'Control Sheet'!E422&\" (\"&'Control Sheet'!F422&\")\")","v":""},"","","","","","","","","","","","","",null,"","","","","","","","","","","","","","","","","","","","","","","","","","","","","","","","","","","","","","","","","","",{"$f":"IF(A442=\"\",\"\",MAX(IF(ISERROR(AU442:BF442),0,AU442:BF442)))","v":""},"","","","","","","","","","","","","","","","","","",""]
[{"$f":"IF(ISBLANK('Control Sheet'!D423),\"\",'Control Sheet'!D423)","v":""},{"$f":"IF(ISBLANK('Control Sheet'!E423),\"\",'Control Sheet'!E423&\" (\"&'Control Sheet'!F423&\")\")","v":""},"","","","","","","","","","","","","",null,"","","","","","","","","","","","","","","","","","","","","","","","","","","","","","","","","","","","","","","","","","",{"$f":"IF(A443=\"\",\"\",MAX(IF(ISERROR(AU443:BF443),0,AU443:BF443)))","v":""},"","","","","","","","","","","","","","","","","","",""]
[{"$f":"IF(ISBLANK('Control Sheet'!D424),\"\",'Control Sheet'!D424)","v":""},{"$f":"IF(ISBLANK('Control Sheet'!E424),\"\",'Control Sheet'!E424&\" (\"&'Control Sheet'!F424&\")\")","v":""},"","","","","","","","","","","","","",null,"","","","","","","","","","","","","","","","","","","","","","","","","","","","","","","","","","","","","","","","","","",{"$f":"IF(A444=\"\",\"\",MAX(IF(ISERROR(AU444:BF444),0,AU444:BF444)))","v":""},"","","","","","","","","","","","","","","","","","",""]
[{"$f":"IF(ISBLANK('Control Sheet'!D425),\"\",'Control Sheet'!D425)","v":""},{"$f":"IF(ISBLANK('Control Sheet'!E425),\"\",'Control Sheet'!E425&\" (\"&'Control Sheet'!F425&\")\")","v":""},"","","","","","","","","","","","","",null,"","","","","","","","","","","","","","","","","","","","","","","","","","","","","","","","","","","","","","","","","","",{"$f":"IF(A445=\"\",\"\",MAX(IF(ISERROR(AU445:BF445),0,AU445:BF445)))","v":""},"","","","","","","","","","","","","","","","","","",""]
[{"$f":"IF(ISBLANK('Control Sheet'!D426),\"\",'Control Sheet'!D426)","v":""},{"$f":"IF(ISBLANK('Control Sheet'!E426),\"\",'Control Sheet'!E426&\" (\"&'Control Sheet'!F426&\")\")","v":""},"","","","","","","","","","","","","",null,"","","","","","","","","","","","","","","","","","","","","","","","","","","","","","","","","","","","","","","","","","",{"$f":"IF(A446=\"\",\"\",MAX(IF(ISERROR(AU446:BF446),0,AU446:BF446)))","v":""},"","","","","","","","","","","","","","","","","","",""]
[{"$f":"IF(ISBLANK('Control Sheet'!D427),\"\",'Control Sheet'!D427)","v":""},{"$f":"IF(ISBLANK('Control Sheet'!E427),\"\",'Control Sheet'!E427&\" (\"&'Control Sheet'!F427&\")\")","v":""},"","","","","","","","","","","","","",null,"","","","","","","","","","","","","","","","","","","","","","","","","","","","","","","","","","","","","","","","","","",{"$f":"IF(A447=\"\",\"\",MAX(IF(ISERROR(AU447:BF447),0,AU447:BF447)))","v":""},"","","","","","","","","","","","","","","","","","",""]
[{"$f":"IF(ISBLANK('Control Sheet'!D428),\"\",'Control Sheet'!D428)","v":""},{"$f":"IF(ISBLANK('Control Sheet'!E428),\"\",'Control Sheet'!E428&\" (\"&'Control Sheet'!F428&\")\")","v":""},"","","","","","","","","","","","","",null,"","","","","","","","","","","","","","","","","","","","","","","","","","","","","","","","","","","","","","","","","","",{"$f":"IF(A448=\"\",\"\",MAX(IF(ISERROR(AU448:BF448),0,AU448:BF448)))","v":""},"","","","","","","","","","","","","","","","","","",""]
[{"$f":"IF(ISBLANK('Control Sheet'!D429),\"\",'Control Sheet'!D429)","v":""},{"$f":"IF(ISBLANK('Control Sheet'!E429),\"\",'Control Sheet'!E429&\" (\"&'Control Sheet'!F429&\")\")","v":""},"","","","","","","","","","","","","",null,"","","","","","","","","","","","","","","","","","","","","","","","","","","","","","","","","","","","","","","","","","",{"$f":"IF(A449=\"\",\"\",MAX(IF(ISERROR(AU449:BF449),0,AU449:BF449)))","v":""},"","","","","","","","","","","","","","","","","","",""]
[{"$f":"IF(ISBLANK('Control Sheet'!D430),\"\",'Control Sheet'!D430)","v":""},{"$f":"IF(ISBLANK('Control Sheet'!E430),\"\",'Control Sheet'!E430&\" (\"&'Control Sheet'!F430&\")\")","v":""},"","","","","","","","","","","","","",null,"","","","","","","","","","","","","","","","","","","","","","","","","","","","","","","","","","","","","","","","","","",{"$f":"IF(A450=\"\",\"\",MAX(IF(ISERROR(AU450:BF450),0,AU450:BF450)))","v":""},"","","","","","","","","","","","","","","","","","",""]
[{"$f":"IF(ISBLANK('Control Sheet'!D431),\"\",'Control Sheet'!D431)","v":""},{"$f":"IF(ISBLANK('Control Sheet'!E431),\"\",'Control Sheet'!E431&\" (\"&'Control Sheet'!F431&\")\")","v":""},{"$f":"IF(C$18=1,IF(ISNA(VLOOKUP($A451,INDIRECT(C$20),OOPE_col,FALSE)),\"\",VLOOKUP($A451,INDIRECT(C$20),OOPE_col,FALSE)),\"\")","v":""},"","","","","","","","","","","","",null,"","","","","","","","","","","","","","","","","","","","","","","","","","","","","","","","","","","","","","","","","","",{"$f":"IF(A451=\"\",\"\",MAX(IF(ISERROR(AU451:BF451),0,AU451:BF451)))","v":""},"","","","","","","","","","","","","","","","","","",""]
[{"$f":"IF(ISBLANK('Control Sheet'!D432),\"\",'Control Sheet'!D432)","v":""},{"$f":"IF(ISBLANK('Control Sheet'!E432),\"\",'Control Sheet'!E432&\" (\"&'Control Sheet'!F432&\")\")","v":""},"","","","","","","","","","","","","",null,"","","","","","","","","","","","","","","","","","","","","","","","","","","","","","","","","","","","","","","","","","",{"$f":"IF(A452=\"\",\"\",MAX(IF(ISERROR(AU452:BF452),0,AU452:BF452)))","v":""},"","","","","","","","","","","","","","","","","","",""]
[{"$f":"IF(ISBLANK('Control Sheet'!D433),\"\",'Control Sheet'!D433)","v":""},{"$f":"IF(ISBLANK('Control Sheet'!E433),\"\",'Control Sheet'!E433&\" (\"&'Control Sheet'!F433&\")\")","v":""},"","","","","","","","","","","","","",null,"","","","","","","","","","","","","","","","","","","","","","","","","","","","","","","","","","","","","","","","","","",{"$f":"IF(A453=\"\",\"\",MAX(IF(ISERROR(AU453:BF453),0,AU453:BF453)))","v":""},"","","","","","","","","","","","","","","","","","",""]
[{"$f":"IF(ISBLANK('Control Sheet'!D434),\"\",'Control Sheet'!D434)","v":""},{"$f":"IF(ISBLANK('Control Sheet'!E434),\"\",'Control Sheet'!E434&\" (\"&'Control Sheet'!F434&\")\")","v":""},"","","","","","","","","","","","","",null,"","","","","","","","","","","","","","","","","","","","","","","","","","","","","","","","","","","","","","","","","","",{"$f":"IF(A454=\"\",\"\",MAX(IF(ISERROR(AU454:BF454),0,AU454:BF454)))","v":""},"","","","","","","","","","","","","","","","","","",""]
[{"$f":"IF(ISBLANK('Control Sheet'!D435),\"\",'Control Sheet'!D435)","v":""},{"$f":"IF(ISBLANK('Control Sheet'!E435),\"\",'Control Sheet'!E435&\" (\"&'Control Sheet'!F435&\")\")","v":""},"","","","","","","","","","","","","",null,"","","","","","","","","","","","","","","","","","","","","","","","","","","","","","","","","","","","","","","","","","",{"$f":"IF(A455=\"\",\"\",MAX(IF(ISERROR(AU455:BF455),0,AU455:BF455)))","v":""},"","","","","","","","","","","","","","","","","","",""]
[{"$f":"IF(ISBLANK('Control Sheet'!D436),\"\",'Control Sheet'!D436)","v":""},{"$f":"IF(ISBLANK('Control Sheet'!E436),\"\",'Control Sheet'!E436&\" (\"&'Control Sheet'!F436&\")\")","v":""},"","","","","","","","","","","","","",null,"","","","","","","","","","","","","","","","","","","","","","","","","","","","","","","","","","","","","","","","","","",{"$f":"IF(A456=\"\",\"\",MAX(IF(ISERROR(AU456:BF456),0,AU456:BF456)))","v":""},"","","","","","","","","","","","","","","","","","",""]
[{"$f":"IF(ISBLANK('Control Sheet'!D437),\"\",'Control Sheet'!D437)","v":""},{"$f":"IF(ISBLANK('Control Sheet'!E437),\"\",'Control Sheet'!E437&\" (\"&'Control Sheet'!F437&\")\")","v":""},"","","","","","","","","","","","","",null,"","","","","","","","","","","","","","","","","","","","","","","","","","","","","","","","","","","","","","","","","","",{"$f":"IF(A457=\"\",\"\",MAX(IF(ISERROR(AU457:BF457),0,AU457:BF457)))","v":""},"","","","","","","","","","","","","","","","","","",""]
[{"$f":"IF(ISBLANK('Control Sheet'!D438),\"\",'Control Sheet'!D438)","v":""},{"$f":"IF(ISBLANK('Control Sheet'!E438),\"\",'Control Sheet'!E438&\" (\"&'Control Sheet'!F438&\")\")","v":""},"","","","","","","","","","","","","",null,"","","","","","","","","","","","","","","","","","","","","","","","","","","","","","","","","","","","","","","","","","",{"$f":"IF(A458=\"\",\"\",MAX(IF(ISERROR(AU458:BF458),0,AU458:BF458)))","v":""},"","","","","","","","","","","","","","","","","","",""]
[{"$f":"IF(ISBLANK('Control Sheet'!D439),\"\",'Control Sheet'!D439)","v":""},{"$f":"IF(ISBLANK('Control Sheet'!E439),\"\",'Control Sheet'!E439&\" (\"&'Control Sheet'!F439&\")\")","v":""},"","","","","","","","","","","","","",null,"","","","","","","","","","","","","","","","","","","","","","","","","","","","","","","","","","","","","","","","","","",{"$f":"IF(A459=\"\",\"\",MAX(IF(ISERROR(AU459:BF459),0,AU459:BF459)))","v":""},"","","","","","","","","","","","","","","","","","",""]
[{"$f":"IF(ISBLANK('Control Sheet'!D440),\"\",'Control Sheet'!D440)","v":""},{"$f":"IF(ISBLANK('Control Sheet'!E440),\"\",'Control Sheet'!E440&\" (\"&'Control Sheet'!F440&\")\")","v":""},"","","","","","","","","","","","","",null,"","","","","","","","","","","","","","","","","","","","","","","","","","","","","","","","","","","","","","","","","","",{"$f":"IF(A460=\"\",\"\",MAX(IF(ISERROR(AU460:BF460),0,AU460:BF460)))","v":""},"","","","","","","","","","","","","","","","","","",""]
[{"$f":"IF(ISBLANK('Control Sheet'!D441),\"\",'Control Sheet'!D441)","v":""},{"$f":"IF(ISBLANK('Control Sheet'!E441),\"\",'Control Sheet'!E441&\" (\"&'Control Sheet'!F441&\")\")","v":""},{"$f":"IF(C$18=1,IF(ISNA(VLOOKUP($A461,INDIRECT(C$20),OOPE_col,FALSE)),\"\",VLOOKUP($A461,INDIRECT(C$20),OOPE_col,FALSE)),\"\")","v":""},"","","","","","","","","","","","",null,"","","","","","","","","","","","","","","","","","","","","","","","","","","","","","","","","","","","","","","","","","",{"$f":"IF(A461=\"\",\"\",MAX(IF(ISERROR(AU461:BF461),0,AU461:BF461)))","v":""},"","","","","","","","","","","","","","","","","","",""]
[{"$f":"IF(ISBLANK('Control Sheet'!D442),\"\",'Control Sheet'!D442)","v":""},{"$f":"IF(ISBLANK('Control Sheet'!E442),\"\",'Control Sheet'!E442&\" (\"&'Control Sheet'!F442&\")\")","v":""},"","","","","","","","","","","","","",null,"","","","","","","","","","","","","","","","","","","","","","","","","","","","","","","","","","","","","","","","","","",{"$f":"IF(A462=\"\",\"\",MAX(IF(ISERROR(AU462:BF462),0,AU462:BF462)))","v":""},"","","","","","","","","","","","","","","","","","",""]
[{"$f":"IF(ISBLANK('Control Sheet'!D443),\"\",'Control Sheet'!D443)","v":""},{"$f":"IF(ISBLANK('Control Sheet'!E443),\"\",'Control Sheet'!E443&\" (\"&'Control Sheet'!F443&\")\")","v":""},"","","","","","","","","","","","","",null,"","","","","","","","","","","","","","","","","","","","","","","","","","","","","","","","","","","","","","","","","","",{"$f":"IF(A463=\"\",\"\",MAX(IF(ISERROR(AU463:BF463),0,AU463:BF463)))","v":""},"","","","","","","","","","","","","","","","","","",""]
[{"$f":"IF(ISBLANK('Control Sheet'!D444),\"\",'Control Sheet'!D444)","v":""},{"$f":"IF(ISBLANK('Control Sheet'!E444),\"\",'Control Sheet'!E444&\" (\"&'Control Sheet'!F444&\")\")","v":""},"","","","","","","","","","","","","",null,"","","","","","","","","","","","","","","","","","","","","","","","","","","","","","","","","","","","","","","","","","",{"$f":"IF(A464=\"\",\"\",MAX(IF(ISERROR(AU464:BF464),0,AU464:BF464)))","v":""},"","","","","","","","","","","","","","","","","","",""]
[{"$f":"IF(ISBLANK('Control Sheet'!D445),\"\",'Control Sheet'!D445)","v":""},{"$f":"IF(ISBLANK('Control Sheet'!E445),\"\",'Control Sheet'!E445&\" (\"&'Control Sheet'!F445&\")\")","v":""},"","","","","","","","","","","","","",null,"","","","","","","","","","","","","","","","","","","","","","","","","","","","","","","","","","","","","","","","","","",{"$f":"IF(A465=\"\",\"\",MAX(IF(ISERROR(AU465:BF465),0,AU465:BF465)))","v":""},"","","","","","","","","","","","","","","","","","",""]
[{"$f":"IF(ISBLANK('Control Sheet'!D446),\"\",'Control Sheet'!D446)","v":""},{"$f":"IF(ISBLANK('Control Sheet'!E446),\"\",'Control Sheet'!E446&\" (\"&'Control Sheet'!F446&\")\")","v":""},"","","","","","","","","","","","","",null,"","","","","","","","","","","","","","","","","","","","","","","","","","","","","","","","","","","","","","","","","","",{"$f":"IF(A466=\"\",\"\",MAX(IF(ISERROR(AU466:BF466),0,AU466:BF466)))","v":""},"","","","","","","","","","","","","","","","","","",""]
[{"$f":"IF(ISBLANK('Control Sheet'!D447),\"\",'Control Sheet'!D447)","v":""},{"$f":"IF(ISBLANK('Control Sheet'!E447),\"\",'Control Sheet'!E447&\" (\"&'Control Sheet'!F447&\")\")","v":""},"","","","","","","","","","","","","",null,"","","","","","","","","","","","","","","","","","","","","","","","","","","","","","","","","","","","","","","","","","",{"$f":"IF(A467=\"\",\"\",MAX(IF(ISERROR(AU467:BF467),0,AU467:BF467)))","v":""},"","","","","","","","","","","","","","","","","","",""]
[{"$f":"IF(ISBLANK('Control Sheet'!D448),\"\",'Control Sheet'!D448)","v":""},{"$f":"IF(ISBLANK('Control Sheet'!E448),\"\",'Control Sheet'!E448&\" (\"&'Control Sheet'!F448&\")\")","v":""},"","","","","","","","","","","","","",null,"","","","","","","","","","","","","","","","","","","","","","","","","","","","","","","","","","","","","","","","","","",{"$f":"IF(A468=\"\",\"\",MAX(IF(ISERROR(AU468:BF468),0,AU468:BF468)))","v":""},"","","","","","","","","","","","","","","","","","",""]
[{"$f":"IF(ISBLANK('Control Sheet'!D449),\"\",'Control Sheet'!D449)","v":""},{"$f":"IF(ISBLANK('Control Sheet'!E449),\"\",'Control Sheet'!E449&\" (\"&'Control Sheet'!F449&\")\")","v":""},"","","","","","","","","","","","","",null,"",{"$f":"IF(A469=\"\",\"\",OOPEMonthsPop-(COUNTA(C469:N469)-COUNTBLANK(C469:N469)))","v":""},"","","","","","","","","","","","","","","","","","","","","","","","","","","","",{"$f":"IF(OR(A469=\"\",OOPEMonthsPop=0),\"\",IF(AU$18=OOPEMonthsPop,AH469,#N/A))","v":""},{"$f":"IF(OR($A469=\"\",OOPEMonthsPop=0),\"\",IF(AV$18<OOPEMonthsPop,#N/A,IF(AV$18=OOPEMonthsPop,AI469,IF(AU469=\"\",\"\",IF(AV$18=OOPEMonthsPop+1,AU469+(AU469*VLOOKUP(OOPEMonthsPop-$R469,ForecastMult,3,FALSE)/12),AU469+AU469-AT469)))))","v":""},{"$f":"IF(OR($A469=\"\",OOPEMonthsPop=0),\"\",IF(AW$18<OOPEMonthsPop,#N/A,IF(AW$18=OOPEMonthsPop,AJ469,IF(AV469=\"\",\"\",IF(AW$18=OOPEMonthsPop+1,AV469+(AV469*VLOOKUP(OOPEMonthsPop-$R469,ForecastMult,3,FALSE)/12),AV469+AV469-AU469)))))","v":""},{"$f":"IF(OR($A469=\"\",OOPEMonthsPop=0),\"\",IF(AX$18<OOPEMonthsPop,#N/A,IF(AX$18=OOPEMonthsPop,AK469,IF(AW469=\"\",\"\",IF(AX$18=OOPEMonthsPop+1,AW469+(AW469*VLOOKUP(OOPEMonthsPop-$R469,ForecastMult,3,FALSE)/12),AW469+AW469-AV469)))))","v":""},{"$f":"IF(OR($A469=\"\",OOPEMonthsPop=0),\"\",IF(AY$18<OOPEMonthsPop,#N/A,IF(AY$18=OOPEMonthsPop,AL469,IF(AX469=\"\",\"\",IF(AY$18=OOPEMonthsPop+1,AX469+(AX469*VLOOKUP(OOPEMonthsPop-$R469,ForecastMult,3,FALSE)/12),AX469+AX469-AW469)))))","v":""},{"$f":"IF(OR($A469=\"\",OOPEMonthsPop=0),\"\",IF(AZ$18<OOPEMonthsPop,#N/A,IF(AZ$18=OOPEMonthsPop,AM469,IF(AY469=\"\",\"\",IF(AZ$18=OOPEMonthsPop+1,AY469+(AY469*VLOOKUP(OOPEMonthsPop-$R469,ForecastMult,3,FALSE)/12),AY469+AY469-AX469)))))","v":""},{"$f":"IF(OR($A469=\"\",OOPEMonthsPop=0),\"\",IF(BA$18<OOPEMonthsPop,#N/A,IF(BA$18=OOPEMonthsPop,AN469,IF(AZ469=\"\",\"\",IF(BA$18=OOPEMonthsPop+1,AZ469+(AZ469*VLOOKUP(OOPEMonthsPop-$R469,ForecastMult,3,FALSE)/12),AZ469+AZ469-AY469)))))","v":""},{"$f":"IF(OR($A469=\"\",OOPEMonthsPop=0),\"\",IF(BB$18<OOPEMonthsPop,#N/A,IF(BB$18=OOPEMonthsPop,AO469,IF(BA469=\"\",\"\",IF(BB$18=OOPEMonthsPop+1,BA469+(BA469*VLOOKUP(OOPEMonthsPop-$R469,ForecastMult,3,FALSE)/12),BA469+BA469-AZ469)))))","v":""},{"$f":"IF(OR($A469=\"\",OOPEMonthsPop=0),\"\",IF(BC$18<OOPEMonthsPop,#N/A,IF(BC$18=OOPEMonthsPop,AP469,IF(BB469=\"\",\"\",IF(BC$18=OOPEMonthsPop+1,BB469+(BB469*VLOOKUP(OOPEMonthsPop-$R469,ForecastMult,3,FALSE)/12),BB469+BB469-BA469)))))","v":""},{"$f":"IF(OR($A469=\"\",OOPEMonthsPop=0),\"\",IF(BD$18<OOPEMonthsPop,#N/A,IF(BD$18=OOPEMonthsPop,AQ469,IF(BC469=\"\",\"\",IF(BD$18=OOPEMonthsPop+1,BC469+(BC469*VLOOKUP(OOPEMonthsPop-$R469,ForecastMult,3,FALSE)/12),BC469+BC469-BB469)))))","v":""},{"$f":"IF(OR($A469=\"\",OOPEMonthsPop=0),\"\",IF(BE$18<OOPEMonthsPop,#N/A,IF(BE$18=OOPEMonthsPop,AR469,IF(BD469=\"\",\"\",IF(BE$18=OOPEMonthsPop+1,BD469+(BD469*VLOOKUP(OOPEMonthsPop-$R469,ForecastMult,3,FALSE)/12),BD469+BD469-BC469)))))","v":""},{"$f":"IF(OR($A469=\"\",OOPEMonthsPop=0),\"\",IF(BF$18<OOPEMonthsPop,#N/A,IF(BF$18=OOPEMonthsPop,AS469,IF(BE469=\"\",\"\",IF(BF$18=OOPEMonthsPop+1,BE469+(BE469*VLOOKUP(OOPEMonthsPop-$R469,ForecastMult,3,FALSE)/12),BE469+BE469-BD469)))))","v":""},{"$f":"IF(A469=\"\",\"\",MAX(IF(ISERROR(AU469:BF469),0,AU469:BF469)))","v":""},{"$f":"IF(AND(C$18=1,$A469<>\"\"),IF(ISNA(VLOOKUP($A469,INDIRECT(C$20),TOT_STDR_PXS_col,FALSE)),\"\",VLOOKUP($A469,INDIRECT(C$20),TOT_STDR_PXS_col,FALSE)+VLOOKUP($A469,INDIRECT(C$20),TOT_ZDR_PXS_col,FALSE)),\"\")","v":""},{"$f":"IF(AND(D$18=1,$A469<>\"\"),IF(ISNA(VLOOKUP($A469,INDIRECT(D$20),TOT_STDR_PXS_col,FALSE)),\"\",VLOOKUP($A469,INDIRECT(D$20),TOT_STDR_PXS_col,FALSE)+VLOOKUP($A469,INDIRECT(D$20),TOT_ZDR_PXS_col,FALSE)),\"\")","v":""},{"$f":"IF(AND(E$18=1,$A469<>\"\"),IF(ISNA(VLOOKUP($A469,INDIRECT(E$20),TOT_STDR_PXS_col,FALSE)),\"\",VLOOKUP($A469,INDIRECT(E$20),TOT_STDR_PXS_col,FALSE)+VLOOKUP($A469,INDIRECT(E$20),TOT_ZDR_PXS_col,FALSE)),\"\")","v":""},{"$f":"IF(AND(F$18=1,$A469<>\"\"),IF(ISNA(VLOOKUP($A469,INDIRECT(F$20),TOT_STDR_PXS_col,FALSE)),\"\",VLOOKUP($A469,INDIRECT(F$20),TOT_STDR_PXS_col,FALSE)+VLOOKUP($A469,INDIRECT(F$20),TOT_ZDR_PXS_col,FALSE)),\"\")","v":""},{"$f":"IF(AND(G$18=1,$A469<>\"\"),IF(ISNA(VLOOKUP($A469,INDIRECT(G$20),TOT_STDR_PXS_col,FALSE)),\"\",VLOOKUP($A469,INDIRECT(G$20),TOT_STDR_PXS_col,FALSE)+VLOOKUP($A469,INDIRECT(G$20),TOT_ZDR_PXS_col,FALSE)),\"\")","v":""},{"$f":"IF(AND(H$18=1,$A469<>\"\"),IF(ISNA(VLOOKUP($A469,INDIRECT(H$20),TOT_STDR_PXS_col,FALSE)),\"\",VLOOKUP($A469,INDIRECT(H$20),TOT_STDR_PXS_col,FALSE)+VLOOKUP($A469,INDIRECT(H$20),TOT_ZDR_PXS_col,FALSE)),\"\")","v":""},{"$f":"IF(AND(I$18=1,$A469<>\"\"),IF(ISNA(VLOOKUP($A469,INDIRECT(I$20),TOT_STDR_PXS_col,FALSE)),\"\",VLOOKUP($A469,INDIRECT(I$20),TOT_STDR_PXS_col,FALSE)+VLOOKUP($A469,INDIRECT(I$20),TOT_ZDR_PXS_col,FALSE)),\"\")","v":""},{"$f":"IF(AND(J$18=1,$A469<>\"\"),IF(ISNA(VLOOKUP($A469,INDIRECT(J$20),TOT_STDR_PXS_col,FALSE)),\"\",VLOOKUP($A469,INDIRECT(J$20),TOT_STDR_PXS_col,FALSE)+VLOOKUP($A469,INDIRECT(J$20),TOT_ZDR_PXS_col,FALSE)),\"\")","v":""},{"$f":"IF(AND(K$18=1,$A469<>\"\"),IF(ISNA(VLOOKUP($A469,INDIRECT(K$20),TOT_STDR_PXS_col,FALSE)),\"\",VLOOKUP($A469,INDIRECT(K$20),TOT_STDR_PXS_col,FALSE)+VLOOKUP($A469,INDIRECT(K$20),TOT_ZDR_PXS_col,FALSE)),\"\")","v":""},{"$f":"IF(AND(L$18=1,$A469<>\"\"),IF(ISNA(VLOOKUP($A469,INDIRECT(L$20),TOT_STDR_PXS_col,FALSE)),\"\",VLOOKUP($A469,INDIRECT(L$20),TOT_STDR_PXS_col,FALSE)+VLOOKUP($A469,INDIRECT(L$20),TOT_ZDR_PXS_col,FALSE)),\"\")","v":""},{"$f":"IF(AND(M$18=1,$A469<>\"\"),IF(ISNA(VLOOKUP($A469,INDIRECT(M$20),TOT_STDR_PXS_col,FALSE)),\"\",VLOOKUP($A469,INDIRECT(M$20),TOT_STDR_PXS_col,FALSE)+VLOOKUP($A469,INDIRECT(M$20),TOT_ZDR_PXS_col,FALSE)),\"\")","v":""},{"$f":"IF(AND(N$18=1,$A469<>\"\"),IF(ISNA(VLOOKUP($A469,INDIRECT(N$20),TOT_STDR_PXS_col,FALSE)),\"\",VLOOKUP($A469,INDIRECT(N$20),TOT_STDR_PXS_col,FALSE)+VLOOKUP($A469,INDIRECT(N$20),TOT_ZDR_PXS_col,FALSE)),\"\")","v":""},"","","","","","",""]
[{"$f":"IF(ISBLANK('Control Sheet'!D450),\"\",'Control Sheet'!D450)","v":""},{"$f":"IF(ISBLANK('Control Sheet'!E450),\"\",'Control Sheet'!E450&\" (\"&'Control Sheet'!F450&\")\")","v":""},"","","","","","","","","","","","",{"$f":"IF(A470=\"\",\"\",SUM(C470:N470))","v":""},null,{"$f":"IF(A470=\"\",\"\",IF(BG470<=400,\"No\",\"Yes\"))","v":""},"",{"$f":"IF(C470=\"\",\"\",IF(C470<=C$10,1,IF(C470<=C$7,2,IF(C470<=C$8,3,IF(C470<=C$9,4,IF(C470<=C$11,5,60))))))","v":""},{"$f":"IF(D470=\"\",\"\",IF(D470<=D$10,1,IF(D470<=D$7,2,IF(D470<=D$8,3,IF(D470<=D$9,4,IF(D470<=D$11,5,60))))))","v":""},{"$f":"IF(E470=\"\",\"\",IF(E470<=E$10,1,IF(E470<=E$7,2,IF(E470<=E$8,3,IF(E470<=E$9,4,IF(E470<=E$11,5,60))))))","v":""},{"$f":"IF(F470=\"\",\"\",IF(F470<=F$10,1,IF(F470<=F$7,2,IF(F470<=F$8,3,IF(F470<=F$9,4,IF(F470<=F$11,5,60))))))","v":""},{"$f":"IF(G470=\"\",\"\",IF(G470<=G$10,1,IF(G470<=G$7,2,IF(G470<=G$8,3,IF(G470<=G$9,4,IF(G470<=G$11,5,60))))))","v":""},{"$f":"IF(H470=\"\",\"\",IF(H470<=H$10,1,IF(H470<=H$7,2,IF(H470<=H$8,3,IF(H470<=H$9,4,IF(H470<=H$11,5,60))))))","v":""},{"$f":"IF(I470=\"\",\"\",IF(I470<=I$10,1,IF(I470<=I$7,2,IF(I470<=I$8,3,IF(I470<=I$9,4,IF(I470<=I$11,5,60))))))","v":""},{"$f":"IF(J470=\"\",\"\",IF(J470<=J$10,1,IF(J470<=J$7,2,IF(J470<=J$8,3,IF(J470<=J$9,4,IF(J470<=J$11,5,60))))))","v":""},{"$f":"IF(K470=\"\",\"\",IF(K470<=K$10,1,IF(K470<=K$7,2,IF(K470<=K$8,3,IF(K470<=K$9,4,IF(K470<=K$11,5,60))))))","v":""},{"$f":"IF(L470=\"\",\"\",IF(L470<=L$10,1,IF(L470<=L$7,2,IF(L470<=L$8,3,IF(L470<=L$9,4,IF(L470<=L$11,5,60))))))","v":""},{"$f":"IF(M470=\"\",\"\",IF(M470<=M$10,1,IF(M470<=M$7,2,IF(M470<=M$8,3,IF(M470<=M$9,4,IF(M470<=M$11,5,60))))))","v":""},{"$f":"IF(N470=\"\",\"\",IF(N470<=N$10,1,IF(N470<=N$7,2,IF(N470<=N$8,3,IF(N470<=N$9,4,IF(N470<=N$11,5,60))))))","v":""},{"$f":"IF(A470=\"\",\"\",SUM(S470:AD470))","v":""},"",{"$f":"IF(AF470=\"\",\"\",IF(AF470<=1,\"Lower Outlier\",IF(AF470<=2,\"Below Average\",IF(AF470<=3,\"Lower Quartile\",IF(AF470<=4,\"Upper Quartile\",IF(AF470<=5, \"Above Average\", \"Upper Outlier\"))))))","v":""},{"$f":"IF(C$18=1,C470,\"\")","v":""},{"$f":"IF(D$18=1,IF(D470=\"\",IF(AH470=\"\",\"\",AH470),IF(AND(D470>=0,AH470=\"\"),D470,IF(ISERROR(D470+AH470),#N/A,D470+AH470))),\"\")","v":""},{"$f":"IF(E$18=1,IF(E470=\"\",IF(AI470=\"\",\"\",AI470),IF(AND(E470>=0,AI470=\"\"),E470,IF(ISERROR(E470+AI470),#N/A,E470+AI470))),\"\")","v":""},{"$f":"IF(F$18=1,IF(F470=\"\",IF(AJ470=\"\",\"\",AJ470),IF(AND(F470>=0,AJ470=\"\"),F470,IF(ISERROR(F470+AJ470),#N/A,F470+AJ470))),\"\")","v":""},{"$f":"IF(G$18=1,IF(G470=\"\",IF(AK470=\"\",\"\",AK470),IF(AND(G470>=0,AK470=\"\"),G470,IF(ISERROR(G470+AK470),#N/A,G470+AK470))),\"\")","v":""},{"$f":"IF(H$18=1,IF(H470=\"\",IF(AL470=\"\",\"\",AL470),IF(AND(H470>=0,AL470=\"\"),H470,IF(ISERROR(H470+AL470),#N/A,H470+AL470))),\"\")","v":""},{"$f":"IF(I$18=1,IF(I470=\"\",IF(AM470=\"\",\"\",AM470),IF(AND(I470>=0,AM470=\"\"),I470,IF(ISERROR(I470+AM470),#N/A,I470+AM470))),\"\")","v":""},{"$f":"IF(J$18=1,IF(J470=\"\",IF(AN470=\"\",\"\",AN470),IF(AND(J470>=0,AN470=\"\"),J470,IF(ISERROR(J470+AN470),#N/A,J470+AN470))),\"\")","v":""},{"$f":"IF(K$18=1,IF(K470=\"\",IF(AO470=\"\",\"\",AO470),IF(AND(K470>=0,AO470=\"\"),K470,IF(ISERROR(K470+AO470),#N/A,K470+AO470))),\"\")","v":""},{"$f":"IF(L$18=1,IF(L470=\"\",IF(AP470=\"\",\"\",AP470),IF(AND(L470>=0,AP470=\"\"),L470,IF(ISERROR(L470+AP470),#N/A,L470+AP470))),\"\")","v":""},{"$f":"IF(M$18=1,IF(M470=\"\",IF(AQ470=\"\",\"\",AQ470),IF(AND(M470>=0,AQ470=\"\"),M470,IF(ISERROR(M470+AQ470),#N/A,M470+AQ470))),\"\")","v":""},{"$f":"IF(N$18=1,IF(N470=\"\",IF(AR470=\"\",\"\",AR470),IF(AND(N470>=0,AR470=\"\"),N470,IF(ISERROR(N470+AR470),#N/A,N470+AR470))),\"\")","v":""},{"$f":"IF(A470=\"\",\"\",MAX(AH470:AS470))","v":""},"","","","","","","","","","","","",{"$f":"IF(A470=\"\",\"\",MAX(IF(ISERROR(AU470:BF470),0,AU470:BF470)))","v":""},"","","","","","","","","","","","",{"$f":"IF(A470=\"\",\"\",SUM(BH470:BS470))","v":""},{"$f":"IF(A470=\"\",\"\",MIN(B470:M470))","v":""},{"$f":"IF(A470=\"\",\"\",MAX(B470:M470))","v":""},{"$f":"IF(A470=\"\",\"\",IF(BV470-BU470=0,\"\",BV470-BU470))","v":""},{"$f":"IF(A470=\"\",\"\",IF(BW470=\"\",\"No\",IF(BW470>$BW$11,\"Yes\",\"No\")))","v":""},{"$f":"IF(A470=\"\",\"\",(COUNTA(C470:N470)-COUNTBLANK(C470:N470)))","v":""},{"$f":"IF(A470=\"\",\"\",BY470-COUNTIF(C470:N470,\"=0\"))","v":""}]
[{"$f":"IF(ISBLANK('Control Sheet'!D451),\"\",'Control Sheet'!D451)","v":""},{"$f":"IF(ISBLANK('Control Sheet'!E451),\"\",'Control Sheet'!E451&\" (\"&'Control Sheet'!F451&\")\")","v":""},{"$f":"IF(C$18=1,IF(ISNA(VLOOKUP($A471,INDIRECT(C$20),OOPE_col,FALSE)),\"\",VLOOKUP($A471,INDIRECT(C$20),OOPE_col,FALSE)),\"\")","v":""},"","","","","","","","","","","","",null,"","","","","","","","","","","","","","","","","","","","","","","","","","","","","","","","","","","","","","","","","","",{"$f":"IF(A471=\"\",\"\",MAX(IF(ISERROR(AU471:BF471),0,AU471:BF471)))","v":""},"","","","","","","","","","","","","","","","","","",""]
[{"$f":"IF(ISBLANK('Control Sheet'!D452),\"\",'Control Sheet'!D452)","v":""},{"$f":"IF(ISBLANK('Control Sheet'!E452),\"\",'Control Sheet'!E452&\" (\"&'Control Sheet'!F452&\")\")","v":""},"","","","","","","","","","","","","",null,"","","","","","","","","","","","","","","","","","","","","","","","","","","","","","","","","","","","","","","","","","",{"$f":"IF(A472=\"\",\"\",MAX(IF(ISERROR(AU472:BF472),0,AU472:BF472)))","v":""},"","","","","","","","","","","","","","","","","","",""]
[{"$f":"IF(ISBLANK('Control Sheet'!D453),\"\",'Control Sheet'!D453)","v":""},{"$f":"IF(ISBLANK('Control Sheet'!E453),\"\",'Control Sheet'!E453&\" (\"&'Control Sheet'!F453&\")\")","v":""},"","","","","","","","","","","","","",null,"","","","","","","","","","","","","","","","","","","","","","","","","","","","","","","","","","","","","","","","","","",{"$f":"IF(A473=\"\",\"\",MAX(IF(ISERROR(AU473:BF473),0,AU473:BF473)))","v":""},"","","","","","","","","","","","","","","","","","",""]
[{"$f":"IF(ISBLANK('Control Sheet'!D454),\"\",'Control Sheet'!D454)","v":""},{"$f":"IF(ISBLANK('Control Sheet'!E454),\"\",'Control Sheet'!E454&\" (\"&'Control Sheet'!F454&\")\")","v":""},"","","","","","","","","","","","","",null,"","","","","","","","","","","","","","","","","","","","","","","","","","","","","","","","","","","","","","","","","","",{"$f":"IF(A474=\"\",\"\",MAX(IF(ISERROR(AU474:BF474),0,AU474:BF474)))","v":""},"","","","","","","","","","","","","","","","","","",""]
[{"$f":"IF(ISBLANK('Control Sheet'!D455),\"\",'Control Sheet'!D455)","v":""},{"$f":"IF(ISBLANK('Control Sheet'!E455),\"\",'Control Sheet'!E455&\" (\"&'Control Sheet'!F455&\")\")","v":""},"","","","","","","","","","","","","",null,"","","","","","","","","","","","","","","","","","","","","","","","","","","","","","","","","","","","","","","","","","",{"$f":"IF(A475=\"\",\"\",MAX(IF(ISERROR(AU475:BF475),0,AU475:BF475)))","v":""},"","","","","","","","","","","","","","","","","","",""]
[{"$f":"IF(ISBLANK('Control Sheet'!D456),\"\",'Control Sheet'!D456)","v":""},{"$f":"IF(ISBLANK('Control Sheet'!E456),\"\",'Control Sheet'!E456&\" (\"&'Control Sheet'!F456&\")\")","v":""},"","","","","","","","","","","","","",null,"","","","","","","","","","","","","","","","","","","","","","","","","","","","","","","","","","","","","","","","","","",{"$f":"IF(A476=\"\",\"\",MAX(IF(ISERROR(AU476:BF476),0,AU476:BF476)))","v":""},"","","","","","","","","","","","","","","","","","",""]
[{"$f":"IF(ISBLANK('Control Sheet'!D457),\"\",'Control Sheet'!D457)","v":""},{"$f":"IF(ISBLANK('Control Sheet'!E457),\"\",'Control Sheet'!E457&\" (\"&'Control Sheet'!F457&\")\")","v":""},"","","","","","","","","","","","","",null,"","","","","","","","","","","","","","","","","","","","","","","","","","","","","","","","","","","","","","","","","","",{"$f":"IF(A477=\"\",\"\",MAX(IF(ISERROR(AU477:BF477),0,AU477:BF477)))","v":""},"","","","","","","","","","","","","","","","","","",""]
[{"$f":"IF(ISBLANK('Control Sheet'!D458),\"\",'Control Sheet'!D458)","v":""},{"$f":"IF(ISBLANK('Control Sheet'!E458),\"\",'Control Sheet'!E458&\" (\"&'Control Sheet'!F458&\")\")","v":""},"","","","","","","","","","","","","",null,"","","","","","","","","","","","","","","","","","","","","","","","","","","","","","","","","","","","","","","","","","",{"$f":"IF(A478=\"\",\"\",MAX(IF(ISERROR(AU478:BF478),0,AU478:BF478)))","v":""},"","","","","","","","","","","","","","","","","","",""]
[{"$f":"IF(ISBLANK('Control Sheet'!D459),\"\",'Control Sheet'!D459)","v":""},{"$f":"IF(ISBLANK('Control Sheet'!E459),\"\",'Control Sheet'!E459&\" (\"&'Control Sheet'!F459&\")\")","v":""},"","","","","","","","","","","","","",null,"","","","","","","","","","","","","","","","","","","","","","","","","","","","","","","","","","","","","","","","","","",{"$f":"IF(A479=\"\",\"\",MAX(IF(ISERROR(AU479:BF479),0,AU479:BF479)))","v":""},"","","","","","","","","","","","","","","","","","",""]
[{"$f":"IF(ISBLANK('Control Sheet'!D460),\"\",'Control Sheet'!D460)","v":""},{"$f":"IF(ISBLANK('Control Sheet'!E460),\"\",'Control Sheet'!E460&\" (\"&'Control Sheet'!F460&\")\")","v":""},"","","","","","","","","","","","","",null,"","","","","","","","","","","","","","","","","","","","","","","","","","","","","","","","","","","","","","","","","","",{"$f":"IF(A480=\"\",\"\",MAX(IF(ISERROR(AU480:BF480),0,AU480:BF480)))","v":""},"","","","","","","","","","","","","","","","","","",""]
[{"$f":"IF(ISBLANK('Control Sheet'!D461),\"\",'Control Sheet'!D461)","v":""},{"$f":"IF(ISBLANK('Control Sheet'!E461),\"\",'Control Sheet'!E461&\" (\"&'Control Sheet'!F461&\")\")","v":""},{"$f":"IF(C$18=1,IF(ISNA(VLOOKUP($A481,INDIRECT(C$20),OOPE_col,FALSE)),\"\",VLOOKUP($A481,INDIRECT(C$20),OOPE_col,FALSE)),\"\")","v":""},"","","","","","","","","","","","",null,"","","","","","","","","","","","","","","","","","","","","","","","","","","","","","","","","","","","","","","","","","",{"$f":"IF(A481=\"\",\"\",MAX(IF(ISERROR(AU481:BF481),0,AU481:BF481)))","v":""},"","","","","","","","","","","","","","","","","","",""]
[{"$f":"IF(ISBLANK('Control Sheet'!D462),\"\",'Control Sheet'!D462)","v":""},{"$f":"IF(ISBLANK('Control Sheet'!E462),\"\",'Control Sheet'!E462&\" (\"&'Control Sheet'!F462&\")\")","v":""},"","","","","","","","","","","","","",null,"","","","","","","","","","","","","","","","","","","","","","","","","","","","","","","","","","","","","","","","","","",{"$f":"IF(A482=\"\",\"\",MAX(IF(ISERROR(AU482:BF482),0,AU482:BF482)))","v":""},"","","","","","","","","","","","","","","","","","",""]
[{"$f":"IF(ISBLANK('Control Sheet'!D463),\"\",'Control Sheet'!D463)","v":""},{"$f":"IF(ISBLANK('Control Sheet'!E463),\"\",'Control Sheet'!E463&\" (\"&'Control Sheet'!F463&\")\")","v":""},"","","","","","","","","","","","","",null,"","","","","","","","","","","","","","","","","","","","","","","","","","","","","","","","","","","","","","","","","","",{"$f":"IF(A483=\"\",\"\",MAX(IF(ISERROR(AU483:BF483),0,AU483:BF483)))","v":""},"","","","","","","","","","","","","","","","","","",""]
[{"$f":"IF(ISBLANK('Control Sheet'!D464),\"\",'Control Sheet'!D464)","v":""},{"$f":"IF(ISBLANK('Control Sheet'!E464),\"\",'Control Sheet'!E464&\" (\"&'Control Sheet'!F464&\")\")","v":""},"","","","","","","","","","","","","",null,"","","","","","","","","","","","","","","","","","","","","","","","","","","","","","","","","","","","","","","","","","",{"$f":"IF(A484=\"\",\"\",MAX(IF(ISERROR(AU484:BF484),0,AU484:BF484)))","v":""},"","","","","","","","","","","","","","","","","","",""]
[{"$f":"IF(ISBLANK('Control Sheet'!D465),\"\",'Control Sheet'!D465)","v":""},{"$f":"IF(ISBLANK('Control Sheet'!E465),\"\",'Control Sheet'!E465&\" (\"&'Control Sheet'!F465&\")\")","v":""},"","","","","","","","","","","","","",null,"","","","","","","","","","","","","","","","","","","","","","","","","","","","","","","","","","","","","","","","","","",{"$f":"IF(A485=\"\",\"\",MAX(IF(ISERROR(AU485:BF485),0,AU485:BF485)))","v":""},"","","","","","","","","","","","","","","","","","",""]
[{"$f":"IF(ISBLANK('Control Sheet'!D466),\"\",'Control Sheet'!D466)","v":""},{"$f":"IF(ISBLANK('Control Sheet'!E466),\"\",'Control Sheet'!E466&\" (\"&'Control Sheet'!F466&\")\")","v":""},"","","","","","","","","","","","","",null,"","","","","","","","","","","","","","","","","","","","","","","","","","","","","","","","","","","","","","","","","","",{"$f":"IF(A486=\"\",\"\",MAX(IF(ISERROR(AU486:BF486),0,AU486:BF486)))","v":""},"","","","","","","","","","","","","","","","","","",""]
[{"$f":"IF(ISBLANK('Control Sheet'!D467),\"\",'Control Sheet'!D467)","v":""},{"$f":"IF(ISBLANK('Control Sheet'!E467),\"\",'Control Sheet'!E467&\" (\"&'Control Sheet'!F467&\")\")","v":""},"","","","","","","","","","","","","",null,"","","","","","","","","","","","","","","","","","","","","","","","","","","","","","","","","","","","","","","","","","",{"$f":"IF(A487=\"\",\"\",MAX(IF(ISERROR(AU487:BF487),0,AU487:BF487)))","v":""},"","","","","","","","","","","","","","","","","","",""]
[{"$f":"IF(ISBLANK('Control Sheet'!D468),\"\",'Control Sheet'!D468)","v":""},{"$f":"IF(ISBLANK('Control Sheet'!E468),\"\",'Control Sheet'!E468&\" (\"&'Control Sheet'!F468&\")\")","v":""},"","","","","","","","","","","","","",null,"","","","","","","","","","","","","","","","","","","","","","","","","","","","","","","","","","","","","","","","","","",{"$f":"IF(A488=\"\",\"\",MAX(IF(ISERROR(AU488:BF488),0,AU488:BF488)))","v":""},"","","","","","","","","","","","","","","","","","",""]
[{"$f":"IF(ISBLANK('Control Sheet'!D469),\"\",'Control Sheet'!D469)","v":""},{"$f":"IF(ISBLANK('Control Sheet'!E469),\"\",'Control Sheet'!E469&\" (\"&'Control Sheet'!F469&\")\")","v":""},"","","","","","","","","","","","","",null,"","","","","","","","","","","","","","","","","","","","","","","","","","","","","","","","","","","","","","","","","","",{"$f":"IF(A489=\"\",\"\",MAX(IF(ISERROR(AU489:BF489),0,AU489:BF489)))","v":""},"","","","","","","","","","","","","","","","","","",""]
[{"$f":"IF(ISBLANK('Control Sheet'!D470),\"\",'Control Sheet'!D470)","v":""},{"$f":"IF(ISBLANK('Control Sheet'!E470),\"\",'Control Sheet'!E470&\" (\"&'Control Sheet'!F470&\")\")","v":""},"","","","","","","","","","","","","",null,"","","","","","","","","","","","","","","","","","","","","","","","","","","","","","","","","","","","","","","","","","",{"$f":"IF(A490=\"\",\"\",MAX(IF(ISERROR(AU490:BF490),0,AU490:BF490)))","v":""},"","","","","","","","","","","","","","","","","","",""]
[{"$f":"IF(ISBLANK('Control Sheet'!D471),\"\",'Control Sheet'!D471)","v":""},{"$f":"IF(ISBLANK('Control Sheet'!E471),\"\",'Control Sheet'!E471&\" (\"&'Control Sheet'!F471&\")\")","v":""},{"$f":"IF(C$18=1,IF(ISNA(VLOOKUP($A491,INDIRECT(C$20),OOPE_col,FALSE)),\"\",VLOOKUP($A491,INDIRECT(C$20),OOPE_col,FALSE)),\"\")","v":""},"","","","","","","","","","","","",null,"","","","","","","","","","","","","","","","","","","","","","","","","","","","","","","","","","","","","","","","","","",{"$f":"IF(A491=\"\",\"\",MAX(IF(ISERROR(AU491:BF491),0,AU491:BF491)))","v":""},"","","","","","","","","","","","","","","","","","",""]
[{"$f":"IF(ISBLANK('Control Sheet'!D472),\"\",'Control Sheet'!D472)","v":""},{"$f":"IF(ISBLANK('Control Sheet'!E472),\"\",'Control Sheet'!E472&\" (\"&'Control Sheet'!F472&\")\")","v":""},"","","","","","","","","","","","","",null,"","","","","","","","","","","","","","","","","","","","","","","","","","","","","","","","","","","","","","","","","","",{"$f":"IF(A492=\"\",\"\",MAX(IF(ISERROR(AU492:BF492),0,AU492:BF492)))","v":""},"","","","","","","","","","","","","","","","","","",""]
[{"$f":"IF(ISBLANK('Control Sheet'!D473),\"\",'Control Sheet'!D473)","v":""},{"$f":"IF(ISBLANK('Control Sheet'!E473),\"\",'Control Sheet'!E473&\" (\"&'Control Sheet'!F473&\")\")","v":""},"","","","","","","","","","","","","",null,"","","","","","","","","","","","","","","","","","","","","","","","","","","","","","","","","","","","","","","","","","",{"$f":"IF(A493=\"\",\"\",MAX(IF(ISERROR(AU493:BF493),0,AU493:BF493)))","v":""},"","","","","","","","","","","","","","","","","","",""]
[{"$f":"IF(ISBLANK('Control Sheet'!D474),\"\",'Control Sheet'!D474)","v":""},{"$f":"IF(ISBLANK('Control Sheet'!E474),\"\",'Control Sheet'!E474&\" (\"&'Control Sheet'!F474&\")\")","v":""},"","","","","","","","","","","","","",null,"","","","","","","","","","","","","","","","","","","","","","","","","","","","","","","","","","","","","","","","","","",{"$f":"IF(A494=\"\",\"\",MAX(IF(ISERROR(AU494:BF494),0,AU494:BF494)))","v":""},"","","","","","","","","","","","","","","","","","",""]
[{"$f":"IF(ISBLANK('Control Sheet'!D475),\"\",'Control Sheet'!D475)","v":""},{"$f":"IF(ISBLANK('Control Sheet'!E475),\"\",'Control Sheet'!E475&\" (\"&'Control Sheet'!F475&\")\")","v":""},"","","","","","","","","","","","","",null,"","","","","","","","","","","","","","","","","","","","","","","","","","","","","","","","","","","","","","","","","","",{"$f":"IF(A495=\"\",\"\",MAX(IF(ISERROR(AU495:BF495),0,AU495:BF495)))","v":""},"","","","","","","","","","","","","","","","","","",""]
[{"$f":"IF(ISBLANK('Control Sheet'!D476),\"\",'Control Sheet'!D476)","v":""},{"$f":"IF(ISBLANK('Control Sheet'!E476),\"\",'Control Sheet'!E476&\" (\"&'Control Sheet'!F476&\")\")","v":""},"","","","","","","","","","","","","",null,"","","","","","","","","","","","","","","","","","","","","","","","","","","","","","","","","","","","","","","","","","",{"$f":"IF(A496=\"\",\"\",MAX(IF(ISERROR(AU496:BF496),0,AU496:BF496)))","v":""},"","","","","","","","","","","","","","","","","","",""]
[{"$f":"IF(ISBLANK('Control Sheet'!D477),\"\",'Control Sheet'!D477)","v":""},{"$f":"IF(ISBLANK('Control Sheet'!E477),\"\",'Control Sheet'!E477&\" (\"&'Control Sheet'!F477&\")\")","v":""},"","","","","","","","","","","","","",null,"","","","","","","","","","","","","","","","","","","","","","","","","","","","","","","","","","","","","","","","","","",{"$f":"IF(A497=\"\",\"\",MAX(IF(ISERROR(AU497:BF497),0,AU497:BF497)))","v":""},"","","","","","","","","","","","","","","","","","",""]
[{"$f":"IF(ISBLANK('Control Sheet'!D478),\"\",'Control Sheet'!D478)","v":""},{"$f":"IF(ISBLANK('Control Sheet'!E478),\"\",'Control Sheet'!E478&\" (\"&'Control Sheet'!F478&\")\")","v":""},"","","","","","","","","","","","","",null,"","","","","","","","","","","","","","","","","","","","","","","","","","","","","","","","","","","","","","","","","","",{"$f":"IF(A498=\"\",\"\",MAX(IF(ISERROR(AU498:BF498),0,AU498:BF498)))","v":""},"","","","","","","","","","","","","","","","","","",""]
[{"$f":"IF(ISBLANK('Control Sheet'!D479),\"\",'Control Sheet'!D479)","v":""},{"$f":"IF(ISBLANK('Control Sheet'!E479),\"\",'Control Sheet'!E479&\" (\"&'Control Sheet'!F479&\")\")","v":""},"","","","","","","","","","","","","",null,"","","","","","","","","","","","","","","","","","","","","","","","","","","","","","","","","","","","","","","","","","",{"$f":"IF(A499=\"\",\"\",MAX(IF(ISERROR(AU499:BF499),0,AU499:BF499)))","v":""},"","","","","","","","","","","","","","","","","","",""]
[{"$f":"IF(ISBLANK('Control Sheet'!D480),\"\",'Control Sheet'!D480)","v":""},{"$f":"IF(ISBLANK('Control Sheet'!E480),\"\",'Control Sheet'!E480&\" (\"&'Control Sheet'!F480&\")\")","v":""},"","","","","","","","","","","","","",null,"","","","","","","","","","","","","","","",{"$f":"IF(OR(A500=\"\",AE500=0),\"\",AE500/(O$18-R342))","v":""},"","","","","","","","","","","","","","","","","","","","","","","","","","",{"$f":"IF(A500=\"\",\"\",MAX(IF(ISERROR(AU500:BF500),0,AU500:BF500)))","v":""},"","","","","","","","","","","","","","","","","","",""]
[{"$f":"IF(ISBLANK('Control Sheet'!D481),\"\",'Control Sheet'!D481)","v":""},{"$f":"IF(ISBLANK('Control Sheet'!E481),\"\",'Control Sheet'!E481&\" (\"&'Control Sheet'!F481&\")\")","v":""},{"$f":"IF(C$18=1,IF(ISNA(VLOOKUP($A501,INDIRECT(C$20),OOPE_col,FALSE)),\"\",VLOOKUP($A501,INDIRECT(C$20),OOPE_col,FALSE)),\"\")","v":""},"","","","","","","","","","","","",null,"","","","","","","","","","","","","","","","","","","","","","","","","","","","","","","","","","","","","","","","","","",{"$f":"IF(A501=\"\",\"\",MAX(IF(ISERROR(AU501:BF501),0,AU501:BF501)))","v":""},"","","","","","","","","","","","","","","","","","",""]
[{"$f":"IF(ISBLANK('Control Sheet'!D482),\"\",'Control Sheet'!D482)","v":""},{"$f":"IF(ISBLANK('Control Sheet'!E482),\"\",'Control Sheet'!E482&\" (\"&'Control Sheet'!F482&\")\")","v":""},"","","","","","","","","","","","","",null,"","","","","","","","","","","","","","","","","","","","","","","","","","","","","","","","","","","","","","","","","","",{"$f":"IF(A502=\"\",\"\",MAX(IF(ISERROR(AU502:BF502),0,AU502:BF502)))","v":""},"","","","","","","","","","","","","","","","","","",""]
[{"$f":"IF(ISBLANK('Control Sheet'!D483),\"\",'Control Sheet'!D483)","v":""},{"$f":"IF(ISBLANK('Control Sheet'!E483),\"\",'Control Sheet'!E483&\" (\"&'Control Sheet'!F483&\")\")","v":""},"","","","","","","","","","","","","",null,"","","","","","","","","","","","","","","","","","","","","","","","","","","","","","","","","","","","","","","","","","",{"$f":"IF(A503=\"\",\"\",MAX(IF(ISERROR(AU503:BF503),0,AU503:BF503)))","v":""},"","","","","","","","","","","","","","","","","","",""]
[{"$f":"IF(ISBLANK('Control Sheet'!D484),\"\",'Control Sheet'!D484)","v":""},{"$f":"IF(ISBLANK('Control Sheet'!E484),\"\",'Control Sheet'!E484&\" (\"&'Control Sheet'!F484&\")\")","v":""},"","","","","","","","","","","","","",null,"","","","","","","","","","","","","","","","","","","","","","","","","","","","","","","","","","","","","","","","","","",{"$f":"IF(A504=\"\",\"\",MAX(IF(ISERROR(AU504:BF504),0,AU504:BF504)))","v":""},"","","","","","","","","","","","","","","","","","",""]
[{"$f":"IF(ISBLANK('Control Sheet'!D485),\"\",'Control Sheet'!D485)","v":""},{"$f":"IF(ISBLANK('Control Sheet'!E485),\"\",'Control Sheet'!E485&\" (\"&'Control Sheet'!F485&\")\")","v":""},"","","","","","","","","","","","","",null,"","","","","","","","","","","","","","","","","","","","","","","","","","","","","","","","","","","","","","","","","","",{"$f":"IF(A505=\"\",\"\",MAX(IF(ISERROR(AU505:BF505),0,AU505:BF505)))","v":""},"","","","","","","","","","","","","","","","","","",""]
[{"$f":"IF(ISBLANK('Control Sheet'!D486),\"\",'Control Sheet'!D486)","v":""},{"$f":"IF(ISBLANK('Control Sheet'!E486),\"\",'Control Sheet'!E486&\" (\"&'Control Sheet'!F486&\")\")","v":""},"","","","","","","","","","","","","",null,"","","","","","","","","","","","","","","","","","","","","","","","","","","","","","","","","","","","","","","","","","",{"$f":"IF(A506=\"\",\"\",MAX(IF(ISERROR(AU506:BF506),0,AU506:BF506)))","v":""},"","","","","","","","","","","","","","","","","","",""]
[{"$f":"IF(ISBLANK('Control Sheet'!D487),\"\",'Control Sheet'!D487)","v":""},{"$f":"IF(ISBLANK('Control Sheet'!E487),\"\",'Control Sheet'!E487&\" (\"&'Control Sheet'!F487&\")\")","v":""},"","","","","","","","","","","","","",null,"","","","","","","","","","","","","","","","","","","","","","","","","","","","","","","","","","","","","","","","","","",{"$f":"IF(A507=\"\",\"\",MAX(IF(ISERROR(AU507:BF507),0,AU507:BF507)))","v":""},"","","","","","","","","","","","","","","","","","",""]
[{"$f":"IF(ISBLANK('Control Sheet'!D488),\"\",'Control Sheet'!D488)","v":""},{"$f":"IF(ISBLANK('Control Sheet'!E488),\"\",'Control Sheet'!E488&\" (\"&'Control Sheet'!F488&\")\")","v":""},"","","","","","","","","","","","","",null,"","","","","","","","","","","","","","","","","","","","","","","","","","","","","","","","","","","","","","","","","","",{"$f":"IF(A508=\"\",\"\",MAX(IF(ISERROR(AU508:BF508),0,AU508:BF508)))","v":""},"","","","","","","","","","","","","","","","","","",""]
[{"$f":"IF(ISBLANK('Control Sheet'!D489),\"\",'Control Sheet'!D489)","v":""},{"$f":"IF(ISBLANK('Control Sheet'!E489),\"\",'Control Sheet'!E489&\" (\"&'Control Sheet'!F489&\")\")","v":""},"","","","","","","","","","","","","",null,"","","","","","","","","","","","","","","","","","","","","","","","","","","","","","","","","","","","","","","","","","",{"$f":"IF(A509=\"\",\"\",MAX(IF(ISERROR(AU509:BF509),0,AU509:BF509)))","v":""},"","","","","","","","","","","","","","","","","","",""]
[{"$f":"IF(ISBLANK('Control Sheet'!D490),\"\",'Control Sheet'!D490)","v":""},{"$f":"IF(ISBLANK('Control Sheet'!E490),\"\",'Control Sheet'!E490&\" (\"&'Control Sheet'!F490&\")\")","v":""},"","","","","","","","","","","","","",null,"","","","","","","","","","","","","","","","","","","","","","","","","","","","","","","","","","","","","","","","","","",{"$f":"IF(A510=\"\",\"\",MAX(IF(ISERROR(AU510:BF510),0,AU510:BF510)))","v":""},"","","","","","","","","","","","","","","","","","",""]
[{"$f":"IF(ISBLANK('Control Sheet'!D491),\"\",'Control Sheet'!D491)","v":""},{"$f":"IF(ISBLANK('Control Sheet'!E491),\"\",'Control Sheet'!E491&\" (\"&'Control Sheet'!F491&\")\")","v":""},{"$f":"IF(C$18=1,IF(ISNA(VLOOKUP($A511,INDIRECT(C$20),OOPE_col,FALSE)),\"\",VLOOKUP($A511,INDIRECT(C$20),OOPE_col,FALSE)),\"\")","v":""},"","","","","","","","","","","","",null,"","","","","","","","","","","","","","","","","","","","","","","","","","","","","","","","","","","","","","","","","","",{"$f":"IF(A511=\"\",\"\",MAX(IF(ISERROR(AU511:BF511),0,AU511:BF511)))","v":""},"","","","","","","","","","","","","","","","","","",""]
[{"$f":"IF(ISBLANK('Control Sheet'!D492),\"\",'Control Sheet'!D492)","v":""},{"$f":"IF(ISBLANK('Control Sheet'!E492),\"\",'Control Sheet'!E492&\" (\"&'Control Sheet'!F492&\")\")","v":""},"","","","","","","","","","","","","",null,"","","","","","","","","","","","","","","","","","","","","","","","","","","","","","","","","","","","","","","","","","",{"$f":"IF(A512=\"\",\"\",MAX(IF(ISERROR(AU512:BF512),0,AU512:BF512)))","v":""},"","","","","","","","","","","","","","","","","","",""]
[{"$f":"IF(ISBLANK('Control Sheet'!D493),\"\",'Control Sheet'!D493)","v":""},{"$f":"IF(ISBLANK('Control Sheet'!E493),\"\",'Control Sheet'!E493&\" (\"&'Control Sheet'!F493&\")\")","v":""},"","","","","","","","","","","","","",null,"","","","","","","","","","","","","","","","","","","","","","","","","","","","","","","","","","","","","","","","","","",{"$f":"IF(A513=\"\",\"\",MAX(IF(ISERROR(AU513:BF513),0,AU513:BF513)))","v":""},"","","","","","","","","","","","","","","","","","",""]
[{"$f":"IF(ISBLANK('Control Sheet'!D494),\"\",'Control Sheet'!D494)","v":""},{"$f":"IF(ISBLANK('Control Sheet'!E494),\"\",'Control Sheet'!E494&\" (\"&'Control Sheet'!F494&\")\")","v":""},"","","","","","","","","","","","","",null,"","","","","","","","","","","","","","","","","","","","","","","","","","","","","","","","","","","","","","","","","","",{"$f":"IF(A514=\"\",\"\",MAX(IF(ISERROR(AU514:BF514),0,AU514:BF514)))","v":""},"","","","","","","","","","","","","","","","","","",""]
[{"$f":"IF(ISBLANK('Control Sheet'!D495),\"\",'Control Sheet'!D495)","v":""},{"$f":"IF(ISBLANK('Control Sheet'!E495),\"\",'Control Sheet'!E495&\" (\"&'Control Sheet'!F495&\")\")","v":""},"","","","","","","","","","","","","",null,"","","","","","","","","","","","","","","","","","","","","","","","","","","","","","","","","","","","","","","","","","",{"$f":"IF(A515=\"\",\"\",MAX(IF(ISERROR(AU515:BF515),0,AU515:BF515)))","v":""},"","","","","","","","","","","","","","","","","","",""]
[{"$f":"IF(ISBLANK('Control Sheet'!D496),\"\",'Control Sheet'!D496)","v":""},{"$f":"IF(ISBLANK('Control Sheet'!E496),\"\",'Control Sheet'!E496&\" (\"&'Control Sheet'!F496&\")\")","v":""},"","","","","","","","","","","","","",null,"","","","","","","","","","","","","","","","","","","","","","","","","","","","","","","","","","","","","","","","","","",{"$f":"IF(A516=\"\",\"\",MAX(IF(ISERROR(AU516:BF516),0,AU516:BF516)))","v":""},"","","","","","","","","","","","","","","","","","",""]
[{"$f":"IF(ISBLANK('Control Sheet'!D497),\"\",'Control Sheet'!D497)","v":""},{"$f":"IF(ISBLANK('Control Sheet'!E497),\"\",'Control Sheet'!E497&\" (\"&'Control Sheet'!F497&\")\")","v":""},"","","","","","","","","","","","","",null,"","","","","","","","","","","","","","","","","","","","","","","","","","","","","","","","","","","","","","","","","","",{"$f":"IF(A517=\"\",\"\",MAX(IF(ISERROR(AU517:BF517),0,AU517:BF517)))","v":""},"","","","","","","","","","","","","","","","","","",""]
[{"$f":"IF(ISBLANK('Control Sheet'!D498),\"\",'Control Sheet'!D498)","v":""},{"$f":"IF(ISBLANK('Control Sheet'!E498),\"\",'Control Sheet'!E498&\" (\"&'Control Sheet'!F498&\")\")","v":""},"","","","","","","","","","","","","",null,"","","","","","","","","","","","","","","","","","","","","","","","","","","","","","","","","","","","","","","","","","",{"$f":"IF(A518=\"\",\"\",MAX(IF(ISERROR(AU518:BF518),0,AU518:BF518)))","v":""},"","","","","","","","","","","","","","","","","","",""]
[{"$f":"IF(ISBLANK('Control Sheet'!D499),\"\",'Control Sheet'!D499)","v":""},{"$f":"IF(ISBLANK('Control Sheet'!E499),\"\",'Control Sheet'!E499&\" (\"&'Control Sheet'!F499&\")\")","v":""},"","","","","","","","","","","","","",null,"","","","","","","","","","","","","","","","","","","","","","","","","","","","","","","","","","","","","","","","","","",{"$f":"IF(A519=\"\",\"\",MAX(IF(ISERROR(AU519:BF519),0,AU519:BF519)))","v":""},"","","","","","","","","","","","","","","","","","",""]
[{"$f":"IF(ISBLANK('Control Sheet'!D500),\"\",'Control Sheet'!D500)","v":""},{"$f":"IF(ISBLANK('Control Sheet'!E500),\"\",'Control Sheet'!E500&\" (\"&'Control Sheet'!F500&\")\")","v":""},"","","","","","","","","","","","","",null,"","","","","","","","","","","","","","","","","","","","","","","","","","","","","","","","","","","","","","","","","","",{"$f":"IF(A520=\"\",\"\",MAX(IF(ISERROR(AU520:BF520),0,AU520:BF520)))","v":""},"","","","","","","","","","","","","","","","","","",""]
[{"$f":"IF(ISBLANK('Control Sheet'!D501),\"\",'Control Sheet'!D501)","v":""},{"$f":"IF(ISBLANK('Control Sheet'!E501),\"\",'Control Sheet'!E501&\" (\"&'Control Sheet'!F501&\")\")","v":""},{"$f":"IF(C$18=1,IF(ISNA(VLOOKUP($A521,INDIRECT(C$20),OOPE_col,FALSE)),\"\",VLOOKUP($A521,INDIRECT(C$20),OOPE_col,FALSE)),\"\")","v":""},"","","","","","","","","","","","",null,"","","","","","","","","","","","","","","","","","","","","","","","","","","","","","","","","","","","","","","","","","",{"$f":"IF(A521=\"\",\"\",MAX(IF(ISERROR(AU521:BF521),0,AU521:BF521)))","v":""},"","","","","","","","","","","","","","","","","","",""]
[{"$f":"IF(ISBLANK('Control Sheet'!D502),\"\",'Control Sheet'!D502)","v":""},{"$f":"IF(ISBLANK('Control Sheet'!E502),\"\",'Control Sheet'!E502&\" (\"&'Control Sheet'!F502&\")\")","v":""},"","","","","","","","","","","","","",null,"","","","","","","","","","","","","","","","","","","","","","","","","","","","","","","","","","","","","","","","","","",{"$f":"IF(A522=\"\",\"\",MAX(IF(ISERROR(AU522:BF522),0,AU522:BF522)))","v":""},"","","","","","","","","","","","","","","","","","",""]
[{"$f":"IF(ISBLANK('Control Sheet'!D503),\"\",'Control Sheet'!D503)","v":""},{"$f":"IF(ISBLANK('Control Sheet'!E503),\"\",'Control Sheet'!E503&\" (\"&'Control Sheet'!F503&\")\")","v":""},"","","","","","","","","","","","","",null,"","","","","","","","","","","","","","","","","","","","","","","","","","","","","","","","","","","","","","","","","","",{"$f":"IF(A523=\"\",\"\",MAX(IF(ISERROR(AU523:BF523),0,AU523:BF523)))","v":""},"","","","","","","","","","","","","","","","","","",""]
[{"$f":"IF(ISBLANK('Control Sheet'!D504),\"\",'Control Sheet'!D504)","v":""},{"$f":"IF(ISBLANK('Control Sheet'!E504),\"\",'Control Sheet'!E504&\" (\"&'Control Sheet'!F504&\")\")","v":""},"","","","","","","","","","","","","",null,"","","","","","","","","","","","","","","","","","","","","","","","","","","","","","","","","","","","","","","","","","",{"$f":"IF(A524=\"\",\"\",MAX(IF(ISERROR(AU524:BF524),0,AU524:BF524)))","v":""},"","","","","","","","","","","","","","","","","","",""]
[{"$f":"IF(ISBLANK('Control Sheet'!D505),\"\",'Control Sheet'!D505)","v":""},{"$f":"IF(ISBLANK('Control Sheet'!E505),\"\",'Control Sheet'!E505&\" (\"&'Control Sheet'!F505&\")\")","v":""},"","","","","","","","","","","","","",null,"","","","","","","","","","","","","","","","","","","","","","","","","","","","","","","","","","","","","","","","","","",{"$f":"IF(A525=\"\",\"\",MAX(IF(ISERROR(AU525:BF525),0,AU525:BF525)))","v":""},"","","","","","","","","","","","","","","","","","",""]
[{"$f":"IF(ISBLANK('Control Sheet'!D506),\"\",'Control Sheet'!D506)","v":""},{"$f":"IF(ISBLANK('Control Sheet'!E506),\"\",'Control Sheet'!E506&\" (\"&'Control Sheet'!F506&\")\")","v":""},"","","","","","","","","","","","","",null,"","","","","","","","","","","","","","","","","","","","","","","","","","","","","","","","","","","","","","","","","","",{"$f":"IF(A526=\"\",\"\",MAX(IF(ISERROR(AU526:BF526),0,AU526:BF526)))","v":""},"","","","","","","","","","","","","","","","","","",""]
[{"$f":"IF(ISBLANK('Control Sheet'!D507),\"\",'Control Sheet'!D507)","v":""},{"$f":"IF(ISBLANK('Control Sheet'!E507),\"\",'Control Sheet'!E507&\" (\"&'Control Sheet'!F507&\")\")","v":""},"","","","","","","","","","","","","",null,"","","","","","","","","","","","","","","","","","","","","","","","","","","","","","","","","","","","","","","","","","",{"$f":"IF(A527=\"\",\"\",MAX(IF(ISERROR(AU527:BF527),0,AU527:BF527)))","v":""},"","","","","","","","","","","","","","","","","","",""]
[{"$f":"IF(ISBLANK('Control Sheet'!D508),\"\",'Control Sheet'!D508)","v":""},{"$f":"IF(ISBLANK('Control Sheet'!E508),\"\",'Control Sheet'!E508&\" (\"&'Control Sheet'!F508&\")\")","v":""},"","","","","","","","","","","","","",null,"","","","","","","","","","","","","","","","","","","","","","","","","","","","","","","","","","","","","","","","","","",{"$f":"IF(A528=\"\",\"\",MAX(IF(ISERROR(AU528:BF528),0,AU528:BF528)))","v":""},"","","","","","","","","","","","","","","","","","",""]
[{"$f":"IF(ISBLANK('Control Sheet'!D509),\"\",'Control Sheet'!D509)","v":""},{"$f":"IF(ISBLANK('Control Sheet'!E509),\"\",'Control Sheet'!E509&\" (\"&'Control Sheet'!F509&\")\")","v":""},"","","","","","","","","","","","","",null,"","","","","","","","","","","","","","","","","","","","","","","","","","","","","","","","","","","","","","","","","","",{"$f":"IF(A529=\"\",\"\",MAX(IF(ISERROR(AU529:BF529),0,AU529:BF529)))","v":""},"","","","","","","","","","","","","","","","","","",""]
[{"$f":"IF(ISBLANK('Control Sheet'!D510),\"\",'Control Sheet'!D510)","v":""},{"$f":"IF(ISBLANK('Control Sheet'!E510),\"\",'Control Sheet'!E510&\" (\"&'Control Sheet'!F510&\")\")","v":""},"","","","","","","","","","","","","",null,"","","","","","","","","","","","","","","","","","","","","","","","","","","","","","","","","","","","","","","","","","",{"$f":"IF(A530=\"\",\"\",MAX(IF(ISERROR(AU530:BF530),0,AU530:BF530)))","v":""},"","","","","","","","","","","","","","","","","","",""]
[{"$f":"IF(ISBLANK('Control Sheet'!D511),\"\",'Control Sheet'!D511)","v":""},{"$f":"IF(ISBLANK('Control Sheet'!E511),\"\",'Control Sheet'!E511&\" (\"&'Control Sheet'!F511&\")\")","v":""},{"$f":"IF(C$18=1,IF(ISNA(VLOOKUP($A531,INDIRECT(C$20),OOPE_col,FALSE)),\"\",VLOOKUP($A531,INDIRECT(C$20),OOPE_col,FALSE)),\"\")","v":""},"","","","","","","","","","","","",null,"","","","","","","","","","","","","","","","","","","","","","","","","","","","","","","","","","","","","","","","","","",{"$f":"IF(A531=\"\",\"\",MAX(IF(ISERROR(AU531:BF531),0,AU531:BF531)))","v":""},"","","","","","","","","","","","","","","","","","",""]
[{"$f":"IF(ISBLANK('Control Sheet'!D512),\"\",'Control Sheet'!D512)","v":""},{"$f":"IF(ISBLANK('Control Sheet'!E512),\"\",'Control Sheet'!E512&\" (\"&'Control Sheet'!F512&\")\")","v":""},"","","","","","","","","","","","","",null,"","","","","","","","","","","","","","","","","","","","","","","","","","","","","","","","","","","","","","","","","","",{"$f":"IF(A532=\"\",\"\",MAX(IF(ISERROR(AU532:BF532),0,AU532:BF532)))","v":""},"","","","","","","","","","","","","","","","","","",""]
[{"$f":"IF(ISBLANK('Control Sheet'!D513),\"\",'Control Sheet'!D513)","v":""},{"$f":"IF(ISBLANK('Control Sheet'!E513),\"\",'Control Sheet'!E513&\" (\"&'Control Sheet'!F513&\")\")","v":""},"","","","","","","","","","","","","",null,"",{"$f":"IF(A533=\"\",\"\",OOPEMonthsPop-(COUNTA(C533:N533)-COUNTBLANK(C533:N533)))","v":""},"","","","","","","","","","","","","","","","","","","","","","","","","","","","",{"$f":"IF(OR(A533=\"\",OOPEMonthsPop=0),\"\",IF(AU$18=OOPEMonthsPop,AH533,#N/A))","v":""},{"$f":"IF(OR($A533=\"\",OOPEMonthsPop=0),\"\",IF(AV$18<OOPEMonthsPop,#N/A,IF(AV$18=OOPEMonthsPop,AI533,IF(AU533=\"\",\"\",IF(AV$18=OOPEMonthsPop+1,AU533+(AU533*VLOOKUP(OOPEMonthsPop-$R533,ForecastMult,3,FALSE)/12),AU533+AU533-AT533)))))","v":""},{"$f":"IF(OR($A533=\"\",OOPEMonthsPop=0),\"\",IF(AW$18<OOPEMonthsPop,#N/A,IF(AW$18=OOPEMonthsPop,AJ533,IF(AV533=\"\",\"\",IF(AW$18=OOPEMonthsPop+1,AV533+(AV533*VLOOKUP(OOPEMonthsPop-$R533,ForecastMult,3,FALSE)/12),AV533+AV533-AU533)))))","v":""},{"$f":"IF(OR($A533=\"\",OOPEMonthsPop=0),\"\",IF(AX$18<OOPEMonthsPop,#N/A,IF(AX$18=OOPEMonthsPop,AK533,IF(AW533=\"\",\"\",IF(AX$18=OOPEMonthsPop+1,AW533+(AW533*VLOOKUP(OOPEMonthsPop-$R533,ForecastMult,3,FALSE)/12),AW533+AW533-AV533)))))","v":""},{"$f":"IF(OR($A533=\"\",OOPEMonthsPop=0),\"\",IF(AY$18<OOPEMonthsPop,#N/A,IF(AY$18=OOPEMonthsPop,AL533,IF(AX533=\"\",\"\",IF(AY$18=OOPEMonthsPop+1,AX533+(AX533*VLOOKUP(OOPEMonthsPop-$R533,ForecastMult,3,FALSE)/12),AX533+AX533-AW533)))))","v":""},{"$f":"IF(OR($A533=\"\",OOPEMonthsPop=0),\"\",IF(AZ$18<OOPEMonthsPop,#N/A,IF(AZ$18=OOPEMonthsPop,AM533,IF(AY533=\"\",\"\",IF(AZ$18=OOPEMonthsPop+1,AY533+(AY533*VLOOKUP(OOPEMonthsPop-$R533,ForecastMult,3,FALSE)/12),AY533+AY533-AX533)))))","v":""},{"$f":"IF(OR($A533=\"\",OOPEMonthsPop=0),\"\",IF(BA$18<OOPEMonthsPop,#N/A,IF(BA$18=OOPEMonthsPop,AN533,IF(AZ533=\"\",\"\",IF(BA$18=OOPEMonthsPop+1,AZ533+(AZ533*VLOOKUP(OOPEMonthsPop-$R533,ForecastMult,3,FALSE)/12),AZ533+AZ533-AY533)))))","v":""},{"$f":"IF(OR($A533=\"\",OOPEMonthsPop=0),\"\",IF(BB$18<OOPEMonthsPop,#N/A,IF(BB$18=OOPEMonthsPop,AO533,IF(BA533=\"\",\"\",IF(BB$18=OOPEMonthsPop+1,BA533+(BA533*VLOOKUP(OOPEMonthsPop-$R533,ForecastMult,3,FALSE)/12),BA533+BA533-AZ533)))))","v":""},{"$f":"IF(OR($A533=\"\",OOPEMonthsPop=0),\"\",IF(BC$18<OOPEMonthsPop,#N/A,IF(BC$18=OOPEMonthsPop,AP533,IF(BB533=\"\",\"\",IF(BC$18=OOPEMonthsPop+1,BB533+(BB533*VLOOKUP(OOPEMonthsPop-$R533,ForecastMult,3,FALSE)/12),BB533+BB533-BA533)))))","v":""},{"$f":"IF(OR($A533=\"\",OOPEMonthsPop=0),\"\",IF(BD$18<OOPEMonthsPop,#N/A,IF(BD$18=OOPEMonthsPop,AQ533,IF(BC533=\"\",\"\",IF(BD$18=OOPEMonthsPop+1,BC533+(BC533*VLOOKUP(OOPEMonthsPop-$R533,ForecastMult,3,FALSE)/12),BC533+BC533-BB533)))))","v":""},{"$f":"IF(OR($A533=\"\",OOPEMonthsPop=0),\"\",IF(BE$18<OOPEMonthsPop,#N/A,IF(BE$18=OOPEMonthsPop,AR533,IF(BD533=\"\",\"\",IF(BE$18=OOPEMonthsPop+1,BD533+(BD533*VLOOKUP(OOPEMonthsPop-$R533,ForecastMult,3,FALSE)/12),BD533+BD533-BC533)))))","v":""},{"$f":"IF(OR($A533=\"\",OOPEMonthsPop=0),\"\",IF(BF$18<OOPEMonthsPop,#N/A,IF(BF$18=OOPEMonthsPop,AS533,IF(BE533=\"\",\"\",IF(BF$18=OOPEMonthsPop+1,BE533+(BE533*VLOOKUP(OOPEMonthsPop-$R533,ForecastMult,3,FALSE)/12),BE533+BE533-BD533)))))","v":""},{"$f":"IF(A533=\"\",\"\",MAX(IF(ISERROR(AU533:BF533),0,AU533:BF533)))","v":""},{"$f":"IF(AND(C$18=1,$A533<>\"\"),IF(ISNA(VLOOKUP($A533,INDIRECT(C$20),TOT_STDR_PXS_col,FALSE)),\"\",VLOOKUP($A533,INDIRECT(C$20),TOT_STDR_PXS_col,FALSE)+VLOOKUP($A533,INDIRECT(C$20),TOT_ZDR_PXS_col,FALSE)),\"\")","v":""},{"$f":"IF(AND(D$18=1,$A533<>\"\"),IF(ISNA(VLOOKUP($A533,INDIRECT(D$20),TOT_STDR_PXS_col,FALSE)),\"\",VLOOKUP($A533,INDIRECT(D$20),TOT_STDR_PXS_col,FALSE)+VLOOKUP($A533,INDIRECT(D$20),TOT_ZDR_PXS_col,FALSE)),\"\")","v":""},{"$f":"IF(AND(E$18=1,$A533<>\"\"),IF(ISNA(VLOOKUP($A533,INDIRECT(E$20),TOT_STDR_PXS_col,FALSE)),\"\",VLOOKUP($A533,INDIRECT(E$20),TOT_STDR_PXS_col,FALSE)+VLOOKUP($A533,INDIRECT(E$20),TOT_ZDR_PXS_col,FALSE)),\"\")","v":""},{"$f":"IF(AND(F$18=1,$A533<>\"\"),IF(ISNA(VLOOKUP($A533,INDIRECT(F$20),TOT_STDR_PXS_col,FALSE)),\"\",VLOOKUP($A533,INDIRECT(F$20),TOT_STDR_PXS_col,FALSE)+VLOOKUP($A533,INDIRECT(F$20),TOT_ZDR_PXS_col,FALSE)),\"\")","v":""},{"$f":"IF(AND(G$18=1,$A533<>\"\"),IF(ISNA(VLOOKUP($A533,INDIRECT(G$20),TOT_STDR_PXS_col,FALSE)),\"\",VLOOKUP($A533,INDIRECT(G$20),TOT_STDR_PXS_col,FALSE)+VLOOKUP($A533,INDIRECT(G$20),TOT_ZDR_PXS_col,FALSE)),\"\")","v":""},{"$f":"IF(AND(H$18=1,$A533<>\"\"),IF(ISNA(VLOOKUP($A533,INDIRECT(H$20),TOT_STDR_PXS_col,FALSE)),\"\",VLOOKUP($A533,INDIRECT(H$20),TOT_STDR_PXS_col,FALSE)+VLOOKUP($A533,INDIRECT(H$20),TOT_ZDR_PXS_col,FALSE)),\"\")","v":""},{"$f":"IF(AND(I$18=1,$A533<>\"\"),IF(ISNA(VLOOKUP($A533,INDIRECT(I$20),TOT_STDR_PXS_col,FALSE)),\"\",VLOOKUP($A533,INDIRECT(I$20),TOT_STDR_PXS_col,FALSE)+VLOOKUP($A533,INDIRECT(I$20),TOT_ZDR_PXS_col,FALSE)),\"\")","v":""},{"$f":"IF(AND(J$18=1,$A533<>\"\"),IF(ISNA(VLOOKUP($A533,INDIRECT(J$20),TOT_STDR_PXS_col,FALSE)),\"\",VLOOKUP($A533,INDIRECT(J$20),TOT_STDR_PXS_col,FALSE)+VLOOKUP($A533,INDIRECT(J$20),TOT_ZDR_PXS_col,FALSE)),\"\")","v":""},{"$f":"IF(AND(K$18=1,$A533<>\"\"),IF(ISNA(VLOOKUP($A533,INDIRECT(K$20),TOT_STDR_PXS_col,FALSE)),\"\",VLOOKUP($A533,INDIRECT(K$20),TOT_STDR_PXS_col,FALSE)+VLOOKUP($A533,INDIRECT(K$20),TOT_ZDR_PXS_col,FALSE)),\"\")","v":""},{"$f":"IF(AND(L$18=1,$A533<>\"\"),IF(ISNA(VLOOKUP($A533,INDIRECT(L$20),TOT_STDR_PXS_col,FALSE)),\"\",VLOOKUP($A533,INDIRECT(L$20),TOT_STDR_PXS_col,FALSE)+VLOOKUP($A533,INDIRECT(L$20),TOT_ZDR_PXS_col,FALSE)),\"\")","v":""},{"$f":"IF(AND(M$18=1,$A533<>\"\"),IF(ISNA(VLOOKUP($A533,INDIRECT(M$20),TOT_STDR_PXS_col,FALSE)),\"\",VLOOKUP($A533,INDIRECT(M$20),TOT_STDR_PXS_col,FALSE)+VLOOKUP($A533,INDIRECT(M$20),TOT_ZDR_PXS_col,FALSE)),\"\")","v":""},{"$f":"IF(AND(N$18=1,$A533<>\"\"),IF(ISNA(VLOOKUP($A533,INDIRECT(N$20),TOT_STDR_PXS_col,FALSE)),\"\",VLOOKUP($A533,INDIRECT(N$20),TOT_STDR_PXS_col,FALSE)+VLOOKUP($A533,INDIRECT(N$20),TOT_ZDR_PXS_col,FALSE)),\"\")","v":""},"","","","","","",""]
[{"$f":"IF(ISBLANK('Control Sheet'!D514),\"\",'Control Sheet'!D514)","v":""},{"$f":"IF(ISBLANK('Control Sheet'!E514),\"\",'Control Sheet'!E514&\" (\"&'Control Sheet'!F514&\")\")","v":""},"","","","","","","","","","","","",{"$f":"IF(A534=\"\",\"\",SUM(C534:N534))","v":""},null,{"$f":"IF(A534=\"\",\"\",IF(BG534<=400,\"No\",\"Yes\"))","v":""},"",{"$f":"IF(C534=\"\",\"\",IF(C534<=C$10,1,IF(C534<=C$7,2,IF(C534<=C$8,3,IF(C534<=C$9,4,IF(C534<=C$11,5,60))))))","v":""},{"$f":"IF(D534=\"\",\"\",IF(D534<=D$10,1,IF(D534<=D$7,2,IF(D534<=D$8,3,IF(D534<=D$9,4,IF(D534<=D$11,5,60))))))","v":""},{"$f":"IF(E534=\"\",\"\",IF(E534<=E$10,1,IF(E534<=E$7,2,IF(E534<=E$8,3,IF(E534<=E$9,4,IF(E534<=E$11,5,60))))))","v":""},{"$f":"IF(F534=\"\",\"\",IF(F534<=F$10,1,IF(F534<=F$7,2,IF(F534<=F$8,3,IF(F534<=F$9,4,IF(F534<=F$11,5,60))))))","v":""},{"$f":"IF(G534=\"\",\"\",IF(G534<=G$10,1,IF(G534<=G$7,2,IF(G534<=G$8,3,IF(G534<=G$9,4,IF(G534<=G$11,5,60))))))","v":""},{"$f":"IF(H534=\"\",\"\",IF(H534<=H$10,1,IF(H534<=H$7,2,IF(H534<=H$8,3,IF(H534<=H$9,4,IF(H534<=H$11,5,60))))))","v":""},{"$f":"IF(I534=\"\",\"\",IF(I534<=I$10,1,IF(I534<=I$7,2,IF(I534<=I$8,3,IF(I534<=I$9,4,IF(I534<=I$11,5,60))))))","v":""},{"$f":"IF(J534=\"\",\"\",IF(J534<=J$10,1,IF(J534<=J$7,2,IF(J534<=J$8,3,IF(J534<=J$9,4,IF(J534<=J$11,5,60))))))","v":""},{"$f":"IF(K534=\"\",\"\",IF(K534<=K$10,1,IF(K534<=K$7,2,IF(K534<=K$8,3,IF(K534<=K$9,4,IF(K534<=K$11,5,60))))))","v":""},{"$f":"IF(L534=\"\",\"\",IF(L534<=L$10,1,IF(L534<=L$7,2,IF(L534<=L$8,3,IF(L534<=L$9,4,IF(L534<=L$11,5,60))))))","v":""},{"$f":"IF(M534=\"\",\"\",IF(M534<=M$10,1,IF(M534<=M$7,2,IF(M534<=M$8,3,IF(M534<=M$9,4,IF(M534<=M$11,5,60))))))","v":""},{"$f":"IF(N534=\"\",\"\",IF(N534<=N$10,1,IF(N534<=N$7,2,IF(N534<=N$8,3,IF(N534<=N$9,4,IF(N534<=N$11,5,60))))))","v":""},{"$f":"IF(A534=\"\",\"\",SUM(S534:AD534))","v":""},"",{"$f":"IF(AF534=\"\",\"\",IF(AF534<=1,\"Lower Outlier\",IF(AF534<=2,\"Below Average\",IF(AF534<=3,\"Lower Quartile\",IF(AF534<=4,\"Upper Quartile\",IF(AF534<=5, \"Above Average\", \"Upper Outlier\"))))))","v":""},{"$f":"IF(C$18=1,C534,\"\")","v":""},{"$f":"IF(D$18=1,IF(D534=\"\",IF(AH534=\"\",\"\",AH534),IF(AND(D534>=0,AH534=\"\"),D534,IF(ISERROR(D534+AH534),#N/A,D534+AH534))),\"\")","v":""},{"$f":"IF(E$18=1,IF(E534=\"\",IF(AI534=\"\",\"\",AI534),IF(AND(E534>=0,AI534=\"\"),E534,IF(ISERROR(E534+AI534),#N/A,E534+AI534))),\"\")","v":""},{"$f":"IF(F$18=1,IF(F534=\"\",IF(AJ534=\"\",\"\",AJ534),IF(AND(F534>=0,AJ534=\"\"),F534,IF(ISERROR(F534+AJ534),#N/A,F534+AJ534))),\"\")","v":""},{"$f":"IF(G$18=1,IF(G534=\"\",IF(AK534=\"\",\"\",AK534),IF(AND(G534>=0,AK534=\"\"),G534,IF(ISERROR(G534+AK534),#N/A,G534+AK534))),\"\")","v":""},{"$f":"IF(H$18=1,IF(H534=\"\",IF(AL534=\"\",\"\",AL534),IF(AND(H534>=0,AL534=\"\"),H534,IF(ISERROR(H534+AL534),#N/A,H534+AL534))),\"\")","v":""},{"$f":"IF(I$18=1,IF(I534=\"\",IF(AM534=\"\",\"\",AM534),IF(AND(I534>=0,AM534=\"\"),I534,IF(ISERROR(I534+AM534),#N/A,I534+AM534))),\"\")","v":""},{"$f":"IF(J$18=1,IF(J534=\"\",IF(AN534=\"\",\"\",AN534),IF(AND(J534>=0,AN534=\"\"),J534,IF(ISERROR(J534+AN534),#N/A,J534+AN534))),\"\")","v":""},{"$f":"IF(K$18=1,IF(K534=\"\",IF(AO534=\"\",\"\",AO534),IF(AND(K534>=0,AO534=\"\"),K534,IF(ISERROR(K534+AO534),#N/A,K534+AO534))),\"\")","v":""},{"$f":"IF(L$18=1,IF(L534=\"\",IF(AP534=\"\",\"\",AP534),IF(AND(L534>=0,AP534=\"\"),L534,IF(ISERROR(L534+AP534),#N/A,L534+AP534))),\"\")","v":""},{"$f":"IF(M$18=1,IF(M534=\"\",IF(AQ534=\"\",\"\",AQ534),IF(AND(M534>=0,AQ534=\"\"),M534,IF(ISERROR(M534+AQ534),#N/A,M534+AQ534))),\"\")","v":""},{"$f":"IF(N$18=1,IF(N534=\"\",IF(AR534=\"\",\"\",AR534),IF(AND(N534>=0,AR534=\"\"),N534,IF(ISERROR(N534+AR534),#N/A,N534+AR534))),\"\")","v":""},{"$f":"IF(A534=\"\",\"\",MAX(AH534:AS534))","v":""},"","","","","","","","","","","","",{"$f":"IF(A534=\"\",\"\",MAX(IF(ISERROR(AU534:BF534),0,AU534:BF534)))","v":""},"","","","","","","","","","","","",{"$f":"IF(A534=\"\",\"\",SUM(BH534:BS534))","v":""},{"$f":"IF(A534=\"\",\"\",MIN(B534:M534))","v":""},{"$f":"IF(A534=\"\",\"\",MAX(B534:M534))","v":""},{"$f":"IF(A534=\"\",\"\",IF(BV534-BU534=0,\"\",BV534-BU534))","v":""},{"$f":"IF(A534=\"\",\"\",IF(BW534=\"\",\"No\",IF(BW534>$BW$11,\"Yes\",\"No\")))","v":""},{"$f":"IF(A534=\"\",\"\",(COUNTA(C534:N534)-COUNTBLANK(C534:N534)))","v":""},{"$f":"IF(A534=\"\",\"\",BY534-COUNTIF(C534:N534,\"=0\"))","v":""}]
[{"$f":"IF(ISBLANK('Control Sheet'!D515),\"\",'Control Sheet'!D515)","v":""},{"$f":"IF(ISBLANK('Control Sheet'!E515),\"\",'Control Sheet'!E515&\" (\"&'Control Sheet'!F515&\")\")","v":""},"","","","","","","","","","","","","",null,"","","","","","","","","","","","","","","","","","","","","","","","","","","","","","","","","","","","","","","","","","",{"$f":"IF(A535=\"\",\"\",MAX(IF(ISERROR(AU535:BF535),0,AU535:BF535)))","v":""},"","","","","","","","","","","","","","","","","","",""]
[{"$f":"IF(ISBLANK('Control Sheet'!D516),\"\",'Control Sheet'!D516)","v":""},{"$f":"IF(ISBLANK('Control Sheet'!E516),\"\",'Control Sheet'!E516&\" (\"&'Control Sheet'!F516&\")\")","v":""},"","","","","","","","","","","","","",null,"","","","","","","","","","","","","","","","","","","","","","","","","","","","","","","","","","","","","","","","","","",{"$f":"IF(A536=\"\",\"\",MAX(IF(ISERROR(AU536:BF536),0,AU536:BF536)))","v":""},"","","","","","","","","","","","","","","","","","",""]
[{"$f":"IF(ISBLANK('Control Sheet'!D517),\"\",'Control Sheet'!D517)","v":""},{"$f":"IF(ISBLANK('Control Sheet'!E517),\"\",'Control Sheet'!E517&\" (\"&'Control Sheet'!F517&\")\")","v":""},"","","","","","","","","","","","","",null,"","","","","","","","","","","","","","","","","","","","","","","","","","","","","","","","","","","","","","","","","","",{"$f":"IF(A537=\"\",\"\",MAX(IF(ISERROR(AU537:BF537),0,AU537:BF537)))","v":""},"","","","","","","","","","","","","","","","","","",""]
[{"$f":"IF(ISBLANK('Control Sheet'!D518),\"\",'Control Sheet'!D518)","v":""},{"$f":"IF(ISBLANK('Control Sheet'!E518),\"\",'Control Sheet'!E518&\" (\"&'Control Sheet'!F518&\")\")","v":""},"","","","","","","","","","","","","",null,"","","","","","","","","","","","","","","","","","","","","","","","","","","","","","","","","","","","","","","","","","",{"$f":"IF(A538=\"\",\"\",MAX(IF(ISERROR(AU538:BF538),0,AU538:BF538)))","v":""},"","","","","","","","","","","","","","","","","","",""]
[{"$f":"IF(ISBLANK('Control Sheet'!D519),\"\",'Control Sheet'!D519)","v":""},{"$f":"IF(ISBLANK('Control Sheet'!E519),\"\",'Control Sheet'!E519&\" (\"&'Control Sheet'!F519&\")\")","v":""},"","","","","","","","","","","","","",null,"","","","","","","","","","","","","","","","","","","","","","","","","","","","","","","","","","","","","","","","","","",{"$f":"IF(A539=\"\",\"\",MAX(IF(ISERROR(AU539:BF539),0,AU539:BF539)))","v":""},"","","","","","","","","","","","","","","","","","",""]
[{"$f":"IF(ISBLANK('Control Sheet'!D520),\"\",'Control Sheet'!D520)","v":""},{"$f":"IF(ISBLANK('Control Sheet'!E520),\"\",'Control Sheet'!E520&\" (\"&'Control Sheet'!F520&\")\")","v":""},"","","","","","","","","","","","","",null,"","","","","","","","","","","","","","","","","","","","","","","","","","","","","","","","","","","","","","","","","","",{"$f":"IF(A540=\"\",\"\",MAX(IF(ISERROR(AU540:BF540),0,AU540:BF540)))","v":""},"","","","","","","","","","","","","","","","","","",""]
[{"$f":"IF(ISBLANK('Control Sheet'!D521),\"\",'Control Sheet'!D521)","v":""},{"$f":"IF(ISBLANK('Control Sheet'!E521),\"\",'Control Sheet'!E521&\" (\"&'Control Sheet'!F521&\")\")","v":""},{"$f":"IF(C$18=1,IF(ISNA(VLOOKUP($A541,INDIRECT(C$20),OOPE_col,FALSE)),\"\",VLOOKUP($A541,INDIRECT(C$20),OOPE_col,FALSE)),\"\")","v":""},"","","","","","","","","","","","",null,"","","","","","","","","","","","","","","","","","","","","","","","","","","","","","","","","","","","","","","","","","",{"$f":"IF(A541=\"\",\"\",MAX(IF(ISERROR(AU541:BF541),0,AU541:BF541)))","v":""},"","","","","","","","","","","","","","","","","","",""]
[{"$f":"IF(ISBLANK('Control Sheet'!D522),\"\",'Control Sheet'!D522)","v":""},{"$f":"IF(ISBLANK('Control Sheet'!E522),\"\",'Control Sheet'!E522&\" (\"&'Control Sheet'!F522&\")\")","v":""},"","","","","","","","","","","","","",null,"","","","","","","","","","","","","","","","","","","","","","","","","","","","","","","","","","","","","","","","","","",{"$f":"IF(A542=\"\",\"\",MAX(IF(ISERROR(AU542:BF542),0,AU542:BF542)))","v":""},"","","","","","","","","","","","","","","","","","",""]
[{"$f":"IF(ISBLANK('Control Sheet'!D523),\"\",'Control Sheet'!D523)","v":""},{"$f":"IF(ISBLANK('Control Sheet'!E523),\"\",'Control Sheet'!E523&\" (\"&'Control Sheet'!F523&\")\")","v":""},"","","","","","","","","","","","","",null,"","","","","","","","","","","","","","","","","","","","","","","","","","","","","","","","","","","","","","","","","","",{"$f":"IF(A543=\"\",\"\",MAX(IF(ISERROR(AU543:BF543),0,AU543:BF543)))","v":""},"","","","","","","","","","","","","","","","","","",""]
[{"$f":"IF(ISBLANK('Control Sheet'!D524),\"\",'Control Sheet'!D524)","v":""},{"$f":"IF(ISBLANK('Control Sheet'!E524),\"\",'Control Sheet'!E524&\" (\"&'Control Sheet'!F524&\")\")","v":""},"","","","","","","","","","","","","",null,"","","","","","","","","","","","","","","","","","","","","","","","","","","","","","","","","","","","","","","","","","",{"$f":"IF(A544=\"\",\"\",MAX(IF(ISERROR(AU544:BF544),0,AU544:BF544)))","v":""},"","","","","","","","","","","","","","","","","","",""]
[{"$f":"IF(ISBLANK('Control Sheet'!D525),\"\",'Control Sheet'!D525)","v":""},{"$f":"IF(ISBLANK('Control Sheet'!E525),\"\",'Control Sheet'!E525&\" (\"&'Control Sheet'!F525&\")\")","v":""},"","","","","","","","","","","","","",null,"","","","","","","","","","","","","","","","","","","","","","","","","","","","","","","","","","","","","","","","","","",{"$f":"IF(A545=\"\",\"\",MAX(IF(ISERROR(AU545:BF545),0,AU545:BF545)))","v":""},"","","","","","","","","","","","","","","","","","",""]
[{"$f":"IF(ISBLANK('Control Sheet'!D526),\"\",'Control Sheet'!D526)","v":""},{"$f":"IF(ISBLANK('Control Sheet'!E526),\"\",'Control Sheet'!E526&\" (\"&'Control Sheet'!F526&\")\")","v":""},"","","","","","","","","","","","","",null,"","","","","","","","","","","","","","","","","","","","","","","","","","","","","","","","","","","","","","","","","","",{"$f":"IF(A546=\"\",\"\",MAX(IF(ISERROR(AU546:BF546),0,AU546:BF546)))","v":""},"","","","","","","","","","","","","","","","","","",""]
[{"$f":"IF(ISBLANK('Control Sheet'!D527),\"\",'Control Sheet'!D527)","v":""},{"$f":"IF(ISBLANK('Control Sheet'!E527),\"\",'Control Sheet'!E527&\" (\"&'Control Sheet'!F527&\")\")","v":""},"","","","","","","","","","","","","",null,"","","","","","","","","","","","","","","","","","","","","","","","","","","","","","","","","","","","","","","","","","",{"$f":"IF(A547=\"\",\"\",MAX(IF(ISERROR(AU547:BF547),0,AU547:BF547)))","v":""},"","","","","","","","","","","","","","","","","","",""]
[{"$f":"IF(ISBLANK('Control Sheet'!D528),\"\",'Control Sheet'!D528)","v":""},{"$f":"IF(ISBLANK('Control Sheet'!E528),\"\",'Control Sheet'!E528&\" (\"&'Control Sheet'!F528&\")\")","v":""},"","","","","","","","","","","","","",null,"","","","","","","","","","","","","","","","","","","","","","","","","","","","","","","","","","","","","","","","","","",{"$f":"IF(A548=\"\",\"\",MAX(IF(ISERROR(AU548:BF548),0,AU548:BF548)))","v":""},"","","","","","","","","","","","","","","","","","",""]
[{"$f":"IF(ISBLANK('Control Sheet'!D529),\"\",'Control Sheet'!D529)","v":""},{"$f":"IF(ISBLANK('Control Sheet'!E529),\"\",'Control Sheet'!E529&\" (\"&'Control Sheet'!F529&\")\")","v":""},"","","","","","","","","","","","","",null,"","","","","","","","","","","","","","","","","","","","","","","","","","","","","","","","","","","","","","","","","","",{"$f":"IF(A549=\"\",\"\",MAX(IF(ISERROR(AU549:BF549),0,AU549:BF549)))","v":""},"","","","","","","","","","","","","","","","","","",""]
[{"$f":"IF(ISBLANK('Control Sheet'!D530),\"\",'Control Sheet'!D530)","v":""},{"$f":"IF(ISBLANK('Control Sheet'!E530),\"\",'Control Sheet'!E530&\" (\"&'Control Sheet'!F530&\")\")","v":""},"","","","","","","","","","","","","",null,"","","","","","","","","","","","","","","","","","","","","","","","","","","","","","","","","","","","","","","","","","",{"$f":"IF(A550=\"\",\"\",MAX(IF(ISERROR(AU550:BF550),0,AU550:BF550)))","v":""},"","","","","","","","","","","","","","","","","","",""]
[{"$f":"IF(ISBLANK('Control Sheet'!D531),\"\",'Control Sheet'!D531)","v":""},{"$f":"IF(ISBLANK('Control Sheet'!E531),\"\",'Control Sheet'!E531&\" (\"&'Control Sheet'!F531&\")\")","v":""},{"$f":"IF(C$18=1,IF(ISNA(VLOOKUP($A551,INDIRECT(C$20),OOPE_col,FALSE)),\"\",VLOOKUP($A551,INDIRECT(C$20),OOPE_col,FALSE)),\"\")","v":""},"","","","","","","","","","","","",null,"","","","","","","","","","","","","","","","","","","","","","","","","","","","","","","","","","","","","","","","","","",{"$f":"IF(A551=\"\",\"\",MAX(IF(ISERROR(AU551:BF551),0,AU551:BF551)))","v":""},"","","","","","","","","","","","","","","","","","",""]
[{"$f":"IF(ISBLANK('Control Sheet'!D532),\"\",'Control Sheet'!D532)","v":""},{"$f":"IF(ISBLANK('Control Sheet'!E532),\"\",'Control Sheet'!E532&\" (\"&'Control Sheet'!F532&\")\")","v":""},"","","","","","","","","","","","","",null,"","","","","","","","","","","","","","","","","","","","","","","","","","","","","","","","","","","","","","","","","","",{"$f":"IF(A552=\"\",\"\",MAX(IF(ISERROR(AU552:BF552),0,AU552:BF552)))","v":""},"","","","","","","","","","","","","","","","","","",""]
[{"$f":"IF(ISBLANK('Control Sheet'!D533),\"\",'Control Sheet'!D533)","v":""},{"$f":"IF(ISBLANK('Control Sheet'!E533),\"\",'Control Sheet'!E533&\" (\"&'Control Sheet'!F533&\")\")","v":""},"","","","","","","","","","","","","",null,"","","","","","","","","","","","","","","","","","","","","","","","","","","","","","","","","","","","","","","","","","",{"$f":"IF(A553=\"\",\"\",MAX(IF(ISERROR(AU553:BF553),0,AU553:BF553)))","v":""},"","","","","","","","","","","","","","","","","","",""]
[{"$f":"IF(ISBLANK('Control Sheet'!D534),\"\",'Control Sheet'!D534)","v":""},{"$f":"IF(ISBLANK('Control Sheet'!E534),\"\",'Control Sheet'!E534&\" (\"&'Control Sheet'!F534&\")\")","v":""},"","","","","","","","","","","","","",null,"","","","","","","","","","","","","","","","","","","","","","","","","","","","","","","","","","","","","","","","","","",{"$f":"IF(A554=\"\",\"\",MAX(IF(ISERROR(AU554:BF554),0,AU554:BF554)))","v":""},"","","","","","","","","","","","","","","","","","",""]
[{"$f":"IF(ISBLANK('Control Sheet'!D535),\"\",'Control Sheet'!D535)","v":""},{"$f":"IF(ISBLANK('Control Sheet'!E535),\"\",'Control Sheet'!E535&\" (\"&'Control Sheet'!F535&\")\")","v":""},"","","","","","","","","","","","","",null,"","","","","","","","","","","","","","","","","","","","","","","","","","","","","","","","","","","","","","","","","","",{"$f":"IF(A555=\"\",\"\",MAX(IF(ISERROR(AU555:BF555),0,AU555:BF555)))","v":""},"","","","","","","","","","","","","","","","","","",""]
[{"$f":"IF(ISBLANK('Control Sheet'!D536),\"\",'Control Sheet'!D536)","v":""},{"$f":"IF(ISBLANK('Control Sheet'!E536),\"\",'Control Sheet'!E536&\" (\"&'Control Sheet'!F536&\")\")","v":""},"","","","","","","","","","","","","",null,"","","","","","","","","","","","","","","","","","","","","","","","","","","","","","","","","","","","","","","","","","",{"$f":"IF(A556=\"\",\"\",MAX(IF(ISERROR(AU556:BF556),0,AU556:BF556)))","v":""},"","","","","","","","","","","","","","","","","","",""]
[{"$f":"IF(ISBLANK('Control Sheet'!D537),\"\",'Control Sheet'!D537)","v":""},{"$f":"IF(ISBLANK('Control Sheet'!E537),\"\",'Control Sheet'!E537&\" (\"&'Control Sheet'!F537&\")\")","v":""},"","","","","","","","","","","","","",null,"","","","","","","","","","","","","","","","","","","","","","","","","","","","","","","","","","","","","","","","","","",{"$f":"IF(A557=\"\",\"\",MAX(IF(ISERROR(AU557:BF557),0,AU557:BF557)))","v":""},"","","","","","","","","","","","","","","","","","",""]
[{"$f":"IF(ISBLANK('Control Sheet'!D538),\"\",'Control Sheet'!D538)","v":""},{"$f":"IF(ISBLANK('Control Sheet'!E538),\"\",'Control Sheet'!E538&\" (\"&'Control Sheet'!F538&\")\")","v":""},"","","","","","","","","","","","","",null,"","","","","","","","","","","","","","","","","","","","","","","","","","","","","","","","","","","","","","","","","","",{"$f":"IF(A558=\"\",\"\",MAX(IF(ISERROR(AU558:BF558),0,AU558:BF558)))","v":""},"","","","","","","","","","","","","","","","","","",""]
[{"$f":"IF(ISBLANK('Control Sheet'!D539),\"\",'Control Sheet'!D539)","v":""},{"$f":"IF(ISBLANK('Control Sheet'!E539),\"\",'Control Sheet'!E539&\" (\"&'Control Sheet'!F539&\")\")","v":""},"","","","","","","","","","","","","",null,"","","","","","","","","","","","","","","","","","","","","","","","","","","","","","","","","","","","","","","","","","",{"$f":"IF(A559=\"\",\"\",MAX(IF(ISERROR(AU559:BF559),0,AU559:BF559)))","v":""},"","","","","","","","","","","","","","","","","","",""]
[{"$f":"IF(ISBLANK('Control Sheet'!D540),\"\",'Control Sheet'!D540)","v":""},{"$f":"IF(ISBLANK('Control Sheet'!E540),\"\",'Control Sheet'!E540&\" (\"&'Control Sheet'!F540&\")\")","v":""},"","","","","","","","","","","","","",null,"","","","","","","","","","","","","","","","","","","","","","","","","","","","","","","","","","","","","","","","","","",{"$f":"IF(A560=\"\",\"\",MAX(IF(ISERROR(AU560:BF560),0,AU560:BF560)))","v":""},"","","","","","","","","","","","","","","","","","",""]
[{"$f":"IF(ISBLANK('Control Sheet'!D541),\"\",'Control Sheet'!D541)","v":""},{"$f":"IF(ISBLANK('Control Sheet'!E541),\"\",'Control Sheet'!E541&\" (\"&'Control Sheet'!F541&\")\")","v":""},{"$f":"IF(C$18=1,IF(ISNA(VLOOKUP($A561,INDIRECT(C$20),OOPE_col,FALSE)),\"\",VLOOKUP($A561,INDIRECT(C$20),OOPE_col,FALSE)),\"\")","v":""},"","","","","","","","","","","","",null,"","","","","","","","","","","","","","","","","","","","","","","","","","","","","","","","","","","","","","","","","","",{"$f":"IF(A561=\"\",\"\",MAX(IF(ISERROR(AU561:BF561),0,AU561:BF561)))","v":""},"","","","","","","","","","","","","","","","","","",""]
[{"$f":"IF(ISBLANK('Control Sheet'!D542),\"\",'Control Sheet'!D542)","v":""},{"$f":"IF(ISBLANK('Control Sheet'!E542),\"\",'Control Sheet'!E542&\" (\"&'Control Sheet'!F542&\")\")","v":""},"","","","","","","","","","","","","",null,"","","","","","","","","","","","","","","","","","","","","","","","","","","","","","","","","","","","","","","","","","",{"$f":"IF(A562=\"\",\"\",MAX(IF(ISERROR(AU562:BF562),0,AU562:BF562)))","v":""},"","","","","","","","","","","","","","","","","","",""]
[{"$f":"IF(ISBLANK('Control Sheet'!D543),\"\",'Control Sheet'!D543)","v":""},{"$f":"IF(ISBLANK('Control Sheet'!E543),\"\",'Control Sheet'!E543&\" (\"&'Control Sheet'!F543&\")\")","v":""},"","","","","","","","","","","","","",null,"","","","","","","","","","","","","","","","","","","","","","","","","","","","","","","","","","","","","","","","","","",{"$f":"IF(A563=\"\",\"\",MAX(IF(ISERROR(AU563:BF563),0,AU563:BF563)))","v":""},"","","","","","","","","","","","","","","","","","",""]
[{"$f":"IF(ISBLANK('Control Sheet'!D544),\"\",'Control Sheet'!D544)","v":""},{"$f":"IF(ISBLANK('Control Sheet'!E544),\"\",'Control Sheet'!E544&\" (\"&'Control Sheet'!F544&\")\")","v":""},"","","","","","","","","","","","","",null,"","","","","","","","","","","","","","","",{"$f":"IF(OR(A564=\"\",AE564=0),\"\",AE564/(O$18-R406))","v":""},"","","","","","","","","","","","","","","","","","","","","","","","","","",{"$f":"IF(A564=\"\",\"\",MAX(IF(ISERROR(AU564:BF564),0,AU564:BF564)))","v":""},"","","","","","","","","","","","","","","","","","",""]
[{"$f":"IF(ISBLANK('Control Sheet'!D545),\"\",'Control Sheet'!D545)","v":""},{"$f":"IF(ISBLANK('Control Sheet'!E545),\"\",'Control Sheet'!E545&\" (\"&'Control Sheet'!F545&\")\")","v":""},"","","","","","","","","","","","","",null,"","","","","","","","","","","","","","","","","","","","","","","","","","","","","","","","","","","","","","","","","","",{"$f":"IF(A565=\"\",\"\",MAX(IF(ISERROR(AU565:BF565),0,AU565:BF565)))","v":""},"","","","","","","","","","","","","","","","","","",""]
[{"$f":"IF(ISBLANK('Control Sheet'!D546),\"\",'Control Sheet'!D546)","v":""},{"$f":"IF(ISBLANK('Control Sheet'!E546),\"\",'Control Sheet'!E546&\" (\"&'Control Sheet'!F546&\")\")","v":""},"","","","","","","","","","","","","",null,"","","","","","","","","","","","","","","","","","","","","","","","","","","","","","","","","","","","","","","","","","",{"$f":"IF(A566=\"\",\"\",MAX(IF(ISERROR(AU566:BF566),0,AU566:BF566)))","v":""},"","","","","","","","","","","","","","","","","","",""]
[{"$f":"IF(ISBLANK('Control Sheet'!D547),\"\",'Control Sheet'!D547)","v":""},{"$f":"IF(ISBLANK('Control Sheet'!E547),\"\",'Control Sheet'!E547&\" (\"&'Control Sheet'!F547&\")\")","v":""},"","","","","","","","","","","","","",null,"","","","","","","","","","","","","","","","","","","","","","","","","","","","","","","","","","","","","","","","","","",{"$f":"IF(A567=\"\",\"\",MAX(IF(ISERROR(AU567:BF567),0,AU567:BF567)))","v":""},"","","","","","","","","","","","","","","","","","",""]
[{"$f":"IF(ISBLANK('Control Sheet'!D548),\"\",'Control Sheet'!D548)","v":""},{"$f":"IF(ISBLANK('Control Sheet'!E548),\"\",'Control Sheet'!E548&\" (\"&'Control Sheet'!F548&\")\")","v":""},"","","","","","","","","","","","","",null,"","","","","","","","","","","","","","","","","","","","","","","","","","","","","","","","","","","","","","","","","","",{"$f":"IF(A568=\"\",\"\",MAX(IF(ISERROR(AU568:BF568),0,AU568:BF568)))","v":""},"","","","","","","","","","","","","","","","","","",""]
[{"$f":"IF(ISBLANK('Control Sheet'!D549),\"\",'Control Sheet'!D549)","v":""},{"$f":"IF(ISBLANK('Control Sheet'!E549),\"\",'Control Sheet'!E549&\" (\"&'Control Sheet'!F549&\")\")","v":""},"","","","","","","","","","","","","",null,"","","","","","","","","","","","","","","","","","","","","","","","","","","","","","","","","","","","","","","","","","",{"$f":"IF(A569=\"\",\"\",MAX(IF(ISERROR(AU569:BF569),0,AU569:BF569)))","v":""},"","","","","","","","","","","","","","","","","","",""]
[{"$f":"IF(ISBLANK('Control Sheet'!D550),\"\",'Control Sheet'!D550)","v":""},{"$f":"IF(ISBLANK('Control Sheet'!E550),\"\",'Control Sheet'!E550&\" (\"&'Control Sheet'!F550&\")\")","v":""},"","","","","","","","","","","","","",null,"","","","","","","","","","","","","","","","","","","","","","","","","","","","","","","","","","","","","","","","","","",{"$f":"IF(A570=\"\",\"\",MAX(IF(ISERROR(AU570:BF570),0,AU570:BF570)))","v":""},"","","","","","","","","","","","","","","","","","",""]
[{"$f":"IF(ISBLANK('Control Sheet'!D551),\"\",'Control Sheet'!D551)","v":""},{"$f":"IF(ISBLANK('Control Sheet'!E551),\"\",'Control Sheet'!E551&\" (\"&'Control Sheet'!F551&\")\")","v":""},{"$f":"IF(C$18=1,IF(ISNA(VLOOKUP($A571,INDIRECT(C$20),OOPE_col,FALSE)),\"\",VLOOKUP($A571,INDIRECT(C$20),OOPE_col,FALSE)),\"\")","v":""},"","","","","","","","","","","","",null,"","","","","","","","","","","","","","","","","","","","","","","","","","","","","","","","","","","","","","","","","","",{"$f":"IF(A571=\"\",\"\",MAX(IF(ISERROR(AU571:BF571),0,AU571:BF571)))","v":""},"","","","","","","","","","","","","","","","","","",""]
[{"$f":"IF(ISBLANK('Control Sheet'!D552),\"\",'Control Sheet'!D552)","v":""},{"$f":"IF(ISBLANK('Control Sheet'!E552),\"\",'Control Sheet'!E552&\" (\"&'Control Sheet'!F552&\")\")","v":""},"","","","","","","","","","","","","",null,"","","","","","","","","","","","","","","","","","","","","","","","","","","","","","","","","","","","","","","","","","",{"$f":"IF(A572=\"\",\"\",MAX(IF(ISERROR(AU572:BF572),0,AU572:BF572)))","v":""},"","","","","","","","","","","","","","","","","","",""]
[{"$f":"IF(ISBLANK('Control Sheet'!D553),\"\",'Control Sheet'!D553)","v":""},{"$f":"IF(ISBLANK('Control Sheet'!E553),\"\",'Control Sheet'!E553&\" (\"&'Control Sheet'!F553&\")\")","v":""},"","","","","","","","","","","","","",null,"","","","","","","","","","","","","","","","","","","","","","","","","","","","","","","","","","","","","","","","","","",{"$f":"IF(A573=\"\",\"\",MAX(IF(ISERROR(AU573:BF573),0,AU573:BF573)))","v":""},"","","","","","","","","","","","","","","","","","",""]
[{"$f":"IF(ISBLANK('Control Sheet'!D554),\"\",'Control Sheet'!D554)","v":""},{"$f":"IF(ISBLANK('Control Sheet'!E554),\"\",'Control Sheet'!E554&\" (\"&'Control Sheet'!F554&\")\")","v":""},"","","","","","","","","","","","","",null,"","","","","","","","","","","","","","","","","","","","","","","","","","","","","","","","","","","","","","","","","","",{"$f":"IF(A574=\"\",\"\",MAX(IF(ISERROR(AU574:BF574),0,AU574:BF574)))","v":""},"","","","","","","","","","","","","","","","","","",""]
[{"$f":"IF(ISBLANK('Control Sheet'!D555),\"\",'Control Sheet'!D555)","v":""},{"$f":"IF(ISBLANK('Control Sheet'!E555),\"\",'Control Sheet'!E555&\" (\"&'Control Sheet'!F555&\")\")","v":""},"","","","","","","","","","","","","",null,"","","","","","","","","","","","","","","","","","","","","","","","","","","","","","","","","","","","","","","","","","",{"$f":"IF(A575=\"\",\"\",MAX(IF(ISERROR(AU575:BF575),0,AU575:BF575)))","v":""},"","","","","","","","","","","","","","","","","","",""]
[{"$f":"IF(ISBLANK('Control Sheet'!D556),\"\",'Control Sheet'!D556)","v":""},{"$f":"IF(ISBLANK('Control Sheet'!E556),\"\",'Control Sheet'!E556&\" (\"&'Control Sheet'!F556&\")\")","v":""},"","","","","","","","","","","","","",null,"","","","","","","","","","","","","","","","","","","","","","","","","","","","","","","","","","","","","","","","","","",{"$f":"IF(A576=\"\",\"\",MAX(IF(ISERROR(AU576:BF576),0,AU576:BF576)))","v":""},"","","","","","","","","","","","","","","","","","",""]
[{"$f":"IF(ISBLANK('Control Sheet'!D557),\"\",'Control Sheet'!D557)","v":""},{"$f":"IF(ISBLANK('Control Sheet'!E557),\"\",'Control Sheet'!E557&\" (\"&'Control Sheet'!F557&\")\")","v":""},"","","","","","","","","","","","","",null,"","","","","","","","","","","","","","","","","","","","","","","","","","","","","","","","","","","","","","","","","","",{"$f":"IF(A577=\"\",\"\",MAX(IF(ISERROR(AU577:BF577),0,AU577:BF577)))","v":""},"","","","","","","","","","","","","","","","","","",""]
[{"$f":"IF(ISBLANK('Control Sheet'!D558),\"\",'Control Sheet'!D558)","v":""},{"$f":"IF(ISBLANK('Control Sheet'!E558),\"\",'Control Sheet'!E558&\" (\"&'Control Sheet'!F558&\")\")","v":""},"","","","","","","","","","","","","",null,"","","","","","","","","","","","","","","","","","","","","","","","","","","","","","","","","","","","","","","","","","",{"$f":"IF(A578=\"\",\"\",MAX(IF(ISERROR(AU578:BF578),0,AU578:BF578)))","v":""},"","","","","","","","","","","","","","","","","","",""]
[{"$f":"IF(ISBLANK('Control Sheet'!D559),\"\",'Control Sheet'!D559)","v":""},{"$f":"IF(ISBLANK('Control Sheet'!E559),\"\",'Control Sheet'!E559&\" (\"&'Control Sheet'!F559&\")\")","v":""},"","","","","","","","","","","","","",null,"","","","","","","","","","","","","","","","","","","","","","","","","","","","","","","","","","","","","","","","","","",{"$f":"IF(A579=\"\",\"\",MAX(IF(ISERROR(AU579:BF579),0,AU579:BF579)))","v":""},"","","","","","","","","","","","","","","","","","",""]
[{"$f":"IF(ISBLANK('Control Sheet'!D560),\"\",'Control Sheet'!D560)","v":""},{"$f":"IF(ISBLANK('Control Sheet'!E560),\"\",'Control Sheet'!E560&\" (\"&'Control Sheet'!F560&\")\")","v":""},"","","","","","","","","","","","","",null,"","","","","","","","","","","","","","","","","","","","","","","","","","","","","","","","","","","","","","","","","","",{"$f":"IF(A580=\"\",\"\",MAX(IF(ISERROR(AU580:BF580),0,AU580:BF580)))","v":""},"","","","","","","","","","","","","","","","","","",""]
[{"$f":"IF(ISBLANK('Control Sheet'!D561),\"\",'Control Sheet'!D561)","v":""},{"$f":"IF(ISBLANK('Control Sheet'!E561),\"\",'Control Sheet'!E561&\" (\"&'Control Sheet'!F561&\")\")","v":""},{"$f":"IF(C$18=1,IF(ISNA(VLOOKUP($A581,INDIRECT(C$20),OOPE_col,FALSE)),\"\",VLOOKUP($A581,INDIRECT(C$20),OOPE_col,FALSE)),\"\")","v":""},"","","","","","","","","","","","",null,"","","","","","","","","","","","","","","","","","","","","","","","","","","","","","","","","","","","","","","","","","",{"$f":"IF(A581=\"\",\"\",MAX(IF(ISERROR(AU581:BF581),0,AU581:BF581)))","v":""},"","","","","","","","","","","","","","","","","","",""]
[{"$f":"IF(ISBLANK('Control Sheet'!D562),\"\",'Control Sheet'!D562)","v":""},{"$f":"IF(ISBLANK('Control Sheet'!E562),\"\",'Control Sheet'!E562&\" (\"&'Control Sheet'!F562&\")\")","v":""},"","","","","","","","","","","","","",null,"","","","","","","","","","","","","","","","","","","","","","","","","","","","","","","","","","","","","","","","","","",{"$f":"IF(A582=\"\",\"\",MAX(IF(ISERROR(AU582:BF582),0,AU582:BF582)))","v":""},"","","","","","","","","","","","","","","","","","",""]
[{"$f":"IF(ISBLANK('Control Sheet'!D563),\"\",'Control Sheet'!D563)","v":""},{"$f":"IF(ISBLANK('Control Sheet'!E563),\"\",'Control Sheet'!E563&\" (\"&'Control Sheet'!F563&\")\")","v":""},"","","","","","","","","","","","","",null,"","","","","","","","","","","","","","","","","","","","","","","","","","","","","","","","","","","","","","","","","","",{"$f":"IF(A583=\"\",\"\",MAX(IF(ISERROR(AU583:BF583),0,AU583:BF583)))","v":""},"","","","","","","","","","","","","","","","","","",""]
[{"$f":"IF(ISBLANK('Control Sheet'!D564),\"\",'Control Sheet'!D564)","v":""},{"$f":"IF(ISBLANK('Control Sheet'!E564),\"\",'Control Sheet'!E564&\" (\"&'Control Sheet'!F564&\")\")","v":""},"","","","","","","","","","","","","",null,"","","","","","","","","","","","","","","","","","","","","","","","","","","","","","","","","","","","","","","","","","",{"$f":"IF(A584=\"\",\"\",MAX(IF(ISERROR(AU584:BF584),0,AU584:BF584)))","v":""},"","","","","","","","","","","","","","","","","","",""]
[{"$f":"IF(ISBLANK('Control Sheet'!D565),\"\",'Control Sheet'!D565)","v":""},{"$f":"IF(ISBLANK('Control Sheet'!E565),\"\",'Control Sheet'!E565&\" (\"&'Control Sheet'!F565&\")\")","v":""},"","","","","","","","","","","","","",null,"","","","","","","","","","","","","","","","","","","","","","","","","","","","","","","","","","","","","","","","","","",{"$f":"IF(A585=\"\",\"\",MAX(IF(ISERROR(AU585:BF585),0,AU585:BF585)))","v":""},"","","","","","","","","","","","","","","","","","",""]
[{"$f":"IF(ISBLANK('Control Sheet'!D566),\"\",'Control Sheet'!D566)","v":""},{"$f":"IF(ISBLANK('Control Sheet'!E566),\"\",'Control Sheet'!E566&\" (\"&'Control Sheet'!F566&\")\")","v":""},"","","","","","","","","","","","","",null,"","","","","","","","","","","","","","","","","","","","","","","","","","","","","","","","","","","","","","","","","","",{"$f":"IF(A586=\"\",\"\",MAX(IF(ISERROR(AU586:BF586),0,AU586:BF586)))","v":""},"","","","","","","","","","","","","","","","","","",""]
[{"$f":"IF(ISBLANK('Control Sheet'!D567),\"\",'Control Sheet'!D567)","v":""},{"$f":"IF(ISBLANK('Control Sheet'!E567),\"\",'Control Sheet'!E567&\" (\"&'Control Sheet'!F567&\")\")","v":""},"","","","","","","","","","","","","",null,"","","","","","","","","","","","","","","","","","","","","","","","","","","","","","","","","","","","","","","","","","",{"$f":"IF(A587=\"\",\"\",MAX(IF(ISERROR(AU587:BF587),0,AU587:BF587)))","v":""},"","","","","","","","","","","","","","","","","","",""]
[{"$f":"IF(ISBLANK('Control Sheet'!D568),\"\",'Control Sheet'!D568)","v":""},{"$f":"IF(ISBLANK('Control Sheet'!E568),\"\",'Control Sheet'!E568&\" (\"&'Control Sheet'!F568&\")\")","v":""},"","","","","","","","","","","","","",null,"","","","","","","","","","","","","","","","","","","","","","","","","","","","","","","","","","","","","","","","","","",{"$f":"IF(A588=\"\",\"\",MAX(IF(ISERROR(AU588:BF588),0,AU588:BF588)))","v":""},"","","","","","","","","","","","","","","","","","",""]
[{"$f":"IF(ISBLANK('Control Sheet'!D569),\"\",'Control Sheet'!D569)","v":""},{"$f":"IF(ISBLANK('Control Sheet'!E569),\"\",'Control Sheet'!E569&\" (\"&'Control Sheet'!F569&\")\")","v":""},"","","","","","","","","","","","","",null,"","","","","","","","","","","","","","","","","","","","","","","","","","","","","","","","","","","","","","","","","","",{"$f":"IF(A589=\"\",\"\",MAX(IF(ISERROR(AU589:BF589),0,AU589:BF589)))","v":""},"","","","","","","","","","","","","","","","","","",""]
[{"$f":"IF(ISBLANK('Control Sheet'!D570),\"\",'Control Sheet'!D570)","v":""},{"$f":"IF(ISBLANK('Control Sheet'!E570),\"\",'Control Sheet'!E570&\" (\"&'Control Sheet'!F570&\")\")","v":""},"","","","","","","","","","","","","",null,"","","","","","","","","","","","","","","","","","","","","","","","","","","","","","","","","","","","","","","","","","",{"$f":"IF(A590=\"\",\"\",MAX(IF(ISERROR(AU590:BF590),0,AU590:BF590)))","v":""},"","","","","","","","","","","","","","","","","","",""]
[{"$f":"IF(ISBLANK('Control Sheet'!D571),\"\",'Control Sheet'!D571)","v":""},{"$f":"IF(ISBLANK('Control Sheet'!E571),\"\",'Control Sheet'!E571&\" (\"&'Control Sheet'!F571&\")\")","v":""},{"$f":"IF(C$18=1,IF(ISNA(VLOOKUP($A591,INDIRECT(C$20),OOPE_col,FALSE)),\"\",VLOOKUP($A591,INDIRECT(C$20),OOPE_col,FALSE)),\"\")","v":""},"","","","","","","","","","","","",null,"","","","","","","","","","","","","","","","","","","","","","","","","","","","","","","","","","","","","","","","","","",{"$f":"IF(A591=\"\",\"\",MAX(IF(ISERROR(AU591:BF591),0,AU591:BF591)))","v":""},"","","","","","","","","","","","","","","","","","",""]
[{"$f":"IF(ISBLANK('Control Sheet'!D572),\"\",'Control Sheet'!D572)","v":""},{"$f":"IF(ISBLANK('Control Sheet'!E572),\"\",'Control Sheet'!E572&\" (\"&'Control Sheet'!F572&\")\")","v":""},"","","","","","","","","","","","","",null,"","","","","","","","","","","","","","","","","","","","","","","","","","","","","","","","","","","","","","","","","","",{"$f":"IF(A592=\"\",\"\",MAX(IF(ISERROR(AU592:BF592),0,AU592:BF592)))","v":""},"","","","","","","","","","","","","","","","","","",""]
[{"$f":"IF(ISBLANK('Control Sheet'!D573),\"\",'Control Sheet'!D573)","v":""},{"$f":"IF(ISBLANK('Control Sheet'!E573),\"\",'Control Sheet'!E573&\" (\"&'Control Sheet'!F573&\")\")","v":""},"","","","","","","","","","","","","",null,"","","","","","","","","","","","","","","","","","","","","","","","","","","","","","","","","","","","","","","","","","",{"$f":"IF(A593=\"\",\"\",MAX(IF(ISERROR(AU593:BF593),0,AU593:BF593)))","v":""},"","","","","","","","","","","","","","","","","","",""]
[{"$f":"IF(ISBLANK('Control Sheet'!D574),\"\",'Control Sheet'!D574)","v":""},{"$f":"IF(ISBLANK('Control Sheet'!E574),\"\",'Control Sheet'!E574&\" (\"&'Control Sheet'!F574&\")\")","v":""},"","","","","","","","","","","","","",null,"","","","","","","","","","","","","","","","","","","","","","","","","","","","","","","","","","","","","","","","","","",{"$f":"IF(A594=\"\",\"\",MAX(IF(ISERROR(AU594:BF594),0,AU594:BF594)))","v":""},"","","","","","","","","","","","","","","","","","",""]
[{"$f":"IF(ISBLANK('Control Sheet'!D575),\"\",'Control Sheet'!D575)","v":""},{"$f":"IF(ISBLANK('Control Sheet'!E575),\"\",'Control Sheet'!E575&\" (\"&'Control Sheet'!F575&\")\")","v":""},"","","","","","","","","","","","","",null,"","","","","","","","","","","","","","","","","","","","","","","","","","","","","","","","","","","","","","","","","","",{"$f":"IF(A595=\"\",\"\",MAX(IF(ISERROR(AU595:BF595),0,AU595:BF595)))","v":""},"","","","","","","","","","","","","","","","","","",""]
[{"$f":"IF(ISBLANK('Control Sheet'!D576),\"\",'Control Sheet'!D576)","v":""},{"$f":"IF(ISBLANK('Control Sheet'!E576),\"\",'Control Sheet'!E576&\" (\"&'Control Sheet'!F576&\")\")","v":""},"","","","","","","","","","","","","",null,"","","","","","","","","","","","","","","","","","","","","","","","","","","","","","","","","","","","","","","","","","",{"$f":"IF(A596=\"\",\"\",MAX(IF(ISERROR(AU596:BF596),0,AU596:BF596)))","v":""},"","","","","","","","","","","","","","","","","","",""]
[{"$f":"IF(ISBLANK('Control Sheet'!D577),\"\",'Control Sheet'!D577)","v":""},{"$f":"IF(ISBLANK('Control Sheet'!E577),\"\",'Control Sheet'!E577&\" (\"&'Control Sheet'!F577&\")\")","v":""},"","","","","","","","","","","","","",null,"",{"$f":"IF(A597=\"\",\"\",OOPEMonthsPop-(COUNTA(C597:N597)-COUNTBLANK(C597:N597)))","v":""},"","","","","","","","","","","","","","","","","","","","","","","","","","","","",{"$f":"IF(OR(A597=\"\",OOPEMonthsPop=0),\"\",IF(AU$18=OOPEMonthsPop,AH597,#N/A))","v":""},{"$f":"IF(OR($A597=\"\",OOPEMonthsPop=0),\"\",IF(AV$18<OOPEMonthsPop,#N/A,IF(AV$18=OOPEMonthsPop,AI597,IF(AU597=\"\",\"\",IF(AV$18=OOPEMonthsPop+1,AU597+(AU597*VLOOKUP(OOPEMonthsPop-$R597,ForecastMult,3,FALSE)/12),AU597+AU597-AT597)))))","v":""},{"$f":"IF(OR($A597=\"\",OOPEMonthsPop=0),\"\",IF(AW$18<OOPEMonthsPop,#N/A,IF(AW$18=OOPEMonthsPop,AJ597,IF(AV597=\"\",\"\",IF(AW$18=OOPEMonthsPop+1,AV597+(AV597*VLOOKUP(OOPEMonthsPop-$R597,ForecastMult,3,FALSE)/12),AV597+AV597-AU597)))))","v":""},{"$f":"IF(OR($A597=\"\",OOPEMonthsPop=0),\"\",IF(AX$18<OOPEMonthsPop,#N/A,IF(AX$18=OOPEMonthsPop,AK597,IF(AW597=\"\",\"\",IF(AX$18=OOPEMonthsPop+1,AW597+(AW597*VLOOKUP(OOPEMonthsPop-$R597,ForecastMult,3,FALSE)/12),AW597+AW597-AV597)))))","v":""},{"$f":"IF(OR($A597=\"\",OOPEMonthsPop=0),\"\",IF(AY$18<OOPEMonthsPop,#N/A,IF(AY$18=OOPEMonthsPop,AL597,IF(AX597=\"\",\"\",IF(AY$18=OOPEMonthsPop+1,AX597+(AX597*VLOOKUP(OOPEMonthsPop-$R597,ForecastMult,3,FALSE)/12),AX597+AX597-AW597)))))","v":""},{"$f":"IF(OR($A597=\"\",OOPEMonthsPop=0),\"\",IF(AZ$18<OOPEMonthsPop,#N/A,IF(AZ$18=OOPEMonthsPop,AM597,IF(AY597=\"\",\"\",IF(AZ$18=OOPEMonthsPop+1,AY597+(AY597*VLOOKUP(OOPEMonthsPop-$R597,ForecastMult,3,FALSE)/12),AY597+AY597-AX597)))))","v":""},{"$f":"IF(OR($A597=\"\",OOPEMonthsPop=0),\"\",IF(BA$18<OOPEMonthsPop,#N/A,IF(BA$18=OOPEMonthsPop,AN597,IF(AZ597=\"\",\"\",IF(BA$18=OOPEMonthsPop+1,AZ597+(AZ597*VLOOKUP(OOPEMonthsPop-$R597,ForecastMult,3,FALSE)/12),AZ597+AZ597-AY597)))))","v":""},{"$f":"IF(OR($A597=\"\",OOPEMonthsPop=0),\"\",IF(BB$18<OOPEMonthsPop,#N/A,IF(BB$18=OOPEMonthsPop,AO597,IF(BA597=\"\",\"\",IF(BB$18=OOPEMonthsPop+1,BA597+(BA597*VLOOKUP(OOPEMonthsPop-$R597,ForecastMult,3,FALSE)/12),BA597+BA597-AZ597)))))","v":""},{"$f":"IF(OR($A597=\"\",OOPEMonthsPop=0),\"\",IF(BC$18<OOPEMonthsPop,#N/A,IF(BC$18=OOPEMonthsPop,AP597,IF(BB597=\"\",\"\",IF(BC$18=OOPEMonthsPop+1,BB597+(BB597*VLOOKUP(OOPEMonthsPop-$R597,ForecastMult,3,FALSE)/12),BB597+BB597-BA597)))))","v":""},{"$f":"IF(OR($A597=\"\",OOPEMonthsPop=0),\"\",IF(BD$18<OOPEMonthsPop,#N/A,IF(BD$18=OOPEMonthsPop,AQ597,IF(BC597=\"\",\"\",IF(BD$18=OOPEMonthsPop+1,BC597+(BC597*VLOOKUP(OOPEMonthsPop-$R597,ForecastMult,3,FALSE)/12),BC597+BC597-BB597)))))","v":""},{"$f":"IF(OR($A597=\"\",OOPEMonthsPop=0),\"\",IF(BE$18<OOPEMonthsPop,#N/A,IF(BE$18=OOPEMonthsPop,AR597,IF(BD597=\"\",\"\",IF(BE$18=OOPEMonthsPop+1,BD597+(BD597*VLOOKUP(OOPEMonthsPop-$R597,ForecastMult,3,FALSE)/12),BD597+BD597-BC597)))))","v":""},{"$f":"IF(OR($A597=\"\",OOPEMonthsPop=0),\"\",IF(BF$18<OOPEMonthsPop,#N/A,IF(BF$18=OOPEMonthsPop,AS597,IF(BE597=\"\",\"\",IF(BF$18=OOPEMonthsPop+1,BE597+(BE597*VLOOKUP(OOPEMonthsPop-$R597,ForecastMult,3,FALSE)/12),BE597+BE597-BD597)))))","v":""},{"$f":"IF(A597=\"\",\"\",MAX(IF(ISERROR(AU597:BF597),0,AU597:BF597)))","v":""},{"$f":"IF(AND(C$18=1,$A597<>\"\"),IF(ISNA(VLOOKUP($A597,INDIRECT(C$20),TOT_STDR_PXS_col,FALSE)),\"\",VLOOKUP($A597,INDIRECT(C$20),TOT_STDR_PXS_col,FALSE)+VLOOKUP($A597,INDIRECT(C$20),TOT_ZDR_PXS_col,FALSE)),\"\")","v":""},{"$f":"IF(AND(D$18=1,$A597<>\"\"),IF(ISNA(VLOOKUP($A597,INDIRECT(D$20),TOT_STDR_PXS_col,FALSE)),\"\",VLOOKUP($A597,INDIRECT(D$20),TOT_STDR_PXS_col,FALSE)+VLOOKUP($A597,INDIRECT(D$20),TOT_ZDR_PXS_col,FALSE)),\"\")","v":""},{"$f":"IF(AND(E$18=1,$A597<>\"\"),IF(ISNA(VLOOKUP($A597,INDIRECT(E$20),TOT_STDR_PXS_col,FALSE)),\"\",VLOOKUP($A597,INDIRECT(E$20),TOT_STDR_PXS_col,FALSE)+VLOOKUP($A597,INDIRECT(E$20),TOT_ZDR_PXS_col,FALSE)),\"\")","v":""},{"$f":"IF(AND(F$18=1,$A597<>\"\"),IF(ISNA(VLOOKUP($A597,INDIRECT(F$20),TOT_STDR_PXS_col,FALSE)),\"\",VLOOKUP($A597,INDIRECT(F$20),TOT_STDR_PXS_col,FALSE)+VLOOKUP($A597,INDIRECT(F$20),TOT_ZDR_PXS_col,FALSE)),\"\")","v":""},{"$f":"IF(AND(G$18=1,$A597<>\"\"),IF(ISNA(VLOOKUP($A597,INDIRECT(G$20),TOT_STDR_PXS_col,FALSE)),\"\",VLOOKUP($A597,INDIRECT(G$20),TOT_STDR_PXS_col,FALSE)+VLOOKUP($A597,INDIRECT(G$20),TOT_ZDR_PXS_col,FALSE)),\"\")","v":""},{"$f":"IF(AND(H$18=1,$A597<>\"\"),IF(ISNA(VLOOKUP($A597,INDIRECT(H$20),TOT_STDR_PXS_col,FALSE)),\"\",VLOOKUP($A597,INDIRECT(H$20),TOT_STDR_PXS_col,FALSE)+VLOOKUP($A597,INDIRECT(H$20),TOT_ZDR_PXS_col,FALSE)),\"\")","v":""},{"$f":"IF(AND(I$18=1,$A597<>\"\"),IF(ISNA(VLOOKUP($A597,INDIRECT(I$20),TOT_STDR_PXS_col,FALSE)),\"\",VLOOKUP($A597,INDIRECT(I$20),TOT_STDR_PXS_col,FALSE)+VLOOKUP($A597,INDIRECT(I$20),TOT_ZDR_PXS_col,FALSE)),\"\")","v":""},{"$f":"IF(AND(J$18=1,$A597<>\"\"),IF(ISNA(VLOOKUP($A597,INDIRECT(J$20),TOT_STDR_PXS_col,FALSE)),\"\",VLOOKUP($A597,INDIRECT(J$20),TOT_STDR_PXS_col,FALSE)+VLOOKUP($A597,INDIRECT(J$20),TOT_ZDR_PXS_col,FALSE)),\"\")","v":""},{"$f":"IF(AND(K$18=1,$A597<>\"\"),IF(ISNA(VLOOKUP($A597,INDIRECT(K$20),TOT_STDR_PXS_col,FALSE)),\"\",VLOOKUP($A597,INDIRECT(K$20),TOT_STDR_PXS_col,FALSE)+VLOOKUP($A597,INDIRECT(K$20),TOT_ZDR_PXS_col,FALSE)),\"\")","v":""},{"$f":"IF(AND(L$18=1,$A597<>\"\"),IF(ISNA(VLOOKUP($A597,INDIRECT(L$20),TOT_STDR_PXS_col,FALSE)),\"\",VLOOKUP($A597,INDIRECT(L$20),TOT_STDR_PXS_col,FALSE)+VLOOKUP($A597,INDIRECT(L$20),TOT_ZDR_PXS_col,FALSE)),\"\")","v":""},{"$f":"IF(AND(M$18=1,$A597<>\"\"),IF(ISNA(VLOOKUP($A597,INDIRECT(M$20),TOT_STDR_PXS_col,FALSE)),\"\",VLOOKUP($A597,INDIRECT(M$20),TOT_STDR_PXS_col,FALSE)+VLOOKUP($A597,INDIRECT(M$20),TOT_ZDR_PXS_col,FALSE)),\"\")","v":""},{"$f":"IF(AND(N$18=1,$A597<>\"\"),IF(ISNA(VLOOKUP($A597,INDIRECT(N$20),TOT_STDR_PXS_col,FALSE)),\"\",VLOOKUP($A597,INDIRECT(N$20),TOT_STDR_PXS_col,FALSE)+VLOOKUP($A597,INDIRECT(N$20),TOT_ZDR_PXS_col,FALSE)),\"\")","v":""},"","","","","","",""]
[{"$f":"IF(ISBLANK('Control Sheet'!D578),\"\",'Control Sheet'!D578)","v":""},{"$f":"IF(ISBLANK('Control Sheet'!E578),\"\",'Control Sheet'!E578&\" (\"&'Control Sheet'!F578&\")\")","v":""},"","","","","","","","","","","","",{"$f":"IF(A598=\"\",\"\",SUM(C598:N598))","v":""},null,{"$f":"IF(A598=\"\",\"\",IF(BG598<=400,\"No\",\"Yes\"))","v":""},"",{"$f":"IF(C598=\"\",\"\",IF(C598<=C$10,1,IF(C598<=C$7,2,IF(C598<=C$8,3,IF(C598<=C$9,4,IF(C598<=C$11,5,60))))))","v":""},{"$f":"IF(D598=\"\",\"\",IF(D598<=D$10,1,IF(D598<=D$7,2,IF(D598<=D$8,3,IF(D598<=D$9,4,IF(D598<=D$11,5,60))))))","v":""},{"$f":"IF(E598=\"\",\"\",IF(E598<=E$10,1,IF(E598<=E$7,2,IF(E598<=E$8,3,IF(E598<=E$9,4,IF(E598<=E$11,5,60))))))","v":""},{"$f":"IF(F598=\"\",\"\",IF(F598<=F$10,1,IF(F598<=F$7,2,IF(F598<=F$8,3,IF(F598<=F$9,4,IF(F598<=F$11,5,60))))))","v":""},{"$f":"IF(G598=\"\",\"\",IF(G598<=G$10,1,IF(G598<=G$7,2,IF(G598<=G$8,3,IF(G598<=G$9,4,IF(G598<=G$11,5,60))))))","v":""},{"$f":"IF(H598=\"\",\"\",IF(H598<=H$10,1,IF(H598<=H$7,2,IF(H598<=H$8,3,IF(H598<=H$9,4,IF(H598<=H$11,5,60))))))","v":""},{"$f":"IF(I598=\"\",\"\",IF(I598<=I$10,1,IF(I598<=I$7,2,IF(I598<=I$8,3,IF(I598<=I$9,4,IF(I598<=I$11,5,60))))))","v":""},{"$f":"IF(J598=\"\",\"\",IF(J598<=J$10,1,IF(J598<=J$7,2,IF(J598<=J$8,3,IF(J598<=J$9,4,IF(J598<=J$11,5,60))))))","v":""},{"$f":"IF(K598=\"\",\"\",IF(K598<=K$10,1,IF(K598<=K$7,2,IF(K598<=K$8,3,IF(K598<=K$9,4,IF(K598<=K$11,5,60))))))","v":""},{"$f":"IF(L598=\"\",\"\",IF(L598<=L$10,1,IF(L598<=L$7,2,IF(L598<=L$8,3,IF(L598<=L$9,4,IF(L598<=L$11,5,60))))))","v":""},{"$f":"IF(M598=\"\",\"\",IF(M598<=M$10,1,IF(M598<=M$7,2,IF(M598<=M$8,3,IF(M598<=M$9,4,IF(M598<=M$11,5,60))))))","v":""},{"$f":"IF(N598=\"\",\"\",IF(N598<=N$10,1,IF(N598<=N$7,2,IF(N598<=N$8,3,IF(N598<=N$9,4,IF(N598<=N$11,5,60))))))","v":""},{"$f":"IF(A598=\"\",\"\",SUM(S598:AD598))","v":""},"",{"$f":"IF(AF598=\"\",\"\",IF(AF598<=1,\"Lower Outlier\",IF(AF598<=2,\"Below Average\",IF(AF598<=3,\"Lower Quartile\",IF(AF598<=4,\"Upper Quartile\",IF(AF598<=5, \"Above Average\", \"Upper Outlier\"))))))","v":""},{"$f":"IF(C$18=1,C598,\"\")","v":""},{"$f":"IF(D$18=1,IF(D598=\"\",IF(AH598=\"\",\"\",AH598),IF(AND(D598>=0,AH598=\"\"),D598,IF(ISERROR(D598+AH598),#N/A,D598+AH598))),\"\")","v":""},{"$f":"IF(E$18=1,IF(E598=\"\",IF(AI598=\"\",\"\",AI598),IF(AND(E598>=0,AI598=\"\"),E598,IF(ISERROR(E598+AI598),#N/A,E598+AI598))),\"\")","v":""},{"$f":"IF(F$18=1,IF(F598=\"\",IF(AJ598=\"\",\"\",AJ598),IF(AND(F598>=0,AJ598=\"\"),F598,IF(ISERROR(F598+AJ598),#N/A,F598+AJ598))),\"\")","v":""},{"$f":"IF(G$18=1,IF(G598=\"\",IF(AK598=\"\",\"\",AK598),IF(AND(G598>=0,AK598=\"\"),G598,IF(ISERROR(G598+AK598),#N/A,G598+AK598))),\"\")","v":""},{"$f":"IF(H$18=1,IF(H598=\"\",IF(AL598=\"\",\"\",AL598),IF(AND(H598>=0,AL598=\"\"),H598,IF(ISERROR(H598+AL598),#N/A,H598+AL598))),\"\")","v":""},{"$f":"IF(I$18=1,IF(I598=\"\",IF(AM598=\"\",\"\",AM598),IF(AND(I598>=0,AM598=\"\"),I598,IF(ISERROR(I598+AM598),#N/A,I598+AM598))),\"\")","v":""},{"$f":"IF(J$18=1,IF(J598=\"\",IF(AN598=\"\",\"\",AN598),IF(AND(J598>=0,AN598=\"\"),J598,IF(ISERROR(J598+AN598),#N/A,J598+AN598))),\"\")","v":""},{"$f":"IF(K$18=1,IF(K598=\"\",IF(AO598=\"\",\"\",AO598),IF(AND(K598>=0,AO598=\"\"),K598,IF(ISERROR(K598+AO598),#N/A,K598+AO598))),\"\")","v":""},{"$f":"IF(L$18=1,IF(L598=\"\",IF(AP598=\"\",\"\",AP598),IF(AND(L598>=0,AP598=\"\"),L598,IF(ISERROR(L598+AP598),#N/A,L598+AP598))),\"\")","v":""},{"$f":"IF(M$18=1,IF(M598=\"\",IF(AQ598=\"\",\"\",AQ598),IF(AND(M598>=0,AQ598=\"\"),M598,IF(ISERROR(M598+AQ598),#N/A,M598+AQ598))),\"\")","v":""},{"$f":"IF(N$18=1,IF(N598=\"\",IF(AR598=\"\",\"\",AR598),IF(AND(N598>=0,AR598=\"\"),N598,IF(ISERROR(N598+AR598),#N/A,N598+AR598))),\"\")","v":""},{"$f":"IF(A598=\"\",\"\",MAX(AH598:AS598))","v":""},"","","","","","","","","","","","",{"$f":"IF(A598=\"\",\"\",MAX(IF(ISERROR(AU598:BF598),0,AU598:BF598)))","v":""},"","","","","","","","","","","","",{"$f":"IF(A598=\"\",\"\",SUM(BH598:BS598))","v":""},{"$f":"IF(A598=\"\",\"\",MIN(B598:M598))","v":""},{"$f":"IF(A598=\"\",\"\",MAX(B598:M598))","v":""},{"$f":"IF(A598=\"\",\"\",IF(BV598-BU598=0,\"\",BV598-BU598))","v":""},{"$f":"IF(A598=\"\",\"\",IF(BW598=\"\",\"No\",IF(BW598>$BW$11,\"Yes\",\"No\")))","v":""},{"$f":"IF(A598=\"\",\"\",(COUNTA(C598:N598)-COUNTBLANK(C598:N598)))","v":""},{"$f":"IF(A598=\"\",\"\",BY598-COUNTIF(C598:N598,\"=0\"))","v":""}]
[{"$f":"IF(ISBLANK('Control Sheet'!D579),\"\",'Control Sheet'!D579)","v":""},{"$f":"IF(ISBLANK('Control Sheet'!E579),\"\",'Control Sheet'!E579&\" (\"&'Control Sheet'!F579&\")\")","v":""},"","","","","","","","","","","","","",null,"","","","","","","","","","","","","","","","","","","","","","","","","","","","","","","","","","","","","","","","","","",{"$f":"IF(A599=\"\",\"\",MAX(IF(ISERROR(AU599:BF599),0,AU599:BF599)))","v":""},"","","","","","","","","","","","","","","","","","",""]
[{"$f":"IF(ISBLANK('Control Sheet'!D580),\"\",'Control Sheet'!D580)","v":""},{"$f":"IF(ISBLANK('Control Sheet'!E580),\"\",'Control Sheet'!E580&\" (\"&'Control Sheet'!F580&\")\")","v":""},"","","","","","","","","","","","","",null,"","","","","","","","","","","","","","","","","","","","","","","","","","","","","","","","","","","","","","","","","","",{"$f":"IF(A600=\"\",\"\",MAX(IF(ISERROR(AU600:BF600),0,AU600:BF600)))","v":""},"","","","","","","","","","","","","","","","","","",""]
[{"$f":"IF(ISBLANK('Control Sheet'!D581),\"\",'Control Sheet'!D581)","v":""},{"$f":"IF(ISBLANK('Control Sheet'!E581),\"\",'Control Sheet'!E581&\" (\"&'Control Sheet'!F581&\")\")","v":""},{"$f":"IF(C$18=1,IF(ISNA(VLOOKUP($A601,INDIRECT(C$20),OOPE_col,FALSE)),\"\",VLOOKUP($A601,INDIRECT(C$20),OOPE_col,FALSE)),\"\")","v":""},"","","","","","","","","","","","",null,"","","","","","","","","","","","","","","","","","","","","","","","","","","","","","","","","","","","","","","","","","",{"$f":"IF(A601=\"\",\"\",MAX(IF(ISERROR(AU601:BF601),0,AU601:BF601)))","v":""},"","","","","","","","","","","","","","","","","","",""]
[{"$f":"IF(ISBLANK('Control Sheet'!D582),\"\",'Control Sheet'!D582)","v":""},{"$f":"IF(ISBLANK('Control Sheet'!E582),\"\",'Control Sheet'!E582&\" (\"&'Control Sheet'!F582&\")\")","v":""},"","","","","","","","","","","","","",null,"","","","","","","","","","","","","","","","","","","","","","","","","","","","","","","","","","","","","","","","","","",{"$f":"IF(A602=\"\",\"\",MAX(IF(ISERROR(AU602:BF602),0,AU602:BF602)))","v":""},"","","","","","","","","","","","","","","","","","",""]
[{"$f":"IF(ISBLANK('Control Sheet'!D583),\"\",'Control Sheet'!D583)","v":""},{"$f":"IF(ISBLANK('Control Sheet'!E583),\"\",'Control Sheet'!E583&\" (\"&'Control Sheet'!F583&\")\")","v":""},"","","","","","","","","","","","","",null,"","","","","","","","","","","","","","","","","","","","","","","","","","","","","","","","","","","","","","","","","","",{"$f":"IF(A603=\"\",\"\",MAX(IF(ISERROR(AU603:BF603),0,AU603:BF603)))","v":""},"","","","","","","","","","","","","","","","","","",""]
[{"$f":"IF(ISBLANK('Control Sheet'!D584),\"\",'Control Sheet'!D584)","v":""},{"$f":"IF(ISBLANK('Control Sheet'!E584),\"\",'Control Sheet'!E584&\" (\"&'Control Sheet'!F584&\")\")","v":""},"","","","","","","","","","","","","",null,"","","","","","","","","","","","","","","","","","","","","","","","","","","","","","","","","","","","","","","","","","",{"$f":"IF(A604=\"\",\"\",MAX(IF(ISERROR(AU604:BF604),0,AU604:BF604)))","v":""},"","","","","","","","","","","","","","","","","","",""]
[{"$f":"IF(ISBLANK('Control Sheet'!D585),\"\",'Control Sheet'!D585)","v":""},{"$f":"IF(ISBLANK('Control Sheet'!E585),\"\",'Control Sheet'!E585&\" (\"&'Control Sheet'!F585&\")\")","v":""},"","","","","","","","","","","","","",null,"","","","","","","","","","","","","","","","","","","","","","","","","","","","","","","","","","","","","","","","","","",{"$f":"IF(A605=\"\",\"\",MAX(IF(ISERROR(AU605:BF605),0,AU605:BF605)))","v":""},"","","","","","","","","","","","","","","","","","",""]
[{"$f":"IF(ISBLANK('Control Sheet'!D586),\"\",'Control Sheet'!D586)","v":""},{"$f":"IF(ISBLANK('Control Sheet'!E586),\"\",'Control Sheet'!E586&\" (\"&'Control Sheet'!F586&\")\")","v":""},"","","","","","","","","","","","","",null,"","","","","","","","","","","","","","","","","","","","","","","","","","","","","","","","","","","","","","","","","","",{"$f":"IF(A606=\"\",\"\",MAX(IF(ISERROR(AU606:BF606),0,AU606:BF606)))","v":""},"","","","","","","","","","","","","","","","","","",""]
[{"$f":"IF(ISBLANK('Control Sheet'!D587),\"\",'Control Sheet'!D587)","v":""},{"$f":"IF(ISBLANK('Control Sheet'!E587),\"\",'Control Sheet'!E587&\" (\"&'Control Sheet'!F587&\")\")","v":""},"","","","","","","","","","","","","",null,"","","","","","","","","","","","","","","","","","","","","","","","","","","","","","","","","","","","","","","","","","",{"$f":"IF(A607=\"\",\"\",MAX(IF(ISERROR(AU607:BF607),0,AU607:BF607)))","v":""},"","","","","","","","","","","","","","","","","","",""]
[{"$f":"IF(ISBLANK('Control Sheet'!D588),\"\",'Control Sheet'!D588)","v":""},{"$f":"IF(ISBLANK('Control Sheet'!E588),\"\",'Control Sheet'!E588&\" (\"&'Control Sheet'!F588&\")\")","v":""},"","","","","","","","","","","","","",null,"","","","","","","","","","","","","","","","","","","","","","","","","","","","","","","","","","","","","","","","","","",{"$f":"IF(A608=\"\",\"\",MAX(IF(ISERROR(AU608:BF608),0,AU608:BF608)))","v":""},"","","","","","","","","","","","","","","","","","",""]
[{"$f":"IF(ISBLANK('Control Sheet'!D589),\"\",'Control Sheet'!D589)","v":""},{"$f":"IF(ISBLANK('Control Sheet'!E589),\"\",'Control Sheet'!E589&\" (\"&'Control Sheet'!F589&\")\")","v":""},"","","","","","","","","","","","","",null,"","","","","","","","","","","","","","","","","","","","","","","","","","","","","","","","","","","","","","","","","","",{"$f":"IF(A609=\"\",\"\",MAX(IF(ISERROR(AU609:BF609),0,AU609:BF609)))","v":""},"","","","","","","","","","","","","","","","","","",""]
[{"$f":"IF(ISBLANK('Control Sheet'!D590),\"\",'Control Sheet'!D590)","v":""},{"$f":"IF(ISBLANK('Control Sheet'!E590),\"\",'Control Sheet'!E590&\" (\"&'Control Sheet'!F590&\")\")","v":""},"","","","","","","","","","","","","",null,"","","","","","","","","","","","","","","","","","","","","","","","","","","","","","","","","","","","","","","","","","",{"$f":"IF(A610=\"\",\"\",MAX(IF(ISERROR(AU610:BF610),0,AU610:BF610)))","v":""},"","","","","","","","","","","","","","","","","","",""]
[{"$f":"IF(ISBLANK('Control Sheet'!D591),\"\",'Control Sheet'!D591)","v":""},{"$f":"IF(ISBLANK('Control Sheet'!E591),\"\",'Control Sheet'!E591&\" (\"&'Control Sheet'!F591&\")\")","v":""},{"$f":"IF(C$18=1,IF(ISNA(VLOOKUP($A611,INDIRECT(C$20),OOPE_col,FALSE)),\"\",VLOOKUP($A611,INDIRECT(C$20),OOPE_col,FALSE)),\"\")","v":""},"","","","","","","","","","","","",null,"","","","","","","","","","","","","","","","","","","","","","","","","","","","","","","","","","","","","","","","","","",{"$f":"IF(A611=\"\",\"\",MAX(IF(ISERROR(AU611:BF611),0,AU611:BF611)))","v":""},"","","","","","","","","","","","","","","","","","",""]
[{"$f":"IF(ISBLANK('Control Sheet'!D592),\"\",'Control Sheet'!D592)","v":""},{"$f":"IF(ISBLANK('Control Sheet'!E592),\"\",'Control Sheet'!E592&\" (\"&'Control Sheet'!F592&\")\")","v":""},"","","","","","","","","","","","","",null,"","","","","","","","","","","","","","","","","","","","","","","","","","","","","","","","","","","","","","","","","","",{"$f":"IF(A612=\"\",\"\",MAX(IF(ISERROR(AU612:BF612),0,AU612:BF612)))","v":""},"","","","","","","","","","","","","","","","","","",""]
[{"$f":"IF(ISBLANK('Control Sheet'!D593),\"\",'Control Sheet'!D593)","v":""},{"$f":"IF(ISBLANK('Control Sheet'!E593),\"\",'Control Sheet'!E593&\" (\"&'Control Sheet'!F593&\")\")","v":""},"","","","","","","","","","","","","",null,"","","","","","","","","","","","","","","","","","","","","","","","","","","","","","","","","","","","","","","","","","",{"$f":"IF(A613=\"\",\"\",MAX(IF(ISERROR(AU613:BF613),0,AU613:BF613)))","v":""},"","","","","","","","","","","","","","","","","","",""]
[{"$f":"IF(ISBLANK('Control Sheet'!D594),\"\",'Control Sheet'!D594)","v":""},{"$f":"IF(ISBLANK('Control Sheet'!E594),\"\",'Control Sheet'!E594&\" (\"&'Control Sheet'!F594&\")\")","v":""},"","","","","","","","","","","","","",null,"","","","","","","","","","","","","","","","","","","","","","","","","","","","","","","","","","","","","","","","","","",{"$f":"IF(A614=\"\",\"\",MAX(IF(ISERROR(AU614:BF614),0,AU614:BF614)))","v":""},"","","","","","","","","","","","","","","","","","",""]
[{"$f":"IF(ISBLANK('Control Sheet'!D595),\"\",'Control Sheet'!D595)","v":""},{"$f":"IF(ISBLANK('Control Sheet'!E595),\"\",'Control Sheet'!E595&\" (\"&'Control Sheet'!F595&\")\")","v":""},"","","","","","","","","","","","","",null,"","","","","","","","","","","","","","","","","","","","","","","","","","","","","","","","","","","","","","","","","","",{"$f":"IF(A615=\"\",\"\",MAX(IF(ISERROR(AU615:BF615),0,AU615:BF615)))","v":""},"","","","","","","","","","","","","","","","","","",""]
[{"$f":"IF(ISBLANK('Control Sheet'!D596),\"\",'Control Sheet'!D596)","v":""},{"$f":"IF(ISBLANK('Control Sheet'!E596),\"\",'Control Sheet'!E596&\" (\"&'Control Sheet'!F596&\")\")","v":""},"","","","","","","","","","","","","",null,"","","","","","","","","","","","","","","","","","","","","","","","","","","","","","","","","","","","","","","","","","",{"$f":"IF(A616=\"\",\"\",MAX(IF(ISERROR(AU616:BF616),0,AU616:BF616)))","v":""},"","","","","","","","","","","","","","","","","","",""]
[{"$f":"IF(ISBLANK('Control Sheet'!D597),\"\",'Control Sheet'!D597)","v":""},{"$f":"IF(ISBLANK('Control Sheet'!E597),\"\",'Control Sheet'!E597&\" (\"&'Control Sheet'!F597&\")\")","v":""},"","","","","","","","","","","","","",null,"","","","","","","","","","","","","","","","","","","","","","","","","","","","","","","","","","","","","","","","","","",{"$f":"IF(A617=\"\",\"\",MAX(IF(ISERROR(AU617:BF617),0,AU617:BF617)))","v":""},"","","","","","","","","","","","","","","","","","",""]
[{"$f":"IF(ISBLANK('Control Sheet'!D598),\"\",'Control Sheet'!D598)","v":""},{"$f":"IF(ISBLANK('Control Sheet'!E598),\"\",'Control Sheet'!E598&\" (\"&'Control Sheet'!F598&\")\")","v":""},"","","","","","","","","","","","","",null,"","","","","","","","","","","","","","","","","","","","","","","","","","","","","","","","","","","","","","","","","","",{"$f":"IF(A618=\"\",\"\",MAX(IF(ISERROR(AU618:BF618),0,AU618:BF618)))","v":""},"","","","","","","","","","","","","","","","","","",""]
[{"$f":"IF(ISBLANK('Control Sheet'!D599),\"\",'Control Sheet'!D599)","v":""},{"$f":"IF(ISBLANK('Control Sheet'!E599),\"\",'Control Sheet'!E599&\" (\"&'Control Sheet'!F599&\")\")","v":""},"","","","","","","","","","","","","",null,"","","","","","","","","","","","","","","","","","","","","","","","","","","","","","","","","","","","","","","","","","",{"$f":"IF(A619=\"\",\"\",MAX(IF(ISERROR(AU619:BF619),0,AU619:BF619)))","v":""},"","","","","","","","","","","","","","","","","","",""]
[{"$f":"IF(ISBLANK('Control Sheet'!D600),\"\",'Control Sheet'!D600)","v":""},{"$f":"IF(ISBLANK('Control Sheet'!E600),\"\",'Control Sheet'!E600&\" (\"&'Control Sheet'!F600&\")\")","v":""},"","","","","","","","","","","","","",null,"","","","","","","","","","","","","","","","","","","","","","","","","","","","","","","","","","","","","","","","","","",{"$f":"IF(A620=\"\",\"\",MAX(IF(ISERROR(AU620:BF620),0,AU620:BF620)))","v":""},"","","","","","","","","","","","","","","","","","",""]
[{"$f":"IF(ISBLANK('Control Sheet'!D601),\"\",'Control Sheet'!D601)","v":""},{"$f":"IF(ISBLANK('Control Sheet'!E601),\"\",'Control Sheet'!E601&\" (\"&'Control Sheet'!F601&\")\")","v":""},{"$f":"IF(C$18=1,IF(ISNA(VLOOKUP($A621,INDIRECT(C$20),OOPE_col,FALSE)),\"\",VLOOKUP($A621,INDIRECT(C$20),OOPE_col,FALSE)),\"\")","v":""},"","","","","","","","","","","","",null,"","","","","","","","","","","","","","","","","","","","","","","","","","","","","","","","","","","","","","","","","","",{"$f":"IF(A621=\"\",\"\",MAX(IF(ISERROR(AU621:BF621),0,AU621:BF621)))","v":""},"","","","","","","","","","","","","","","","","","",""]
[{"$f":"IF(ISBLANK('Control Sheet'!D602),\"\",'Control Sheet'!D602)","v":""},{"$f":"IF(ISBLANK('Control Sheet'!E602),\"\",'Control Sheet'!E602&\" (\"&'Control Sheet'!F602&\")\")","v":""},"","","","","","","","","","","","","",null,"","","","","","","","","","","","","","","","","","","","","","","","","","","","","","","","","","","","","","","","","","",{"$f":"IF(A622=\"\",\"\",MAX(IF(ISERROR(AU622:BF622),0,AU622:BF622)))","v":""},"","","","","","","","","","","","","","","","","","",""]
[{"$f":"IF(ISBLANK('Control Sheet'!D603),\"\",'Control Sheet'!D603)","v":""},{"$f":"IF(ISBLANK('Control Sheet'!E603),\"\",'Control Sheet'!E603&\" (\"&'Control Sheet'!F603&\")\")","v":""},"","","","","","","","","","","","","",null,"","","","","","","","","","","","","","","","","","","","","","","","","","","","","","","","","","","","","","","","","","",{"$f":"IF(A623=\"\",\"\",MAX(IF(ISERROR(AU623:BF623),0,AU623:BF623)))","v":""},"","","","","","","","","","","","","","","","","","",""]
[{"$f":"IF(ISBLANK('Control Sheet'!D604),\"\",'Control Sheet'!D604)","v":""},{"$f":"IF(ISBLANK('Control Sheet'!E604),\"\",'Control Sheet'!E604&\" (\"&'Control Sheet'!F604&\")\")","v":""},"","","","","","","","","","","","","",null,"","","","","","","","","","","","","","","","","","","","","","","","","","","","","","","","","","","","","","","","","","",{"$f":"IF(A624=\"\",\"\",MAX(IF(ISERROR(AU624:BF624),0,AU624:BF624)))","v":""},"","","","","","","","","","","","","","","","","","",""]
[{"$f":"IF(ISBLANK('Control Sheet'!D605),\"\",'Control Sheet'!D605)","v":""},{"$f":"IF(ISBLANK('Control Sheet'!E605),\"\",'Control Sheet'!E605&\" (\"&'Control Sheet'!F605&\")\")","v":""},"","","","","","","","","","","","","",null,"","","","","","","","","","","","","","","","","","","","","","","","","","","","","","","","","","","","","","","","","","",{"$f":"IF(A625=\"\",\"\",MAX(IF(ISERROR(AU625:BF625),0,AU625:BF625)))","v":""},"","","","","","","","","","","","","","","","","","",""]
[{"$f":"IF(ISBLANK('Control Sheet'!D606),\"\",'Control Sheet'!D606)","v":""},{"$f":"IF(ISBLANK('Control Sheet'!E606),\"\",'Control Sheet'!E606&\" (\"&'Control Sheet'!F606&\")\")","v":""},"","","","","","","","","","","","","",null,"","","","","","","","","","","","","","","","","","","","","","","","","","","","","","","","","","","","","","","","","","",{"$f":"IF(A626=\"\",\"\",MAX(IF(ISERROR(AU626:BF626),0,AU626:BF626)))","v":""},"","","","","","","","","","","","","","","","","","",""]
[{"$f":"IF(ISBLANK('Control Sheet'!D607),\"\",'Control Sheet'!D607)","v":""},{"$f":"IF(ISBLANK('Control Sheet'!E607),\"\",'Control Sheet'!E607&\" (\"&'Control Sheet'!F607&\")\")","v":""},"","","","","","","","","","","","","",null,"","","","","","","","","","","","","","","","","","","","","","","","","","","","","","","","","","","","","","","","","","",{"$f":"IF(A627=\"\",\"\",MAX(IF(ISERROR(AU627:BF627),0,AU627:BF627)))","v":""},"","","","","","","","","","","","","","","","","","",""]
[{"$f":"IF(ISBLANK('Control Sheet'!D608),\"\",'Control Sheet'!D608)","v":""},{"$f":"IF(ISBLANK('Control Sheet'!E608),\"\",'Control Sheet'!E608&\" (\"&'Control Sheet'!F608&\")\")","v":""},"","","","","","","","","","","","","",null,"","","","","","","","","","","","","","","",{"$f":"IF(OR(A628=\"\",AE628=0),\"\",AE628/(O$18-R470))","v":""},"","","","","","","","","","","","","","","","","","","","","","","","","","",{"$f":"IF(A628=\"\",\"\",MAX(IF(ISERROR(AU628:BF628),0,AU628:BF628)))","v":""},"","","","","","","","","","","","","","","","","","",""]
[{"$f":"IF(ISBLANK('Control Sheet'!D609),\"\",'Control Sheet'!D609)","v":""},{"$f":"IF(ISBLANK('Control Sheet'!E609),\"\",'Control Sheet'!E609&\" (\"&'Control Sheet'!F609&\")\")","v":""},"","","","","","","","","","","","","",null,"","","","","","","","","","","","","","","","","","","","","","","","","","","","","","","","","","","","","","","","","","",{"$f":"IF(A629=\"\",\"\",MAX(IF(ISERROR(AU629:BF629),0,AU629:BF629)))","v":""},"","","","","","","","","","","","","","","","","","",""]
[{"$f":"IF(ISBLANK('Control Sheet'!D610),\"\",'Control Sheet'!D610)","v":""},{"$f":"IF(ISBLANK('Control Sheet'!E610),\"\",'Control Sheet'!E610&\" (\"&'Control Sheet'!F610&\")\")","v":""},"","","","","","","","","","","","","",null,"","","","","","","","","","","","","","","","","","","","","","","","","","","","","","","","","","","","","","","","","","",{"$f":"IF(A630=\"\",\"\",MAX(IF(ISERROR(AU630:BF630),0,AU630:BF630)))","v":""},"","","","","","","","","","","","","","","","","","",""]
[{"$f":"IF(ISBLANK('Control Sheet'!D611),\"\",'Control Sheet'!D611)","v":""},{"$f":"IF(ISBLANK('Control Sheet'!E611),\"\",'Control Sheet'!E611&\" (\"&'Control Sheet'!F611&\")\")","v":""},{"$f":"IF(C$18=1,IF(ISNA(VLOOKUP($A631,INDIRECT(C$20),OOPE_col,FALSE)),\"\",VLOOKUP($A631,INDIRECT(C$20),OOPE_col,FALSE)),\"\")","v":""},"","","","","","","","","","","","",null,"","","","","","","","","","","","","","","","","","","","","","","","","","","","","","","","","","","","","","","","","","",{"$f":"IF(A631=\"\",\"\",MAX(IF(ISERROR(AU631:BF631),0,AU631:BF631)))","v":""},"","","","","","","","","","","","","","","","","","",""]
[{"$f":"IF(ISBLANK('Control Sheet'!D612),\"\",'Control Sheet'!D612)","v":""},{"$f":"IF(ISBLANK('Control Sheet'!E612),\"\",'Control Sheet'!E612&\" (\"&'Control Sheet'!F612&\")\")","v":""},"","","","","","","","","","","","","",null,"","","","","","","","","","","","","","","","","","","","","","","","","","","","","","","","","","","","","","","","","","",{"$f":"IF(A632=\"\",\"\",MAX(IF(ISERROR(AU632:BF632),0,AU632:BF632)))","v":""},"","","","","","","","","","","","","","","","","","",""]
[{"$f":"IF(ISBLANK('Control Sheet'!D613),\"\",'Control Sheet'!D613)","v":""},{"$f":"IF(ISBLANK('Control Sheet'!E613),\"\",'Control Sheet'!E613&\" (\"&'Control Sheet'!F613&\")\")","v":""},"","","","","","","","","","","","","",null,"","","","","","","","","","","","","","","","","","","","","","","","","","","","","","","","","","","","","","","","","","",{"$f":"IF(A633=\"\",\"\",MAX(IF(ISERROR(AU633:BF633),0,AU633:BF633)))","v":""},"","","","","","","","","","","","","","","","","","",""]
[{"$f":"IF(ISBLANK('Control Sheet'!D614),\"\",'Control Sheet'!D614)","v":""},{"$f":"IF(ISBLANK('Control Sheet'!E614),\"\",'Control Sheet'!E614&\" (\"&'Control Sheet'!F614&\")\")","v":""},"","","","","","","","","","","","","",null,"","","","","","","","","","","","","","","","","","","","","","","","","","","","","","","","","","","","","","","","","","",{"$f":"IF(A634=\"\",\"\",MAX(IF(ISERROR(AU634:BF634),0,AU634:BF634)))","v":""},"","","","","","","","","","","","","","","","","","",""]
[{"$f":"IF(ISBLANK('Control Sheet'!D615),\"\",'Control Sheet'!D615)","v":""},{"$f":"IF(ISBLANK('Control Sheet'!E615),\"\",'Control Sheet'!E615&\" (\"&'Control Sheet'!F615&\")\")","v":""},"","","","","","","","","","","","","",null,"","","","","","","","","","","","","","","","","","","","","","","","","","","","","","","","","","","","","","","","","","",{"$f":"IF(A635=\"\",\"\",MAX(IF(ISERROR(AU635:BF635),0,AU635:BF635)))","v":""},"","","","","","","","","","","","","","","","","","",""]
[{"$f":"IF(ISBLANK('Control Sheet'!D616),\"\",'Control Sheet'!D616)","v":""},{"$f":"IF(ISBLANK('Control Sheet'!E616),\"\",'Control Sheet'!E616&\" (\"&'Control Sheet'!F616&\")\")","v":""},"","","","","","","","","","","","","",null,"","","","","","","","","","","","","","","","","","","","","","","","","","","","","","","","","","","","","","","","","","",{"$f":"IF(A636=\"\",\"\",MAX(IF(ISERROR(AU636:BF636),0,AU636:BF636)))","v":""},"","","","","","","","","","","","","","","","","","",""]
[{"$f":"IF(ISBLANK('Control Sheet'!D617),\"\",'Control Sheet'!D617)","v":""},{"$f":"IF(ISBLANK('Control Sheet'!E617),\"\",'Control Sheet'!E617&\" (\"&'Control Sheet'!F617&\")\")","v":""},"","","","","","","","","","","","","",null,"","","","","","","","","","","","","","","","","","","","","","","","","","","","","","","","","","","","","","","","","","",{"$f":"IF(A637=\"\",\"\",MAX(IF(ISERROR(AU637:BF637),0,AU637:BF637)))","v":""},"","","","","","","","","","","","","","","","","","",""]
[{"$f":"IF(ISBLANK('Control Sheet'!D618),\"\",'Control Sheet'!D618)","v":""},{"$f":"IF(ISBLANK('Control Sheet'!E618),\"\",'Control Sheet'!E618&\" (\"&'Control Sheet'!F618&\")\")","v":""},"","","","","","","","","","","","","",null,"","","","","","","","","","","","","","","","","","","","","","","","","","","","","","","","","","","","","","","","","","",{"$f":"IF(A638=\"\",\"\",MAX(IF(ISERROR(AU638:BF638),0,AU638:BF638)))","v":""},"","","","","","","","","","","","","","","","","","",""]
[{"$f":"IF(ISBLANK('Control Sheet'!D619),\"\",'Control Sheet'!D619)","v":""},{"$f":"IF(ISBLANK('Control Sheet'!E619),\"\",'Control Sheet'!E619&\" (\"&'Control Sheet'!F619&\")\")","v":""},"","","","","","","","","","","","","",null,"","","","","","","","","","","","","","","","","","","","","","","","","","","","","","","","","","","","","","","","","","",{"$f":"IF(A639=\"\",\"\",MAX(IF(ISERROR(AU639:BF639),0,AU639:BF639)))","v":""},"","","","","","","","","","","","","","","","","","",""]
[{"$f":"IF(ISBLANK('Control Sheet'!D620),\"\",'Control Sheet'!D620)","v":""},{"$f":"IF(ISBLANK('Control Sheet'!E620),\"\",'Control Sheet'!E620&\" (\"&'Control Sheet'!F620&\")\")","v":""},"","","","","","","","","","","","","",null,"","","","","","","","","","","","","","","","","","","","","","","","","","","","","","","","","","","","","","","","","","",{"$f":"IF(A640=\"\",\"\",MAX(IF(ISERROR(AU640:BF640),0,AU640:BF640)))","v":""},"","","","","","","","","","","","","","","","","","",""]
[{"$f":"IF(ISBLANK('Control Sheet'!D621),\"\",'Control Sheet'!D621)","v":""},{"$f":"IF(ISBLANK('Control Sheet'!E621),\"\",'Control Sheet'!E621&\" (\"&'Control Sheet'!F621&\")\")","v":""},{"$f":"IF(C$18=1,IF(ISNA(VLOOKUP($A641,INDIRECT(C$20),OOPE_col,FALSE)),\"\",VLOOKUP($A641,INDIRECT(C$20),OOPE_col,FALSE)),\"\")","v":""},"","","","","","","","","","","","",null,"","","","","","","","","","","","","","","","","","","","","","","","","","","","","","","","","","","","","","","","","","",{"$f":"IF(A641=\"\",\"\",MAX(IF(ISERROR(AU641:BF641),0,AU641:BF641)))","v":""},"","","","","","","","","","","","","","","","","","",""]
[{"$f":"IF(ISBLANK('Control Sheet'!D622),\"\",'Control Sheet'!D622)","v":""},{"$f":"IF(ISBLANK('Control Sheet'!E622),\"\",'Control Sheet'!E622&\" (\"&'Control Sheet'!F622&\")\")","v":""},"","","","","","","","","","","","","",null,"","","","","","","","","","","","","","","","","","","","","","","","","","","","","","","","","","","","","","","","","","",{"$f":"IF(A642=\"\",\"\",MAX(IF(ISERROR(AU642:BF642),0,AU642:BF642)))","v":""},"","","","","","","","","","","","","","","","","","",""]
[{"$f":"IF(ISBLANK('Control Sheet'!D623),\"\",'Control Sheet'!D623)","v":""},{"$f":"IF(ISBLANK('Control Sheet'!E623),\"\",'Control Sheet'!E623&\" (\"&'Control Sheet'!F623&\")\")","v":""},"","","","","","","","","","","","","",null,"","","","","","","","","","","","","","","","","","","","","","","","","","","","","","","","","","","","","","","","","","",{"$f":"IF(A643=\"\",\"\",MAX(IF(ISERROR(AU643:BF643),0,AU643:BF643)))","v":""},"","","","","","","","","","","","","","","","","","",""]
[{"$f":"IF(ISBLANK('Control Sheet'!D624),\"\",'Control Sheet'!D624)","v":""},{"$f":"IF(ISBLANK('Control Sheet'!E624),\"\",'Control Sheet'!E624&\" (\"&'Control Sheet'!F624&\")\")","v":""},"","","","","","","","","","","","","",null,"","","","","","","","","","","","","","","","","","","","","","","","","","","","","","","","","","","","","","","","","","",{"$f":"IF(A644=\"\",\"\",MAX(IF(ISERROR(AU644:BF644),0,AU644:BF644)))","v":""},"","","","","","","","","","","","","","","","","","",""]
[{"$f":"IF(ISBLANK('Control Sheet'!D625),\"\",'Control Sheet'!D625)","v":""},{"$f":"IF(ISBLANK('Control Sheet'!E625),\"\",'Control Sheet'!E625&\" (\"&'Control Sheet'!F625&\")\")","v":""},"","","","","","","","","","","","","",null,"","","","","","","","","","","","","","","","","","","","","","","","","","","","","","","","","","","","","","","","","","",{"$f":"IF(A645=\"\",\"\",MAX(IF(ISERROR(AU645:BF645),0,AU645:BF645)))","v":""},"","","","","","","","","","","","","","","","","","",""]
[{"$f":"IF(ISBLANK('Control Sheet'!D626),\"\",'Control Sheet'!D626)","v":""},{"$f":"IF(ISBLANK('Control Sheet'!E626),\"\",'Control Sheet'!E626&\" (\"&'Control Sheet'!F626&\")\")","v":""},"","","","","","","","","","","","","",null,"","","","","","","","","","","","","","","","","","","","","","","","","","","","","","","","","","","","","","","","","","",{"$f":"IF(A646=\"\",\"\",MAX(IF(ISERROR(AU646:BF646),0,AU646:BF646)))","v":""},"","","","","","","","","","","","","","","","","","",""]
[{"$f":"IF(ISBLANK('Control Sheet'!D627),\"\",'Control Sheet'!D627)","v":""},{"$f":"IF(ISBLANK('Control Sheet'!E627),\"\",'Control Sheet'!E627&\" (\"&'Control Sheet'!F627&\")\")","v":""},"","","","","","","","","","","","","",null,"","","","","","","","","","","","","","","","","","","","","","","","","","","","","","","","","","","","","","","","","","",{"$f":"IF(A647=\"\",\"\",MAX(IF(ISERROR(AU647:BF647),0,AU647:BF647)))","v":""},"","","","","","","","","","","","","","","","","","",""]
[{"$f":"IF(ISBLANK('Control Sheet'!D628),\"\",'Control Sheet'!D628)","v":""},{"$f":"IF(ISBLANK('Control Sheet'!E628),\"\",'Control Sheet'!E628&\" (\"&'Control Sheet'!F628&\")\")","v":""},"","","","","","","","","","","","","",null,"","","","","","","","","","","","","","","","","","","","","","","","","","","","","","","","","","","","","","","","","","",{"$f":"IF(A648=\"\",\"\",MAX(IF(ISERROR(AU648:BF648),0,AU648:BF648)))","v":""},"","","","","","","","","","","","","","","","","","",""]
[{"$f":"IF(ISBLANK('Control Sheet'!D629),\"\",'Control Sheet'!D629)","v":""},{"$f":"IF(ISBLANK('Control Sheet'!E629),\"\",'Control Sheet'!E629&\" (\"&'Control Sheet'!F629&\")\")","v":""},"","","","","","","","","","","","","",null,"","","","","","","","","","","","","","","","","","","","","","","","","","","","","","","","","","","","","","","","","","",{"$f":"IF(A649=\"\",\"\",MAX(IF(ISERROR(AU649:BF649),0,AU649:BF649)))","v":""},"","","","","","","","","","","","","","","","","","",""]
[{"$f":"IF(ISBLANK('Control Sheet'!D630),\"\",'Control Sheet'!D630)","v":""},{"$f":"IF(ISBLANK('Control Sheet'!E630),\"\",'Control Sheet'!E630&\" (\"&'Control Sheet'!F630&\")\")","v":""},"","","","","","","","","","","","","",null,"","","","","","","","","","","","","","","","","","","","","","","","","","","","","","","","","","","","","","","","","","",{"$f":"IF(A650=\"\",\"\",MAX(IF(ISERROR(AU650:BF650),0,AU650:BF650)))","v":""},"","","","","","","","","","","","","","","","","","",""]
[{"$f":"IF(ISBLANK('Control Sheet'!D631),\"\",'Control Sheet'!D631)","v":""},{"$f":"IF(ISBLANK('Control Sheet'!E631),\"\",'Control Sheet'!E631&\" (\"&'Control Sheet'!F631&\")\")","v":""},{"$f":"IF(C$18=1,IF(ISNA(VLOOKUP($A651,INDIRECT(C$20),OOPE_col,FALSE)),\"\",VLOOKUP($A651,INDIRECT(C$20),OOPE_col,FALSE)),\"\")","v":""},"","","","","","","","","","","","",null,"","","","","","","","","","","","","","","","","","","","","","","","","","","","","","","","","","","","","","","","","","",{"$f":"IF(A651=\"\",\"\",MAX(IF(ISERROR(AU651:BF651),0,AU651:BF651)))","v":""},"","","","","","","","","","","","","","","","","","",""]
[{"$f":"IF(ISBLANK('Control Sheet'!D632),\"\",'Control Sheet'!D632)","v":""},{"$f":"IF(ISBLANK('Control Sheet'!E632),\"\",'Control Sheet'!E632&\" (\"&'Control Sheet'!F632&\")\")","v":""},"","","","","","","","","","","","","",null,"","","","","","","","","","","","","","","","","","","","","","","","","","","","","","","","","","","","","","","","","","",{"$f":"IF(A652=\"\",\"\",MAX(IF(ISERROR(AU652:BF652),0,AU652:BF652)))","v":""},"","","","","","","","","","","","","","","","","","",""]
[{"$f":"IF(ISBLANK('Control Sheet'!D633),\"\",'Control Sheet'!D633)","v":""},{"$f":"IF(ISBLANK('Control Sheet'!E633),\"\",'Control Sheet'!E633&\" (\"&'Control Sheet'!F633&\")\")","v":""},"","","","","","","","","","","","","",null,"","","","","","","","","","","","","","","","","","","","","","","","","","","","","","","","","","","","","","","","","","",{"$f":"IF(A653=\"\",\"\",MAX(IF(ISERROR(AU653:BF653),0,AU653:BF653)))","v":""},"","","","","","","","","","","","","","","","","","",""]
[{"$f":"IF(ISBLANK('Control Sheet'!D634),\"\",'Control Sheet'!D634)","v":""},{"$f":"IF(ISBLANK('Control Sheet'!E634),\"\",'Control Sheet'!E634&\" (\"&'Control Sheet'!F634&\")\")","v":""},"","","","","","","","","","","","","",null,"","","","","","","","","","","","","","","","","","","","","","","","","","","","","","","","","","","","","","","","","","",{"$f":"IF(A654=\"\",\"\",MAX(IF(ISERROR(AU654:BF654),0,AU654:BF654)))","v":""},"","","","","","","","","","","","","","","","","","",""]
[{"$f":"IF(ISBLANK('Control Sheet'!D635),\"\",'Control Sheet'!D635)","v":""},{"$f":"IF(ISBLANK('Control Sheet'!E635),\"\",'Control Sheet'!E635&\" (\"&'Control Sheet'!F635&\")\")","v":""},"","","","","","","","","","","","","",null,"","","","","","","","","","","","","","","","","","","","","","","","","","","","","","","","","","","","","","","","","","",{"$f":"IF(A655=\"\",\"\",MAX(IF(ISERROR(AU655:BF655),0,AU655:BF655)))","v":""},"","","","","","","","","","","","","","","","","","",""]
[{"$f":"IF(ISBLANK('Control Sheet'!D636),\"\",'Control Sheet'!D636)","v":""},{"$f":"IF(ISBLANK('Control Sheet'!E636),\"\",'Control Sheet'!E636&\" (\"&'Control Sheet'!F636&\")\")","v":""},"","","","","","","","","","","","","",null,"","","","","","","","","","","","","","","","","","","","","","","","","","","","","","","","","","","","","","","","","","",{"$f":"IF(A656=\"\",\"\",MAX(IF(ISERROR(AU656:BF656),0,AU656:BF656)))","v":""},"","","","","","","","","","","","","","","","","","",""]
[{"$f":"IF(ISBLANK('Control Sheet'!D637),\"\",'Control Sheet'!D637)","v":""},{"$f":"IF(ISBLANK('Control Sheet'!E637),\"\",'Control Sheet'!E637&\" (\"&'Control Sheet'!F637&\")\")","v":""},"","","","","","","","","","","","","",null,"","","","","","","","","","","","","","","","","","","","","","","","","","","","","","","","","","","","","","","","","","",{"$f":"IF(A657=\"\",\"\",MAX(IF(ISERROR(AU657:BF657),0,AU657:BF657)))","v":""},"","","","","","","","","","","","","","","","","","",""]
[{"$f":"IF(ISBLANK('Control Sheet'!D638),\"\",'Control Sheet'!D638)","v":""},{"$f":"IF(ISBLANK('Control Sheet'!E638),\"\",'Control Sheet'!E638&\" (\"&'Control Sheet'!F638&\")\")","v":""},"","","","","","","","","","","","","",null,"","","","","","","","","","","","","","","","","","","","","","","","","","","","","","","","","","","","","","","","","","",{"$f":"IF(A658=\"\",\"\",MAX(IF(ISERROR(AU658:BF658),0,AU658:BF658)))","v":""},"","","","","","","","","","","","","","","","","","",""]
[{"$f":"IF(ISBLANK('Control Sheet'!D639),\"\",'Control Sheet'!D639)","v":""},{"$f":"IF(ISBLANK('Control Sheet'!E639),\"\",'Control Sheet'!E639&\" (\"&'Control Sheet'!F639&\")\")","v":""},"","","","","","","","","","","","","",null,"","","","","","","","","","","","","","","","","","","","","","","","","","","","","","","","","","","","","","","","","","",{"$f":"IF(A659=\"\",\"\",MAX(IF(ISERROR(AU659:BF659),0,AU659:BF659)))","v":""},"","","","","","","","","","","","","","","","","","",""]
[{"$f":"IF(ISBLANK('Control Sheet'!D640),\"\",'Control Sheet'!D640)","v":""},{"$f":"IF(ISBLANK('Control Sheet'!E640),\"\",'Control Sheet'!E640&\" (\"&'Control Sheet'!F640&\")\")","v":""},"","","","","","","","","","","","","",null,"","","","","","","","","","","","","","","","","","","","","","","","","","","","","","","","","","","","","","","","","","",{"$f":"IF(A660=\"\",\"\",MAX(IF(ISERROR(AU660:BF660),0,AU660:BF660)))","v":""},"","","","","","","","","","","","","","","","","","",""]
[{"$f":"IF(ISBLANK('Control Sheet'!D641),\"\",'Control Sheet'!D641)","v":""},{"$f":"IF(ISBLANK('Control Sheet'!E641),\"\",'Control Sheet'!E641&\" (\"&'Control Sheet'!F641&\")\")","v":""},{"$f":"IF(C$18=1,IF(ISNA(VLOOKUP($A661,INDIRECT(C$20),OOPE_col,FALSE)),\"\",VLOOKUP($A661,INDIRECT(C$20),OOPE_col,FALSE)),\"\")","v":""},"","","","","","","","","","","","",null,"",{"$f":"IF(A661=\"\",\"\",OOPEMonthsPop-(COUNTA(C661:N661)-COUNTBLANK(C661:N661)))","v":""},"","","","","","","","","","","","","","","","","","","","","","","","","","","","",{"$f":"IF(OR(A661=\"\",OOPEMonthsPop=0),\"\",IF(AU$18=OOPEMonthsPop,AH661,#N/A))","v":""},{"$f":"IF(OR($A661=\"\",OOPEMonthsPop=0),\"\",IF(AV$18<OOPEMonthsPop,#N/A,IF(AV$18=OOPEMonthsPop,AI661,IF(AU661=\"\",\"\",IF(AV$18=OOPEMonthsPop+1,AU661+(AU661*VLOOKUP(OOPEMonthsPop-$R661,ForecastMult,3,FALSE)/12),AU661+AU661-AT661)))))","v":""},{"$f":"IF(OR($A661=\"\",OOPEMonthsPop=0),\"\",IF(AW$18<OOPEMonthsPop,#N/A,IF(AW$18=OOPEMonthsPop,AJ661,IF(AV661=\"\",\"\",IF(AW$18=OOPEMonthsPop+1,AV661+(AV661*VLOOKUP(OOPEMonthsPop-$R661,ForecastMult,3,FALSE)/12),AV661+AV661-AU661)))))","v":""},{"$f":"IF(OR($A661=\"\",OOPEMonthsPop=0),\"\",IF(AX$18<OOPEMonthsPop,#N/A,IF(AX$18=OOPEMonthsPop,AK661,IF(AW661=\"\",\"\",IF(AX$18=OOPEMonthsPop+1,AW661+(AW661*VLOOKUP(OOPEMonthsPop-$R661,ForecastMult,3,FALSE)/12),AW661+AW661-AV661)))))","v":""},{"$f":"IF(OR($A661=\"\",OOPEMonthsPop=0),\"\",IF(AY$18<OOPEMonthsPop,#N/A,IF(AY$18=OOPEMonthsPop,AL661,IF(AX661=\"\",\"\",IF(AY$18=OOPEMonthsPop+1,AX661+(AX661*VLOOKUP(OOPEMonthsPop-$R661,ForecastMult,3,FALSE)/12),AX661+AX661-AW661)))))","v":""},{"$f":"IF(OR($A661=\"\",OOPEMonthsPop=0),\"\",IF(AZ$18<OOPEMonthsPop,#N/A,IF(AZ$18=OOPEMonthsPop,AM661,IF(AY661=\"\",\"\",IF(AZ$18=OOPEMonthsPop+1,AY661+(AY661*VLOOKUP(OOPEMonthsPop-$R661,ForecastMult,3,FALSE)/12),AY661+AY661-AX661)))))","v":""},{"$f":"IF(OR($A661=\"\",OOPEMonthsPop=0),\"\",IF(BA$18<OOPEMonthsPop,#N/A,IF(BA$18=OOPEMonthsPop,AN661,IF(AZ661=\"\",\"\",IF(BA$18=OOPEMonthsPop+1,AZ661+(AZ661*VLOOKUP(OOPEMonthsPop-$R661,ForecastMult,3,FALSE)/12),AZ661+AZ661-AY661)))))","v":""},{"$f":"IF(OR($A661=\"\",OOPEMonthsPop=0),\"\",IF(BB$18<OOPEMonthsPop,#N/A,IF(BB$18=OOPEMonthsPop,AO661,IF(BA661=\"\",\"\",IF(BB$18=OOPEMonthsPop+1,BA661+(BA661*VLOOKUP(OOPEMonthsPop-$R661,ForecastMult,3,FALSE)/12),BA661+BA661-AZ661)))))","v":""},{"$f":"IF(OR($A661=\"\",OOPEMonthsPop=0),\"\",IF(BC$18<OOPEMonthsPop,#N/A,IF(BC$18=OOPEMonthsPop,AP661,IF(BB661=\"\",\"\",IF(BC$18=OOPEMonthsPop+1,BB661+(BB661*VLOOKUP(OOPEMonthsPop-$R661,ForecastMult,3,FALSE)/12),BB661+BB661-BA661)))))","v":""},{"$f":"IF(OR($A661=\"\",OOPEMonthsPop=0),\"\",IF(BD$18<OOPEMonthsPop,#N/A,IF(BD$18=OOPEMonthsPop,AQ661,IF(BC661=\"\",\"\",IF(BD$18=OOPEMonthsPop+1,BC661+(BC661*VLOOKUP(OOPEMonthsPop-$R661,ForecastMult,3,FALSE)/12),BC661+BC661-BB661)))))","v":""},{"$f":"IF(OR($A661=\"\",OOPEMonthsPop=0),\"\",IF(BE$18<OOPEMonthsPop,#N/A,IF(BE$18=OOPEMonthsPop,AR661,IF(BD661=\"\",\"\",IF(BE$18=OOPEMonthsPop+1,BD661+(BD661*VLOOKUP(OOPEMonthsPop-$R661,ForecastMult,3,FALSE)/12),BD661+BD661-BC661)))))","v":""},{"$f":"IF(OR($A661=\"\",OOPEMonthsPop=0),\"\",IF(BF$18<OOPEMonthsPop,#N/A,IF(BF$18=OOPEMonthsPop,AS661,IF(BE661=\"\",\"\",IF(BF$18=OOPEMonthsPop+1,BE661+(BE661*VLOOKUP(OOPEMonthsPop-$R661,ForecastMult,3,FALSE)/12),BE661+BE661-BD661)))))","v":""},{"$f":"IF(A661=\"\",\"\",MAX(IF(ISERROR(AU661:BF661),0,AU661:BF661)))","v":""},{"$f":"IF(AND(C$18=1,$A661<>\"\"),IF(ISNA(VLOOKUP($A661,INDIRECT(C$20),TOT_STDR_PXS_col,FALSE)),\"\",VLOOKUP($A661,INDIRECT(C$20),TOT_STDR_PXS_col,FALSE)+VLOOKUP($A661,INDIRECT(C$20),TOT_ZDR_PXS_col,FALSE)),\"\")","v":""},{"$f":"IF(AND(D$18=1,$A661<>\"\"),IF(ISNA(VLOOKUP($A661,INDIRECT(D$20),TOT_STDR_PXS_col,FALSE)),\"\",VLOOKUP($A661,INDIRECT(D$20),TOT_STDR_PXS_col,FALSE)+VLOOKUP($A661,INDIRECT(D$20),TOT_ZDR_PXS_col,FALSE)),\"\")","v":""},{"$f":"IF(AND(E$18=1,$A661<>\"\"),IF(ISNA(VLOOKUP($A661,INDIRECT(E$20),TOT_STDR_PXS_col,FALSE)),\"\",VLOOKUP($A661,INDIRECT(E$20),TOT_STDR_PXS_col,FALSE)+VLOOKUP($A661,INDIRECT(E$20),TOT_ZDR_PXS_col,FALSE)),\"\")","v":""},{"$f":"IF(AND(F$18=1,$A661<>\"\"),IF(ISNA(VLOOKUP($A661,INDIRECT(F$20),TOT_STDR_PXS_col,FALSE)),\"\",VLOOKUP($A661,INDIRECT(F$20),TOT_STDR_PXS_col,FALSE)+VLOOKUP($A661,INDIRECT(F$20),TOT_ZDR_PXS_col,FALSE)),\"\")","v":""},{"$f":"IF(AND(G$18=1,$A661<>\"\"),IF(ISNA(VLOOKUP($A661,INDIRECT(G$20),TOT_STDR_PXS_col,FALSE)),\"\",VLOOKUP($A661,INDIRECT(G$20),TOT_STDR_PXS_col,FALSE)+VLOOKUP($A661,INDIRECT(G$20),TOT_ZDR_PXS_col,FALSE)),\"\")","v":""},{"$f":"IF(AND(H$18=1,$A661<>\"\"),IF(ISNA(VLOOKUP($A661,INDIRECT(H$20),TOT_STDR_PXS_col,FALSE)),\"\",VLOOKUP($A661,INDIRECT(H$20),TOT_STDR_PXS_col,FALSE)+VLOOKUP($A661,INDIRECT(H$20),TOT_ZDR_PXS_col,FALSE)),\"\")","v":""},{"$f":"IF(AND(I$18=1,$A661<>\"\"),IF(ISNA(VLOOKUP($A661,INDIRECT(I$20),TOT_STDR_PXS_col,FALSE)),\"\",VLOOKUP($A661,INDIRECT(I$20),TOT_STDR_PXS_col,FALSE)+VLOOKUP($A661,INDIRECT(I$20),TOT_ZDR_PXS_col,FALSE)),\"\")","v":""},{"$f":"IF(AND(J$18=1,$A661<>\"\"),IF(ISNA(VLOOKUP($A661,INDIRECT(J$20),TOT_STDR_PXS_col,FALSE)),\"\",VLOOKUP($A661,INDIRECT(J$20),TOT_STDR_PXS_col,FALSE)+VLOOKUP($A661,INDIRECT(J$20),TOT_ZDR_PXS_col,FALSE)),\"\")","v":""},{"$f":"IF(AND(K$18=1,$A661<>\"\"),IF(ISNA(VLOOKUP($A661,INDIRECT(K$20),TOT_STDR_PXS_col,FALSE)),\"\",VLOOKUP($A661,INDIRECT(K$20),TOT_STDR_PXS_col,FALSE)+VLOOKUP($A661,INDIRECT(K$20),TOT_ZDR_PXS_col,FALSE)),\"\")","v":""},{"$f":"IF(AND(L$18=1,$A661<>\"\"),IF(ISNA(VLOOKUP($A661,INDIRECT(L$20),TOT_STDR_PXS_col,FALSE)),\"\",VLOOKUP($A661,INDIRECT(L$20),TOT_STDR_PXS_col,FALSE)+VLOOKUP($A661,INDIRECT(L$20),TOT_ZDR_PXS_col,FALSE)),\"\")","v":""},{"$f":"IF(AND(M$18=1,$A661<>\"\"),IF(ISNA(VLOOKUP($A661,INDIRECT(M$20),TOT_STDR_PXS_col,FALSE)),\"\",VLOOKUP($A661,INDIRECT(M$20),TOT_STDR_PXS_col,FALSE)+VLOOKUP($A661,INDIRECT(M$20),TOT_ZDR_PXS_col,FALSE)),\"\")","v":""},{"$f":"IF(AND(N$18=1,$A661<>\"\"),IF(ISNA(VLOOKUP($A661,INDIRECT(N$20),TOT_STDR_PXS_col,FALSE)),\"\",VLOOKUP($A661,INDIRECT(N$20),TOT_STDR_PXS_col,FALSE)+VLOOKUP($A661,INDIRECT(N$20),TOT_ZDR_PXS_col,FALSE)),\"\")","v":""},"","","","","","",""]
[{"$f":"IF(ISBLANK('Control Sheet'!D642),\"\",'Control Sheet'!D642)","v":""},{"$f":"IF(ISBLANK('Control Sheet'!E642),\"\",'Control Sheet'!E642&\" (\"&'Control Sheet'!F642&\")\")","v":""},"","","","","","","","","","","","",{"$f":"IF(A662=\"\",\"\",SUM(C662:N662))","v":""},null,{"$f":"IF(A662=\"\",\"\",IF(BG662<=400,\"No\",\"Yes\"))","v":""},"",{"$f":"IF(C662=\"\",\"\",IF(C662<=C$10,1,IF(C662<=C$7,2,IF(C662<=C$8,3,IF(C662<=C$9,4,IF(C662<=C$11,5,60))))))","v":""},{"$f":"IF(D662=\"\",\"\",IF(D662<=D$10,1,IF(D662<=D$7,2,IF(D662<=D$8,3,IF(D662<=D$9,4,IF(D662<=D$11,5,60))))))","v":""},{"$f":"IF(E662=\"\",\"\",IF(E662<=E$10,1,IF(E662<=E$7,2,IF(E662<=E$8,3,IF(E662<=E$9,4,IF(E662<=E$11,5,60))))))","v":""},{"$f":"IF(F662=\"\",\"\",IF(F662<=F$10,1,IF(F662<=F$7,2,IF(F662<=F$8,3,IF(F662<=F$9,4,IF(F662<=F$11,5,60))))))","v":""},{"$f":"IF(G662=\"\",\"\",IF(G662<=G$10,1,IF(G662<=G$7,2,IF(G662<=G$8,3,IF(G662<=G$9,4,IF(G662<=G$11,5,60))))))","v":""},{"$f":"IF(H662=\"\",\"\",IF(H662<=H$10,1,IF(H662<=H$7,2,IF(H662<=H$8,3,IF(H662<=H$9,4,IF(H662<=H$11,5,60))))))","v":""},{"$f":"IF(I662=\"\",\"\",IF(I662<=I$10,1,IF(I662<=I$7,2,IF(I662<=I$8,3,IF(I662<=I$9,4,IF(I662<=I$11,5,60))))))","v":""},{"$f":"IF(J662=\"\",\"\",IF(J662<=J$10,1,IF(J662<=J$7,2,IF(J662<=J$8,3,IF(J662<=J$9,4,IF(J662<=J$11,5,60))))))","v":""},{"$f":"IF(K662=\"\",\"\",IF(K662<=K$10,1,IF(K662<=K$7,2,IF(K662<=K$8,3,IF(K662<=K$9,4,IF(K662<=K$11,5,60))))))","v":""},{"$f":"IF(L662=\"\",\"\",IF(L662<=L$10,1,IF(L662<=L$7,2,IF(L662<=L$8,3,IF(L662<=L$9,4,IF(L662<=L$11,5,60))))))","v":""},{"$f":"IF(M662=\"\",\"\",IF(M662<=M$10,1,IF(M662<=M$7,2,IF(M662<=M$8,3,IF(M662<=M$9,4,IF(M662<=M$11,5,60))))))","v":""},{"$f":"IF(N662=\"\",\"\",IF(N662<=N$10,1,IF(N662<=N$7,2,IF(N662<=N$8,3,IF(N662<=N$9,4,IF(N662<=N$11,5,60))))))","v":""},{"$f":"IF(A662=\"\",\"\",SUM(S662:AD662))","v":""},"",{"$f":"IF(AF662=\"\",\"\",IF(AF662<=1,\"Lower Outlier\",IF(AF662<=2,\"Below Average\",IF(AF662<=3,\"Lower Quartile\",IF(AF662<=4,\"Upper Quartile\",IF(AF662<=5, \"Above Average\", \"Upper Outlier\"))))))","v":""},{"$f":"IF(C$18=1,C662,\"\")","v":""},{"$f":"IF(D$18=1,IF(D662=\"\",IF(AH662=\"\",\"\",AH662),IF(AND(D662>=0,AH662=\"\"),D662,IF(ISERROR(D662+AH662),#N/A,D662+AH662))),\"\")","v":""},{"$f":"IF(E$18=1,IF(E662=\"\",IF(AI662=\"\",\"\",AI662),IF(AND(E662>=0,AI662=\"\"),E662,IF(ISERROR(E662+AI662),#N/A,E662+AI662))),\"\")","v":""},{"$f":"IF(F$18=1,IF(F662=\"\",IF(AJ662=\"\",\"\",AJ662),IF(AND(F662>=0,AJ662=\"\"),F662,IF(ISERROR(F662+AJ662),#N/A,F662+AJ662))),\"\")","v":""},{"$f":"IF(G$18=1,IF(G662=\"\",IF(AK662=\"\",\"\",AK662),IF(AND(G662>=0,AK662=\"\"),G662,IF(ISERROR(G662+AK662),#N/A,G662+AK662))),\"\")","v":""},{"$f":"IF(H$18=1,IF(H662=\"\",IF(AL662=\"\",\"\",AL662),IF(AND(H662>=0,AL662=\"\"),H662,IF(ISERROR(H662+AL662),#N/A,H662+AL662))),\"\")","v":""},{"$f":"IF(I$18=1,IF(I662=\"\",IF(AM662=\"\",\"\",AM662),IF(AND(I662>=0,AM662=\"\"),I662,IF(ISERROR(I662+AM662),#N/A,I662+AM662))),\"\")","v":""},{"$f":"IF(J$18=1,IF(J662=\"\",IF(AN662=\"\",\"\",AN662),IF(AND(J662>=0,AN662=\"\"),J662,IF(ISERROR(J662+AN662),#N/A,J662+AN662))),\"\")","v":""},{"$f":"IF(K$18=1,IF(K662=\"\",IF(AO662=\"\",\"\",AO662),IF(AND(K662>=0,AO662=\"\"),K662,IF(ISERROR(K662+AO662),#N/A,K662+AO662))),\"\")","v":""},{"$f":"IF(L$18=1,IF(L662=\"\",IF(AP662=\"\",\"\",AP662),IF(AND(L662>=0,AP662=\"\"),L662,IF(ISERROR(L662+AP662),#N/A,L662+AP662))),\"\")","v":""},{"$f":"IF(M$18=1,IF(M662=\"\",IF(AQ662=\"\",\"\",AQ662),IF(AND(M662>=0,AQ662=\"\"),M662,IF(ISERROR(M662+AQ662),#N/A,M662+AQ662))),\"\")","v":""},{"$f":"IF(N$18=1,IF(N662=\"\",IF(AR662=\"\",\"\",AR662),IF(AND(N662>=0,AR662=\"\"),N662,IF(ISERROR(N662+AR662),#N/A,N662+AR662))),\"\")","v":""},{"$f":"IF(A662=\"\",\"\",MAX(AH662:AS662))","v":""},"","","","","","","","","","","","",{"$f":"IF(A662=\"\",\"\",MAX(IF(ISERROR(AU662:BF662),0,AU662:BF662)))","v":""},"","","","","","","","","","","","",{"$f":"IF(A662=\"\",\"\",SUM(BH662:BS662))","v":""},{"$f":"IF(A662=\"\",\"\",MIN(B662:M662))","v":""},{"$f":"IF(A662=\"\",\"\",MAX(B662:M662))","v":""},{"$f":"IF(A662=\"\",\"\",IF(BV662-BU662=0,\"\",BV662-BU662))","v":""},{"$f":"IF(A662=\"\",\"\",IF(BW662=\"\",\"No\",IF(BW662>$BW$11,\"Yes\",\"No\")))","v":""},{"$f":"IF(A662=\"\",\"\",(COUNTA(C662:N662)-COUNTBLANK(C662:N662)))","v":""},{"$f":"IF(A662=\"\",\"\",BY662-COUNTIF(C662:N662,\"=0\"))","v":""}]
[{"$f":"IF(ISBLANK('Control Sheet'!D643),\"\",'Control Sheet'!D643)","v":""},{"$f":"IF(ISBLANK('Control Sheet'!E643),\"\",'Control Sheet'!E643&\" (\"&'Control Sheet'!F643&\")\")","v":""},"","","","","","","","","","","","","",null,"","","","","","","","","","","","","","","","","","","","","","","","","","","","","","","","","","","","","","","","","","",{"$f":"IF(A663=\"\",\"\",MAX(IF(ISERROR(AU663:BF663),0,AU663:BF663)))","v":""},"","","","","","","","","","","","","","","","","","",""]
[{"$f":"IF(ISBLANK('Control Sheet'!D644),\"\",'Control Sheet'!D644)","v":""},{"$f":"IF(ISBLANK('Control Sheet'!E644),\"\",'Control Sheet'!E644&\" (\"&'Control Sheet'!F644&\")\")","v":""},"","","","","","","","","","","","","",null,"","","","","","","","","","","","","","","","","","","","","","","","","","","","","","","","","","","","","","","","","","",{"$f":"IF(A664=\"\",\"\",MAX(IF(ISERROR(AU664:BF664),0,AU664:BF664)))","v":""},"","","","","","","","","","","","","","","","","","",""]
[{"$f":"IF(ISBLANK('Control Sheet'!D645),\"\",'Control Sheet'!D645)","v":""},{"$f":"IF(ISBLANK('Control Sheet'!E645),\"\",'Control Sheet'!E645&\" (\"&'Control Sheet'!F645&\")\")","v":""},"","","","","","","","","","","","","",null,"","","","","","","","","","","","","","","","","","","","","","","","","","","","","","","","","","","","","","","","","","",{"$f":"IF(A665=\"\",\"\",MAX(IF(ISERROR(AU665:BF665),0,AU665:BF665)))","v":""},"","","","","","","","","","","","","","","","","","",""]
[{"$f":"IF(ISBLANK('Control Sheet'!D646),\"\",'Control Sheet'!D646)","v":""},{"$f":"IF(ISBLANK('Control Sheet'!E646),\"\",'Control Sheet'!E646&\" (\"&'Control Sheet'!F646&\")\")","v":""},"","","","","","","","","","","","","",null,"","","","","","","","","","","","","","","","","","","","","","","","","","","","","","","","","","","","","","","","","","",{"$f":"IF(A666=\"\",\"\",MAX(IF(ISERROR(AU666:BF666),0,AU666:BF666)))","v":""},"","","","","","","","","","","","","","","","","","",""]
[{"$f":"IF(ISBLANK('Control Sheet'!D647),\"\",'Control Sheet'!D647)","v":""},{"$f":"IF(ISBLANK('Control Sheet'!E647),\"\",'Control Sheet'!E647&\" (\"&'Control Sheet'!F647&\")\")","v":""},"","","","","","","","","","","","","",null,"","","","","","","","","","","","","","","","","","","","","","","","","","","","","","","","","","","","","","","","","","",{"$f":"IF(A667=\"\",\"\",MAX(IF(ISERROR(AU667:BF667),0,AU667:BF667)))","v":""},"","","","","","","","","","","","","","","","","","",""]
[{"$f":"IF(ISBLANK('Control Sheet'!D648),\"\",'Control Sheet'!D648)","v":""},{"$f":"IF(ISBLANK('Control Sheet'!E648),\"\",'Control Sheet'!E648&\" (\"&'Control Sheet'!F648&\")\")","v":""},"","","","","","","","","","","","","",null,"","","","","","","","","","","","","","","","","","","","","","","","","","","","","","","","","","","","","","","","","","",{"$f":"IF(A668=\"\",\"\",MAX(IF(ISERROR(AU668:BF668),0,AU668:BF668)))","v":""},"","","","","","","","","","","","","","","","","","",""]
[{"$f":"IF(ISBLANK('Control Sheet'!D649),\"\",'Control Sheet'!D649)","v":""},{"$f":"IF(ISBLANK('Control Sheet'!E649),\"\",'Control Sheet'!E649&\" (\"&'Control Sheet'!F649&\")\")","v":""},"","","","","","","","","","","","","",null,"","","","","","","","","","","","","","","","","","","","","","","","","","","","","","","","","","","","","","","","","","",{"$f":"IF(A669=\"\",\"\",MAX(IF(ISERROR(AU669:BF669),0,AU669:BF669)))","v":""},"","","","","","","","","","","","","","","","","","",""]
[{"$f":"IF(ISBLANK('Control Sheet'!D650),\"\",'Control Sheet'!D650)","v":""},{"$f":"IF(ISBLANK('Control Sheet'!E650),\"\",'Control Sheet'!E650&\" (\"&'Control Sheet'!F650&\")\")","v":""},"","","","","","","","","","","","","",null,"","","","","","","","","","","","","","","","","","","","","","","","","","","","","","","","","","","","","","","","","","",{"$f":"IF(A670=\"\",\"\",MAX(IF(ISERROR(AU670:BF670),0,AU670:BF670)))","v":""},"","","","","","","","","","","","","","","","","","",""]
[{"$f":"IF(ISBLANK('Control Sheet'!D651),\"\",'Control Sheet'!D651)","v":""},{"$f":"IF(ISBLANK('Control Sheet'!E651),\"\",'Control Sheet'!E651&\" (\"&'Control Sheet'!F651&\")\")","v":""},{"$f":"IF(C$18=1,IF(ISNA(VLOOKUP($A671,INDIRECT(C$20),OOPE_col,FALSE)),\"\",VLOOKUP($A671,INDIRECT(C$20),OOPE_col,FALSE)),\"\")","v":""},"","","","","","","","","","","","",null,"","","","","","","","","","","","","","","","","","","","","","","","","","","","","","","","","","","","","","","","","","",{"$f":"IF(A671=\"\",\"\",MAX(IF(ISERROR(AU671:BF671),0,AU671:BF671)))","v":""},"","","","","","","","","","","","","","","","","","",""]
[{"$f":"IF(ISBLANK('Control Sheet'!D652),\"\",'Control Sheet'!D652)","v":""},{"$f":"IF(ISBLANK('Control Sheet'!E652),\"\",'Control Sheet'!E652&\" (\"&'Control Sheet'!F652&\")\")","v":""},"","","","","","","","","","","","","",null,"","","","","","","","","","","","","","","","","","","","","","","","","","","","","","","","","","","","","","","","","","",{"$f":"IF(A672=\"\",\"\",MAX(IF(ISERROR(AU672:BF672),0,AU672:BF672)))","v":""},"","","","","","","","","","","","","","","","","","",""]
[{"$f":"IF(ISBLANK('Control Sheet'!D653),\"\",'Control Sheet'!D653)","v":""},{"$f":"IF(ISBLANK('Control Sheet'!E653),\"\",'Control Sheet'!E653&\" (\"&'Control Sheet'!F653&\")\")","v":""},"","","","","","","","","","","","","",null,"","","","","","","","","","","","","","","","","","","","","","","","","","","","","","","","","","","","","","","","","","",{"$f":"IF(A673=\"\",\"\",MAX(IF(ISERROR(AU673:BF673),0,AU673:BF673)))","v":""},"","","","","","","","","","","","","","","","","","",""]
[{"$f":"IF(ISBLANK('Control Sheet'!D654),\"\",'Control Sheet'!D654)","v":""},{"$f":"IF(ISBLANK('Control Sheet'!E654),\"\",'Control Sheet'!E654&\" (\"&'Control Sheet'!F654&\")\")","v":""},"","","","","","","","","","","","","",null,"","","","","","","","","","","","","","","","","","","","","","","","","","","","","","","","","","","","","","","","","","",{"$f":"IF(A674=\"\",\"\",MAX(IF(ISERROR(AU674:BF674),0,AU674:BF674)))","v":""},"","","","","","","","","","","","","","","","","","",""]
[{"$f":"IF(ISBLANK('Control Sheet'!D655),\"\",'Control Sheet'!D655)","v":""},{"$f":"IF(ISBLANK('Control Sheet'!E655),\"\",'Control Sheet'!E655&\" (\"&'Control Sheet'!F655&\")\")","v":""},"","","","","","","","","","","","","",null,"","","","","","","","","","","","","","","","","","","","","","","","","","","","","","","","","","","","","","","","","","",{"$f":"IF(A675=\"\",\"\",MAX(IF(ISERROR(AU675:BF675),0,AU675:BF675)))","v":""},"","","","","","","","","","","","","","","","","","",""]
[{"$f":"IF(ISBLANK('Control Sheet'!D656),\"\",'Control Sheet'!D656)","v":""},{"$f":"IF(ISBLANK('Control Sheet'!E656),\"\",'Control Sheet'!E656&\" (\"&'Control Sheet'!F656&\")\")","v":""},"","","","","","","","","","","","","",null,"","","","","","","","","","","","","","","","","","","","","","","","","","","","","","","","","","","","","","","","","","",{"$f":"IF(A676=\"\",\"\",MAX(IF(ISERROR(AU676:BF676),0,AU676:BF676)))","v":""},"","","","","","","","","","","","","","","","","","",""]
[{"$f":"IF(ISBLANK('Control Sheet'!D657),\"\",'Control Sheet'!D657)","v":""},{"$f":"IF(ISBLANK('Control Sheet'!E657),\"\",'Control Sheet'!E657&\" (\"&'Control Sheet'!F657&\")\")","v":""},"","","","","","","","","","","","","",null,"","","","","","","","","","","","","","","","","","","","","","","","","","","","","","","","","","","","","","","","","","",{"$f":"IF(A677=\"\",\"\",MAX(IF(ISERROR(AU677:BF677),0,AU677:BF677)))","v":""},"","","","","","","","","","","","","","","","","","",""]
[{"$f":"IF(ISBLANK('Control Sheet'!D658),\"\",'Control Sheet'!D658)","v":""},{"$f":"IF(ISBLANK('Control Sheet'!E658),\"\",'Control Sheet'!E658&\" (\"&'Control Sheet'!F658&\")\")","v":""},"","","","","","","","","","","","","",null,"","","","","","","","","","","","","","","","","","","","","","","","","","","","","","","","","","","","","","","","","","",{"$f":"IF(A678=\"\",\"\",MAX(IF(ISERROR(AU678:BF678),0,AU678:BF678)))","v":""},"","","","","","","","","","","","","","","","","","",""]
[{"$f":"IF(ISBLANK('Control Sheet'!D659),\"\",'Control Sheet'!D659)","v":""},{"$f":"IF(ISBLANK('Control Sheet'!E659),\"\",'Control Sheet'!E659&\" (\"&'Control Sheet'!F659&\")\")","v":""},"","","","","","","","","","","","","",null,"","","","","","","","","","","","","","","","","","","","","","","","","","","","","","","","","","","","","","","","","","",{"$f":"IF(A679=\"\",\"\",MAX(IF(ISERROR(AU679:BF679),0,AU679:BF679)))","v":""},"","","","","","","","","","","","","","","","","","",""]
[{"$f":"IF(ISBLANK('Control Sheet'!D660),\"\",'Control Sheet'!D660)","v":""},{"$f":"IF(ISBLANK('Control Sheet'!E660),\"\",'Control Sheet'!E660&\" (\"&'Control Sheet'!F660&\")\")","v":""},"","","","","","","","","","","","","",null,"","","","","","","","","","","","","","","","","","","","","","","","","","","","","","","","","","","","","","","","","","",{"$f":"IF(A680=\"\",\"\",MAX(IF(ISERROR(AU680:BF680),0,AU680:BF680)))","v":""},"","","","","","","","","","","","","","","","","","",""]
[{"$f":"IF(ISBLANK('Control Sheet'!D661),\"\",'Control Sheet'!D661)","v":""},{"$f":"IF(ISBLANK('Control Sheet'!E661),\"\",'Control Sheet'!E661&\" (\"&'Control Sheet'!F661&\")\")","v":""},{"$f":"IF(C$18=1,IF(ISNA(VLOOKUP($A681,INDIRECT(C$20),OOPE_col,FALSE)),\"\",VLOOKUP($A681,INDIRECT(C$20),OOPE_col,FALSE)),\"\")","v":""},"","","","","","","","","","","","",null,"","","","","","","","","","","","","","","","","","","","","","","","","","","","","","","","","","","","","","","","","","",{"$f":"IF(A681=\"\",\"\",MAX(IF(ISERROR(AU681:BF681),0,AU681:BF681)))","v":""},"","","","","","","","","","","","","","","","","","",""]
[{"$f":"IF(ISBLANK('Control Sheet'!D662),\"\",'Control Sheet'!D662)","v":""},{"$f":"IF(ISBLANK('Control Sheet'!E662),\"\",'Control Sheet'!E662&\" (\"&'Control Sheet'!F662&\")\")","v":""},"","","","","","","","","","","","","",null,"","","","","","","","","","","","","","","","","","","","","","","","","","","","","","","","","","","","","","","","","","",{"$f":"IF(A682=\"\",\"\",MAX(IF(ISERROR(AU682:BF682),0,AU682:BF682)))","v":""},"","","","","","","","","","","","","","","","","","",""]
[{"$f":"IF(ISBLANK('Control Sheet'!D663),\"\",'Control Sheet'!D663)","v":""},{"$f":"IF(ISBLANK('Control Sheet'!E663),\"\",'Control Sheet'!E663&\" (\"&'Control Sheet'!F663&\")\")","v":""},"","","","","","","","","","","","","",null,"","","","","","","","","","","","","","","","","","","","","","","","","","","","","","","","","","","","","","","","","","",{"$f":"IF(A683=\"\",\"\",MAX(IF(ISERROR(AU683:BF683),0,AU683:BF683)))","v":""},"","","","","","","","","","","","","","","","","","",""]
[{"$f":"IF(ISBLANK('Control Sheet'!D664),\"\",'Control Sheet'!D664)","v":""},{"$f":"IF(ISBLANK('Control Sheet'!E664),\"\",'Control Sheet'!E664&\" (\"&'Control Sheet'!F664&\")\")","v":""},"","","","","","","","","","","","","",null,"","","","","","","","","","","","","","","","","","","","","","","","","","","","","","","","","","","","","","","","","","",{"$f":"IF(A684=\"\",\"\",MAX(IF(ISERROR(AU684:BF684),0,AU684:BF684)))","v":""},"","","","","","","","","","","","","","","","","","",""]
[{"$f":"IF(ISBLANK('Control Sheet'!D665),\"\",'Control Sheet'!D665)","v":""},{"$f":"IF(ISBLANK('Control Sheet'!E665),\"\",'Control Sheet'!E665&\" (\"&'Control Sheet'!F665&\")\")","v":""},"","","","","","","","","","","","","",null,"","","","","","","","","","","","","","","","","","","","","","","","","","","","","","","","","","","","","","","","","","",{"$f":"IF(A685=\"\",\"\",MAX(IF(ISERROR(AU685:BF685),0,AU685:BF685)))","v":""},"","","","","","","","","","","","","","","","","","",""]
[{"$f":"IF(ISBLANK('Control Sheet'!D666),\"\",'Control Sheet'!D666)","v":""},{"$f":"IF(ISBLANK('Control Sheet'!E666),\"\",'Control Sheet'!E666&\" (\"&'Control Sheet'!F666&\")\")","v":""},"","","","","","","","","","","","","",null,"","","","","","","","","","","","","","","","","","","","","","","","","","","","","","","","","","","","","","","","","","",{"$f":"IF(A686=\"\",\"\",MAX(IF(ISERROR(AU686:BF686),0,AU686:BF686)))","v":""},"","","","","","","","","","","","","","","","","","",""]
[{"$f":"IF(ISBLANK('Control Sheet'!D667),\"\",'Control Sheet'!D667)","v":""},{"$f":"IF(ISBLANK('Control Sheet'!E667),\"\",'Control Sheet'!E667&\" (\"&'Control Sheet'!F667&\")\")","v":""},"","","","","","","","","","","","","",null,"","","","","","","","","","","","","","","","","","","","","","","","","","","","","","","","","","","","","","","","","","",{"$f":"IF(A687=\"\",\"\",MAX(IF(ISERROR(AU687:BF687),0,AU687:BF687)))","v":""},"","","","","","","","","","","","","","","","","","",""]
[{"$f":"IF(ISBLANK('Control Sheet'!D668),\"\",'Control Sheet'!D668)","v":""},{"$f":"IF(ISBLANK('Control Sheet'!E668),\"\",'Control Sheet'!E668&\" (\"&'Control Sheet'!F668&\")\")","v":""},"","","","","","","","","","","","","",null,"","","","","","","","","","","","","","","","","","","","","","","","","","","","","","","","","","","","","","","","","","",{"$f":"IF(A688=\"\",\"\",MAX(IF(ISERROR(AU688:BF688),0,AU688:BF688)))","v":""},"","","","","","","","","","","","","","","","","","",""]
[{"$f":"IF(ISBLANK('Control Sheet'!D669),\"\",'Control Sheet'!D669)","v":""},{"$f":"IF(ISBLANK('Control Sheet'!E669),\"\",'Control Sheet'!E669&\" (\"&'Control Sheet'!F669&\")\")","v":""},"","","","","","","","","","","","","",null,"","","","","","","","","","","","","","","","","","","","","","","","","","","","","","","","","","","","","","","","","","",{"$f":"IF(A689=\"\",\"\",MAX(IF(ISERROR(AU689:BF689),0,AU689:BF689)))","v":""},"","","","","","","","","","","","","","","","","","",""]
[{"$f":"IF(ISBLANK('Control Sheet'!D670),\"\",'Control Sheet'!D670)","v":""},{"$f":"IF(ISBLANK('Control Sheet'!E670),\"\",'Control Sheet'!E670&\" (\"&'Control Sheet'!F670&\")\")","v":""},"","","","","","","","","","","","","",null,"","","","","","","","","","","","","","","","","","","","","","","","","","","","","","","","","","","","","","","","","","",{"$f":"IF(A690=\"\",\"\",MAX(IF(ISERROR(AU690:BF690),0,AU690:BF690)))","v":""},"","","","","","","","","","","","","","","","","","",""]
[{"$f":"IF(ISBLANK('Control Sheet'!D671),\"\",'Control Sheet'!D671)","v":""},{"$f":"IF(ISBLANK('Control Sheet'!E671),\"\",'Control Sheet'!E671&\" (\"&'Control Sheet'!F671&\")\")","v":""},{"$f":"IF(C$18=1,IF(ISNA(VLOOKUP($A691,INDIRECT(C$20),OOPE_col,FALSE)),\"\",VLOOKUP($A691,INDIRECT(C$20),OOPE_col,FALSE)),\"\")","v":""},"","","","","","","","","","","","",null,"","","","","","","","","","","","","","","","","","","","","","","","","","","","","","","","","","","","","","","","","","",{"$f":"IF(A691=\"\",\"\",MAX(IF(ISERROR(AU691:BF691),0,AU691:BF691)))","v":""},"","","","","","","","","","","","","","","","","","",""]
[{"$f":"IF(ISBLANK('Control Sheet'!D672),\"\",'Control Sheet'!D672)","v":""},{"$f":"IF(ISBLANK('Control Sheet'!E672),\"\",'Control Sheet'!E672&\" (\"&'Control Sheet'!F672&\")\")","v":""},"","","","","","","","","","","","","",null,"","","","","","","","","","","","","","","",{"$f":"IF(OR(A692=\"\",AE692=0),\"\",AE692/(O$18-R534))","v":""},"","","","","","","","","","","","","","","","","","","","","","","","","","",{"$f":"IF(A692=\"\",\"\",MAX(IF(ISERROR(AU692:BF692),0,AU692:BF692)))","v":""},"","","","","","","","","","","","","","","","","","",""]
[{"$f":"IF(ISBLANK('Control Sheet'!D673),\"\",'Control Sheet'!D673)","v":""},{"$f":"IF(ISBLANK('Control Sheet'!E673),\"\",'Control Sheet'!E673&\" (\"&'Control Sheet'!F673&\")\")","v":""},"","","","","","","","","","","","","",null,"","","","","","","","","","","","","","","","","","","","","","","","","","","","","","","","","","","","","","","","","","",{"$f":"IF(A693=\"\",\"\",MAX(IF(ISERROR(AU693:BF693),0,AU693:BF693)))","v":""},"","","","","","","","","","","","","","","","","","",""]
[{"$f":"IF(ISBLANK('Control Sheet'!D674),\"\",'Control Sheet'!D674)","v":""},{"$f":"IF(ISBLANK('Control Sheet'!E674),\"\",'Control Sheet'!E674&\" (\"&'Control Sheet'!F674&\")\")","v":""},"","","","","","","","","","","","","",null,"","","","","","","","","","","","","","","","","","","","","","","","","","","","","","","","","","","","","","","","","","",{"$f":"IF(A694=\"\",\"\",MAX(IF(ISERROR(AU694:BF694),0,AU694:BF694)))","v":""},"","","","","","","","","","","","","","","","","","",""]
[{"$f":"IF(ISBLANK('Control Sheet'!D675),\"\",'Control Sheet'!D675)","v":""},{"$f":"IF(ISBLANK('Control Sheet'!E675),\"\",'Control Sheet'!E675&\" (\"&'Control Sheet'!F675&\")\")","v":""},"","","","","","","","","","","","","",null,"","","","","","","","","","","","","","","","","","","","","","","","","","","","","","","","","","","","","","","","","","",{"$f":"IF(A695=\"\",\"\",MAX(IF(ISERROR(AU695:BF695),0,AU695:BF695)))","v":""},"","","","","","","","","","","","","","","","","","",""]
[{"$f":"IF(ISBLANK('Control Sheet'!D676),\"\",'Control Sheet'!D676)","v":""},{"$f":"IF(ISBLANK('Control Sheet'!E676),\"\",'Control Sheet'!E676&\" (\"&'Control Sheet'!F676&\")\")","v":""},"","","","","","","","","","","","","",null,"","","","","","","","","","","","","","","","","","","","","","","","","","","","","","","","","","","","","","","","","","",{"$f":"IF(A696=\"\",\"\",MAX(IF(ISERROR(AU696:BF696),0,AU696:BF696)))","v":""},"","","","","","","","","","","","","","","","","","",""]
[{"$f":"IF(ISBLANK('Control Sheet'!D677),\"\",'Control Sheet'!D677)","v":""},{"$f":"IF(ISBLANK('Control Sheet'!E677),\"\",'Control Sheet'!E677&\" (\"&'Control Sheet'!F677&\")\")","v":""},"","","","","","","","","","","","","",null,"","","","","","","","","","","","","","","","","","","","","","","","","","","","","","","","","","","","","","","","","","",{"$f":"IF(A697=\"\",\"\",MAX(IF(ISERROR(AU697:BF697),0,AU697:BF697)))","v":""},"","","","","","","","","","","","","","","","","","",""]
[{"$f":"IF(ISBLANK('Control Sheet'!D678),\"\",'Control Sheet'!D678)","v":""},{"$f":"IF(ISBLANK('Control Sheet'!E678),\"\",'Control Sheet'!E678&\" (\"&'Control Sheet'!F678&\")\")","v":""},"","","","","","","","","","","","","",null,"","","","","","","","","","","","","","","","","","","","","","","","","","","","","","","","","","","","","","","","","","",{"$f":"IF(A698=\"\",\"\",MAX(IF(ISERROR(AU698:BF698),0,AU698:BF698)))","v":""},"","","","","","","","","","","","","","","","","","",""]
[{"$f":"IF(ISBLANK('Control Sheet'!D679),\"\",'Control Sheet'!D679)","v":""},{"$f":"IF(ISBLANK('Control Sheet'!E679),\"\",'Control Sheet'!E679&\" (\"&'Control Sheet'!F679&\")\")","v":""},"","","","","","","","","","","","","",null,"","","","","","","","","","","","","","","","","","","","","","","","","","","","","","","","","","","","","","","","","","",{"$f":"IF(A699=\"\",\"\",MAX(IF(ISERROR(AU699:BF699),0,AU699:BF699)))","v":""},"","","","","","","","","","","","","","","","","","",""]
[{"$f":"IF(ISBLANK('Control Sheet'!D680),\"\",'Control Sheet'!D680)","v":""},{"$f":"IF(ISBLANK('Control Sheet'!E680),\"\",'Control Sheet'!E680&\" (\"&'Control Sheet'!F680&\")\")","v":""},"","","","","","","","","","","","","",null,"","","","","","","","","","","","","","","","","","","","","","","","","","","","","","","","","","","","","","","","","","",{"$f":"IF(A700=\"\",\"\",MAX(IF(ISERROR(AU700:BF700),0,AU700:BF700)))","v":""},"","","","","","","","","","","","","","","","","","",""]
[{"$f":"IF(ISBLANK('Control Sheet'!D681),\"\",'Control Sheet'!D681)","v":""},{"$f":"IF(ISBLANK('Control Sheet'!E681),\"\",'Control Sheet'!E681&\" (\"&'Control Sheet'!F681&\")\")","v":""},{"$f":"IF(C$18=1,IF(ISNA(VLOOKUP($A701,INDIRECT(C$20),OOPE_col,FALSE)),\"\",VLOOKUP($A701,INDIRECT(C$20),OOPE_col,FALSE)),\"\")","v":""},"","","","","","","","","","","","",null,"","","","","","","","","","","","","","","","","","","","","","","","","","","","","","","","","","","","","","","","","","",{"$f":"IF(A701=\"\",\"\",MAX(IF(ISERROR(AU701:BF701),0,AU701:BF701)))","v":""},"","","","","","","","","","","","","","","","","","",""]
[{"$f":"IF(ISBLANK('Control Sheet'!D682),\"\",'Control Sheet'!D682)","v":""},{"$f":"IF(ISBLANK('Control Sheet'!E682),\"\",'Control Sheet'!E682&\" (\"&'Control Sheet'!F682&\")\")","v":""},"","","","","","","","","","","","","",null,"","","","","","","","","","","","","","","","","","","","","","","","","","","","","","","","","","","","","","","","","","",{"$f":"IF(A702=\"\",\"\",MAX(IF(ISERROR(AU702:BF702),0,AU702:BF702)))","v":""},"","","","","","","","","","","","","","","","","","",""]
[{"$f":"IF(ISBLANK('Control Sheet'!D683),\"\",'Control Sheet'!D683)","v":""},{"$f":"IF(ISBLANK('Control Sheet'!E683),\"\",'Control Sheet'!E683&\" (\"&'Control Sheet'!F683&\")\")","v":""},"","","","","","","","","","","","","",null,"","","","","","","","","","","","","","","","","","","","","","","","","","","","","","","","","","","","","","","","","","",{"$f":"IF(A703=\"\",\"\",MAX(IF(ISERROR(AU703:BF703),0,AU703:BF703)))","v":""},"","","","","","","","","","","","","","","","","","",""]
[{"$f":"IF(ISBLANK('Control Sheet'!D684),\"\",'Control Sheet'!D684)","v":""},{"$f":"IF(ISBLANK('Control Sheet'!E684),\"\",'Control Sheet'!E684&\" (\"&'Control Sheet'!F684&\")\")","v":""},"","","","","","","","","","","","","",null,"","","","","","","","","","","","","","","","","","","","","","","","","","","","","","","","","","","","","","","","","","",{"$f":"IF(A704=\"\",\"\",MAX(IF(ISERROR(AU704:BF704),0,AU704:BF704)))","v":""},"","","","","","","","","","","","","","","","","","",""]
[{"$f":"IF(ISBLANK('Control Sheet'!D685),\"\",'Control Sheet'!D685)","v":""},{"$f":"IF(ISBLANK('Control Sheet'!E685),\"\",'Control Sheet'!E685&\" (\"&'Control Sheet'!F685&\")\")","v":""},"","","","","","","","","","","","","",null,"","","","","","","","","","","","","","","","","","","","","","","","","","","","","","","","","","","","","","","","","","",{"$f":"IF(A705=\"\",\"\",MAX(IF(ISERROR(AU705:BF705),0,AU705:BF705)))","v":""},"","","","","","","","","","","","","","","","","","",""]
[{"$f":"IF(ISBLANK('Control Sheet'!D686),\"\",'Control Sheet'!D686)","v":""},{"$f":"IF(ISBLANK('Control Sheet'!E686),\"\",'Control Sheet'!E686&\" (\"&'Control Sheet'!F686&\")\")","v":""},"","","","","","","","","","","","","",null,"","","","","","","","","","","","","","","","","","","","","","","","","","","","","","","","","","","","","","","","","","",{"$f":"IF(A706=\"\",\"\",MAX(IF(ISERROR(AU706:BF706),0,AU706:BF706)))","v":""},"","","","","","","","","","","","","","","","","","",""]
[{"$f":"IF(ISBLANK('Control Sheet'!D687),\"\",'Control Sheet'!D687)","v":""},{"$f":"IF(ISBLANK('Control Sheet'!E687),\"\",'Control Sheet'!E687&\" (\"&'Control Sheet'!F687&\")\")","v":""},"","","","","","","","","","","","","",null,"","","","","","","","","","","","","","","","","","","","","","","","","","","","","","","","","","","","","","","","","","",{"$f":"IF(A707=\"\",\"\",MAX(IF(ISERROR(AU707:BF707),0,AU707:BF707)))","v":""},"","","","","","","","","","","","","","","","","","",""]
[{"$f":"IF(ISBLANK('Control Sheet'!D688),\"\",'Control Sheet'!D688)","v":""},{"$f":"IF(ISBLANK('Control Sheet'!E688),\"\",'Control Sheet'!E688&\" (\"&'Control Sheet'!F688&\")\")","v":""},"","","","","","","","","","","","","",null,"","","","","","","","","","","","","","","","","","","","","","","","","","","","","","","","","","","","","","","","","","",{"$f":"IF(A708=\"\",\"\",MAX(IF(ISERROR(AU708:BF708),0,AU708:BF708)))","v":""},"","","","","","","","","","","","","","","","","","",""]
[{"$f":"IF(ISBLANK('Control Sheet'!D689),\"\",'Control Sheet'!D689)","v":""},{"$f":"IF(ISBLANK('Control Sheet'!E689),\"\",'Control Sheet'!E689&\" (\"&'Control Sheet'!F689&\")\")","v":""},"","","","","","","","","","","","","",null,"","","","","","","","","","","","","","","","","","","","","","","","","","","","","","","","","","","","","","","","","","",{"$f":"IF(A709=\"\",\"\",MAX(IF(ISERROR(AU709:BF709),0,AU709:BF709)))","v":""},"","","","","","","","","","","","","","","","","","",""]
[{"$f":"IF(ISBLANK('Control Sheet'!D690),\"\",'Control Sheet'!D690)","v":""},{"$f":"IF(ISBLANK('Control Sheet'!E690),\"\",'Control Sheet'!E690&\" (\"&'Control Sheet'!F690&\")\")","v":""},"","","","","","","","","","","","","",null,"","","","","","","","","","","","","","","","","","","","","","","","","","","","","","","","","","","","","","","","","","",{"$f":"IF(A710=\"\",\"\",MAX(IF(ISERROR(AU710:BF710),0,AU710:BF710)))","v":""},"","","","","","","","","","","","","","","","","","",""]
[{"$f":"IF(ISBLANK('Control Sheet'!D691),\"\",'Control Sheet'!D691)","v":""},{"$f":"IF(ISBLANK('Control Sheet'!E691),\"\",'Control Sheet'!E691&\" (\"&'Control Sheet'!F691&\")\")","v":""},{"$f":"IF(C$18=1,IF(ISNA(VLOOKUP($A711,INDIRECT(C$20),OOPE_col,FALSE)),\"\",VLOOKUP($A711,INDIRECT(C$20),OOPE_col,FALSE)),\"\")","v":""},"","","","","","","","","","","","",null,"","","","","","","","","","","","","","","","","","","","","","","","","","","","","","","","","","","","","","","","","","",{"$f":"IF(A711=\"\",\"\",MAX(IF(ISERROR(AU711:BF711),0,AU711:BF711)))","v":""},"","","","","","","","","","","","","","","","","","",""]
[{"$f":"IF(ISBLANK('Control Sheet'!D692),\"\",'Control Sheet'!D692)","v":""},{"$f":"IF(ISBLANK('Control Sheet'!E692),\"\",'Control Sheet'!E692&\" (\"&'Control Sheet'!F692&\")\")","v":""},"","","","","","","","","","","","","",null,"","","","","","","","","","","","","","","","","","","","","","","","","","","","","","","","","","","","","","","","","","",{"$f":"IF(A712=\"\",\"\",MAX(IF(ISERROR(AU712:BF712),0,AU712:BF712)))","v":""},"","","","","","","","","","","","","","","","","","",""]
[{"$f":"IF(ISBLANK('Control Sheet'!D693),\"\",'Control Sheet'!D693)","v":""},{"$f":"IF(ISBLANK('Control Sheet'!E693),\"\",'Control Sheet'!E693&\" (\"&'Control Sheet'!F693&\")\")","v":""},"","","","","","","","","","","","","",null,"","","","","","","","","","","","","","","","","","","","","","","","","","","","","","","","","","","","","","","","","","",{"$f":"IF(A713=\"\",\"\",MAX(IF(ISERROR(AU713:BF713),0,AU713:BF713)))","v":""},"","","","","","","","","","","","","","","","","","",""]
[{"$f":"IF(ISBLANK('Control Sheet'!D694),\"\",'Control Sheet'!D694)","v":""},{"$f":"IF(ISBLANK('Control Sheet'!E694),\"\",'Control Sheet'!E694&\" (\"&'Control Sheet'!F694&\")\")","v":""},"","","","","","","","","","","","","",null,"","","","","","","","","","","","","","","","","","","","","","","","","","","","","","","","","","","","","","","","","","",{"$f":"IF(A714=\"\",\"\",MAX(IF(ISERROR(AU714:BF714),0,AU714:BF714)))","v":""},"","","","","","","","","","","","","","","","","","",""]
[{"$f":"IF(ISBLANK('Control Sheet'!D695),\"\",'Control Sheet'!D695)","v":""},{"$f":"IF(ISBLANK('Control Sheet'!E695),\"\",'Control Sheet'!E695&\" (\"&'Control Sheet'!F695&\")\")","v":""},"","","","","","","","","","","","","",null,"","","","","","","","","","","","","","","","","","","","","","","","","","","","","","","","","","","","","","","","","","",{"$f":"IF(A715=\"\",\"\",MAX(IF(ISERROR(AU715:BF715),0,AU715:BF715)))","v":""},"","","","","","","","","","","","","","","","","","",""]
[{"$f":"IF(ISBLANK('Control Sheet'!D696),\"\",'Control Sheet'!D696)","v":""},{"$f":"IF(ISBLANK('Control Sheet'!E696),\"\",'Control Sheet'!E696&\" (\"&'Control Sheet'!F696&\")\")","v":""},"","","","","","","","","","","","","",null,"","","","","","","","","","","","","","","","","","","","","","","","","","","","","","","","","","","","","","","","","","",{"$f":"IF(A716=\"\",\"\",MAX(IF(ISERROR(AU716:BF716),0,AU716:BF716)))","v":""},"","","","","","","","","","","","","","","","","","",""]
[{"$f":"IF(ISBLANK('Control Sheet'!D697),\"\",'Control Sheet'!D697)","v":""},{"$f":"IF(ISBLANK('Control Sheet'!E697),\"\",'Control Sheet'!E697&\" (\"&'Control Sheet'!F697&\")\")","v":""},"","","","","","","","","","","","","",null,"","","","","","","","","","","","","","","","","","","","","","","","","","","","","","","","","","","","","","","","","","",{"$f":"IF(A717=\"\",\"\",MAX(IF(ISERROR(AU717:BF717),0,AU717:BF717)))","v":""},"","","","","","","","","","","","","","","","","","",""]
[{"$f":"IF(ISBLANK('Control Sheet'!D698),\"\",'Control Sheet'!D698)","v":""},{"$f":"IF(ISBLANK('Control Sheet'!E698),\"\",'Control Sheet'!E698&\" (\"&'Control Sheet'!F698&\")\")","v":""},"","","","","","","","","","","","","",null,"","","","","","","","","","","","","","","","","","","","","","","","","","","","","","","","","","","","","","","","","","",{"$f":"IF(A718=\"\",\"\",MAX(IF(ISERROR(AU718:BF718),0,AU718:BF718)))","v":""},"","","","","","","","","","","","","","","","","","",""]
[{"$f":"IF(ISBLANK('Control Sheet'!D699),\"\",'Control Sheet'!D699)","v":""},{"$f":"IF(ISBLANK('Control Sheet'!E699),\"\",'Control Sheet'!E699&\" (\"&'Control Sheet'!F699&\")\")","v":""},"","","","","","","","","","","","","",null,"","","","","","","","","","","","","","","","","","","","","","","","","","","","","","","","","","","","","","","","","","",{"$f":"IF(A719=\"\",\"\",MAX(IF(ISERROR(AU719:BF719),0,AU719:BF719)))","v":""},"","","","","","","","","","","","","","","","","","",""]
[{"$f":"IF(ISBLANK('Control Sheet'!D700),\"\",'Control Sheet'!D700)","v":""},{"$f":"IF(ISBLANK('Control Sheet'!E700),\"\",'Control Sheet'!E700&\" (\"&'Control Sheet'!F700&\")\")","v":""},"","","","","","","","","","","","","",null,"","","","","","","","","","","","","","","","","","","","","","","","","","","","","","","","","","","","","","","","","","",{"$f":"IF(A720=\"\",\"\",MAX(IF(ISERROR(AU720:BF720),0,AU720:BF720)))","v":""},"","","","","","","","","","","","","","","","","","",""]
[{"$f":"IF(ISBLANK('Control Sheet'!D701),\"\",'Control Sheet'!D701)","v":""},{"$f":"IF(ISBLANK('Control Sheet'!E701),\"\",'Control Sheet'!E701&\" (\"&'Control Sheet'!F701&\")\")","v":""},{"$f":"IF(C$18=1,IF(ISNA(VLOOKUP($A721,INDIRECT(C$20),OOPE_col,FALSE)),\"\",VLOOKUP($A721,INDIRECT(C$20),OOPE_col,FALSE)),\"\")","v":""},"","","","","","","","","","","","",null,"","","","","","","","","","","","","","","","","","","","","","","","","","","","","","","","","","","","","","","","","","",{"$f":"IF(A721=\"\",\"\",MAX(IF(ISERROR(AU721:BF721),0,AU721:BF721)))","v":""},"","","","","","","","","","","","","","","","","","",""]
[{"$f":"IF(ISBLANK('Control Sheet'!D702),\"\",'Control Sheet'!D702)","v":""},{"$f":"IF(ISBLANK('Control Sheet'!E702),\"\",'Control Sheet'!E702&\" (\"&'Control Sheet'!F702&\")\")","v":""},"","","","","","","","","","","","","",null,"","","","","","","","","","","","","","","","","","","","","","","","","","","","","","","","","","","","","","","","","","",{"$f":"IF(A722=\"\",\"\",MAX(IF(ISERROR(AU722:BF722),0,AU722:BF722)))","v":""},"","","","","","","","","","","","","","","","","","",""]
[{"$f":"IF(ISBLANK('Control Sheet'!D703),\"\",'Control Sheet'!D703)","v":""},{"$f":"IF(ISBLANK('Control Sheet'!E703),\"\",'Control Sheet'!E703&\" (\"&'Control Sheet'!F703&\")\")","v":""},"","","","","","","","","","","","","",null,"","","","","","","","","","","","","","","","","","","","","","","","","","","","","","","","","","","","","","","","","","",{"$f":"IF(A723=\"\",\"\",MAX(IF(ISERROR(AU723:BF723),0,AU723:BF723)))","v":""},"","","","","","","","","","","","","","","","","","",""]
[{"$f":"IF(ISBLANK('Control Sheet'!D704),\"\",'Control Sheet'!D704)","v":""},{"$f":"IF(ISBLANK('Control Sheet'!E704),\"\",'Control Sheet'!E704&\" (\"&'Control Sheet'!F704&\")\")","v":""},"","","","","","","","","","","","","",null,"","","","","","","","","","","","","","","","","","","","","","","","","","","","","","","","","","","","","","","","","","",{"$f":"IF(A724=\"\",\"\",MAX(IF(ISERROR(AU724:BF724),0,AU724:BF724)))","v":""},"","","","","","","","","","","","","","","","","","",""]
[{"$f":"IF(ISBLANK('Control Sheet'!D705),\"\",'Control Sheet'!D705)","v":""},{"$f":"IF(ISBLANK('Control Sheet'!E705),\"\",'Control Sheet'!E705&\" (\"&'Control Sheet'!F705&\")\")","v":""},"","","","","","","","","","","","","",null,"",{"$f":"IF(A725=\"\",\"\",OOPEMonthsPop-(COUNTA(C725:N725)-COUNTBLANK(C725:N725)))","v":""},"","","","","","","","","","","","","","","","","","","","","","","","","","","","",{"$f":"IF(OR(A725=\"\",OOPEMonthsPop=0),\"\",IF(AU$18=OOPEMonthsPop,AH725,#N/A))","v":""},{"$f":"IF(OR($A725=\"\",OOPEMonthsPop=0),\"\",IF(AV$18<OOPEMonthsPop,#N/A,IF(AV$18=OOPEMonthsPop,AI725,IF(AU725=\"\",\"\",IF(AV$18=OOPEMonthsPop+1,AU725+(AU725*VLOOKUP(OOPEMonthsPop-$R725,ForecastMult,3,FALSE)/12),AU725+AU725-AT725)))))","v":""},{"$f":"IF(OR($A725=\"\",OOPEMonthsPop=0),\"\",IF(AW$18<OOPEMonthsPop,#N/A,IF(AW$18=OOPEMonthsPop,AJ725,IF(AV725=\"\",\"\",IF(AW$18=OOPEMonthsPop+1,AV725+(AV725*VLOOKUP(OOPEMonthsPop-$R725,ForecastMult,3,FALSE)/12),AV725+AV725-AU725)))))","v":""},{"$f":"IF(OR($A725=\"\",OOPEMonthsPop=0),\"\",IF(AX$18<OOPEMonthsPop,#N/A,IF(AX$18=OOPEMonthsPop,AK725,IF(AW725=\"\",\"\",IF(AX$18=OOPEMonthsPop+1,AW725+(AW725*VLOOKUP(OOPEMonthsPop-$R725,ForecastMult,3,FALSE)/12),AW725+AW725-AV725)))))","v":""},{"$f":"IF(OR($A725=\"\",OOPEMonthsPop=0),\"\",IF(AY$18<OOPEMonthsPop,#N/A,IF(AY$18=OOPEMonthsPop,AL725,IF(AX725=\"\",\"\",IF(AY$18=OOPEMonthsPop+1,AX725+(AX725*VLOOKUP(OOPEMonthsPop-$R725,ForecastMult,3,FALSE)/12),AX725+AX725-AW725)))))","v":""},{"$f":"IF(OR($A725=\"\",OOPEMonthsPop=0),\"\",IF(AZ$18<OOPEMonthsPop,#N/A,IF(AZ$18=OOPEMonthsPop,AM725,IF(AY725=\"\",\"\",IF(AZ$18=OOPEMonthsPop+1,AY725+(AY725*VLOOKUP(OOPEMonthsPop-$R725,ForecastMult,3,FALSE)/12),AY725+AY725-AX725)))))","v":""},{"$f":"IF(OR($A725=\"\",OOPEMonthsPop=0),\"\",IF(BA$18<OOPEMonthsPop,#N/A,IF(BA$18=OOPEMonthsPop,AN725,IF(AZ725=\"\",\"\",IF(BA$18=OOPEMonthsPop+1,AZ725+(AZ725*VLOOKUP(OOPEMonthsPop-$R725,ForecastMult,3,FALSE)/12),AZ725+AZ725-AY725)))))","v":""},{"$f":"IF(OR($A725=\"\",OOPEMonthsPop=0),\"\",IF(BB$18<OOPEMonthsPop,#N/A,IF(BB$18=OOPEMonthsPop,AO725,IF(BA725=\"\",\"\",IF(BB$18=OOPEMonthsPop+1,BA725+(BA725*VLOOKUP(OOPEMonthsPop-$R725,ForecastMult,3,FALSE)/12),BA725+BA725-AZ725)))))","v":""},{"$f":"IF(OR($A725=\"\",OOPEMonthsPop=0),\"\",IF(BC$18<OOPEMonthsPop,#N/A,IF(BC$18=OOPEMonthsPop,AP725,IF(BB725=\"\",\"\",IF(BC$18=OOPEMonthsPop+1,BB725+(BB725*VLOOKUP(OOPEMonthsPop-$R725,ForecastMult,3,FALSE)/12),BB725+BB725-BA725)))))","v":""},{"$f":"IF(OR($A725=\"\",OOPEMonthsPop=0),\"\",IF(BD$18<OOPEMonthsPop,#N/A,IF(BD$18=OOPEMonthsPop,AQ725,IF(BC725=\"\",\"\",IF(BD$18=OOPEMonthsPop+1,BC725+(BC725*VLOOKUP(OOPEMonthsPop-$R725,ForecastMult,3,FALSE)/12),BC725+BC725-BB725)))))","v":""},{"$f":"IF(OR($A725=\"\",OOPEMonthsPop=0),\"\",IF(BE$18<OOPEMonthsPop,#N/A,IF(BE$18=OOPEMonthsPop,AR725,IF(BD725=\"\",\"\",IF(BE$18=OOPEMonthsPop+1,BD725+(BD725*VLOOKUP(OOPEMonthsPop-$R725,ForecastMult,3,FALSE)/12),BD725+BD725-BC725)))))","v":""},{"$f":"IF(OR($A725=\"\",OOPEMonthsPop=0),\"\",IF(BF$18<OOPEMonthsPop,#N/A,IF(BF$18=OOPEMonthsPop,AS725,IF(BE725=\"\",\"\",IF(BF$18=OOPEMonthsPop+1,BE725+(BE725*VLOOKUP(OOPEMonthsPop-$R725,ForecastMult,3,FALSE)/12),BE725+BE725-BD725)))))","v":""},{"$f":"IF(A725=\"\",\"\",MAX(IF(ISERROR(AU725:BF725),0,AU725:BF725)))","v":""},{"$f":"IF(AND(C$18=1,$A725<>\"\"),IF(ISNA(VLOOKUP($A725,INDIRECT(C$20),TOT_STDR_PXS_col,FALSE)),\"\",VLOOKUP($A725,INDIRECT(C$20),TOT_STDR_PXS_col,FALSE)+VLOOKUP($A725,INDIRECT(C$20),TOT_ZDR_PXS_col,FALSE)),\"\")","v":""},{"$f":"IF(AND(D$18=1,$A725<>\"\"),IF(ISNA(VLOOKUP($A725,INDIRECT(D$20),TOT_STDR_PXS_col,FALSE)),\"\",VLOOKUP($A725,INDIRECT(D$20),TOT_STDR_PXS_col,FALSE)+VLOOKUP($A725,INDIRECT(D$20),TOT_ZDR_PXS_col,FALSE)),\"\")","v":""},{"$f":"IF(AND(E$18=1,$A725<>\"\"),IF(ISNA(VLOOKUP($A725,INDIRECT(E$20),TOT_STDR_PXS_col,FALSE)),\"\",VLOOKUP($A725,INDIRECT(E$20),TOT_STDR_PXS_col,FALSE)+VLOOKUP($A725,INDIRECT(E$20),TOT_ZDR_PXS_col,FALSE)),\"\")","v":""},{"$f":"IF(AND(F$18=1,$A725<>\"\"),IF(ISNA(VLOOKUP($A725,INDIRECT(F$20),TOT_STDR_PXS_col,FALSE)),\"\",VLOOKUP($A725,INDIRECT(F$20),TOT_STDR_PXS_col,FALSE)+VLOOKUP($A725,INDIRECT(F$20),TOT_ZDR_PXS_col,FALSE)),\"\")","v":""},{"$f":"IF(AND(G$18=1,$A725<>\"\"),IF(ISNA(VLOOKUP($A725,INDIRECT(G$20),TOT_STDR_PXS_col,FALSE)),\"\",VLOOKUP($A725,INDIRECT(G$20),TOT_STDR_PXS_col,FALSE)+VLOOKUP($A725,INDIRECT(G$20),TOT_ZDR_PXS_col,FALSE)),\"\")","v":""},{"$f":"IF(AND(H$18=1,$A725<>\"\"),IF(ISNA(VLOOKUP($A725,INDIRECT(H$20),TOT_STDR_PXS_col,FALSE)),\"\",VLOOKUP($A725,INDIRECT(H$20),TOT_STDR_PXS_col,FALSE)+VLOOKUP($A725,INDIRECT(H$20),TOT_ZDR_PXS_col,FALSE)),\"\")","v":""},{"$f":"IF(AND(I$18=1,$A725<>\"\"),IF(ISNA(VLOOKUP($A725,INDIRECT(I$20),TOT_STDR_PXS_col,FALSE)),\"\",VLOOKUP($A725,INDIRECT(I$20),TOT_STDR_PXS_col,FALSE)+VLOOKUP($A725,INDIRECT(I$20),TOT_ZDR_PXS_col,FALSE)),\"\")","v":""},{"$f":"IF(AND(J$18=1,$A725<>\"\"),IF(ISNA(VLOOKUP($A725,INDIRECT(J$20),TOT_STDR_PXS_col,FALSE)),\"\",VLOOKUP($A725,INDIRECT(J$20),TOT_STDR_PXS_col,FALSE)+VLOOKUP($A725,INDIRECT(J$20),TOT_ZDR_PXS_col,FALSE)),\"\")","v":""},{"$f":"IF(AND(K$18=1,$A725<>\"\"),IF(ISNA(VLOOKUP($A725,INDIRECT(K$20),TOT_STDR_PXS_col,FALSE)),\"\",VLOOKUP($A725,INDIRECT(K$20),TOT_STDR_PXS_col,FALSE)+VLOOKUP($A725,INDIRECT(K$20),TOT_ZDR_PXS_col,FALSE)),\"\")","v":""},{"$f":"IF(AND(L$18=1,$A725<>\"\"),IF(ISNA(VLOOKUP($A725,INDIRECT(L$20),TOT_STDR_PXS_col,FALSE)),\"\",VLOOKUP($A725,INDIRECT(L$20),TOT_STDR_PXS_col,FALSE)+VLOOKUP($A725,INDIRECT(L$20),TOT_ZDR_PXS_col,FALSE)),\"\")","v":""},{"$f":"IF(AND(M$18=1,$A725<>\"\"),IF(ISNA(VLOOKUP($A725,INDIRECT(M$20),TOT_STDR_PXS_col,FALSE)),\"\",VLOOKUP($A725,INDIRECT(M$20),TOT_STDR_PXS_col,FALSE)+VLOOKUP($A725,INDIRECT(M$20),TOT_ZDR_PXS_col,FALSE)),\"\")","v":""},{"$f":"IF(AND(N$18=1,$A725<>\"\"),IF(ISNA(VLOOKUP($A725,INDIRECT(N$20),TOT_STDR_PXS_col,FALSE)),\"\",VLOOKUP($A725,INDIRECT(N$20),TOT_STDR_PXS_col,FALSE)+VLOOKUP($A725,INDIRECT(N$20),TOT_ZDR_PXS_col,FALSE)),\"\")","v":""},"","","","","","",""]
[{"$f":"IF(ISBLANK('Control Sheet'!D706),\"\",'Control Sheet'!D706)","v":""},{"$f":"IF(ISBLANK('Control Sheet'!E706),\"\",'Control Sheet'!E706&\" (\"&'Control Sheet'!F706&\")\")","v":""},"","","","","","","","","","","","",{"$f":"IF(A726=\"\",\"\",SUM(C726:N726))","v":""},null,{"$f":"IF(A726=\"\",\"\",IF(BG726<=400,\"No\",\"Yes\"))","v":""},"",{"$f":"IF(C726=\"\",\"\",IF(C726<=C$10,1,IF(C726<=C$7,2,IF(C726<=C$8,3,IF(C726<=C$9,4,IF(C726<=C$11,5,60))))))","v":""},{"$f":"IF(D726=\"\",\"\",IF(D726<=D$10,1,IF(D726<=D$7,2,IF(D726<=D$8,3,IF(D726<=D$9,4,IF(D726<=D$11,5,60))))))","v":""},{"$f":"IF(E726=\"\",\"\",IF(E726<=E$10,1,IF(E726<=E$7,2,IF(E726<=E$8,3,IF(E726<=E$9,4,IF(E726<=E$11,5,60))))))","v":""},{"$f":"IF(F726=\"\",\"\",IF(F726<=F$10,1,IF(F726<=F$7,2,IF(F726<=F$8,3,IF(F726<=F$9,4,IF(F726<=F$11,5,60))))))","v":""},{"$f":"IF(G726=\"\",\"\",IF(G726<=G$10,1,IF(G726<=G$7,2,IF(G726<=G$8,3,IF(G726<=G$9,4,IF(G726<=G$11,5,60))))))","v":""},{"$f":"IF(H726=\"\",\"\",IF(H726<=H$10,1,IF(H726<=H$7,2,IF(H726<=H$8,3,IF(H726<=H$9,4,IF(H726<=H$11,5,60))))))","v":""},{"$f":"IF(I726=\"\",\"\",IF(I726<=I$10,1,IF(I726<=I$7,2,IF(I726<=I$8,3,IF(I726<=I$9,4,IF(I726<=I$11,5,60))))))","v":""},{"$f":"IF(J726=\"\",\"\",IF(J726<=J$10,1,IF(J726<=J$7,2,IF(J726<=J$8,3,IF(J726<=J$9,4,IF(J726<=J$11,5,60))))))","v":""},{"$f":"IF(K726=\"\",\"\",IF(K726<=K$10,1,IF(K726<=K$7,2,IF(K726<=K$8,3,IF(K726<=K$9,4,IF(K726<=K$11,5,60))))))","v":""},{"$f":"IF(L726=\"\",\"\",IF(L726<=L$10,1,IF(L726<=L$7,2,IF(L726<=L$8,3,IF(L726<=L$9,4,IF(L726<=L$11,5,60))))))","v":""},{"$f":"IF(M726=\"\",\"\",IF(M726<=M$10,1,IF(M726<=M$7,2,IF(M726<=M$8,3,IF(M726<=M$9,4,IF(M726<=M$11,5,60))))))","v":""},{"$f":"IF(N726=\"\",\"\",IF(N726<=N$10,1,IF(N726<=N$7,2,IF(N726<=N$8,3,IF(N726<=N$9,4,IF(N726<=N$11,5,60))))))","v":""},{"$f":"IF(A726=\"\",\"\",SUM(S726:AD726))","v":""},"",{"$f":"IF(AF726=\"\",\"\",IF(AF726<=1,\"Lower Outlier\",IF(AF726<=2,\"Below Average\",IF(AF726<=3,\"Lower Quartile\",IF(AF726<=4,\"Upper Quartile\",IF(AF726<=5, \"Above Average\", \"Upper Outlier\"))))))","v":""},{"$f":"IF(C$18=1,C726,\"\")","v":""},{"$f":"IF(D$18=1,IF(D726=\"\",IF(AH726=\"\",\"\",AH726),IF(AND(D726>=0,AH726=\"\"),D726,IF(ISERROR(D726+AH726),#N/A,D726+AH726))),\"\")","v":""},{"$f":"IF(E$18=1,IF(E726=\"\",IF(AI726=\"\",\"\",AI726),IF(AND(E726>=0,AI726=\"\"),E726,IF(ISERROR(E726+AI726),#N/A,E726+AI726))),\"\")","v":""},{"$f":"IF(F$18=1,IF(F726=\"\",IF(AJ726=\"\",\"\",AJ726),IF(AND(F726>=0,AJ726=\"\"),F726,IF(ISERROR(F726+AJ726),#N/A,F726+AJ726))),\"\")","v":""},{"$f":"IF(G$18=1,IF(G726=\"\",IF(AK726=\"\",\"\",AK726),IF(AND(G726>=0,AK726=\"\"),G726,IF(ISERROR(G726+AK726),#N/A,G726+AK726))),\"\")","v":""},{"$f":"IF(H$18=1,IF(H726=\"\",IF(AL726=\"\",\"\",AL726),IF(AND(H726>=0,AL726=\"\"),H726,IF(ISERROR(H726+AL726),#N/A,H726+AL726))),\"\")","v":""},{"$f":"IF(I$18=1,IF(I726=\"\",IF(AM726=\"\",\"\",AM726),IF(AND(I726>=0,AM726=\"\"),I726,IF(ISERROR(I726+AM726),#N/A,I726+AM726))),\"\")","v":""},{"$f":"IF(J$18=1,IF(J726=\"\",IF(AN726=\"\",\"\",AN726),IF(AND(J726>=0,AN726=\"\"),J726,IF(ISERROR(J726+AN726),#N/A,J726+AN726))),\"\")","v":""},{"$f":"IF(K$18=1,IF(K726=\"\",IF(AO726=\"\",\"\",AO726),IF(AND(K726>=0,AO726=\"\"),K726,IF(ISERROR(K726+AO726),#N/A,K726+AO726))),\"\")","v":""},{"$f":"IF(L$18=1,IF(L726=\"\",IF(AP726=\"\",\"\",AP726),IF(AND(L726>=0,AP726=\"\"),L726,IF(ISERROR(L726+AP726),#N/A,L726+AP726))),\"\")","v":""},{"$f":"IF(M$18=1,IF(M726=\"\",IF(AQ726=\"\",\"\",AQ726),IF(AND(M726>=0,AQ726=\"\"),M726,IF(ISERROR(M726+AQ726),#N/A,M726+AQ726))),\"\")","v":""},{"$f":"IF(N$18=1,IF(N726=\"\",IF(AR726=\"\",\"\",AR726),IF(AND(N726>=0,AR726=\"\"),N726,IF(ISERROR(N726+AR726),#N/A,N726+AR726))),\"\")","v":""},{"$f":"IF(A726=\"\",\"\",MAX(AH726:AS726))","v":""},"","","","","","","","","","","","",{"$f":"IF(A726=\"\",\"\",MAX(IF(ISERROR(AU726:BF726),0,AU726:BF726)))","v":""},"","","","","","","","","","","","",{"$f":"IF(A726=\"\",\"\",SUM(BH726:BS726))","v":""},{"$f":"IF(A726=\"\",\"\",MIN(B726:M726))","v":""},{"$f":"IF(A726=\"\",\"\",MAX(B726:M726))","v":""},{"$f":"IF(A726=\"\",\"\",IF(BV726-BU726=0,\"\",BV726-BU726))","v":""},{"$f":"IF(A726=\"\",\"\",IF(BW726=\"\",\"No\",IF(BW726>$BW$11,\"Yes\",\"No\")))","v":""},{"$f":"IF(A726=\"\",\"\",(COUNTA(C726:N726)-COUNTBLANK(C726:N726)))","v":""},{"$f":"IF(A726=\"\",\"\",BY726-COUNTIF(C726:N726,\"=0\"))","v":""}]
[{"$f":"IF(ISBLANK('Control Sheet'!D707),\"\",'Control Sheet'!D707)","v":""},{"$f":"IF(ISBLANK('Control Sheet'!E707),\"\",'Control Sheet'!E707&\" (\"&'Control Sheet'!F707&\")\")","v":""},"","","","","","","","","","","","","",null,"","","","","","","","","","","","","","","","","","","","","","","","","","","","","","","","","","","","","","","","","","",{"$f":"IF(A727=\"\",\"\",MAX(IF(ISERROR(AU727:BF727),0,AU727:BF727)))","v":""},"","","","","","","","","","","","","","","","","","",""]
[{"$f":"IF(ISBLANK('Control Sheet'!D708),\"\",'Control Sheet'!D708)","v":""},{"$f":"IF(ISBLANK('Control Sheet'!E708),\"\",'Control Sheet'!E708&\" (\"&'Control Sheet'!F708&\")\")","v":""},"","","","","","","","","","","","","",null,"","","","","","","","","","","","","","","","","","","","","","","","","","","","","","","","","","","","","","","","","","",{"$f":"IF(A728=\"\",\"\",MAX(IF(ISERROR(AU728:BF728),0,AU728:BF728)))","v":""},"","","","","","","","","","","","","","","","","","",""]
[{"$f":"IF(ISBLANK('Control Sheet'!D709),\"\",'Control Sheet'!D709)","v":""},{"$f":"IF(ISBLANK('Control Sheet'!E709),\"\",'Control Sheet'!E709&\" (\"&'Control Sheet'!F709&\")\")","v":""},"","","","","","","","","","","","","",null,"","","","","","","","","","","","","","","","","","","","","","","","","","","","","","","","","","","","","","","","","","",{"$f":"IF(A729=\"\",\"\",MAX(IF(ISERROR(AU729:BF729),0,AU729:BF729)))","v":""},"","","","","","","","","","","","","","","","","","",""]
[{"$f":"IF(ISBLANK('Control Sheet'!D710),\"\",'Control Sheet'!D710)","v":""},{"$f":"IF(ISBLANK('Control Sheet'!E710),\"\",'Control Sheet'!E710&\" (\"&'Control Sheet'!F710&\")\")","v":""},"","","","","","","","","","","","","",null,"","","","","","","","","","","","","","","","","","","","","","","","","","","","","","","","","","","","","","","","","","",{"$f":"IF(A730=\"\",\"\",MAX(IF(ISERROR(AU730:BF730),0,AU730:BF730)))","v":""},"","","","","","","","","","","","","","","","","","",""]
[{"$f":"IF(ISBLANK('Control Sheet'!D711),\"\",'Control Sheet'!D711)","v":""},{"$f":"IF(ISBLANK('Control Sheet'!E711),\"\",'Control Sheet'!E711&\" (\"&'Control Sheet'!F711&\")\")","v":""},{"$f":"IF(C$18=1,IF(ISNA(VLOOKUP($A731,INDIRECT(C$20),OOPE_col,FALSE)),\"\",VLOOKUP($A731,INDIRECT(C$20),OOPE_col,FALSE)),\"\")","v":""},"","","","","","","","","","","","",null,"","","","","","","","","","","","","","","","","","","","","","","","","","","","","","","","","","","","","","","","","","",{"$f":"IF(A731=\"\",\"\",MAX(IF(ISERROR(AU731:BF731),0,AU731:BF731)))","v":""},"","","","","","","","","","","","","","","","","","",""]
[{"$f":"IF(ISBLANK('Control Sheet'!D712),\"\",'Control Sheet'!D712)","v":""},{"$f":"IF(ISBLANK('Control Sheet'!E712),\"\",'Control Sheet'!E712&\" (\"&'Control Sheet'!F712&\")\")","v":""},"","","","","","","","","","","","","",null,"","","","","","","","","","","","","","","","","","","","","","","","","","","","","","","","","","","","","","","","","","",{"$f":"IF(A732=\"\",\"\",MAX(IF(ISERROR(AU732:BF732),0,AU732:BF732)))","v":""},"","","","","","","","","","","","","","","","","","",""]
[{"$f":"IF(ISBLANK('Control Sheet'!D713),\"\",'Control Sheet'!D713)","v":""},{"$f":"IF(ISBLANK('Control Sheet'!E713),\"\",'Control Sheet'!E713&\" (\"&'Control Sheet'!F713&\")\")","v":""},"","","","","","","","","","","","","",null,"","","","","","","","","","","","","","","","","","","","","","","","","","","","","","","","","","","","","","","","","","",{"$f":"IF(A733=\"\",\"\",MAX(IF(ISERROR(AU733:BF733),0,AU733:BF733)))","v":""},"","","","","","","","","","","","","","","","","","",""]
[{"$f":"IF(ISBLANK('Control Sheet'!D714),\"\",'Control Sheet'!D714)","v":""},{"$f":"IF(ISBLANK('Control Sheet'!E714),\"\",'Control Sheet'!E714&\" (\"&'Control Sheet'!F714&\")\")","v":""},"","","","","","","","","","","","","",null,"","","","","","","","","","","","","","","","","","","","","","","","","","","","","","","","","","","","","","","","","","",{"$f":"IF(A734=\"\",\"\",MAX(IF(ISERROR(AU734:BF734),0,AU734:BF734)))","v":""},"","","","","","","","","","","","","","","","","","",""]
[{"$f":"IF(ISBLANK('Control Sheet'!D715),\"\",'Control Sheet'!D715)","v":""},{"$f":"IF(ISBLANK('Control Sheet'!E715),\"\",'Control Sheet'!E715&\" (\"&'Control Sheet'!F715&\")\")","v":""},"","","","","","","","","","","","","",null,"","","","","","","","","","","","","","","","","","","","","","","","","","","","","","","","","","","","","","","","","","",{"$f":"IF(A735=\"\",\"\",MAX(IF(ISERROR(AU735:BF735),0,AU735:BF735)))","v":""},"","","","","","","","","","","","","","","","","","",""]
[{"$f":"IF(ISBLANK('Control Sheet'!D716),\"\",'Control Sheet'!D716)","v":""},{"$f":"IF(ISBLANK('Control Sheet'!E716),\"\",'Control Sheet'!E716&\" (\"&'Control Sheet'!F716&\")\")","v":""},"","","","","","","","","","","","","",null,"","","","","","","","","","","","","","","","","","","","","","","","","","","","","","","","","","","","","","","","","","",{"$f":"IF(A736=\"\",\"\",MAX(IF(ISERROR(AU736:BF736),0,AU736:BF736)))","v":""},"","","","","","","","","","","","","","","","","","",""]
[{"$f":"IF(ISBLANK('Control Sheet'!D717),\"\",'Control Sheet'!D717)","v":""},{"$f":"IF(ISBLANK('Control Sheet'!E717),\"\",'Control Sheet'!E717&\" (\"&'Control Sheet'!F717&\")\")","v":""},"","","","","","","","","","","","","",null,"","","","","","","","","","","","","","","","","","","","","","","","","","","","","","","","","","","","","","","","","","",{"$f":"IF(A737=\"\",\"\",MAX(IF(ISERROR(AU737:BF737),0,AU737:BF737)))","v":""},"","","","","","","","","","","","","","","","","","",""]
[{"$f":"IF(ISBLANK('Control Sheet'!D718),\"\",'Control Sheet'!D718)","v":""},{"$f":"IF(ISBLANK('Control Sheet'!E718),\"\",'Control Sheet'!E718&\" (\"&'Control Sheet'!F718&\")\")","v":""},"","","","","","","","","","","","","",null,"","","","","","","","","","","","","","","","","","","","","","","","","","","","","","","","","","","","","","","","","","",{"$f":"IF(A738=\"\",\"\",MAX(IF(ISERROR(AU738:BF738),0,AU738:BF738)))","v":""},"","","","","","","","","","","","","","","","","","",""]
[{"$f":"IF(ISBLANK('Control Sheet'!D719),\"\",'Control Sheet'!D719)","v":""},{"$f":"IF(ISBLANK('Control Sheet'!E719),\"\",'Control Sheet'!E719&\" (\"&'Control Sheet'!F719&\")\")","v":""},"","","","","","","","","","","","","",null,"","","","","","","","","","","","","","","","","","","","","","","","","","","","","","","","","","","","","","","","","","",{"$f":"IF(A739=\"\",\"\",MAX(IF(ISERROR(AU739:BF739),0,AU739:BF739)))","v":""},"","","","","","","","","","","","","","","","","","",""]
[{"$f":"IF(ISBLANK('Control Sheet'!D720),\"\",'Control Sheet'!D720)","v":""},{"$f":"IF(ISBLANK('Control Sheet'!E720),\"\",'Control Sheet'!E720&\" (\"&'Control Sheet'!F720&\")\")","v":""},"","","","","","","","","","","","","",null,"","","","","","","","","","","","","","","","","","","","","","","","","","","","","","","","","","","","","","","","","","",{"$f":"IF(A740=\"\",\"\",MAX(IF(ISERROR(AU740:BF740),0,AU740:BF740)))","v":""},"","","","","","","","","","","","","","","","","","",""]
[{"$f":"IF(ISBLANK('Control Sheet'!D721),\"\",'Control Sheet'!D721)","v":""},{"$f":"IF(ISBLANK('Control Sheet'!E721),\"\",'Control Sheet'!E721&\" (\"&'Control Sheet'!F721&\")\")","v":""},{"$f":"IF(C$18=1,IF(ISNA(VLOOKUP($A741,INDIRECT(C$20),OOPE_col,FALSE)),\"\",VLOOKUP($A741,INDIRECT(C$20),OOPE_col,FALSE)),\"\")","v":""},"","","","","","","","","","","","",null,"","","","","","","","","","","","","","","","","","","","","","","","","","","","","","","","","","","","","","","","","","",{"$f":"IF(A741=\"\",\"\",MAX(IF(ISERROR(AU741:BF741),0,AU741:BF741)))","v":""},"","","","","","","","","","","","","","","","","","",""]
[{"$f":"IF(ISBLANK('Control Sheet'!D722),\"\",'Control Sheet'!D722)","v":""},{"$f":"IF(ISBLANK('Control Sheet'!E722),\"\",'Control Sheet'!E722&\" (\"&'Control Sheet'!F722&\")\")","v":""},"","","","","","","","","","","","","",null,"","","","","","","","","","","","","","","","","","","","","","","","","","","","","","","","","","","","","","","","","","",{"$f":"IF(A742=\"\",\"\",MAX(IF(ISERROR(AU742:BF742),0,AU742:BF742)))","v":""},"","","","","","","","","","","","","","","","","","",""]
[{"$f":"IF(ISBLANK('Control Sheet'!D723),\"\",'Control Sheet'!D723)","v":""},{"$f":"IF(ISBLANK('Control Sheet'!E723),\"\",'Control Sheet'!E723&\" (\"&'Control Sheet'!F723&\")\")","v":""},"","","","","","","","","","","","","",null,"","","","","","","","","","","","","","","","","","","","","","","","","","","","","","","","","","","","","","","","","","",{"$f":"IF(A743=\"\",\"\",MAX(IF(ISERROR(AU743:BF743),0,AU743:BF743)))","v":""},"","","","","","","","","","","","","","","","","","",""]
[{"$f":"IF(ISBLANK('Control Sheet'!D724),\"\",'Control Sheet'!D724)","v":""},{"$f":"IF(ISBLANK('Control Sheet'!E724),\"\",'Control Sheet'!E724&\" (\"&'Control Sheet'!F724&\")\")","v":""},"","","","","","","","","","","","","",null,"","","","","","","","","","","","","","","","","","","","","","","","","","","","","","","","","","","","","","","","","","",{"$f":"IF(A744=\"\",\"\",MAX(IF(ISERROR(AU744:BF744),0,AU744:BF744)))","v":""},"","","","","","","","","","","","","","","","","","",""]
[{"$f":"IF(ISBLANK('Control Sheet'!D725),\"\",'Control Sheet'!D725)","v":""},{"$f":"IF(ISBLANK('Control Sheet'!E725),\"\",'Control Sheet'!E725&\" (\"&'Control Sheet'!F725&\")\")","v":""},"","","","","","","","","","","","","",null,"","","","","","","","","","","","","","","","","","","","","","","","","","","","","","","","","","","","","","","","","","",{"$f":"IF(A745=\"\",\"\",MAX(IF(ISERROR(AU745:BF745),0,AU745:BF745)))","v":""},"","","","","","","","","","","","","","","","","","",""]
[{"$f":"IF(ISBLANK('Control Sheet'!D726),\"\",'Control Sheet'!D726)","v":""},{"$f":"IF(ISBLANK('Control Sheet'!E726),\"\",'Control Sheet'!E726&\" (\"&'Control Sheet'!F726&\")\")","v":""},"","","","","","","","","","","","","",null,"","","","","","","","","","","","","","","","","","","","","","","","","","","","","","","","","","","","","","","","","","",{"$f":"IF(A746=\"\",\"\",MAX(IF(ISERROR(AU746:BF746),0,AU746:BF746)))","v":""},"","","","","","","","","","","","","","","","","","",""]
[{"$f":"IF(ISBLANK('Control Sheet'!D727),\"\",'Control Sheet'!D727)","v":""},{"$f":"IF(ISBLANK('Control Sheet'!E727),\"\",'Control Sheet'!E727&\" (\"&'Control Sheet'!F727&\")\")","v":""},"","","","","","","","","","","","","",null,"","","","","","","","","","","","","","","","","","","","","","","","","","","","","","","","","","","","","","","","","","",{"$f":"IF(A747=\"\",\"\",MAX(IF(ISERROR(AU747:BF747),0,AU747:BF747)))","v":""},"","","","","","","","","","","","","","","","","","",""]
[{"$f":"IF(ISBLANK('Control Sheet'!D728),\"\",'Control Sheet'!D728)","v":""},{"$f":"IF(ISBLANK('Control Sheet'!E728),\"\",'Control Sheet'!E728&\" (\"&'Control Sheet'!F728&\")\")","v":""},"","","","","","","","","","","","","",null,"","","","","","","","","","","","","","","","","","","","","","","","","","","","","","","","","","","","","","","","","","",{"$f":"IF(A748=\"\",\"\",MAX(IF(ISERROR(AU748:BF748),0,AU748:BF748)))","v":""},"","","","","","","","","","","","","","","","","","",""]
[{"$f":"IF(ISBLANK('Control Sheet'!D729),\"\",'Control Sheet'!D729)","v":""},{"$f":"IF(ISBLANK('Control Sheet'!E729),\"\",'Control Sheet'!E729&\" (\"&'Control Sheet'!F729&\")\")","v":""},"","","","","","","","","","","","","",null,"","","","","","","","","","","","","","","","","","","","","","","","","","","","","","","","","","","","","","","","","","",{"$f":"IF(A749=\"\",\"\",MAX(IF(ISERROR(AU749:BF749),0,AU749:BF749)))","v":""},"","","","","","","","","","","","","","","","","","",""]
[{"$f":"IF(ISBLANK('Control Sheet'!D730),\"\",'Control Sheet'!D730)","v":""},{"$f":"IF(ISBLANK('Control Sheet'!E730),\"\",'Control Sheet'!E730&\" (\"&'Control Sheet'!F730&\")\")","v":""},"","","","","","","","","","","","","",null,"","","","","","","","","","","","","","","","","","","","","","","","","","","","","","","","","","","","","","","","","","",{"$f":"IF(A750=\"\",\"\",MAX(IF(ISERROR(AU750:BF750),0,AU750:BF750)))","v":""},"","","","","","","","","","","","","","","","","","",""]
[{"$f":"IF(ISBLANK('Control Sheet'!D731),\"\",'Control Sheet'!D731)","v":""},{"$f":"IF(ISBLANK('Control Sheet'!E731),\"\",'Control Sheet'!E731&\" (\"&'Control Sheet'!F731&\")\")","v":""},{"$f":"IF(C$18=1,IF(ISNA(VLOOKUP($A751,INDIRECT(C$20),OOPE_col,FALSE)),\"\",VLOOKUP($A751,INDIRECT(C$20),OOPE_col,FALSE)),\"\")","v":""},"","","","","","","","","","","","",null,"","","","","","","","","","","","","","","","","","","","","","","","","","","","","","","","","","","","","","","","","","",{"$f":"IF(A751=\"\",\"\",MAX(IF(ISERROR(AU751:BF751),0,AU751:BF751)))","v":""},"","","","","","","","","","","","","","","","","","",""]
[{"$f":"IF(ISBLANK('Control Sheet'!D732),\"\",'Control Sheet'!D732)","v":""},{"$f":"IF(ISBLANK('Control Sheet'!E732),\"\",'Control Sheet'!E732&\" (\"&'Control Sheet'!F732&\")\")","v":""},"","","","","","","","","","","","","",null,"","","","","","","","","","","","","","","","","","","","","","","","","","","","","","","","","","","","","","","","","","",{"$f":"IF(A752=\"\",\"\",MAX(IF(ISERROR(AU752:BF752),0,AU752:BF752)))","v":""},"","","","","","","","","","","","","","","","","","",""]
[{"$f":"IF(ISBLANK('Control Sheet'!D733),\"\",'Control Sheet'!D733)","v":""},{"$f":"IF(ISBLANK('Control Sheet'!E733),\"\",'Control Sheet'!E733&\" (\"&'Control Sheet'!F733&\")\")","v":""},"","","","","","","","","","","","","",null,"","","","","","","","","","","","","","","","","","","","","","","","","","","","","","","","","","","","","","","","","","",{"$f":"IF(A753=\"\",\"\",MAX(IF(ISERROR(AU753:BF753),0,AU753:BF753)))","v":""},"","","","","","","","","","","","","","","","","","",""]
[{"$f":"IF(ISBLANK('Control Sheet'!D734),\"\",'Control Sheet'!D734)","v":""},{"$f":"IF(ISBLANK('Control Sheet'!E734),\"\",'Control Sheet'!E734&\" (\"&'Control Sheet'!F734&\")\")","v":""},"","","","","","","","","","","","","",null,"","","","","","","","","","","","","","","","","","","","","","","","","","","","","","","","","","","","","","","","","","",{"$f":"IF(A754=\"\",\"\",MAX(IF(ISERROR(AU754:BF754),0,AU754:BF754)))","v":""},"","","","","","","","","","","","","","","","","","",""]
[{"$f":"IF(ISBLANK('Control Sheet'!D735),\"\",'Control Sheet'!D735)","v":""},{"$f":"IF(ISBLANK('Control Sheet'!E735),\"\",'Control Sheet'!E735&\" (\"&'Control Sheet'!F735&\")\")","v":""},"","","","","","","","","","","","","",null,"","","","","","","","","","","","","","","","","","","","","","","","","","","","","","","","","","","","","","","","","","",{"$f":"IF(A755=\"\",\"\",MAX(IF(ISERROR(AU755:BF755),0,AU755:BF755)))","v":""},"","","","","","","","","","","","","","","","","","",""]
[{"$f":"IF(ISBLANK('Control Sheet'!D736),\"\",'Control Sheet'!D736)","v":""},{"$f":"IF(ISBLANK('Control Sheet'!E736),\"\",'Control Sheet'!E736&\" (\"&'Control Sheet'!F736&\")\")","v":""},"","","","","","","","","","","","","",null,"","","","","","","","","","","","","","","",{"$f":"IF(OR(A756=\"\",AE756=0),\"\",AE756/(O$18-R598))","v":""},"","","","","","","","","","","","","","","","","","","","","","","","","","",{"$f":"IF(A756=\"\",\"\",MAX(IF(ISERROR(AU756:BF756),0,AU756:BF756)))","v":""},"","","","","","","","","","","","","","","","","","",""]
[{"$f":"IF(ISBLANK('Control Sheet'!D737),\"\",'Control Sheet'!D737)","v":""},{"$f":"IF(ISBLANK('Control Sheet'!E737),\"\",'Control Sheet'!E737&\" (\"&'Control Sheet'!F737&\")\")","v":""},"","","","","","","","","","","","","",null,"","","","","","","","","","","","","","","","","","","","","","","","","","","","","","","","","","","","","","","","","","",{"$f":"IF(A757=\"\",\"\",MAX(IF(ISERROR(AU757:BF757),0,AU757:BF757)))","v":""},"","","","","","","","","","","","","","","","","","",""]
[{"$f":"IF(ISBLANK('Control Sheet'!D738),\"\",'Control Sheet'!D738)","v":""},{"$f":"IF(ISBLANK('Control Sheet'!E738),\"\",'Control Sheet'!E738&\" (\"&'Control Sheet'!F738&\")\")","v":""},"","","","","","","","","","","","","",null,"","","","","","","","","","","","","","","","","","","","","","","","","","","","","","","","","","","","","","","","","","",{"$f":"IF(A758=\"\",\"\",MAX(IF(ISERROR(AU758:BF758),0,AU758:BF758)))","v":""},"","","","","","","","","","","","","","","","","","",""]
[{"$f":"IF(ISBLANK('Control Sheet'!D739),\"\",'Control Sheet'!D739)","v":""},{"$f":"IF(ISBLANK('Control Sheet'!E739),\"\",'Control Sheet'!E739&\" (\"&'Control Sheet'!F739&\")\")","v":""},"","","","","","","","","","","","","",null,"","","","","","","","","","","","","","","","","","","","","","","","","","","","","","","","","","","","","","","","","","",{"$f":"IF(A759=\"\",\"\",MAX(IF(ISERROR(AU759:BF759),0,AU759:BF759)))","v":""},"","","","","","","","","","","","","","","","","","",""]
[{"$f":"IF(ISBLANK('Control Sheet'!D740),\"\",'Control Sheet'!D740)","v":""},{"$f":"IF(ISBLANK('Control Sheet'!E740),\"\",'Control Sheet'!E740&\" (\"&'Control Sheet'!F740&\")\")","v":""},"","","","","","","","","","","","","",null,"","","","","","","","","","","","","","","","","","","","","","","","","","","","","","","","","","","","","","","","","","",{"$f":"IF(A760=\"\",\"\",MAX(IF(ISERROR(AU760:BF760),0,AU760:BF760)))","v":""},"","","","","","","","","","","","","","","","","","",""]
[{"$f":"IF(ISBLANK('Control Sheet'!D741),\"\",'Control Sheet'!D741)","v":""},{"$f":"IF(ISBLANK('Control Sheet'!E741),\"\",'Control Sheet'!E741&\" (\"&'Control Sheet'!F741&\")\")","v":""},{"$f":"IF(C$18=1,IF(ISNA(VLOOKUP($A761,INDIRECT(C$20),OOPE_col,FALSE)),\"\",VLOOKUP($A761,INDIRECT(C$20),OOPE_col,FALSE)),\"\")","v":""},"","","","","","","","","","","","",null,"","","","","","","","","","","","","","","","","","","","","","","","","","","","","","","","","","","","","","","","","","",{"$f":"IF(A761=\"\",\"\",MAX(IF(ISERROR(AU761:BF761),0,AU761:BF761)))","v":""},"","","","","","","","","","","","","","","","","","",""]
[{"$f":"IF(ISBLANK('Control Sheet'!D742),\"\",'Control Sheet'!D742)","v":""},{"$f":"IF(ISBLANK('Control Sheet'!E742),\"\",'Control Sheet'!E742&\" (\"&'Control Sheet'!F742&\")\")","v":""},"","","","","","","","","","","","","",null,"","","","","","","","","","","","","","","","","","","","","","","","","","","","","","","","","","","","","","","","","","",{"$f":"IF(A762=\"\",\"\",MAX(IF(ISERROR(AU762:BF762),0,AU762:BF762)))","v":""},"","","","","","","","","","","","","","","","","","",""]
[{"$f":"IF(ISBLANK('Control Sheet'!D743),\"\",'Control Sheet'!D743)","v":""},{"$f":"IF(ISBLANK('Control Sheet'!E743),\"\",'Control Sheet'!E743&\" (\"&'Control Sheet'!F743&\")\")","v":""},"","","","","","","","","","","","","",null,"","","","","","","","","","","","","","","","","","","","","","","","","","","","","","","","","","","","","","","","","","",{"$f":"IF(A763=\"\",\"\",MAX(IF(ISERROR(AU763:BF763),0,AU763:BF763)))","v":""},"","","","","","","","","","","","","","","","","","",""]
[{"$f":"IF(ISBLANK('Control Sheet'!D744),\"\",'Control Sheet'!D744)","v":""},{"$f":"IF(ISBLANK('Control Sheet'!E744),\"\",'Control Sheet'!E744&\" (\"&'Control Sheet'!F744&\")\")","v":""},"","","","","","","","","","","","","",null,"","","","","","","","","","","","","","","","","","","","","","","","","","","","","","","","","","","","","","","","","","",{"$f":"IF(A764=\"\",\"\",MAX(IF(ISERROR(AU764:BF764),0,AU764:BF764)))","v":""},"","","","","","","","","","","","","","","","","","",""]
[{"$f":"IF(ISBLANK('Control Sheet'!D745),\"\",'Control Sheet'!D745)","v":""},{"$f":"IF(ISBLANK('Control Sheet'!E745),\"\",'Control Sheet'!E745&\" (\"&'Control Sheet'!F745&\")\")","v":""},"","","","","","","","","","","","","",null,"","","","","","","","","","","","","","","","","","","","","","","","","","","","","","","","","","","","","","","","","","",{"$f":"IF(A765=\"\",\"\",MAX(IF(ISERROR(AU765:BF765),0,AU765:BF765)))","v":""},"","","","","","","","","","","","","","","","","","",""]
[{"$f":"IF(ISBLANK('Control Sheet'!D746),\"\",'Control Sheet'!D746)","v":""},{"$f":"IF(ISBLANK('Control Sheet'!E746),\"\",'Control Sheet'!E746&\" (\"&'Control Sheet'!F746&\")\")","v":""},"","","","","","","","","","","","","",null,"","","","","","","","","","","","","","","","","","","","","","","","","","","","","","","","","","","","","","","","","","",{"$f":"IF(A766=\"\",\"\",MAX(IF(ISERROR(AU766:BF766),0,AU766:BF766)))","v":""},"","","","","","","","","","","","","","","","","","",""]
[{"$f":"IF(ISBLANK('Control Sheet'!D747),\"\",'Control Sheet'!D747)","v":""},{"$f":"IF(ISBLANK('Control Sheet'!E747),\"\",'Control Sheet'!E747&\" (\"&'Control Sheet'!F747&\")\")","v":""},"","","","","","","","","","","","","",null,"","","","","","","","","","","","","","","","","","","","","","","","","","","","","","","","","","","","","","","","","","",{"$f":"IF(A767=\"\",\"\",MAX(IF(ISERROR(AU767:BF767),0,AU767:BF767)))","v":""},"","","","","","","","","","","","","","","","","","",""]
[{"$f":"IF(ISBLANK('Control Sheet'!D748),\"\",'Control Sheet'!D748)","v":""},{"$f":"IF(ISBLANK('Control Sheet'!E748),\"\",'Control Sheet'!E748&\" (\"&'Control Sheet'!F748&\")\")","v":""},"","","","","","","","","","","","","",null,"","","","","","","","","","","","","","","","","","","","","","","","","","","","","","","","","","","","","","","","","","",{"$f":"IF(A768=\"\",\"\",MAX(IF(ISERROR(AU768:BF768),0,AU768:BF768)))","v":""},"","","","","","","","","","","","","","","","","","",""]
[{"$f":"IF(ISBLANK('Control Sheet'!D749),\"\",'Control Sheet'!D749)","v":""},{"$f":"IF(ISBLANK('Control Sheet'!E749),\"\",'Control Sheet'!E749&\" (\"&'Control Sheet'!F749&\")\")","v":""},"","","","","","","","","","","","","",null,"","","","","","","","","","","","","","","","","","","","","","","","","","","","","","","","","","","","","","","","","","",{"$f":"IF(A769=\"\",\"\",MAX(IF(ISERROR(AU769:BF769),0,AU769:BF769)))","v":""},"","","","","","","","","","","","","","","","","","",""]
[{"$f":"IF(ISBLANK('Control Sheet'!D750),\"\",'Control Sheet'!D750)","v":""},{"$f":"IF(ISBLANK('Control Sheet'!E750),\"\",'Control Sheet'!E750&\" (\"&'Control Sheet'!F750&\")\")","v":""},"","","","","","","","","","","","","",null,"","","","","","","","","","","","","","","","","","","","","","","","","","","","","","","","","","","","","","","","","","",{"$f":"IF(A770=\"\",\"\",MAX(IF(ISERROR(AU770:BF770),0,AU770:BF770)))","v":""},"","","","","","","","","","","","","","","","","","",""]
[{"$f":"IF(ISBLANK('Control Sheet'!D751),\"\",'Control Sheet'!D751)","v":""},{"$f":"IF(ISBLANK('Control Sheet'!E751),\"\",'Control Sheet'!E751&\" (\"&'Control Sheet'!F751&\")\")","v":""},{"$f":"IF(C$18=1,IF(ISNA(VLOOKUP($A771,INDIRECT(C$20),OOPE_col,FALSE)),\"\",VLOOKUP($A771,INDIRECT(C$20),OOPE_col,FALSE)),\"\")","v":""},"","","","","","","","","","","","",null,"","","","","","","","","","","","","","","","","","","","","","","","","","","","","","","","","","","","","","","","","","",{"$f":"IF(A771=\"\",\"\",MAX(IF(ISERROR(AU771:BF771),0,AU771:BF771)))","v":""},"","","","","","","","","","","","","","","","","","",""]
[{"$f":"IF(ISBLANK('Control Sheet'!D752),\"\",'Control Sheet'!D752)","v":""},{"$f":"IF(ISBLANK('Control Sheet'!E752),\"\",'Control Sheet'!E752&\" (\"&'Control Sheet'!F752&\")\")","v":""},"","","","","","","","","","","","","",null,"","","","","","","","","","","","","","","","","","","","","","","","","","","","","","","","","","","","","","","","","","",{"$f":"IF(A772=\"\",\"\",MAX(IF(ISERROR(AU772:BF772),0,AU772:BF772)))","v":""},"","","","","","","","","","","","","","","","","","",""]
[{"$f":"IF(ISBLANK('Control Sheet'!D753),\"\",'Control Sheet'!D753)","v":""},{"$f":"IF(ISBLANK('Control Sheet'!E753),\"\",'Control Sheet'!E753&\" (\"&'Control Sheet'!F753&\")\")","v":""},"","","","","","","","","","","","","",null,"","","","","","","","","","","","","","","","","","","","","","","","","","","","","","","","","","","","","","","","","","",{"$f":"IF(A773=\"\",\"\",MAX(IF(ISERROR(AU773:BF773),0,AU773:BF773)))","v":""},"","","","","","","","","","","","","","","","","","",""]
[{"$f":"IF(ISBLANK('Control Sheet'!D754),\"\",'Control Sheet'!D754)","v":""},{"$f":"IF(ISBLANK('Control Sheet'!E754),\"\",'Control Sheet'!E754&\" (\"&'Control Sheet'!F754&\")\")","v":""},"","","","","","","","","","","","","",null,"","","","","","","","","","","","","","","","","","","","","","","","","","","","","","","","","","","","","","","","","","",{"$f":"IF(A774=\"\",\"\",MAX(IF(ISERROR(AU774:BF774),0,AU774:BF774)))","v":""},"","","","","","","","","","","","","","","","","","",""]
[{"$f":"IF(ISBLANK('Control Sheet'!D755),\"\",'Control Sheet'!D755)","v":""},{"$f":"IF(ISBLANK('Control Sheet'!E755),\"\",'Control Sheet'!E755&\" (\"&'Control Sheet'!F755&\")\")","v":""},"","","","","","","","","","","","","",null,"","","","","","","","","","","","","","","","","","","","","","","","","","","","","","","","","","","","","","","","","","",{"$f":"IF(A775=\"\",\"\",MAX(IF(ISERROR(AU775:BF775),0,AU775:BF775)))","v":""},"","","","","","","","","","","","","","","","","","",""]
[{"$f":"IF(ISBLANK('Control Sheet'!D756),\"\",'Control Sheet'!D756)","v":""},{"$f":"IF(ISBLANK('Control Sheet'!E756),\"\",'Control Sheet'!E756&\" (\"&'Control Sheet'!F756&\")\")","v":""},"","","","","","","","","","","","","",null,"","","","","","","","","","","","","","","","","","","","","","","","","","","","","","","","","","","","","","","","","","",{"$f":"IF(A776=\"\",\"\",MAX(IF(ISERROR(AU776:BF776),0,AU776:BF776)))","v":""},"","","","","","","","","","","","","","","","","","",""]
[{"$f":"IF(ISBLANK('Control Sheet'!D757),\"\",'Control Sheet'!D757)","v":""},{"$f":"IF(ISBLANK('Control Sheet'!E757),\"\",'Control Sheet'!E757&\" (\"&'Control Sheet'!F757&\")\")","v":""},"","","","","","","","","","","","","",null,"","","","","","","","","","","","","","","","","","","","","","","","","","","","","","","","","","","","","","","","","","",{"$f":"IF(A777=\"\",\"\",MAX(IF(ISERROR(AU777:BF777),0,AU777:BF777)))","v":""},"","","","","","","","","","","","","","","","","","",""]
[{"$f":"IF(ISBLANK('Control Sheet'!D758),\"\",'Control Sheet'!D758)","v":""},{"$f":"IF(ISBLANK('Control Sheet'!E758),\"\",'Control Sheet'!E758&\" (\"&'Control Sheet'!F758&\")\")","v":""},"","","","","","","","","","","","","",null,"","","","","","","","","","","","","","","","","","","","","","","","","","","","","","","","","","","","","","","","","","",{"$f":"IF(A778=\"\",\"\",MAX(IF(ISERROR(AU778:BF778),0,AU778:BF778)))","v":""},"","","","","","","","","","","","","","","","","","",""]
[{"$f":"IF(ISBLANK('Control Sheet'!D759),\"\",'Control Sheet'!D759)","v":""},{"$f":"IF(ISBLANK('Control Sheet'!E759),\"\",'Control Sheet'!E759&\" (\"&'Control Sheet'!F759&\")\")","v":""},"","","","","","","","","","","","","",null,"","","","","","","","","","","","","","","","","","","","","","","","","","","","","","","","","","","","","","","","","","",{"$f":"IF(A779=\"\",\"\",MAX(IF(ISERROR(AU779:BF779),0,AU779:BF779)))","v":""},"","","","","","","","","","","","","","","","","","",""]
[{"$f":"IF(ISBLANK('Control Sheet'!D760),\"\",'Control Sheet'!D760)","v":""},{"$f":"IF(ISBLANK('Control Sheet'!E760),\"\",'Control Sheet'!E760&\" (\"&'Control Sheet'!F760&\")\")","v":""},"","","","","","","","","","","","","",null,"","","","","","","","","","","","","","","","","","","","","","","","","","","","","","","","","","","","","","","","","","",{"$f":"IF(A780=\"\",\"\",MAX(IF(ISERROR(AU780:BF780),0,AU780:BF780)))","v":""},"","","","","","","","","","","","","","","","","","",""]
[{"$f":"IF(ISBLANK('Control Sheet'!D761),\"\",'Control Sheet'!D761)","v":""},{"$f":"IF(ISBLANK('Control Sheet'!E761),\"\",'Control Sheet'!E761&\" (\"&'Control Sheet'!F761&\")\")","v":""},{"$f":"IF(C$18=1,IF(ISNA(VLOOKUP($A781,INDIRECT(C$20),OOPE_col,FALSE)),\"\",VLOOKUP($A781,INDIRECT(C$20),OOPE_col,FALSE)),\"\")","v":""},"","","","","","","","","","","","",null,"","","","","","","","","","","","","","","","","","","","","","","","","","","","","","","","","","","","","","","","","","",{"$f":"IF(A781=\"\",\"\",MAX(IF(ISERROR(AU781:BF781),0,AU781:BF781)))","v":""},"","","","","","","","","","","","","","","","","","",""]
[{"$f":"IF(ISBLANK('Control Sheet'!D762),\"\",'Control Sheet'!D762)","v":""},{"$f":"IF(ISBLANK('Control Sheet'!E762),\"\",'Control Sheet'!E762&\" (\"&'Control Sheet'!F762&\")\")","v":""},"","","","","","","","","","","","","",null,"","","","","","","","","","","","","","","","","","","","","","","","","","","","","","","","","","","","","","","","","","",{"$f":"IF(A782=\"\",\"\",MAX(IF(ISERROR(AU782:BF782),0,AU782:BF782)))","v":""},"","","","","","","","","","","","","","","","","","",""]
[{"$f":"IF(ISBLANK('Control Sheet'!D763),\"\",'Control Sheet'!D763)","v":""},{"$f":"IF(ISBLANK('Control Sheet'!E763),\"\",'Control Sheet'!E763&\" (\"&'Control Sheet'!F763&\")\")","v":""},"","","","","","","","","","","","","",null,"","","","","","","","","","","","","","","","","","","","","","","","","","","","","","","","","","","","","","","","","","",{"$f":"IF(A783=\"\",\"\",MAX(IF(ISERROR(AU783:BF783),0,AU783:BF783)))","v":""},"","","","","","","","","","","","","","","","","","",""]
[{"$f":"IF(ISBLANK('Control Sheet'!D764),\"\",'Control Sheet'!D764)","v":""},{"$f":"IF(ISBLANK('Control Sheet'!E764),\"\",'Control Sheet'!E764&\" (\"&'Control Sheet'!F764&\")\")","v":""},"","","","","","","","","","","","","",null,"","","","","","","","","","","","","","","","","","","","","","","","","","","","","","","","","","","","","","","","","","",{"$f":"IF(A784=\"\",\"\",MAX(IF(ISERROR(AU784:BF784),0,AU784:BF784)))","v":""},"","","","","","","","","","","","","","","","","","",""]
[{"$f":"IF(ISBLANK('Control Sheet'!D765),\"\",'Control Sheet'!D765)","v":""},{"$f":"IF(ISBLANK('Control Sheet'!E765),\"\",'Control Sheet'!E765&\" (\"&'Control Sheet'!F765&\")\")","v":""},"","","","","","","","","","","","","",null,"","","","","","","","","","","","","","","","","","","","","","","","","","","","","","","","","","","","","","","","","","",{"$f":"IF(A785=\"\",\"\",MAX(IF(ISERROR(AU785:BF785),0,AU785:BF785)))","v":""},"","","","","","","","","","","","","","","","","","",""]
[{"$f":"IF(ISBLANK('Control Sheet'!D766),\"\",'Control Sheet'!D766)","v":""},{"$f":"IF(ISBLANK('Control Sheet'!E766),\"\",'Control Sheet'!E766&\" (\"&'Control Sheet'!F766&\")\")","v":""},"","","","","","","","","","","","","",null,"","","","","","","","","","","","","","","","","","","","","","","","","","","","","","","","","","","","","","","","","","",{"$f":"IF(A786=\"\",\"\",MAX(IF(ISERROR(AU786:BF786),0,AU786:BF786)))","v":""},"","","","","","","","","","","","","","","","","","",""]
[{"$f":"IF(ISBLANK('Control Sheet'!D767),\"\",'Control Sheet'!D767)","v":""},{"$f":"IF(ISBLANK('Control Sheet'!E767),\"\",'Control Sheet'!E767&\" (\"&'Control Sheet'!F767&\")\")","v":""},"","","","","","","","","","","","","",null,"","","","","","","","","","","","","","","","","","","","","","","","","","","","","","","","","","","","","","","","","","",{"$f":"IF(A787=\"\",\"\",MAX(IF(ISERROR(AU787:BF787),0,AU787:BF787)))","v":""},"","","","","","","","","","","","","","","","","","",""]
[{"$f":"IF(ISBLANK('Control Sheet'!D768),\"\",'Control Sheet'!D768)","v":""},{"$f":"IF(ISBLANK('Control Sheet'!E768),\"\",'Control Sheet'!E768&\" (\"&'Control Sheet'!F768&\")\")","v":""},"","","","","","","","","","","","","",null,"","","","","","","","","","","","","","","","","","","","","","","","","","","","","","","","","","","","","","","","","","",{"$f":"IF(A788=\"\",\"\",MAX(IF(ISERROR(AU788:BF788),0,AU788:BF788)))","v":""},"","","","","","","","","","","","","","","","","","",""]
[{"$f":"IF(ISBLANK('Control Sheet'!D769),\"\",'Control Sheet'!D769)","v":""},{"$f":"IF(ISBLANK('Control Sheet'!E769),\"\",'Control Sheet'!E769&\" (\"&'Control Sheet'!F769&\")\")","v":""},"","","","","","","","","","","","","",null,"",{"$f":"IF(A789=\"\",\"\",OOPEMonthsPop-(COUNTA(C789:N789)-COUNTBLANK(C789:N789)))","v":""},"","","","","","","","","","","","","","","","","","","","","","","","","","","","",{"$f":"IF(OR(A789=\"\",OOPEMonthsPop=0),\"\",IF(AU$18=OOPEMonthsPop,AH789,#N/A))","v":""},{"$f":"IF(OR($A789=\"\",OOPEMonthsPop=0),\"\",IF(AV$18<OOPEMonthsPop,#N/A,IF(AV$18=OOPEMonthsPop,AI789,IF(AU789=\"\",\"\",IF(AV$18=OOPEMonthsPop+1,AU789+(AU789*VLOOKUP(OOPEMonthsPop-$R789,ForecastMult,3,FALSE)/12),AU789+AU789-AT789)))))","v":""},{"$f":"IF(OR($A789=\"\",OOPEMonthsPop=0),\"\",IF(AW$18<OOPEMonthsPop,#N/A,IF(AW$18=OOPEMonthsPop,AJ789,IF(AV789=\"\",\"\",IF(AW$18=OOPEMonthsPop+1,AV789+(AV789*VLOOKUP(OOPEMonthsPop-$R789,ForecastMult,3,FALSE)/12),AV789+AV789-AU789)))))","v":""},{"$f":"IF(OR($A789=\"\",OOPEMonthsPop=0),\"\",IF(AX$18<OOPEMonthsPop,#N/A,IF(AX$18=OOPEMonthsPop,AK789,IF(AW789=\"\",\"\",IF(AX$18=OOPEMonthsPop+1,AW789+(AW789*VLOOKUP(OOPEMonthsPop-$R789,ForecastMult,3,FALSE)/12),AW789+AW789-AV789)))))","v":""},{"$f":"IF(OR($A789=\"\",OOPEMonthsPop=0),\"\",IF(AY$18<OOPEMonthsPop,#N/A,IF(AY$18=OOPEMonthsPop,AL789,IF(AX789=\"\",\"\",IF(AY$18=OOPEMonthsPop+1,AX789+(AX789*VLOOKUP(OOPEMonthsPop-$R789,ForecastMult,3,FALSE)/12),AX789+AX789-AW789)))))","v":""},{"$f":"IF(OR($A789=\"\",OOPEMonthsPop=0),\"\",IF(AZ$18<OOPEMonthsPop,#N/A,IF(AZ$18=OOPEMonthsPop,AM789,IF(AY789=\"\",\"\",IF(AZ$18=OOPEMonthsPop+1,AY789+(AY789*VLOOKUP(OOPEMonthsPop-$R789,ForecastMult,3,FALSE)/12),AY789+AY789-AX789)))))","v":""},{"$f":"IF(OR($A789=\"\",OOPEMonthsPop=0),\"\",IF(BA$18<OOPEMonthsPop,#N/A,IF(BA$18=OOPEMonthsPop,AN789,IF(AZ789=\"\",\"\",IF(BA$18=OOPEMonthsPop+1,AZ789+(AZ789*VLOOKUP(OOPEMonthsPop-$R789,ForecastMult,3,FALSE)/12),AZ789+AZ789-AY789)))))","v":""},{"$f":"IF(OR($A789=\"\",OOPEMonthsPop=0),\"\",IF(BB$18<OOPEMonthsPop,#N/A,IF(BB$18=OOPEMonthsPop,AO789,IF(BA789=\"\",\"\",IF(BB$18=OOPEMonthsPop+1,BA789+(BA789*VLOOKUP(OOPEMonthsPop-$R789,ForecastMult,3,FALSE)/12),BA789+BA789-AZ789)))))","v":""},{"$f":"IF(OR($A789=\"\",OOPEMonthsPop=0),\"\",IF(BC$18<OOPEMonthsPop,#N/A,IF(BC$18=OOPEMonthsPop,AP789,IF(BB789=\"\",\"\",IF(BC$18=OOPEMonthsPop+1,BB789+(BB789*VLOOKUP(OOPEMonthsPop-$R789,ForecastMult,3,FALSE)/12),BB789+BB789-BA789)))))","v":""},{"$f":"IF(OR($A789=\"\",OOPEMonthsPop=0),\"\",IF(BD$18<OOPEMonthsPop,#N/A,IF(BD$18=OOPEMonthsPop,AQ789,IF(BC789=\"\",\"\",IF(BD$18=OOPEMonthsPop+1,BC789+(BC789*VLOOKUP(OOPEMonthsPop-$R789,ForecastMult,3,FALSE)/12),BC789+BC789-BB789)))))","v":""},{"$f":"IF(OR($A789=\"\",OOPEMonthsPop=0),\"\",IF(BE$18<OOPEMonthsPop,#N/A,IF(BE$18=OOPEMonthsPop,AR789,IF(BD789=\"\",\"\",IF(BE$18=OOPEMonthsPop+1,BD789+(BD789*VLOOKUP(OOPEMonthsPop-$R789,ForecastMult,3,FALSE)/12),BD789+BD789-BC789)))))","v":""},{"$f":"IF(OR($A789=\"\",OOPEMonthsPop=0),\"\",IF(BF$18<OOPEMonthsPop,#N/A,IF(BF$18=OOPEMonthsPop,AS789,IF(BE789=\"\",\"\",IF(BF$18=OOPEMonthsPop+1,BE789+(BE789*VLOOKUP(OOPEMonthsPop-$R789,ForecastMult,3,FALSE)/12),BE789+BE789-BD789)))))","v":""},{"$f":"IF(A789=\"\",\"\",MAX(IF(ISERROR(AU789:BF789),0,AU789:BF789)))","v":""},{"$f":"IF(AND(C$18=1,$A789<>\"\"),IF(ISNA(VLOOKUP($A789,INDIRECT(C$20),TOT_STDR_PXS_col,FALSE)),\"\",VLOOKUP($A789,INDIRECT(C$20),TOT_STDR_PXS_col,FALSE)+VLOOKUP($A789,INDIRECT(C$20),TOT_ZDR_PXS_col,FALSE)),\"\")","v":""},{"$f":"IF(AND(D$18=1,$A789<>\"\"),IF(ISNA(VLOOKUP($A789,INDIRECT(D$20),TOT_STDR_PXS_col,FALSE)),\"\",VLOOKUP($A789,INDIRECT(D$20),TOT_STDR_PXS_col,FALSE)+VLOOKUP($A789,INDIRECT(D$20),TOT_ZDR_PXS_col,FALSE)),\"\")","v":""},{"$f":"IF(AND(E$18=1,$A789<>\"\"),IF(ISNA(VLOOKUP($A789,INDIRECT(E$20),TOT_STDR_PXS_col,FALSE)),\"\",VLOOKUP($A789,INDIRECT(E$20),TOT_STDR_PXS_col,FALSE)+VLOOKUP($A789,INDIRECT(E$20),TOT_ZDR_PXS_col,FALSE)),\"\")","v":""},{"$f":"IF(AND(F$18=1,$A789<>\"\"),IF(ISNA(VLOOKUP($A789,INDIRECT(F$20),TOT_STDR_PXS_col,FALSE)),\"\",VLOOKUP($A789,INDIRECT(F$20),TOT_STDR_PXS_col,FALSE)+VLOOKUP($A789,INDIRECT(F$20),TOT_ZDR_PXS_col,FALSE)),\"\")","v":""},{"$f":"IF(AND(G$18=1,$A789<>\"\"),IF(ISNA(VLOOKUP($A789,INDIRECT(G$20),TOT_STDR_PXS_col,FALSE)),\"\",VLOOKUP($A789,INDIRECT(G$20),TOT_STDR_PXS_col,FALSE)+VLOOKUP($A789,INDIRECT(G$20),TOT_ZDR_PXS_col,FALSE)),\"\")","v":""},{"$f":"IF(AND(H$18=1,$A789<>\"\"),IF(ISNA(VLOOKUP($A789,INDIRECT(H$20),TOT_STDR_PXS_col,FALSE)),\"\",VLOOKUP($A789,INDIRECT(H$20),TOT_STDR_PXS_col,FALSE)+VLOOKUP($A789,INDIRECT(H$20),TOT_ZDR_PXS_col,FALSE)),\"\")","v":""},{"$f":"IF(AND(I$18=1,$A789<>\"\"),IF(ISNA(VLOOKUP($A789,INDIRECT(I$20),TOT_STDR_PXS_col,FALSE)),\"\",VLOOKUP($A789,INDIRECT(I$20),TOT_STDR_PXS_col,FALSE)+VLOOKUP($A789,INDIRECT(I$20),TOT_ZDR_PXS_col,FALSE)),\"\")","v":""},{"$f":"IF(AND(J$18=1,$A789<>\"\"),IF(ISNA(VLOOKUP($A789,INDIRECT(J$20),TOT_STDR_PXS_col,FALSE)),\"\",VLOOKUP($A789,INDIRECT(J$20),TOT_STDR_PXS_col,FALSE)+VLOOKUP($A789,INDIRECT(J$20),TOT_ZDR_PXS_col,FALSE)),\"\")","v":""},{"$f":"IF(AND(K$18=1,$A789<>\"\"),IF(ISNA(VLOOKUP($A789,INDIRECT(K$20),TOT_STDR_PXS_col,FALSE)),\"\",VLOOKUP($A789,INDIRECT(K$20),TOT_STDR_PXS_col,FALSE)+VLOOKUP($A789,INDIRECT(K$20),TOT_ZDR_PXS_col,FALSE)),\"\")","v":""},{"$f":"IF(AND(L$18=1,$A789<>\"\"),IF(ISNA(VLOOKUP($A789,INDIRECT(L$20),TOT_STDR_PXS_col,FALSE)),\"\",VLOOKUP($A789,INDIRECT(L$20),TOT_STDR_PXS_col,FALSE)+VLOOKUP($A789,INDIRECT(L$20),TOT_ZDR_PXS_col,FALSE)),\"\")","v":""},{"$f":"IF(AND(M$18=1,$A789<>\"\"),IF(ISNA(VLOOKUP($A789,INDIRECT(M$20),TOT_STDR_PXS_col,FALSE)),\"\",VLOOKUP($A789,INDIRECT(M$20),TOT_STDR_PXS_col,FALSE)+VLOOKUP($A789,INDIRECT(M$20),TOT_ZDR_PXS_col,FALSE)),\"\")","v":""},{"$f":"IF(AND(N$18=1,$A789<>\"\"),IF(ISNA(VLOOKUP($A789,INDIRECT(N$20),TOT_STDR_PXS_col,FALSE)),\"\",VLOOKUP($A789,INDIRECT(N$20),TOT_STDR_PXS_col,FALSE)+VLOOKUP($A789,INDIRECT(N$20),TOT_ZDR_PXS_col,FALSE)),\"\")","v":""},"","","","","","",""]
[{"$f":"IF(ISBLANK('Control Sheet'!D770),\"\",'Control Sheet'!D770)","v":""},{"$f":"IF(ISBLANK('Control Sheet'!E770),\"\",'Control Sheet'!E770&\" (\"&'Control Sheet'!F770&\")\")","v":""},"","","","","","","","","","","","",{"$f":"IF(A790=\"\",\"\",SUM(C790:N790))","v":""},null,{"$f":"IF(A790=\"\",\"\",IF(BG790<=400,\"No\",\"Yes\"))","v":""},"",{"$f":"IF(C790=\"\",\"\",IF(C790<=C$10,1,IF(C790<=C$7,2,IF(C790<=C$8,3,IF(C790<=C$9,4,IF(C790<=C$11,5,60))))))","v":""},{"$f":"IF(D790=\"\",\"\",IF(D790<=D$10,1,IF(D790<=D$7,2,IF(D790<=D$8,3,IF(D790<=D$9,4,IF(D790<=D$11,5,60))))))","v":""},{"$f":"IF(E790=\"\",\"\",IF(E790<=E$10,1,IF(E790<=E$7,2,IF(E790<=E$8,3,IF(E790<=E$9,4,IF(E790<=E$11,5,60))))))","v":""},{"$f":"IF(F790=\"\",\"\",IF(F790<=F$10,1,IF(F790<=F$7,2,IF(F790<=F$8,3,IF(F790<=F$9,4,IF(F790<=F$11,5,60))))))","v":""},{"$f":"IF(G790=\"\",\"\",IF(G790<=G$10,1,IF(G790<=G$7,2,IF(G790<=G$8,3,IF(G790<=G$9,4,IF(G790<=G$11,5,60))))))","v":""},{"$f":"IF(H790=\"\",\"\",IF(H790<=H$10,1,IF(H790<=H$7,2,IF(H790<=H$8,3,IF(H790<=H$9,4,IF(H790<=H$11,5,60))))))","v":""},{"$f":"IF(I790=\"\",\"\",IF(I790<=I$10,1,IF(I790<=I$7,2,IF(I790<=I$8,3,IF(I790<=I$9,4,IF(I790<=I$11,5,60))))))","v":""},{"$f":"IF(J790=\"\",\"\",IF(J790<=J$10,1,IF(J790<=J$7,2,IF(J790<=J$8,3,IF(J790<=J$9,4,IF(J790<=J$11,5,60))))))","v":""},{"$f":"IF(K790=\"\",\"\",IF(K790<=K$10,1,IF(K790<=K$7,2,IF(K790<=K$8,3,IF(K790<=K$9,4,IF(K790<=K$11,5,60))))))","v":""},{"$f":"IF(L790=\"\",\"\",IF(L790<=L$10,1,IF(L790<=L$7,2,IF(L790<=L$8,3,IF(L790<=L$9,4,IF(L790<=L$11,5,60))))))","v":""},{"$f":"IF(M790=\"\",\"\",IF(M790<=M$10,1,IF(M790<=M$7,2,IF(M790<=M$8,3,IF(M790<=M$9,4,IF(M790<=M$11,5,60))))))","v":""},{"$f":"IF(N790=\"\",\"\",IF(N790<=N$10,1,IF(N790<=N$7,2,IF(N790<=N$8,3,IF(N790<=N$9,4,IF(N790<=N$11,5,60))))))","v":""},{"$f":"IF(A790=\"\",\"\",SUM(S790:AD790))","v":""},"",{"$f":"IF(AF790=\"\",\"\",IF(AF790<=1,\"Lower Outlier\",IF(AF790<=2,\"Below Average\",IF(AF790<=3,\"Lower Quartile\",IF(AF790<=4,\"Upper Quartile\",IF(AF790<=5, \"Above Average\", \"Upper Outlier\"))))))","v":""},{"$f":"IF(C$18=1,C790,\"\")","v":""},{"$f":"IF(D$18=1,IF(D790=\"\",IF(AH790=\"\",\"\",AH790),IF(AND(D790>=0,AH790=\"\"),D790,IF(ISERROR(D790+AH790),#N/A,D790+AH790))),\"\")","v":""},{"$f":"IF(E$18=1,IF(E790=\"\",IF(AI790=\"\",\"\",AI790),IF(AND(E790>=0,AI790=\"\"),E790,IF(ISERROR(E790+AI790),#N/A,E790+AI790))),\"\")","v":""},{"$f":"IF(F$18=1,IF(F790=\"\",IF(AJ790=\"\",\"\",AJ790),IF(AND(F790>=0,AJ790=\"\"),F790,IF(ISERROR(F790+AJ790),#N/A,F790+AJ790))),\"\")","v":""},{"$f":"IF(G$18=1,IF(G790=\"\",IF(AK790=\"\",\"\",AK790),IF(AND(G790>=0,AK790=\"\"),G790,IF(ISERROR(G790+AK790),#N/A,G790+AK790))),\"\")","v":""},{"$f":"IF(H$18=1,IF(H790=\"\",IF(AL790=\"\",\"\",AL790),IF(AND(H790>=0,AL790=\"\"),H790,IF(ISERROR(H790+AL790),#N/A,H790+AL790))),\"\")","v":""},{"$f":"IF(I$18=1,IF(I790=\"\",IF(AM790=\"\",\"\",AM790),IF(AND(I790>=0,AM790=\"\"),I790,IF(ISERROR(I790+AM790),#N/A,I790+AM790))),\"\")","v":""},{"$f":"IF(J$18=1,IF(J790=\"\",IF(AN790=\"\",\"\",AN790),IF(AND(J790>=0,AN790=\"\"),J790,IF(ISERROR(J790+AN790),#N/A,J790+AN790))),\"\")","v":""},{"$f":"IF(K$18=1,IF(K790=\"\",IF(AO790=\"\",\"\",AO790),IF(AND(K790>=0,AO790=\"\"),K790,IF(ISERROR(K790+AO790),#N/A,K790+AO790))),\"\")","v":""},{"$f":"IF(L$18=1,IF(L790=\"\",IF(AP790=\"\",\"\",AP790),IF(AND(L790>=0,AP790=\"\"),L790,IF(ISERROR(L790+AP790),#N/A,L790+AP790))),\"\")","v":""},{"$f":"IF(M$18=1,IF(M790=\"\",IF(AQ790=\"\",\"\",AQ790),IF(AND(M790>=0,AQ790=\"\"),M790,IF(ISERROR(M790+AQ790),#N/A,M790+AQ790))),\"\")","v":""},{"$f":"IF(N$18=1,IF(N790=\"\",IF(AR790=\"\",\"\",AR790),IF(AND(N790>=0,AR790=\"\"),N790,IF(ISERROR(N790+AR790),#N/A,N790+AR790))),\"\")","v":""},{"$f":"IF(A790=\"\",\"\",MAX(AH790:AS790))","v":""},"","","","","","","","","","","","",{"$f":"IF(A790=\"\",\"\",MAX(IF(ISERROR(AU790:BF790),0,AU790:BF790)))","v":""},"","","","","","","","","","","","",{"$f":"IF(A790=\"\",\"\",SUM(BH790:BS790))","v":""},{"$f":"IF(A790=\"\",\"\",MIN(B790:M790))","v":""},{"$f":"IF(A790=\"\",\"\",MAX(B790:M790))","v":""},{"$f":"IF(A790=\"\",\"\",IF(BV790-BU790=0,\"\",BV790-BU790))","v":""},{"$f":"IF(A790=\"\",\"\",IF(BW790=\"\",\"No\",IF(BW790>$BW$11,\"Yes\",\"No\")))","v":""},{"$f":"IF(A790=\"\",\"\",(COUNTA(C790:N790)-COUNTBLANK(C790:N790)))","v":""},{"$f":"IF(A790=\"\",\"\",BY790-COUNTIF(C790:N790,\"=0\"))","v":""}]
[{"$f":"IF(ISBLANK('Control Sheet'!D771),\"\",'Control Sheet'!D771)","v":""},{"$f":"IF(ISBLANK('Control Sheet'!E771),\"\",'Control Sheet'!E771&\" (\"&'Control Sheet'!F771&\")\")","v":""},{"$f":"IF(C$18=1,IF(ISNA(VLOOKUP($A791,INDIRECT(C$20),OOPE_col,FALSE)),\"\",VLOOKUP($A791,INDIRECT(C$20),OOPE_col,FALSE)),\"\")","v":""},"","","","","","","","","","","","",null,"","","","","","","","","","","","","","","","","","","","","","","","","","","","","","","","","","","","","","","","","","",{"$f":"IF(A791=\"\",\"\",MAX(IF(ISERROR(AU791:BF791),0,AU791:BF791)))","v":""},"","","","","","","","","","","","","","","","","","",""]
[{"$f":"IF(ISBLANK('Control Sheet'!D772),\"\",'Control Sheet'!D772)","v":""},{"$f":"IF(ISBLANK('Control Sheet'!E772),\"\",'Control Sheet'!E772&\" (\"&'Control Sheet'!F772&\")\")","v":""},"","","","","","","","","","","","","",null,"","","","","","","","","","","","","","","","","","","","","","","","","","","","","","","","","","","","","","","","","","",{"$f":"IF(A792=\"\",\"\",MAX(IF(ISERROR(AU792:BF792),0,AU792:BF792)))","v":""},"","","","","","","","","","","","","","","","","","",""]
[{"$f":"IF(ISBLANK('Control Sheet'!D773),\"\",'Control Sheet'!D773)","v":""},{"$f":"IF(ISBLANK('Control Sheet'!E773),\"\",'Control Sheet'!E773&\" (\"&'Control Sheet'!F773&\")\")","v":""},"","","","","","","","","","","","","",null,"","","","","","","","","","","","","","","","","","","","","","","","","","","","","","","","","","","","","","","","","","",{"$f":"IF(A793=\"\",\"\",MAX(IF(ISERROR(AU793:BF793),0,AU793:BF793)))","v":""},"","","","","","","","","","","","","","","","","","",""]
[{"$f":"IF(ISBLANK('Control Sheet'!D774),\"\",'Control Sheet'!D774)","v":""},{"$f":"IF(ISBLANK('Control Sheet'!E774),\"\",'Control Sheet'!E774&\" (\"&'Control Sheet'!F774&\")\")","v":""},"","","","","","","","","","","","","",null,"","","","","","","","","","","","","","","","","","","","","","","","","","","","","","","","","","","","","","","","","","",{"$f":"IF(A794=\"\",\"\",MAX(IF(ISERROR(AU794:BF794),0,AU794:BF794)))","v":""},"","","","","","","","","","","","","","","","","","",""]
[{"$f":"IF(ISBLANK('Control Sheet'!D775),\"\",'Control Sheet'!D775)","v":""},{"$f":"IF(ISBLANK('Control Sheet'!E775),\"\",'Control Sheet'!E775&\" (\"&'Control Sheet'!F775&\")\")","v":""},"","","","","","","","","","","","","",null,"","","","","","","","","","","","","","","","","","","","","","","","","","","","","","","","","","","","","","","","","","",{"$f":"IF(A795=\"\",\"\",MAX(IF(ISERROR(AU795:BF795),0,AU795:BF795)))","v":""},"","","","","","","","","","","","","","","","","","",""]
[{"$f":"IF(ISBLANK('Control Sheet'!D776),\"\",'Control Sheet'!D776)","v":""},{"$f":"IF(ISBLANK('Control Sheet'!E776),\"\",'Control Sheet'!E776&\" (\"&'Control Sheet'!F776&\")\")","v":""},"","","","","","","","","","","","","",null,"","","","","","","","","","","","","","","","","","","","","","","","","","","","","","","","","","","","","","","","","","",{"$f":"IF(A796=\"\",\"\",MAX(IF(ISERROR(AU796:BF796),0,AU796:BF796)))","v":""},"","","","","","","","","","","","","","","","","","",""]
[{"$f":"IF(ISBLANK('Control Sheet'!D777),\"\",'Control Sheet'!D777)","v":""},{"$f":"IF(ISBLANK('Control Sheet'!E777),\"\",'Control Sheet'!E777&\" (\"&'Control Sheet'!F777&\")\")","v":""},"","","","","","","","","","","","","",null,"","","","","","","","","","","","","","","","","","","","","","","","","","","","","","","","","","","","","","","","","","",{"$f":"IF(A797=\"\",\"\",MAX(IF(ISERROR(AU797:BF797),0,AU797:BF797)))","v":""},"","","","","","","","","","","","","","","","","","",""]
[{"$f":"IF(ISBLANK('Control Sheet'!D778),\"\",'Control Sheet'!D778)","v":""},{"$f":"IF(ISBLANK('Control Sheet'!E778),\"\",'Control Sheet'!E778&\" (\"&'Control Sheet'!F778&\")\")","v":""},"","","","","","","","","","","","","",null,"","","","","","","","","","","","","","","","","","","","","","","","","","","","","","","","","","","","","","","","","","",{"$f":"IF(A798=\"\",\"\",MAX(IF(ISERROR(AU798:BF798),0,AU798:BF798)))","v":""},"","","","","","","","","","","","","","","","","","",""]
[{"$f":"IF(ISBLANK('Control Sheet'!D779),\"\",'Control Sheet'!D779)","v":""},{"$f":"IF(ISBLANK('Control Sheet'!E779),\"\",'Control Sheet'!E779&\" (\"&'Control Sheet'!F779&\")\")","v":""},"","","","","","","","","","","","","",null,"","","","","","","","","","","","","","","","","","","","","","","","","","","","","","","","","","","","","","","","","","",{"$f":"IF(A799=\"\",\"\",MAX(IF(ISERROR(AU799:BF799),0,AU799:BF799)))","v":""},"","","","","","","","","","","","","","","","","","",""]
[{"$f":"IF(ISBLANK('Control Sheet'!D780),\"\",'Control Sheet'!D780)","v":""},{"$f":"IF(ISBLANK('Control Sheet'!E780),\"\",'Control Sheet'!E780&\" (\"&'Control Sheet'!F780&\")\")","v":""},"","","","","","","","","","","","","",null,"","","","","","","","","","","","","","","","","","","","","","","","","","","","","","","","","","","","","","","","","","",{"$f":"IF(A800=\"\",\"\",MAX(IF(ISERROR(AU800:BF800),0,AU800:BF800)))","v":""},"","","","","","","","","","","","","","","","","","",""]
[{"$f":"IF(ISBLANK('Control Sheet'!D781),\"\",'Control Sheet'!D781)","v":""},{"$f":"IF(ISBLANK('Control Sheet'!E781),\"\",'Control Sheet'!E781&\" (\"&'Control Sheet'!F781&\")\")","v":""},{"$f":"IF(C$18=1,IF(ISNA(VLOOKUP($A801,INDIRECT(C$20),OOPE_col,FALSE)),\"\",VLOOKUP($A801,INDIRECT(C$20),OOPE_col,FALSE)),\"\")","v":""},"","","","","","","","","","","","",null,"","","","","","","","","","","","","","","","","","","","","","","","","","","","","","","","","","","","","","","","","","",{"$f":"IF(A801=\"\",\"\",MAX(IF(ISERROR(AU801:BF801),0,AU801:BF801)))","v":""},"","","","","","","","","","","","","","","","","","",""]
[{"$f":"IF(ISBLANK('Control Sheet'!D782),\"\",'Control Sheet'!D782)","v":""},{"$f":"IF(ISBLANK('Control Sheet'!E782),\"\",'Control Sheet'!E782&\" (\"&'Control Sheet'!F782&\")\")","v":""},"","","","","","","","","","","","","",null,"","","","","","","","","","","","","","","","","","","","","","","","","","","","","","","","","","","","","","","","","","",{"$f":"IF(A802=\"\",\"\",MAX(IF(ISERROR(AU802:BF802),0,AU802:BF802)))","v":""},"","","","","","","","","","","","","","","","","","",""]
[{"$f":"IF(ISBLANK('Control Sheet'!D783),\"\",'Control Sheet'!D783)","v":""},{"$f":"IF(ISBLANK('Control Sheet'!E783),\"\",'Control Sheet'!E783&\" (\"&'Control Sheet'!F783&\")\")","v":""},"","","","","","","","","","","","","",null,"","","","","","","","","","","","","","","","","","","","","","","","","","","","","","","","","","","","","","","","","","",{"$f":"IF(A803=\"\",\"\",MAX(IF(ISERROR(AU803:BF803),0,AU803:BF803)))","v":""},"","","","","","","","","","","","","","","","","","",""]
[{"$f":"IF(ISBLANK('Control Sheet'!D784),\"\",'Control Sheet'!D784)","v":""},{"$f":"IF(ISBLANK('Control Sheet'!E784),\"\",'Control Sheet'!E784&\" (\"&'Control Sheet'!F784&\")\")","v":""},"","","","","","","","","","","","","",null,"","","","","","","","","","","","","","","","","","","","","","","","","","","","","","","","","","","","","","","","","","",{"$f":"IF(A804=\"\",\"\",MAX(IF(ISERROR(AU804:BF804),0,AU804:BF804)))","v":""},"","","","","","","","","","","","","","","","","","",""]
[{"$f":"IF(ISBLANK('Control Sheet'!D785),\"\",'Control Sheet'!D785)","v":""},{"$f":"IF(ISBLANK('Control Sheet'!E785),\"\",'Control Sheet'!E785&\" (\"&'Control Sheet'!F785&\")\")","v":""},"","","","","","","","","","","","","",null,"","","","","","","","","","","","","","","","","","","","","","","","","","","","","","","","","","","","","","","","","","",{"$f":"IF(A805=\"\",\"\",MAX(IF(ISERROR(AU805:BF805),0,AU805:BF805)))","v":""},"","","","","","","","","","","","","","","","","","",""]
[{"$f":"IF(ISBLANK('Control Sheet'!D786),\"\",'Control Sheet'!D786)","v":""},{"$f":"IF(ISBLANK('Control Sheet'!E786),\"\",'Control Sheet'!E786&\" (\"&'Control Sheet'!F786&\")\")","v":""},"","","","","","","","","","","","","",null,"","","","","","","","","","","","","","","","","","","","","","","","","","","","","","","","","","","","","","","","","","",{"$f":"IF(A806=\"\",\"\",MAX(IF(ISERROR(AU806:BF806),0,AU806:BF806)))","v":""},"","","","","","","","","","","","","","","","","","",""]
[{"$f":"IF(ISBLANK('Control Sheet'!D787),\"\",'Control Sheet'!D787)","v":""},{"$f":"IF(ISBLANK('Control Sheet'!E787),\"\",'Control Sheet'!E787&\" (\"&'Control Sheet'!F787&\")\")","v":""},"","","","","","","","","","","","","",null,"","","","","","","","","","","","","","","","","","","","","","","","","","","","","","","","","","","","","","","","","","",{"$f":"IF(A807=\"\",\"\",MAX(IF(ISERROR(AU807:BF807),0,AU807:BF807)))","v":""},"","","","","","","","","","","","","","","","","","",""]
[{"$f":"IF(ISBLANK('Control Sheet'!D788),\"\",'Control Sheet'!D788)","v":""},{"$f":"IF(ISBLANK('Control Sheet'!E788),\"\",'Control Sheet'!E788&\" (\"&'Control Sheet'!F788&\")\")","v":""},"","","","","","","","","","","","","",null,"","","","","","","","","","","","","","","","","","","","","","","","","","","","","","","","","","","","","","","","","","",{"$f":"IF(A808=\"\",\"\",MAX(IF(ISERROR(AU808:BF808),0,AU808:BF808)))","v":""},"","","","","","","","","","","","","","","","","","",""]
[{"$f":"IF(ISBLANK('Control Sheet'!D789),\"\",'Control Sheet'!D789)","v":""},{"$f":"IF(ISBLANK('Control Sheet'!E789),\"\",'Control Sheet'!E789&\" (\"&'Control Sheet'!F789&\")\")","v":""},"","","","","","","","","","","","","",null,"","","","","","","","","","","","","","","","","","","","","","","","","","","","","","","","","","","","","","","","","","",{"$f":"IF(A809=\"\",\"\",MAX(IF(ISERROR(AU809:BF809),0,AU809:BF809)))","v":""},"","","","","","","","","","","","","","","","","","",""]
[{"$f":"IF(ISBLANK('Control Sheet'!D790),\"\",'Control Sheet'!D790)","v":""},{"$f":"IF(ISBLANK('Control Sheet'!E790),\"\",'Control Sheet'!E790&\" (\"&'Control Sheet'!F790&\")\")","v":""},"","","","","","","","","","","","","",null,"","","","","","","","","","","","","","","","","","","","","","","","","","","","","","","","","","","","","","","","","","",{"$f":"IF(A810=\"\",\"\",MAX(IF(ISERROR(AU810:BF810),0,AU810:BF810)))","v":""},"","","","","","","","","","","","","","","","","","",""]
[{"$f":"IF(ISBLANK('Control Sheet'!D791),\"\",'Control Sheet'!D791)","v":""},{"$f":"IF(ISBLANK('Control Sheet'!E791),\"\",'Control Sheet'!E791&\" (\"&'Control Sheet'!F791&\")\")","v":""},{"$f":"IF(C$18=1,IF(ISNA(VLOOKUP($A811,INDIRECT(C$20),OOPE_col,FALSE)),\"\",VLOOKUP($A811,INDIRECT(C$20),OOPE_col,FALSE)),\"\")","v":""},"","","","","","","","","","","","",null,"","","","","","","","","","","","","","","","","","","","","","","","","","","","","","","","","","","","","","","","","","",{"$f":"IF(A811=\"\",\"\",MAX(IF(ISERROR(AU811:BF811),0,AU811:BF811)))","v":""},"","","","","","","","","","","","","","","","","","",""]
[{"$f":"IF(ISBLANK('Control Sheet'!D792),\"\",'Control Sheet'!D792)","v":""},{"$f":"IF(ISBLANK('Control Sheet'!E792),\"\",'Control Sheet'!E792&\" (\"&'Control Sheet'!F792&\")\")","v":""},"","","","","","","","","","","","","",null,"","","","","","","","","","","","","","","","","","","","","","","","","","","","","","","","","","","","","","","","","","",{"$f":"IF(A812=\"\",\"\",MAX(IF(ISERROR(AU812:BF812),0,AU812:BF812)))","v":""},"","","","","","","","","","","","","","","","","","",""]
[{"$f":"IF(ISBLANK('Control Sheet'!D793),\"\",'Control Sheet'!D793)","v":""},{"$f":"IF(ISBLANK('Control Sheet'!E793),\"\",'Control Sheet'!E793&\" (\"&'Control Sheet'!F793&\")\")","v":""},"","","","","","","","","","","","","",null,"","","","","","","","","","","","","","","","","","","","","","","","","","","","","","","","","","","","","","","","","","",{"$f":"IF(A813=\"\",\"\",MAX(IF(ISERROR(AU813:BF813),0,AU813:BF813)))","v":""},"","","","","","","","","","","","","","","","","","",""]
[{"$f":"IF(ISBLANK('Control Sheet'!D794),\"\",'Control Sheet'!D794)","v":""},{"$f":"IF(ISBLANK('Control Sheet'!E794),\"\",'Control Sheet'!E794&\" (\"&'Control Sheet'!F794&\")\")","v":""},"","","","","","","","","","","","","",null,"","","","","","","","","","","","","","","","","","","","","","","","","","","","","","","","","","","","","","","","","","",{"$f":"IF(A814=\"\",\"\",MAX(IF(ISERROR(AU814:BF814),0,AU814:BF814)))","v":""},"","","","","","","","","","","","","","","","","","",""]
[{"$f":"IF(ISBLANK('Control Sheet'!D795),\"\",'Control Sheet'!D795)","v":""},{"$f":"IF(ISBLANK('Control Sheet'!E795),\"\",'Control Sheet'!E795&\" (\"&'Control Sheet'!F795&\")\")","v":""},"","","","","","","","","","","","","",null,"","","","","","","","","","","","","","","","","","","","","","","","","","","","","","","","","","","","","","","","","","",{"$f":"IF(A815=\"\",\"\",MAX(IF(ISERROR(AU815:BF815),0,AU815:BF815)))","v":""},"","","","","","","","","","","","","","","","","","",""]
[{"$f":"IF(ISBLANK('Control Sheet'!D796),\"\",'Control Sheet'!D796)","v":""},{"$f":"IF(ISBLANK('Control Sheet'!E796),\"\",'Control Sheet'!E796&\" (\"&'Control Sheet'!F796&\")\")","v":""},"","","","","","","","","","","","","",null,"","","","","","","","","","","","","","","","","","","","","","","","","","","","","","","","","","","","","","","","","","",{"$f":"IF(A816=\"\",\"\",MAX(IF(ISERROR(AU816:BF816),0,AU816:BF816)))","v":""},"","","","","","","","","","","","","","","","","","",""]
[{"$f":"IF(ISBLANK('Control Sheet'!D797),\"\",'Control Sheet'!D797)","v":""},{"$f":"IF(ISBLANK('Control Sheet'!E797),\"\",'Control Sheet'!E797&\" (\"&'Control Sheet'!F797&\")\")","v":""},"","","","","","","","","","","","","",null,"","","","","","","","","","","","","","","","","","","","","","","","","","","","","","","","","","","","","","","","","","",{"$f":"IF(A817=\"\",\"\",MAX(IF(ISERROR(AU817:BF817),0,AU817:BF817)))","v":""},"","","","","","","","","","","","","","","","","","",""]
[{"$f":"IF(ISBLANK('Control Sheet'!D798),\"\",'Control Sheet'!D798)","v":""},{"$f":"IF(ISBLANK('Control Sheet'!E798),\"\",'Control Sheet'!E798&\" (\"&'Control Sheet'!F798&\")\")","v":""},"","","","","","","","","","","","","",null,"","","","","","","","","","","","","","","","","","","","","","","","","","","","","","","","","","","","","","","","","","",{"$f":"IF(A818=\"\",\"\",MAX(IF(ISERROR(AU818:BF818),0,AU818:BF818)))","v":""},"","","","","","","","","","","","","","","","","","",""]
[{"$f":"IF(ISBLANK('Control Sheet'!D799),\"\",'Control Sheet'!D799)","v":""},{"$f":"IF(ISBLANK('Control Sheet'!E799),\"\",'Control Sheet'!E799&\" (\"&'Control Sheet'!F799&\")\")","v":""},"","","","","","","","","","","","","",null,"","","","","","","","","","","","","","","","","","","","","","","","","","","","","","","","","","","","","","","","","","",{"$f":"IF(A819=\"\",\"\",MAX(IF(ISERROR(AU819:BF819),0,AU819:BF819)))","v":""},"","","","","","","","","","","","","","","","","","",""]
[{"$f":"IF(ISBLANK('Control Sheet'!D800),\"\",'Control Sheet'!D800)","v":""},{"$f":"IF(ISBLANK('Control Sheet'!E800),\"\",'Control Sheet'!E800&\" (\"&'Control Sheet'!F800&\")\")","v":""},"","","","","","","","","","","","","",null,"","","","","","","","","","","","","","","",{"$f":"IF(OR(A820=\"\",AE820=0),\"\",AE820/(O$18-R662))","v":""},"","","","","","","","","","","","","","","","","","","","","","","","","","",{"$f":"IF(A820=\"\",\"\",MAX(IF(ISERROR(AU820:BF820),0,AU820:BF820)))","v":""},"","","","","","","","","","","","","","","","","","",""]
[{"$f":"IF(ISBLANK('Control Sheet'!D801),\"\",'Control Sheet'!D801)","v":""},{"$f":"IF(ISBLANK('Control Sheet'!E801),\"\",'Control Sheet'!E801&\" (\"&'Control Sheet'!F801&\")\")","v":""},{"$f":"IF(C$18=1,IF(ISNA(VLOOKUP($A821,INDIRECT(C$20),OOPE_col,FALSE)),\"\",VLOOKUP($A821,INDIRECT(C$20),OOPE_col,FALSE)),\"\")","v":""},"","","","","","","","","","","","",null,"","","","","","","","","","","","","","","","","","","","","","","","","","","","","","","","","","","","","","","","","","",{"$f":"IF(A821=\"\",\"\",MAX(IF(ISERROR(AU821:BF821),0,AU821:BF821)))","v":""},"","","","","","","","","","","","","","","","","","",""]
[{"$f":"IF(ISBLANK('Control Sheet'!D802),\"\",'Control Sheet'!D802)","v":""},{"$f":"IF(ISBLANK('Control Sheet'!E802),\"\",'Control Sheet'!E802&\" (\"&'Control Sheet'!F802&\")\")","v":""},"","","","","","","","","","","","","",null,"","","","","","","","","","","","","","","","","","","","","","","","","","","","","","","","","","","","","","","","","","",{"$f":"IF(A822=\"\",\"\",MAX(IF(ISERROR(AU822:BF822),0,AU822:BF822)))","v":""},"","","","","","","","","","","","","","","","","","",""]
[{"$f":"IF(ISBLANK('Control Sheet'!D803),\"\",'Control Sheet'!D803)","v":""},{"$f":"IF(ISBLANK('Control Sheet'!E803),\"\",'Control Sheet'!E803&\" (\"&'Control Sheet'!F803&\")\")","v":""},"","","","","","","","","","","","","",null,"","","","","","","","","","","","","","","","","","","","","","","","","","","","","","","","","","","","","","","","","","",{"$f":"IF(A823=\"\",\"\",MAX(IF(ISERROR(AU823:BF823),0,AU823:BF823)))","v":""},"","","","","","","","","","","","","","","","","","",""]
[{"$f":"IF(ISBLANK('Control Sheet'!D804),\"\",'Control Sheet'!D804)","v":""},{"$f":"IF(ISBLANK('Control Sheet'!E804),\"\",'Control Sheet'!E804&\" (\"&'Control Sheet'!F804&\")\")","v":""},"","","","","","","","","","","","","",null,"","","","","","","","","","","","","","","","","","","","","","","","","","","","","","","","","","","","","","","","","","",{"$f":"IF(A824=\"\",\"\",MAX(IF(ISERROR(AU824:BF824),0,AU824:BF824)))","v":""},"","","","","","","","","","","","","","","","","","",""]
[{"$f":"IF(ISBLANK('Control Sheet'!D805),\"\",'Control Sheet'!D805)","v":""},{"$f":"IF(ISBLANK('Control Sheet'!E805),\"\",'Control Sheet'!E805&\" (\"&'Control Sheet'!F805&\")\")","v":""},"","","","","","","","","","","","","",null,"","","","","","","","","","","","","","","","","","","","","","","","","","","","","","","","","","","","","","","","","","",{"$f":"IF(A825=\"\",\"\",MAX(IF(ISERROR(AU825:BF825),0,AU825:BF825)))","v":""},"","","","","","","","","","","","","","","","","","",""]
[{"$f":"IF(ISBLANK('Control Sheet'!D806),\"\",'Control Sheet'!D806)","v":""},{"$f":"IF(ISBLANK('Control Sheet'!E806),\"\",'Control Sheet'!E806&\" (\"&'Control Sheet'!F806&\")\")","v":""},"","","","","","","","","","","","","",null,"","","","","","","","","","","","","","","","","","","","","","","","","","","","","","","","","","","","","","","","","","",{"$f":"IF(A826=\"\",\"\",MAX(IF(ISERROR(AU826:BF826),0,AU826:BF826)))","v":""},"","","","","","","","","","","","","","","","","","",""]
[{"$f":"IF(ISBLANK('Control Sheet'!D807),\"\",'Control Sheet'!D807)","v":""},{"$f":"IF(ISBLANK('Control Sheet'!E807),\"\",'Control Sheet'!E807&\" (\"&'Control Sheet'!F807&\")\")","v":""},"","","","","","","","","","","","","",null,"","","","","","","","","","","","","","","","","","","","","","","","","","","","","","","","","","","","","","","","","","",{"$f":"IF(A827=\"\",\"\",MAX(IF(ISERROR(AU827:BF827),0,AU827:BF827)))","v":""},"","","","","","","","","","","","","","","","","","",""]
[{"$f":"IF(ISBLANK('Control Sheet'!D808),\"\",'Control Sheet'!D808)","v":""},{"$f":"IF(ISBLANK('Control Sheet'!E808),\"\",'Control Sheet'!E808&\" (\"&'Control Sheet'!F808&\")\")","v":""},"","","","","","","","","","","","","",null,"","","","","","","","","","","","","","","","","","","","","","","","","","","","","","","","","","","","","","","","","","",{"$f":"IF(A828=\"\",\"\",MAX(IF(ISERROR(AU828:BF828),0,AU828:BF828)))","v":""},"","","","","","","","","","","","","","","","","","",""]
[{"$f":"IF(ISBLANK('Control Sheet'!D809),\"\",'Control Sheet'!D809)","v":""},{"$f":"IF(ISBLANK('Control Sheet'!E809),\"\",'Control Sheet'!E809&\" (\"&'Control Sheet'!F809&\")\")","v":""},"","","","","","","","","","","","","",null,"","","","","","","","","","","","","","","","","","","","","","","","","","","","","","","","","","","","","","","","","","",{"$f":"IF(A829=\"\",\"\",MAX(IF(ISERROR(AU829:BF829),0,AU829:BF829)))","v":""},"","","","","","","","","","","","","","","","","","",""]
[{"$f":"IF(ISBLANK('Control Sheet'!D810),\"\",'Control Sheet'!D810)","v":""},{"$f":"IF(ISBLANK('Control Sheet'!E810),\"\",'Control Sheet'!E810&\" (\"&'Control Sheet'!F810&\")\")","v":""},"","","","","","","","","","","","","",null,"","","","","","","","","","","","","","","","","","","","","","","","","","","","","","","","","","","","","","","","","","",{"$f":"IF(A830=\"\",\"\",MAX(IF(ISERROR(AU830:BF830),0,AU830:BF830)))","v":""},"","","","","","","","","","","","","","","","","","",""]
[{"$f":"IF(ISBLANK('Control Sheet'!D811),\"\",'Control Sheet'!D811)","v":""},{"$f":"IF(ISBLANK('Control Sheet'!E811),\"\",'Control Sheet'!E811&\" (\"&'Control Sheet'!F811&\")\")","v":""},{"$f":"IF(C$18=1,IF(ISNA(VLOOKUP($A831,INDIRECT(C$20),OOPE_col,FALSE)),\"\",VLOOKUP($A831,INDIRECT(C$20),OOPE_col,FALSE)),\"\")","v":""},"","","","","","","","","","","","",null,"","","","","","","","","","","","","","","","","","","","","","","","","","","","","","","","","","","","","","","","","","",{"$f":"IF(A831=\"\",\"\",MAX(IF(ISERROR(AU831:BF831),0,AU831:BF831)))","v":""},"","","","","","","","","","","","","","","","","","",""]
[{"$f":"IF(ISBLANK('Control Sheet'!D812),\"\",'Control Sheet'!D812)","v":""},{"$f":"IF(ISBLANK('Control Sheet'!E812),\"\",'Control Sheet'!E812&\" (\"&'Control Sheet'!F812&\")\")","v":""},"","","","","","","","","","","","","",null,"","","","","","","","","","","","","","","","","","","","","","","","","","","","","","","","","","","","","","","","","","",{"$f":"IF(A832=\"\",\"\",MAX(IF(ISERROR(AU832:BF832),0,AU832:BF832)))","v":""},"","","","","","","","","","","","","","","","","","",""]
[{"$f":"IF(ISBLANK('Control Sheet'!D813),\"\",'Control Sheet'!D813)","v":""},{"$f":"IF(ISBLANK('Control Sheet'!E813),\"\",'Control Sheet'!E813&\" (\"&'Control Sheet'!F813&\")\")","v":""},"","","","","","","","","","","","","",null,"","","","","","","","","","","","","","","","","","","","","","","","","","","","","","","","","","","","","","","","","","",{"$f":"IF(A833=\"\",\"\",MAX(IF(ISERROR(AU833:BF833),0,AU833:BF833)))","v":""},"","","","","","","","","","","","","","","","","","",""]
[{"$f":"IF(ISBLANK('Control Sheet'!D814),\"\",'Control Sheet'!D814)","v":""},{"$f":"IF(ISBLANK('Control Sheet'!E814),\"\",'Control Sheet'!E814&\" (\"&'Control Sheet'!F814&\")\")","v":""},"","","","","","","","","","","","","",null,"","","","","","","","","","","","","","","","","","","","","","","","","","","","","","","","","","","","","","","","","","",{"$f":"IF(A834=\"\",\"\",MAX(IF(ISERROR(AU834:BF834),0,AU834:BF834)))","v":""},"","","","","","","","","","","","","","","","","","",""]
[{"$f":"IF(ISBLANK('Control Sheet'!D815),\"\",'Control Sheet'!D815)","v":""},{"$f":"IF(ISBLANK('Control Sheet'!E815),\"\",'Control Sheet'!E815&\" (\"&'Control Sheet'!F815&\")\")","v":""},"","","","","","","","","","","","","",null,"","","","","","","","","","","","","","","","","","","","","","","","","","","","","","","","","","","","","","","","","","",{"$f":"IF(A835=\"\",\"\",MAX(IF(ISERROR(AU835:BF835),0,AU835:BF835)))","v":""},"","","","","","","","","","","","","","","","","","",""]
[{"$f":"IF(ISBLANK('Control Sheet'!D816),\"\",'Control Sheet'!D816)","v":""},{"$f":"IF(ISBLANK('Control Sheet'!E816),\"\",'Control Sheet'!E816&\" (\"&'Control Sheet'!F816&\")\")","v":""},"","","","","","","","","","","","","",null,"","","","","","","","","","","","","","","","","","","","","","","","","","","","","","","","","","","","","","","","","","",{"$f":"IF(A836=\"\",\"\",MAX(IF(ISERROR(AU836:BF836),0,AU836:BF836)))","v":""},"","","","","","","","","","","","","","","","","","",""]
[{"$f":"IF(ISBLANK('Control Sheet'!D817),\"\",'Control Sheet'!D817)","v":""},{"$f":"IF(ISBLANK('Control Sheet'!E817),\"\",'Control Sheet'!E817&\" (\"&'Control Sheet'!F817&\")\")","v":""},"","","","","","","","","","","","","",null,"","","","","","","","","","","","","","","","","","","","","","","","","","","","","","","","","","","","","","","","","","",{"$f":"IF(A837=\"\",\"\",MAX(IF(ISERROR(AU837:BF837),0,AU837:BF837)))","v":""},"","","","","","","","","","","","","","","","","","",""]
[{"$f":"IF(ISBLANK('Control Sheet'!D818),\"\",'Control Sheet'!D818)","v":""},{"$f":"IF(ISBLANK('Control Sheet'!E818),\"\",'Control Sheet'!E818&\" (\"&'Control Sheet'!F818&\")\")","v":""},"","","","","","","","","","","","","",null,"","","","","","","","","","","","","","","","","","","","","","","","","","","","","","","","","","","","","","","","","","",{"$f":"IF(A838=\"\",\"\",MAX(IF(ISERROR(AU838:BF838),0,AU838:BF838)))","v":""},"","","","","","","","","","","","","","","","","","",""]
[{"$f":"IF(ISBLANK('Control Sheet'!D819),\"\",'Control Sheet'!D819)","v":""},{"$f":"IF(ISBLANK('Control Sheet'!E819),\"\",'Control Sheet'!E819&\" (\"&'Control Sheet'!F819&\")\")","v":""},"","","","","","","","","","","","","",null,"","","","","","","","","","","","","","","","","","","","","","","","","","","","","","","","","","","","","","","","","","",{"$f":"IF(A839=\"\",\"\",MAX(IF(ISERROR(AU839:BF839),0,AU839:BF839)))","v":""},"","","","","","","","","","","","","","","","","","",""]
[{"$f":"IF(ISBLANK('Control Sheet'!D820),\"\",'Control Sheet'!D820)","v":""},{"$f":"IF(ISBLANK('Control Sheet'!E820),\"\",'Control Sheet'!E820&\" (\"&'Control Sheet'!F820&\")\")","v":""},"","","","","","","","","","","","","",null,"","","","","","","","","","","","","","","","","","","","","","","","","","","","","","","","","","","","","","","","","","",{"$f":"IF(A840=\"\",\"\",MAX(IF(ISERROR(AU840:BF840),0,AU840:BF840)))","v":""},"","","","","","","","","","","","","","","","","","",""]
[{"$f":"IF(ISBLANK('Control Sheet'!D821),\"\",'Control Sheet'!D821)","v":""},{"$f":"IF(ISBLANK('Control Sheet'!E821),\"\",'Control Sheet'!E821&\" (\"&'Control Sheet'!F821&\")\")","v":""},{"$f":"IF(C$18=1,IF(ISNA(VLOOKUP($A841,INDIRECT(C$20),OOPE_col,FALSE)),\"\",VLOOKUP($A841,INDIRECT(C$20),OOPE_col,FALSE)),\"\")","v":""},"","","","","","","","","","","","",null,"","","","","","","","","","","","","","","","","","","","","","","","","","","","","","","","","","","","","","","","","","",{"$f":"IF(A841=\"\",\"\",MAX(IF(ISERROR(AU841:BF841),0,AU841:BF841)))","v":""},"","","","","","","","","","","","","","","","","","",""]
[{"$f":"IF(ISBLANK('Control Sheet'!D822),\"\",'Control Sheet'!D822)","v":""},{"$f":"IF(ISBLANK('Control Sheet'!E822),\"\",'Control Sheet'!E822&\" (\"&'Control Sheet'!F822&\")\")","v":""},"","","","","","","","","","","","","",null,"","","","","","","","","","","","","","","","","","","","","","","","","","","","","","","","","","","","","","","","","","",{"$f":"IF(A842=\"\",\"\",MAX(IF(ISERROR(AU842:BF842),0,AU842:BF842)))","v":""},"","","","","","","","","","","","","","","","","","",""]
[{"$f":"IF(ISBLANK('Control Sheet'!D823),\"\",'Control Sheet'!D823)","v":""},{"$f":"IF(ISBLANK('Control Sheet'!E823),\"\",'Control Sheet'!E823&\" (\"&'Control Sheet'!F823&\")\")","v":""},"","","","","","","","","","","","","",null,"","","","","","","","","","","","","","","","","","","","","","","","","","","","","","","","","","","","","","","","","","",{"$f":"IF(A843=\"\",\"\",MAX(IF(ISERROR(AU843:BF843),0,AU843:BF843)))","v":""},"","","","","","","","","","","","","","","","","","",""]
[{"$f":"IF(ISBLANK('Control Sheet'!D824),\"\",'Control Sheet'!D824)","v":""},{"$f":"IF(ISBLANK('Control Sheet'!E824),\"\",'Control Sheet'!E824&\" (\"&'Control Sheet'!F824&\")\")","v":""},"","","","","","","","","","","","","",null,"","","","","","","","","","","","","","","","","","","","","","","","","","","","","","","","","","","","","","","","","","",{"$f":"IF(A844=\"\",\"\",MAX(IF(ISERROR(AU844:BF844),0,AU844:BF844)))","v":""},"","","","","","","","","","","","","","","","","","",""]
[{"$f":"IF(ISBLANK('Control Sheet'!D825),\"\",'Control Sheet'!D825)","v":""},{"$f":"IF(ISBLANK('Control Sheet'!E825),\"\",'Control Sheet'!E825&\" (\"&'Control Sheet'!F825&\")\")","v":""},"","","","","","","","","","","","","",null,"","","","","","","","","","","","","","","","","","","","","","","","","","","","","","","","","","","","","","","","","","",{"$f":"IF(A845=\"\",\"\",MAX(IF(ISERROR(AU845:BF845),0,AU845:BF845)))","v":""},"","","","","","","","","","","","","","","","","","",""]
[{"$f":"IF(ISBLANK('Control Sheet'!D826),\"\",'Control Sheet'!D826)","v":""},{"$f":"IF(ISBLANK('Control Sheet'!E826),\"\",'Control Sheet'!E826&\" (\"&'Control Sheet'!F826&\")\")","v":""},"","","","","","","","","","","","","",null,"","","","","","","","","","","","","","","","","","","","","","","","","","","","","","","","","","","","","","","","","","",{"$f":"IF(A846=\"\",\"\",MAX(IF(ISERROR(AU846:BF846),0,AU846:BF846)))","v":""},"","","","","","","","","","","","","","","","","","",""]
[{"$f":"IF(ISBLANK('Control Sheet'!D827),\"\",'Control Sheet'!D827)","v":""},{"$f":"IF(ISBLANK('Control Sheet'!E827),\"\",'Control Sheet'!E827&\" (\"&'Control Sheet'!F827&\")\")","v":""},"","","","","","","","","","","","","",null,"","","","","","","","","","","","","","","","","","","","","","","","","","","","","","","","","","","","","","","","","","",{"$f":"IF(A847=\"\",\"\",MAX(IF(ISERROR(AU847:BF847),0,AU847:BF847)))","v":""},"","","","","","","","","","","","","","","","","","",""]
[{"$f":"IF(ISBLANK('Control Sheet'!D828),\"\",'Control Sheet'!D828)","v":""},{"$f":"IF(ISBLANK('Control Sheet'!E828),\"\",'Control Sheet'!E828&\" (\"&'Control Sheet'!F828&\")\")","v":""},"","","","","","","","","","","","","",null,"","","","","","","","","","","","","","","","","","","","","","","","","","","","","","","","","","","","","","","","","","",{"$f":"IF(A848=\"\",\"\",MAX(IF(ISERROR(AU848:BF848),0,AU848:BF848)))","v":""},"","","","","","","","","","","","","","","","","","",""]
[{"$f":"IF(ISBLANK('Control Sheet'!D829),\"\",'Control Sheet'!D829)","v":""},{"$f":"IF(ISBLANK('Control Sheet'!E829),\"\",'Control Sheet'!E829&\" (\"&'Control Sheet'!F829&\")\")","v":""},"","","","","","","","","","","","","",null,"","","","","","","","","","","","","","","","","","","","","","","","","","","","","","","","","","","","","","","","","","",{"$f":"IF(A849=\"\",\"\",MAX(IF(ISERROR(AU849:BF849),0,AU849:BF849)))","v":""},"","","","","","","","","","","","","","","","","","",""]
[{"$f":"IF(ISBLANK('Control Sheet'!D830),\"\",'Control Sheet'!D830)","v":""},{"$f":"IF(ISBLANK('Control Sheet'!E830),\"\",'Control Sheet'!E830&\" (\"&'Control Sheet'!F830&\")\")","v":""},"","","","","","","","","","","","","",null,"","","","","","","","","","","","","","","","","","","","","","","","","","","","","","","","","","","","","","","","","","",{"$f":"IF(A850=\"\",\"\",MAX(IF(ISERROR(AU850:BF850),0,AU850:BF850)))","v":""},"","","","","","","","","","","","","","","","","","",""]
[{"$f":"IF(ISBLANK('Control Sheet'!D831),\"\",'Control Sheet'!D831)","v":""},{"$f":"IF(ISBLANK('Control Sheet'!E831),\"\",'Control Sheet'!E831&\" (\"&'Control Sheet'!F831&\")\")","v":""},{"$f":"IF(C$18=1,IF(ISNA(VLOOKUP($A851,INDIRECT(C$20),OOPE_col,FALSE)),\"\",VLOOKUP($A851,INDIRECT(C$20),OOPE_col,FALSE)),\"\")","v":""},"","","","","","","","","","","","",null,"","","","","","","","","","","","","","","","","","","","","","","","","","","","","","","","","","","","","","","","","","",{"$f":"IF(A851=\"\",\"\",MAX(IF(ISERROR(AU851:BF851),0,AU851:BF851)))","v":""},"","","","","","","","","","","","","","","","","","",""]
[{"$f":"IF(ISBLANK('Control Sheet'!D832),\"\",'Control Sheet'!D832)","v":""},{"$f":"IF(ISBLANK('Control Sheet'!E832),\"\",'Control Sheet'!E832&\" (\"&'Control Sheet'!F832&\")\")","v":""},"","","","","","","","","","","","","",null,"","","","","","","","","","","","","","","","","","","","","","","","","","","","","","","","","","","","","","","","","","",{"$f":"IF(A852=\"\",\"\",MAX(IF(ISERROR(AU852:BF852),0,AU852:BF852)))","v":""},"","","","","","","","","","","","","","","","","","",""]
[{"$f":"IF(ISBLANK('Control Sheet'!D833),\"\",'Control Sheet'!D833)","v":""},{"$f":"IF(ISBLANK('Control Sheet'!E833),\"\",'Control Sheet'!E833&\" (\"&'Control Sheet'!F833&\")\")","v":""},"","","","","","","","","","","","","",null,"",{"$f":"IF(A853=\"\",\"\",OOPEMonthsPop-(COUNTA(C853:N853)-COUNTBLANK(C853:N853)))","v":""},"","","","","","","","","","","","","","","","","","","","","","","","","","","","",{"$f":"IF(OR(A853=\"\",OOPEMonthsPop=0),\"\",IF(AU$18=OOPEMonthsPop,AH853,#N/A))","v":""},{"$f":"IF(OR($A853=\"\",OOPEMonthsPop=0),\"\",IF(AV$18<OOPEMonthsPop,#N/A,IF(AV$18=OOPEMonthsPop,AI853,IF(AU853=\"\",\"\",IF(AV$18=OOPEMonthsPop+1,AU853+(AU853*VLOOKUP(OOPEMonthsPop-$R853,ForecastMult,3,FALSE)/12),AU853+AU853-AT853)))))","v":""},{"$f":"IF(OR($A853=\"\",OOPEMonthsPop=0),\"\",IF(AW$18<OOPEMonthsPop,#N/A,IF(AW$18=OOPEMonthsPop,AJ853,IF(AV853=\"\",\"\",IF(AW$18=OOPEMonthsPop+1,AV853+(AV853*VLOOKUP(OOPEMonthsPop-$R853,ForecastMult,3,FALSE)/12),AV853+AV853-AU853)))))","v":""},{"$f":"IF(OR($A853=\"\",OOPEMonthsPop=0),\"\",IF(AX$18<OOPEMonthsPop,#N/A,IF(AX$18=OOPEMonthsPop,AK853,IF(AW853=\"\",\"\",IF(AX$18=OOPEMonthsPop+1,AW853+(AW853*VLOOKUP(OOPEMonthsPop-$R853,ForecastMult,3,FALSE)/12),AW853+AW853-AV853)))))","v":""},{"$f":"IF(OR($A853=\"\",OOPEMonthsPop=0),\"\",IF(AY$18<OOPEMonthsPop,#N/A,IF(AY$18=OOPEMonthsPop,AL853,IF(AX853=\"\",\"\",IF(AY$18=OOPEMonthsPop+1,AX853+(AX853*VLOOKUP(OOPEMonthsPop-$R853,ForecastMult,3,FALSE)/12),AX853+AX853-AW853)))))","v":""},{"$f":"IF(OR($A853=\"\",OOPEMonthsPop=0),\"\",IF(AZ$18<OOPEMonthsPop,#N/A,IF(AZ$18=OOPEMonthsPop,AM853,IF(AY853=\"\",\"\",IF(AZ$18=OOPEMonthsPop+1,AY853+(AY853*VLOOKUP(OOPEMonthsPop-$R853,ForecastMult,3,FALSE)/12),AY853+AY853-AX853)))))","v":""},{"$f":"IF(OR($A853=\"\",OOPEMonthsPop=0),\"\",IF(BA$18<OOPEMonthsPop,#N/A,IF(BA$18=OOPEMonthsPop,AN853,IF(AZ853=\"\",\"\",IF(BA$18=OOPEMonthsPop+1,AZ853+(AZ853*VLOOKUP(OOPEMonthsPop-$R853,ForecastMult,3,FALSE)/12),AZ853+AZ853-AY853)))))","v":""},{"$f":"IF(OR($A853=\"\",OOPEMonthsPop=0),\"\",IF(BB$18<OOPEMonthsPop,#N/A,IF(BB$18=OOPEMonthsPop,AO853,IF(BA853=\"\",\"\",IF(BB$18=OOPEMonthsPop+1,BA853+(BA853*VLOOKUP(OOPEMonthsPop-$R853,ForecastMult,3,FALSE)/12),BA853+BA853-AZ853)))))","v":""},{"$f":"IF(OR($A853=\"\",OOPEMonthsPop=0),\"\",IF(BC$18<OOPEMonthsPop,#N/A,IF(BC$18=OOPEMonthsPop,AP853,IF(BB853=\"\",\"\",IF(BC$18=OOPEMonthsPop+1,BB853+(BB853*VLOOKUP(OOPEMonthsPop-$R853,ForecastMult,3,FALSE)/12),BB853+BB853-BA853)))))","v":""},{"$f":"IF(OR($A853=\"\",OOPEMonthsPop=0),\"\",IF(BD$18<OOPEMonthsPop,#N/A,IF(BD$18=OOPEMonthsPop,AQ853,IF(BC853=\"\",\"\",IF(BD$18=OOPEMonthsPop+1,BC853+(BC853*VLOOKUP(OOPEMonthsPop-$R853,ForecastMult,3,FALSE)/12),BC853+BC853-BB853)))))","v":""},{"$f":"IF(OR($A853=\"\",OOPEMonthsPop=0),\"\",IF(BE$18<OOPEMonthsPop,#N/A,IF(BE$18=OOPEMonthsPop,AR853,IF(BD853=\"\",\"\",IF(BE$18=OOPEMonthsPop+1,BD853+(BD853*VLOOKUP(OOPEMonthsPop-$R853,ForecastMult,3,FALSE)/12),BD853+BD853-BC853)))))","v":""},{"$f":"IF(OR($A853=\"\",OOPEMonthsPop=0),\"\",IF(BF$18<OOPEMonthsPop,#N/A,IF(BF$18=OOPEMonthsPop,AS853,IF(BE853=\"\",\"\",IF(BF$18=OOPEMonthsPop+1,BE853+(BE853*VLOOKUP(OOPEMonthsPop-$R853,ForecastMult,3,FALSE)/12),BE853+BE853-BD853)))))","v":""},{"$f":"IF(A853=\"\",\"\",MAX(IF(ISERROR(AU853:BF853),0,AU853:BF853)))","v":""},{"$f":"IF(AND(C$18=1,$A853<>\"\"),IF(ISNA(VLOOKUP($A853,INDIRECT(C$20),TOT_STDR_PXS_col,FALSE)),\"\",VLOOKUP($A853,INDIRECT(C$20),TOT_STDR_PXS_col,FALSE)+VLOOKUP($A853,INDIRECT(C$20),TOT_ZDR_PXS_col,FALSE)),\"\")","v":""},{"$f":"IF(AND(D$18=1,$A853<>\"\"),IF(ISNA(VLOOKUP($A853,INDIRECT(D$20),TOT_STDR_PXS_col,FALSE)),\"\",VLOOKUP($A853,INDIRECT(D$20),TOT_STDR_PXS_col,FALSE)+VLOOKUP($A853,INDIRECT(D$20),TOT_ZDR_PXS_col,FALSE)),\"\")","v":""},{"$f":"IF(AND(E$18=1,$A853<>\"\"),IF(ISNA(VLOOKUP($A853,INDIRECT(E$20),TOT_STDR_PXS_col,FALSE)),\"\",VLOOKUP($A853,INDIRECT(E$20),TOT_STDR_PXS_col,FALSE)+VLOOKUP($A853,INDIRECT(E$20),TOT_ZDR_PXS_col,FALSE)),\"\")","v":""},{"$f":"IF(AND(F$18=1,$A853<>\"\"),IF(ISNA(VLOOKUP($A853,INDIRECT(F$20),TOT_STDR_PXS_col,FALSE)),\"\",VLOOKUP($A853,INDIRECT(F$20),TOT_STDR_PXS_col,FALSE)+VLOOKUP($A853,INDIRECT(F$20),TOT_ZDR_PXS_col,FALSE)),\"\")","v":""},{"$f":"IF(AND(G$18=1,$A853<>\"\"),IF(ISNA(VLOOKUP($A853,INDIRECT(G$20),TOT_STDR_PXS_col,FALSE)),\"\",VLOOKUP($A853,INDIRECT(G$20),TOT_STDR_PXS_col,FALSE)+VLOOKUP($A853,INDIRECT(G$20),TOT_ZDR_PXS_col,FALSE)),\"\")","v":""},{"$f":"IF(AND(H$18=1,$A853<>\"\"),IF(ISNA(VLOOKUP($A853,INDIRECT(H$20),TOT_STDR_PXS_col,FALSE)),\"\",VLOOKUP($A853,INDIRECT(H$20),TOT_STDR_PXS_col,FALSE)+VLOOKUP($A853,INDIRECT(H$20),TOT_ZDR_PXS_col,FALSE)),\"\")","v":""},{"$f":"IF(AND(I$18=1,$A853<>\"\"),IF(ISNA(VLOOKUP($A853,INDIRECT(I$20),TOT_STDR_PXS_col,FALSE)),\"\",VLOOKUP($A853,INDIRECT(I$20),TOT_STDR_PXS_col,FALSE)+VLOOKUP($A853,INDIRECT(I$20),TOT_ZDR_PXS_col,FALSE)),\"\")","v":""},{"$f":"IF(AND(J$18=1,$A853<>\"\"),IF(ISNA(VLOOKUP($A853,INDIRECT(J$20),TOT_STDR_PXS_col,FALSE)),\"\",VLOOKUP($A853,INDIRECT(J$20),TOT_STDR_PXS_col,FALSE)+VLOOKUP($A853,INDIRECT(J$20),TOT_ZDR_PXS_col,FALSE)),\"\")","v":""},{"$f":"IF(AND(K$18=1,$A853<>\"\"),IF(ISNA(VLOOKUP($A853,INDIRECT(K$20),TOT_STDR_PXS_col,FALSE)),\"\",VLOOKUP($A853,INDIRECT(K$20),TOT_STDR_PXS_col,FALSE)+VLOOKUP($A853,INDIRECT(K$20),TOT_ZDR_PXS_col,FALSE)),\"\")","v":""},{"$f":"IF(AND(L$18=1,$A853<>\"\"),IF(ISNA(VLOOKUP($A853,INDIRECT(L$20),TOT_STDR_PXS_col,FALSE)),\"\",VLOOKUP($A853,INDIRECT(L$20),TOT_STDR_PXS_col,FALSE)+VLOOKUP($A853,INDIRECT(L$20),TOT_ZDR_PXS_col,FALSE)),\"\")","v":""},{"$f":"IF(AND(M$18=1,$A853<>\"\"),IF(ISNA(VLOOKUP($A853,INDIRECT(M$20),TOT_STDR_PXS_col,FALSE)),\"\",VLOOKUP($A853,INDIRECT(M$20),TOT_STDR_PXS_col,FALSE)+VLOOKUP($A853,INDIRECT(M$20),TOT_ZDR_PXS_col,FALSE)),\"\")","v":""},{"$f":"IF(AND(N$18=1,$A853<>\"\"),IF(ISNA(VLOOKUP($A853,INDIRECT(N$20),TOT_STDR_PXS_col,FALSE)),\"\",VLOOKUP($A853,INDIRECT(N$20),TOT_STDR_PXS_col,FALSE)+VLOOKUP($A853,INDIRECT(N$20),TOT_ZDR_PXS_col,FALSE)),\"\")","v":""},"","","","","","",""]
[{"$f":"IF(ISBLANK('Control Sheet'!D834),\"\",'Control Sheet'!D834)","v":""},{"$f":"IF(ISBLANK('Control Sheet'!E834),\"\",'Control Sheet'!E834&\" (\"&'Control Sheet'!F834&\")\")","v":""},"","","","","","","","","","","","",{"$f":"IF(A854=\"\",\"\",SUM(C854:N854))","v":""},null,{"$f":"IF(A854=\"\",\"\",IF(BG854<=400,\"No\",\"Yes\"))","v":""},"",{"$f":"IF(C854=\"\",\"\",IF(C854<=C$10,1,IF(C854<=C$7,2,IF(C854<=C$8,3,IF(C854<=C$9,4,IF(C854<=C$11,5,60))))))","v":""},{"$f":"IF(D854=\"\",\"\",IF(D854<=D$10,1,IF(D854<=D$7,2,IF(D854<=D$8,3,IF(D854<=D$9,4,IF(D854<=D$11,5,60))))))","v":""},{"$f":"IF(E854=\"\",\"\",IF(E854<=E$10,1,IF(E854<=E$7,2,IF(E854<=E$8,3,IF(E854<=E$9,4,IF(E854<=E$11,5,60))))))","v":""},{"$f":"IF(F854=\"\",\"\",IF(F854<=F$10,1,IF(F854<=F$7,2,IF(F854<=F$8,3,IF(F854<=F$9,4,IF(F854<=F$11,5,60))))))","v":""},{"$f":"IF(G854=\"\",\"\",IF(G854<=G$10,1,IF(G854<=G$7,2,IF(G854<=G$8,3,IF(G854<=G$9,4,IF(G854<=G$11,5,60))))))","v":""},{"$f":"IF(H854=\"\",\"\",IF(H854<=H$10,1,IF(H854<=H$7,2,IF(H854<=H$8,3,IF(H854<=H$9,4,IF(H854<=H$11,5,60))))))","v":""},{"$f":"IF(I854=\"\",\"\",IF(I854<=I$10,1,IF(I854<=I$7,2,IF(I854<=I$8,3,IF(I854<=I$9,4,IF(I854<=I$11,5,60))))))","v":""},{"$f":"IF(J854=\"\",\"\",IF(J854<=J$10,1,IF(J854<=J$7,2,IF(J854<=J$8,3,IF(J854<=J$9,4,IF(J854<=J$11,5,60))))))","v":""},{"$f":"IF(K854=\"\",\"\",IF(K854<=K$10,1,IF(K854<=K$7,2,IF(K854<=K$8,3,IF(K854<=K$9,4,IF(K854<=K$11,5,60))))))","v":""},{"$f":"IF(L854=\"\",\"\",IF(L854<=L$10,1,IF(L854<=L$7,2,IF(L854<=L$8,3,IF(L854<=L$9,4,IF(L854<=L$11,5,60))))))","v":""},{"$f":"IF(M854=\"\",\"\",IF(M854<=M$10,1,IF(M854<=M$7,2,IF(M854<=M$8,3,IF(M854<=M$9,4,IF(M854<=M$11,5,60))))))","v":""},{"$f":"IF(N854=\"\",\"\",IF(N854<=N$10,1,IF(N854<=N$7,2,IF(N854<=N$8,3,IF(N854<=N$9,4,IF(N854<=N$11,5,60))))))","v":""},{"$f":"IF(A854=\"\",\"\",SUM(S854:AD854))","v":""},"",{"$f":"IF(AF854=\"\",\"\",IF(AF854<=1,\"Lower Outlier\",IF(AF854<=2,\"Below Average\",IF(AF854<=3,\"Lower Quartile\",IF(AF854<=4,\"Upper Quartile\",IF(AF854<=5, \"Above Average\", \"Upper Outlier\"))))))","v":""},{"$f":"IF(C$18=1,C854,\"\")","v":""},{"$f":"IF(D$18=1,IF(D854=\"\",IF(AH854=\"\",\"\",AH854),IF(AND(D854>=0,AH854=\"\"),D854,IF(ISERROR(D854+AH854),#N/A,D854+AH854))),\"\")","v":""},{"$f":"IF(E$18=1,IF(E854=\"\",IF(AI854=\"\",\"\",AI854),IF(AND(E854>=0,AI854=\"\"),E854,IF(ISERROR(E854+AI854),#N/A,E854+AI854))),\"\")","v":""},{"$f":"IF(F$18=1,IF(F854=\"\",IF(AJ854=\"\",\"\",AJ854),IF(AND(F854>=0,AJ854=\"\"),F854,IF(ISERROR(F854+AJ854),#N/A,F854+AJ854))),\"\")","v":""},{"$f":"IF(G$18=1,IF(G854=\"\",IF(AK854=\"\",\"\",AK854),IF(AND(G854>=0,AK854=\"\"),G854,IF(ISERROR(G854+AK854),#N/A,G854+AK854))),\"\")","v":""},{"$f":"IF(H$18=1,IF(H854=\"\",IF(AL854=\"\",\"\",AL854),IF(AND(H854>=0,AL854=\"\"),H854,IF(ISERROR(H854+AL854),#N/A,H854+AL854))),\"\")","v":""},{"$f":"IF(I$18=1,IF(I854=\"\",IF(AM854=\"\",\"\",AM854),IF(AND(I854>=0,AM854=\"\"),I854,IF(ISERROR(I854+AM854),#N/A,I854+AM854))),\"\")","v":""},{"$f":"IF(J$18=1,IF(J854=\"\",IF(AN854=\"\",\"\",AN854),IF(AND(J854>=0,AN854=\"\"),J854,IF(ISERROR(J854+AN854),#N/A,J854+AN854))),\"\")","v":""},{"$f":"IF(K$18=1,IF(K854=\"\",IF(AO854=\"\",\"\",AO854),IF(AND(K854>=0,AO854=\"\"),K854,IF(ISERROR(K854+AO854),#N/A,K854+AO854))),\"\")","v":""},{"$f":"IF(L$18=1,IF(L854=\"\",IF(AP854=\"\",\"\",AP854),IF(AND(L854>=0,AP854=\"\"),L854,IF(ISERROR(L854+AP854),#N/A,L854+AP854))),\"\")","v":""},{"$f":"IF(M$18=1,IF(M854=\"\",IF(AQ854=\"\",\"\",AQ854),IF(AND(M854>=0,AQ854=\"\"),M854,IF(ISERROR(M854+AQ854),#N/A,M854+AQ854))),\"\")","v":""},{"$f":"IF(N$18=1,IF(N854=\"\",IF(AR854=\"\",\"\",AR854),IF(AND(N854>=0,AR854=\"\"),N854,IF(ISERROR(N854+AR854),#N/A,N854+AR854))),\"\")","v":""},{"$f":"IF(A854=\"\",\"\",MAX(AH854:AS854))","v":""},"","","","","","","","","","","","",{"$f":"IF(A854=\"\",\"\",MAX(IF(ISERROR(AU854:BF854),0,AU854:BF854)))","v":""},"","","","","","","","","","","","",{"$f":"IF(A854=\"\",\"\",SUM(BH854:BS854))","v":""},{"$f":"IF(A854=\"\",\"\",MIN(B854:M854))","v":""},{"$f":"IF(A854=\"\",\"\",MAX(B854:M854))","v":""},{"$f":"IF(A854=\"\",\"\",IF(BV854-BU854=0,\"\",BV854-BU854))","v":""},{"$f":"IF(A854=\"\",\"\",IF(BW854=\"\",\"No\",IF(BW854>$BW$11,\"Yes\",\"No\")))","v":""},{"$f":"IF(A854=\"\",\"\",(COUNTA(C854:N854)-COUNTBLANK(C854:N854)))","v":""},{"$f":"IF(A854=\"\",\"\",BY854-COUNTIF(C854:N854,\"=0\"))","v":""}]
[{"$f":"IF(ISBLANK('Control Sheet'!D835),\"\",'Control Sheet'!D835)","v":""},{"$f":"IF(ISBLANK('Control Sheet'!E835),\"\",'Control Sheet'!E835&\" (\"&'Control Sheet'!F835&\")\")","v":""},"","","","","","","","","","","","","",null,"","","","","","","","","","","","","","","","","","","","","","","","","","","","","","","","","","","","","","","","","","",{"$f":"IF(A855=\"\",\"\",MAX(IF(ISERROR(AU855:BF855),0,AU855:BF855)))","v":""},"","","","","","","","","","","","","","","","","","",""]
[{"$f":"IF(ISBLANK('Control Sheet'!D836),\"\",'Control Sheet'!D836)","v":""},{"$f":"IF(ISBLANK('Control Sheet'!E836),\"\",'Control Sheet'!E836&\" (\"&'Control Sheet'!F836&\")\")","v":""},"","","","","","","","","","","","","",null,"","","","","","","","","","","","","","","","","","","","","","","","","","","","","","","","","","","","","","","","","","",{"$f":"IF(A856=\"\",\"\",MAX(IF(ISERROR(AU856:BF856),0,AU856:BF856)))","v":""},"","","","","","","","","","","","","","","","","","",""]
[{"$f":"IF(ISBLANK('Control Sheet'!D837),\"\",'Control Sheet'!D837)","v":""},{"$f":"IF(ISBLANK('Control Sheet'!E837),\"\",'Control Sheet'!E837&\" (\"&'Control Sheet'!F837&\")\")","v":""},"","","","","","","","","","","","","",null,"","","","","","","","","","","","","","","","","","","","","","","","","","","","","","","","","","","","","","","","","","",{"$f":"IF(A857=\"\",\"\",MAX(IF(ISERROR(AU857:BF857),0,AU857:BF857)))","v":""},"","","","","","","","","","","","","","","","","","",""]
[{"$f":"IF(ISBLANK('Control Sheet'!D838),\"\",'Control Sheet'!D838)","v":""},{"$f":"IF(ISBLANK('Control Sheet'!E838),\"\",'Control Sheet'!E838&\" (\"&'Control Sheet'!F838&\")\")","v":""},"","","","","","","","","","","","","",null,"","","","","","","","","","","","","","","","","","","","","","","","","","","","","","","","","","","","","","","","","","",{"$f":"IF(A858=\"\",\"\",MAX(IF(ISERROR(AU858:BF858),0,AU858:BF858)))","v":""},"","","","","","","","","","","","","","","","","","",""]
[{"$f":"IF(ISBLANK('Control Sheet'!D839),\"\",'Control Sheet'!D839)","v":""},{"$f":"IF(ISBLANK('Control Sheet'!E839),\"\",'Control Sheet'!E839&\" (\"&'Control Sheet'!F839&\")\")","v":""},"","","","","","","","","","","","","",null,"","","","","","","","","","","","","","","","","","","","","","","","","","","","","","","","","","","","","","","","","","",{"$f":"IF(A859=\"\",\"\",MAX(IF(ISERROR(AU859:BF859),0,AU859:BF859)))","v":""},"","","","","","","","","","","","","","","","","","",""]
[{"$f":"IF(ISBLANK('Control Sheet'!D840),\"\",'Control Sheet'!D840)","v":""},{"$f":"IF(ISBLANK('Control Sheet'!E840),\"\",'Control Sheet'!E840&\" (\"&'Control Sheet'!F840&\")\")","v":""},"","","","","","","","","","","","","",null,"","","","","","","","","","","","","","","","","","","","","","","","","","","","","","","","","","","","","","","","","","",{"$f":"IF(A860=\"\",\"\",MAX(IF(ISERROR(AU860:BF860),0,AU860:BF860)))","v":""},"","","","","","","","","","","","","","","","","","",""]
[{"$f":"IF(ISBLANK('Control Sheet'!D841),\"\",'Control Sheet'!D841)","v":""},{"$f":"IF(ISBLANK('Control Sheet'!E841),\"\",'Control Sheet'!E841&\" (\"&'Control Sheet'!F841&\")\")","v":""},{"$f":"IF(C$18=1,IF(ISNA(VLOOKUP($A861,INDIRECT(C$20),OOPE_col,FALSE)),\"\",VLOOKUP($A861,INDIRECT(C$20),OOPE_col,FALSE)),\"\")","v":""},"","","","","","","","","","","","",null,"","","","","","","","","","","","","","","","","","","","","","","","","","","","","","","","","","","","","","","","","","",{"$f":"IF(A861=\"\",\"\",MAX(IF(ISERROR(AU861:BF861),0,AU861:BF861)))","v":""},"","","","","","","","","","","","","","","","","","",""]
[{"$f":"IF(ISBLANK('Control Sheet'!D842),\"\",'Control Sheet'!D842)","v":""},{"$f":"IF(ISBLANK('Control Sheet'!E842),\"\",'Control Sheet'!E842&\" (\"&'Control Sheet'!F842&\")\")","v":""},"","","","","","","","","","","","","",null,"","","","","","","","","","","","","","","","","","","","","","","","","","","","","","","","","","","","","","","","","","",{"$f":"IF(A862=\"\",\"\",MAX(IF(ISERROR(AU862:BF862),0,AU862:BF862)))","v":""},"","","","","","","","","","","","","","","","","","",""]
[{"$f":"IF(ISBLANK('Control Sheet'!D843),\"\",'Control Sheet'!D843)","v":""},{"$f":"IF(ISBLANK('Control Sheet'!E843),\"\",'Control Sheet'!E843&\" (\"&'Control Sheet'!F843&\")\")","v":""},"","","","","","","","","","","","","",null,"","","","","","","","","","","","","","","","","","","","","","","","","","","","","","","","","","","","","","","","","","",{"$f":"IF(A863=\"\",\"\",MAX(IF(ISERROR(AU863:BF863),0,AU863:BF863)))","v":""},"","","","","","","","","","","","","","","","","","",""]
[{"$f":"IF(ISBLANK('Control Sheet'!D844),\"\",'Control Sheet'!D844)","v":""},{"$f":"IF(ISBLANK('Control Sheet'!E844),\"\",'Control Sheet'!E844&\" (\"&'Control Sheet'!F844&\")\")","v":""},"","","","","","","","","","","","","",null,"","","","","","","","","","","","","","","","","","","","","","","","","","","","","","","","","","","","","","","","","","",{"$f":"IF(A864=\"\",\"\",MAX(IF(ISERROR(AU864:BF864),0,AU864:BF864)))","v":""},"","","","","","","","","","","","","","","","","","",""]
[{"$f":"IF(ISBLANK('Control Sheet'!D845),\"\",'Control Sheet'!D845)","v":""},{"$f":"IF(ISBLANK('Control Sheet'!E845),\"\",'Control Sheet'!E845&\" (\"&'Control Sheet'!F845&\")\")","v":""},"","","","","","","","","","","","","",null,"","","","","","","","","","","","","","","","","","","","","","","","","","","","","","","","","","","","","","","","","","",{"$f":"IF(A865=\"\",\"\",MAX(IF(ISERROR(AU865:BF865),0,AU865:BF865)))","v":""},"","","","","","","","","","","","","","","","","","",""]
[{"$f":"IF(ISBLANK('Control Sheet'!D846),\"\",'Control Sheet'!D846)","v":""},{"$f":"IF(ISBLANK('Control Sheet'!E846),\"\",'Control Sheet'!E846&\" (\"&'Control Sheet'!F846&\")\")","v":""},"","","","","","","","","","","","","",null,"","","","","","","","","","","","","","","","","","","","","","","","","","","","","","","","","","","","","","","","","","",{"$f":"IF(A866=\"\",\"\",MAX(IF(ISERROR(AU866:BF866),0,AU866:BF866)))","v":""},"","","","","","","","","","","","","","","","","","",""]
[{"$f":"IF(ISBLANK('Control Sheet'!D847),\"\",'Control Sheet'!D847)","v":""},{"$f":"IF(ISBLANK('Control Sheet'!E847),\"\",'Control Sheet'!E847&\" (\"&'Control Sheet'!F847&\")\")","v":""},"","","","","","","","","","","","","",null,"","","","","","","","","","","","","","","","","","","","","","","","","","","","","","","","","","","","","","","","","","",{"$f":"IF(A867=\"\",\"\",MAX(IF(ISERROR(AU867:BF867),0,AU867:BF867)))","v":""},"","","","","","","","","","","","","","","","","","",""]
[{"$f":"IF(ISBLANK('Control Sheet'!D848),\"\",'Control Sheet'!D848)","v":""},{"$f":"IF(ISBLANK('Control Sheet'!E848),\"\",'Control Sheet'!E848&\" (\"&'Control Sheet'!F848&\")\")","v":""},"","","","","","","","","","","","","",null,"","","","","","","","","","","","","","","","","","","","","","","","","","","","","","","","","","","","","","","","","","",{"$f":"IF(A868=\"\",\"\",MAX(IF(ISERROR(AU868:BF868),0,AU868:BF868)))","v":""},"","","","","","","","","","","","","","","","","","",""]
[{"$f":"IF(ISBLANK('Control Sheet'!D849),\"\",'Control Sheet'!D849)","v":""},{"$f":"IF(ISBLANK('Control Sheet'!E849),\"\",'Control Sheet'!E849&\" (\"&'Control Sheet'!F849&\")\")","v":""},"","","","","","","","","","","","","",null,"","","","","","","","","","","","","","","","","","","","","","","","","","","","","","","","","","","","","","","","","","",{"$f":"IF(A869=\"\",\"\",MAX(IF(ISERROR(AU869:BF869),0,AU869:BF869)))","v":""},"","","","","","","","","","","","","","","","","","",""]
[{"$f":"IF(ISBLANK('Control Sheet'!D850),\"\",'Control Sheet'!D850)","v":""},{"$f":"IF(ISBLANK('Control Sheet'!E850),\"\",'Control Sheet'!E850&\" (\"&'Control Sheet'!F850&\")\")","v":""},"","","","","","","","","","","","","",null,"","","","","","","","","","","","","","","","","","","","","","","","","","","","","","","","","","","","","","","","","","",{"$f":"IF(A870=\"\",\"\",MAX(IF(ISERROR(AU870:BF870),0,AU870:BF870)))","v":""},"","","","","","","","","","","","","","","","","","",""]
[{"$f":"IF(ISBLANK('Control Sheet'!D851),\"\",'Control Sheet'!D851)","v":""},{"$f":"IF(ISBLANK('Control Sheet'!E851),\"\",'Control Sheet'!E851&\" (\"&'Control Sheet'!F851&\")\")","v":""},{"$f":"IF(C$18=1,IF(ISNA(VLOOKUP($A871,INDIRECT(C$20),OOPE_col,FALSE)),\"\",VLOOKUP($A871,INDIRECT(C$20),OOPE_col,FALSE)),\"\")","v":""},"","","","","","","","","","","","",null,"","","","","","","","","","","","","","","","","","","","","","","","","","","","","","","","","","","","","","","","","","",{"$f":"IF(A871=\"\",\"\",MAX(IF(ISERROR(AU871:BF871),0,AU871:BF871)))","v":""},"","","","","","","","","","","","","","","","","","",""]
[{"$f":"IF(ISBLANK('Control Sheet'!D852),\"\",'Control Sheet'!D852)","v":""},{"$f":"IF(ISBLANK('Control Sheet'!E852),\"\",'Control Sheet'!E852&\" (\"&'Control Sheet'!F852&\")\")","v":""},"","","","","","","","","","","","","",null,"","","","","","","","","","","","","","","","","","","","","","","","","","","","","","","","","","","","","","","","","","",{"$f":"IF(A872=\"\",\"\",MAX(IF(ISERROR(AU872:BF872),0,AU872:BF872)))","v":""},"","","","","","","","","","","","","","","","","","",""]
[{"$f":"IF(ISBLANK('Control Sheet'!D853),\"\",'Control Sheet'!D853)","v":""},{"$f":"IF(ISBLANK('Control Sheet'!E853),\"\",'Control Sheet'!E853&\" (\"&'Control Sheet'!F853&\")\")","v":""},"","","","","","","","","","","","","",null,"","","","","","","","","","","","","","","","","","","","","","","","","","","","","","","","","","","","","","","","","","",{"$f":"IF(A873=\"\",\"\",MAX(IF(ISERROR(AU873:BF873),0,AU873:BF873)))","v":""},"","","","","","","","","","","","","","","","","","",""]
[{"$f":"IF(ISBLANK('Control Sheet'!D854),\"\",'Control Sheet'!D854)","v":""},{"$f":"IF(ISBLANK('Control Sheet'!E854),\"\",'Control Sheet'!E854&\" (\"&'Control Sheet'!F854&\")\")","v":""},"","","","","","","","","","","","","",null,"","","","","","","","","","","","","","","","","","","","","","","","","","","","","","","","","","","","","","","","","","",{"$f":"IF(A874=\"\",\"\",MAX(IF(ISERROR(AU874:BF874),0,AU874:BF874)))","v":""},"","","","","","","","","","","","","","","","","","",""]
[{"$f":"IF(ISBLANK('Control Sheet'!D855),\"\",'Control Sheet'!D855)","v":""},{"$f":"IF(ISBLANK('Control Sheet'!E855),\"\",'Control Sheet'!E855&\" (\"&'Control Sheet'!F855&\")\")","v":""},"","","","","","","","","","","","","",null,"","","","","","","","","","","","","","","","","","","","","","","","","","","","","","","","","","","","","","","","","","",{"$f":"IF(A875=\"\",\"\",MAX(IF(ISERROR(AU875:BF875),0,AU875:BF875)))","v":""},"","","","","","","","","","","","","","","","","","",""]
[{"$f":"IF(ISBLANK('Control Sheet'!D856),\"\",'Control Sheet'!D856)","v":""},{"$f":"IF(ISBLANK('Control Sheet'!E856),\"\",'Control Sheet'!E856&\" (\"&'Control Sheet'!F856&\")\")","v":""},"","","","","","","","","","","","","",null,"","","","","","","","","","","","","","","","","","","","","","","","","","","","","","","","","","","","","","","","","","",{"$f":"IF(A876=\"\",\"\",MAX(IF(ISERROR(AU876:BF876),0,AU876:BF876)))","v":""},"","","","","","","","","","","","","","","","","","",""]
[{"$f":"IF(ISBLANK('Control Sheet'!D857),\"\",'Control Sheet'!D857)","v":""},{"$f":"IF(ISBLANK('Control Sheet'!E857),\"\",'Control Sheet'!E857&\" (\"&'Control Sheet'!F857&\")\")","v":""},"","","","","","","","","","","","","",null,"","","","","","","","","","","","","","","","","","","","","","","","","","","","","","","","","","","","","","","","","","",{"$f":"IF(A877=\"\",\"\",MAX(IF(ISERROR(AU877:BF877),0,AU877:BF877)))","v":""},"","","","","","","","","","","","","","","","","","",""]
[{"$f":"IF(ISBLANK('Control Sheet'!D858),\"\",'Control Sheet'!D858)","v":""},{"$f":"IF(ISBLANK('Control Sheet'!E858),\"\",'Control Sheet'!E858&\" (\"&'Control Sheet'!F858&\")\")","v":""},"","","","","","","","","","","","","",null,"","","","","","","","","","","","","","","","","","","","","","","","","","","","","","","","","","","","","","","","","","",{"$f":"IF(A878=\"\",\"\",MAX(IF(ISERROR(AU878:BF878),0,AU878:BF878)))","v":""},"","","","","","","","","","","","","","","","","","",""]
[{"$f":"IF(ISBLANK('Control Sheet'!D859),\"\",'Control Sheet'!D859)","v":""},{"$f":"IF(ISBLANK('Control Sheet'!E859),\"\",'Control Sheet'!E859&\" (\"&'Control Sheet'!F859&\")\")","v":""},"","","","","","","","","","","","","",null,"","","","","","","","","","","","","","","","","","","","","","","","","","","","","","","","","","","","","","","","","","",{"$f":"IF(A879=\"\",\"\",MAX(IF(ISERROR(AU879:BF879),0,AU879:BF879)))","v":""},"","","","","","","","","","","","","","","","","","",""]
[{"$f":"IF(ISBLANK('Control Sheet'!D860),\"\",'Control Sheet'!D860)","v":""},{"$f":"IF(ISBLANK('Control Sheet'!E860),\"\",'Control Sheet'!E860&\" (\"&'Control Sheet'!F860&\")\")","v":""},"","","","","","","","","","","","","",null,"","","","","","","","","","","","","","","","","","","","","","","","","","","","","","","","","","","","","","","","","","",{"$f":"IF(A880=\"\",\"\",MAX(IF(ISERROR(AU880:BF880),0,AU880:BF880)))","v":""},"","","","","","","","","","","","","","","","","","",""]
[{"$f":"IF(ISBLANK('Control Sheet'!D861),\"\",'Control Sheet'!D861)","v":""},{"$f":"IF(ISBLANK('Control Sheet'!E861),\"\",'Control Sheet'!E861&\" (\"&'Control Sheet'!F861&\")\")","v":""},{"$f":"IF(C$18=1,IF(ISNA(VLOOKUP($A881,INDIRECT(C$20),OOPE_col,FALSE)),\"\",VLOOKUP($A881,INDIRECT(C$20),OOPE_col,FALSE)),\"\")","v":""},"","","","","","","","","","","","",null,"","","","","","","","","","","","","","","","","","","","","","","","","","","","","","","","","","","","","","","","","","",{"$f":"IF(A881=\"\",\"\",MAX(IF(ISERROR(AU881:BF881),0,AU881:BF881)))","v":""},"","","","","","","","","","","","","","","","","","",""]
[{"$f":"IF(ISBLANK('Control Sheet'!D862),\"\",'Control Sheet'!D862)","v":""},{"$f":"IF(ISBLANK('Control Sheet'!E862),\"\",'Control Sheet'!E862&\" (\"&'Control Sheet'!F862&\")\")","v":""},"","","","","","","","","","","","","",null,"","","","","","","","","","","","","","","","","","","","","","","","","","","","","","","","","","","","","","","","","","",{"$f":"IF(A882=\"\",\"\",MAX(IF(ISERROR(AU882:BF882),0,AU882:BF882)))","v":""},"","","","","","","","","","","","","","","","","","",""]
[{"$f":"IF(ISBLANK('Control Sheet'!D863),\"\",'Control Sheet'!D863)","v":""},{"$f":"IF(ISBLANK('Control Sheet'!E863),\"\",'Control Sheet'!E863&\" (\"&'Control Sheet'!F863&\")\")","v":""},"","","","","","","","","","","","","",null,"","","","","","","","","","","","","","","","","","","","","","","","","","","","","","","","","","","","","","","","","","",{"$f":"IF(A883=\"\",\"\",MAX(IF(ISERROR(AU883:BF883),0,AU883:BF883)))","v":""},"","","","","","","","","","","","","","","","","","",""]
[{"$f":"IF(ISBLANK('Control Sheet'!D864),\"\",'Control Sheet'!D864)","v":""},{"$f":"IF(ISBLANK('Control Sheet'!E864),\"\",'Control Sheet'!E864&\" (\"&'Control Sheet'!F864&\")\")","v":""},"","","","","","","","","","","","","",null,"","","","","","","","","","","","","","","",{"$f":"IF(OR(A884=\"\",AE884=0),\"\",AE884/(O$18-R726))","v":""},"","","","","","","","","","","","","","","","","","","","","","","","","","",{"$f":"IF(A884=\"\",\"\",MAX(IF(ISERROR(AU884:BF884),0,AU884:BF884)))","v":""},"","","","","","","","","","","","","","","","","","",""]
[{"$f":"IF(ISBLANK('Control Sheet'!D865),\"\",'Control Sheet'!D865)","v":""},{"$f":"IF(ISBLANK('Control Sheet'!E865),\"\",'Control Sheet'!E865&\" (\"&'Control Sheet'!F865&\")\")","v":""},"","","","","","","","","","","","","",null,"","","","","","","","","","","","","","","","","","","","","","","","","","","","","","","","","","","","","","","","","","",{"$f":"IF(A885=\"\",\"\",MAX(IF(ISERROR(AU885:BF885),0,AU885:BF885)))","v":""},"","","","","","","","","","","","","","","","","","",""]
[{"$f":"IF(ISBLANK('Control Sheet'!D866),\"\",'Control Sheet'!D866)","v":""},{"$f":"IF(ISBLANK('Control Sheet'!E866),\"\",'Control Sheet'!E866&\" (\"&'Control Sheet'!F866&\")\")","v":""},"","","","","","","","","","","","","",null,"","","","","","","","","","","","","","","","","","","","","","","","","","","","","","","","","","","","","","","","","","",{"$f":"IF(A886=\"\",\"\",MAX(IF(ISERROR(AU886:BF886),0,AU886:BF886)))","v":""},"","","","","","","","","","","","","","","","","","",""]
[{"$f":"IF(ISBLANK('Control Sheet'!D867),\"\",'Control Sheet'!D867)","v":""},{"$f":"IF(ISBLANK('Control Sheet'!E867),\"\",'Control Sheet'!E867&\" (\"&'Control Sheet'!F867&\")\")","v":""},"","","","","","","","","","","","","",null,"","","","","","","","","","","","","","","","","","","","","","","","","","","","","","","","","","","","","","","","","","",{"$f":"IF(A887=\"\",\"\",MAX(IF(ISERROR(AU887:BF887),0,AU887:BF887)))","v":""},"","","","","","","","","","","","","","","","","","",""]
[{"$f":"IF(ISBLANK('Control Sheet'!D868),\"\",'Control Sheet'!D868)","v":""},{"$f":"IF(ISBLANK('Control Sheet'!E868),\"\",'Control Sheet'!E868&\" (\"&'Control Sheet'!F868&\")\")","v":""},"","","","","","","","","","","","","",null,"","","","","","","","","","","","","","","","","","","","","","","","","","","","","","","","","","","","","","","","","","",{"$f":"IF(A888=\"\",\"\",MAX(IF(ISERROR(AU888:BF888),0,AU888:BF888)))","v":""},"","","","","","","","","","","","","","","","","","",""]
[{"$f":"IF(ISBLANK('Control Sheet'!D869),\"\",'Control Sheet'!D869)","v":""},{"$f":"IF(ISBLANK('Control Sheet'!E869),\"\",'Control Sheet'!E869&\" (\"&'Control Sheet'!F869&\")\")","v":""},"","","","","","","","","","","","","",null,"","","","","","","","","","","","","","","","","","","","","","","","","","","","","","","","","","","","","","","","","","",{"$f":"IF(A889=\"\",\"\",MAX(IF(ISERROR(AU889:BF889),0,AU889:BF889)))","v":""},"","","","","","","","","","","","","","","","","","",""]
[{"$f":"IF(ISBLANK('Control Sheet'!D870),\"\",'Control Sheet'!D870)","v":""},{"$f":"IF(ISBLANK('Control Sheet'!E870),\"\",'Control Sheet'!E870&\" (\"&'Control Sheet'!F870&\")\")","v":""},"","","","","","","","","","","","","",null,"","","","","","","","","","","","","","","","","","","","","","","","","","","","","","","","","","","","","","","","","","",{"$f":"IF(A890=\"\",\"\",MAX(IF(ISERROR(AU890:BF890),0,AU890:BF890)))","v":""},"","","","","","","","","","","","","","","","","","",""]
[{"$f":"IF(ISBLANK('Control Sheet'!D871),\"\",'Control Sheet'!D871)","v":""},{"$f":"IF(ISBLANK('Control Sheet'!E871),\"\",'Control Sheet'!E871&\" (\"&'Control Sheet'!F871&\")\")","v":""},{"$f":"IF(C$18=1,IF(ISNA(VLOOKUP($A891,INDIRECT(C$20),OOPE_col,FALSE)),\"\",VLOOKUP($A891,INDIRECT(C$20),OOPE_col,FALSE)),\"\")","v":""},"","","","","","","","","","","","",null,"","","","","","","","","","","","","","","","","","","","","","","","","","","","","","","","","","","","","","","","","","",{"$f":"IF(A891=\"\",\"\",MAX(IF(ISERROR(AU891:BF891),0,AU891:BF891)))","v":""},"","","","","","","","","","","","","","","","","","",""]
[{"$f":"IF(ISBLANK('Control Sheet'!D872),\"\",'Control Sheet'!D872)","v":""},{"$f":"IF(ISBLANK('Control Sheet'!E872),\"\",'Control Sheet'!E872&\" (\"&'Control Sheet'!F872&\")\")","v":""},"","","","","","","","","","","","","",null,"","","","","","","","","","","","","","","","","","","","","","","","","","","","","","","","","","","","","","","","","","",{"$f":"IF(A892=\"\",\"\",MAX(IF(ISERROR(AU892:BF892),0,AU892:BF892)))","v":""},"","","","","","","","","","","","","","","","","","",""]
[{"$f":"IF(ISBLANK('Control Sheet'!D873),\"\",'Control Sheet'!D873)","v":""},{"$f":"IF(ISBLANK('Control Sheet'!E873),\"\",'Control Sheet'!E873&\" (\"&'Control Sheet'!F873&\")\")","v":""},"","","","","","","","","","","","","",null,"","","","","","","","","","","","","","","","","","","","","","","","","","","","","","","","","","","","","","","","","","",{"$f":"IF(A893=\"\",\"\",MAX(IF(ISERROR(AU893:BF893),0,AU893:BF893)))","v":""},"","","","","","","","","","","","","","","","","","",""]
[{"$f":"IF(ISBLANK('Control Sheet'!D874),\"\",'Control Sheet'!D874)","v":""},{"$f":"IF(ISBLANK('Control Sheet'!E874),\"\",'Control Sheet'!E874&\" (\"&'Control Sheet'!F874&\")\")","v":""},"","","","","","","","","","","","","",null,"","","","","","","","","","","","","","","","","","","","","","","","","","","","","","","","","","","","","","","","","","",{"$f":"IF(A894=\"\",\"\",MAX(IF(ISERROR(AU894:BF894),0,AU894:BF894)))","v":""},"","","","","","","","","","","","","","","","","","",""]
[{"$f":"IF(ISBLANK('Control Sheet'!D875),\"\",'Control Sheet'!D875)","v":""},{"$f":"IF(ISBLANK('Control Sheet'!E875),\"\",'Control Sheet'!E875&\" (\"&'Control Sheet'!F875&\")\")","v":""},"","","","","","","","","","","","","",null,"","","","","","","","","","","","","","","","","","","","","","","","","","","","","","","","","","","","","","","","","","",{"$f":"IF(A895=\"\",\"\",MAX(IF(ISERROR(AU895:BF895),0,AU895:BF895)))","v":""},"","","","","","","","","","","","","","","","","","",""]
[{"$f":"IF(ISBLANK('Control Sheet'!D876),\"\",'Control Sheet'!D876)","v":""},{"$f":"IF(ISBLANK('Control Sheet'!E876),\"\",'Control Sheet'!E876&\" (\"&'Control Sheet'!F876&\")\")","v":""},"","","","","","","","","","","","","",null,"","","","","","","","","","","","","","","","","","","","","","","","","","","","","","","","","","","","","","","","","","",{"$f":"IF(A896=\"\",\"\",MAX(IF(ISERROR(AU896:BF896),0,AU896:BF896)))","v":""},"","","","","","","","","","","","","","","","","","",""]
[{"$f":"IF(ISBLANK('Control Sheet'!D877),\"\",'Control Sheet'!D877)","v":""},{"$f":"IF(ISBLANK('Control Sheet'!E877),\"\",'Control Sheet'!E877&\" (\"&'Control Sheet'!F877&\")\")","v":""},"","","","","","","","","","","","","",null,"","","","","","","","","","","","","","","","","","","","","","","","","","","","","","","","","","","","","","","","","","",{"$f":"IF(A897=\"\",\"\",MAX(IF(ISERROR(AU897:BF897),0,AU897:BF897)))","v":""},"","","","","","","","","","","","","","","","","","",""]
[{"$f":"IF(ISBLANK('Control Sheet'!D878),\"\",'Control Sheet'!D878)","v":""},{"$f":"IF(ISBLANK('Control Sheet'!E878),\"\",'Control Sheet'!E878&\" (\"&'Control Sheet'!F878&\")\")","v":""},"","","","","","","","","","","","","",null,"","","","","","","","","","","","","","","","","","","","","","","","","","","","","","","","","","","","","","","","","","",{"$f":"IF(A898=\"\",\"\",MAX(IF(ISERROR(AU898:BF898),0,AU898:BF898)))","v":""},"","","","","","","","","","","","","","","","","","",""]
[{"$f":"IF(ISBLANK('Control Sheet'!D879),\"\",'Control Sheet'!D879)","v":""},{"$f":"IF(ISBLANK('Control Sheet'!E879),\"\",'Control Sheet'!E879&\" (\"&'Control Sheet'!F879&\")\")","v":""},"","","","","","","","","","","","","",null,"","","","","","","","","","","","","","","","","","","","","","","","","","","","","","","","","","","","","","","","","","",{"$f":"IF(A899=\"\",\"\",MAX(IF(ISERROR(AU899:BF899),0,AU899:BF899)))","v":""},"","","","","","","","","","","","","","","","","","",""]
[{"$f":"IF(ISBLANK('Control Sheet'!D880),\"\",'Control Sheet'!D880)","v":""},{"$f":"IF(ISBLANK('Control Sheet'!E880),\"\",'Control Sheet'!E880&\" (\"&'Control Sheet'!F880&\")\")","v":""},"","","","","","","","","","","","","",null,"","","","","","","","","","","","","","","","","","","","","","","","","","","","","","","","","","","","","","","","","","",{"$f":"IF(A900=\"\",\"\",MAX(IF(ISERROR(AU900:BF900),0,AU900:BF900)))","v":""},"","","","","","","","","","","","","","","","","","",""]
[{"$f":"IF(ISBLANK('Control Sheet'!D881),\"\",'Control Sheet'!D881)","v":""},{"$f":"IF(ISBLANK('Control Sheet'!E881),\"\",'Control Sheet'!E881&\" (\"&'Control Sheet'!F881&\")\")","v":""},{"$f":"IF(C$18=1,IF(ISNA(VLOOKUP($A901,INDIRECT(C$20),OOPE_col,FALSE)),\"\",VLOOKUP($A901,INDIRECT(C$20),OOPE_col,FALSE)),\"\")","v":""},"","","","","","","","","","","","",null,"","","","","","","","","","","","","","","","","","","","","","","","","","","","","","","","","","","","","","","","","","",{"$f":"IF(A901=\"\",\"\",MAX(IF(ISERROR(AU901:BF901),0,AU901:BF901)))","v":""},"","","","","","","","","","","","","","","","","","",""]
[{"$f":"IF(ISBLANK('Control Sheet'!D882),\"\",'Control Sheet'!D882)","v":""},{"$f":"IF(ISBLANK('Control Sheet'!E882),\"\",'Control Sheet'!E882&\" (\"&'Control Sheet'!F882&\")\")","v":""},"","","","","","","","","","","","","",null,"","","","","","","","","","","","","","","","","","","","","","","","","","","","","","","","","","","","","","","","","","",{"$f":"IF(A902=\"\",\"\",MAX(IF(ISERROR(AU902:BF902),0,AU902:BF902)))","v":""},"","","","","","","","","","","","","","","","","","",""]
[{"$f":"IF(ISBLANK('Control Sheet'!D883),\"\",'Control Sheet'!D883)","v":""},{"$f":"IF(ISBLANK('Control Sheet'!E883),\"\",'Control Sheet'!E883&\" (\"&'Control Sheet'!F883&\")\")","v":""},"","","","","","","","","","","","","",null,"","","","","","","","","","","","","","","","","","","","","","","","","","","","","","","","","","","","","","","","","","",{"$f":"IF(A903=\"\",\"\",MAX(IF(ISERROR(AU903:BF903),0,AU903:BF903)))","v":""},"","","","","","","","","","","","","","","","","","",""]
[{"$f":"IF(ISBLANK('Control Sheet'!D884),\"\",'Control Sheet'!D884)","v":""},{"$f":"IF(ISBLANK('Control Sheet'!E884),\"\",'Control Sheet'!E884&\" (\"&'Control Sheet'!F884&\")\")","v":""},"","","","","","","","","","","","","",null,"","","","","","","","","","","","","","","","","","","","","","","","","","","","","","","","","","","","","","","","","","",{"$f":"IF(A904=\"\",\"\",MAX(IF(ISERROR(AU904:BF904),0,AU904:BF904)))","v":""},"","","","","","","","","","","","","","","","","","",""]
[{"$f":"IF(ISBLANK('Control Sheet'!D885),\"\",'Control Sheet'!D885)","v":""},{"$f":"IF(ISBLANK('Control Sheet'!E885),\"\",'Control Sheet'!E885&\" (\"&'Control Sheet'!F885&\")\")","v":""},"","","","","","","","","","","","","",null,"","","","","","","","","","","","","","","","","","","","","","","","","","","","","","","","","","","","","","","","","","",{"$f":"IF(A905=\"\",\"\",MAX(IF(ISERROR(AU905:BF905),0,AU905:BF905)))","v":""},"","","","","","","","","","","","","","","","","","",""]
[{"$f":"IF(ISBLANK('Control Sheet'!D886),\"\",'Control Sheet'!D886)","v":""},{"$f":"IF(ISBLANK('Control Sheet'!E886),\"\",'Control Sheet'!E886&\" (\"&'Control Sheet'!F886&\")\")","v":""},"","","","","","","","","","","","","",null,"","","","","","","","","","","","","","","","","","","","","","","","","","","","","","","","","","","","","","","","","","",{"$f":"IF(A906=\"\",\"\",MAX(IF(ISERROR(AU906:BF906),0,AU906:BF906)))","v":""},"","","","","","","","","","","","","","","","","","",""]
[{"$f":"IF(ISBLANK('Control Sheet'!D887),\"\",'Control Sheet'!D887)","v":""},{"$f":"IF(ISBLANK('Control Sheet'!E887),\"\",'Control Sheet'!E887&\" (\"&'Control Sheet'!F887&\")\")","v":""},"","","","","","","","","","","","","",null,"","","","","","","","","","","","","","","","","","","","","","","","","","","","","","","","","","","","","","","","","","",{"$f":"IF(A907=\"\",\"\",MAX(IF(ISERROR(AU907:BF907),0,AU907:BF907)))","v":""},"","","","","","","","","","","","","","","","","","",""]
[{"$f":"IF(ISBLANK('Control Sheet'!D888),\"\",'Control Sheet'!D888)","v":""},{"$f":"IF(ISBLANK('Control Sheet'!E888),\"\",'Control Sheet'!E888&\" (\"&'Control Sheet'!F888&\")\")","v":""},"","","","","","","","","","","","","",null,"","","","","","","","","","","","","","","","","","","","","","","","","","","","","","","","","","","","","","","","","","",{"$f":"IF(A908=\"\",\"\",MAX(IF(ISERROR(AU908:BF908),0,AU908:BF908)))","v":""},"","","","","","","","","","","","","","","","","","",""]
[{"$f":"IF(ISBLANK('Control Sheet'!D889),\"\",'Control Sheet'!D889)","v":""},{"$f":"IF(ISBLANK('Control Sheet'!E889),\"\",'Control Sheet'!E889&\" (\"&'Control Sheet'!F889&\")\")","v":""},"","","","","","","","","","","","","",null,"","","","","","","","","","","","","","","","","","","","","","","","","","","","","","","","","","","","","","","","","","",{"$f":"IF(A909=\"\",\"\",MAX(IF(ISERROR(AU909:BF909),0,AU909:BF909)))","v":""},"","","","","","","","","","","","","","","","","","",""]
[{"$f":"IF(ISBLANK('Control Sheet'!D890),\"\",'Control Sheet'!D890)","v":""},{"$f":"IF(ISBLANK('Control Sheet'!E890),\"\",'Control Sheet'!E890&\" (\"&'Control Sheet'!F890&\")\")","v":""},"","","","","","","","","","","","","",null,"","","","","","","","","","","","","","","","","","","","","","","","","","","","","","","","","","","","","","","","","","",{"$f":"IF(A910=\"\",\"\",MAX(IF(ISERROR(AU910:BF910),0,AU910:BF910)))","v":""},"","","","","","","","","","","","","","","","","","",""]
[{"$f":"IF(ISBLANK('Control Sheet'!D891),\"\",'Control Sheet'!D891)","v":""},{"$f":"IF(ISBLANK('Control Sheet'!E891),\"\",'Control Sheet'!E891&\" (\"&'Control Sheet'!F891&\")\")","v":""},{"$f":"IF(C$18=1,IF(ISNA(VLOOKUP($A911,INDIRECT(C$20),OOPE_col,FALSE)),\"\",VLOOKUP($A911,INDIRECT(C$20),OOPE_col,FALSE)),\"\")","v":""},"","","","","","","","","","","","",null,"","","","","","","","","","","","","","","","","","","","","","","","","","","","","","","","","","","","","","","","","","",{"$f":"IF(A911=\"\",\"\",MAX(IF(ISERROR(AU911:BF911),0,AU911:BF911)))","v":""},"","","","","","","","","","","","","","","","","","",""]
[{"$f":"IF(ISBLANK('Control Sheet'!D892),\"\",'Control Sheet'!D892)","v":""},{"$f":"IF(ISBLANK('Control Sheet'!E892),\"\",'Control Sheet'!E892&\" (\"&'Control Sheet'!F892&\")\")","v":""},"","","","","","","","","","","","","",null,"","","","","","","","","","","","","","","","","","","","","","","","","","","","","","","","","","","","","","","","","","",{"$f":"IF(A912=\"\",\"\",MAX(IF(ISERROR(AU912:BF912),0,AU912:BF912)))","v":""},"","","","","","","","","","","","","","","","","","",""]
[{"$f":"IF(ISBLANK('Control Sheet'!D893),\"\",'Control Sheet'!D893)","v":""},{"$f":"IF(ISBLANK('Control Sheet'!E893),\"\",'Control Sheet'!E893&\" (\"&'Control Sheet'!F893&\")\")","v":""},"","","","","","","","","","","","","",null,"","","","","","","","","","","","","","","","","","","","","","","","","","","","","","","","","","","","","","","","","","",{"$f":"IF(A913=\"\",\"\",MAX(IF(ISERROR(AU913:BF913),0,AU913:BF913)))","v":""},"","","","","","","","","","","","","","","","","","",""]
[{"$f":"IF(ISBLANK('Control Sheet'!D894),\"\",'Control Sheet'!D894)","v":""},{"$f":"IF(ISBLANK('Control Sheet'!E894),\"\",'Control Sheet'!E894&\" (\"&'Control Sheet'!F894&\")\")","v":""},"","","","","","","","","","","","","",null,"","","","","","","","","","","","","","","","","","","","","","","","","","","","","","","","","","","","","","","","","","",{"$f":"IF(A914=\"\",\"\",MAX(IF(ISERROR(AU914:BF914),0,AU914:BF914)))","v":""},"","","","","","","","","","","","","","","","","","",""]
[{"$f":"IF(ISBLANK('Control Sheet'!D895),\"\",'Control Sheet'!D895)","v":""},{"$f":"IF(ISBLANK('Control Sheet'!E895),\"\",'Control Sheet'!E895&\" (\"&'Control Sheet'!F895&\")\")","v":""},"","","","","","","","","","","","","",null,"","","","","","","","","","","","","","","","","","","","","","","","","","","","","","","","","","","","","","","","","","",{"$f":"IF(A915=\"\",\"\",MAX(IF(ISERROR(AU915:BF915),0,AU915:BF915)))","v":""},"","","","","","","","","","","","","","","","","","",""]
[{"$f":"IF(ISBLANK('Control Sheet'!D896),\"\",'Control Sheet'!D896)","v":""},{"$f":"IF(ISBLANK('Control Sheet'!E896),\"\",'Control Sheet'!E896&\" (\"&'Control Sheet'!F896&\")\")","v":""},"","","","","","","","","","","","","",null,"","","","","","","","","","","","","","","","","","","","","","","","","","","","","","","","","","","","","","","","","","",{"$f":"IF(A916=\"\",\"\",MAX(IF(ISERROR(AU916:BF916),0,AU916:BF916)))","v":""},"","","","","","","","","","","","","","","","","","",""]
[{"$f":"IF(ISBLANK('Control Sheet'!D897),\"\",'Control Sheet'!D897)","v":""},{"$f":"IF(ISBLANK('Control Sheet'!E897),\"\",'Control Sheet'!E897&\" (\"&'Control Sheet'!F897&\")\")","v":""},"","","","","","","","","","","","","",null,"",{"$f":"IF(A917=\"\",\"\",OOPEMonthsPop-(COUNTA(C917:N917)-COUNTBLANK(C917:N917)))","v":""},"","","","","","","","","","","","","","","","","","","","","","","","","","","","",{"$f":"IF(OR(A917=\"\",OOPEMonthsPop=0),\"\",IF(AU$18=OOPEMonthsPop,AH917,#N/A))","v":""},{"$f":"IF(OR($A917=\"\",OOPEMonthsPop=0),\"\",IF(AV$18<OOPEMonthsPop,#N/A,IF(AV$18=OOPEMonthsPop,AI917,IF(AU917=\"\",\"\",IF(AV$18=OOPEMonthsPop+1,AU917+(AU917*VLOOKUP(OOPEMonthsPop-$R917,ForecastMult,3,FALSE)/12),AU917+AU917-AT917)))))","v":""},{"$f":"IF(OR($A917=\"\",OOPEMonthsPop=0),\"\",IF(AW$18<OOPEMonthsPop,#N/A,IF(AW$18=OOPEMonthsPop,AJ917,IF(AV917=\"\",\"\",IF(AW$18=OOPEMonthsPop+1,AV917+(AV917*VLOOKUP(OOPEMonthsPop-$R917,ForecastMult,3,FALSE)/12),AV917+AV917-AU917)))))","v":""},{"$f":"IF(OR($A917=\"\",OOPEMonthsPop=0),\"\",IF(AX$18<OOPEMonthsPop,#N/A,IF(AX$18=OOPEMonthsPop,AK917,IF(AW917=\"\",\"\",IF(AX$18=OOPEMonthsPop+1,AW917+(AW917*VLOOKUP(OOPEMonthsPop-$R917,ForecastMult,3,FALSE)/12),AW917+AW917-AV917)))))","v":""},{"$f":"IF(OR($A917=\"\",OOPEMonthsPop=0),\"\",IF(AY$18<OOPEMonthsPop,#N/A,IF(AY$18=OOPEMonthsPop,AL917,IF(AX917=\"\",\"\",IF(AY$18=OOPEMonthsPop+1,AX917+(AX917*VLOOKUP(OOPEMonthsPop-$R917,ForecastMult,3,FALSE)/12),AX917+AX917-AW917)))))","v":""},{"$f":"IF(OR($A917=\"\",OOPEMonthsPop=0),\"\",IF(AZ$18<OOPEMonthsPop,#N/A,IF(AZ$18=OOPEMonthsPop,AM917,IF(AY917=\"\",\"\",IF(AZ$18=OOPEMonthsPop+1,AY917+(AY917*VLOOKUP(OOPEMonthsPop-$R917,ForecastMult,3,FALSE)/12),AY917+AY917-AX917)))))","v":""},{"$f":"IF(OR($A917=\"\",OOPEMonthsPop=0),\"\",IF(BA$18<OOPEMonthsPop,#N/A,IF(BA$18=OOPEMonthsPop,AN917,IF(AZ917=\"\",\"\",IF(BA$18=OOPEMonthsPop+1,AZ917+(AZ917*VLOOKUP(OOPEMonthsPop-$R917,ForecastMult,3,FALSE)/12),AZ917+AZ917-AY917)))))","v":""},{"$f":"IF(OR($A917=\"\",OOPEMonthsPop=0),\"\",IF(BB$18<OOPEMonthsPop,#N/A,IF(BB$18=OOPEMonthsPop,AO917,IF(BA917=\"\",\"\",IF(BB$18=OOPEMonthsPop+1,BA917+(BA917*VLOOKUP(OOPEMonthsPop-$R917,ForecastMult,3,FALSE)/12),BA917+BA917-AZ917)))))","v":""},{"$f":"IF(OR($A917=\"\",OOPEMonthsPop=0),\"\",IF(BC$18<OOPEMonthsPop,#N/A,IF(BC$18=OOPEMonthsPop,AP917,IF(BB917=\"\",\"\",IF(BC$18=OOPEMonthsPop+1,BB917+(BB917*VLOOKUP(OOPEMonthsPop-$R917,ForecastMult,3,FALSE)/12),BB917+BB917-BA917)))))","v":""},{"$f":"IF(OR($A917=\"\",OOPEMonthsPop=0),\"\",IF(BD$18<OOPEMonthsPop,#N/A,IF(BD$18=OOPEMonthsPop,AQ917,IF(BC917=\"\",\"\",IF(BD$18=OOPEMonthsPop+1,BC917+(BC917*VLOOKUP(OOPEMonthsPop-$R917,ForecastMult,3,FALSE)/12),BC917+BC917-BB917)))))","v":""},{"$f":"IF(OR($A917=\"\",OOPEMonthsPop=0),\"\",IF(BE$18<OOPEMonthsPop,#N/A,IF(BE$18=OOPEMonthsPop,AR917,IF(BD917=\"\",\"\",IF(BE$18=OOPEMonthsPop+1,BD917+(BD917*VLOOKUP(OOPEMonthsPop-$R917,ForecastMult,3,FALSE)/12),BD917+BD917-BC917)))))","v":""},{"$f":"IF(OR($A917=\"\",OOPEMonthsPop=0),\"\",IF(BF$18<OOPEMonthsPop,#N/A,IF(BF$18=OOPEMonthsPop,AS917,IF(BE917=\"\",\"\",IF(BF$18=OOPEMonthsPop+1,BE917+(BE917*VLOOKUP(OOPEMonthsPop-$R917,ForecastMult,3,FALSE)/12),BE917+BE917-BD917)))))","v":""},{"$f":"IF(A917=\"\",\"\",MAX(IF(ISERROR(AU917:BF917),0,AU917:BF917)))","v":""},{"$f":"IF(AND(C$18=1,$A917<>\"\"),IF(ISNA(VLOOKUP($A917,INDIRECT(C$20),TOT_STDR_PXS_col,FALSE)),\"\",VLOOKUP($A917,INDIRECT(C$20),TOT_STDR_PXS_col,FALSE)+VLOOKUP($A917,INDIRECT(C$20),TOT_ZDR_PXS_col,FALSE)),\"\")","v":""},{"$f":"IF(AND(D$18=1,$A917<>\"\"),IF(ISNA(VLOOKUP($A917,INDIRECT(D$20),TOT_STDR_PXS_col,FALSE)),\"\",VLOOKUP($A917,INDIRECT(D$20),TOT_STDR_PXS_col,FALSE)+VLOOKUP($A917,INDIRECT(D$20),TOT_ZDR_PXS_col,FALSE)),\"\")","v":""},{"$f":"IF(AND(E$18=1,$A917<>\"\"),IF(ISNA(VLOOKUP($A917,INDIRECT(E$20),TOT_STDR_PXS_col,FALSE)),\"\",VLOOKUP($A917,INDIRECT(E$20),TOT_STDR_PXS_col,FALSE)+VLOOKUP($A917,INDIRECT(E$20),TOT_ZDR_PXS_col,FALSE)),\"\")","v":""},{"$f":"IF(AND(F$18=1,$A917<>\"\"),IF(ISNA(VLOOKUP($A917,INDIRECT(F$20),TOT_STDR_PXS_col,FALSE)),\"\",VLOOKUP($A917,INDIRECT(F$20),TOT_STDR_PXS_col,FALSE)+VLOOKUP($A917,INDIRECT(F$20),TOT_ZDR_PXS_col,FALSE)),\"\")","v":""},{"$f":"IF(AND(G$18=1,$A917<>\"\"),IF(ISNA(VLOOKUP($A917,INDIRECT(G$20),TOT_STDR_PXS_col,FALSE)),\"\",VLOOKUP($A917,INDIRECT(G$20),TOT_STDR_PXS_col,FALSE)+VLOOKUP($A917,INDIRECT(G$20),TOT_ZDR_PXS_col,FALSE)),\"\")","v":""},{"$f":"IF(AND(H$18=1,$A917<>\"\"),IF(ISNA(VLOOKUP($A917,INDIRECT(H$20),TOT_STDR_PXS_col,FALSE)),\"\",VLOOKUP($A917,INDIRECT(H$20),TOT_STDR_PXS_col,FALSE)+VLOOKUP($A917,INDIRECT(H$20),TOT_ZDR_PXS_col,FALSE)),\"\")","v":""},{"$f":"IF(AND(I$18=1,$A917<>\"\"),IF(ISNA(VLOOKUP($A917,INDIRECT(I$20),TOT_STDR_PXS_col,FALSE)),\"\",VLOOKUP($A917,INDIRECT(I$20),TOT_STDR_PXS_col,FALSE)+VLOOKUP($A917,INDIRECT(I$20),TOT_ZDR_PXS_col,FALSE)),\"\")","v":""},{"$f":"IF(AND(J$18=1,$A917<>\"\"),IF(ISNA(VLOOKUP($A917,INDIRECT(J$20),TOT_STDR_PXS_col,FALSE)),\"\",VLOOKUP($A917,INDIRECT(J$20),TOT_STDR_PXS_col,FALSE)+VLOOKUP($A917,INDIRECT(J$20),TOT_ZDR_PXS_col,FALSE)),\"\")","v":""},{"$f":"IF(AND(K$18=1,$A917<>\"\"),IF(ISNA(VLOOKUP($A917,INDIRECT(K$20),TOT_STDR_PXS_col,FALSE)),\"\",VLOOKUP($A917,INDIRECT(K$20),TOT_STDR_PXS_col,FALSE)+VLOOKUP($A917,INDIRECT(K$20),TOT_ZDR_PXS_col,FALSE)),\"\")","v":""},{"$f":"IF(AND(L$18=1,$A917<>\"\"),IF(ISNA(VLOOKUP($A917,INDIRECT(L$20),TOT_STDR_PXS_col,FALSE)),\"\",VLOOKUP($A917,INDIRECT(L$20),TOT_STDR_PXS_col,FALSE)+VLOOKUP($A917,INDIRECT(L$20),TOT_ZDR_PXS_col,FALSE)),\"\")","v":""},{"$f":"IF(AND(M$18=1,$A917<>\"\"),IF(ISNA(VLOOKUP($A917,INDIRECT(M$20),TOT_STDR_PXS_col,FALSE)),\"\",VLOOKUP($A917,INDIRECT(M$20),TOT_STDR_PXS_col,FALSE)+VLOOKUP($A917,INDIRECT(M$20),TOT_ZDR_PXS_col,FALSE)),\"\")","v":""},{"$f":"IF(AND(N$18=1,$A917<>\"\"),IF(ISNA(VLOOKUP($A917,INDIRECT(N$20),TOT_STDR_PXS_col,FALSE)),\"\",VLOOKUP($A917,INDIRECT(N$20),TOT_STDR_PXS_col,FALSE)+VLOOKUP($A917,INDIRECT(N$20),TOT_ZDR_PXS_col,FALSE)),\"\")","v":""},"","","","","","",""]
[{"$f":"IF(ISBLANK('Control Sheet'!D898),\"\",'Control Sheet'!D898)","v":""},{"$f":"IF(ISBLANK('Control Sheet'!E898),\"\",'Control Sheet'!E898&\" (\"&'Control Sheet'!F898&\")\")","v":""},"","","","","","","","","","","","",{"$f":"IF(A918=\"\",\"\",SUM(C918:N918))","v":""},null,{"$f":"IF(A918=\"\",\"\",IF(BG918<=400,\"No\",\"Yes\"))","v":""},"",{"$f":"IF(C918=\"\",\"\",IF(C918<=C$10,1,IF(C918<=C$7,2,IF(C918<=C$8,3,IF(C918<=C$9,4,IF(C918<=C$11,5,60))))))","v":""},{"$f":"IF(D918=\"\",\"\",IF(D918<=D$10,1,IF(D918<=D$7,2,IF(D918<=D$8,3,IF(D918<=D$9,4,IF(D918<=D$11,5,60))))))","v":""},{"$f":"IF(E918=\"\",\"\",IF(E918<=E$10,1,IF(E918<=E$7,2,IF(E918<=E$8,3,IF(E918<=E$9,4,IF(E918<=E$11,5,60))))))","v":""},{"$f":"IF(F918=\"\",\"\",IF(F918<=F$10,1,IF(F918<=F$7,2,IF(F918<=F$8,3,IF(F918<=F$9,4,IF(F918<=F$11,5,60))))))","v":""},{"$f":"IF(G918=\"\",\"\",IF(G918<=G$10,1,IF(G918<=G$7,2,IF(G918<=G$8,3,IF(G918<=G$9,4,IF(G918<=G$11,5,60))))))","v":""},{"$f":"IF(H918=\"\",\"\",IF(H918<=H$10,1,IF(H918<=H$7,2,IF(H918<=H$8,3,IF(H918<=H$9,4,IF(H918<=H$11,5,60))))))","v":""},{"$f":"IF(I918=\"\",\"\",IF(I918<=I$10,1,IF(I918<=I$7,2,IF(I918<=I$8,3,IF(I918<=I$9,4,IF(I918<=I$11,5,60))))))","v":""},{"$f":"IF(J918=\"\",\"\",IF(J918<=J$10,1,IF(J918<=J$7,2,IF(J918<=J$8,3,IF(J918<=J$9,4,IF(J918<=J$11,5,60))))))","v":""},{"$f":"IF(K918=\"\",\"\",IF(K918<=K$10,1,IF(K918<=K$7,2,IF(K918<=K$8,3,IF(K918<=K$9,4,IF(K918<=K$11,5,60))))))","v":""},{"$f":"IF(L918=\"\",\"\",IF(L918<=L$10,1,IF(L918<=L$7,2,IF(L918<=L$8,3,IF(L918<=L$9,4,IF(L918<=L$11,5,60))))))","v":""},{"$f":"IF(M918=\"\",\"\",IF(M918<=M$10,1,IF(M918<=M$7,2,IF(M918<=M$8,3,IF(M918<=M$9,4,IF(M918<=M$11,5,60))))))","v":""},{"$f":"IF(N918=\"\",\"\",IF(N918<=N$10,1,IF(N918<=N$7,2,IF(N918<=N$8,3,IF(N918<=N$9,4,IF(N918<=N$11,5,60))))))","v":""},{"$f":"IF(A918=\"\",\"\",SUM(S918:AD918))","v":""},"",{"$f":"IF(AF918=\"\",\"\",IF(AF918<=1,\"Lower Outlier\",IF(AF918<=2,\"Below Average\",IF(AF918<=3,\"Lower Quartile\",IF(AF918<=4,\"Upper Quartile\",IF(AF918<=5, \"Above Average\", \"Upper Outlier\"))))))","v":""},{"$f":"IF(C$18=1,C918,\"\")","v":""},{"$f":"IF(D$18=1,IF(D918=\"\",IF(AH918=\"\",\"\",AH918),IF(AND(D918>=0,AH918=\"\"),D918,IF(ISERROR(D918+AH918),#N/A,D918+AH918))),\"\")","v":""},{"$f":"IF(E$18=1,IF(E918=\"\",IF(AI918=\"\",\"\",AI918),IF(AND(E918>=0,AI918=\"\"),E918,IF(ISERROR(E918+AI918),#N/A,E918+AI918))),\"\")","v":""},{"$f":"IF(F$18=1,IF(F918=\"\",IF(AJ918=\"\",\"\",AJ918),IF(AND(F918>=0,AJ918=\"\"),F918,IF(ISERROR(F918+AJ918),#N/A,F918+AJ918))),\"\")","v":""},{"$f":"IF(G$18=1,IF(G918=\"\",IF(AK918=\"\",\"\",AK918),IF(AND(G918>=0,AK918=\"\"),G918,IF(ISERROR(G918+AK918),#N/A,G918+AK918))),\"\")","v":""},{"$f":"IF(H$18=1,IF(H918=\"\",IF(AL918=\"\",\"\",AL918),IF(AND(H918>=0,AL918=\"\"),H918,IF(ISERROR(H918+AL918),#N/A,H918+AL918))),\"\")","v":""},{"$f":"IF(I$18=1,IF(I918=\"\",IF(AM918=\"\",\"\",AM918),IF(AND(I918>=0,AM918=\"\"),I918,IF(ISERROR(I918+AM918),#N/A,I918+AM918))),\"\")","v":""},{"$f":"IF(J$18=1,IF(J918=\"\",IF(AN918=\"\",\"\",AN918),IF(AND(J918>=0,AN918=\"\"),J918,IF(ISERROR(J918+AN918),#N/A,J918+AN918))),\"\")","v":""},{"$f":"IF(K$18=1,IF(K918=\"\",IF(AO918=\"\",\"\",AO918),IF(AND(K918>=0,AO918=\"\"),K918,IF(ISERROR(K918+AO918),#N/A,K918+AO918))),\"\")","v":""},{"$f":"IF(L$18=1,IF(L918=\"\",IF(AP918=\"\",\"\",AP918),IF(AND(L918>=0,AP918=\"\"),L918,IF(ISERROR(L918+AP918),#N/A,L918+AP918))),\"\")","v":""},{"$f":"IF(M$18=1,IF(M918=\"\",IF(AQ918=\"\",\"\",AQ918),IF(AND(M918>=0,AQ918=\"\"),M918,IF(ISERROR(M918+AQ918),#N/A,M918+AQ918))),\"\")","v":""},{"$f":"IF(N$18=1,IF(N918=\"\",IF(AR918=\"\",\"\",AR918),IF(AND(N918>=0,AR918=\"\"),N918,IF(ISERROR(N918+AR918),#N/A,N918+AR918))),\"\")","v":""},{"$f":"IF(A918=\"\",\"\",MAX(AH918:AS918))","v":""},"","","","","","","","","","","","",{"$f":"IF(A918=\"\",\"\",MAX(IF(ISERROR(AU918:BF918),0,AU918:BF918)))","v":""},"","","","","","","","","","","","",{"$f":"IF(A918=\"\",\"\",SUM(BH918:BS918))","v":""},{"$f":"IF(A918=\"\",\"\",MIN(B918:M918))","v":""},{"$f":"IF(A918=\"\",\"\",MAX(B918:M918))","v":""},{"$f":"IF(A918=\"\",\"\",IF(BV918-BU918=0,\"\",BV918-BU918))","v":""},{"$f":"IF(A918=\"\",\"\",IF(BW918=\"\",\"No\",IF(BW918>$BW$11,\"Yes\",\"No\")))","v":""},{"$f":"IF(A918=\"\",\"\",(COUNTA(C918:N918)-COUNTBLANK(C918:N918)))","v":""},{"$f":"IF(A918=\"\",\"\",BY918-COUNTIF(C918:N918,\"=0\"))","v":""}]
[{"$f":"IF(ISBLANK('Control Sheet'!D899),\"\",'Control Sheet'!D899)","v":""},{"$f":"IF(ISBLANK('Control Sheet'!E899),\"\",'Control Sheet'!E899&\" (\"&'Control Sheet'!F899&\")\")","v":""},"","","","","","","","","","","","","",null,"","","","","","","","","","","","","","","","","","","","","","","","","","","","","","","","","","","","","","","","","","",{"$f":"IF(A919=\"\",\"\",MAX(IF(ISERROR(AU919:BF919),0,AU919:BF919)))","v":""},"","","","","","","","","","","","","","","","","","",""]
[{"$f":"IF(ISBLANK('Control Sheet'!D900),\"\",'Control Sheet'!D900)","v":""},{"$f":"IF(ISBLANK('Control Sheet'!E900),\"\",'Control Sheet'!E900&\" (\"&'Control Sheet'!F900&\")\")","v":""},"","","","","","","","","","","","","",null,"","","","","","","","","","","","","","","","","","","","","","","","","","","","","","","","","","","","","","","","","","",{"$f":"IF(A920=\"\",\"\",MAX(IF(ISERROR(AU920:BF920),0,AU920:BF920)))","v":""},"","","","","","","","","","","","","","","","","","",""]
[{"$f":"IF(ISBLANK('Control Sheet'!D901),\"\",'Control Sheet'!D901)","v":""},{"$f":"IF(ISBLANK('Control Sheet'!E901),\"\",'Control Sheet'!E901&\" (\"&'Control Sheet'!F901&\")\")","v":""},{"$f":"IF(C$18=1,IF(ISNA(VLOOKUP($A921,INDIRECT(C$20),OOPE_col,FALSE)),\"\",VLOOKUP($A921,INDIRECT(C$20),OOPE_col,FALSE)),\"\")","v":""},"","","","","","","","","","","","",null,"","","","","","","","","","","","","","","","","","","","","","","","","","","","","","","","","","","","","","","","","","",{"$f":"IF(A921=\"\",\"\",MAX(IF(ISERROR(AU921:BF921),0,AU921:BF921)))","v":""},"","","","","","","","","","","","","","","","","","",""]
[{"$f":"IF(ISBLANK('Control Sheet'!D902),\"\",'Control Sheet'!D902)","v":""},{"$f":"IF(ISBLANK('Control Sheet'!E902),\"\",'Control Sheet'!E902&\" (\"&'Control Sheet'!F902&\")\")","v":""},"","","","","","","","","","","","","",null,"","","","","","","","","","","","","","","","","","","","","","","","","","","","","","","","","","","","","","","","","","",{"$f":"IF(A922=\"\",\"\",MAX(IF(ISERROR(AU922:BF922),0,AU922:BF922)))","v":""},"","","","","","","","","","","","","","","","","","",""]
[{"$f":"IF(ISBLANK('Control Sheet'!D903),\"\",'Control Sheet'!D903)","v":""},{"$f":"IF(ISBLANK('Control Sheet'!E903),\"\",'Control Sheet'!E903&\" (\"&'Control Sheet'!F903&\")\")","v":""},"","","","","","","","","","","","","",null,"","","","","","","","","","","","","","","","","","","","","","","","","","","","","","","","","","","","","","","","","","",{"$f":"IF(A923=\"\",\"\",MAX(IF(ISERROR(AU923:BF923),0,AU923:BF923)))","v":""},"","","","","","","","","","","","","","","","","","",""]
[{"$f":"IF(ISBLANK('Control Sheet'!D904),\"\",'Control Sheet'!D904)","v":""},{"$f":"IF(ISBLANK('Control Sheet'!E904),\"\",'Control Sheet'!E904&\" (\"&'Control Sheet'!F904&\")\")","v":""},"","","","","","","","","","","","","",null,"","","","","","","","","","","","","","","","","","","","","","","","","","","","","","","","","","","","","","","","","","",{"$f":"IF(A924=\"\",\"\",MAX(IF(ISERROR(AU924:BF924),0,AU924:BF924)))","v":""},"","","","","","","","","","","","","","","","","","",""]
[{"$f":"IF(ISBLANK('Control Sheet'!D905),\"\",'Control Sheet'!D905)","v":""},{"$f":"IF(ISBLANK('Control Sheet'!E905),\"\",'Control Sheet'!E905&\" (\"&'Control Sheet'!F905&\")\")","v":""},"","","","","","","","","","","","","",null,"","","","","","","","","","","","","","","","","","","","","","","","","","","","","","","","","","","","","","","","","","",{"$f":"IF(A925=\"\",\"\",MAX(IF(ISERROR(AU925:BF925),0,AU925:BF925)))","v":""},"","","","","","","","","","","","","","","","","","",""]
[{"$f":"IF(ISBLANK('Control Sheet'!D906),\"\",'Control Sheet'!D906)","v":""},{"$f":"IF(ISBLANK('Control Sheet'!E906),\"\",'Control Sheet'!E906&\" (\"&'Control Sheet'!F906&\")\")","v":""},"","","","","","","","","","","","","",null,"","","","","","","","","","","","","","","","","","","","","","","","","","","","","","","","","","","","","","","","","","",{"$f":"IF(A926=\"\",\"\",MAX(IF(ISERROR(AU926:BF926),0,AU926:BF926)))","v":""},"","","","","","","","","","","","","","","","","","",""]
[{"$f":"IF(ISBLANK('Control Sheet'!D907),\"\",'Control Sheet'!D907)","v":""},{"$f":"IF(ISBLANK('Control Sheet'!E907),\"\",'Control Sheet'!E907&\" (\"&'Control Sheet'!F907&\")\")","v":""},"","","","","","","","","","","","","",null,"","","","","","","","","","","","","","","","","","","","","","","","","","","","","","","","","","","","","","","","","","",{"$f":"IF(A927=\"\",\"\",MAX(IF(ISERROR(AU927:BF927),0,AU927:BF927)))","v":""},"","","","","","","","","","","","","","","","","","",""]
[{"$f":"IF(ISBLANK('Control Sheet'!D908),\"\",'Control Sheet'!D908)","v":""},{"$f":"IF(ISBLANK('Control Sheet'!E908),\"\",'Control Sheet'!E908&\" (\"&'Control Sheet'!F908&\")\")","v":""},"","","","","","","","","","","","","",null,"","","","","","","","","","","","","","","","","","","","","","","","","","","","","","","","","","","","","","","","","","",{"$f":"IF(A928=\"\",\"\",MAX(IF(ISERROR(AU928:BF928),0,AU928:BF928)))","v":""},"","","","","","","","","","","","","","","","","","",""]
[{"$f":"IF(ISBLANK('Control Sheet'!D909),\"\",'Control Sheet'!D909)","v":""},{"$f":"IF(ISBLANK('Control Sheet'!E909),\"\",'Control Sheet'!E909&\" (\"&'Control Sheet'!F909&\")\")","v":""},"","","","","","","","","","","","","",null,"","","","","","","","","","","","","","","","","","","","","","","","","","","","","","","","","","","","","","","","","","",{"$f":"IF(A929=\"\",\"\",MAX(IF(ISERROR(AU929:BF929),0,AU929:BF929)))","v":""},"","","","","","","","","","","","","","","","","","",""]
[{"$f":"IF(ISBLANK('Control Sheet'!D910),\"\",'Control Sheet'!D910)","v":""},{"$f":"IF(ISBLANK('Control Sheet'!E910),\"\",'Control Sheet'!E910&\" (\"&'Control Sheet'!F910&\")\")","v":""},"","","","","","","","","","","","","",null,"","","","","","","","","","","","","","","","","","","","","","","","","","","","","","","","","","","","","","","","","","",{"$f":"IF(A930=\"\",\"\",MAX(IF(ISERROR(AU930:BF930),0,AU930:BF930)))","v":""},"","","","","","","","","","","","","","","","","","",""]
[{"$f":"IF(ISBLANK('Control Sheet'!D911),\"\",'Control Sheet'!D911)","v":""},{"$f":"IF(ISBLANK('Control Sheet'!E911),\"\",'Control Sheet'!E911&\" (\"&'Control Sheet'!F911&\")\")","v":""},{"$f":"IF(C$18=1,IF(ISNA(VLOOKUP($A931,INDIRECT(C$20),OOPE_col,FALSE)),\"\",VLOOKUP($A931,INDIRECT(C$20),OOPE_col,FALSE)),\"\")","v":""},"","","","","","","","","","","","",null,"","","","","","","","","","","","","","","","","","","","","","","","","","","","","","","","","","","","","","","","","","",{"$f":"IF(A931=\"\",\"\",MAX(IF(ISERROR(AU931:BF931),0,AU931:BF931)))","v":""},"","","","","","","","","","","","","","","","","","",""]
[{"$f":"IF(ISBLANK('Control Sheet'!D912),\"\",'Control Sheet'!D912)","v":""},{"$f":"IF(ISBLANK('Control Sheet'!E912),\"\",'Control Sheet'!E912&\" (\"&'Control Sheet'!F912&\")\")","v":""},"","","","","","","","","","","","","",null,"","","","","","","","","","","","","","","","","","","","","","","","","","","","","","","","","","","","","","","","","","",{"$f":"IF(A932=\"\",\"\",MAX(IF(ISERROR(AU932:BF932),0,AU932:BF932)))","v":""},"","","","","","","","","","","","","","","","","","",""]
[{"$f":"IF(ISBLANK('Control Sheet'!D913),\"\",'Control Sheet'!D913)","v":""},{"$f":"IF(ISBLANK('Control Sheet'!E913),\"\",'Control Sheet'!E913&\" (\"&'Control Sheet'!F913&\")\")","v":""},"","","","","","","","","","","","","",null,"","","","","","","","","","","","","","","","","","","","","","","","","","","","","","","","","","","","","","","","","","",{"$f":"IF(A933=\"\",\"\",MAX(IF(ISERROR(AU933:BF933),0,AU933:BF933)))","v":""},"","","","","","","","","","","","","","","","","","",""]
[{"$f":"IF(ISBLANK('Control Sheet'!D914),\"\",'Control Sheet'!D914)","v":""},{"$f":"IF(ISBLANK('Control Sheet'!E914),\"\",'Control Sheet'!E914&\" (\"&'Control Sheet'!F914&\")\")","v":""},"","","","","","","","","","","","","",null,"","","","","","","","","","","","","","","","","","","","","","","","","","","","","","","","","","","","","","","","","","",{"$f":"IF(A934=\"\",\"\",MAX(IF(ISERROR(AU934:BF934),0,AU934:BF934)))","v":""},"","","","","","","","","","","","","","","","","","",""]
[{"$f":"IF(ISBLANK('Control Sheet'!D915),\"\",'Control Sheet'!D915)","v":""},{"$f":"IF(ISBLANK('Control Sheet'!E915),\"\",'Control Sheet'!E915&\" (\"&'Control Sheet'!F915&\")\")","v":""},"","","","","","","","","","","","","",null,"","","","","","","","","","","","","","","","","","","","","","","","","","","","","","","","","","","","","","","","","","",{"$f":"IF(A935=\"\",\"\",MAX(IF(ISERROR(AU935:BF935),0,AU935:BF935)))","v":""},"","","","","","","","","","","","","","","","","","",""]
[{"$f":"IF(ISBLANK('Control Sheet'!D916),\"\",'Control Sheet'!D916)","v":""},{"$f":"IF(ISBLANK('Control Sheet'!E916),\"\",'Control Sheet'!E916&\" (\"&'Control Sheet'!F916&\")\")","v":""},"","","","","","","","","","","","","",null,"","","","","","","","","","","","","","","","","","","","","","","","","","","","","","","","","","","","","","","","","","",{"$f":"IF(A936=\"\",\"\",MAX(IF(ISERROR(AU936:BF936),0,AU936:BF936)))","v":""},"","","","","","","","","","","","","","","","","","",""]
[{"$f":"IF(ISBLANK('Control Sheet'!D917),\"\",'Control Sheet'!D917)","v":""},{"$f":"IF(ISBLANK('Control Sheet'!E917),\"\",'Control Sheet'!E917&\" (\"&'Control Sheet'!F917&\")\")","v":""},"","","","","","","","","","","","","",null,"","","","","","","","","","","","","","","","","","","","","","","","","","","","","","","","","","","","","","","","","","",{"$f":"IF(A937=\"\",\"\",MAX(IF(ISERROR(AU937:BF937),0,AU937:BF937)))","v":""},"","","","","","","","","","","","","","","","","","",""]
[{"$f":"IF(ISBLANK('Control Sheet'!D918),\"\",'Control Sheet'!D918)","v":""},{"$f":"IF(ISBLANK('Control Sheet'!E918),\"\",'Control Sheet'!E918&\" (\"&'Control Sheet'!F918&\")\")","v":""},"","","","","","","","","","","","","",null,"","","","","","","","","","","","","","","","","","","","","","","","","","","","","","","","","","","","","","","","","","",{"$f":"IF(A938=\"\",\"\",MAX(IF(ISERROR(AU938:BF938),0,AU938:BF938)))","v":""},"","","","","","","","","","","","","","","","","","",""]
[{"$f":"IF(ISBLANK('Control Sheet'!D919),\"\",'Control Sheet'!D919)","v":""},{"$f":"IF(ISBLANK('Control Sheet'!E919),\"\",'Control Sheet'!E919&\" (\"&'Control Sheet'!F919&\")\")","v":""},"","","","","","","","","","","","","",null,"","","","","","","","","","","","","","","","","","","","","","","","","","","","","","","","","","","","","","","","","","",{"$f":"IF(A939=\"\",\"\",MAX(IF(ISERROR(AU939:BF939),0,AU939:BF939)))","v":""},"","","","","","","","","","","","","","","","","","",""]
[{"$f":"IF(ISBLANK('Control Sheet'!D920),\"\",'Control Sheet'!D920)","v":""},{"$f":"IF(ISBLANK('Control Sheet'!E920),\"\",'Control Sheet'!E920&\" (\"&'Control Sheet'!F920&\")\")","v":""},"","","","","","","","","","","","","",null,"","","","","","","","","","","","","","","","","","","","","","","","","","","","","","","","","","","","","","","","","","",{"$f":"IF(A940=\"\",\"\",MAX(IF(ISERROR(AU940:BF940),0,AU940:BF940)))","v":""},"","","","","","","","","","","","","","","","","","",""]
[{"$f":"IF(ISBLANK('Control Sheet'!D921),\"\",'Control Sheet'!D921)","v":""},{"$f":"IF(ISBLANK('Control Sheet'!E921),\"\",'Control Sheet'!E921&\" (\"&'Control Sheet'!F921&\")\")","v":""},{"$f":"IF(C$18=1,IF(ISNA(VLOOKUP($A941,INDIRECT(C$20),OOPE_col,FALSE)),\"\",VLOOKUP($A941,INDIRECT(C$20),OOPE_col,FALSE)),\"\")","v":""},"","","","","","","","","","","","",null,"","","","","","","","","","","","","","","","","","","","","","","","","","","","","","","","","","","","","","","","","","",{"$f":"IF(A941=\"\",\"\",MAX(IF(ISERROR(AU941:BF941),0,AU941:BF941)))","v":""},"","","","","","","","","","","","","","","","","","",""]
[{"$f":"IF(ISBLANK('Control Sheet'!D922),\"\",'Control Sheet'!D922)","v":""},{"$f":"IF(ISBLANK('Control Sheet'!E922),\"\",'Control Sheet'!E922&\" (\"&'Control Sheet'!F922&\")\")","v":""},"","","","","","","","","","","","","",null,"","","","","","","","","","","","","","","","","","","","","","","","","","","","","","","","","","","","","","","","","","",{"$f":"IF(A942=\"\",\"\",MAX(IF(ISERROR(AU942:BF942),0,AU942:BF942)))","v":""},"","","","","","","","","","","","","","","","","","",""]
[{"$f":"IF(ISBLANK('Control Sheet'!D923),\"\",'Control Sheet'!D923)","v":""},{"$f":"IF(ISBLANK('Control Sheet'!E923),\"\",'Control Sheet'!E923&\" (\"&'Control Sheet'!F923&\")\")","v":""},"","","","","","","","","","","","","",null,"","","","","","","","","","","","","","","","","","","","","","","","","","","","","","","","","","","","","","","","","","",{"$f":"IF(A943=\"\",\"\",MAX(IF(ISERROR(AU943:BF943),0,AU943:BF943)))","v":""},"","","","","","","","","","","","","","","","","","",""]
[{"$f":"IF(ISBLANK('Control Sheet'!D924),\"\",'Control Sheet'!D924)","v":""},{"$f":"IF(ISBLANK('Control Sheet'!E924),\"\",'Control Sheet'!E924&\" (\"&'Control Sheet'!F924&\")\")","v":""},"","","","","","","","","","","","","",null,"","","","","","","","","","","","","","","","","","","","","","","","","","","","","","","","","","","","","","","","","","",{"$f":"IF(A944=\"\",\"\",MAX(IF(ISERROR(AU944:BF944),0,AU944:BF944)))","v":""},"","","","","","","","","","","","","","","","","","",""]
[{"$f":"IF(ISBLANK('Control Sheet'!D925),\"\",'Control Sheet'!D925)","v":""},{"$f":"IF(ISBLANK('Control Sheet'!E925),\"\",'Control Sheet'!E925&\" (\"&'Control Sheet'!F925&\")\")","v":""},"","","","","","","","","","","","","",null,"","","","","","","","","","","","","","","","","","","","","","","","","","","","","","","","","","","","","","","","","","",{"$f":"IF(A945=\"\",\"\",MAX(IF(ISERROR(AU945:BF945),0,AU945:BF945)))","v":""},"","","","","","","","","","","","","","","","","","",""]
[{"$f":"IF(ISBLANK('Control Sheet'!D926),\"\",'Control Sheet'!D926)","v":""},{"$f":"IF(ISBLANK('Control Sheet'!E926),\"\",'Control Sheet'!E926&\" (\"&'Control Sheet'!F926&\")\")","v":""},"","","","","","","","","","","","","",null,"","","","","","","","","","","","","","","","","","","","","","","","","","","","","","","","","","","","","","","","","","",{"$f":"IF(A946=\"\",\"\",MAX(IF(ISERROR(AU946:BF946),0,AU946:BF946)))","v":""},"","","","","","","","","","","","","","","","","","",""]
[{"$f":"IF(ISBLANK('Control Sheet'!D927),\"\",'Control Sheet'!D927)","v":""},{"$f":"IF(ISBLANK('Control Sheet'!E927),\"\",'Control Sheet'!E927&\" (\"&'Control Sheet'!F927&\")\")","v":""},"","","","","","","","","","","","","",null,"","","","","","","","","","","","","","","","","","","","","","","","","","","","","","","","","","","","","","","","","","",{"$f":"IF(A947=\"\",\"\",MAX(IF(ISERROR(AU947:BF947),0,AU947:BF947)))","v":""},"","","","","","","","","","","","","","","","","","",""]
[{"$f":"IF(ISBLANK('Control Sheet'!D928),\"\",'Control Sheet'!D928)","v":""},{"$f":"IF(ISBLANK('Control Sheet'!E928),\"\",'Control Sheet'!E928&\" (\"&'Control Sheet'!F928&\")\")","v":""},"","","","","","","","","","","","","",null,"","","","","","","","","","","","","","","",{"$f":"IF(OR(A948=\"\",AE948=0),\"\",AE948/(O$18-R790))","v":""},"","","","","","","","","","","","","","","","","","","","","","","","","","",{"$f":"IF(A948=\"\",\"\",MAX(IF(ISERROR(AU948:BF948),0,AU948:BF948)))","v":""},"","","","","","","","","","","","","","","","","","",""]
[{"$f":"IF(ISBLANK('Control Sheet'!D929),\"\",'Control Sheet'!D929)","v":""},{"$f":"IF(ISBLANK('Control Sheet'!E929),\"\",'Control Sheet'!E929&\" (\"&'Control Sheet'!F929&\")\")","v":""},"","","","","","","","","","","","","",null,"","","","","","","","","","","","","","","","","","","","","","","","","","","","","","","","","","","","","","","","","","",{"$f":"IF(A949=\"\",\"\",MAX(IF(ISERROR(AU949:BF949),0,AU949:BF949)))","v":""},"","","","","","","","","","","","","","","","","","",""]
[{"$f":"IF(ISBLANK('Control Sheet'!D930),\"\",'Control Sheet'!D930)","v":""},{"$f":"IF(ISBLANK('Control Sheet'!E930),\"\",'Control Sheet'!E930&\" (\"&'Control Sheet'!F930&\")\")","v":""},"","","","","","","","","","","","","",null,"","","","","","","","","","","","","","","","","","","","","","","","","","","","","","","","","","","","","","","","","","",{"$f":"IF(A950=\"\",\"\",MAX(IF(ISERROR(AU950:BF950),0,AU950:BF950)))","v":""},"","","","","","","","","","","","","","","","","","",""]
[{"$f":"IF(ISBLANK('Control Sheet'!D931),\"\",'Control Sheet'!D931)","v":""},{"$f":"IF(ISBLANK('Control Sheet'!E931),\"\",'Control Sheet'!E931&\" (\"&'Control Sheet'!F931&\")\")","v":""},{"$f":"IF(C$18=1,IF(ISNA(VLOOKUP($A951,INDIRECT(C$20),OOPE_col,FALSE)),\"\",VLOOKUP($A951,INDIRECT(C$20),OOPE_col,FALSE)),\"\")","v":""},"","","","","","","","","","","","",null,"","","","","","","","","","","","","","","","","","","","","","","","","","","","","","","","","","","","","","","","","","",{"$f":"IF(A951=\"\",\"\",MAX(IF(ISERROR(AU951:BF951),0,AU951:BF951)))","v":""},"","","","","","","","","","","","","","","","","","",""]
[{"$f":"IF(ISBLANK('Control Sheet'!D932),\"\",'Control Sheet'!D932)","v":""},{"$f":"IF(ISBLANK('Control Sheet'!E932),\"\",'Control Sheet'!E932&\" (\"&'Control Sheet'!F932&\")\")","v":""},"","","","","","","","","","","","","",null,"","","","","","","","","","","","","","","","","","","","","","","","","","","","","","","","","","","","","","","","","","",{"$f":"IF(A952=\"\",\"\",MAX(IF(ISERROR(AU952:BF952),0,AU952:BF952)))","v":""},"","","","","","","","","","","","","","","","","","",""]
[{"$f":"IF(ISBLANK('Control Sheet'!D933),\"\",'Control Sheet'!D933)","v":""},{"$f":"IF(ISBLANK('Control Sheet'!E933),\"\",'Control Sheet'!E933&\" (\"&'Control Sheet'!F933&\")\")","v":""},"","","","","","","","","","","","","",null,"","","","","","","","","","","","","","","","","","","","","","","","","","","","","","","","","","","","","","","","","","",{"$f":"IF(A953=\"\",\"\",MAX(IF(ISERROR(AU953:BF953),0,AU953:BF953)))","v":""},"","","","","","","","","","","","","","","","","","",""]
[{"$f":"IF(ISBLANK('Control Sheet'!D934),\"\",'Control Sheet'!D934)","v":""},{"$f":"IF(ISBLANK('Control Sheet'!E934),\"\",'Control Sheet'!E934&\" (\"&'Control Sheet'!F934&\")\")","v":""},"","","","","","","","","","","","","",null,"","","","","","","","","","","","","","","","","","","","","","","","","","","","","","","","","","","","","","","","","","",{"$f":"IF(A954=\"\",\"\",MAX(IF(ISERROR(AU954:BF954),0,AU954:BF954)))","v":""},"","","","","","","","","","","","","","","","","","",""]
[{"$f":"IF(ISBLANK('Control Sheet'!D935),\"\",'Control Sheet'!D935)","v":""},{"$f":"IF(ISBLANK('Control Sheet'!E935),\"\",'Control Sheet'!E935&\" (\"&'Control Sheet'!F935&\")\")","v":""},"","","","","","","","","","","","","",null,"","","","","","","","","","","","","","","","","","","","","","","","","","","","","","","","","","","","","","","","","","",{"$f":"IF(A955=\"\",\"\",MAX(IF(ISERROR(AU955:BF955),0,AU955:BF955)))","v":""},"","","","","","","","","","","","","","","","","","",""]
[{"$f":"IF(ISBLANK('Control Sheet'!D936),\"\",'Control Sheet'!D936)","v":""},{"$f":"IF(ISBLANK('Control Sheet'!E936),\"\",'Control Sheet'!E936&\" (\"&'Control Sheet'!F936&\")\")","v":""},"","","","","","","","","","","","","",null,"","","","","","","","","","","","","","","","","","","","","","","","","","","","","","","","","","","","","","","","","","",{"$f":"IF(A956=\"\",\"\",MAX(IF(ISERROR(AU956:BF956),0,AU956:BF956)))","v":""},"","","","","","","","","","","","","","","","","","",""]
[{"$f":"IF(ISBLANK('Control Sheet'!D937),\"\",'Control Sheet'!D937)","v":""},{"$f":"IF(ISBLANK('Control Sheet'!E937),\"\",'Control Sheet'!E937&\" (\"&'Control Sheet'!F937&\")\")","v":""},"","","","","","","","","","","","","",null,"","","","","","","","","","","","","","","","","","","","","","","","","","","","","","","","","","","","","","","","","","",{"$f":"IF(A957=\"\",\"\",MAX(IF(ISERROR(AU957:BF957),0,AU957:BF957)))","v":""},"","","","","","","","","","","","","","","","","","",""]
[{"$f":"IF(ISBLANK('Control Sheet'!D938),\"\",'Control Sheet'!D938)","v":""},{"$f":"IF(ISBLANK('Control Sheet'!E938),\"\",'Control Sheet'!E938&\" (\"&'Control Sheet'!F938&\")\")","v":""},"","","","","","","","","","","","","",null,"","","","","","","","","","","","","","","","","","","","","","","","","","","","","","","","","","","","","","","","","","",{"$f":"IF(A958=\"\",\"\",MAX(IF(ISERROR(AU958:BF958),0,AU958:BF958)))","v":""},"","","","","","","","","","","","","","","","","","",""]
[{"$f":"IF(ISBLANK('Control Sheet'!D939),\"\",'Control Sheet'!D939)","v":""},{"$f":"IF(ISBLANK('Control Sheet'!E939),\"\",'Control Sheet'!E939&\" (\"&'Control Sheet'!F939&\")\")","v":""},"","","","","","","","","","","","","",null,"","","","","","","","","","","","","","","","","","","","","","","","","","","","","","","","","","","","","","","","","","",{"$f":"IF(A959=\"\",\"\",MAX(IF(ISERROR(AU959:BF959),0,AU959:BF959)))","v":""},"","","","","","","","","","","","","","","","","","",""]
[{"$f":"IF(ISBLANK('Control Sheet'!D940),\"\",'Control Sheet'!D940)","v":""},{"$f":"IF(ISBLANK('Control Sheet'!E940),\"\",'Control Sheet'!E940&\" (\"&'Control Sheet'!F940&\")\")","v":""},"","","","","","","","","","","","","",null,"","","","","","","","","","","","","","","","","","","","","","","","","","","","","","","","","","","","","","","","","","",{"$f":"IF(A960=\"\",\"\",MAX(IF(ISERROR(AU960:BF960),0,AU960:BF960)))","v":""},"","","","","","","","","","","","","","","","","","",""]
[{"$f":"IF(ISBLANK('Control Sheet'!D941),\"\",'Control Sheet'!D941)","v":""},{"$f":"IF(ISBLANK('Control Sheet'!E941),\"\",'Control Sheet'!E941&\" (\"&'Control Sheet'!F941&\")\")","v":""},{"$f":"IF(C$18=1,IF(ISNA(VLOOKUP($A961,INDIRECT(C$20),OOPE_col,FALSE)),\"\",VLOOKUP($A961,INDIRECT(C$20),OOPE_col,FALSE)),\"\")","v":""},"","","","","","","","","","","","",null,"","","","","","","","","","","","","","","","","","","","","","","","","","","","","","","","","","","","","","","","","","",{"$f":"IF(A961=\"\",\"\",MAX(IF(ISERROR(AU961:BF961),0,AU961:BF961)))","v":""},"","","","","","","","","","","","","","","","","","",""]
[{"$f":"IF(ISBLANK('Control Sheet'!D942),\"\",'Control Sheet'!D942)","v":""},{"$f":"IF(ISBLANK('Control Sheet'!E942),\"\",'Control Sheet'!E942&\" (\"&'Control Sheet'!F942&\")\")","v":""},"","","","","","","","","","","","","",null,"","","","","","","","","","","","","","","","","","","","","","","","","","","","","","","","","","","","","","","","","","",{"$f":"IF(A962=\"\",\"\",MAX(IF(ISERROR(AU962:BF962),0,AU962:BF962)))","v":""},"","","","","","","","","","","","","","","","","","",""]
[{"$f":"IF(ISBLANK('Control Sheet'!D943),\"\",'Control Sheet'!D943)","v":""},{"$f":"IF(ISBLANK('Control Sheet'!E943),\"\",'Control Sheet'!E943&\" (\"&'Control Sheet'!F943&\")\")","v":""},"","","","","","","","","","","","","",null,"","","","","","","","","","","","","","","","","","","","","","","","","","","","","","","","","","","","","","","","","","",{"$f":"IF(A963=\"\",\"\",MAX(IF(ISERROR(AU963:BF963),0,AU963:BF963)))","v":""},"","","","","","","","","","","","","","","","","","",""]
[{"$f":"IF(ISBLANK('Control Sheet'!D944),\"\",'Control Sheet'!D944)","v":""},{"$f":"IF(ISBLANK('Control Sheet'!E944),\"\",'Control Sheet'!E944&\" (\"&'Control Sheet'!F944&\")\")","v":""},"","","","","","","","","","","","","",null,"","","","","","","","","","","","","","","","","","","","","","","","","","","","","","","","","","","","","","","","","","",{"$f":"IF(A964=\"\",\"\",MAX(IF(ISERROR(AU964:BF964),0,AU964:BF964)))","v":""},"","","","","","","","","","","","","","","","","","",""]
[{"$f":"IF(ISBLANK('Control Sheet'!D945),\"\",'Control Sheet'!D945)","v":""},{"$f":"IF(ISBLANK('Control Sheet'!E945),\"\",'Control Sheet'!E945&\" (\"&'Control Sheet'!F945&\")\")","v":""},"","","","","","","","","","","","","",null,"","","","","","","","","","","","","","","","","","","","","","","","","","","","","","","","","","","","","","","","","","",{"$f":"IF(A965=\"\",\"\",MAX(IF(ISERROR(AU965:BF965),0,AU965:BF965)))","v":""},"","","","","","","","","","","","","","","","","","",""]
[{"$f":"IF(ISBLANK('Control Sheet'!D946),\"\",'Control Sheet'!D946)","v":""},{"$f":"IF(ISBLANK('Control Sheet'!E946),\"\",'Control Sheet'!E946&\" (\"&'Control Sheet'!F946&\")\")","v":""},"","","","","","","","","","","","","",null,"","","","","","","","","","","","","","","","","","","","","","","","","","","","","","","","","","","","","","","","","","",{"$f":"IF(A966=\"\",\"\",MAX(IF(ISERROR(AU966:BF966),0,AU966:BF966)))","v":""},"","","","","","","","","","","","","","","","","","",""]
[{"$f":"IF(ISBLANK('Control Sheet'!D947),\"\",'Control Sheet'!D947)","v":""},{"$f":"IF(ISBLANK('Control Sheet'!E947),\"\",'Control Sheet'!E947&\" (\"&'Control Sheet'!F947&\")\")","v":""},"","","","","","","","","","","","","",null,"","","","","","","","","","","","","","","","","","","","","","","","","","","","","","","","","","","","","","","","","","",{"$f":"IF(A967=\"\",\"\",MAX(IF(ISERROR(AU967:BF967),0,AU967:BF967)))","v":""},"","","","","","","","","","","","","","","","","","",""]
[{"$f":"IF(ISBLANK('Control Sheet'!D948),\"\",'Control Sheet'!D948)","v":""},{"$f":"IF(ISBLANK('Control Sheet'!E948),\"\",'Control Sheet'!E948&\" (\"&'Control Sheet'!F948&\")\")","v":""},"","","","","","","","","","","","","",null,"","","","","","","","","","","","","","","","","","","","","","","","","","","","","","","","","","","","","","","","","","",{"$f":"IF(A968=\"\",\"\",MAX(IF(ISERROR(AU968:BF968),0,AU968:BF968)))","v":""},"","","","","","","","","","","","","","","","","","",""]
[{"$f":"IF(ISBLANK('Control Sheet'!D949),\"\",'Control Sheet'!D949)","v":""},{"$f":"IF(ISBLANK('Control Sheet'!E949),\"\",'Control Sheet'!E949&\" (\"&'Control Sheet'!F949&\")\")","v":""},"","","","","","","","","","","","","",null,"","","","","","","","","","","","","","","","","","","","","","","","","","","","","","","","","","","","","","","","","","",{"$f":"IF(A969=\"\",\"\",MAX(IF(ISERROR(AU969:BF969),0,AU969:BF969)))","v":""},"","","","","","","","","","","","","","","","","","",""]
[{"$f":"IF(ISBLANK('Control Sheet'!D950),\"\",'Control Sheet'!D950)","v":""},{"$f":"IF(ISBLANK('Control Sheet'!E950),\"\",'Control Sheet'!E950&\" (\"&'Control Sheet'!F950&\")\")","v":""},"","","","","","","","","","","","","",null,"","","","","","","","","","","","","","","","","","","","","","","","","","","","","","","","","","","","","","","","","","",{"$f":"IF(A970=\"\",\"\",MAX(IF(ISERROR(AU970:BF970),0,AU970:BF970)))","v":""},"","","","","","","","","","","","","","","","","","",""]
[{"$f":"IF(ISBLANK('Control Sheet'!D951),\"\",'Control Sheet'!D951)","v":""},{"$f":"IF(ISBLANK('Control Sheet'!E951),\"\",'Control Sheet'!E951&\" (\"&'Control Sheet'!F951&\")\")","v":""},{"$f":"IF(C$18=1,IF(ISNA(VLOOKUP($A971,INDIRECT(C$20),OOPE_col,FALSE)),\"\",VLOOKUP($A971,INDIRECT(C$20),OOPE_col,FALSE)),\"\")","v":""},"","","","","","","","","","","","",null,"","","","","","","","","","","","","","","","","","","","","","","","","","","","","","","","","","","","","","","","","","",{"$f":"IF(A971=\"\",\"\",MAX(IF(ISERROR(AU971:BF971),0,AU971:BF971)))","v":""},"","","","","","","","","","","","","","","","","","",""]
[{"$f":"IF(ISBLANK('Control Sheet'!D952),\"\",'Control Sheet'!D952)","v":""},{"$f":"IF(ISBLANK('Control Sheet'!E952),\"\",'Control Sheet'!E952&\" (\"&'Control Sheet'!F952&\")\")","v":""},"","","","","","","","","","","","","",null,"","","","","","","","","","","","","","","","","","","","","","","","","","","","","","","","","","","","","","","","","","",{"$f":"IF(A972=\"\",\"\",MAX(IF(ISERROR(AU972:BF972),0,AU972:BF972)))","v":""},"","","","","","","","","","","","","","","","","","",""]
[{"$f":"IF(ISBLANK('Control Sheet'!D953),\"\",'Control Sheet'!D953)","v":""},{"$f":"IF(ISBLANK('Control Sheet'!E953),\"\",'Control Sheet'!E953&\" (\"&'Control Sheet'!F953&\")\")","v":""},"","","","","","","","","","","","","",null,"","","","","","","","","","","","","","","","","","","","","","","","","","","","","","","","","","","","","","","","","","",{"$f":"IF(A973=\"\",\"\",MAX(IF(ISERROR(AU973:BF973),0,AU973:BF973)))","v":""},"","","","","","","","","","","","","","","","","","",""]
[{"$f":"IF(ISBLANK('Control Sheet'!D954),\"\",'Control Sheet'!D954)","v":""},{"$f":"IF(ISBLANK('Control Sheet'!E954),\"\",'Control Sheet'!E954&\" (\"&'Control Sheet'!F954&\")\")","v":""},"","","","","","","","","","","","","",null,"","","","","","","","","","","","","","","","","","","","","","","","","","","","","","","","","","","","","","","","","","",{"$f":"IF(A974=\"\",\"\",MAX(IF(ISERROR(AU974:BF974),0,AU974:BF974)))","v":""},"","","","","","","","","","","","","","","","","","",""]
[{"$f":"IF(ISBLANK('Control Sheet'!D955),\"\",'Control Sheet'!D955)","v":""},{"$f":"IF(ISBLANK('Control Sheet'!E955),\"\",'Control Sheet'!E955&\" (\"&'Control Sheet'!F955&\")\")","v":""},"","","","","","","","","","","","","",null,"","","","","","","","","","","","","","","","","","","","","","","","","","","","","","","","","","","","","","","","","","",{"$f":"IF(A975=\"\",\"\",MAX(IF(ISERROR(AU975:BF975),0,AU975:BF975)))","v":""},"","","","","","","","","","","","","","","","","","",""]
[{"$f":"IF(ISBLANK('Control Sheet'!D956),\"\",'Control Sheet'!D956)","v":""},{"$f":"IF(ISBLANK('Control Sheet'!E956),\"\",'Control Sheet'!E956&\" (\"&'Control Sheet'!F956&\")\")","v":""},"","","","","","","","","","","","","",null,"","","","","","","","","","","","","","","","","","","","","","","","","","","","","","","","","","","","","","","","","","",{"$f":"IF(A976=\"\",\"\",MAX(IF(ISERROR(AU976:BF976),0,AU976:BF976)))","v":""},"","","","","","","","","","","","","","","","","","",""]
[{"$f":"IF(ISBLANK('Control Sheet'!D957),\"\",'Control Sheet'!D957)","v":""},{"$f":"IF(ISBLANK('Control Sheet'!E957),\"\",'Control Sheet'!E957&\" (\"&'Control Sheet'!F957&\")\")","v":""},"","","","","","","","","","","","","",null,"","","","","","","","","","","","","","","","","","","","","","","","","","","","","","","","","","","","","","","","","","",{"$f":"IF(A977=\"\",\"\",MAX(IF(ISERROR(AU977:BF977),0,AU977:BF977)))","v":""},"","","","","","","","","","","","","","","","","","",""]
[{"$f":"IF(ISBLANK('Control Sheet'!D958),\"\",'Control Sheet'!D958)","v":""},{"$f":"IF(ISBLANK('Control Sheet'!E958),\"\",'Control Sheet'!E958&\" (\"&'Control Sheet'!F958&\")\")","v":""},"","","","","","","","","","","","","",null,"","","","","","","","","","","","","","","","","","","","","","","","","","","","","","","","","","","","","","","","","","",{"$f":"IF(A978=\"\",\"\",MAX(IF(ISERROR(AU978:BF978),0,AU978:BF978)))","v":""},"","","","","","","","","","","","","","","","","","",""]
[{"$f":"IF(ISBLANK('Control Sheet'!D959),\"\",'Control Sheet'!D959)","v":""},{"$f":"IF(ISBLANK('Control Sheet'!E959),\"\",'Control Sheet'!E959&\" (\"&'Control Sheet'!F959&\")\")","v":""},"","","","","","","","","","","","","",null,"","","","","","","","","","","","","","","","","","","","","","","","","","","","","","","","","","","","","","","","","","",{"$f":"IF(A979=\"\",\"\",MAX(IF(ISERROR(AU979:BF979),0,AU979:BF979)))","v":""},"","","","","","","","","","","","","","","","","","",""]
[{"$f":"IF(ISBLANK('Control Sheet'!D960),\"\",'Control Sheet'!D960)","v":""},{"$f":"IF(ISBLANK('Control Sheet'!E960),\"\",'Control Sheet'!E960&\" (\"&'Control Sheet'!F960&\")\")","v":""},"","","","","","","","","","","","","",null,"","","","","","","","","","","","","","","","","","","","","","","","","","","","","","","","","","","","","","","","","","",{"$f":"IF(A980=\"\",\"\",MAX(IF(ISERROR(AU980:BF980),0,AU980:BF980)))","v":""},"","","","","","","","","","","","","","","","","","",""]
[{"$f":"IF(ISBLANK('Control Sheet'!D961),\"\",'Control Sheet'!D961)","v":""},{"$f":"IF(ISBLANK('Control Sheet'!E961),\"\",'Control Sheet'!E961&\" (\"&'Control Sheet'!F961&\")\")","v":""},{"$f":"IF(C$18=1,IF(ISNA(VLOOKUP($A981,INDIRECT(C$20),OOPE_col,FALSE)),\"\",VLOOKUP($A981,INDIRECT(C$20),OOPE_col,FALSE)),\"\")","v":""},"","","","","","","","","","","","",null,"",{"$f":"IF(A981=\"\",\"\",OOPEMonthsPop-(COUNTA(C981:N981)-COUNTBLANK(C981:N981)))","v":""},"","","","","","","","","","","","","","","","","","","","","","","","","","","","",{"$f":"IF(OR(A981=\"\",OOPEMonthsPop=0),\"\",IF(AU$18=OOPEMonthsPop,AH981,#N/A))","v":""},{"$f":"IF(OR($A981=\"\",OOPEMonthsPop=0),\"\",IF(AV$18<OOPEMonthsPop,#N/A,IF(AV$18=OOPEMonthsPop,AI981,IF(AU981=\"\",\"\",IF(AV$18=OOPEMonthsPop+1,AU981+(AU981*VLOOKUP(OOPEMonthsPop-$R981,ForecastMult,3,FALSE)/12),AU981+AU981-AT981)))))","v":""},{"$f":"IF(OR($A981=\"\",OOPEMonthsPop=0),\"\",IF(AW$18<OOPEMonthsPop,#N/A,IF(AW$18=OOPEMonthsPop,AJ981,IF(AV981=\"\",\"\",IF(AW$18=OOPEMonthsPop+1,AV981+(AV981*VLOOKUP(OOPEMonthsPop-$R981,ForecastMult,3,FALSE)/12),AV981+AV981-AU981)))))","v":""},{"$f":"IF(OR($A981=\"\",OOPEMonthsPop=0),\"\",IF(AX$18<OOPEMonthsPop,#N/A,IF(AX$18=OOPEMonthsPop,AK981,IF(AW981=\"\",\"\",IF(AX$18=OOPEMonthsPop+1,AW981+(AW981*VLOOKUP(OOPEMonthsPop-$R981,ForecastMult,3,FALSE)/12),AW981+AW981-AV981)))))","v":""},{"$f":"IF(OR($A981=\"\",OOPEMonthsPop=0),\"\",IF(AY$18<OOPEMonthsPop,#N/A,IF(AY$18=OOPEMonthsPop,AL981,IF(AX981=\"\",\"\",IF(AY$18=OOPEMonthsPop+1,AX981+(AX981*VLOOKUP(OOPEMonthsPop-$R981,ForecastMult,3,FALSE)/12),AX981+AX981-AW981)))))","v":""},{"$f":"IF(OR($A981=\"\",OOPEMonthsPop=0),\"\",IF(AZ$18<OOPEMonthsPop,#N/A,IF(AZ$18=OOPEMonthsPop,AM981,IF(AY981=\"\",\"\",IF(AZ$18=OOPEMonthsPop+1,AY981+(AY981*VLOOKUP(OOPEMonthsPop-$R981,ForecastMult,3,FALSE)/12),AY981+AY981-AX981)))))","v":""},{"$f":"IF(OR($A981=\"\",OOPEMonthsPop=0),\"\",IF(BA$18<OOPEMonthsPop,#N/A,IF(BA$18=OOPEMonthsPop,AN981,IF(AZ981=\"\",\"\",IF(BA$18=OOPEMonthsPop+1,AZ981+(AZ981*VLOOKUP(OOPEMonthsPop-$R981,ForecastMult,3,FALSE)/12),AZ981+AZ981-AY981)))))","v":""},{"$f":"IF(OR($A981=\"\",OOPEMonthsPop=0),\"\",IF(BB$18<OOPEMonthsPop,#N/A,IF(BB$18=OOPEMonthsPop,AO981,IF(BA981=\"\",\"\",IF(BB$18=OOPEMonthsPop+1,BA981+(BA981*VLOOKUP(OOPEMonthsPop-$R981,ForecastMult,3,FALSE)/12),BA981+BA981-AZ981)))))","v":""},{"$f":"IF(OR($A981=\"\",OOPEMonthsPop=0),\"\",IF(BC$18<OOPEMonthsPop,#N/A,IF(BC$18=OOPEMonthsPop,AP981,IF(BB981=\"\",\"\",IF(BC$18=OOPEMonthsPop+1,BB981+(BB981*VLOOKUP(OOPEMonthsPop-$R981,ForecastMult,3,FALSE)/12),BB981+BB981-BA981)))))","v":""},{"$f":"IF(OR($A981=\"\",OOPEMonthsPop=0),\"\",IF(BD$18<OOPEMonthsPop,#N/A,IF(BD$18=OOPEMonthsPop,AQ981,IF(BC981=\"\",\"\",IF(BD$18=OOPEMonthsPop+1,BC981+(BC981*VLOOKUP(OOPEMonthsPop-$R981,ForecastMult,3,FALSE)/12),BC981+BC981-BB981)))))","v":""},{"$f":"IF(OR($A981=\"\",OOPEMonthsPop=0),\"\",IF(BE$18<OOPEMonthsPop,#N/A,IF(BE$18=OOPEMonthsPop,AR981,IF(BD981=\"\",\"\",IF(BE$18=OOPEMonthsPop+1,BD981+(BD981*VLOOKUP(OOPEMonthsPop-$R981,ForecastMult,3,FALSE)/12),BD981+BD981-BC981)))))","v":""},{"$f":"IF(OR($A981=\"\",OOPEMonthsPop=0),\"\",IF(BF$18<OOPEMonthsPop,#N/A,IF(BF$18=OOPEMonthsPop,AS981,IF(BE981=\"\",\"\",IF(BF$18=OOPEMonthsPop+1,BE981+(BE981*VLOOKUP(OOPEMonthsPop-$R981,ForecastMult,3,FALSE)/12),BE981+BE981-BD981)))))","v":""},{"$f":"IF(A981=\"\",\"\",MAX(IF(ISERROR(AU981:BF981),0,AU981:BF981)))","v":""},{"$f":"IF(AND(C$18=1,$A981<>\"\"),IF(ISNA(VLOOKUP($A981,INDIRECT(C$20),TOT_STDR_PXS_col,FALSE)),\"\",VLOOKUP($A981,INDIRECT(C$20),TOT_STDR_PXS_col,FALSE)+VLOOKUP($A981,INDIRECT(C$20),TOT_ZDR_PXS_col,FALSE)),\"\")","v":""},{"$f":"IF(AND(D$18=1,$A981<>\"\"),IF(ISNA(VLOOKUP($A981,INDIRECT(D$20),TOT_STDR_PXS_col,FALSE)),\"\",VLOOKUP($A981,INDIRECT(D$20),TOT_STDR_PXS_col,FALSE)+VLOOKUP($A981,INDIRECT(D$20),TOT_ZDR_PXS_col,FALSE)),\"\")","v":""},{"$f":"IF(AND(E$18=1,$A981<>\"\"),IF(ISNA(VLOOKUP($A981,INDIRECT(E$20),TOT_STDR_PXS_col,FALSE)),\"\",VLOOKUP($A981,INDIRECT(E$20),TOT_STDR_PXS_col,FALSE)+VLOOKUP($A981,INDIRECT(E$20),TOT_ZDR_PXS_col,FALSE)),\"\")","v":""},{"$f":"IF(AND(F$18=1,$A981<>\"\"),IF(ISNA(VLOOKUP($A981,INDIRECT(F$20),TOT_STDR_PXS_col,FALSE)),\"\",VLOOKUP($A981,INDIRECT(F$20),TOT_STDR_PXS_col,FALSE)+VLOOKUP($A981,INDIRECT(F$20),TOT_ZDR_PXS_col,FALSE)),\"\")","v":""},{"$f":"IF(AND(G$18=1,$A981<>\"\"),IF(ISNA(VLOOKUP($A981,INDIRECT(G$20),TOT_STDR_PXS_col,FALSE)),\"\",VLOOKUP($A981,INDIRECT(G$20),TOT_STDR_PXS_col,FALSE)+VLOOKUP($A981,INDIRECT(G$20),TOT_ZDR_PXS_col,FALSE)),\"\")","v":""},{"$f":"IF(AND(H$18=1,$A981<>\"\"),IF(ISNA(VLOOKUP($A981,INDIRECT(H$20),TOT_STDR_PXS_col,FALSE)),\"\",VLOOKUP($A981,INDIRECT(H$20),TOT_STDR_PXS_col,FALSE)+VLOOKUP($A981,INDIRECT(H$20),TOT_ZDR_PXS_col,FALSE)),\"\")","v":""},{"$f":"IF(AND(I$18=1,$A981<>\"\"),IF(ISNA(VLOOKUP($A981,INDIRECT(I$20),TOT_STDR_PXS_col,FALSE)),\"\",VLOOKUP($A981,INDIRECT(I$20),TOT_STDR_PXS_col,FALSE)+VLOOKUP($A981,INDIRECT(I$20),TOT_ZDR_PXS_col,FALSE)),\"\")","v":""},{"$f":"IF(AND(J$18=1,$A981<>\"\"),IF(ISNA(VLOOKUP($A981,INDIRECT(J$20),TOT_STDR_PXS_col,FALSE)),\"\",VLOOKUP($A981,INDIRECT(J$20),TOT_STDR_PXS_col,FALSE)+VLOOKUP($A981,INDIRECT(J$20),TOT_ZDR_PXS_col,FALSE)),\"\")","v":""},{"$f":"IF(AND(K$18=1,$A981<>\"\"),IF(ISNA(VLOOKUP($A981,INDIRECT(K$20),TOT_STDR_PXS_col,FALSE)),\"\",VLOOKUP($A981,INDIRECT(K$20),TOT_STDR_PXS_col,FALSE)+VLOOKUP($A981,INDIRECT(K$20),TOT_ZDR_PXS_col,FALSE)),\"\")","v":""},{"$f":"IF(AND(L$18=1,$A981<>\"\"),IF(ISNA(VLOOKUP($A981,INDIRECT(L$20),TOT_STDR_PXS_col,FALSE)),\"\",VLOOKUP($A981,INDIRECT(L$20),TOT_STDR_PXS_col,FALSE)+VLOOKUP($A981,INDIRECT(L$20),TOT_ZDR_PXS_col,FALSE)),\"\")","v":""},{"$f":"IF(AND(M$18=1,$A981<>\"\"),IF(ISNA(VLOOKUP($A981,INDIRECT(M$20),TOT_STDR_PXS_col,FALSE)),\"\",VLOOKUP($A981,INDIRECT(M$20),TOT_STDR_PXS_col,FALSE)+VLOOKUP($A981,INDIRECT(M$20),TOT_ZDR_PXS_col,FALSE)),\"\")","v":""},{"$f":"IF(AND(N$18=1,$A981<>\"\"),IF(ISNA(VLOOKUP($A981,INDIRECT(N$20),TOT_STDR_PXS_col,FALSE)),\"\",VLOOKUP($A981,INDIRECT(N$20),TOT_STDR_PXS_col,FALSE)+VLOOKUP($A981,INDIRECT(N$20),TOT_ZDR_PXS_col,FALSE)),\"\")","v":""},"","","","","","",""]
[{"$f":"IF(ISBLANK('Control Sheet'!D962),\"\",'Control Sheet'!D962)","v":""},{"$f":"IF(ISBLANK('Control Sheet'!E962),\"\",'Control Sheet'!E962&\" (\"&'Control Sheet'!F962&\")\")","v":""},"","","","","","","","","","","","",{"$f":"IF(A982=\"\",\"\",SUM(C982:N982))","v":""},null,{"$f":"IF(A982=\"\",\"\",IF(BG982<=400,\"No\",\"Yes\"))","v":""},"",{"$f":"IF(C982=\"\",\"\",IF(C982<=C$10,1,IF(C982<=C$7,2,IF(C982<=C$8,3,IF(C982<=C$9,4,IF(C982<=C$11,5,60))))))","v":""},{"$f":"IF(D982=\"\",\"\",IF(D982<=D$10,1,IF(D982<=D$7,2,IF(D982<=D$8,3,IF(D982<=D$9,4,IF(D982<=D$11,5,60))))))","v":""},{"$f":"IF(E982=\"\",\"\",IF(E982<=E$10,1,IF(E982<=E$7,2,IF(E982<=E$8,3,IF(E982<=E$9,4,IF(E982<=E$11,5,60))))))","v":""},{"$f":"IF(F982=\"\",\"\",IF(F982<=F$10,1,IF(F982<=F$7,2,IF(F982<=F$8,3,IF(F982<=F$9,4,IF(F982<=F$11,5,60))))))","v":""},{"$f":"IF(G982=\"\",\"\",IF(G982<=G$10,1,IF(G982<=G$7,2,IF(G982<=G$8,3,IF(G982<=G$9,4,IF(G982<=G$11,5,60))))))","v":""},{"$f":"IF(H982=\"\",\"\",IF(H982<=H$10,1,IF(H982<=H$7,2,IF(H982<=H$8,3,IF(H982<=H$9,4,IF(H982<=H$11,5,60))))))","v":""},{"$f":"IF(I982=\"\",\"\",IF(I982<=I$10,1,IF(I982<=I$7,2,IF(I982<=I$8,3,IF(I982<=I$9,4,IF(I982<=I$11,5,60))))))","v":""},{"$f":"IF(J982=\"\",\"\",IF(J982<=J$10,1,IF(J982<=J$7,2,IF(J982<=J$8,3,IF(J982<=J$9,4,IF(J982<=J$11,5,60))))))","v":""},{"$f":"IF(K982=\"\",\"\",IF(K982<=K$10,1,IF(K982<=K$7,2,IF(K982<=K$8,3,IF(K982<=K$9,4,IF(K982<=K$11,5,60))))))","v":""},{"$f":"IF(L982=\"\",\"\",IF(L982<=L$10,1,IF(L982<=L$7,2,IF(L982<=L$8,3,IF(L982<=L$9,4,IF(L982<=L$11,5,60))))))","v":""},{"$f":"IF(M982=\"\",\"\",IF(M982<=M$10,1,IF(M982<=M$7,2,IF(M982<=M$8,3,IF(M982<=M$9,4,IF(M982<=M$11,5,60))))))","v":""},{"$f":"IF(N982=\"\",\"\",IF(N982<=N$10,1,IF(N982<=N$7,2,IF(N982<=N$8,3,IF(N982<=N$9,4,IF(N982<=N$11,5,60))))))","v":""},{"$f":"IF(A982=\"\",\"\",SUM(S982:AD982))","v":""},"",{"$f":"IF(AF982=\"\",\"\",IF(AF982<=1,\"Lower Outlier\",IF(AF982<=2,\"Below Average\",IF(AF982<=3,\"Lower Quartile\",IF(AF982<=4,\"Upper Quartile\",IF(AF982<=5, \"Above Average\", \"Upper Outlier\"))))))","v":""},{"$f":"IF(C$18=1,C982,\"\")","v":""},{"$f":"IF(D$18=1,IF(D982=\"\",IF(AH982=\"\",\"\",AH982),IF(AND(D982>=0,AH982=\"\"),D982,IF(ISERROR(D982+AH982),#N/A,D982+AH982))),\"\")","v":""},{"$f":"IF(E$18=1,IF(E982=\"\",IF(AI982=\"\",\"\",AI982),IF(AND(E982>=0,AI982=\"\"),E982,IF(ISERROR(E982+AI982),#N/A,E982+AI982))),\"\")","v":""},{"$f":"IF(F$18=1,IF(F982=\"\",IF(AJ982=\"\",\"\",AJ982),IF(AND(F982>=0,AJ982=\"\"),F982,IF(ISERROR(F982+AJ982),#N/A,F982+AJ982))),\"\")","v":""},{"$f":"IF(G$18=1,IF(G982=\"\",IF(AK982=\"\",\"\",AK982),IF(AND(G982>=0,AK982=\"\"),G982,IF(ISERROR(G982+AK982),#N/A,G982+AK982))),\"\")","v":""},{"$f":"IF(H$18=1,IF(H982=\"\",IF(AL982=\"\",\"\",AL982),IF(AND(H982>=0,AL982=\"\"),H982,IF(ISERROR(H982+AL982),#N/A,H982+AL982))),\"\")","v":""},{"$f":"IF(I$18=1,IF(I982=\"\",IF(AM982=\"\",\"\",AM982),IF(AND(I982>=0,AM982=\"\"),I982,IF(ISERROR(I982+AM982),#N/A,I982+AM982))),\"\")","v":""},{"$f":"IF(J$18=1,IF(J982=\"\",IF(AN982=\"\",\"\",AN982),IF(AND(J982>=0,AN982=\"\"),J982,IF(ISERROR(J982+AN982),#N/A,J982+AN982))),\"\")","v":""},{"$f":"IF(K$18=1,IF(K982=\"\",IF(AO982=\"\",\"\",AO982),IF(AND(K982>=0,AO982=\"\"),K982,IF(ISERROR(K982+AO982),#N/A,K982+AO982))),\"\")","v":""},{"$f":"IF(L$18=1,IF(L982=\"\",IF(AP982=\"\",\"\",AP982),IF(AND(L982>=0,AP982=\"\"),L982,IF(ISERROR(L982+AP982),#N/A,L982+AP982))),\"\")","v":""},{"$f":"IF(M$18=1,IF(M982=\"\",IF(AQ982=\"\",\"\",AQ982),IF(AND(M982>=0,AQ982=\"\"),M982,IF(ISERROR(M982+AQ982),#N/A,M982+AQ982))),\"\")","v":""},{"$f":"IF(N$18=1,IF(N982=\"\",IF(AR982=\"\",\"\",AR982),IF(AND(N982>=0,AR982=\"\"),N982,IF(ISERROR(N982+AR982),#N/A,N982+AR982))),\"\")","v":""},{"$f":"IF(A982=\"\",\"\",MAX(AH982:AS982))","v":""},"","","","","","","","","","","","",{"$f":"IF(A982=\"\",\"\",MAX(IF(ISERROR(AU982:BF982),0,AU982:BF982)))","v":""},"","","","","","","","","","","","",{"$f":"IF(A982=\"\",\"\",SUM(BH982:BS982))","v":""},{"$f":"IF(A982=\"\",\"\",MIN(B982:M982))","v":""},{"$f":"IF(A982=\"\",\"\",MAX(B982:M982))","v":""},{"$f":"IF(A982=\"\",\"\",IF(BV982-BU982=0,\"\",BV982-BU982))","v":""},{"$f":"IF(A982=\"\",\"\",IF(BW982=\"\",\"No\",IF(BW982>$BW$11,\"Yes\",\"No\")))","v":""},{"$f":"IF(A982=\"\",\"\",(COUNTA(C982:N982)-COUNTBLANK(C982:N982)))","v":""},{"$f":"IF(A982=\"\",\"\",BY982-COUNTIF(C982:N982,\"=0\"))","v":""}]
[{"$f":"IF(ISBLANK('Control Sheet'!D963),\"\",'Control Sheet'!D963)","v":""},{"$f":"IF(ISBLANK('Control Sheet'!E963),\"\",'Control Sheet'!E963&\" (\"&'Control Sheet'!F963&\")\")","v":""},"","","","","","","","","","","","","",null,"","","","","","","","","","","","","","","","","","","","","","","","","","","","","","","","","","","","","","","","","","",{"$f":"IF(A983=\"\",\"\",MAX(IF(ISERROR(AU983:BF983),0,AU983:BF983)))","v":""},"","","","","","","","","","","","","","","","","","",""]
[{"$f":"IF(ISBLANK('Control Sheet'!D964),\"\",'Control Sheet'!D964)","v":""},{"$f":"IF(ISBLANK('Control Sheet'!E964),\"\",'Control Sheet'!E964&\" (\"&'Control Sheet'!F964&\")\")","v":""},"","","","","","","","","","","","","",null,"","","","","","","","","","","","","","","","","","","","","","","","","","","","","","","","","","","","","","","","","","",{"$f":"IF(A984=\"\",\"\",MAX(IF(ISERROR(AU984:BF984),0,AU984:BF984)))","v":""},"","","","","","","","","","","","","","","","","","",""]
[{"$f":"IF(ISBLANK('Control Sheet'!D965),\"\",'Control Sheet'!D965)","v":""},{"$f":"IF(ISBLANK('Control Sheet'!E965),\"\",'Control Sheet'!E965&\" (\"&'Control Sheet'!F965&\")\")","v":""},"","","","","","","","","","","","","",null,"","","","","","","","","","","","","","","","","","","","","","","","","","","","","","","","","","","","","","","","","","",{"$f":"IF(A985=\"\",\"\",MAX(IF(ISERROR(AU985:BF985),0,AU985:BF985)))","v":""},"","","","","","","","","","","","","","","","","","",""]
[{"$f":"IF(ISBLANK('Control Sheet'!D966),\"\",'Control Sheet'!D966)","v":""},{"$f":"IF(ISBLANK('Control Sheet'!E966),\"\",'Control Sheet'!E966&\" (\"&'Control Sheet'!F966&\")\")","v":""},"","","","","","","","","","","","","",null,"","","","","","","","","","","","","","","","","","","","","","","","","","","","","","","","","","","","","","","","","","",{"$f":"IF(A986=\"\",\"\",MAX(IF(ISERROR(AU986:BF986),0,AU986:BF986)))","v":""},"","","","","","","","","","","","","","","","","","",""]
[{"$f":"IF(ISBLANK('Control Sheet'!D967),\"\",'Control Sheet'!D967)","v":""},{"$f":"IF(ISBLANK('Control Sheet'!E967),\"\",'Control Sheet'!E967&\" (\"&'Control Sheet'!F967&\")\")","v":""},"","","","","","","","","","","","","",null,"","","","","","","","","","","","","","","","","","","","","","","","","","","","","","","","","","","","","","","","","","",{"$f":"IF(A987=\"\",\"\",MAX(IF(ISERROR(AU987:BF987),0,AU987:BF987)))","v":""},"","","","","","","","","","","","","","","","","","",""]
[{"$f":"IF(ISBLANK('Control Sheet'!D968),\"\",'Control Sheet'!D968)","v":""},{"$f":"IF(ISBLANK('Control Sheet'!E968),\"\",'Control Sheet'!E968&\" (\"&'Control Sheet'!F968&\")\")","v":""},"","","","","","","","","","","","","",null,"","","","","","","","","","","","","","","","","","","","","","","","","","","","","","","","","","","","","","","","","","",{"$f":"IF(A988=\"\",\"\",MAX(IF(ISERROR(AU988:BF988),0,AU988:BF988)))","v":""},"","","","","","","","","","","","","","","","","","",""]
[{"$f":"IF(ISBLANK('Control Sheet'!D969),\"\",'Control Sheet'!D969)","v":""},{"$f":"IF(ISBLANK('Control Sheet'!E969),\"\",'Control Sheet'!E969&\" (\"&'Control Sheet'!F969&\")\")","v":""},"","","","","","","","","","","","","",null,"","","","","","","","","","","","","","","","","","","","","","","","","","","","","","","","","","","","","","","","","","",{"$f":"IF(A989=\"\",\"\",MAX(IF(ISERROR(AU989:BF989),0,AU989:BF989)))","v":""},"","","","","","","","","","","","","","","","","","",""]
[{"$f":"IF(ISBLANK('Control Sheet'!D970),\"\",'Control Sheet'!D970)","v":""},{"$f":"IF(ISBLANK('Control Sheet'!E970),\"\",'Control Sheet'!E970&\" (\"&'Control Sheet'!F970&\")\")","v":""},"","","","","","","","","","","","","",null,"","","","","","","","","","","","","","","","","","","","","","","","","","","","","","","","","","","","","","","","","","",{"$f":"IF(A990=\"\",\"\",MAX(IF(ISERROR(AU990:BF990),0,AU990:BF990)))","v":""},"","","","","","","","","","","","","","","","","","",""]
[{"$f":"IF(ISBLANK('Control Sheet'!D971),\"\",'Control Sheet'!D971)","v":""},{"$f":"IF(ISBLANK('Control Sheet'!E971),\"\",'Control Sheet'!E971&\" (\"&'Control Sheet'!F971&\")\")","v":""},{"$f":"IF(C$18=1,IF(ISNA(VLOOKUP($A991,INDIRECT(C$20),OOPE_col,FALSE)),\"\",VLOOKUP($A991,INDIRECT(C$20),OOPE_col,FALSE)),\"\")","v":""},"","","","","","","","","","","","",null,"","","","","","","","","","","","","","","","","","","","","","","","","","","","","","","","","","","","","","","","","","",{"$f":"IF(A991=\"\",\"\",MAX(IF(ISERROR(AU991:BF991),0,AU991:BF991)))","v":""},"","","","","","","","","","","","","","","","","","",""]
[{"$f":"IF(ISBLANK('Control Sheet'!D972),\"\",'Control Sheet'!D972)","v":""},{"$f":"IF(ISBLANK('Control Sheet'!E972),\"\",'Control Sheet'!E972&\" (\"&'Control Sheet'!F972&\")\")","v":""},"","","","","","","","","","","","","",null,"","","","","","","","","","","","","","","","","","","","","","","","","","","","","","","","","","","","","","","","","","",{"$f":"IF(A992=\"\",\"\",MAX(IF(ISERROR(AU992:BF992),0,AU992:BF992)))","v":""},"","","","","","","","","","","","","","","","","","",""]
[{"$f":"IF(ISBLANK('Control Sheet'!D973),\"\",'Control Sheet'!D973)","v":""},{"$f":"IF(ISBLANK('Control Sheet'!E973),\"\",'Control Sheet'!E973&\" (\"&'Control Sheet'!F973&\")\")","v":""},"","","","","","","","","","","","","",null,"","","","","","","","","","","","","","","","","","","","","","","","","","","","","","","","","","","","","","","","","","",{"$f":"IF(A993=\"\",\"\",MAX(IF(ISERROR(AU993:BF993),0,AU993:BF993)))","v":""},"","","","","","","","","","","","","","","","","","",""]
[{"$f":"IF(ISBLANK('Control Sheet'!D974),\"\",'Control Sheet'!D974)","v":""},{"$f":"IF(ISBLANK('Control Sheet'!E974),\"\",'Control Sheet'!E974&\" (\"&'Control Sheet'!F974&\")\")","v":""},"","","","","","","","","","","","","",null,"","","","","","","","","","","","","","","","","","","","","","","","","","","","","","","","","","","","","","","","","","",{"$f":"IF(A994=\"\",\"\",MAX(IF(ISERROR(AU994:BF994),0,AU994:BF994)))","v":""},"","","","","","","","","","","","","","","","","","",""]
[{"$f":"IF(ISBLANK('Control Sheet'!D975),\"\",'Control Sheet'!D975)","v":""},{"$f":"IF(ISBLANK('Control Sheet'!E975),\"\",'Control Sheet'!E975&\" (\"&'Control Sheet'!F975&\")\")","v":""},"","","","","","","","","","","","","",null,"","","","","","","","","","","","","","","","","","","","","","","","","","","","","","","","","","","","","","","","","","",{"$f":"IF(A995=\"\",\"\",MAX(IF(ISERROR(AU995:BF995),0,AU995:BF995)))","v":""},"","","","","","","","","","","","","","","","","","",""]
[{"$f":"IF(ISBLANK('Control Sheet'!D976),\"\",'Control Sheet'!D976)","v":""},{"$f":"IF(ISBLANK('Control Sheet'!E976),\"\",'Control Sheet'!E976&\" (\"&'Control Sheet'!F976&\")\")","v":""},"","","","","","","","","","","","","",null,"","","","","","","","","","","","","","","","","","","","","","","","","","","","","","","","","","","","","","","","","","",{"$f":"IF(A996=\"\",\"\",MAX(IF(ISERROR(AU996:BF996),0,AU996:BF996)))","v":""},"","","","","","","","","","","","","","","","","","",""]
[{"$f":"IF(ISBLANK('Control Sheet'!D977),\"\",'Control Sheet'!D977)","v":""},{"$f":"IF(ISBLANK('Control Sheet'!E977),\"\",'Control Sheet'!E977&\" (\"&'Control Sheet'!F977&\")\")","v":""},"","","","","","","","","","","","","",null,"","","","","","","","","","","","","","","","","","","","","","","","","","","","","","","","","","","","","","","","","","",{"$f":"IF(A997=\"\",\"\",MAX(IF(ISERROR(AU997:BF997),0,AU997:BF997)))","v":""},"","","","","","","","","","","","","","","","","","",""]
[{"$f":"IF(ISBLANK('Control Sheet'!D978),\"\",'Control Sheet'!D978)","v":""},{"$f":"IF(ISBLANK('Control Sheet'!E978),\"\",'Control Sheet'!E978&\" (\"&'Control Sheet'!F978&\")\")","v":""},"","","","","","","","","","","","","",null,"","","","","","","","","","","","","","","","","","","","","","","","","","","","","","","","","","","","","","","","","","",{"$f":"IF(A998=\"\",\"\",MAX(IF(ISERROR(AU998:BF998),0,AU998:BF998)))","v":""},"","","","","","","","","","","","","","","","","","",""]
[{"$f":"IF(ISBLANK('Control Sheet'!D979),\"\",'Control Sheet'!D979)","v":""},{"$f":"IF(ISBLANK('Control Sheet'!E979),\"\",'Control Sheet'!E979&\" (\"&'Control Sheet'!F979&\")\")","v":""},"","","","","","","","","","","","","",null,"","","","","","","","","","","","","","","","","","","","","","","","","","","","","","","","","","","","","","","","","","",{"$f":"IF(A999=\"\",\"\",MAX(IF(ISERROR(AU999:BF999),0,AU999:BF999)))","v":""},"","","","","","","","","","","","","","","","","","",""]
[{"$f":"IF(ISBLANK('Control Sheet'!D980),\"\",'Control Sheet'!D980)","v":""},{"$f":"IF(ISBLANK('Control Sheet'!E980),\"\",'Control Sheet'!E980&\" (\"&'Control Sheet'!F980&\")\")","v":""},"","","","","","","","","","","","","",null,"","","","","","","","","","","","","","","","","","","","","","","","","","","","","","","","","","","","","","","","","","",{"$f":"IF(A1000=\"\",\"\",MAX(IF(ISERROR(AU1000:BF1000),0,AU1000:BF1000)))","v":""},"","","","","","","","","","","","","","","","","","",""]
[{"$f":"IF(ISBLANK('Control Sheet'!D981),\"\",'Control Sheet'!D981)","v":""},{"$f":"IF(ISBLANK('Control Sheet'!E981),\"\",'Control Sheet'!E981&\" (\"&'Control Sheet'!F981&\")\")","v":""},{"$f":"IF(C$18=1,IF(ISNA(VLOOKUP($A1001,INDIRECT(C$20),OOPE_col,FALSE)),\"\",VLOOKUP($A1001,INDIRECT(C$20),OOPE_col,FALSE)),\"\")","v":""},"","","","","","","","","","","","",null,"","","","","","","","","","","","","","","","","","","","","","","","","","","","","","","","","","","","","","","","","","",{"$f":"IF(A1001=\"\",\"\",MAX(IF(ISERROR(AU1001:BF1001),0,AU1001:BF1001)))","v":""},"","","","","","","","","","","","","","","","","","",""]
[{"$f":"IF(ISBLANK('Control Sheet'!D982),\"\",'Control Sheet'!D982)","v":""},{"$f":"IF(ISBLANK('Control Sheet'!E982),\"\",'Control Sheet'!E982&\" (\"&'Control Sheet'!F982&\")\")","v":""},"","","","","","","","","","","","","",null,"","","","","","","","","","","","","","","","","","","","","","","","","","","","","","","","","","","","","","","","","","",{"$f":"IF(A1002=\"\",\"\",MAX(IF(ISERROR(AU1002:BF1002),0,AU1002:BF1002)))","v":""},"","","","","","","","","","","","","","","","","","",""]
[{"$f":"IF(ISBLANK('Control Sheet'!D983),\"\",'Control Sheet'!D983)","v":""},{"$f":"IF(ISBLANK('Control Sheet'!E983),\"\",'Control Sheet'!E983&\" (\"&'Control Sheet'!F983&\")\")","v":""},"","","","","","","","","","","","","",null,"","","","","","","","","","","","","","","","","","","","","","","","","","","","","","","","","","","","","","","","","","",{"$f":"IF(A1003=\"\",\"\",MAX(IF(ISERROR(AU1003:BF1003),0,AU1003:BF1003)))","v":""},"","","","","","","","","","","","","","","","","","",""]
[{"$f":"IF(ISBLANK('Control Sheet'!D984),\"\",'Control Sheet'!D984)","v":""},{"$f":"IF(ISBLANK('Control Sheet'!E984),\"\",'Control Sheet'!E984&\" (\"&'Control Sheet'!F984&\")\")","v":""},"","","","","","","","","","","","","",null,"","","","","","","","","","","","","","","","","","","","","","","","","","","","","","","","","","","","","","","","","","",{"$f":"IF(A1004=\"\",\"\",MAX(IF(ISERROR(AU1004:BF1004),0,AU1004:BF1004)))","v":""},"","","","","","","","","","","","","","","","","","",""]
[{"$f":"IF(ISBLANK('Control Sheet'!D985),\"\",'Control Sheet'!D985)","v":""},{"$f":"IF(ISBLANK('Control Sheet'!E985),\"\",'Control Sheet'!E985&\" (\"&'Control Sheet'!F985&\")\")","v":""},"","","","","","","","","","","","","",null,"","","","","","","","","","","","","","","","","","","","","","","","","","","","","","","","","","","","","","","","","","",{"$f":"IF(A1005=\"\",\"\",MAX(IF(ISERROR(AU1005:BF1005),0,AU1005:BF1005)))","v":""},"","","","","","","","","","","","","","","","","","",""]
[{"$f":"IF(ISBLANK('Control Sheet'!D986),\"\",'Control Sheet'!D986)","v":""},{"$f":"IF(ISBLANK('Control Sheet'!E986),\"\",'Control Sheet'!E986&\" (\"&'Control Sheet'!F986&\")\")","v":""},"","","","","","","","","","","","","",null,"","","","","","","","","","","","","","","","","","","","","","","","","","","","","","","","","","","","","","","","","","",{"$f":"IF(A1006=\"\",\"\",MAX(IF(ISERROR(AU1006:BF1006),0,AU1006:BF1006)))","v":""},"","","","","","","","","","","","","","","","","","",""]
[{"$f":"IF(ISBLANK('Control Sheet'!D987),\"\",'Control Sheet'!D987)","v":""},{"$f":"IF(ISBLANK('Control Sheet'!E987),\"\",'Control Sheet'!E987&\" (\"&'Control Sheet'!F987&\")\")","v":""},"","","","","","","","","","","","","",null,"","","","","","","","","","","","","","","","","","","","","","","","","","","","","","","","","","","","","","","","","","",{"$f":"IF(A1007=\"\",\"\",MAX(IF(ISERROR(AU1007:BF1007),0,AU1007:BF1007)))","v":""},"","","","","","","","","","","","","","","","","","",""]
[{"$f":"IF(ISBLANK('Control Sheet'!D988),\"\",'Control Sheet'!D988)","v":""},{"$f":"IF(ISBLANK('Control Sheet'!E988),\"\",'Control Sheet'!E988&\" (\"&'Control Sheet'!F988&\")\")","v":""},"","","","","","","","","","","","","",null,"","","","","","","","","","","","","","","","","","","","","","","","","","","","","","","","","","","","","","","","","","",{"$f":"IF(A1008=\"\",\"\",MAX(IF(ISERROR(AU1008:BF1008),0,AU1008:BF1008)))","v":""},"","","","","","","","","","","","","","","","","","",""]
[{"$f":"IF(ISBLANK('Control Sheet'!D989),\"\",'Control Sheet'!D989)","v":""},{"$f":"IF(ISBLANK('Control Sheet'!E989),\"\",'Control Sheet'!E989&\" (\"&'Control Sheet'!F989&\")\")","v":""},"","","","","","","","","","","","","",null,"","","","","","","","","","","","","","","","","","","","","","","","","","","","","","","","","","","","","","","","","","",{"$f":"IF(A1009=\"\",\"\",MAX(IF(ISERROR(AU1009:BF1009),0,AU1009:BF1009)))","v":""},"","","","","","","","","","","","","","","","","","",""]
[{"$f":"IF(ISBLANK('Control Sheet'!D990),\"\",'Control Sheet'!D990)","v":""},{"$f":"IF(ISBLANK('Control Sheet'!E990),\"\",'Control Sheet'!E990&\" (\"&'Control Sheet'!F990&\")\")","v":""},"","","","","","","","","","","","","",null,"","","","","","","","","","","","","","","","","","","","","","","","","","","","","","","","","","","","","","","","","","",{"$f":"IF(A1010=\"\",\"\",MAX(IF(ISERROR(AU1010:BF1010),0,AU1010:BF1010)))","v":""},"","","","","","","","","","","","","","","","","","",""]
[{"$f":"IF(ISBLANK('Control Sheet'!D991),\"\",'Control Sheet'!D991)","v":""},{"$f":"IF(ISBLANK('Control Sheet'!E991),\"\",'Control Sheet'!E991&\" (\"&'Control Sheet'!F991&\")\")","v":""},{"$f":"IF(C$18=1,IF(ISNA(VLOOKUP($A1011,INDIRECT(C$20),OOPE_col,FALSE)),\"\",VLOOKUP($A1011,INDIRECT(C$20),OOPE_col,FALSE)),\"\")","v":""},"","","","","","","","","","","","",null,"","","","","","","","","","","","","","","","","","","","","","","","","","","","","","","","","","","","","","","","","","",{"$f":"IF(A1011=\"\",\"\",MAX(IF(ISERROR(AU1011:BF1011),0,AU1011:BF1011)))","v":""},"","","","","","","","","","","","","","","","","","",""]
[{"$f":"IF(ISBLANK('Control Sheet'!D992),\"\",'Control Sheet'!D992)","v":""},{"$f":"IF(ISBLANK('Control Sheet'!E992),\"\",'Control Sheet'!E992&\" (\"&'Control Sheet'!F992&\")\")","v":""},"","","","","","","","","","","","","",null,"","","","","","","","","","","","","","","",{"$f":"IF(OR(A1012=\"\",AE1012=0),\"\",AE1012/(O$18-R854))","v":""},"","","","","","","","","","","","","","","","","","","","","","","","","","",{"$f":"IF(A1012=\"\",\"\",MAX(IF(ISERROR(AU1012:BF1012),0,AU1012:BF1012)))","v":""},"","","","","","","","","","","","","","","","","","",""]
[{"$f":"IF(ISBLANK('Control Sheet'!D993),\"\",'Control Sheet'!D993)","v":""},{"$f":"IF(ISBLANK('Control Sheet'!E993),\"\",'Control Sheet'!E993&\" (\"&'Control Sheet'!F993&\")\")","v":""},"","","","","","","","","","","","","",null,"","","","","","","","","","","","","","","","","","","","","","","","","","","","","","","","","","","","","","","","","","",{"$f":"IF(A1013=\"\",\"\",MAX(IF(ISERROR(AU1013:BF1013),0,AU1013:BF1013)))","v":""},"","","","","","","","","","","","","","","","","","",""]
[{"$f":"IF(ISBLANK('Control Sheet'!D994),\"\",'Control Sheet'!D994)","v":""},{"$f":"IF(ISBLANK('Control Sheet'!E994),\"\",'Control Sheet'!E994&\" (\"&'Control Sheet'!F994&\")\")","v":""},"","","","","","","","","","","","","",null,"","","","","","","","","","","","","","","","","","","","","","","","","","","","","","","","","","","","","","","","","","",{"$f":"IF(A1014=\"\",\"\",MAX(IF(ISERROR(AU1014:BF1014),0,AU1014:BF1014)))","v":""},"","","","","","","","","","","","","","","","","","",""]
[{"$f":"IF(ISBLANK('Control Sheet'!D995),\"\",'Control Sheet'!D995)","v":""},{"$f":"IF(ISBLANK('Control Sheet'!E995),\"\",'Control Sheet'!E995&\" (\"&'Control Sheet'!F995&\")\")","v":""},"","","","","","","","","","","","","",null,"","","","","","","","","","","","","","","","","","","","","","","","","","","","","","","","","","","","","","","","","","",{"$f":"IF(A1015=\"\",\"\",MAX(IF(ISERROR(AU1015:BF1015),0,AU1015:BF1015)))","v":""},"","","","","","","","","","","","","","","","","","",""]
[{"$f":"IF(ISBLANK('Control Sheet'!D996),\"\",'Control Sheet'!D996)","v":""},{"$f":"IF(ISBLANK('Control Sheet'!E996),\"\",'Control Sheet'!E996&\" (\"&'Control Sheet'!F996&\")\")","v":""},"","","","","","","","","","","","","",null,"","","","","","","","","","","","","","","","","","","","","","","","","","","","","","","","","","","","","","","","","","",{"$f":"IF(A1016=\"\",\"\",MAX(IF(ISERROR(AU1016:BF1016),0,AU1016:BF1016)))","v":""},"","","","","","","","","","","","","","","","","","",""]
[{"$f":"IF(ISBLANK('Control Sheet'!D997),\"\",'Control Sheet'!D997)","v":""},{"$f":"IF(ISBLANK('Control Sheet'!E997),\"\",'Control Sheet'!E997&\" (\"&'Control Sheet'!F997&\")\")","v":""},"","","","","","","","","","","","",{"$f":"IF(A1017=\"\",\"\",SUM(C1017:N1017))","v":""},null,"",{"$f":"IF(A1017=\"\",\"\",OOPEMonthsPop-(COUNTA(C1017:N1017)-COUNTBLANK(C1017:N1017)))","v":""},"","","","","","","","","","","","",{"$f":"IF(A1017=\"\",\"\",SUM(S1017:AD1017))","v":""},"",{"$f":"IF(AF1017=\"\",\"\",IF(AF1017<=1,\"Lower Outlier\",IF(AF1017<=2,\"Below Average\",IF(AF1017<=3,\"Lower Quartile\",IF(AF1017<=4,\"Upper Quartile\",IF(AF1017<=5, \"Above Average\", \"Upper Outlier\"))))))","v":""},{"$f":"IF(C$18=1,C1017,\"\")","v":""},"","","","","","","","","","","",{"$f":"IF(A1017=\"\",\"\",MAX(AH1017:AS1017))","v":""},"","","","","","","","","","","","",{"$f":"IF(A1017=\"\",\"\",MAX(IF(ISERROR(AU1017:BF1017),0,AU1017:BF1017)))","v":""},"","","","","","","","","","","","",{"$f":"IF(A1017=\"\",\"\",SUM(BH1017:BS1017))","v":""},"","","","","",""]
[{"$f":"IF(ISBLANK('Control Sheet'!D998),\"\",'Control Sheet'!D998)","v":""},{"$f":"IF(ISBLANK('Control Sheet'!E998),\"\",'Control Sheet'!E998&\" (\"&'Control Sheet'!F998&\")\")","v":""},"","","","","","","","","","","","",{"$f":"IF(A1018=\"\",\"\",SUM(C1018:N1018))","v":""},null,"",{"$f":"IF(A1018=\"\",\"\",OOPEMonthsPop-(COUNTA(C1018:N1018)-COUNTBLANK(C1018:N1018)))","v":""},"","","","","","","","","","","","",{"$f":"IF(A1018=\"\",\"\",SUM(S1018:AD1018))","v":""},"",{"$f":"IF(AF1018=\"\",\"\",IF(AF1018<=1,\"Lower Outlier\",IF(AF1018<=2,\"Below Average\",IF(AF1018<=3,\"Lower Quartile\",IF(AF1018<=4,\"Upper Quartile\",IF(AF1018<=5, \"Above Average\", \"Upper Outlier\"))))))","v":""},{"$f":"IF(C$18=1,C1018,\"\")","v":""},"","","","","","","","","","","",{"$f":"IF(A1018=\"\",\"\",MAX(AH1018:AS1018))","v":""},"","","","","","","","","","","","",{"$f":"IF(A1018=\"\",\"\",MAX(IF(ISERROR(AU1018:BF1018),0,AU1018:BF1018)))","v":""},"","","","","","","","","","","","",{"$f":"IF(A1018=\"\",\"\",SUM(BH1018:BS1018))","v":""},"","","","","",""]

{"sheet":"MUR Dynamic","index":7,"n_rows":13,"n_cols":43,"rows_kept":13,"cut":false,"hidden":true,"merged":[]}
["Scatter plot Charts (do not put anything below - Keep space for pivot to expand)",null,null,null,null,null,null,null,null,null,null,null,null,null,null,null,null,null,null,null,null,null,null,null,null,null,null,null,null,null,"Box plot Charts (do not put anything below - Keep space for pivot to expand)",null,null,null,null,null,null,null,null,"Scatter hover series"]
["Contains Outlier Activity","(All)",null,null,null,null,null,null,null,null,null,null,null,null,null,null,null,null,null,null,null,null,null,null,"Averages",null,null,null,null,null,null,null,null,null,"Spread Outlier","Yes"]
[null,null,null,null,null,null,null,null,null,null,null,null,null,null,null,null,null,null,null,null,null,null,null,null,"y","Ave. Items",null,"x","Ave. MUR",null,"Outlier",1.5]
["Row Labels","Name","MUR to date","Total Items",null,null,null,null,null,null,null,null,null,null,null,null,null,null,null,null,null,null,null,null,0,{"$f":"'MUR Workings'!BT5","v":0},null,0,{"$f":"'MUR Workings'!O5","v":0},null,"Min/LO",{"$f":"IF(AF5-((AF7-AF5)*AF3)<0,0,AF5-((AF7-AF5)*AF3))","v":0},null,null,"Row Labels","Count of Contractor","Sum of Spread"]
["Blank",null,0,0,null,null,null,null,null,null,null,null,null,null,null,null,null,null,null,null,null,null,null,null,1,{"$f":"Z4","v":0},null,{"$f":"'MUR Workings'!BT13","v":0},{"$f":"AC4","v":0},null,"Q1",{"$f":"'MUR Workings'!BW7","v":0},null,null,null,null,null,null,null,{"$f":"LastFCodeSelected","v":"FR338"},{"$f":"IF(ISERROR(VLOOKUP(LastFCodeSelected,MUR_Data,15,FALSE)),#N/A,VLOOKUP(LastFCodeSelected,MUR_Data,15,FALSE))","v":{"$error":"#N/A"}},{"$f":"IF(ISERROR(VLOOKUP(LastFCodeSelected,MUR_Data,72,FALSE)),#N/A,VLOOKUP(LastFCodeSelected,MUR_Data,72,FALSE))","v":{"$error":"#N/A"}},{"$f":"IF(ISERROR(VLOOKUP(LastFCodeSelected,MUR_Data,75,FALSE)),#N/A,VLOOKUP(LastFCodeSelected,MUR_Data,75,FALSE))","v":{"$error":"#N/A"}}]
[null,null,null,null,null,null,null,null,null,null,null,null,null,null,null,null,null,null,null,null,null,null,null,null,null,null,null,null,null,null,"Median",{"$f":"'MUR Workings'!BW8","v":0},null,null,null,null,null,null,null,null,0,0,1]
[null,null,null,null,null,null,null,null,null,null,null,null,null,null,null,null,null,null,null,null,null,null,null,null,null,null,null,null,null,null,"Q3",{"$f":"'MUR Workings'!BW9","v":0}]
[null,null,null,null,null,null,null,null,null,null,null,null,null,null,null,null,null,null,null,null,null,null,null,null,null,null,null,null,null,null,"Max/UO",{"$f":"AF7+((AF7-AF5)*AF3)","v":0}]
[null,null,null,null,null,null,null,null,null,null,null,null,null,null,null,null,null,null,null,null,null,null,null,null,null,null,null,null,null,null,"Bottom",{"$f":"AF5-AF4","v":0}]
[null,null,null,null,null,null,null,null,null,null,null,null,null,null,null,null,null,null,null,null,null,null,null,null,null,null,null,null,null,null,"2Q Box",{"$f":"AF6-AF5","v":0}]
[null,null,null,null,null,null,null,null,null,null,null,null,null,null,null,null,null,null,null,null,null,null,null,null,null,null,null,null,null,null,"3Q Box",{"$f":"AF7-AF6","v":0}]
[null,null,null,null,null,null,null,null,null,null,null,null,null,null,null,null,null,null,null,null,null,null,null,null,null,null,null,null,null,null,"Whisker -",{"$f":"AF5-AF4","v":0}]
[null,null,null,null,null,null,null,null,null,null,null,null,null,null,null,null,null,null,null,null,null,null,null,null,null,null,null,null,null,null,"Whisker +",{"$f":"AF8-AF7","v":0}]

{"sheet":"NMS Workings","index":8,"n_rows":1018,"n_cols":104,"rows_kept":562,"cut":true,"hidden":true,"merged":[],"bounds":{"rows_first":250,"rows_last":62,"rows_between":250,"halvings":3}}
["Metric",null,"NMS",null,"AT:",{"$f":"Apr!A2","v":""},null,"Contractors:",{"$f":"COUNT(O21:O1016)","v":1},null,null,null,null,null,null,null,null,null,null,null,null,null,null,null,null,null,null,null,null,null,null,"Lower Outlier",{"$f":"COUNTIF(AG$21:AG$1016,\"Lower Outlier\")","v":0}]
["Tot NMS (ytd)",null,{"$f":"SUM(C21:N1016)","v":0},null,"Avg (ytd)",{"$f":"IF(NMSMonthsPop=0,0,AVERAGE(C21:N1016))","v":0},null,"St Dev (ytd)",{"$f":"STDEVA(C21:N1016)","v":0},null,null,null,null,null,null,null,null,null,null,null,null,null,null,null,null,null,null,null,null,null,null,"Below Average",{"$f":"COUNTIF(AG$21:AG$1016,\"Below Average\")","v":0},null,null,null,null,null,null,null,null,null,null,null,null,null,null,null,null,null,null,null,null,null,null,null,null,null,null,null,null,null,null,null,null,null,null,null,null,null,null,null,null,null,null,null,null,null,null,null,null,null,null,null,null,null,null,null,null,null,{"$f":"SUM(CM21:CM1018)","v":0},null,null,null,null,null,null,null,null,null,null,null,null,{"$f":"SUM(CZ21:CZ1018)","v":0}]
["Monthly Total",null,{"$f":"IF(C18=1,SUM(C21:C1016),#N/A)","v":{"$error":"#N/A"}},{"$f":"IF(D18=1,SUM(D21:D1016),#N/A)","v":{"$error":"#N/A"}},{"$error":"#N/A"},{"$error":"#N/A"},{"$error":"#N/A"},{"$error":"#N/A"},{"$error":"#N/A"},{"$error":"#N/A"},{"$error":"#N/A"},{"$error":"#N/A"},{"$error":"#N/A"},{"$error":"#N/A"},{"$f":"IF(MURMonthsPop=0,0,SUMIF(C3:N3,\"<>#N/A\")/SUM(C18:N18))","v":0},null,null,null,null,null,null,null,null,null,null,null,null,null,null,null,null,"Lower Quartile",{"$f":"COUNTIF(AG$21:AG$1016,\"Lower Quartile\")","v":0},null,null,null,null,null,null,null,null,null,null,null,null,null,null,null,null,null,null,null,null,null,null,null,null,null,null,{"$f":"SUM(BH21:BH1016)","v":0},{"$f":"SUM(BI21:BI1016)","v":0},0,0,0,0,0,0,0,0,0,0,{"$f":"SUM(BT21:BT1016)","v":0},0,0,0]
["Monthly Cummulative",null,{"$f":"C3","v":{"$error":"#N/A"}},{"$f":"SUM(C3:D3)","v":{"$error":"#N/A"}},{"$f":"SUM(C3:E3)","v":{"$error":"#N/A"}},{"$f":"SUM(C3:F3)","v":{"$error":"#N/A"}},{"$f":"SUM(C3:G3)","v":{"$error":"#N/A"}},{"$f":"SUM(C3:H3)","v":{"$error":"#N/A"}},{"$f":"SUM(C3:I3)","v":{"$error":"#N/A"}},{"$f":"SUM(C3:J3)","v":{"$error":"#N/A"}},{"$f":"SUM(C3:K3)","v":{"$error":"#N/A"}},{"$f":"SUM(C3:L3)","v":{"$error":"#N/A"}},{"$f":"SUM(C3:M3)","v":{"$error":"#N/A"}},{"$f":"SUM(C3:N3)","v":{"$error":"#N/A"}},null,null,null,null,null,null,null,null,null,null,null,null,null,null,null,null,null,"Upper Quartile",{"$f":"COUNTIF(AG$21:AG$1016,\"Upper Quartile\")","v":0}]
["Monthly Average",null,{"$f":"IF(C18=0,#N/A,AVERAGE(C21:C1016))","v":{"$error":"#N/A"}},{"$f":"IF(D18=0,#N/A,AVERAGE(D21:D1016))","v":{"$error":"#N/A"}},{"$error":"#N/A"},{"$error":"#N/A"},{"$error":"#N/A"},{"$error":"#N/A"},{"$error":"#N/A"},{"$error":"#N/A"},{"$error":"#N/A"},{"$error":"#N/A"},{"$error":"#N/A"},{"$error":"#N/A"},{"$f":"IF(O18=0,0,AVERAGE(O21:O1016))","v":0},null,null,null,null,null,null,null,null,null,null,null,null,null,null,null,null,"Above Average",{"$f":"COUNTIF(AG$21:AG$1016,\"Above Average\")","v":0},null,null,null,null,null,null,null,null,null,null,null,null,null,null,null,null,null,null,null,null,null,null,null,null,null,null,{"$f":"IF(C18=0,0,AVERAGE(BH21:BH1016))","v":0},{"$f":"IF(D18=0,0,AVERAGE(BI21:BI1016))","v":0},0,0,0,0,0,0,0,0,0,0,{"$f":"IF(O18=0,0,AVERAGE(BT21:BT1016))","v":0},{"$f":"IF(ISERROR(AVERAGE(BU21:BU1016)),0,AVERAGE(BU21:BU1016))","v":0},{"$f":"IF(ISERROR(AVERAGE(BV21:BV1016)),0,AVERAGE(BV21:BV1016))","v":0},{"$f":"IF(ISERROR(AVERAGE(BW21:BW1016)),0,AVERAGE(BW21:BW1016))","v":0}]
["Minumum Value",null,{"$f":"IF(C18=0,#N/A,QUARTILE(C21:C1016,0))","v":{"$error":"#N/A"}},{"$f":"IF(D18=0,#N/A,QUARTILE(D21:D1016,0))","v":{"$error":"#N/A"}},{"$error":"#N/A"},{"$error":"#N/A"},{"$error":"#N/A"},{"$error":"#N/A"},{"$error":"#N/A"},{"$error":"#N/A"},{"$error":"#N/A"},{"$error":"#N/A"},{"$error":"#N/A"},{"$error":"#N/A"},{"$f":"IF(O18=0,0,QUARTILE(O21:O1016,0))","v":0},null,null,null,null,null,null,null,null,null,null,null,null,null,null,null,null,"Upper Outlier",{"$f":"COUNTIF(AG$21:AG$1016,\"Upper Outlier\")","v":0},null,null,null,null,null,null,null,null,null,null,null,null,null,null,null,null,null,null,null,null,null,null,null,null,null,null,null,null,null,null,null,null,null,null,null,null,null,null,null,{"$f":"IF(ISERROR(QUARTILE(BU21:BU1016,0)),0,QUARTILE(BU21:BU1016,0))","v":0},{"$f":"IF(ISERROR(QUARTILE(BV21:BV1016,0)),0,QUARTILE(BV21:BV1016,0))","v":0},{"$f":"IF(ISERROR(QUARTILE(BW21:BW1016,0)),0,QUARTILE(BW21:BW1016,0))","v":0}]
["Q1",null,{"$f":"IF(C18=0,0,QUARTILE(C21:C1016,1))","v":0},0,0,0,0,0,0,0,0,0,0,0,{"$f":"IF(O18=0,0,QUARTILE(O21:O1016,1))","v":0},null,null,null,null,null,null,null,null,null,null,null,null,null,null,null,null,null,null,null,null,null,null,null,null,null,null,null,null,null,null,null,null,null,null,null,null,null,null,null,null,null,null,null,null,null,null,null,null,null,null,null,null,null,null,null,null,null,{"$f":"IF(ISERROR(QUARTILE(BU21:BU1016,1)),0,QUARTILE(BU21:BU1016,1))","v":0},{"$f":"IF(ISERROR(QUARTILE(BV21:BV1016,1)),0,QUARTILE(BV21:BV1016,1))","v":0},{"$f":"IF(ISERROR(QUARTILE(BW21:BW1016,1)),0,QUARTILE(BW21:BW1016,1))","v":0}]
["Q2",null,{"$f":"IF(C18=0,0,QUARTILE(C21:C1016,2))","v":0},0,0,0,0,0,0,0,0,0,0,0,{"$f":"IF(O18=0,0,QUARTILE(O21:O1016,2))","v":0},null,null,null,null,null,null,null,null,null,null,null,null,null,null,null,null,null,null,null,null,null,null,null,null,null,null,null,null,null,null,null,null,null,null,null,null,null,null,null,null,null,null,null,null,null,null,null,null,null,null,null,null,null,null,null,null,null,{"$f":"IF(ISERROR(QUARTILE(BU21:BU1016,2)),0,QUARTILE(BU21:BU1016,2))","v":0},{"$f":"IF(ISERROR(QUARTILE(BV21:BV1016,2)),0,QUARTILE(BV21:BV1016,2))","v":0},{"$f":"IF(ISERROR(QUARTILE(BW21:BW1016,2)),0,QUARTILE(BW21:BW1016,2))","v":0}]
["Q3",null,{"$f":"IF(C18=0,0,QUARTILE(C21:C1016,3))","v":0},0,0,0,0,0,0,0,0,0,0,0,{"$f":"IF(O18=0,0,QUARTILE(O21:O1016,3))","v":0},null,null,null,null,null,null,null,null,null,null,null,null,null,null,null,null,null,null,null,null,null,null,null,null,null,null,null,null,null,null,null,null,null,null,null,null,null,null,null,null,null,null,null,null,null,null,null,null,null,null,null,null,null,null,null,null,null,{"$f":"IF(ISERROR(QUARTILE(BU21:BU1016,3)),0,QUARTILE(BU21:BU1016,3))","v":0},{"$f":"IF(ISERROR(QUARTILE(BV21:BV1016,3)),0,QUARTILE(BV21:BV1016,3))","v":0},{"$f":"IF(ISERROR(QUARTILE(BW21:BW1016,3)),0,QUARTILE(BW21:BW1016,3))","v":0}]
["Lower Outlier",null,{"$f":"IF(C18=0,0,IF((C7-(1.5*C12))>0,(C7-(1.5*C12)),0))","v":0},{"$f":"IF(D18=0,0,IF((D7-(1.5*D12))>0,(D7-(1.5*D12)),0))","v":0},0,0,0,0,0,0,0,0,0,0,{"$f":"IF(O18=0,0,(O7-(1.5*O12)))","v":0},null,null,null,null,null,null,null,null,null,null,null,null,null,null,null,null,null,null,null,null,null,null,null,null,null,null,null,null,null,null,null,null,null,null,null,null,null,null,null,null,null,null,null,null,null,null,null,null,null,null,null,null,null,null,null,null,null,{"$f":"BU7-(1.5*BU12)","v":0},{"$f":"BV7-(1.5*BV12)","v":0},{"$f":"BW7-(1.5*BW12)","v":0}]
["Upper Outlier",null,{"$f":"IF(C18=0,#N/A,(C9+(1.5*C12)))","v":{"$error":"#N/A"}},{"$f":"IF(D18=0,#N/A,(D9+(1.5*D12)))","v":{"$error":"#N/A"}},{"$error":"#N/A"},{"$error":"#N/A"},{"$error":"#N/A"},{"$error":"#N/A"},{"$error":"#N/A"},{"$error":"#N/A"},{"$error":"#N/A"},{"$error":"#N/A"},{"$error":"#N/A"},{"$error":"#N/A"},{"$f":"IF(O18=0,0,(O9+(1.5*O12)))","v":0},null,null,null,null,null,null,null,null,null,null,null,null,null,null,null,null,null,null,null,null,null,null,null,null,null,null,null,null,null,null,null,null,null,null,null,null,null,null,null,null,null,null,null,null,null,null,null,null,null,null,null,null,null,null,null,null,null,{"$f":"(BU9+(1.5*BU12))","v":0},{"$f":"(BV9+(1.5*BV12))","v":0},{"$f":"(BW9+(1.5*BW12))","v":0}]
["IQR",null,{"$f":"IF(C18=0,0,C9-C7)","v":0},0,0,0,0,0,0,0,0,0,0,0,{"$f":"IF(O18=0,0,O9-O7)","v":0},null,null,null,null,null,null,null,null,null,null,null,null,null,null,null,null,null,null,null,null,null,null,null,null,null,null,null,null,null,null,null,null,null,null,null,null,null,null,null,null,null,null,null,null,null,null,null,null,null,null,null,null,null,null,null,null,null,{"$f":"BU9-BU7","v":0},{"$f":"BV9-BV7","v":0},{"$f":"BW9-BW7","v":0}]
["Maximum",null,{"$f":"IF(C18=0,#N/A,MAX(C21:C1016))","v":{"$error":"#N/A"}},{"$f":"IF(D18=0,#N/A,MAX(D21:D1016))","v":{"$error":"#N/A"}},{"$error":"#N/A"},{"$error":"#N/A"},{"$error":"#N/A"},{"$error":"#N/A"},{"$error":"#N/A"},{"$error":"#N/A"},{"$error":"#N/A"},{"$error":"#N/A"},{"$error":"#N/A"},{"$error":"#N/A"},{"$f":"IF(O18=0,0,MAX(O21:O1016))","v":0},null,null,null,null,null,null,null,null,null,null,null,null,null,null,null,null,null,null,{"$f":"MAX(AH21:AH1016)","v":0},{"$f":"MAX(AI21:AI1016)","v":0},0,0,0,0,0,0,0,0,0,0,{"$f":"MAX(AT21:AT1016)","v":0},null,null,null,null,null,null,null,null,null,null,null,null,null,{"$f":"MAX(BH21,BH1016)","v":0},{"$f":"MAX(BI21,BI1016)","v":0},0,0,0,0,0,0,0,0,0,0,{"$f":"MAX(BT21:BT1016)","v":0},{"$f":"IF(ISERROR(QUARTILE(BU21:BU1016,4)),0,QUARTILE(BU21:BU1016,4))","v":0},{"$f":"IF(ISERROR(QUARTILE(BV21:BV1016,4)),0,QUARTILE(BV21:BV1016,4))","v":0},{"$f":"IF(ISERROR(QUARTILE(BW21:BW1016,4)),0,QUARTILE(BW21:BW1016,4))","v":0}]
["Total Contractoprs",null,{"$f":"COUNT(C21:C1016)","v":0},{"$f":"COUNT(D21:D1016)","v":0},0,0,0,0,0,0,0,0,0,0,1]
["Conducting MUR",null,{"$f":"C14-C16","v":0},{"$f":"D14-D16","v":0},0,0,0,0,0,0,0,0,0,0,0]
["Not Conducting MUR",null,{"$f":"COUNTIF(C21:C1016,0)","v":0},{"$f":"COUNTIF(D21:D1016,0)","v":0},0,0,0,0,0,0,0,0,0,0,1]
[]
["Populated",null,{"$f":"IF(Apr!B1=\"\",0,1)","v":0},{"$f":"IF(May!B1=\"\",0,1)","v":0},{"$f":"IF(Jun!B1=\"\",0,1)","v":0},{"$f":"IF(Jul!B1=\"\",0,1)","v":0},{"$f":"IF(Aug!B1=\"\",0,1)","v":0},{"$f":"IF(Sep!B1=\"\",0,1)","v":0},{"$f":"IF(Oct!B1=\"\",0,1)","v":0},{"$f":"IF(Nov!B1=\"\",0,1)","v":0},{"$f":"IF(Dec!B1=\"\",0,1)","v":0},{"$f":"IF(Jan!B1=\"\",0,1)","v":0},{"$f":"IF(Feb!B1=\"\",0,1)","v":0},{"$f":"IF(Mar!B1=\"\",0,1)","v":0},{"$f":"SUM(C18:N18)","v":0},null,null,null,null,null,null,null,null,null,null,null,null,null,null,null,null,null,null,null,null,null,null,null,null,null,null,null,null,null,null,null,1,2,3,4,5,6,7,8,9,10,11,12]
[null,null,"Actual Recorded Values",null,null,null,null,null,null,null,null,null,null,null,null,null,null,null,"Boxplot Scoring",null,null,null,null,null,null,null,null,null,null,null,null,null,null,"Actual Cummulitive",null,null,null,null,null,null,null,null,null,null,null,null,"Forecasts",null,null,null,null,null,null,null,null,null,null,null,null,"Total Items dispnesed",null,null,null,null,null,null,null,null,null,null,null,null,"Spread Analysis",null,null,null,null,null,"NMS Fee",null,null,null,null,null,null,null,null,null,null,null,null,"NMS Fee Adjustment"]
["Contractor","Name","Apr","May","Jun","Jul","Aug","Sep","Oct","Nov","Dec","Jan","Feb","Mar","Cumm Tot","Projected Total","Project over 400","MonthMod","BP_Apr","BP_May","BP_Jun","BP_Jul","BP_Aug","BP_Sep","BP_Oct","BP_Nov","BP_Dec","BP_Jan","BP_Feb","BP_Mar","bp_Total","Average Score","Contains Outlier Activity","Cum_Apr","Cum_May","Cum_Jun","Cum_Jul","Cum_Aug","Cum_Sep","Cum_Oct","Cum_Nov","Cum_Dec","Cum_Jan","Cum_Feb","Cum_Mar","Cum_to_date","For_Apr","For_May","For_Jun","For_Jul","For_Aug","For_Sep","For_Oct","For_Nov","For_Dec","For_Jan","For_Feb","For_Mar","For_Tot","It_Apr","It_May","It_Jun","It_Jul","It_Aug","It_Sep","It_Oct","It_Nov","It_Dec","It_Jan","It_Feb","It_Mar","Tot Items","MIN","MAX","Spread","Spread Outlier","Months Sub","Months Cond","Fee_Apr","Fee_May","Fee_Jun","Fee_Jul","Fee_Aug","Fee_Sep","Fee_Oct","Fee_Nov","Fee_Dec","Fee_Jan","Fee_Feb","Fee_Mar","Fee_Tot","Fee_Adj_Apr","Fee_Adj_May","Fee_Adj_Jun","Fee_Adj_Jul","Fee_Adj_Aug","Fee_Adj_Sep","Fee_Adj_Oct","Fee_Adj_Nov","Fee_Adj_Dec","Fee_Adj_Jan","Fee_Adj_Feb","Fee_Adj_Mar","Fee_Adj_Tot"]
[{"$f":"IF(ISBLANK('Control Sheet'!D1),\"\",'Control Sheet'!D1)","v":"Blank"},{"$f":"IF(ISBLANK('Control Sheet'!E1),\"\",'Control Sheet'!E1&\" (\"&'Control Sheet'!F1&\")\")","v":""},{"$f":"IF(C$18=1,IF(ISNA(VLOOKUP($A21,INDIRECT(C$20),NMS_col,FALSE)),\"\",VLOOKUP($A21,INDIRECT(C$20),NMS_col,FALSE)),\"\")","v":""},"","","","","","","","","","","",{"$f":"IF(A21=\"\",\"\",SUM(C21:N21))","v":0},null,{"$f":"IF(A21=\"\",\"\",IF(BG21<=400,\"No\",\"Yes\"))","v":"No"},{"$f":"IF(A21=\"\",\"\",NMSMonthsPop-(COUNTA(C21:N21)-COUNTBLANK(C21:N21)))","v":0},{"$f":"IF(C21=\"\",\"\",IF(C21<=C$10,1,IF(C21<=C$7,2,IF(C21<=C$8,3,IF(C21<=C$9,4,IF(C21<=C$11,5,60))))))","v":""},"","","","","","","","","","","",{"$f":"IF(A21=\"\",\"\",SUM(S21:AD21))","v":0},{"$f":"IF(OR(A21=\"\",AE21=0),\"\",AE21/(O$18--R21))","v":""},{"$f":"IF(AF21=\"\",\"\",IF(AF21<=1,\"Lower Outlier\",IF(AF21<=2,\"Below Average\",IF(AF21<=3,\"Lower Quartile\",IF(AF21<=4,\"Upper Quartile\",IF(AF21<=5, \"Above Average\", \"Upper Outlier\"))))))","v":""},{"$f":"IF(C$18=1,C21,\"\")","v":""},{"$f":"IF(D$18=1,IF(D21=\"\",IF(AH21=\"\",\"\",AH21),IF(AND(D21>=0,AH21=\"\"),D21,IF(ISERROR(D21+AH21),#N/A,D21+AH21))),\"\")","v":""},{"$f":"IF(E$18=1,IF(E21=\"\",IF(AI21=\"\",\"\",AI21),IF(AND(E21>=0,AI21=\"\"),E21,IF(ISERROR(E21+AI21),#N/A,E21+AI21))),\"\")","v":""},"","","","","","","","","",{"$f":"IF(A21=\"\",\"\",MAX(AH21:AS21))","v":0},{"$f":"IF(OR(A21=\"\",NMSMonthsPop=0),\"\",IF(AU$18=NMSMonthsPop,AH21,#N/A))","v":""},{"$f":"IF(OR($A21=\"\",NMSMonthsPop=0),\"\",IF(AV$18<NMSMonthsPop,#N/A,IF(AV$18=NMSMonthsPop,AI21,IF(AU21=\"\",\"\",IF(AV$18=NMSMonthsPop+1,AU21+(AU21*VLOOKUP(NMSMonthsPop-$R21,ForecastMult,3,FALSE)/12),AU21+AU21-AT21)))))","v":""},{"$f":"IF(OR($A21=\"\",NMSMonthsPop=0),\"\",IF(AW$18<NMSMonthsPop,#N/A,IF(AW$18=NMSMonthsPop,AJ21,IF(AV21=\"\",\"\",IF(AW$18=NMSMonthsPop+1,AV21+(AV21*VLOOKUP(NMSMonthsPop-$R21,ForecastMult,3,FALSE)/12),AV21+AV21-AU21)))))","v":""},{"$f":"IF(OR($A21=\"\",NMSMonthsPop=0),\"\",IF(AX$18<NMSMonthsPop,#N/A,IF(AX$18=NMSMonthsPop,AK21,IF(AW21=\"\",\"\",IF(AX$18=NMSMonthsPop+1,AW21+(AW21*VLOOKUP(NMSMonthsPop-$R21,ForecastMult,3,FALSE)/12),AW21+AW21-AV21)))))","v":""},{"$f":"IF(OR($A21=\"\",NMSMonthsPop=0),\"\",IF(AY$18<NMSMonthsPop,#N/A,IF(AY$18=NMSMonthsPop,AL21,IF(AX21=\"\",\"\",IF(AY$18=NMSMonthsPop+1,AX21+(AX21*VLOOKUP(NMSMonthsPop-$R21,ForecastMult,3,FALSE)/12),AX21+AX21-AW21)))))","v":""},{"$f":"IF(OR($A21=\"\",NMSMonthsPop=0),\"\",IF(AZ$18<NMSMonthsPop,#N/A,IF(AZ$18=NMSMonthsPop,AM21,IF(AY21=\"\",\"\",IF(AZ$18=NMSMonthsPop+1,AY21+(AY21*VLOOKUP(NMSMonthsPop-$R21,ForecastMult,3,FALSE)/12),AY21+AY21-AX21)))))","v":""},{"$f":"IF(OR($A21=\"\",NMSMonthsPop=0),\"\",IF(BA$18<NMSMonthsPop,#N/A,IF(BA$18=NMSMonthsPop,AN21,IF(AZ21=\"\",\"\",IF(BA$18=NMSMonthsPop+1,AZ21+(AZ21*VLOOKUP(NMSMonthsPop-$R21,ForecastMult,3,FALSE)/12),AZ21+AZ21-AY21)))))","v":""},{"$f":"IF(OR($A21=\"\",NMSMonthsPop=0),\"\",IF(BB$18<NMSMonthsPop,#N/A,IF(BB$18=NMSMonthsPop,AO21,IF(BA21=\"\",\"\",IF(BB$18=NMSMonthsPop+1,BA21+(BA21*VLOOKUP(NMSMonthsPop-$R21,ForecastMult,3,FALSE)/12),BA21+BA21-AZ21)))))","v":""},{"$f":"IF(OR($A21=\"\",NMSMonthsPop=0),\"\",IF(BC$18<NMSMonthsPop,#N/A,IF(BC$18=NMSMonthsPop,AP21,IF(BB21=\"\",\"\",IF(BC$18=NMSMonthsPop+1,BB21+(BB21*VLOOKUP(NMSMonthsPop-$R21,ForecastMult,3,FALSE)/12),BB21+BB21-BA21)))))","v":""},{"$f":"IF(OR($A21=\"\",NMSMonthsPop=0),\"\",IF(BD$18<NMSMonthsPop,#N/A,IF(BD$18=NMSMonthsPop,AQ21,IF(BC21=\"\",\"\",IF(BD$18=NMSMonthsPop+1,BC21+(BC21*VLOOKUP(NMSMonthsPop-$R21,ForecastMult,3,FALSE)/12),BC21+BC21-BB21)))))","v":""},{"$f":"IF(OR($A21=\"\",NMSMonthsPop=0),\"\",IF(BE$18<NMSMonthsPop,#N/A,IF(BE$18=NMSMonthsPop,AR21,IF(BD21=\"\",\"\",IF(BE$18=NMSMonthsPop+1,BD21+(BD21*VLOOKUP(NMSMonthsPop-$R21,ForecastMult,3,FALSE)/12),BD21+BD21-BC21)))))","v":""},{"$f":"IF(OR($A21=\"\",NMSMonthsPop=0),\"\",IF(BF$18<NMSMonthsPop,#N/A,IF(BF$18=NMSMonthsPop,AS21,IF(BE21=\"\",\"\",IF(BF$18=NMSMonthsPop+1,BE21+(BE21*VLOOKUP(NMSMonthsPop-$R21,ForecastMult,3,FALSE)/12),BE21+BE21-BD21)))))","v":""},{"$f":"IF(A21=\"\",\"\",MAX(IF(ISERROR(AU21:BF21),0,AU21:BF21)))","v":0},{"$f":"IF(AND(C$18=1,$A21<>\"\"),IF(ISNA(VLOOKUP($A21,INDIRECT(C$20),NMS_items_col,FALSE)),\"\",VLOOKUP($A21,INDIRECT(C$20),NMS_items_col,FALSE)),\"\")","v":""},{"$f":"IF(AND(D$18=1,$A21<>\"\"),IF(ISNA(VLOOKUP($A21,INDIRECT(D$20),NMS_items_col,FALSE)),\"\",VLOOKUP($A21,INDIRECT(D$20),NMS_items_col,FALSE)),\"\")","v":""},{"$f":"IF(AND(E$18=1,$A21<>\"\"),IF(ISNA(VLOOKUP($A21,INDIRECT(E$20),NMS_items_col,FALSE)),\"\",VLOOKUP($A21,INDIRECT(E$20),NMS_items_col,FALSE)),\"\")","v":""},{"$f":"IF(AND(F$18=1,$A21<>\"\"),IF(ISNA(VLOOKUP($A21,INDIRECT(F$20),NMS_items_col,FALSE)),\"\",VLOOKUP($A21,INDIRECT(F$20),NMS_items_col,FALSE)),\"\")","v":""},{"$f":"IF(AND(G$18=1,$A21<>\"\"),IF(ISNA(VLOOKUP($A21,INDIRECT(G$20),NMS_items_col,FALSE)),\"\",VLOOKUP($A21,INDIRECT(G$20),NMS_items_col,FALSE)),\"\")","v":""},{"$f":"IF(AND(H$18=1,$A21<>\"\"),IF(ISNA(VLOOKUP($A21,INDIRECT(H$20),NMS_items_col,FALSE)),\"\",VLOOKUP($A21,INDIRECT(H$20),NMS_items_col,FALSE)),\"\")","v":""},{"$f":"IF(AND(I$18=1,$A21<>\"\"),IF(ISNA(VLOOKUP($A21,INDIRECT(I$20),NMS_items_col,FALSE)),\"\",VLOOKUP($A21,INDIRECT(I$20),NMS_items_col,FALSE)),\"\")","v":""},{"$f":"IF(AND(J$18=1,$A21<>\"\"),IF(ISNA(VLOOKUP($A21,INDIRECT(J$20),NMS_items_col,FALSE)),\"\",VLOOKUP($A21,INDIRECT(J$20),NMS_items_col,FALSE)),\"\")","v":""},{"$f":"IF(AND(K$18=1,$A21<>\"\"),IF(ISNA(VLOOKUP($A21,INDIRECT(K$20),NMS_items_col,FALSE)),\"\",VLOOKUP($A21,INDIRECT(K$20),NMS_items_col,FALSE)),\"\")","v":""},{"$f":"IF(AND(L$18=1,$A21<>\"\"),IF(ISNA(VLOOKUP($A21,INDIRECT(L$20),NMS_items_col,FALSE)),\"\",VLOOKUP($A21,INDIRECT(L$20),NMS_items_col,FALSE)),\"\")","v":""},{"$f":"IF(AND(M$18=1,$A21<>\"\"),IF(ISNA(VLOOKUP($A21,INDIRECT(M$20),NMS_items_col,FALSE)),\"\",VLOOKUP($A21,INDIRECT(M$20),NMS_items_col,FALSE)),\"\")","v":""},{"$f":"IF(AND(N$18=1,$A21<>\"\"),IF(ISNA(VLOOKUP($A21,INDIRECT(N$20),NMS_items_col,FALSE)),\"\",VLOOKUP($A21,INDIRECT(N$20),NMS_items_col,FALSE)),\"\")","v":""},{"$f":"IF(A21=\"\",\"\",SUM(BH21:BS21))","v":0},{"$f":"IF(A21=\"\",\"\",MIN(B21:M21))","v":0},{"$f":"IF(A21=\"\",\"\",MAX(B21:M21))","v":0},{"$f":"IF(A21=\"\",\"\",BV21-BU21)","v":0},{"$f":"IF(A21=\"\",\"\",IF(BW21>$BW$11,\"Outlier\",\"No\"))","v":"No"},{"$f":"IF(A21=\"\",\"\",(COUNTA(C21:N21)-COUNTBLANK(C21:N21)))","v":0},{"$f":"IF(A21=\"\",\"\",BY21-COUNTIF(C21:N21,\"=0\"))","v":0},{"$f":"IF(C$18=1,IF(ISNA(VLOOKUP($A21,INDIRECT(C$20),NMS_fee_col,FALSE)),\"\",VLOOKUP($A21,INDIRECT(C$20),NMS_fee_col,FALSE)),\"\")","v":""},{"$f":"IF(D$18=1,IF(ISNA(VLOOKUP($A21,INDIRECT(D$20),NMS_fee_col,FALSE)),\"\",VLOOKUP($A21,INDIRECT(D$20),NMS_fee_col,FALSE)),\"\")","v":""},{"$f":"IF(E$18=1,IF(ISNA(VLOOKUP($A21,INDIRECT(E$20),NMS_fee_col,FALSE)),\"\",VLOOKUP($A21,INDIRECT(E$20),NMS_fee_col,FALSE)),\"\")","v":""},{"$f":"IF(F$18=1,IF(ISNA(VLOOKUP($A21,INDIRECT(F$20),NMS_fee_col,FALSE)),\"\",VLOOKUP($A21,INDIRECT(F$20),NMS_fee_col,FALSE)),\"\")","v":""},{"$f":"IF(G$18=1,IF(ISNA(VLOOKUP($A21,INDIRECT(G$20),NMS_fee_col,FALSE)),\"\",VLOOKUP($A21,INDIRECT(G$20),NMS_fee_col,FALSE)),\"\")","v":""},{"$f":"IF(H$18=1,IF(ISNA(VLOOKUP($A21,INDIRECT(H$20),NMS_fee_col,FALSE)),\"\",VLOOKUP($A21,INDIRECT(H$20),NMS_fee_col,FALSE)),\"\")","v":""},{"$f":"IF(I$18=1,IF(ISNA(VLOOKUP($A21,INDIRECT(I$20),NMS_fee_col,FALSE)),\"\",VLOOKUP($A21,INDIRECT(I$20),NMS_fee_col,FALSE)),\"\")","v":""},{"$f":"IF(J$18=1,IF(ISNA(VLOOKUP($A21,INDIRECT(J$20),NMS_fee_col,FALSE)),\"\",VLOOKUP($A21,INDIRECT(J$20),NMS_fee_col,FALSE)),\"\")","v":""},{"$f":"IF(K$18=1,IF(ISNA(VLOOKUP($A21,INDIRECT(K$20),NMS_fee_col,FALSE)),\"\",VLOOKUP($A21,INDIRECT(K$20),NMS_fee_col,FALSE)),\"\")","v":""},{"$f":"IF(L$18=1,IF(ISNA(VLOOKUP($A21,INDIRECT(L$20),NMS_fee_col,FALSE)),\"\",VLOOKUP($A21,INDIRECT(L$20),NMS_fee_col,FALSE)),\"\")","v":""},{"$f":"IF(M$18=1,IF(ISNA(VLOOKUP($A21,INDIRECT(M$20),NMS_fee_col,FALSE)),\"\",VLOOKUP($A21,INDIRECT(M$20),NMS_fee_col,FALSE)),\"\")","v":""},{"$f":"IF(N$18=1,IF(ISNA(VLOOKUP($A21,INDIRECT(N$20),NMS_fee_col,FALSE)),\"\",VLOOKUP($A21,INDIRECT(N$20),NMS_fee_col,FALSE)),\"\")","v":""},{"$f":"IF(A21=\"\",\"\",SUM(CA21:CL21))","v":0},{"$f":"IF(C$18=1,IF(ISNA(VLOOKUP($A21,INDIRECT(C$20),NMS_Fee_adj_col,FALSE)),\"\",VLOOKUP($A21,INDIRECT(C$20),NMS_Fee_adj_col,FALSE)),\"\")","v":""},{"$f":"IF(D$18=1,IF(ISNA(VLOOKUP($A21,INDIRECT(D$20),NMS_Fee_adj_col,FALSE)),\"\",VLOOKUP($A21,INDIRECT(D$20),NMS_Fee_adj_col,FALSE)),\"\")","v":""},{"$f":"IF(E$18=1,IF(ISNA(VLOOKUP($A21,INDIRECT(E$20),NMS_Fee_adj_col,FALSE)),\"\",VLOOKUP($A21,INDIRECT(E$20),NMS_Fee_adj_col,FALSE)),\"\")","v":""},{"$f":"IF(F$18=1,IF(ISNA(VLOOKUP($A21,INDIRECT(F$20),NMS_Fee_adj_col,FALSE)),\"\",VLOOKUP($A21,INDIRECT(F$20),NMS_Fee_adj_col,FALSE)),\"\")","v":""},{"$f":"IF(G$18=1,IF(ISNA(VLOOKUP($A21,INDIRECT(G$20),NMS_Fee_adj_col,FALSE)),\"\",VLOOKUP($A21,INDIRECT(G$20),NMS_Fee_adj_col,FALSE)),\"\")","v":""},{"$f":"IF(H$18=1,IF(ISNA(VLOOKUP($A21,INDIRECT(H$20),NMS_Fee_adj_col,FALSE)),\"\",VLOOKUP($A21,INDIRECT(H$20),NMS_Fee_adj_col,FALSE)),\"\")","v":""},{"$f":"IF(I$18=1,IF(ISNA(VLOOKUP($A21,INDIRECT(I$20),NMS_Fee_adj_col,FALSE)),\"\",VLOOKUP($A21,INDIRECT(I$20),NMS_Fee_adj_col,FALSE)),\"\")","v":""},{"$f":"IF(J$18=1,IF(ISNA(VLOOKUP($A21,INDIRECT(J$20),NMS_Fee_adj_col,FALSE)),\"\",VLOOKUP($A21,INDIRECT(J$20),NMS_Fee_adj_col,FALSE)),\"\")","v":""},{"$f":"IF(K$18=1,IF(ISNA(VLOOKUP($A21,INDIRECT(K$20),NMS_Fee_adj_col,FALSE)),\"\",VLOOKUP($A21,INDIRECT(K$20),NMS_Fee_adj_col,FALSE)),\"\")","v":""},{"$f":"IF(L$18=1,IF(ISNA(VLOOKUP($A21,INDIRECT(L$20),NMS_Fee_adj_col,FALSE)),\"\",VLOOKUP($A21,INDIRECT(L$20),NMS_Fee_adj_col,FALSE)),\"\")","v":""},{"$f":"IF(M$18=1,IF(ISNA(VLOOKUP($A21,INDIRECT(M$20),NMS_Fee_adj_col,FALSE)),\"\",VLOOKUP($A21,INDIRECT(M$20),NMS_Fee_adj_col,FALSE)),\"\")","v":""},{"$f":"IF(N$18=1,IF(ISNA(VLOOKUP($A21,INDIRECT(N$20),NMS_Fee_adj_col,FALSE)),\"\",VLOOKUP($A21,INDIRECT(N$20),NMS_Fee_adj_col,FALSE)),\"\")","v":""},{"$f":"IF(A21=\"\",\"\",SUM(CN21:CY21))","v":0}]
[{"$f":"IF(ISBLANK('Control Sheet'!D2),\"\",'Control Sheet'!D2)","v":""},{"$f":"IF(ISBLANK('Control Sheet'!E2),\"\",'Control Sheet'!E2&\" (\"&'Control Sheet'!F2&\")\")","v":""},"","","","","","","","","","","","",{"$f":"IF(A22=\"\",\"\",SUM(C22:N22))","v":""},null,{"$f":"IF(A22=\"\",\"\",IF(BG22<=400,\"No\",\"Yes\"))","v":""},"",{"$f":"IF(C22=\"\",\"\",IF(C22<=C$10,1,IF(C22<=C$7,2,IF(C22<=C$8,3,IF(C22<=C$9,4,IF(C22<=C$11,5,60))))))","v":""},{"$f":"IF(D22=\"\",\"\",IF(D22<=D$10,1,IF(D22<=D$7,2,IF(D22<=D$8,3,IF(D22<=D$9,4,IF(D22<=D$11,5,60))))))","v":""},{"$f":"IF(E22=\"\",\"\",IF(E22<=E$10,1,IF(E22<=E$7,2,IF(E22<=E$8,3,IF(E22<=E$9,4,IF(E22<=E$11,5,60))))))","v":""},{"$f":"IF(F22=\"\",\"\",IF(F22<=F$10,1,IF(F22<=F$7,2,IF(F22<=F$8,3,IF(F22<=F$9,4,IF(F22<=F$11,5,60))))))","v":""},{"$f":"IF(G22=\"\",\"\",IF(G22<=G$10,1,IF(G22<=G$7,2,IF(G22<=G$8,3,IF(G22<=G$9,4,IF(G22<=G$11,5,60))))))","v":""},{"$f":"IF(H22=\"\",\"\",IF(H22<=H$10,1,IF(H22<=H$7,2,IF(H22<=H$8,3,IF(H22<=H$9,4,IF(H22<=H$11,5,60))))))","v":""},{"$f":"IF(I22=\"\",\"\",IF(I22<=I$10,1,IF(I22<=I$7,2,IF(I22<=I$8,3,IF(I22<=I$9,4,IF(I22<=I$11,5,60))))))","v":""},{"$f":"IF(J22=\"\",\"\",IF(J22<=J$10,1,IF(J22<=J$7,2,IF(J22<=J$8,3,IF(J22<=J$9,4,IF(J22<=J$11,5,60))))))","v":""},{"$f":"IF(K22=\"\",\"\",IF(K22<=K$10,1,IF(K22<=K$7,2,IF(K22<=K$8,3,IF(K22<=K$9,4,IF(K22<=K$11,5,60))))))","v":""},{"$f":"IF(L22=\"\",\"\",IF(L22<=L$10,1,IF(L22<=L$7,2,IF(L22<=L$8,3,IF(L22<=L$9,4,IF(L22<=L$11,5,60))))))","v":""},{"$f":"IF(M22=\"\",\"\",IF(M22<=M$10,1,IF(M22<=M$7,2,IF(M22<=M$8,3,IF(M22<=M$9,4,IF(M22<=M$11,5,60))))))","v":""},{"$f":"IF(N22=\"\",\"\",IF(N22<=N$10,1,IF(N22<=N$7,2,IF(N22<=N$8,3,IF(N22<=N$9,4,IF(N22<=N$11,5,60))))))","v":""},{"$f":"IF(A22=\"\",\"\",SUM(S22:AD22))","v":""},{"$f":"IF(OR(A22=\"\",AE22=0),\"\",AE22/(O$18--R22))","v":""},{"$f":"IF(AF22=\"\",\"\",IF(AF22<=1,\"Lower Outlier\",IF(AF22<=2,\"Below Average\",IF(AF22<=3,\"Lower Quartile\",IF(AF22<=4,\"Upper Quartile\",IF(AF22<=5, \"Above Average\", \"Upper Outlier\"))))))","v":""},{"$f":"IF(C$18=1,C22,\"\")","v":""},{"$f":"IF(D$18=1,IF(D22=\"\",IF(AH22=\"\",\"\",AH22),IF(AND(D22>=0,AH22=\"\"),D22,IF(ISERROR(D22+AH22),#N/A,D22+AH22))),\"\")","v":""},{"$f":"IF(E$18=1,IF(E22=\"\",IF(AI22=\"\",\"\",AI22),IF(AND(E22>=0,AI22=\"\"),E22,IF(ISERROR(E22+AI22),#N/A,E22+AI22))),\"\")","v":""},{"$f":"IF(F$18=1,IF(F22=\"\",IF(AJ22=\"\",\"\",AJ22),IF(AND(F22>=0,AJ22=\"\"),F22,IF(ISERROR(F22+AJ22),#N/A,F22+AJ22))),\"\")","v":""},{"$f":"IF(G$18=1,IF(G22=\"\",IF(AK22=\"\",\"\",AK22),IF(AND(G22>=0,AK22=\"\"),G22,IF(ISERROR(G22+AK22),#N/A,G22+AK22))),\"\")","v":""},{"$f":"IF(H$18=1,IF(H22=\"\",IF(AL22=\"\",\"\",AL22),IF(AND(H22>=0,AL22=\"\"),H22,IF(ISERROR(H22+AL22),#N/A,H22+AL22))),\"\")","v":""},{"$f":"IF(I$18=1,IF(I22=\"\",IF(AM22=\"\",\"\",AM22),IF(AND(I22>=0,AM22=\"\"),I22,IF(ISERROR(I22+AM22),#N/A,I22+AM22))),\"\")","v":""},{"$f":"IF(J$18=1,IF(J22=\"\",IF(AN22=\"\",\"\",AN22),IF(AND(J22>=0,AN22=\"\"),J22,IF(ISERROR(J22+AN22),#N/A,J22+AN22))),\"\")","v":""},{"$f":"IF(K$18=1,IF(K22=\"\",IF(AO22=\"\",\"\",AO22),IF(AND(K22>=0,AO22=\"\"),K22,IF(ISERROR(K22+AO22),#N/A,K22+AO22))),\"\")","v":""},{"$f":"IF(L$18=1,IF(L22=\"\",IF(AP22=\"\",\"\",AP22),IF(AND(L22>=0,AP22=\"\"),L22,IF(ISERROR(L22+AP22),#N/A,L22+AP22))),\"\")","v":""},{"$f":"IF(M$18=1,IF(M22=\"\",IF(AQ22=\"\",\"\",AQ22),IF(AND(M22>=0,AQ22=\"\"),M22,IF(ISERROR(M22+AQ22),#N/A,M22+AQ22))),\"\")","v":""},{"$f":"IF(N$18=1,IF(N22=\"\",IF(AR22=\"\",\"\",AR22),IF(AND(N22>=0,AR22=\"\"),N22,IF(ISERROR(N22+AR22),#N/A,N22+AR22))),\"\")","v":""},{"$f":"IF(A22=\"\",\"\",MAX(AH22:AS22))","v":""},"","","","","","","","","","","","",{"$f":"IF(A22=\"\",\"\",MAX(IF(ISERROR(AU22:BF22),0,AU22:BF22)))","v":""},"","","","","","","","","","","","",{"$f":"IF(A22=\"\",\"\",SUM(BH22:BS22))","v":""},{"$f":"IF(A22=\"\",\"\",MIN(B22:M22))","v":""},{"$f":"IF(A22=\"\",\"\",MAX(B22:M22))","v":""},{"$f":"IF(A22=\"\",\"\",BV22-BU22)","v":""},{"$f":"IF(A22=\"\",\"\",IF(BW22>$BW$11,\"Outlier\",\"No\"))","v":""},{"$f":"IF(A22=\"\",\"\",(COUNTA(C22:N22)-COUNTBLANK(C22:N22)))","v":""},{"$f":"IF(A22=\"\",\"\",BY22-COUNTIF(C22:N22,\"=0\"))","v":""},"","","","","","","","","","","","",{"$f":"IF(A22=\"\",\"\",SUM(CA22:CL22))","v":""},"","","","","","","","","","","","",{"$f":"IF(A22=\"\",\"\",SUM(CN22:CY22))","v":""}]
[{"$f":"IF(ISBLANK('Control Sheet'!D3),\"\",'Control Sheet'!D3)","v":""},{"$f":"IF(ISBLANK('Control Sheet'!E3),\"\",'Control Sheet'!E3&\" (\"&'Control Sheet'!F3&\")\")","v":""},"","","","","","","","","","","","","",null,"","","","","","","","","","","","","","","","","","","","","","","","","","","","","","","","","","","","","","","","","","",{"$f":"IF(A23=\"\",\"\",MAX(IF(ISERROR(AU23:BF23),0,AU23:BF23)))","v":""},"","","","","","","","","","","","","","","","","","","","","","","","","","","","","","","","","","","","","","","","","","","","",""]
[{"$f":"IF(ISBLANK('Control Sheet'!D4),\"\",'Control Sheet'!D4)","v":""},{"$f":"IF(ISBLANK('Control Sheet'!E4),\"\",'Control Sheet'!E4&\" (\"&'Control Sheet'!F4&\")\")","v":""},"","","","","","","","","","","","","",null,"","","","","","","","","","","","","","","","","","","","","","","","","","","","","","","","","","","","","","","","","","",{"$f":"IF(A24=\"\",\"\",MAX(IF(ISERROR(AU24:BF24),0,AU24:BF24)))","v":""},"","","","","","","","","","","","","","","","","","","","","","","","","","","","","","","","","","","","","","","","","","","","",""]
[{"$f":"IF(ISBLANK('Control Sheet'!D5),\"\",'Control Sheet'!D5)","v":""},{"$f":"IF(ISBLANK('Control Sheet'!E5),\"\",'Control Sheet'!E5&\" (\"&'Control Sheet'!F5&\")\")","v":""},"","","","","","","","","","","","","",null,"","","","","","","","","","","","","","","","","","","","","","","","","","","","","","","","","","","","","","","","","","",{"$f":"IF(A25=\"\",\"\",MAX(IF(ISERROR(AU25:BF25),0,AU25:BF25)))","v":""},"","","","","","","","","","","","","","","","","","","","","","","","","","","","","","","","","","","","","","","","","","","","",""]
[{"$f":"IF(ISBLANK('Control Sheet'!D6),\"\",'Control Sheet'!D6)","v":""},{"$f":"IF(ISBLANK('Control Sheet'!E6),\"\",'Control Sheet'!E6&\" (\"&'Control Sheet'!F6&\")\")","v":""},"","","","","","","","","","","","","",null,"","","","","","","","","","","","","","","","","","","","","","","","","","","","","","","","","","","","","","","","","","",{"$f":"IF(A26=\"\",\"\",MAX(IF(ISERROR(AU26:BF26),0,AU26:BF26)))","v":""},"","","","","","","","","","","","","","","","","","","","","","","","","","","","","","","","","","","","","","","","","","","","",""]
[{"$f":"IF(ISBLANK('Control Sheet'!D7),\"\",'Control Sheet'!D7)","v":""},{"$f":"IF(ISBLANK('Control Sheet'!E7),\"\",'Control Sheet'!E7&\" (\"&'Control Sheet'!F7&\")\")","v":""},"","","","","","","","","","","","","",null,"","","","","","","","","","","","","","","","","","","","","","","","","","","","","","","","","","","","","","","","","","",{"$f":"IF(A27=\"\",\"\",MAX(IF(ISERROR(AU27:BF27),0,AU27:BF27)))","v":""},"","","","","","","","","","","","","","","","","","","","","","","","","","","","","","","","","","","","","","","","","","","","",""]
[{"$f":"IF(ISBLANK('Control Sheet'!D8),\"\",'Control Sheet'!D8)","v":""},{"$f":"IF(ISBLANK('Control Sheet'!E8),\"\",'Control Sheet'!E8&\" (\"&'Control Sheet'!F8&\")\")","v":""},"","","","","","","","","","","","","",null,"","","","","","","","","","","","","","","","","","","","","","","","","","","","","","","","","","","","","","","","","","",{"$f":"IF(A28=\"\",\"\",MAX(IF(ISERROR(AU28:BF28),0,AU28:BF28)))","v":""},"","","","","","","","","","","","","","","","","","","","","","","","","","","","","","","","","","","","","","","","","","","","",""]
[{"$f":"IF(ISBLANK('Control Sheet'!D9),\"\",'Control Sheet'!D9)","v":""},{"$f":"IF(ISBLANK('Control Sheet'!E9),\"\",'Control Sheet'!E9&\" (\"&'Control Sheet'!F9&\")\")","v":""},"","","","","","","","","","","","","",null,"","","","","","","","","","","","","","","","","","","","","","","","","","","","","","","","","","","","","","","","","","",{"$f":"IF(A29=\"\",\"\",MAX(IF(ISERROR(AU29:BF29),0,AU29:BF29)))","v":""},"","","","","","","","","","","","","","","","","","","","","","","","","","","","","","","","","","","","","","","","","","","","",""]
[{"$f":"IF(ISBLANK('Control Sheet'!D10),\"\",'Control Sheet'!D10)","v":""},{"$f":"IF(ISBLANK('Control Sheet'!E10),\"\",'Control Sheet'!E10&\" (\"&'Control Sheet'!F10&\")\")","v":""},"","","","","","","","","","","","","",null,"","","","","","","","","","","","","","","","","","","","","","","","","","","","","","","","","","","","","","","","","","",{"$f":"IF(A30=\"\",\"\",MAX(IF(ISERROR(AU30:BF30),0,AU30:BF30)))","v":""},"","","","","","","","","","","","","","","","","","","","","","","","","","","","","","","","","","","","","","","","","","","","",""]
[{"$f":"IF(ISBLANK('Control Sheet'!D11),\"\",'Control Sheet'!D11)","v":""},{"$f":"IF(ISBLANK('Control Sheet'!E11),\"\",'Control Sheet'!E11&\" (\"&'Control Sheet'!F11&\")\")","v":""},{"$f":"IF(C$18=1,IF(ISNA(VLOOKUP($A31,INDIRECT(C$20),NMS_col,FALSE)),\"\",VLOOKUP($A31,INDIRECT(C$20),NMS_col,FALSE)),\"\")","v":""},"","","","","","","","","","","","",null,"","","","","","","","","","","","","","","","","","","","","","","","","","","","","","","","","","","","","","","","","","",{"$f":"IF(A31=\"\",\"\",MAX(IF(ISERROR(AU31:BF31),0,AU31:BF31)))","v":""},"","","","","","","","","","","","","","","","","","","","","","","","","","","","","","","","","","","","","","","","","","","","",""]
[{"$f":"IF(ISBLANK('Control Sheet'!D12),\"\",'Control Sheet'!D12)","v":""},{"$f":"IF(ISBLANK('Control Sheet'!E12),\"\",'Control Sheet'!E12&\" (\"&'Control Sheet'!F12&\")\")","v":""},"","","","","","","","","","","","","",null,"","","","","","","","","","","","","","","","","","","","","","","","","","","","","","","","","","","","","","","","","","",{"$f":"IF(A32=\"\",\"\",MAX(IF(ISERROR(AU32:BF32),0,AU32:BF32)))","v":""},"","","","","","","","","","","","","","","","","","","","","","","","","","","","","","","","","","","","","","","","","","","","",""]
[{"$f":"IF(ISBLANK('Control Sheet'!D13),\"\",'Control Sheet'!D13)","v":""},{"$f":"IF(ISBLANK('Control Sheet'!E13),\"\",'Control Sheet'!E13&\" (\"&'Control Sheet'!F13&\")\")","v":""},"","","","","","","","","","","","","",null,"","","","","","","","","","","","","","","","","","","","","","","","","","","","","","","","","","","","","","","","","","",{"$f":"IF(A33=\"\",\"\",MAX(IF(ISERROR(AU33:BF33),0,AU33:BF33)))","v":""},"","","","","","","","","","","","","","","","","","","","","","","","","","","","","","","","","","","","","","","","","","","","",""]
[{"$f":"IF(ISBLANK('Control Sheet'!D14),\"\",'Control Sheet'!D14)","v":""},{"$f":"IF(ISBLANK('Control Sheet'!E14),\"\",'Control Sheet'!E14&\" (\"&'Control Sheet'!F14&\")\")","v":""},"","","","","","","","","","","","","",null,"","","","","","","","","","","","","","","","","","","","","","","","","","","","","","","","","","","","","","","","","","",{"$f":"IF(A34=\"\",\"\",MAX(IF(ISERROR(AU34:BF34),0,AU34:BF34)))","v":""},"","","","","","","","","","","","","","","","","","","","","","","","","","","","","","","","","","","","","","","","","","","","",""]
[{"$f":"IF(ISBLANK('Control Sheet'!D15),\"\",'Control Sheet'!D15)","v":""},{"$f":"IF(ISBLANK('Control Sheet'!E15),\"\",'Control Sheet'!E15&\" (\"&'Control Sheet'!F15&\")\")","v":""},"","","","","","","","","","","","","",null,"","","","","","","","","","","","","","","","","","","","","","","","","","","","","","","","","","","","","","","","","","",{"$f":"IF(A35=\"\",\"\",MAX(IF(ISERROR(AU35:BF35),0,AU35:BF35)))","v":""},"","","","","","","","","","","","","","","","","","","","","","","","","","","","","","","","","","","","","","","","","","","","",""]
[{"$f":"IF(ISBLANK('Control Sheet'!D16),\"\",'Control Sheet'!D16)","v":""},{"$f":"IF(ISBLANK('Control Sheet'!E16),\"\",'Control Sheet'!E16&\" (\"&'Control Sheet'!F16&\")\")","v":""},"","","","","","","","","","","","","",null,"","","","","","","","","","","","","","","","","","","","","","","","","","","","","","","","","","","","","","","","","","",{"$f":"IF(A36=\"\",\"\",MAX(IF(ISERROR(AU36:BF36),0,AU36:BF36)))","v":""},"","","","","","","","","","","","","","","","","","","","","","","","","","","","","","","","","","","","","","","","","","","","",""]
[{"$f":"IF(ISBLANK('Control Sheet'!D17),\"\",'Control Sheet'!D17)","v":""},{"$f":"IF(ISBLANK('Control Sheet'!E17),\"\",'Control Sheet'!E17&\" (\"&'Control Sheet'!F17&\")\")","v":""},"","","","","","","","","","","","","",null,"","","","","","","","","","","","","","","","","","","","","","","","","","","","","","","","","","","","","","","","","","",{"$f":"IF(A37=\"\",\"\",MAX(IF(ISERROR(AU37:BF37),0,AU37:BF37)))","v":""},"","","","","","","","","","","","","","","","","","","","","","","","","","","","","","","","","","","","","","","","","","","","",""]
[{"$f":"IF(ISBLANK('Control Sheet'!D18),\"\",'Control Sheet'!D18)","v":""},{"$f":"IF(ISBLANK('Control Sheet'!E18),\"\",'Control Sheet'!E18&\" (\"&'Control Sheet'!F18&\")\")","v":""},"","","","","","","","","","","","","",null,"","","","","","","","","","","","","","","","","","","","","","","","","","","","","","","","","","","","","","","","","","",{"$f":"IF(A38=\"\",\"\",MAX(IF(ISERROR(AU38:BF38),0,AU38:BF38)))","v":""},"","","","","","","","","","","","","","","","","","","","","","","","","","","","","","","","","","","","","","","","","","","","",""]
[{"$f":"IF(ISBLANK('Control Sheet'!D19),\"\",'Control Sheet'!D19)","v":""},{"$f":"IF(ISBLANK('Control Sheet'!E19),\"\",'Control Sheet'!E19&\" (\"&'Control Sheet'!F19&\")\")","v":""},"","","","","","","","","","","","","",null,"","","","","","","","","","","","","","","","","","","","","","","","","","","","","","","","","","","","","","","","","","",{"$f":"IF(A39=\"\",\"\",MAX(IF(ISERROR(AU39:BF39),0,AU39:BF39)))","v":""},"","","","","","","","","","","","","","","","","","","","","","","","","","","","","","","","","","","","","","","","","","","","",""]
[{"$f":"IF(ISBLANK('Control Sheet'!D20),\"\",'Control Sheet'!D20)","v":""},{"$f":"IF(ISBLANK('Control Sheet'!E20),\"\",'Control Sheet'!E20&\" (\"&'Control Sheet'!F20&\")\")","v":""},"","","","","","","","","","","","","",null,"","","","","","","","","","","","","","","","","","","","","","","","","","","","","","","","","","","","","","","","","","",{"$f":"IF(A40=\"\",\"\",MAX(IF(ISERROR(AU40:BF40),0,AU40:BF40)))","v":""},"","","","","","","","","","","","","","","","","","","","","","","","","","","","","","","","","","","","","","","","","","","","",""]
[{"$f":"IF(ISBLANK('Control Sheet'!D21),\"\",'Control Sheet'!D21)","v":""},{"$f":"IF(ISBLANK('Control Sheet'!E21),\"\",'Control Sheet'!E21&\" (\"&'Control Sheet'!F21&\")\")","v":""},{"$f":"IF(C$18=1,IF(ISNA(VLOOKUP($A41,INDIRECT(C$20),NMS_col,FALSE)),\"\",VLOOKUP($A41,INDIRECT(C$20),NMS_col,FALSE)),\"\")","v":""},"","","","","","","","","","","","",null,"","","","","","","","","","","","","","","","","","","","","","","","","","","","","","","","","","","","","","","","","","",{"$f":"IF(A41=\"\",\"\",MAX(IF(ISERROR(AU41:BF41),0,AU41:BF41)))","v":""},"","","","","","","","","","","","","","","","","","","","","","","","","","","","","","","","","","","","","","","","","","","","",""]
[{"$f":"IF(ISBLANK('Control Sheet'!D22),\"\",'Control Sheet'!D22)","v":""},{"$f":"IF(ISBLANK('Control Sheet'!E22),\"\",'Control Sheet'!E22&\" (\"&'Control Sheet'!F22&\")\")","v":""},"","","","","","","","","","","","","",null,"","","","","","","","","","","","","","","","","","","","","","","","","","","","","","","","","","","","","","","","","","",{"$f":"IF(A42=\"\",\"\",MAX(IF(ISERROR(AU42:BF42),0,AU42:BF42)))","v":""},"","","","","","","","","","","","","","","","","","","","","","","","","","","","","","","","","","","","","","","","","","","","",""]
[{"$f":"IF(ISBLANK('Control Sheet'!D23),\"\",'Control Sheet'!D23)","v":""},{"$f":"IF(ISBLANK('Control Sheet'!E23),\"\",'Control Sheet'!E23&\" (\"&'Control Sheet'!F23&\")\")","v":""},"","","","","","","","","","","","","",null,"","","","","","","","","","","","","","","","","","","","","","","","","","","","","","","","","","","","","","","","","","",{"$f":"IF(A43=\"\",\"\",MAX(IF(ISERROR(AU43:BF43),0,AU43:BF43)))","v":""},"","","","","","","","","","","","","","","","","","","","","","","","","","","","","","","","","","","","","","","","","","","","",""]
[{"$f":"IF(ISBLANK('Control Sheet'!D24),\"\",'Control Sheet'!D24)","v":""},{"$f":"IF(ISBLANK('Control Sheet'!E24),\"\",'Control Sheet'!E24&\" (\"&'Control Sheet'!F24&\")\")","v":""},"","","","","","","","","","","","","",null,"","","","","","","","","","","","","","","","","","","","","","","","","","","","","","","","","","","","","","","","","","",{"$f":"IF(A44=\"\",\"\",MAX(IF(ISERROR(AU44:BF44),0,AU44:BF44)))","v":""},"","","","","","","","","","","","","","","","","","","","","","","","","","","","","","","","","","","","","","","","","","","","",""]
[{"$f":"IF(ISBLANK('Control Sheet'!D25),\"\",'Control Sheet'!D25)","v":""},{"$f":"IF(ISBLANK('Control Sheet'!E25),\"\",'Control Sheet'!E25&\" (\"&'Control Sheet'!F25&\")\")","v":""},"","","","","","","","","","","","","",null,"","","","","","","","","","","","","","","","","","","","","","","","","","","","","","","","","","","","","","","","","","",{"$f":"IF(A45=\"\",\"\",MAX(IF(ISERROR(AU45:BF45),0,AU45:BF45)))","v":""},"","","","","","","","","","","","","","","","","","","","","","","","","","","","","","","","","","","","","","","","","","","","",""]
[{"$f":"IF(ISBLANK('Control Sheet'!D26),\"\",'Control Sheet'!D26)","v":""},{"$f":"IF(ISBLANK('Control Sheet'!E26),\"\",'Control Sheet'!E26&\" (\"&'Control Sheet'!F26&\")\")","v":""},"","","","","","","","","","","","","",null,"","","","","","","","","","","","","","","","","","","","","","","","","","","","","","","","","","","","","","","","","","",{"$f":"IF(A46=\"\",\"\",MAX(IF(ISERROR(AU46:BF46),0,AU46:BF46)))","v":""},"","","","","","","","","","","","","","","","","","","","","","","","","","","","","","","","","","","","","","","","","","","","",""]
[{"$f":"IF(ISBLANK('Control Sheet'!D27),\"\",'Control Sheet'!D27)","v":""},{"$f":"IF(ISBLANK('Control Sheet'!E27),\"\",'Control Sheet'!E27&\" (\"&'Control Sheet'!F27&\")\")","v":""},"","","","","","","","","","","","","",null,"","","","","","","","","","","","","","","","","","","","","","","","","","","","","","","","","","","","","","","","","","",{"$f":"IF(A47=\"\",\"\",MAX(IF(ISERROR(AU47:BF47),0,AU47:BF47)))","v":""},"","","","","","","","","","","","","","","","","","","","","","","","","","","","","","","","","","","","","","","","","","","","",""]
[{"$f":"IF(ISBLANK('Control Sheet'!D28),\"\",'Control Sheet'!D28)","v":""},{"$f":"IF(ISBLANK('Control Sheet'!E28),\"\",'Control Sheet'!E28&\" (\"&'Control Sheet'!F28&\")\")","v":""},"","","","","","","","","","","","","",null,"","","","","","","","","","","","","","","","","","","","","","","","","","","","","","","","","","","","","","","","","","",{"$f":"IF(A48=\"\",\"\",MAX(IF(ISERROR(AU48:BF48),0,AU48:BF48)))","v":""},"","","","","","","","","","","","","","","","","","","","","","","","","","","","","","","","","","","","","","","","","","","","",""]
[{"$f":"IF(ISBLANK('Control Sheet'!D29),\"\",'Control Sheet'!D29)","v":""},{"$f":"IF(ISBLANK('Control Sheet'!E29),\"\",'Control Sheet'!E29&\" (\"&'Control Sheet'!F29&\")\")","v":""},"","","","","","","","","","","","","",null,"","","","","","","","","","","","","","","","","","","","","","","","","","","","","","","","","","","","","","","","","","",{"$f":"IF(A49=\"\",\"\",MAX(IF(ISERROR(AU49:BF49),0,AU49:BF49)))","v":""},"","","","","","","","","","","","","","","","","","","","","","","","","","","","","","","","","","","","","","","","","","","","",""]
[{"$f":"IF(ISBLANK('Control Sheet'!D30),\"\",'Control Sheet'!D30)","v":""},{"$f":"IF(ISBLANK('Control Sheet'!E30),\"\",'Control Sheet'!E30&\" (\"&'Control Sheet'!F30&\")\")","v":""},"","","","","","","","","","","","","",null,"","","","","","","","","","","","","","","","","","","","","","","","","","","","","","","","","","","","","","","","","","",{"$f":"IF(A50=\"\",\"\",MAX(IF(ISERROR(AU50:BF50),0,AU50:BF50)))","v":""},"","","","","","","","","","","","","","","","","","","","","","","","","","","","","","","","","","","","","","","","","","","","",""]
[{"$f":"IF(ISBLANK('Control Sheet'!D31),\"\",'Control Sheet'!D31)","v":""},{"$f":"IF(ISBLANK('Control Sheet'!E31),\"\",'Control Sheet'!E31&\" (\"&'Control Sheet'!F31&\")\")","v":""},{"$f":"IF(C$18=1,IF(ISNA(VLOOKUP($A51,INDIRECT(C$20),NMS_col,FALSE)),\"\",VLOOKUP($A51,INDIRECT(C$20),NMS_col,FALSE)),\"\")","v":""},"","","","","","","","","","","","",null,"","","","","","","","","","","","","","","","","","","","","","","","","","","","","","","","","","","","","","","","","","",{"$f":"IF(A51=\"\",\"\",MAX(IF(ISERROR(AU51:BF51),0,AU51:BF51)))","v":""},"","","","","","","","","","","","","","","","","","","","","","","","","","","","","","","","","","","","","","","","","","","","",""]
[{"$f":"IF(ISBLANK('Control Sheet'!D32),\"\",'Control Sheet'!D32)","v":""},{"$f":"IF(ISBLANK('Control Sheet'!E32),\"\",'Control Sheet'!E32&\" (\"&'Control Sheet'!F32&\")\")","v":""},"","","","","","","","","","","","","",null,"","","","","","","","","","","","","","","","","","","","","","","","","","","","","","","","","","","","","","","","","","",{"$f":"IF(A52=\"\",\"\",MAX(IF(ISERROR(AU52:BF52),0,AU52:BF52)))","v":""},"","","","","","","","","","","","","","","","",{"$f":"IF(A52=\"\",\"\",IF(BW52>$BW$11,\"Yes\",\"No\"))","v":""},"","","","","","","","","","","","","","","","","","","","","","","","","","","",""]
[{"$f":"IF(ISBLANK('Control Sheet'!D33),\"\",'Control Sheet'!D33)","v":""},{"$f":"IF(ISBLANK('Control Sheet'!E33),\"\",'Control Sheet'!E33&\" (\"&'Control Sheet'!F33&\")\")","v":""},"","","","","","","","","","","","","",null,"","","","","","","","","","","","","","","","","","","","","","","","","","","","","","","","","","","","","","","","","","",{"$f":"IF(A53=\"\",\"\",MAX(IF(ISERROR(AU53:BF53),0,AU53:BF53)))","v":""},"","","","","","","","","","","","","","","","",{"$f":"IF(A53=\"\",\"\",IF(BW53>$BW$11,\"Yes\",\"No\"))","v":""},"","","","","","","","","","","","","","","","","","","","","","","","","","","",""]
[{"$f":"IF(ISBLANK('Control Sheet'!D34),\"\",'Control Sheet'!D34)","v":""},{"$f":"IF(ISBLANK('Control Sheet'!E34),\"\",'Control Sheet'!E34&\" (\"&'Control Sheet'!F34&\")\")","v":""},"","","","","","","","","","","","","",null,"","","","","","","","","","","","","","","","","","","","","","","","","","","","","","","","","","","","","","","","","","",{"$f":"IF(A54=\"\",\"\",MAX(IF(ISERROR(AU54:BF54),0,AU54:BF54)))","v":""},"","","","","","","","","","","","","","","","","","","","","","","","","","","","","","","","","","","","","","","","","","","","",""]
[{"$f":"IF(ISBLANK('Control Sheet'!D35),\"\",'Control Sheet'!D35)","v":""},{"$f":"IF(ISBLANK('Control Sheet'!E35),\"\",'Control Sheet'!E35&\" (\"&'Control Sheet'!F35&\")\")","v":""},"","","","","","","","","","","","","",null,"","","","","","","","","","","","","","","","","","","","","","","","","","","","","","","","","","","","","","","","","","",{"$f":"IF(A55=\"\",\"\",MAX(IF(ISERROR(AU55:BF55),0,AU55:BF55)))","v":""},"","","","","","","","","","","","","","","","","","","","","","","","","","","","","","","","","","","","","","","","","","","","",""]
[{"$f":"IF(ISBLANK('Control Sheet'!D36),\"\",'Control Sheet'!D36)","v":""},{"$f":"IF(ISBLANK('Control Sheet'!E36),\"\",'Control Sheet'!E36&\" (\"&'Control Sheet'!F36&\")\")","v":""},"","","","","","","","","","","","","",null,"","","","","","","","","","","","","","","","","","","","","","","","","","","","","","","","","","","","","","","","","","",{"$f":"IF(A56=\"\",\"\",MAX(IF(ISERROR(AU56:BF56),0,AU56:BF56)))","v":""},"","","","","","","","","","","","","","","","","","","","","","","","","","","","","","","","","","","","","","","","","","","","",""]
[{"$f":"IF(ISBLANK('Control Sheet'!D37),\"\",'Control Sheet'!D37)","v":""},{"$f":"IF(ISBLANK('Control Sheet'!E37),\"\",'Control Sheet'!E37&\" (\"&'Control Sheet'!F37&\")\")","v":""},"","","","","","","","","","","","","",null,"","","","","","","","","","","","","","","","","","","","","","","","","","","","","","","","","","","","","","","","","","",{"$f":"IF(A57=\"\",\"\",MAX(IF(ISERROR(AU57:BF57),0,AU57:BF57)))","v":""},"","","","","","","","","","","","","","","","","","","","","","","","","","","","","","","","","","","","","","","","","","","","",""]
[{"$f":"IF(ISBLANK('Control Sheet'!D38),\"\",'Control Sheet'!D38)","v":""},{"$f":"IF(ISBLANK('Control Sheet'!E38),\"\",'Control Sheet'!E38&\" (\"&'Control Sheet'!F38&\")\")","v":""},"","","","","","","","","","","","","",null,"","","","","","","","","","","","","","","","","","","","","","","","","","","","","","","","","","","","","","","","","","",{"$f":"IF(A58=\"\",\"\",MAX(IF(ISERROR(AU58:BF58),0,AU58:BF58)))","v":""},"","","","","","","","","","","","","","","","","","","","","","","","","","","","","","","","","","","","","","","","","","","","",""]
[{"$f":"IF(ISBLANK('Control Sheet'!D39),\"\",'Control Sheet'!D39)","v":""},{"$f":"IF(ISBLANK('Control Sheet'!E39),\"\",'Control Sheet'!E39&\" (\"&'Control Sheet'!F39&\")\")","v":""},"","","","","","","","","","","","","",null,"","","","","","","","","","","","","","","","","","","","","","","","","","","","","","","","","","","","","","","","","","",{"$f":"IF(A59=\"\",\"\",MAX(IF(ISERROR(AU59:BF59),0,AU59:BF59)))","v":""},"","","","","","","","","","","","","","","","","","","","","","","","","","","","","","","","","","","","","","","","","","","","",""]
[{"$f":"IF(ISBLANK('Control Sheet'!D40),\"\",'Control Sheet'!D40)","v":""},{"$f":"IF(ISBLANK('Control Sheet'!E40),\"\",'Control Sheet'!E40&\" (\"&'Control Sheet'!F40&\")\")","v":""},"","","","","","","","","","","","","",null,"","","","","","","","","","","","","","","","","","","","","","","","","","","","","","","","","","","","","","","","","","",{"$f":"IF(A60=\"\",\"\",MAX(IF(ISERROR(AU60:BF60),0,AU60:BF60)))","v":""},"","","","","","","","","","","","","","","","","","","","","","","","","","","","","","","","","","","","","","","","","","","","",""]
[{"$f":"IF(ISBLANK('Control Sheet'!D41),\"\",'Control Sheet'!D41)","v":""},{"$f":"IF(ISBLANK('Control Sheet'!E41),\"\",'Control Sheet'!E41&\" (\"&'Control Sheet'!F41&\")\")","v":""},{"$f":"IF(C$18=1,IF(ISNA(VLOOKUP($A61,INDIRECT(C$20),NMS_col,FALSE)),\"\",VLOOKUP($A61,INDIRECT(C$20),NMS_col,FALSE)),\"\")","v":""},"","","","","","","","","","","","",null,"","","","","","","","","","","","","","","","","","","","","","","","","","","","","","","","","","","","","","","","","","",{"$f":"IF(A61=\"\",\"\",MAX(IF(ISERROR(AU61:BF61),0,AU61:BF61)))","v":""},"","","","","","","","","","","","","","","","","","","","","","","","","","","","","","","","","","","","","","","","","","","","",""]
[{"$f":"IF(ISBLANK('Control Sheet'!D42),\"\",'Control Sheet'!D42)","v":""},{"$f":"IF(ISBLANK('Control Sheet'!E42),\"\",'Control Sheet'!E42&\" (\"&'Control Sheet'!F42&\")\")","v":""},"","","","","","","","","","","","","",null,"","","","","","","","","","","","","","","","","","","","","","","","","","","","","","","","","","","","","","","","","","",{"$f":"IF(A62=\"\",\"\",MAX(IF(ISERROR(AU62:BF62),0,AU62:BF62)))","v":""},"","","","","","","","","","","","","","","","","","","","","","","","","","","","","","","","","","","","","","","","","","","","",""]
[{"$f":"IF(ISBLANK('Control Sheet'!D43),\"\",'Control Sheet'!D43)","v":""},{"$f":"IF(ISBLANK('Control Sheet'!E43),\"\",'Control Sheet'!E43&\" (\"&'Control Sheet'!F43&\")\")","v":""},"","","","","","","","","","","","","",null,"","","","","","","","","","","","","","","","","","","","","","","","","","","","","","","","","","","","","","","","","","",{"$f":"IF(A63=\"\",\"\",MAX(IF(ISERROR(AU63:BF63),0,AU63:BF63)))","v":""},"","","","","","","","","","","","","","","","","","","","","","","","","","","","","","","","","","","","","","","","","","","","",""]
[{"$f":"IF(ISBLANK('Control Sheet'!D44),\"\",'Control Sheet'!D44)","v":""},{"$f":"IF(ISBLANK('Control Sheet'!E44),\"\",'Control Sheet'!E44&\" (\"&'Control Sheet'!F44&\")\")","v":""},"","","","","","","","","","","","","",null,"","","","","","","","","","","","","","","","","","","","","","","","","","","","","","","","","","","","","","","","","","",{"$f":"IF(A64=\"\",\"\",MAX(IF(ISERROR(AU64:BF64),0,AU64:BF64)))","v":""},"","","","","","","","","","","","","","","","","","","","","","","","","","","","","","","","","","","","","","","","","","","","",""]
[{"$f":"IF(ISBLANK('Control Sheet'!D45),\"\",'Control Sheet'!D45)","v":""},{"$f":"IF(ISBLANK('Control Sheet'!E45),\"\",'Control Sheet'!E45&\" (\"&'Control Sheet'!F45&\")\")","v":""},"","","","","","","","","","","","","",null,"","","","","","","","","","","","","","","","","","","","","","","","","","","","","","","","","","","","","","","","","","",{"$f":"IF(A65=\"\",\"\",MAX(IF(ISERROR(AU65:BF65),0,AU65:BF65)))","v":""},"","","","","","","","","","","","","","","","","","","","","","","","","","","","","","","","","","","","","","","","","","","","",""]
[{"$f":"IF(ISBLANK('Control Sheet'!D46),\"\",'Control Sheet'!D46)","v":""},{"$f":"IF(ISBLANK('Control Sheet'!E46),\"\",'Control Sheet'!E46&\" (\"&'Control Sheet'!F46&\")\")","v":""},"","","","","","","","","","","","","",null,"","","","","","","","","","","","","","","","","","","","","","","","","","","","","","","","","","","","","","","","","","",{"$f":"IF(A66=\"\",\"\",MAX(IF(ISERROR(AU66:BF66),0,AU66:BF66)))","v":""},"","","","","","","","","","","","","","","","","","","","","","","","","","","","","","","","","","","","","","","","","","","","",""]
[{"$f":"IF(ISBLANK('Control Sheet'!D47),\"\",'Control Sheet'!D47)","v":""},{"$f":"IF(ISBLANK('Control Sheet'!E47),\"\",'Control Sheet'!E47&\" (\"&'Control Sheet'!F47&\")\")","v":""},"","","","","","","","","","","","","",null,"","","","","","","","","","","","","","","","","","","","","","","","","","","","","","","","","","","","","","","","","","",{"$f":"IF(A67=\"\",\"\",MAX(IF(ISERROR(AU67:BF67),0,AU67:BF67)))","v":""},"","","","","","","","","","","","","","","","","","","","","","","","","","","","","","","","","","","","","","","","","","","","",""]
[{"$f":"IF(ISBLANK('Control Sheet'!D48),\"\",'Control Sheet'!D48)","v":""},{"$f":"IF(ISBLANK('Control Sheet'!E48),\"\",'Control Sheet'!E48&\" (\"&'Control Sheet'!F48&\")\")","v":""},"","","","","","","","","","","","","",null,"","","","","","","","","","","","","","","","","","","","","","","","","","","","","","","","","","","","","","","","","","",{"$f":"IF(A68=\"\",\"\",MAX(IF(ISERROR(AU68:BF68),0,AU68:BF68)))","v":""},"","","","","","","","","","","","","","","","","","","","","","","","","","","","","","","","","","","","","","","","","","","","",""]
[{"$f":"IF(ISBLANK('Control Sheet'!D49),\"\",'Control Sheet'!D49)","v":""},{"$f":"IF(ISBLANK('Control Sheet'!E49),\"\",'Control Sheet'!E49&\" (\"&'Control Sheet'!F49&\")\")","v":""},"","","","","","","","","","","","","",null,"","","","","","","","","","","","","","","","","","","","","","","","","","","","","","","","","","","","","","","","","","",{"$f":"IF(A69=\"\",\"\",MAX(IF(ISERROR(AU69:BF69),0,AU69:BF69)))","v":""},"","","","","","","","","","","","","","","","","","","","","","","","","","","","","","","","","","","","","","","","","","","","",""]
[{"$f":"IF(ISBLANK('Control Sheet'!D50),\"\",'Control Sheet'!D50)","v":""},{"$f":"IF(ISBLANK('Control Sheet'!E50),\"\",'Control Sheet'!E50&\" (\"&'Control Sheet'!F50&\")\")","v":""},"","","","","","","","","","","","","",null,"","","","","","","","","","","","","","","","","","","","","","","","","","","","","","","","","","","","","","","","","","",{"$f":"IF(A70=\"\",\"\",MAX(IF(ISERROR(AU70:BF70),0,AU70:BF70)))","v":""},"","","","","","","","","","","","","","","","","","","","","","","","","","","","","","","","","","","","","","","","","","","","",""]
[{"$f":"IF(ISBLANK('Control Sheet'!D51),\"\",'Control Sheet'!D51)","v":""},{"$f":"IF(ISBLANK('Control Sheet'!E51),\"\",'Control Sheet'!E51&\" (\"&'Control Sheet'!F51&\")\")","v":""},{"$f":"IF(C$18=1,IF(ISNA(VLOOKUP($A71,INDIRECT(C$20),NMS_col,FALSE)),\"\",VLOOKUP($A71,INDIRECT(C$20),NMS_col,FALSE)),\"\")","v":""},"","","","","","","","","","","","",null,"","","","","","","","","","","","","","","","","","","","","","","","","","","","","","","","","","","","","","","","","","",{"$f":"IF(A71=\"\",\"\",MAX(IF(ISERROR(AU71:BF71),0,AU71:BF71)))","v":""},"","","","","","","","","","","","","","","","","","","","","","","","","","","","","","","","","","","","","","","","","","","","",""]
[{"$f":"IF(ISBLANK('Control Sheet'!D52),\"\",'Control Sheet'!D52)","v":""},{"$f":"IF(ISBLANK('Control Sheet'!E52),\"\",'Control Sheet'!E52&\" (\"&'Control Sheet'!F52&\")\")","v":""},"","","","","","","","","","","","","",null,"","","","","","","","","","","","","","","","","","","","","","","","","","","","","","","","","","","","","","","","","","",{"$f":"IF(A72=\"\",\"\",MAX(IF(ISERROR(AU72:BF72),0,AU72:BF72)))","v":""},"","","","","","","","","","","","","","","","","","","","","","","","","","","","","","","","","","","","","","","","","","","","",""]
[{"$f":"IF(ISBLANK('Control Sheet'!D53),\"\",'Control Sheet'!D53)","v":""},{"$f":"IF(ISBLANK('Control Sheet'!E53),\"\",'Control Sheet'!E53&\" (\"&'Control Sheet'!F53&\")\")","v":""},"","","","","","","","","","","","","",null,"","","","","","","","","","","","","","","","","","","","","","","","","","","","","","","","","","","","","","","","","","",{"$f":"IF(A73=\"\",\"\",MAX(IF(ISERROR(AU73:BF73),0,AU73:BF73)))","v":""},"","","","","","","","","","","","","","","","","","","","","","","","","","","","","","","","","","","","","","","","","","","","",""]
[{"$f":"IF(ISBLANK('Control Sheet'!D54),\"\",'Control Sheet'!D54)","v":""},{"$f":"IF(ISBLANK('Control Sheet'!E54),\"\",'Control Sheet'!E54&\" (\"&'Control Sheet'!F54&\")\")","v":""},"","","","","","","","","","","","","",null,"","","","","","","","","","","","","","","","","","","","","","","","","","","","","","","","","","","","","","","","","","",{"$f":"IF(A74=\"\",\"\",MAX(IF(ISERROR(AU74:BF74),0,AU74:BF74)))","v":""},"","","","","","","","","","","","","","","","","","","","","","","","","","","","","","","","","","","","","","","","","","","","",""]
[{"$f":"IF(ISBLANK('Control Sheet'!D55),\"\",'Control Sheet'!D55)","v":""},{"$f":"IF(ISBLANK('Control Sheet'!E55),\"\",'Control Sheet'!E55&\" (\"&'Control Sheet'!F55&\")\")","v":""},"","","","","","","","","","","","","",null,"","","","","","","","","","","","","","","","","","","","","","","","","","","","","","","","","","","","","","","","","","",{"$f":"IF(A75=\"\",\"\",MAX(IF(ISERROR(AU75:BF75),0,AU75:BF75)))","v":""},"","","","","","","","","","","","","","","","","","","","","","","","","","","","","","","","","","","","","","","","","","","","",""]
[{"$f":"IF(ISBLANK('Control Sheet'!D56),\"\",'Control Sheet'!D56)","v":""},{"$f":"IF(ISBLANK('Control Sheet'!E56),\"\",'Control Sheet'!E56&\" (\"&'Control Sheet'!F56&\")\")","v":""},"","","","","","","","","","","","","",null,"","","","","","","","","","","","","","","","","","","","","","","","","","","","","","","","","","","","","","","","","","",{"$f":"IF(A76=\"\",\"\",MAX(IF(ISERROR(AU76:BF76),0,AU76:BF76)))","v":""},"","","","","","","","","","","","","","","","","","","","","","","","","","","","","","","","","","","","","","","","","","","","",""]
[{"$f":"IF(ISBLANK('Control Sheet'!D57),\"\",'Control Sheet'!D57)","v":""},{"$f":"IF(ISBLANK('Control Sheet'!E57),\"\",'Control Sheet'!E57&\" (\"&'Control Sheet'!F57&\")\")","v":""},"","","","","","","","","","","","","",null,"","","","","","","","","","","","","","","","","","","","","","","","","","","","","","","","","","","","","","","","","","",{"$f":"IF(A77=\"\",\"\",MAX(IF(ISERROR(AU77:BF77),0,AU77:BF77)))","v":""},"","","","","","","","","","","","","","","","","","","","","","","","","","","","","","","","","","","","","","","","","","","","",""]
[{"$f":"IF(ISBLANK('Control Sheet'!D58),\"\",'Control Sheet'!D58)","v":""},{"$f":"IF(ISBLANK('Control Sheet'!E58),\"\",'Control Sheet'!E58&\" (\"&'Control Sheet'!F58&\")\")","v":""},"","","","","","","","","","","","","",null,"","","","","","","","","","","","","","","","","","","","","","","","","","","","","","","","","","","","","","","","","","",{"$f":"IF(A78=\"\",\"\",MAX(IF(ISERROR(AU78:BF78),0,AU78:BF78)))","v":""},"","","","","","","","","","","","","","","","","","","","","","","","","","","","","","","","","","","","","","","","","","","","",""]
[{"$f":"IF(ISBLANK('Control Sheet'!D59),\"\",'Control Sheet'!D59)","v":""},{"$f":"IF(ISBLANK('Control Sheet'!E59),\"\",'Control Sheet'!E59&\" (\"&'Control Sheet'!F59&\")\")","v":""},"","","","","","","","","","","","","",null,"","","","","","","","","","","","","","","","","","","","","","","","","","","","","","","","","","","","","","","","","","",{"$f":"IF(A79=\"\",\"\",MAX(IF(ISERROR(AU79:BF79),0,AU79:BF79)))","v":""},"","","","","","","","","","","","","","","","","","","","","","","","","","","","","","","","","","","","","","","","","","","","",""]
[{"$f":"IF(ISBLANK('Control Sheet'!D60),\"\",'Control Sheet'!D60)","v":""},{"$f":"IF(ISBLANK('Control Sheet'!E60),\"\",'Control Sheet'!E60&\" (\"&'Control Sheet'!F60&\")\")","v":""},"","","","","","","","","","","","","",null,"","","","","","","","","","","","","","","","","","","","","","","","","","","","","","","","","","","","","","","","","","",{"$f":"IF(A80=\"\",\"\",MAX(IF(ISERROR(AU80:BF80),0,AU80:BF80)))","v":""},"","","","","","","","","","","","","","","","","","","","","","","","","","","","","","","","","","","","","","","","","","","","",""]
[{"$f":"IF(ISBLANK('Control Sheet'!D61),\"\",'Control Sheet'!D61)","v":""},{"$f":"IF(ISBLANK('Control Sheet'!E61),\"\",'Control Sheet'!E61&\" (\"&'Control Sheet'!F61&\")\")","v":""},{"$f":"IF(C$18=1,IF(ISNA(VLOOKUP($A81,INDIRECT(C$20),NMS_col,FALSE)),\"\",VLOOKUP($A81,INDIRECT(C$20),NMS_col,FALSE)),\"\")","v":""},"","","","","","","","","","","","",null,"","","","","","","","","","","","","","","","","","","","","","","","","","","","","","","","","","","","","","","","","","",{"$f":"IF(A81=\"\",\"\",MAX(IF(ISERROR(AU81:BF81),0,AU81:BF81)))","v":""},"","","","","","","","","","","","","","","","","","","","","","","","","","","","","","","","","","","","","","","","","","","","",""]
[{"$f":"IF(ISBLANK('Control Sheet'!D62),\"\",'Control Sheet'!D62)","v":""},{"$f":"IF(ISBLANK('Control Sheet'!E62),\"\",'Control Sheet'!E62&\" (\"&'Control Sheet'!F62&\")\")","v":""},"","","","","","","","","","","","","",null,"","","","","","","","","","","","","","","","","","","","","","","","","","","","","","","","","","","","","","","","","","",{"$f":"IF(A82=\"\",\"\",MAX(IF(ISERROR(AU82:BF82),0,AU82:BF82)))","v":""},"","","","","","","","","","","","","","","","","","","","","","","","","","","","","","","","","","","","","","","","","","","","",""]
[{"$f":"IF(ISBLANK('Control Sheet'!D63),\"\",'Control Sheet'!D63)","v":""},{"$f":"IF(ISBLANK('Control Sheet'!E63),\"\",'Control Sheet'!E63&\" (\"&'Control Sheet'!F63&\")\")","v":""},"","","","","","","","","","","","","",null,"","","","","","","","","","","","","","","","","","","","","","","","","","","","","","","","","","","","","","","","","","",{"$f":"IF(A83=\"\",\"\",MAX(IF(ISERROR(AU83:BF83),0,AU83:BF83)))","v":""},"","","","","","","","","","","","","","","","","","","","","","","","","","","","","","","","","","","","","","","","","","","","",""]
[{"$f":"IF(ISBLANK('Control Sheet'!D64),\"\",'Control Sheet'!D64)","v":""},{"$f":"IF(ISBLANK('Control Sheet'!E64),\"\",'Control Sheet'!E64&\" (\"&'Control Sheet'!F64&\")\")","v":""},"","","","","","","","","","","","","",null,"","","","","","","","","","","","","","","","","","","","","","","","","","","","","","","","","","","","","","","","","","",{"$f":"IF(A84=\"\",\"\",MAX(IF(ISERROR(AU84:BF84),0,AU84:BF84)))","v":""},"","","","","","","","","","","","","","","","","","","","","","","","","","","","","","","","","","","","","","","","","","","","",""]
[{"$f":"IF(ISBLANK('Control Sheet'!D65),\"\",'Control Sheet'!D65)","v":""},{"$f":"IF(ISBLANK('Control Sheet'!E65),\"\",'Control Sheet'!E65&\" (\"&'Control Sheet'!F65&\")\")","v":""},"","","","","","","","","","","","","",null,"",{"$f":"IF(A85=\"\",\"\",NMSMonthsPop-(COUNTA(C85:N85)-COUNTBLANK(C85:N85)))","v":""},"","","","","","","","","","","","","","","","","","","","","","","","","","","","",{"$f":"IF(OR(A85=\"\",NMSMonthsPop=0),\"\",IF(AU$18=NMSMonthsPop,AH85,#N/A))","v":""},{"$f":"IF(OR($A85=\"\",NMSMonthsPop=0),\"\",IF(AV$18<NMSMonthsPop,#N/A,IF(AV$18=NMSMonthsPop,AI85,IF(AU85=\"\",\"\",IF(AV$18=NMSMonthsPop+1,AU85+(AU85*VLOOKUP(NMSMonthsPop-$R85,ForecastMult,3,FALSE)/12),AU85+AU85-AT85)))))","v":""},{"$f":"IF(OR($A85=\"\",NMSMonthsPop=0),\"\",IF(AW$18<NMSMonthsPop,#N/A,IF(AW$18=NMSMonthsPop,AJ85,IF(AV85=\"\",\"\",IF(AW$18=NMSMonthsPop+1,AV85+(AV85*VLOOKUP(NMSMonthsPop-$R85,ForecastMult,3,FALSE)/12),AV85+AV85-AU85)))))","v":""},{"$f":"IF(OR($A85=\"\",NMSMonthsPop=0),\"\",IF(AX$18<NMSMonthsPop,#N/A,IF(AX$18=NMSMonthsPop,AK85,IF(AW85=\"\",\"\",IF(AX$18=NMSMonthsPop+1,AW85+(AW85*VLOOKUP(NMSMonthsPop-$R85,ForecastMult,3,FALSE)/12),AW85+AW85-AV85)))))","v":""},{"$f":"IF(OR($A85=\"\",NMSMonthsPop=0),\"\",IF(AY$18<NMSMonthsPop,#N/A,IF(AY$18=NMSMonthsPop,AL85,IF(AX85=\"\",\"\",IF(AY$18=NMSMonthsPop+1,AX85+(AX85*VLOOKUP(NMSMonthsPop-$R85,ForecastMult,3,FALSE)/12),AX85+AX85-AW85)))))","v":""},{"$f":"IF(OR($A85=\"\",NMSMonthsPop=0),\"\",IF(AZ$18<NMSMonthsPop,#N/A,IF(AZ$18=NMSMonthsPop,AM85,IF(AY85=\"\",\"\",IF(AZ$18=NMSMonthsPop+1,AY85+(AY85*VLOOKUP(NMSMonthsPop-$R85,ForecastMult,3,FALSE)/12),AY85+AY85-AX85)))))","v":""},{"$f":"IF(OR($A85=\"\",NMSMonthsPop=0),\"\",IF(BA$18<NMSMonthsPop,#N/A,IF(BA$18=NMSMonthsPop,AN85,IF(AZ85=\"\",\"\",IF(BA$18=NMSMonthsPop+1,AZ85+(AZ85*VLOOKUP(NMSMonthsPop-$R85,ForecastMult,3,FALSE)/12),AZ85+AZ85-AY85)))))","v":""},{"$f":"IF(OR($A85=\"\",NMSMonthsPop=0),\"\",IF(BB$18<NMSMonthsPop,#N/A,IF(BB$18=NMSMonthsPop,AO85,IF(BA85=\"\",\"\",IF(BB$18=NMSMonthsPop+1,BA85+(BA85*VLOOKUP(NMSMonthsPop-$R85,ForecastMult,3,FALSE)/12),BA85+BA85-AZ85)))))","v":""},{"$f":"IF(OR($A85=\"\",NMSMonthsPop=0),\"\",IF(BC$18<NMSMonthsPop,#N/A,IF(BC$18=NMSMonthsPop,AP85,IF(BB85=\"\",\"\",IF(BC$18=NMSMonthsPop+1,BB85+(BB85*VLOOKUP(NMSMonthsPop-$R85,ForecastMult,3,FALSE)/12),BB85+BB85-BA85)))))","v":""},{"$f":"IF(OR($A85=\"\",NMSMonthsPop=0),\"\",IF(BD$18<NMSMonthsPop,#N/A,IF(BD$18=NMSMonthsPop,AQ85,IF(BC85=\"\",\"\",IF(BD$18=NMSMonthsPop+1,BC85+(BC85*VLOOKUP(NMSMonthsPop-$R85,ForecastMult,3,FALSE)/12),BC85+BC85-BB85)))))","v":""},{"$f":"IF(OR($A85=\"\",NMSMonthsPop=0),\"\",IF(BE$18<NMSMonthsPop,#N/A,IF(BE$18=NMSMonthsPop,AR85,IF(BD85=\"\",\"\",IF(BE$18=NMSMonthsPop+1,BD85+(BD85*VLOOKUP(NMSMonthsPop-$R85,ForecastMult,3,FALSE)/12),BD85+BD85-BC85)))))","v":""},{"$f":"IF(OR($A85=\"\",NMSMonthsPop=0),\"\",IF(BF$18<NMSMonthsPop,#N/A,IF(BF$18=NMSMonthsPop,AS85,IF(BE85=\"\",\"\",IF(BF$18=NMSMonthsPop+1,BE85+(BE85*VLOOKUP(NMSMonthsPop-$R85,ForecastMult,3,FALSE)/12),BE85+BE85-BD85)))))","v":""},{"$f":"IF(A85=\"\",\"\",MAX(IF(ISERROR(AU85:BF85),0,AU85:BF85)))","v":""},{"$f":"IF(AND(C$18=1,$A85<>\"\"),IF(ISNA(VLOOKUP($A85,INDIRECT(C$20),NMS_items_col,FALSE)),\"\",VLOOKUP($A85,INDIRECT(C$20),NMS_items_col,FALSE)),\"\")","v":""},{"$f":"IF(AND(D$18=1,$A85<>\"\"),IF(ISNA(VLOOKUP($A85,INDIRECT(D$20),NMS_items_col,FALSE)),\"\",VLOOKUP($A85,INDIRECT(D$20),NMS_items_col,FALSE)),\"\")","v":""},{"$f":"IF(AND(E$18=1,$A85<>\"\"),IF(ISNA(VLOOKUP($A85,INDIRECT(E$20),NMS_items_col,FALSE)),\"\",VLOOKUP($A85,INDIRECT(E$20),NMS_items_col,FALSE)),\"\")","v":""},{"$f":"IF(AND(F$18=1,$A85<>\"\"),IF(ISNA(VLOOKUP($A85,INDIRECT(F$20),NMS_items_col,FALSE)),\"\",VLOOKUP($A85,INDIRECT(F$20),NMS_items_col,FALSE)),\"\")","v":""},{"$f":"IF(AND(G$18=1,$A85<>\"\"),IF(ISNA(VLOOKUP($A85,INDIRECT(G$20),NMS_items_col,FALSE)),\"\",VLOOKUP($A85,INDIRECT(G$20),NMS_items_col,FALSE)),\"\")","v":""},{"$f":"IF(AND(H$18=1,$A85<>\"\"),IF(ISNA(VLOOKUP($A85,INDIRECT(H$20),NMS_items_col,FALSE)),\"\",VLOOKUP($A85,INDIRECT(H$20),NMS_items_col,FALSE)),\"\")","v":""},{"$f":"IF(AND(I$18=1,$A85<>\"\"),IF(ISNA(VLOOKUP($A85,INDIRECT(I$20),NMS_items_col,FALSE)),\"\",VLOOKUP($A85,INDIRECT(I$20),NMS_items_col,FALSE)),\"\")","v":""},{"$f":"IF(AND(J$18=1,$A85<>\"\"),IF(ISNA(VLOOKUP($A85,INDIRECT(J$20),NMS_items_col,FALSE)),\"\",VLOOKUP($A85,INDIRECT(J$20),NMS_items_col,FALSE)),\"\")","v":""},{"$f":"IF(AND(K$18=1,$A85<>\"\"),IF(ISNA(VLOOKUP($A85,INDIRECT(K$20),NMS_items_col,FALSE)),\"\",VLOOKUP($A85,INDIRECT(K$20),NMS_items_col,FALSE)),\"\")","v":""},{"$f":"IF(AND(L$18=1,$A85<>\"\"),IF(ISNA(VLOOKUP($A85,INDIRECT(L$20),NMS_items_col,FALSE)),\"\",VLOOKUP($A85,INDIRECT(L$20),NMS_items_col,FALSE)),\"\")","v":""},{"$f":"IF(AND(M$18=1,$A85<>\"\"),IF(ISNA(VLOOKUP($A85,INDIRECT(M$20),NMS_items_col,FALSE)),\"\",VLOOKUP($A85,INDIRECT(M$20),NMS_items_col,FALSE)),\"\")","v":""},{"$f":"IF(AND(N$18=1,$A85<>\"\"),IF(ISNA(VLOOKUP($A85,INDIRECT(N$20),NMS_items_col,FALSE)),\"\",VLOOKUP($A85,INDIRECT(N$20),NMS_items_col,FALSE)),\"\")","v":""},"","","","","","","",{"$f":"IF(C$18=1,IF(ISNA(VLOOKUP($A85,INDIRECT(C$20),NMS_fee_col,FALSE)),\"\",VLOOKUP($A85,INDIRECT(C$20),NMS_fee_col,FALSE)),\"\")","v":""},{"$f":"IF(D$18=1,IF(ISNA(VLOOKUP($A85,INDIRECT(D$20),NMS_fee_col,FALSE)),\"\",VLOOKUP($A85,INDIRECT(D$20),NMS_fee_col,FALSE)),\"\")","v":""},{"$f":"IF(E$18=1,IF(ISNA(VLOOKUP($A85,INDIRECT(E$20),NMS_fee_col,FALSE)),\"\",VLOOKUP($A85,INDIRECT(E$20),NMS_fee_col,FALSE)),\"\")","v":""},{"$f":"IF(F$18=1,IF(ISNA(VLOOKUP($A85,INDIRECT(F$20),NMS_fee_col,FALSE)),\"\",VLOOKUP($A85,INDIRECT(F$20),NMS_fee_col,FALSE)),\"\")","v":""},{"$f":"IF(G$18=1,IF(ISNA(VLOOKUP($A85,INDIRECT(G$20),NMS_fee_col,FALSE)),\"\",VLOOKUP($A85,INDIRECT(G$20),NMS_fee_col,FALSE)),\"\")","v":""},{"$f":"IF(H$18=1,IF(ISNA(VLOOKUP($A85,INDIRECT(H$20),NMS_fee_col,FALSE)),\"\",VLOOKUP($A85,INDIRECT(H$20),NMS_fee_col,FALSE)),\"\")","v":""},{"$f":"IF(I$18=1,IF(ISNA(VLOOKUP($A85,INDIRECT(I$20),NMS_fee_col,FALSE)),\"\",VLOOKUP($A85,INDIRECT(I$20),NMS_fee_col,FALSE)),\"\")","v":""},{"$f":"IF(J$18=1,IF(ISNA(VLOOKUP($A85,INDIRECT(J$20),NMS_fee_col,FALSE)),\"\",VLOOKUP($A85,INDIRECT(J$20),NMS_fee_col,FALSE)),\"\")","v":""},{"$f":"IF(K$18=1,IF(ISNA(VLOOKUP($A85,INDIRECT(K$20),NMS_fee_col,FALSE)),\"\",VLOOKUP($A85,INDIRECT(K$20),NMS_fee_col,FALSE)),\"\")","v":""},{"$f":"IF(L$18=1,IF(ISNA(VLOOKUP($A85,INDIRECT(L$20),NMS_fee_col,FALSE)),\"\",VLOOKUP($A85,INDIRECT(L$20),NMS_fee_col,FALSE)),\"\")","v":""},{"$f":"IF(M$18=1,IF(ISNA(VLOOKUP($A85,INDIRECT(M$20),NMS_fee_col,FALSE)),\"\",VLOOKUP($A85,INDIRECT(M$20),NMS_fee_col,FALSE)),\"\")","v":""},{"$f":"IF(N$18=1,IF(ISNA(VLOOKUP($A85,INDIRECT(N$20),NMS_fee_col,FALSE)),\"\",VLOOKUP($A85,INDIRECT(N$20),NMS_fee_col,FALSE)),\"\")","v":""},"",{"$f":"IF(C$18=1,IF(ISNA(VLOOKUP($A85,INDIRECT(C$20),NMS_Fee_adj_col,FALSE)),\"\",VLOOKUP($A85,INDIRECT(C$20),NMS_Fee_adj_col,FALSE)),\"\")","v":""},{"$f":"IF(D$18=1,IF(ISNA(VLOOKUP($A85,INDIRECT(D$20),NMS_Fee_adj_col,FALSE)),\"\",VLOOKUP($A85,INDIRECT(D$20),NMS_Fee_adj_col,FALSE)),\"\")","v":""},{"$f":"IF(E$18=1,IF(ISNA(VLOOKUP($A85,INDIRECT(E$20),NMS_Fee_adj_col,FALSE)),\"\",VLOOKUP($A85,INDIRECT(E$20),NMS_Fee_adj_col,FALSE)),\"\")","v":""},{"$f":"IF(F$18=1,IF(ISNA(VLOOKUP($A85,INDIRECT(F$20),NMS_Fee_adj_col,FALSE)),\"\",VLOOKUP($A85,INDIRECT(F$20),NMS_Fee_adj_col,FALSE)),\"\")","v":""},{"$f":"IF(G$18=1,IF(ISNA(VLOOKUP($A85,INDIRECT(G$20),NMS_Fee_adj_col,FALSE)),\"\",VLOOKUP($A85,INDIRECT(G$20),NMS_Fee_adj_col,FALSE)),\"\")","v":""},{"$f":"IF(H$18=1,IF(ISNA(VLOOKUP($A85,INDIRECT(H$20),NMS_Fee_adj_col,FALSE)),\"\",VLOOKUP($A85,INDIRECT(H$20),NMS_Fee_adj_col,FALSE)),\"\")","v":""},{"$f":"IF(I$18=1,IF(ISNA(VLOOKUP($A85,INDIRECT(I$20),NMS_Fee_adj_col,FALSE)),\"\",VLOOKUP($A85,INDIRECT(I$20),NMS_Fee_adj_col,FALSE)),\"\")","v":""},{"$f":"IF(J$18=1,IF(ISNA(VLOOKUP($A85,INDIRECT(J$20),NMS_Fee_adj_col,FALSE)),\"\",VLOOKUP($A85,INDIRECT(J$20),NMS_Fee_adj_col,FALSE)),\"\")","v":""},{"$f":"IF(K$18=1,IF(ISNA(VLOOKUP($A85,INDIRECT(K$20),NMS_Fee_adj_col,FALSE)),\"\",VLOOKUP($A85,INDIRECT(K$20),NMS_Fee_adj_col,FALSE)),\"\")","v":""},{"$f":"IF(L$18=1,IF(ISNA(VLOOKUP($A85,INDIRECT(L$20),NMS_Fee_adj_col,FALSE)),\"\",VLOOKUP($A85,INDIRECT(L$20),NMS_Fee_adj_col,FALSE)),\"\")","v":""},{"$f":"IF(M$18=1,IF(ISNA(VLOOKUP($A85,INDIRECT(M$20),NMS_Fee_adj_col,FALSE)),\"\",VLOOKUP($A85,INDIRECT(M$20),NMS_Fee_adj_col,FALSE)),\"\")","v":""},{"$f":"IF(N$18=1,IF(ISNA(VLOOKUP($A85,INDIRECT(N$20),NMS_Fee_adj_col,FALSE)),\"\",VLOOKUP($A85,INDIRECT(N$20),NMS_Fee_adj_col,FALSE)),\"\")","v":""},""]
[{"$f":"IF(ISBLANK('Control Sheet'!D66),\"\",'Control Sheet'!D66)","v":""},{"$f":"IF(ISBLANK('Control Sheet'!E66),\"\",'Control Sheet'!E66&\" (\"&'Control Sheet'!F66&\")\")","v":""},"","","","","","","","","","","","",{"$f":"IF(A86=\"\",\"\",SUM(C86:N86))","v":""},null,{"$f":"IF(A86=\"\",\"\",IF(BG86<=400,\"No\",\"Yes\"))","v":""},"",{"$f":"IF(C86=\"\",\"\",IF(C86<=C$10,1,IF(C86<=C$7,2,IF(C86<=C$8,3,IF(C86<=C$9,4,IF(C86<=C$11,5,60))))))","v":""},{"$f":"IF(D86=\"\",\"\",IF(D86<=D$10,1,IF(D86<=D$7,2,IF(D86<=D$8,3,IF(D86<=D$9,4,IF(D86<=D$11,5,60))))))","v":""},{"$f":"IF(E86=\"\",\"\",IF(E86<=E$10,1,IF(E86<=E$7,2,IF(E86<=E$8,3,IF(E86<=E$9,4,IF(E86<=E$11,5,60))))))","v":""},{"$f":"IF(F86=\"\",\"\",IF(F86<=F$10,1,IF(F86<=F$7,2,IF(F86<=F$8,3,IF(F86<=F$9,4,IF(F86<=F$11,5,60))))))","v":""},{"$f":"IF(G86=\"\",\"\",IF(G86<=G$10,1,IF(G86<=G$7,2,IF(G86<=G$8,3,IF(G86<=G$9,4,IF(G86<=G$11,5,60))))))","v":""},{"$f":"IF(H86=\"\",\"\",IF(H86<=H$10,1,IF(H86<=H$7,2,IF(H86<=H$8,3,IF(H86<=H$9,4,IF(H86<=H$11,5,60))))))","v":""},{"$f":"IF(I86=\"\",\"\",IF(I86<=I$10,1,IF(I86<=I$7,2,IF(I86<=I$8,3,IF(I86<=I$9,4,IF(I86<=I$11,5,60))))))","v":""},{"$f":"IF(J86=\"\",\"\",IF(J86<=J$10,1,IF(J86<=J$7,2,IF(J86<=J$8,3,IF(J86<=J$9,4,IF(J86<=J$11,5,60))))))","v":""},{"$f":"IF(K86=\"\",\"\",IF(K86<=K$10,1,IF(K86<=K$7,2,IF(K86<=K$8,3,IF(K86<=K$9,4,IF(K86<=K$11,5,60))))))","v":""},{"$f":"IF(L86=\"\",\"\",IF(L86<=L$10,1,IF(L86<=L$7,2,IF(L86<=L$8,3,IF(L86<=L$9,4,IF(L86<=L$11,5,60))))))","v":""},{"$f":"IF(M86=\"\",\"\",IF(M86<=M$10,1,IF(M86<=M$7,2,IF(M86<=M$8,3,IF(M86<=M$9,4,IF(M86<=M$11,5,60))))))","v":""},{"$f":"IF(N86=\"\",\"\",IF(N86<=N$10,1,IF(N86<=N$7,2,IF(N86<=N$8,3,IF(N86<=N$9,4,IF(N86<=N$11,5,60))))))","v":""},{"$f":"IF(A86=\"\",\"\",SUM(S86:AD86))","v":""},{"$f":"IF(OR(A86=\"\",AE86=0),\"\",AE86/(O$18--R86))","v":""},{"$f":"IF(AF86=\"\",\"\",IF(AF86<=1,\"Lower Outlier\",IF(AF86<=2,\"Below Average\",IF(AF86<=3,\"Lower Quartile\",IF(AF86<=4,\"Upper Quartile\",IF(AF86<=5, \"Above Average\", \"Upper Outlier\"))))))","v":""},{"$f":"IF(C$18=1,C86,\"\")","v":""},{"$f":"IF(D$18=1,IF(D86=\"\",IF(AH86=\"\",\"\",AH86),IF(AND(D86>=0,AH86=\"\"),D86,IF(ISERROR(D86+AH86),#N/A,D86+AH86))),\"\")","v":""},{"$f":"IF(E$18=1,IF(E86=\"\",IF(AI86=\"\",\"\",AI86),IF(AND(E86>=0,AI86=\"\"),E86,IF(ISERROR(E86+AI86),#N/A,E86+AI86))),\"\")","v":""},{"$f":"IF(F$18=1,IF(F86=\"\",IF(AJ86=\"\",\"\",AJ86),IF(AND(F86>=0,AJ86=\"\"),F86,IF(ISERROR(F86+AJ86),#N/A,F86+AJ86))),\"\")","v":""},{"$f":"IF(G$18=1,IF(G86=\"\",IF(AK86=\"\",\"\",AK86),IF(AND(G86>=0,AK86=\"\"),G86,IF(ISERROR(G86+AK86),#N/A,G86+AK86))),\"\")","v":""},{"$f":"IF(H$18=1,IF(H86=\"\",IF(AL86=\"\",\"\",AL86),IF(AND(H86>=0,AL86=\"\"),H86,IF(ISERROR(H86+AL86),#N/A,H86+AL86))),\"\")","v":""},{"$f":"IF(I$18=1,IF(I86=\"\",IF(AM86=\"\",\"\",AM86),IF(AND(I86>=0,AM86=\"\"),I86,IF(ISERROR(I86+AM86),#N/A,I86+AM86))),\"\")","v":""},{"$f":"IF(J$18=1,IF(J86=\"\",IF(AN86=\"\",\"\",AN86),IF(AND(J86>=0,AN86=\"\"),J86,IF(ISERROR(J86+AN86),#N/A,J86+AN86))),\"\")","v":""},{"$f":"IF(K$18=1,IF(K86=\"\",IF(AO86=\"\",\"\",AO86),IF(AND(K86>=0,AO86=\"\"),K86,IF(ISERROR(K86+AO86),#N/A,K86+AO86))),\"\")","v":""},{"$f":"IF(L$18=1,IF(L86=\"\",IF(AP86=\"\",\"\",AP86),IF(AND(L86>=0,AP86=\"\"),L86,IF(ISERROR(L86+AP86),#N/A,L86+AP86))),\"\")","v":""},{"$f":"IF(M$18=1,IF(M86=\"\",IF(AQ86=\"\",\"\",AQ86),IF(AND(M86>=0,AQ86=\"\"),M86,IF(ISERROR(M86+AQ86),#N/A,M86+AQ86))),\"\")","v":""},{"$f":"IF(N$18=1,IF(N86=\"\",IF(AR86=\"\",\"\",AR86),IF(AND(N86>=0,AR86=\"\"),N86,IF(ISERROR(N86+AR86),#N/A,N86+AR86))),\"\")","v":""},{"$f":"IF(A86=\"\",\"\",MAX(AH86:AS86))","v":""},"","","","","","","","","","","","",{"$f":"IF(A86=\"\",\"\",MAX(IF(ISERROR(AU86:BF86),0,AU86:BF86)))","v":""},"","","","","","","","","","","","",{"$f":"IF(A86=\"\",\"\",SUM(BH86:BS86))","v":""},{"$f":"IF(A86=\"\",\"\",MIN(B86:M86))","v":""},{"$f":"IF(A86=\"\",\"\",MAX(B86:M86))","v":""},{"$f":"IF(A86=\"\",\"\",BV86-BU86)","v":""},"",{"$f":"IF(A86=\"\",\"\",(COUNTA(C86:N86)-COUNTBLANK(C86:N86)))","v":""},{"$f":"IF(A86=\"\",\"\",BY86-COUNTIF(C86:N86,\"=0\"))","v":""},"","","","","","","","","","","","",{"$f":"IF(A86=\"\",\"\",SUM(CA86:CL86))","v":""},"","","","","","","","","","","","",{"$f":"IF(A86=\"\",\"\",SUM(CN86:CY86))","v":""}]
[{"$f":"IF(ISBLANK('Control Sheet'!D67),\"\",'Control Sheet'!D67)","v":""},{"$f":"IF(ISBLANK('Control Sheet'!E67),\"\",'Control Sheet'!E67&\" (\"&'Control Sheet'!F67&\")\")","v":""},"","","","","","","","","","","","","",null,"","","","","","","","","","","","","","","","","","","","","","","","","","","","","","","","","","","","","","","","","","",{"$f":"IF(A87=\"\",\"\",MAX(IF(ISERROR(AU87:BF87),0,AU87:BF87)))","v":""},"","","","","","","","","","","","","","","","","","","","","","","","","","","","","","","","","","","","","","","","","","","","",""]
[{"$f":"IF(ISBLANK('Control Sheet'!D68),\"\",'Control Sheet'!D68)","v":""},{"$f":"IF(ISBLANK('Control Sheet'!E68),\"\",'Control Sheet'!E68&\" (\"&'Control Sheet'!F68&\")\")","v":""},"","","","","","","","","","","","","",null,"","","","","","","","","","","","","","","","","","","","","","","","","","","","","","","","","","","","","","","","","","",{"$f":"IF(A88=\"\",\"\",MAX(IF(ISERROR(AU88:BF88),0,AU88:BF88)))","v":""},"","","","","","","","","","","","","","","","","","","","","","","","","","","","","","","","","","","","","","","","","","","","",""]
[{"$f":"IF(ISBLANK('Control Sheet'!D69),\"\",'Control Sheet'!D69)","v":""},{"$f":"IF(ISBLANK('Control Sheet'!E69),\"\",'Control Sheet'!E69&\" (\"&'Control Sheet'!F69&\")\")","v":""},"","","","","","","","","","","","","",null,"","","","","","","","","","","","","","","","","","","","","","","","","","","","","","","","","","","","","","","","","","",{"$f":"IF(A89=\"\",\"\",MAX(IF(ISERROR(AU89:BF89),0,AU89:BF89)))","v":""},"","","","","","","","","","","","","","","","","","","","","","","","","","","","","","","","","","","","","","","","","","","","",""]
[{"$f":"IF(ISBLANK('Control Sheet'!D70),\"\",'Control Sheet'!D70)","v":""},{"$f":"IF(ISBLANK('Control Sheet'!E70),\"\",'Control Sheet'!E70&\" (\"&'Control Sheet'!F70&\")\")","v":""},"","","","","","","","","","","","","",null,"","","","","","","","","","","","","","","","","","","","","","","","","","","","","","","","","","","","","","","","","","",{"$f":"IF(A90=\"\",\"\",MAX(IF(ISERROR(AU90:BF90),0,AU90:BF90)))","v":""},"","","","","","","","","","","","","","","","","","","","","","","","","","","","","","","","","","","","","","","","","","","","",""]
[{"$f":"IF(ISBLANK('Control Sheet'!D71),\"\",'Control Sheet'!D71)","v":""},{"$f":"IF(ISBLANK('Control Sheet'!E71),\"\",'Control Sheet'!E71&\" (\"&'Control Sheet'!F71&\")\")","v":""},{"$f":"IF(C$18=1,IF(ISNA(VLOOKUP($A91,INDIRECT(C$20),NMS_col,FALSE)),\"\",VLOOKUP($A91,INDIRECT(C$20),NMS_col,FALSE)),\"\")","v":""},"","","","","","","","","","","","",null,"","","","","","","","","","","","","","","","","","","","","","","","","","","","","","","","","","","","","","","","","","",{"$f":"IF(A91=\"\",\"\",MAX(IF(ISERROR(AU91:BF91),0,AU91:BF91)))","v":""},"","","","","","","","","","","","","","","","","","","","","","","","","","","","","","","","","","","","","","","","","","","","",""]
[{"$f":"IF(ISBLANK('Control Sheet'!D72),\"\",'Control Sheet'!D72)","v":""},{"$f":"IF(ISBLANK('Control Sheet'!E72),\"\",'Control Sheet'!E72&\" (\"&'Control Sheet'!F72&\")\")","v":""},"","","","","","","","","","","","","",null,"","","","","","","","","","","","","","","","","","","","","","","","","","","","","","","","","","","","","","","","","","",{"$f":"IF(A92=\"\",\"\",MAX(IF(ISERROR(AU92:BF92),0,AU92:BF92)))","v":""},"","","","","","","","","","","","","","","","","","","","","","","","","","","","","","","","","","","","","","","","","","","","",""]
[{"$f":"IF(ISBLANK('Control Sheet'!D73),\"\",'Control Sheet'!D73)","v":""},{"$f":"IF(ISBLANK('Control Sheet'!E73),\"\",'Control Sheet'!E73&\" (\"&'Control Sheet'!F73&\")\")","v":""},"","","","","","","","","","","","","",null,"","","","","","","","","","","","","","","","","","","","","","","","","","","","","","","","","","","","","","","","","","",{"$f":"IF(A93=\"\",\"\",MAX(IF(ISERROR(AU93:BF93),0,AU93:BF93)))","v":""},"","","","","","","","","","","","","","","","","","","","","","","","","","","","","","","","","","","","","","","","","","","","",""]
[{"$f":"IF(ISBLANK('Control Sheet'!D74),\"\",'Control Sheet'!D74)","v":""},{"$f":"IF(ISBLANK('Control Sheet'!E74),\"\",'Control Sheet'!E74&\" (\"&'Control Sheet'!F74&\")\")","v":""},"","","","","","","","","","","","","",null,"","","","","","","","","","","","","","","","","","","","","","","","","","","","","","","","","","","","","","","","","","",{"$f":"IF(A94=\"\",\"\",MAX(IF(ISERROR(AU94:BF94),0,AU94:BF94)))","v":""},"","","","","","","","","","","","","","","","","","","","","","","","","","","","","","","","","","","","","","","","","","","","",""]
[{"$f":"IF(ISBLANK('Control Sheet'!D75),\"\",'Control Sheet'!D75)","v":""},{"$f":"IF(ISBLANK('Control Sheet'!E75),\"\",'Control Sheet'!E75&\" (\"&'Control Sheet'!F75&\")\")","v":""},"","","","","","","","","","","","","",null,"","","","","","","","","","","","","","","","","","","","","","","","","","","","","","","","","","","","","","","","","","",{"$f":"IF(A95=\"\",\"\",MAX(IF(ISERROR(AU95:BF95),0,AU95:BF95)))","v":""},"","","","","","","","","","","","","","","","","","","","","","","","","","","","","","","","","","","","","","","","","","","","",""]
[{"$f":"IF(ISBLANK('Control Sheet'!D76),\"\",'Control Sheet'!D76)","v":""},{"$f":"IF(ISBLANK('Control Sheet'!E76),\"\",'Control Sheet'!E76&\" (\"&'Control Sheet'!F76&\")\")","v":""},"","","","","","","","","","","","","",null,"","","","","","","","","","","","","","","","","","","","","","","","","","","","","","","","","","","","","","","","","","",{"$f":"IF(A96=\"\",\"\",MAX(IF(ISERROR(AU96:BF96),0,AU96:BF96)))","v":""},"","","","","","","","","","","","","","","","","","","","","","","","","","","","","","","","","","","","","","","","","","","","",""]
[{"$f":"IF(ISBLANK('Control Sheet'!D77),\"\",'Control Sheet'!D77)","v":""},{"$f":"IF(ISBLANK('Control Sheet'!E77),\"\",'Control Sheet'!E77&\" (\"&'Control Sheet'!F77&\")\")","v":""},"","","","","","","","","","","","","",null,"","","","","","","","","","","","","","","","","","","","","","","","","","","","","","","","","","","","","","","","","","",{"$f":"IF(A97=\"\",\"\",MAX(IF(ISERROR(AU97:BF97),0,AU97:BF97)))","v":""},"","","","","","","","","","","","","","","","","","","","","","","","","","","","","","","","","","","","","","","","","","","","",""]
[{"$f":"IF(ISBLANK('Control Sheet'!D78),\"\",'Control Sheet'!D78)","v":""},{"$f":"IF(ISBLANK('Control Sheet'!E78),\"\",'Control Sheet'!E78&\" (\"&'Control Sheet'!F78&\")\")","v":""},"","","","","","","","","","","","","",null,"","","","","","","","","","","","","","","","","","","","","","","","","","","","","","","","","","","","","","","","","","",{"$f":"IF(A98=\"\",\"\",MAX(IF(ISERROR(AU98:BF98),0,AU98:BF98)))","v":""},"","","","","","","","","","","","","","","","","","","","","","","","","","","","","","","","","","","","","","","","","","","","",""]
[{"$f":"IF(ISBLANK('Control Sheet'!D79),\"\",'Control Sheet'!D79)","v":""},{"$f":"IF(ISBLANK('Control Sheet'!E79),\"\",'Control Sheet'!E79&\" (\"&'Control Sheet'!F79&\")\")","v":""},"","","","","","","","","","","","","",null,"","","","","","","","","","","","","","","","","","","","","","","","","","","","","","","","","","","","","","","","","","",{"$f":"IF(A99=\"\",\"\",MAX(IF(ISERROR(AU99:BF99),0,AU99:BF99)))","v":""},"","","","","","","","","","","","","","","","","","","","","","","","","","","","","","","","","","","","","","","","","","","","",""]
[{"$f":"IF(ISBLANK('Control Sheet'!D80),\"\",'Control Sheet'!D80)","v":""},{"$f":"IF(ISBLANK('Control Sheet'!E80),\"\",'Control Sheet'!E80&\" (\"&'Control Sheet'!F80&\")\")","v":""},"","","","","","","","","","","","","",null,"","","","","","","","","","","","","","","","","","","","","","","","","","","","","","","","","","","","","","","","","","",{"$f":"IF(A100=\"\",\"\",MAX(IF(ISERROR(AU100:BF100),0,AU100:BF100)))","v":""},"","","","","","","","","","","","","","","","","","","","","","","","","","","","","","","","","","","","","","","","","","","","",""]
[{"$f":"IF(ISBLANK('Control Sheet'!D81),\"\",'Control Sheet'!D81)","v":""},{"$f":"IF(ISBLANK('Control Sheet'!E81),\"\",'Control Sheet'!E81&\" (\"&'Control Sheet'!F81&\")\")","v":""},{"$f":"IF(C$18=1,IF(ISNA(VLOOKUP($A101,INDIRECT(C$20),NMS_col,FALSE)),\"\",VLOOKUP($A101,INDIRECT(C$20),NMS_col,FALSE)),\"\")","v":""},"","","","","","","","","","","","",null,"","","","","","","","","","","","","","","","","","","","","","","","","","","","","","","","","","","","","","","","","","",{"$f":"IF(A101=\"\",\"\",MAX(IF(ISERROR(AU101:BF101),0,AU101:BF101)))","v":""},"","","","","","","","","","","","","","","","","","","","","","","","","","","","","","","","","","","","","","","","","","","","",""]
[{"$f":"IF(ISBLANK('Control Sheet'!D82),\"\",'Control Sheet'!D82)","v":""},{"$f":"IF(ISBLANK('Control Sheet'!E82),\"\",'Control Sheet'!E82&\" (\"&'Control Sheet'!F82&\")\")","v":""},"","","","","","","","","","","","","",null,"","","","","","","","","","","","","","","","","","","","","","","","","","","","","","","","","","","","","","","","","","",{"$f":"IF(A102=\"\",\"\",MAX(IF(ISERROR(AU102:BF102),0,AU102:BF102)))","v":""},"","","","","","","","","","","","","","","","","","","","","","","","","","","","","","","","","","","","","","","","","","","","",""]
[{"$f":"IF(ISBLANK('Control Sheet'!D83),\"\",'Control Sheet'!D83)","v":""},{"$f":"IF(ISBLANK('Control Sheet'!E83),\"\",'Control Sheet'!E83&\" (\"&'Control Sheet'!F83&\")\")","v":""},"","","","","","","","","","","","","",null,"","","","","","","","","","","","","","","","","","","","","","","","","","","","","","","","","","","","","","","","","","",{"$f":"IF(A103=\"\",\"\",MAX(IF(ISERROR(AU103:BF103),0,AU103:BF103)))","v":""},"","","","","","","","","","","","","","","","","","","","","","","","","","","","","","","","","","","","","","","","","","","","",""]
[{"$f":"IF(ISBLANK('Control Sheet'!D84),\"\",'Control Sheet'!D84)","v":""},{"$f":"IF(ISBLANK('Control Sheet'!E84),\"\",'Control Sheet'!E84&\" (\"&'Control Sheet'!F84&\")\")","v":""},"","","","","","","","","","","","","",null,"","","","","","","","","","","","","","","","","","","","","","","","","","","","","","","","","","","","","","","","","","",{"$f":"IF(A104=\"\",\"\",MAX(IF(ISERROR(AU104:BF104),0,AU104:BF104)))","v":""},"","","","","","","","","","","","","","","","","","","","","","","","","","","","","","","","","","","","","","","","","","","","",""]
[{"$f":"IF(ISBLANK('Control Sheet'!D85),\"\",'Control Sheet'!D85)","v":""},{"$f":"IF(ISBLANK('Control Sheet'!E85),\"\",'Control Sheet'!E85&\" (\"&'Control Sheet'!F85&\")\")","v":""},"","","","","","","","","","","","","",null,"","","","","","","","","","","","","","","","","","","","","","","","","","","","","","","","","","","","","","","","","","",{"$f":"IF(A105=\"\",\"\",MAX(IF(ISERROR(AU105:BF105),0,AU105:BF105)))","v":""},"","","","","","","","","","","","","","","","","","","","","","","","","","","","","","","","","","","","","","","","","","","","",""]
[{"$f":"IF(ISBLANK('Control Sheet'!D86),\"\",'Control Sheet'!D86)","v":""},{"$f":"IF(ISBLANK('Control Sheet'!E86),\"\",'Control Sheet'!E86&\" (\"&'Control Sheet'!F86&\")\")","v":""},"","","","","","","","","","","","","",null,"","","","","","","","","","","","","","","","","","","","","","","","","","","","","","","","","","","","","","","","","","",{"$f":"IF(A106=\"\",\"\",MAX(IF(ISERROR(AU106:BF106),0,AU106:BF106)))","v":""},"","","","","","","","","","","","","","","","","","","","","","","","","","","","","","","","","","","","","","","","","","","","",""]
[{"$f":"IF(ISBLANK('Control Sheet'!D87),\"\",'Control Sheet'!D87)","v":""},{"$f":"IF(ISBLANK('Control Sheet'!E87),\"\",'Control Sheet'!E87&\" (\"&'Control Sheet'!F87&\")\")","v":""},"","","","","","","","","","","","","",null,"","","","","","","","","","","","","","","","","","","","","","","","","","","","","","","","","","","","","","","","","","",{"$f":"IF(A107=\"\",\"\",MAX(IF(ISERROR(AU107:BF107),0,AU107:BF107)))","v":""},"","","","","","","","","","","","","","","","","","","","","","","","","","","","","","","","","","","","","","","","","","","","",""]
[{"$f":"IF(ISBLANK('Control Sheet'!D88),\"\",'Control Sheet'!D88)","v":""},{"$f":"IF(ISBLANK('Control Sheet'!E88),\"\",'Control Sheet'!E88&\" (\"&'Control Sheet'!F88&\")\")","v":""},"","","","","","","","","","","","","",null,"","","","","","","","","","","","","","","","","","","","","","","","","","","","","","","","","","","","","","","","","","",{"$f":"IF(A108=\"\",\"\",MAX(IF(ISERROR(AU108:BF108),0,AU108:BF108)))","v":""},"","","","","","","","","","","","","","","","","","","","","","","","","","","","","","","","","","","","","","","","","","","","",""]
[{"$f":"IF(ISBLANK('Control Sheet'!D89),\"\",'Control Sheet'!D89)","v":""},{"$f":"IF(ISBLANK('Control Sheet'!E89),\"\",'Control Sheet'!E89&\" (\"&'Control Sheet'!F89&\")\")","v":""},"","","","","","","","","","","","","",null,"","","","","","","","","","","","","","","","","","","","","","","","","","","","","","","","","","","","","","","","","","",{"$f":"IF(A109=\"\",\"\",MAX(IF(ISERROR(AU109:BF109),0,AU109:BF109)))","v":""},"","","","","","","","","","","","","","","","","","","","","","","","","","","","","","","","","","","","","","","","","","","","",""]
[{"$f":"IF(ISBLANK('Control Sheet'!D90),\"\",'Control Sheet'!D90)","v":""},{"$f":"IF(ISBLANK('Control Sheet'!E90),\"\",'Control Sheet'!E90&\" (\"&'Control Sheet'!F90&\")\")","v":""},"","","","","","","","","","","","","",null,"","","","","","","","","","","","","","","","","","","","","","","","","","","","","","","","","","","","","","","","","","",{"$f":"IF(A110=\"\",\"\",MAX(IF(ISERROR(AU110:BF110),0,AU110:BF110)))","v":""},"","","","","","","","","","","","","","","","","","","","","","","","","","","","","","","","","","","","","","","","","","","","",""]
[{"$f":"IF(ISBLANK('Control Sheet'!D91),\"\",'Control Sheet'!D91)","v":""},{"$f":"IF(ISBLANK('Control Sheet'!E91),\"\",'Control Sheet'!E91&\" (\"&'Control Sheet'!F91&\")\")","v":""},{"$f":"IF(C$18=1,IF(ISNA(VLOOKUP($A111,INDIRECT(C$20),NMS_col,FALSE)),\"\",VLOOKUP($A111,INDIRECT(C$20),NMS_col,FALSE)),\"\")","v":""},"","","","","","","","","","","","",null,"","","","","","","","","","","","","","","","","","","","","","","","","","","","","","","","","","","","","","","","","","",{"$f":"IF(A111=\"\",\"\",MAX(IF(ISERROR(AU111:BF111),0,AU111:BF111)))","v":""},"","","","","","","","","","","","","","","","","","","","","","","","","","","","","","","","","","","","","","","","","","","","",""]
[{"$f":"IF(ISBLANK('Control Sheet'!D92),\"\",'Control Sheet'!D92)","v":""},{"$f":"IF(ISBLANK('Control Sheet'!E92),\"\",'Control Sheet'!E92&\" (\"&'Control Sheet'!F92&\")\")","v":""},"","","","","","","","","","","","","",null,"","","","","","","","","","","","","","","","","","","","","","","","","","","","","","","","","","","","","","","","","","",{"$f":"IF(A112=\"\",\"\",MAX(IF(ISERROR(AU112:BF112),0,AU112:BF112)))","v":""},"","","","","","","","","","","","","","","","","","","","","","","","","","","","","","","","","","","","","","","","","","","","",""]
[{"$f":"IF(ISBLANK('Control Sheet'!D93),\"\",'Control Sheet'!D93)","v":""},{"$f":"IF(ISBLANK('Control Sheet'!E93),\"\",'Control Sheet'!E93&\" (\"&'Control Sheet'!F93&\")\")","v":""},"","","","","","","","","","","","","",null,"","","","","","","","","","","","","","","","","","","","","","","","","","","","","","","","","","","","","","","","","","",{"$f":"IF(A113=\"\",\"\",MAX(IF(ISERROR(AU113:BF113),0,AU113:BF113)))","v":""},"","","","","","","","","","","","","","","","","","","","","","","","","","","","","","","","","","","","","","","","","","","","",""]
[{"$f":"IF(ISBLANK('Control Sheet'!D94),\"\",'Control Sheet'!D94)","v":""},{"$f":"IF(ISBLANK('Control Sheet'!E94),\"\",'Control Sheet'!E94&\" (\"&'Control Sheet'!F94&\")\")","v":""},"","","","","","","","","","","","","",null,"","","","","","","","","","","","","","","","","","","","","","","","","","","","","","","","","","","","","","","","","","",{"$f":"IF(A114=\"\",\"\",MAX(IF(ISERROR(AU114:BF114),0,AU114:BF114)))","v":""},"","","","","","","","","","","","","","","","","","","","","","","","","","","","","","","","","","","","","","","","","","","","",""]
[{"$f":"IF(ISBLANK('Control Sheet'!D95),\"\",'Control Sheet'!D95)","v":""},{"$f":"IF(ISBLANK('Control Sheet'!E95),\"\",'Control Sheet'!E95&\" (\"&'Control Sheet'!F95&\")\")","v":""},"","","","","","","","","","","","","",null,"","","","","","","","","","","","","","","","","","","","","","","","","","","","","","","","","","","","","","","","","","",{"$f":"IF(A115=\"\",\"\",MAX(IF(ISERROR(AU115:BF115),0,AU115:BF115)))","v":""},"","","","","","","","","","","","","","","","","","","","","","","","","","","","","","","","","","","","","","","","","","","","",""]
[{"$f":"IF(ISBLANK('Control Sheet'!D96),\"\",'Control Sheet'!D96)","v":""},{"$f":"IF(ISBLANK('Control Sheet'!E96),\"\",'Control Sheet'!E96&\" (\"&'Control Sheet'!F96&\")\")","v":""},"","","","","","","","","","","","","",null,"","","","","","","","","","","","","","","","","","","","","","","","","","","","","","","","","","","","","","","","","","",{"$f":"IF(A116=\"\",\"\",MAX(IF(ISERROR(AU116:BF116),0,AU116:BF116)))","v":""},"","","","","","","","","","","","","","","","","","","","","","","","","","","","","","","","","","","","","","","","","","","","",""]
[{"$f":"IF(ISBLANK('Control Sheet'!D97),\"\",'Control Sheet'!D97)","v":""},{"$f":"IF(ISBLANK('Control Sheet'!E97),\"\",'Control Sheet'!E97&\" (\"&'Control Sheet'!F97&\")\")","v":""},"","","","","","","","","","","","","",null,"","","","","","","","","","","","","","","","","","","","","","","","","","","","","","","","","","","","","","","","","","",{"$f":"IF(A117=\"\",\"\",MAX(IF(ISERROR(AU117:BF117),0,AU117:BF117)))","v":""},"","","","","","","","","","","","","","","","",{"$f":"IF(A117=\"\",\"\",IF(BW117>$BW$11,\"Yes\",\"No\"))","v":""},"","","","","","","","","","","","","","","","","","","","","","","","","","","",""]
[{"$f":"IF(ISBLANK('Control Sheet'!D98),\"\",'Control Sheet'!D98)","v":""},{"$f":"IF(ISBLANK('Control Sheet'!E98),\"\",'Control Sheet'!E98&\" (\"&'Control Sheet'!F98&\")\")","v":""},"","","","","","","","","","","","","",null,"","","","","","","","","","","","","","","","","","","","","","","","","","","","","","","","","","","","","","","","","","",{"$f":"IF(A118=\"\",\"\",MAX(IF(ISERROR(AU118:BF118),0,AU118:BF118)))","v":""},"","","","","","","","","","","","","","","","","","","","","","","","","","","","","","","","","","","","","","","","","","","","",""]
[{"$f":"IF(ISBLANK('Control Sheet'!D99),\"\",'Control Sheet'!D99)","v":""},{"$f":"IF(ISBLANK('Control Sheet'!E99),\"\",'Control Sheet'!E99&\" (\"&'Control Sheet'!F99&\")\")","v":""},"","","","","","","","","","","","","",null,"","","","","","","","","","","","","","","","","","","","","","","","","","","","","","","","","","","","","","","","","","",{"$f":"IF(A119=\"\",\"\",MAX(IF(ISERROR(AU119:BF119),0,AU119:BF119)))","v":""},"","","","","","","","","","","","","","","","","","","","","","","","","","","","","","","","","","","","","","","","","","","","",""]
[{"$f":"IF(ISBLANK('Control Sheet'!D100),\"\",'Control Sheet'!D100)","v":""},{"$f":"IF(ISBLANK('Control Sheet'!E100),\"\",'Control Sheet'!E100&\" (\"&'Control Sheet'!F100&\")\")","v":""},"","","","","","","","","","","","","",null,"","","","","","","","","","","","","","","","","","","","","","","","","","","","","","","","","","","","","","","","","","",{"$f":"IF(A120=\"\",\"\",MAX(IF(ISERROR(AU120:BF120),0,AU120:BF120)))","v":""},"","","","","","","","","","","","","","","","","","","","","","","","","","","","","","","","","","","","","","","","","","","","",""]
[{"$f":"IF(ISBLANK('Control Sheet'!D101),\"\",'Control Sheet'!D101)","v":""},{"$f":"IF(ISBLANK('Control Sheet'!E101),\"\",'Control Sheet'!E101&\" (\"&'Control Sheet'!F101&\")\")","v":""},{"$f":"IF(C$18=1,IF(ISNA(VLOOKUP($A121,INDIRECT(C$20),NMS_col,FALSE)),\"\",VLOOKUP($A121,INDIRECT(C$20),NMS_col,FALSE)),\"\")","v":""},"","","","","","","","","","","","",null,"","","","","","","","","","","","","","","","","","","","","","","","","","","","","","","","","","","","","","","","","","",{"$f":"IF(A121=\"\",\"\",MAX(IF(ISERROR(AU121:BF121),0,AU121:BF121)))","v":""},"","","","","","","","","","","","","","","","","","","","","","","","","","","","","","","","","","","","","","","","","","","","",""]
[{"$f":"IF(ISBLANK('Control Sheet'!D102),\"\",'Control Sheet'!D102)","v":""},{"$f":"IF(ISBLANK('Control Sheet'!E102),\"\",'Control Sheet'!E102&\" (\"&'Control Sheet'!F102&\")\")","v":""},"","","","","","","","","","","","","",null,"","","","","","","","","","","","","","","","","","","","","","","","","","","","","","","","","","","","","","","","","","",{"$f":"IF(A122=\"\",\"\",MAX(IF(ISERROR(AU122:BF122),0,AU122:BF122)))","v":""},"","","","","","","","","","","","","","","","","","","","","","","","","","","","","","","","","","","","","","","","","","","","",""]
[{"$f":"IF(ISBLANK('Control Sheet'!D103),\"\",'Control Sheet'!D103)","v":""},{"$f":"IF(ISBLANK('Control Sheet'!E103),\"\",'Control Sheet'!E103&\" (\"&'Control Sheet'!F103&\")\")","v":""},"","","","","","","","","","","","","",null,"","","","","","","","","","","","","","","","","","","","","","","","","","","","","","","","","","","","","","","","","","",{"$f":"IF(A123=\"\",\"\",MAX(IF(ISERROR(AU123:BF123),0,AU123:BF123)))","v":""},"","","","","","","","","","","","","","","","","","","","","","","","","","","","","","","","","","","","","","","","","","","","",""]
[{"$f":"IF(ISBLANK('Control Sheet'!D104),\"\",'Control Sheet'!D104)","v":""},{"$f":"IF(ISBLANK('Control Sheet'!E104),\"\",'Control Sheet'!E104&\" (\"&'Control Sheet'!F104&\")\")","v":""},"","","","","","","","","","","","","",null,"","","","","","","","","","","","","","","","","","","","","","","","","","","","","","","","","","","","","","","","","","",{"$f":"IF(A124=\"\",\"\",MAX(IF(ISERROR(AU124:BF124),0,AU124:BF124)))","v":""},"","","","","","","","","","","","","","","","","","","","","","","","","","","","","","","","","","","","","","","","","","","","",""]
[{"$f":"IF(ISBLANK('Control Sheet'!D105),\"\",'Control Sheet'!D105)","v":""},{"$f":"IF(ISBLANK('Control Sheet'!E105),\"\",'Control Sheet'!E105&\" (\"&'Control Sheet'!F105&\")\")","v":""},"","","","","","","","","","","","","",null,"","","","","","","","","","","","","","","","","","","","","","","","","","","","","","","","","","","","","","","","","","",{"$f":"IF(A125=\"\",\"\",MAX(IF(ISERROR(AU125:BF125),0,AU125:BF125)))","v":""},"","","","","","","","","","","","","","","","","","","","","","","","","","","","","","","","","","","","","","","","","","","","",""]
[{"$f":"IF(ISBLANK('Control Sheet'!D106),\"\",'Control Sheet'!D106)","v":""},{"$f":"IF(ISBLANK('Control Sheet'!E106),\"\",'Control Sheet'!E106&\" (\"&'Control Sheet'!F106&\")\")","v":""},"","","","","","","","","","","","","",null,"","","","","","","","","","","","","","","","","","","","","","","","","","","","","","","","","","","","","","","","","","",{"$f":"IF(A126=\"\",\"\",MAX(IF(ISERROR(AU126:BF126),0,AU126:BF126)))","v":""},"","","","","","","","","","","","","","","","","","","","","","","","","","","","","","","","","","","","","","","","","","","","",""]
[{"$f":"IF(ISBLANK('Control Sheet'!D107),\"\",'Control Sheet'!D107)","v":""},{"$f":"IF(ISBLANK('Control Sheet'!E107),\"\",'Control Sheet'!E107&\" (\"&'Control Sheet'!F107&\")\")","v":""},"","","","","","","","","","","","","",null,"","","","","","","","","","","","","","","","","","","","","","","","","","","","","","","","","","","","","","","","","","",{"$f":"IF(A127=\"\",\"\",MAX(IF(ISERROR(AU127:BF127),0,AU127:BF127)))","v":""},"","","","","","","","","","","","","","","","","","","","","","","","","","","","","","","","","","","","","","","","","","","","",""]
[{"$f":"IF(ISBLANK('Control Sheet'!D108),\"\",'Control Sheet'!D108)","v":""},{"$f":"IF(ISBLANK('Control Sheet'!E108),\"\",'Control Sheet'!E108&\" (\"&'Control Sheet'!F108&\")\")","v":""},"","","","","","","","","","","","","",null,"","","","","","","","","","","","","","","","","","","","","","","","","","","","","","","","","","","","","","","","","","",{"$f":"IF(A128=\"\",\"\",MAX(IF(ISERROR(AU128:BF128),0,AU128:BF128)))","v":""},"","","","","","","","","","","","","","","","","","","","","","","","","","","","","","","","","","","","","","","","","","","","",""]
[{"$f":"IF(ISBLANK('Control Sheet'!D109),\"\",'Control Sheet'!D109)","v":""},{"$f":"IF(ISBLANK('Control Sheet'!E109),\"\",'Control Sheet'!E109&\" (\"&'Control Sheet'!F109&\")\")","v":""},"","","","","","","","","","","","","",null,"","","","","","","","","","","","","","","","","","","","","","","","","","","","","","","","","","","","","","","","","","",{"$f":"IF(A129=\"\",\"\",MAX(IF(ISERROR(AU129:BF129),0,AU129:BF129)))","v":""},"","","","","","","","","","","","","","","","","","","","","","","","","","","","","","","","","","","","","","","","","","","","",""]
[{"$f":"IF(ISBLANK('Control Sheet'!D110),\"\",'Control Sheet'!D110)","v":""},{"$f":"IF(ISBLANK('Control Sheet'!E110),\"\",'Control Sheet'!E110&\" (\"&'Control Sheet'!F110&\")\")","v":""},"","","","","","","","","","","","","",null,"","","","","","","","","","","","","","","","","","","","","","","","","","","","","","","","","","","","","","","","","","",{"$f":"IF(A130=\"\",\"\",MAX(IF(ISERROR(AU130:BF130),0,AU130:BF130)))","v":""},"","","","","","","","","","","","","","","","","","","","","","","","","","","","","","","","","","","","","","","","","","","","",""]
[{"$f":"IF(ISBLANK('Control Sheet'!D111),\"\",'Control Sheet'!D111)","v":""},{"$f":"IF(ISBLANK('Control Sheet'!E111),\"\",'Control Sheet'!E111&\" (\"&'Control Sheet'!F111&\")\")","v":""},{"$f":"IF(C$18=1,IF(ISNA(VLOOKUP($A131,INDIRECT(C$20),NMS_col,FALSE)),\"\",VLOOKUP($A131,INDIRECT(C$20),NMS_col,FALSE)),\"\")","v":""},"","","","","","","","","","","","",null,"","","","","","","","","","","","","","","","","","","","","","","","","","","","","","","","","","","","","","","","","","",{"$f":"IF(A131=\"\",\"\",MAX(IF(ISERROR(AU131:BF131),0,AU131:BF131)))","v":""},"","","","","","","","","","","","","","","","","","","","","","","","","","","","","","","","","","","","","","","","","","","","",""]
[{"$f":"IF(ISBLANK('Control Sheet'!D112),\"\",'Control Sheet'!D112)","v":""},{"$f":"IF(ISBLANK('Control Sheet'!E112),\"\",'Control Sheet'!E112&\" (\"&'Control Sheet'!F112&\")\")","v":""},"","","","","","","","","","","","","",null,"","","","","","","","","","","","","","","","","","","","","","","","","","","","","","","","","","","","","","","","","","",{"$f":"IF(A132=\"\",\"\",MAX(IF(ISERROR(AU132:BF132),0,AU132:BF132)))","v":""},"","","","","","","","","","","","","","","","","","","","","","","","","","","","","","","","","","","","","","","","","","","","",""]
[{"$f":"IF(ISBLANK('Control Sheet'!D113),\"\",'Control Sheet'!D113)","v":""},{"$f":"IF(ISBLANK('Control Sheet'!E113),\"\",'Control Sheet'!E113&\" (\"&'Control Sheet'!F113&\")\")","v":""},"","","","","","","","","","","","","",null,"","","","","","","","","","","","","","","","","","","","","","","","","","","","","","","","","","","","","","","","","","",{"$f":"IF(A133=\"\",\"\",MAX(IF(ISERROR(AU133:BF133),0,AU133:BF133)))","v":""},"","","","","","","","","","","","","","","","","","","","","","","","","","","","","","","","","","","","","","","","","","","","",""]
[{"$f":"IF(ISBLANK('Control Sheet'!D114),\"\",'Control Sheet'!D114)","v":""},{"$f":"IF(ISBLANK('Control Sheet'!E114),\"\",'Control Sheet'!E114&\" (\"&'Control Sheet'!F114&\")\")","v":""},"","","","","","","","","","","","","",null,"","","","","","","","","","","","","","","","","","","","","","","","","","","","","","","","","","","","","","","","","","",{"$f":"IF(A134=\"\",\"\",MAX(IF(ISERROR(AU134:BF134),0,AU134:BF134)))","v":""},"","","","","","","","","","","","","","","","","","","","","","","","","","","","","","","","","","","","","","","","","","","","",""]
[{"$f":"IF(ISBLANK('Control Sheet'!D115),\"\",'Control Sheet'!D115)","v":""},{"$f":"IF(ISBLANK('Control Sheet'!E115),\"\",'Control Sheet'!E115&\" (\"&'Control Sheet'!F115&\")\")","v":""},"","","","","","","","","","","","","",null,"","","","","","","","","","","","","","","","","","","","","","","","","","","","","","","","","","","","","","","","","","",{"$f":"IF(A135=\"\",\"\",MAX(IF(ISERROR(AU135:BF135),0,AU135:BF135)))","v":""},"","","","","","","","","","","","","","","","","","","","","","","","","","","","","","","","","","","","","","","","","","","","",""]
[{"$f":"IF(ISBLANK('Control Sheet'!D116),\"\",'Control Sheet'!D116)","v":""},{"$f":"IF(ISBLANK('Control Sheet'!E116),\"\",'Control Sheet'!E116&\" (\"&'Control Sheet'!F116&\")\")","v":""},"","","","","","","","","","","","","",null,"","","","","","","","","","","","","","","","","","","","","","","","","","","","","","","","","","","","","","","","","","",{"$f":"IF(A136=\"\",\"\",MAX(IF(ISERROR(AU136:BF136),0,AU136:BF136)))","v":""},"","","","","","","","","","","","","","","","","","","","","","","","","","","","","","","","","","","","","","","","","","","","",""]
[{"$f":"IF(ISBLANK('Control Sheet'!D117),\"\",'Control Sheet'!D117)","v":""},{"$f":"IF(ISBLANK('Control Sheet'!E117),\"\",'Control Sheet'!E117&\" (\"&'Control Sheet'!F117&\")\")","v":""},"","","","","","","","","","","","","",null,"","","","","","","","","","","","","","","","","","","","","","","","","","","","","","","","","","","","","","","","","","",{"$f":"IF(A137=\"\",\"\",MAX(IF(ISERROR(AU137:BF137),0,AU137:BF137)))","v":""},"","","","","","","","","","","","","","","","","","","","","","","","","","","","","","","","","","","","","","","","","","","","",""]
[{"$f":"IF(ISBLANK('Control Sheet'!D118),\"\",'Control Sheet'!D118)","v":""},{"$f":"IF(ISBLANK('Control Sheet'!E118),\"\",'Control Sheet'!E118&\" (\"&'Control Sheet'!F118&\")\")","v":""},"","","","","","","","","","","","","",null,"","","","","","","","","","","","","","","","","","","","","","","","","","","","","","","","","","","","","","","","","","",{"$f":"IF(A138=\"\",\"\",MAX(IF(ISERROR(AU138:BF138),0,AU138:BF138)))","v":""},"","","","","","","","","","","","","","","","","","","","","","","","","","","","","","","","","","","","","","","","","","","","",""]
[{"$f":"IF(ISBLANK('Control Sheet'!D119),\"\",'Control Sheet'!D119)","v":""},{"$f":"IF(ISBLANK('Control Sheet'!E119),\"\",'Control Sheet'!E119&\" (\"&'Control Sheet'!F119&\")\")","v":""},"","","","","","","","","","","","","",null,"","","","","","","","","","","","","","","","","","","","","","","","","","","","","","","","","","","","","","","","","","",{"$f":"IF(A139=\"\",\"\",MAX(IF(ISERROR(AU139:BF139),0,AU139:BF139)))","v":""},"","","","","","","","","","","","","","","","","","","","","","","","","","","","","","","","","","","","","","","","","","","","",""]
[{"$f":"IF(ISBLANK('Control Sheet'!D120),\"\",'Control Sheet'!D120)","v":""},{"$f":"IF(ISBLANK('Control Sheet'!E120),\"\",'Control Sheet'!E120&\" (\"&'Control Sheet'!F120&\")\")","v":""},"","","","","","","","","","","","","",null,"","","","","","","","","","","","","","","","","","","","","","","","","","","","","","","","","","","","","","","","","","",{"$f":"IF(A140=\"\",\"\",MAX(IF(ISERROR(AU140:BF140),0,AU140:BF140)))","v":""},"","","","","","","","","","","","","","","","","","","","","","","","","","","","","","","","","","","","","","","","","","","","",""]
[{"$f":"IF(ISBLANK('Control Sheet'!D121),\"\",'Control Sheet'!D121)","v":""},{"$f":"IF(ISBLANK('Control Sheet'!E121),\"\",'Control Sheet'!E121&\" (\"&'Control Sheet'!F121&\")\")","v":""},{"$f":"IF(C$18=1,IF(ISNA(VLOOKUP($A141,INDIRECT(C$20),NMS_col,FALSE)),\"\",VLOOKUP($A141,INDIRECT(C$20),NMS_col,FALSE)),\"\")","v":""},"","","","","","","","","","","","",null,"","","","","","","","","","","","","","","","","","","","","","","","","","","","","","","","","","","","","","","","","","",{"$f":"IF(A141=\"\",\"\",MAX(IF(ISERROR(AU141:BF141),0,AU141:BF141)))","v":""},"","","","","","","","","","","","","","","","","","","","","","","","","","","","","","","","","","","","","","","","","","","","",""]
[{"$f":"IF(ISBLANK('Control Sheet'!D122),\"\",'Control Sheet'!D122)","v":""},{"$f":"IF(ISBLANK('Control Sheet'!E122),\"\",'Control Sheet'!E122&\" (\"&'Control Sheet'!F122&\")\")","v":""},"","","","","","","","","","","","","",null,"","","","","","","","","","","","","","","","","","","","","","","","","","","","","","","","","","","","","","","","","","",{"$f":"IF(A142=\"\",\"\",MAX(IF(ISERROR(AU142:BF142),0,AU142:BF142)))","v":""},"","","","","","","","","","","","","","","","","","","","","","","","","","","","","","","","","","","","","","","","","","","","",""]
[{"$f":"IF(ISBLANK('Control Sheet'!D123),\"\",'Control Sheet'!D123)","v":""},{"$f":"IF(ISBLANK('Control Sheet'!E123),\"\",'Control Sheet'!E123&\" (\"&'Control Sheet'!F123&\")\")","v":""},"","","","","","","","","","","","","",null,"","","","","","","","","","","","","","","","","","","","","","","","","","","","","","","","","","","","","","","","","","",{"$f":"IF(A143=\"\",\"\",MAX(IF(ISERROR(AU143:BF143),0,AU143:BF143)))","v":""},"","","","","","","","","","","","","","","","","","","","","","","","","","","","","","","","","","","","","","","","","","","","",""]
[{"$f":"IF(ISBLANK('Control Sheet'!D124),\"\",'Control Sheet'!D124)","v":""},{"$f":"IF(ISBLANK('Control Sheet'!E124),\"\",'Control Sheet'!E124&\" (\"&'Control Sheet'!F124&\")\")","v":""},"","","","","","","","","","","","","",null,"","","","","","","","","","","","","","","","","","","","","","","","","","","","","","","","","","","","","","","","","","",{"$f":"IF(A144=\"\",\"\",MAX(IF(ISERROR(AU144:BF144),0,AU144:BF144)))","v":""},"","","","","","","","","","","","","","","","","","","","","","","","","","","","","","","","","","","","","","","","","","","","",""]
[{"$f":"IF(ISBLANK('Control Sheet'!D125),\"\",'Control Sheet'!D125)","v":""},{"$f":"IF(ISBLANK('Control Sheet'!E125),\"\",'Control Sheet'!E125&\" (\"&'Control Sheet'!F125&\")\")","v":""},"","","","","","","","","","","","","",null,"","","","","","","","","","","","","","","","","","","","","","","","","","","","","","","","","","","","","","","","","","",{"$f":"IF(A145=\"\",\"\",MAX(IF(ISERROR(AU145:BF145),0,AU145:BF145)))","v":""},"","","","","","","","","","","","","","","","","","","","","","","","","","","","","","","","","","","","","","","","","","","","",""]
[{"$f":"IF(ISBLANK('Control Sheet'!D126),\"\",'Control Sheet'!D126)","v":""},{"$f":"IF(ISBLANK('Control Sheet'!E126),\"\",'Control Sheet'!E126&\" (\"&'Control Sheet'!F126&\")\")","v":""},"","","","","","","","","","","","","",null,"","","","","","","","","","","","","","","","","","","","","","","","","","","","","","","","","","","","","","","","","","",{"$f":"IF(A146=\"\",\"\",MAX(IF(ISERROR(AU146:BF146),0,AU146:BF146)))","v":""},"","","","","","","","","","","","","","","","","","","","","","","","","","","","","","","","","","","","","","","","","","","","",""]
[{"$f":"IF(ISBLANK('Control Sheet'!D127),\"\",'Control Sheet'!D127)","v":""},{"$f":"IF(ISBLANK('Control Sheet'!E127),\"\",'Control Sheet'!E127&\" (\"&'Control Sheet'!F127&\")\")","v":""},"","","","","","","","","","","","","",null,"","","","","","","","","","","","","","","","","","","","","","","","","","","","","","","","","","","","","","","","","","",{"$f":"IF(A147=\"\",\"\",MAX(IF(ISERROR(AU147:BF147),0,AU147:BF147)))","v":""},"","","","","","","","","","","","","","","","","","","","","","","","","","","","","","","","","","","","","","","","","","","","",""]
[{"$f":"IF(ISBLANK('Control Sheet'!D128),\"\",'Control Sheet'!D128)","v":""},{"$f":"IF(ISBLANK('Control Sheet'!E128),\"\",'Control Sheet'!E128&\" (\"&'Control Sheet'!F128&\")\")","v":""},"","","","","","","","","","","","","",null,"","","","","","","","","","","","","","","","","","","","","","","","","","","","","","","","","","","","","","","","","","",{"$f":"IF(A148=\"\",\"\",MAX(IF(ISERROR(AU148:BF148),0,AU148:BF148)))","v":""},"","","","","","","","","","","","","","","","","","","","","","","","","","","","","","","","","","","","","","","","","","","","",""]
[{"$f":"IF(ISBLANK('Control Sheet'!D129),\"\",'Control Sheet'!D129)","v":""},{"$f":"IF(ISBLANK('Control Sheet'!E129),\"\",'Control Sheet'!E129&\" (\"&'Control Sheet'!F129&\")\")","v":""},"","","","","","","","","","","","","",null,"",{"$f":"IF(A149=\"\",\"\",NMSMonthsPop-(COUNTA(C149:N149)-COUNTBLANK(C149:N149)))","v":""},"","","","","","","","","","","","","","","","","","","","","","","","","","","","",{"$f":"IF(OR(A149=\"\",NMSMonthsPop=0),\"\",IF(AU$18=NMSMonthsPop,AH149,#N/A))","v":""},{"$f":"IF(OR($A149=\"\",NMSMonthsPop=0),\"\",IF(AV$18<NMSMonthsPop,#N/A,IF(AV$18=NMSMonthsPop,AI149,IF(AU149=\"\",\"\",IF(AV$18=NMSMonthsPop+1,AU149+(AU149*VLOOKUP(NMSMonthsPop-$R149,ForecastMult,3,FALSE)/12),AU149+AU149-AT149)))))","v":""},{"$f":"IF(OR($A149=\"\",NMSMonthsPop=0),\"\",IF(AW$18<NMSMonthsPop,#N/A,IF(AW$18=NMSMonthsPop,AJ149,IF(AV149=\"\",\"\",IF(AW$18=NMSMonthsPop+1,AV149+(AV149*VLOOKUP(NMSMonthsPop-$R149,ForecastMult,3,FALSE)/12),AV149+AV149-AU149)))))","v":""},{"$f":"IF(OR($A149=\"\",NMSMonthsPop=0),\"\",IF(AX$18<NMSMonthsPop,#N/A,IF(AX$18=NMSMonthsPop,AK149,IF(AW149=\"\",\"\",IF(AX$18=NMSMonthsPop+1,AW149+(AW149*VLOOKUP(NMSMonthsPop-$R149,ForecastMult,3,FALSE)/12),AW149+AW149-AV149)))))","v":""},{"$f":"IF(OR($A149=\"\",NMSMonthsPop=0),\"\",IF(AY$18<NMSMonthsPop,#N/A,IF(AY$18=NMSMonthsPop,AL149,IF(AX149=\"\",\"\",IF(AY$18=NMSMonthsPop+1,AX149+(AX149*VLOOKUP(NMSMonthsPop-$R149,ForecastMult,3,FALSE)/12),AX149+AX149-AW149)))))","v":""},{"$f":"IF(OR($A149=\"\",NMSMonthsPop=0),\"\",IF(AZ$18<NMSMonthsPop,#N/A,IF(AZ$18=NMSMonthsPop,AM149,IF(AY149=\"\",\"\",IF(AZ$18=NMSMonthsPop+1,AY149+(AY149*VLOOKUP(NMSMonthsPop-$R149,ForecastMult,3,FALSE)/12),AY149+AY149-AX149)))))","v":""},{"$f":"IF(OR($A149=\"\",NMSMonthsPop=0),\"\",IF(BA$18<NMSMonthsPop,#N/A,IF(BA$18=NMSMonthsPop,AN149,IF(AZ149=\"\",\"\",IF(BA$18=NMSMonthsPop+1,AZ149+(AZ149*VLOOKUP(NMSMonthsPop-$R149,ForecastMult,3,FALSE)/12),AZ149+AZ149-AY149)))))","v":""},{"$f":"IF(OR($A149=\"\",NMSMonthsPop=0),\"\",IF(BB$18<NMSMonthsPop,#N/A,IF(BB$18=NMSMonthsPop,AO149,IF(BA149=\"\",\"\",IF(BB$18=NMSMonthsPop+1,BA149+(BA149*VLOOKUP(NMSMonthsPop-$R149,ForecastMult,3,FALSE)/12),BA149+BA149-AZ149)))))","v":""},{"$f":"IF(OR($A149=\"\",NMSMonthsPop=0),\"\",IF(BC$18<NMSMonthsPop,#N/A,IF(BC$18=NMSMonthsPop,AP149,IF(BB149=\"\",\"\",IF(BC$18=NMSMonthsPop+1,BB149+(BB149*VLOOKUP(NMSMonthsPop-$R149,ForecastMult,3,FALSE)/12),BB149+BB149-BA149)))))","v":""},{"$f":"IF(OR($A149=\"\",NMSMonthsPop=0),\"\",IF(BD$18<NMSMonthsPop,#N/A,IF(BD$18=NMSMonthsPop,AQ149,IF(BC149=\"\",\"\",IF(BD$18=NMSMonthsPop+1,BC149+(BC149*VLOOKUP(NMSMonthsPop-$R149,ForecastMult,3,FALSE)/12),BC149+BC149-BB149)))))","v":""},{"$f":"IF(OR($A149=\"\",NMSMonthsPop=0),\"\",IF(BE$18<NMSMonthsPop,#N/A,IF(BE$18=NMSMonthsPop,AR149,IF(BD149=\"\",\"\",IF(BE$18=NMSMonthsPop+1,BD149+(BD149*VLOOKUP(NMSMonthsPop-$R149,ForecastMult,3,FALSE)/12),BD149+BD149-BC149)))))","v":""},{"$f":"IF(OR($A149=\"\",NMSMonthsPop=0),\"\",IF(BF$18<NMSMonthsPop,#N/A,IF(BF$18=NMSMonthsPop,AS149,IF(BE149=\"\",\"\",IF(BF$18=NMSMonthsPop+1,BE149+(BE149*VLOOKUP(NMSMonthsPop-$R149,ForecastMult,3,FALSE)/12),BE149+BE149-BD149)))))","v":""},{"$f":"IF(A149=\"\",\"\",MAX(IF(ISERROR(AU149:BF149),0,AU149:BF149)))","v":""},{"$f":"IF(AND(C$18=1,$A149<>\"\"),IF(ISNA(VLOOKUP($A149,INDIRECT(C$20),NMS_items_col,FALSE)),\"\",VLOOKUP($A149,INDIRECT(C$20),NMS_items_col,FALSE)),\"\")","v":""},{"$f":"IF(AND(D$18=1,$A149<>\"\"),IF(ISNA(VLOOKUP($A149,INDIRECT(D$20),NMS_items_col,FALSE)),\"\",VLOOKUP($A149,INDIRECT(D$20),NMS_items_col,FALSE)),\"\")","v":""},{"$f":"IF(AND(E$18=1,$A149<>\"\"),IF(ISNA(VLOOKUP($A149,INDIRECT(E$20),NMS_items_col,FALSE)),\"\",VLOOKUP($A149,INDIRECT(E$20),NMS_items_col,FALSE)),\"\")","v":""},{"$f":"IF(AND(F$18=1,$A149<>\"\"),IF(ISNA(VLOOKUP($A149,INDIRECT(F$20),NMS_items_col,FALSE)),\"\",VLOOKUP($A149,INDIRECT(F$20),NMS_items_col,FALSE)),\"\")","v":""},{"$f":"IF(AND(G$18=1,$A149<>\"\"),IF(ISNA(VLOOKUP($A149,INDIRECT(G$20),NMS_items_col,FALSE)),\"\",VLOOKUP($A149,INDIRECT(G$20),NMS_items_col,FALSE)),\"\")","v":""},{"$f":"IF(AND(H$18=1,$A149<>\"\"),IF(ISNA(VLOOKUP($A149,INDIRECT(H$20),NMS_items_col,FALSE)),\"\",VLOOKUP($A149,INDIRECT(H$20),NMS_items_col,FALSE)),\"\")","v":""},{"$f":"IF(AND(I$18=1,$A149<>\"\"),IF(ISNA(VLOOKUP($A149,INDIRECT(I$20),NMS_items_col,FALSE)),\"\",VLOOKUP($A149,INDIRECT(I$20),NMS_items_col,FALSE)),\"\")","v":""},{"$f":"IF(AND(J$18=1,$A149<>\"\"),IF(ISNA(VLOOKUP($A149,INDIRECT(J$20),NMS_items_col,FALSE)),\"\",VLOOKUP($A149,INDIRECT(J$20),NMS_items_col,FALSE)),\"\")","v":""},{"$f":"IF(AND(K$18=1,$A149<>\"\"),IF(ISNA(VLOOKUP($A149,INDIRECT(K$20),NMS_items_col,FALSE)),\"\",VLOOKUP($A149,INDIRECT(K$20),NMS_items_col,FALSE)),\"\")","v":""},{"$f":"IF(AND(L$18=1,$A149<>\"\"),IF(ISNA(VLOOKUP($A149,INDIRECT(L$20),NMS_items_col,FALSE)),\"\",VLOOKUP($A149,INDIRECT(L$20),NMS_items_col,FALSE)),\"\")","v":""},{"$f":"IF(AND(M$18=1,$A149<>\"\"),IF(ISNA(VLOOKUP($A149,INDIRECT(M$20),NMS_items_col,FALSE)),\"\",VLOOKUP($A149,INDIRECT(M$20),NMS_items_col,FALSE)),\"\")","v":""},{"$f":"IF(AND(N$18=1,$A149<>\"\"),IF(ISNA(VLOOKUP($A149,INDIRECT(N$20),NMS_items_col,FALSE)),\"\",VLOOKUP($A149,INDIRECT(N$20),NMS_items_col,FALSE)),\"\")","v":""},"","","","","","","",{"$f":"IF(C$18=1,IF(ISNA(VLOOKUP($A149,INDIRECT(C$20),NMS_fee_col,FALSE)),\"\",VLOOKUP($A149,INDIRECT(C$20),NMS_fee_col,FALSE)),\"\")","v":""},{"$f":"IF(D$18=1,IF(ISNA(VLOOKUP($A149,INDIRECT(D$20),NMS_fee_col,FALSE)),\"\",VLOOKUP($A149,INDIRECT(D$20),NMS_fee_col,FALSE)),\"\")","v":""},{"$f":"IF(E$18=1,IF(ISNA(VLOOKUP($A149,INDIRECT(E$20),NMS_fee_col,FALSE)),\"\",VLOOKUP($A149,INDIRECT(E$20),NMS_fee_col,FALSE)),\"\")","v":""},{"$f":"IF(F$18=1,IF(ISNA(VLOOKUP($A149,INDIRECT(F$20),NMS_fee_col,FALSE)),\"\",VLOOKUP($A149,INDIRECT(F$20),NMS_fee_col,FALSE)),\"\")","v":""},{"$f":"IF(G$18=1,IF(ISNA(VLOOKUP($A149,INDIRECT(G$20),NMS_fee_col,FALSE)),\"\",VLOOKUP($A149,INDIRECT(G$20),NMS_fee_col,FALSE)),\"\")","v":""},{"$f":"IF(H$18=1,IF(ISNA(VLOOKUP($A149,INDIRECT(H$20),NMS_fee_col,FALSE)),\"\",VLOOKUP($A149,INDIRECT(H$20),NMS_fee_col,FALSE)),\"\")","v":""},{"$f":"IF(I$18=1,IF(ISNA(VLOOKUP($A149,INDIRECT(I$20),NMS_fee_col,FALSE)),\"\",VLOOKUP($A149,INDIRECT(I$20),NMS_fee_col,FALSE)),\"\")","v":""},{"$f":"IF(J$18=1,IF(ISNA(VLOOKUP($A149,INDIRECT(J$20),NMS_fee_col,FALSE)),\"\",VLOOKUP($A149,INDIRECT(J$20),NMS_fee_col,FALSE)),\"\")","v":""},{"$f":"IF(K$18=1,IF(ISNA(VLOOKUP($A149,INDIRECT(K$20),NMS_fee_col,FALSE)),\"\",VLOOKUP($A149,INDIRECT(K$20),NMS_fee_col,FALSE)),\"\")","v":""},{"$f":"IF(L$18=1,IF(ISNA(VLOOKUP($A149,INDIRECT(L$20),NMS_fee_col,FALSE)),\"\",VLOOKUP($A149,INDIRECT(L$20),NMS_fee_col,FALSE)),\"\")","v":""},{"$f":"IF(M$18=1,IF(ISNA(VLOOKUP($A149,INDIRECT(M$20),NMS_fee_col,FALSE)),\"\",VLOOKUP($A149,INDIRECT(M$20),NMS_fee_col,FALSE)),\"\")","v":""},{"$f":"IF(N$18=1,IF(ISNA(VLOOKUP($A149,INDIRECT(N$20),NMS_fee_col,FALSE)),\"\",VLOOKUP($A149,INDIRECT(N$20),NMS_fee_col,FALSE)),\"\")","v":""},"",{"$f":"IF(C$18=1,IF(ISNA(VLOOKUP($A149,INDIRECT(C$20),NMS_Fee_adj_col,FALSE)),\"\",VLOOKUP($A149,INDIRECT(C$20),NMS_Fee_adj_col,FALSE)),\"\")","v":""},{"$f":"IF(D$18=1,IF(ISNA(VLOOKUP($A149,INDIRECT(D$20),NMS_Fee_adj_col,FALSE)),\"\",VLOOKUP($A149,INDIRECT(D$20),NMS_Fee_adj_col,FALSE)),\"\")","v":""},{"$f":"IF(E$18=1,IF(ISNA(VLOOKUP($A149,INDIRECT(E$20),NMS_Fee_adj_col,FALSE)),\"\",VLOOKUP($A149,INDIRECT(E$20),NMS_Fee_adj_col,FALSE)),\"\")","v":""},{"$f":"IF(F$18=1,IF(ISNA(VLOOKUP($A149,INDIRECT(F$20),NMS_Fee_adj_col,FALSE)),\"\",VLOOKUP($A149,INDIRECT(F$20),NMS_Fee_adj_col,FALSE)),\"\")","v":""},{"$f":"IF(G$18=1,IF(ISNA(VLOOKUP($A149,INDIRECT(G$20),NMS_Fee_adj_col,FALSE)),\"\",VLOOKUP($A149,INDIRECT(G$20),NMS_Fee_adj_col,FALSE)),\"\")","v":""},{"$f":"IF(H$18=1,IF(ISNA(VLOOKUP($A149,INDIRECT(H$20),NMS_Fee_adj_col,FALSE)),\"\",VLOOKUP($A149,INDIRECT(H$20),NMS_Fee_adj_col,FALSE)),\"\")","v":""},{"$f":"IF(I$18=1,IF(ISNA(VLOOKUP($A149,INDIRECT(I$20),NMS_Fee_adj_col,FALSE)),\"\",VLOOKUP($A149,INDIRECT(I$20),NMS_Fee_adj_col,FALSE)),\"\")","v":""},{"$f":"IF(J$18=1,IF(ISNA(VLOOKUP($A149,INDIRECT(J$20),NMS_Fee_adj_col,FALSE)),\"\",VLOOKUP($A149,INDIRECT(J$20),NMS_Fee_adj_col,FALSE)),\"\")","v":""},{"$f":"IF(K$18=1,IF(ISNA(VLOOKUP($A149,INDIRECT(K$20),NMS_Fee_adj_col,FALSE)),\"\",VLOOKUP($A149,INDIRECT(K$20),NMS_Fee_adj_col,FALSE)),\"\")","v":""},{"$f":"IF(L$18=1,IF(ISNA(VLOOKUP($A149,INDIRECT(L$20),NMS_Fee_adj_col,FALSE)),\"\",VLOOKUP($A149,INDIRECT(L$20),NMS_Fee_adj_col,FALSE)),\"\")","v":""},{"$f":"IF(M$18=1,IF(ISNA(VLOOKUP($A149,INDIRECT(M$20),NMS_Fee_adj_col,FALSE)),\"\",VLOOKUP($A149,INDIRECT(M$20),NMS_Fee_adj_col,FALSE)),\"\")","v":""},{"$f":"IF(N$18=1,IF(ISNA(VLOOKUP($A149,INDIRECT(N$20),NMS_Fee_adj_col,FALSE)),\"\",VLOOKUP($A149,INDIRECT(N$20),NMS_Fee_adj_col,FALSE)),\"\")","v":""},""]
[{"$f":"IF(ISBLANK('Control Sheet'!D130),\"\",'Control Sheet'!D130)","v":""},{"$f":"IF(ISBLANK('Control Sheet'!E130),\"\",'Control Sheet'!E130&\" (\"&'Control Sheet'!F130&\")\")","v":""},"","","","","","","","","","","","",{"$f":"IF(A150=\"\",\"\",SUM(C150:N150))","v":""},null,{"$f":"IF(A150=\"\",\"\",IF(BG150<=400,\"No\",\"Yes\"))","v":""},"",{"$f":"IF(C150=\"\",\"\",IF(C150<=C$10,1,IF(C150<=C$7,2,IF(C150<=C$8,3,IF(C150<=C$9,4,IF(C150<=C$11,5,60))))))","v":""},{"$f":"IF(D150=\"\",\"\",IF(D150<=D$10,1,IF(D150<=D$7,2,IF(D150<=D$8,3,IF(D150<=D$9,4,IF(D150<=D$11,5,60))))))","v":""},{"$f":"IF(E150=\"\",\"\",IF(E150<=E$10,1,IF(E150<=E$7,2,IF(E150<=E$8,3,IF(E150<=E$9,4,IF(E150<=E$11,5,60))))))","v":""},{"$f":"IF(F150=\"\",\"\",IF(F150<=F$10,1,IF(F150<=F$7,2,IF(F150<=F$8,3,IF(F150<=F$9,4,IF(F150<=F$11,5,60))))))","v":""},{"$f":"IF(G150=\"\",\"\",IF(G150<=G$10,1,IF(G150<=G$7,2,IF(G150<=G$8,3,IF(G150<=G$9,4,IF(G150<=G$11,5,60))))))","v":""},{"$f":"IF(H150=\"\",\"\",IF(H150<=H$10,1,IF(H150<=H$7,2,IF(H150<=H$8,3,IF(H150<=H$9,4,IF(H150<=H$11,5,60))))))","v":""},{"$f":"IF(I150=\"\",\"\",IF(I150<=I$10,1,IF(I150<=I$7,2,IF(I150<=I$8,3,IF(I150<=I$9,4,IF(I150<=I$11,5,60))))))","v":""},{"$f":"IF(J150=\"\",\"\",IF(J150<=J$10,1,IF(J150<=J$7,2,IF(J150<=J$8,3,IF(J150<=J$9,4,IF(J150<=J$11,5,60))))))","v":""},{"$f":"IF(K150=\"\",\"\",IF(K150<=K$10,1,IF(K150<=K$7,2,IF(K150<=K$8,3,IF(K150<=K$9,4,IF(K150<=K$11,5,60))))))","v":""},{"$f":"IF(L150=\"\",\"\",IF(L150<=L$10,1,IF(L150<=L$7,2,IF(L150<=L$8,3,IF(L150<=L$9,4,IF(L150<=L$11,5,60))))))","v":""},{"$f":"IF(M150=\"\",\"\",IF(M150<=M$10,1,IF(M150<=M$7,2,IF(M150<=M$8,3,IF(M150<=M$9,4,IF(M150<=M$11,5,60))))))","v":""},{"$f":"IF(N150=\"\",\"\",IF(N150<=N$10,1,IF(N150<=N$7,2,IF(N150<=N$8,3,IF(N150<=N$9,4,IF(N150<=N$11,5,60))))))","v":""},{"$f":"IF(A150=\"\",\"\",SUM(S150:AD150))","v":""},{"$f":"IF(OR(A150=\"\",AE150=0),\"\",AE150/(O$18--R150))","v":""},{"$f":"IF(AF150=\"\",\"\",IF(AF150<=1,\"Lower Outlier\",IF(AF150<=2,\"Below Average\",IF(AF150<=3,\"Lower Quartile\",IF(AF150<=4,\"Upper Quartile\",IF(AF150<=5, \"Above Average\", \"Upper Outlier\"))))))","v":""},{"$f":"IF(C$18=1,C150,\"\")","v":""},{"$f":"IF(D$18=1,IF(D150=\"\",IF(AH150=\"\",\"\",AH150),IF(AND(D150>=0,AH150=\"\"),D150,IF(ISERROR(D150+AH150),#N/A,D150+AH150))),\"\")","v":""},{"$f":"IF(E$18=1,IF(E150=\"\",IF(AI150=\"\",\"\",AI150),IF(AND(E150>=0,AI150=\"\"),E150,IF(ISERROR(E150+AI150),#N/A,E150+AI150))),\"\")","v":""},{"$f":"IF(F$18=1,IF(F150=\"\",IF(AJ150=\"\",\"\",AJ150),IF(AND(F150>=0,AJ150=\"\"),F150,IF(ISERROR(F150+AJ150),#N/A,F150+AJ150))),\"\")","v":""},{"$f":"IF(G$18=1,IF(G150=\"\",IF(AK150=\"\",\"\",AK150),IF(AND(G150>=0,AK150=\"\"),G150,IF(ISERROR(G150+AK150),#N/A,G150+AK150))),\"\")","v":""},{"$f":"IF(H$18=1,IF(H150=\"\",IF(AL150=\"\",\"\",AL150),IF(AND(H150>=0,AL150=\"\"),H150,IF(ISERROR(H150+AL150),#N/A,H150+AL150))),\"\")","v":""},{"$f":"IF(I$18=1,IF(I150=\"\",IF(AM150=\"\",\"\",AM150),IF(AND(I150>=0,AM150=\"\"),I150,IF(ISERROR(I150+AM150),#N/A,I150+AM150))),\"\")","v":""},{"$f":"IF(J$18=1,IF(J150=\"\",IF(AN150=\"\",\"\",AN150),IF(AND(J150>=0,AN150=\"\"),J150,IF(ISERROR(J150+AN150),#N/A,J150+AN150))),\"\")","v":""},{"$f":"IF(K$18=1,IF(K150=\"\",IF(AO150=\"\",\"\",AO150),IF(AND(K150>=0,AO150=\"\"),K150,IF(ISERROR(K150+AO150),#N/A,K150+AO150))),\"\")","v":""},{"$f":"IF(L$18=1,IF(L150=\"\",IF(AP150=\"\",\"\",AP150),IF(AND(L150>=0,AP150=\"\"),L150,IF(ISERROR(L150+AP150),#N/A,L150+AP150))),\"\")","v":""},{"$f":"IF(M$18=1,IF(M150=\"\",IF(AQ150=\"\",\"\",AQ150),IF(AND(M150>=0,AQ150=\"\"),M150,IF(ISERROR(M150+AQ150),#N/A,M150+AQ150))),\"\")","v":""},{"$f":"IF(N$18=1,IF(N150=\"\",IF(AR150=\"\",\"\",AR150),IF(AND(N150>=0,AR150=\"\"),N150,IF(ISERROR(N150+AR150),#N/A,N150+AR150))),\"\")","v":""},{"$f":"IF(A150=\"\",\"\",MAX(AH150:AS150))","v":""},"","","","","","","","","","","","",{"$f":"IF(A150=\"\",\"\",MAX(IF(ISERROR(AU150:BF150),0,AU150:BF150)))","v":""},"","","","","","","","","","","","",{"$f":"IF(A150=\"\",\"\",SUM(BH150:BS150))","v":""},{"$f":"IF(A150=\"\",\"\",MIN(B150:M150))","v":""},{"$f":"IF(A150=\"\",\"\",MAX(B150:M150))","v":""},{"$f":"IF(A150=\"\",\"\",BV150-BU150)","v":""},"",{"$f":"IF(A150=\"\",\"\",(COUNTA(C150:N150)-COUNTBLANK(C150:N150)))","v":""},{"$f":"IF(A150=\"\",\"\",BY150-COUNTIF(C150:N150,\"=0\"))","v":""},"","","","","","","","","","","","",{"$f":"IF(A150=\"\",\"\",SUM(CA150:CL150))","v":""},"","","","","","","","","","","","",{"$f":"IF(A150=\"\",\"\",SUM(CN150:CY150))","v":""}]
[{"$f":"IF(ISBLANK('Control Sheet'!D131),\"\",'Control Sheet'!D131)","v":""},{"$f":"IF(ISBLANK('Control Sheet'!E131),\"\",'Control Sheet'!E131&\" (\"&'Control Sheet'!F131&\")\")","v":""},{"$f":"IF(C$18=1,IF(ISNA(VLOOKUP($A151,INDIRECT(C$20),NMS_col,FALSE)),\"\",VLOOKUP($A151,INDIRECT(C$20),NMS_col,FALSE)),\"\")","v":""},"","","","","","","","","","","","",null,"","","","","","","","","","","","","","","","","","","","","","","","","","","","","","","","","","","","","","","","","","",{"$f":"IF(A151=\"\",\"\",MAX(IF(ISERROR(AU151:BF151),0,AU151:BF151)))","v":""},"","","","","","","","","","","","","","","","","","","","","","","","","","","","","","","","","","","","","","","","","","","","",""]
[{"$f":"IF(ISBLANK('Control Sheet'!D132),\"\",'Control Sheet'!D132)","v":""},{"$f":"IF(ISBLANK('Control Sheet'!E132),\"\",'Control Sheet'!E132&\" (\"&'Control Sheet'!F132&\")\")","v":""},"","","","","","","","","","","","","",null,"","","","","","","","","","","","","","","","","","","","","","","","","","","","","","","","","","","","","","","","","","",{"$f":"IF(A152=\"\",\"\",MAX(IF(ISERROR(AU152:BF152),0,AU152:BF152)))","v":""},"","","","","","","","","","","","","","","","","","","","","","","","","","","","","","","","","","","","","","","","","","","","",""]
[{"$f":"IF(ISBLANK('Control Sheet'!D133),\"\",'Control Sheet'!D133)","v":""},{"$f":"IF(ISBLANK('Control Sheet'!E133),\"\",'Control Sheet'!E133&\" (\"&'Control Sheet'!F133&\")\")","v":""},"","","","","","","","","","","","","",null,"","","","","","","","","","","","","","","","","","","","","","","","","","","","","","","","","","","","","","","","","","",{"$f":"IF(A153=\"\",\"\",MAX(IF(ISERROR(AU153:BF153),0,AU153:BF153)))","v":""},"","","","","","","","","","","","","","","","","","","","","","","","","","","","","","","","","","","","","","","","","","","","",""]
[{"$f":"IF(ISBLANK('Control Sheet'!D134),\"\",'Control Sheet'!D134)","v":""},{"$f":"IF(ISBLANK('Control Sheet'!E134),\"\",'Control Sheet'!E134&\" (\"&'Control Sheet'!F134&\")\")","v":""},"","","","","","","","","","","","","",null,"","","","","","","","","","","","","","","","","","","","","","","","","","","","","","","","","","","","","","","","","","",{"$f":"IF(A154=\"\",\"\",MAX(IF(ISERROR(AU154:BF154),0,AU154:BF154)))","v":""},"","","","","","","","","","","","","","","","","","","","","","","","","","","","","","","","","","","","","","","","","","","","",""]
[{"$f":"IF(ISBLANK('Control Sheet'!D135),\"\",'Control Sheet'!D135)","v":""},{"$f":"IF(ISBLANK('Control Sheet'!E135),\"\",'Control Sheet'!E135&\" (\"&'Control Sheet'!F135&\")\")","v":""},"","","","","","","","","","","","","",null,"","","","","","","","","","","","","","","","","","","","","","","","","","","","","","","","","","","","","","","","","","",{"$f":"IF(A155=\"\",\"\",MAX(IF(ISERROR(AU155:BF155),0,AU155:BF155)))","v":""},"","","","","","","","","","","","","","","","","","","","","","","","","","","","","","","","","","","","","","","","","","","","",""]
[{"$f":"IF(ISBLANK('Control Sheet'!D136),\"\",'Control Sheet'!D136)","v":""},{"$f":"IF(ISBLANK('Control Sheet'!E136),\"\",'Control Sheet'!E136&\" (\"&'Control Sheet'!F136&\")\")","v":""},"","","","","","","","","","","","","",null,"","","","","","","","","","","","","","","","","","","","","","","","","","","","","","","","","","","","","","","","","","",{"$f":"IF(A156=\"\",\"\",MAX(IF(ISERROR(AU156:BF156),0,AU156:BF156)))","v":""},"","","","","","","","","","","","","","","","","","","","","","","","","","","","","","","","","","","","","","","","","","","","",""]
[{"$f":"IF(ISBLANK('Control Sheet'!D137),\"\",'Control Sheet'!D137)","v":""},{"$f":"IF(ISBLANK('Control Sheet'!E137),\"\",'Control Sheet'!E137&\" (\"&'Control Sheet'!F137&\")\")","v":""},"","","","","","","","","","","","","",null,"","","","","","","","","","","","","","","","","","","","","","","","","","","","","","","","","","","","","","","","","","",{"$f":"IF(A157=\"\",\"\",MAX(IF(ISERROR(AU157:BF157),0,AU157:BF157)))","v":""},"","","","","","","","","","","","","","","","","","","","","","","","","","","","","","","","","","","","","","","","","","","","",""]
[{"$f":"IF(ISBLANK('Control Sheet'!D138),\"\",'Control Sheet'!D138)","v":""},{"$f":"IF(ISBLANK('Control Sheet'!E138),\"\",'Control Sheet'!E138&\" (\"&'Control Sheet'!F138&\")\")","v":""},"","","","","","","","","","","","","",null,"","","","","","","","","","","","","","","","","","","","","","","","","","","","","","","","","","","","","","","","","","",{"$f":"IF(A158=\"\",\"\",MAX(IF(ISERROR(AU158:BF158),0,AU158:BF158)))","v":""},"","","","","","","","","","","","","","","","","","","","","","","","","","","","","","","","","","","","","","","","","","","","",""]
[{"$f":"IF(ISBLANK('Control Sheet'!D139),\"\",'Control Sheet'!D139)","v":""},{"$f":"IF(ISBLANK('Control Sheet'!E139),\"\",'Control Sheet'!E139&\" (\"&'Control Sheet'!F139&\")\")","v":""},"","","","","","","","","","","","","",null,"","","","","","","","","","","","","","","","","","","","","","","","","","","","","","","","","","","","","","","","","","",{"$f":"IF(A159=\"\",\"\",MAX(IF(ISERROR(AU159:BF159),0,AU159:BF159)))","v":""},"","","","","","","","","","","","","","","","","","","","","","","","","","","","","","","","","","","","","","","","","","","","",""]
[{"$f":"IF(ISBLANK('Control Sheet'!D140),\"\",'Control Sheet'!D140)","v":""},{"$f":"IF(ISBLANK('Control Sheet'!E140),\"\",'Control Sheet'!E140&\" (\"&'Control Sheet'!F140&\")\")","v":""},"","","","","","","","","","","","","",null,"","","","","","","","","","","","","","","","","","","","","","","","","","","","","","","","","","","","","","","","","","",{"$f":"IF(A160=\"\",\"\",MAX(IF(ISERROR(AU160:BF160),0,AU160:BF160)))","v":""},"","","","","","","","","","","","","","","","","","","","","","","","","","","","","","","","","","","","","","","","","","","","",""]
[{"$f":"IF(ISBLANK('Control Sheet'!D141),\"\",'Control Sheet'!D141)","v":""},{"$f":"IF(ISBLANK('Control Sheet'!E141),\"\",'Control Sheet'!E141&\" (\"&'Control Sheet'!F141&\")\")","v":""},{"$f":"IF(C$18=1,IF(ISNA(VLOOKUP($A161,INDIRECT(C$20),NMS_col,FALSE)),\"\",VLOOKUP($A161,INDIRECT(C$20),NMS_col,FALSE)),\"\")","v":""},"","","","","","","","","","","","",null,"","","","","","","","","","","","","","","","","","","","","","","","","","","","","","","","","","","","","","","","","","",{"$f":"IF(A161=\"\",\"\",MAX(IF(ISERROR(AU161:BF161),0,AU161:BF161)))","v":""},"","","","","","","","","","","","","","","","","","","","","","","","","","","","","","","","","","","","","","","","","","","","",""]
[{"$f":"IF(ISBLANK('Control Sheet'!D142),\"\",'Control Sheet'!D142)","v":""},{"$f":"IF(ISBLANK('Control Sheet'!E142),\"\",'Control Sheet'!E142&\" (\"&'Control Sheet'!F142&\")\")","v":""},"","","","","","","","","","","","","",null,"","","","","","","","","","","","","","","","","","","","","","","","","","","","","","","","","","","","","","","","","","",{"$f":"IF(A162=\"\",\"\",MAX(IF(ISERROR(AU162:BF162),0,AU162:BF162)))","v":""},"","","","","","","","","","","","","","","","","","","","","","","","","","","","","","","","","","","","","","","","","","","","",""]
[{"$f":"IF(ISBLANK('Control Sheet'!D143),\"\",'Control Sheet'!D143)","v":""},{"$f":"IF(ISBLANK('Control Sheet'!E143),\"\",'Control Sheet'!E143&\" (\"&'Control Sheet'!F143&\")\")","v":""},"","","","","","","","","","","","","",null,"","","","","","","","","","","","","","","","","","","","","","","","","","","","","","","","","","","","","","","","","","",{"$f":"IF(A163=\"\",\"\",MAX(IF(ISERROR(AU163:BF163),0,AU163:BF163)))","v":""},"","","","","","","","","","","","","","","","","","","","","","","","","","","","","","","","","","","","","","","","","","","","",""]
[{"$f":"IF(ISBLANK('Control Sheet'!D144),\"\",'Control Sheet'!D144)","v":""},{"$f":"IF(ISBLANK('Control Sheet'!E144),\"\",'Control Sheet'!E144&\" (\"&'Control Sheet'!F144&\")\")","v":""},"","","","","","","","","","","","","",null,"","","","","","","","","","","","","","","","","","","","","","","","","","","","","","","","","","","","","","","","","","",{"$f":"IF(A164=\"\",\"\",MAX(IF(ISERROR(AU164:BF164),0,AU164:BF164)))","v":""},"","","","","","","","","","","","","","","","","","","","","","","","","","","","","","","","","","","","","","","","","","","","",""]
[{"$f":"IF(ISBLANK('Control Sheet'!D145),\"\",'Control Sheet'!D145)","v":""},{"$f":"IF(ISBLANK('Control Sheet'!E145),\"\",'Control Sheet'!E145&\" (\"&'Control Sheet'!F145&\")\")","v":""},"","","","","","","","","","","","","",null,"","","","","","","","","","","","","","","","","","","","","","","","","","","","","","","","","","","","","","","","","","",{"$f":"IF(A165=\"\",\"\",MAX(IF(ISERROR(AU165:BF165),0,AU165:BF165)))","v":""},"","","","","","","","","","","","","","","","","","","","","","","","","","","","","","","","","","","","","","","","","","","","",""]
[{"$f":"IF(ISBLANK('Control Sheet'!D146),\"\",'Control Sheet'!D146)","v":""},{"$f":"IF(ISBLANK('Control Sheet'!E146),\"\",'Control Sheet'!E146&\" (\"&'Control Sheet'!F146&\")\")","v":""},"","","","","","","","","","","","","",null,"","","","","","","","","","","","","","","","","","","","","","","","","","","","","","","","","","","","","","","","","","",{"$f":"IF(A166=\"\",\"\",MAX(IF(ISERROR(AU166:BF166),0,AU166:BF166)))","v":""},"","","","","","","","","","","","","","","","","","","","","","","","","","","","","","","","","","","","","","","","","","","","",""]
[{"$f":"IF(ISBLANK('Control Sheet'!D147),\"\",'Control Sheet'!D147)","v":""},{"$f":"IF(ISBLANK('Control Sheet'!E147),\"\",'Control Sheet'!E147&\" (\"&'Control Sheet'!F147&\")\")","v":""},"","","","","","","","","","","","","",null,"","","","","","","","","","","","","","","","","","","","","","","","","","","","","","","","","","","","","","","","","","",{"$f":"IF(A167=\"\",\"\",MAX(IF(ISERROR(AU167:BF167),0,AU167:BF167)))","v":""},"","","","","","","","","","","","","","","","","","","","","","","","","","","","","","","","","","","","","","","","","","","","",""]
[{"$f":"IF(ISBLANK('Control Sheet'!D148),\"\",'Control Sheet'!D148)","v":""},{"$f":"IF(ISBLANK('Control Sheet'!E148),\"\",'Control Sheet'!E148&\" (\"&'Control Sheet'!F148&\")\")","v":""},"","","","","","","","","","","","","",null,"","","","","","","","","","","","","","","","","","","","","","","","","","","","","","","","","","","","","","","","","","",{"$f":"IF(A168=\"\",\"\",MAX(IF(ISERROR(AU168:BF168),0,AU168:BF168)))","v":""},"","","","","","","","","","","","","","","","","","","","","","","","","","","","","","","","","","","","","","","","","","","","",""]
[{"$f":"IF(ISBLANK('Control Sheet'!D149),\"\",'Control Sheet'!D149)","v":""},{"$f":"IF(ISBLANK('Control Sheet'!E149),\"\",'Control Sheet'!E149&\" (\"&'Control Sheet'!F149&\")\")","v":""},"","","","","","","","","","","","","",null,"","","","","","","","","","","","","","","","","","","","","","","","","","","","","","","","","","","","","","","","","","",{"$f":"IF(A169=\"\",\"\",MAX(IF(ISERROR(AU169:BF169),0,AU169:BF169)))","v":""},"","","","","","","","","","","","","","","","","","","","","","","","","","","","","","","","","","","","","","","","","","","","",""]
[{"$f":"IF(ISBLANK('Control Sheet'!D150),\"\",'Control Sheet'!D150)","v":""},{"$f":"IF(ISBLANK('Control Sheet'!E150),\"\",'Control Sheet'!E150&\" (\"&'Control Sheet'!F150&\")\")","v":""},"","","","","","","","","","","","","",null,"","","","","","","","","","","","","","","","","","","","","","","","","","","","","","","","","","","","","","","","","","",{"$f":"IF(A170=\"\",\"\",MAX(IF(ISERROR(AU170:BF170),0,AU170:BF170)))","v":""},"","","","","","","","","","","","","","","","","","","","","","","","","","","","","","","","","","","","","","","","","","","","",""]
[{"$f":"IF(ISBLANK('Control Sheet'!D151),\"\",'Control Sheet'!D151)","v":""},{"$f":"IF(ISBLANK('Control Sheet'!E151),\"\",'Control Sheet'!E151&\" (\"&'Control Sheet'!F151&\")\")","v":""},{"$f":"IF(C$18=1,IF(ISNA(VLOOKUP($A171,INDIRECT(C$20),NMS_col,FALSE)),\"\",VLOOKUP($A171,INDIRECT(C$20),NMS_col,FALSE)),\"\")","v":""},"","","","","","","","","","","","",null,"","","","","","","","","","","","","","","","","","","","","","","","","","","","","","","","","","","","","","","","","","",{"$f":"IF(A171=\"\",\"\",MAX(IF(ISERROR(AU171:BF171),0,AU171:BF171)))","v":""},"","","","","","","","","","","","","","","","","","","","","","","","","","","","","","","","","","","","","","","","","","","","",""]
[{"$f":"IF(ISBLANK('Control Sheet'!D152),\"\",'Control Sheet'!D152)","v":""},{"$f":"IF(ISBLANK('Control Sheet'!E152),\"\",'Control Sheet'!E152&\" (\"&'Control Sheet'!F152&\")\")","v":""},"","","","","","","","","","","","","",null,"","","","","","","","","","","","","","","","","","","","","","","","","","","","","","","","","","","","","","","","","","",{"$f":"IF(A172=\"\",\"\",MAX(IF(ISERROR(AU172:BF172),0,AU172:BF172)))","v":""},"","","","","","","","","","","","","","","","","","","","","","","","","","","","","","","","","","","","","","","","","","","","",""]
[{"$f":"IF(ISBLANK('Control Sheet'!D153),\"\",'Control Sheet'!D153)","v":""},{"$f":"IF(ISBLANK('Control Sheet'!E153),\"\",'Control Sheet'!E153&\" (\"&'Control Sheet'!F153&\")\")","v":""},"","","","","","","","","","","","","",null,"","","","","","","","","","","","","","","","","","","","","","","","","","","","","","","","","","","","","","","","","","",{"$f":"IF(A173=\"\",\"\",MAX(IF(ISERROR(AU173:BF173),0,AU173:BF173)))","v":""},"","","","","","","","","","","","","","","","","","","","","","","","","","","","","","","","","","","","","","","","","","","","",""]
[{"$f":"IF(ISBLANK('Control Sheet'!D154),\"\",'Control Sheet'!D154)","v":""},{"$f":"IF(ISBLANK('Control Sheet'!E154),\"\",'Control Sheet'!E154&\" (\"&'Control Sheet'!F154&\")\")","v":""},"","","","","","","","","","","","","",null,"","","","","","","","","","","","","","","","","","","","","","","","","","","","","","","","","","","","","","","","","","",{"$f":"IF(A174=\"\",\"\",MAX(IF(ISERROR(AU174:BF174),0,AU174:BF174)))","v":""},"","","","","","","","","","","","","","","","","","","","","","","","","","","","","","","","","","","","","","","","","","","","",""]
[{"$f":"IF(ISBLANK('Control Sheet'!D155),\"\",'Control Sheet'!D155)","v":""},{"$f":"IF(ISBLANK('Control Sheet'!E155),\"\",'Control Sheet'!E155&\" (\"&'Control Sheet'!F155&\")\")","v":""},"","","","","","","","","","","","","",null,"","","","","","","","","","","","","","","","","","","","","","","","","","","","","","","","","","","","","","","","","","",{"$f":"IF(A175=\"\",\"\",MAX(IF(ISERROR(AU175:BF175),0,AU175:BF175)))","v":""},"","","","","","","","","","","","","","","","","","","","","","","","","","","","","","","","","","","","","","","","","","","","",""]
[{"$f":"IF(ISBLANK('Control Sheet'!D156),\"\",'Control Sheet'!D156)","v":""},{"$f":"IF(ISBLANK('Control Sheet'!E156),\"\",'Control Sheet'!E156&\" (\"&'Control Sheet'!F156&\")\")","v":""},"","","","","","","","","","","","","",null,"","","","","","","","","","","","","","","","","","","","","","","","","","","","","","","","","","","","","","","","","","",{"$f":"IF(A176=\"\",\"\",MAX(IF(ISERROR(AU176:BF176),0,AU176:BF176)))","v":""},"","","","","","","","","","","","","","","","","","","","","","","","","","","","","","","","","","","","","","","","","","","","",""]
[{"$f":"IF(ISBLANK('Control Sheet'!D157),\"\",'Control Sheet'!D157)","v":""},{"$f":"IF(ISBLANK('Control Sheet'!E157),\"\",'Control Sheet'!E157&\" (\"&'Control Sheet'!F157&\")\")","v":""},"","","","","","","","","","","","","",null,"","","","","","","","","","","","","","","","","","","","","","","","","","","","","","","","","","","","","","","","","","",{"$f":"IF(A177=\"\",\"\",MAX(IF(ISERROR(AU177:BF177),0,AU177:BF177)))","v":""},"","","","","","","","","","","","","","","","","","","","","","","","","","","","","","","","","","","","","","","","","","","","",""]
[{"$f":"IF(ISBLANK('Control Sheet'!D158),\"\",'Control Sheet'!D158)","v":""},{"$f":"IF(ISBLANK('Control Sheet'!E158),\"\",'Control Sheet'!E158&\" (\"&'Control Sheet'!F158&\")\")","v":""},"","","","","","","","","","","","","",null,"","","","","","","","","","","","","","","","","","","","","","","","","","","","","","","","","","","","","","","","","","",{"$f":"IF(A178=\"\",\"\",MAX(IF(ISERROR(AU178:BF178),0,AU178:BF178)))","v":""},"","","","","","","","","","","","","","","","","","","","","","","","","","","","","","","","","","","","","","","","","","","","",""]
[{"$f":"IF(ISBLANK('Control Sheet'!D159),\"\",'Control Sheet'!D159)","v":""},{"$f":"IF(ISBLANK('Control Sheet'!E159),\"\",'Control Sheet'!E159&\" (\"&'Control Sheet'!F159&\")\")","v":""},"","","","","","","","","","","","","",null,"","","","","","","","","","","","","","","","","","","","","","","","","","","","","","","","","","","","","","","","","","",{"$f":"IF(A179=\"\",\"\",MAX(IF(ISERROR(AU179:BF179),0,AU179:BF179)))","v":""},"","","","","","","","","","","","","","","","","","","","","","","","","","","","","","","","","","","","","","","","","","","","",""]
[{"$f":"IF(ISBLANK('Control Sheet'!D160),\"\",'Control Sheet'!D160)","v":""},{"$f":"IF(ISBLANK('Control Sheet'!E160),\"\",'Control Sheet'!E160&\" (\"&'Control Sheet'!F160&\")\")","v":""},"","","","","","","","","","","","","",null,"","","","","","","","","","","","","","","","","","","","","","","","","","","","","","","","","","","","","","","","","","",{"$f":"IF(A180=\"\",\"\",MAX(IF(ISERROR(AU180:BF180),0,AU180:BF180)))","v":""},"","","","","","","","","","","","","","","","","","","","","","","","","","","","","","","","","","","","","","","","","","","","",""]
[{"$f":"IF(ISBLANK('Control Sheet'!D161),\"\",'Control Sheet'!D161)","v":""},{"$f":"IF(ISBLANK('Control Sheet'!E161),\"\",'Control Sheet'!E161&\" (\"&'Control Sheet'!F161&\")\")","v":""},{"$f":"IF(C$18=1,IF(ISNA(VLOOKUP($A181,INDIRECT(C$20),NMS_col,FALSE)),\"\",VLOOKUP($A181,INDIRECT(C$20),NMS_col,FALSE)),\"\")","v":""},"","","","","","","","","","","","",null,"","","","","","","","","","","","","","","","","","","","","","","","","","","","","","","","","","","","","","","","","","",{"$f":"IF(A181=\"\",\"\",MAX(IF(ISERROR(AU181:BF181),0,AU181:BF181)))","v":""},"","","","","","","","","","","","","","","","",{"$f":"IF(A181=\"\",\"\",IF(BW181>$BW$11,\"Yes\",\"No\"))","v":""},"","","","","","","","","","","","","","","","","","","","","","","","","","","",""]
[{"$f":"IF(ISBLANK('Control Sheet'!D162),\"\",'Control Sheet'!D162)","v":""},{"$f":"IF(ISBLANK('Control Sheet'!E162),\"\",'Control Sheet'!E162&\" (\"&'Control Sheet'!F162&\")\")","v":""},"","","","","","","","","","","","","",null,"","","","","","","","","","","","","","","","","","","","","","","","","","","","","","","","","","","","","","","","","","",{"$f":"IF(A182=\"\",\"\",MAX(IF(ISERROR(AU182:BF182),0,AU182:BF182)))","v":""},"","","","","","","","","","","","","","","","","","","","","","","","","","","","","","","","","","","","","","","","","","","","",""]
[{"$f":"IF(ISBLANK('Control Sheet'!D163),\"\",'Control Sheet'!D163)","v":""},{"$f":"IF(ISBLANK('Control Sheet'!E163),\"\",'Control Sheet'!E163&\" (\"&'Control Sheet'!F163&\")\")","v":""},"","","","","","","","","","","","","",null,"","","","","","","","","","","","","","","","","","","","","","","","","","","","","","","","","","","","","","","","","","",{"$f":"IF(A183=\"\",\"\",MAX(IF(ISERROR(AU183:BF183),0,AU183:BF183)))","v":""},"","","","","","","","","","","","","","","","","","","","","","","","","","","","","","","","","","","","","","","","","","","","",""]
[{"$f":"IF(ISBLANK('Control Sheet'!D164),\"\",'Control Sheet'!D164)","v":""},{"$f":"IF(ISBLANK('Control Sheet'!E164),\"\",'Control Sheet'!E164&\" (\"&'Control Sheet'!F164&\")\")","v":""},"","","","","","","","","","","","","",null,"","","","","","","","","","","","","","","","","","","","","","","","","","","","","","","","","","","","","","","","","","",{"$f":"IF(A184=\"\",\"\",MAX(IF(ISERROR(AU184:BF184),0,AU184:BF184)))","v":""},"","","","","","","","","","","","","","","","","","","","","","","","","","","","","","","","","","","","","","","","","","","","",""]
[{"$f":"IF(ISBLANK('Control Sheet'!D165),\"\",'Control Sheet'!D165)","v":""},{"$f":"IF(ISBLANK('Control Sheet'!E165),\"\",'Control Sheet'!E165&\" (\"&'Control Sheet'!F165&\")\")","v":""},"","","","","","","","","","","","","",null,"","","","","","","","","","","","","","","","","","","","","","","","","","","","","","","","","","","","","","","","","","",{"$f":"IF(A185=\"\",\"\",MAX(IF(ISERROR(AU185:BF185),0,AU185:BF185)))","v":""},"","","","","","","","","","","","","","","","","","","","","","","","","","","","","","","","","","","","","","","","","","","","",""]
[{"$f":"IF(ISBLANK('Control Sheet'!D166),\"\",'Control Sheet'!D166)","v":""},{"$f":"IF(ISBLANK('Control Sheet'!E166),\"\",'Control Sheet'!E166&\" (\"&'Control Sheet'!F166&\")\")","v":""},"","","","","","","","","","","","","",null,"","","","","","","","","","","","","","","","","","","","","","","","","","","","","","","","","","","","","","","","","","",{"$f":"IF(A186=\"\",\"\",MAX(IF(ISERROR(AU186:BF186),0,AU186:BF186)))","v":""},"","","","","","","","","","","","","","","","","","","","","","","","","","","","","","","","","","","","","","","","","","","","",""]
[{"$f":"IF(ISBLANK('Control Sheet'!D167),\"\",'Control Sheet'!D167)","v":""},{"$f":"IF(ISBLANK('Control Sheet'!E167),\"\",'Control Sheet'!E167&\" (\"&'Control Sheet'!F167&\")\")","v":""},"","","","","","","","","","","","","",null,"","","","","","","","","","","","","","","","","","","","","","","","","","","","","","","","","","","","","","","","","","",{"$f":"IF(A187=\"\",\"\",MAX(IF(ISERROR(AU187:BF187),0,AU187:BF187)))","v":""},"","","","","","","","","","","","","","","","","","","","","","","","","","","","","","","","","","","","","","","","","","","","",""]
[{"$f":"IF(ISBLANK('Control Sheet'!D168),\"\",'Control Sheet'!D168)","v":""},{"$f":"IF(ISBLANK('Control Sheet'!E168),\"\",'Control Sheet'!E168&\" (\"&'Control Sheet'!F168&\")\")","v":""},"","","","","","","","","","","","","",null,"","","","","","","","","","","","","","","","","","","","","","","","","","","","","","","","","","","","","","","","","","",{"$f":"IF(A188=\"\",\"\",MAX(IF(ISERROR(AU188:BF188),0,AU188:BF188)))","v":""},"","","","","","","","","","","","","","","","","","","","","","","","","","","","","","","","","","","","","","","","","","","","",""]
[{"$f":"IF(ISBLANK('Control Sheet'!D169),\"\",'Control Sheet'!D169)","v":""},{"$f":"IF(ISBLANK('Control Sheet'!E169),\"\",'Control Sheet'!E169&\" (\"&'Control Sheet'!F169&\")\")","v":""},"","","","","","","","","","","","","",null,"","","","","","","","","","","","","","","","","","","","","","","","","","","","","","","","","","","","","","","","","","",{"$f":"IF(A189=\"\",\"\",MAX(IF(ISERROR(AU189:BF189),0,AU189:BF189)))","v":""},"","","","","","","","","","","","","","","","","","","","","","","","","","","","","","","","","","","","","","","","","","","","",""]
[{"$f":"IF(ISBLANK('Control Sheet'!D170),\"\",'Control Sheet'!D170)","v":""},{"$f":"IF(ISBLANK('Control Sheet'!E170),\"\",'Control Sheet'!E170&\" (\"&'Control Sheet'!F170&\")\")","v":""},"","","","","","","","","","","","","",null,"","","","","","","","","","","","","","","","","","","","","","","","","","","","","","","","","","","","","","","","","","",{"$f":"IF(A190=\"\",\"\",MAX(IF(ISERROR(AU190:BF190),0,AU190:BF190)))","v":""},"","","","","","","","","","","","","","","","","","","","","","","","","","","","","","","","","","","","","","","","","","","","",""]
[{"$f":"IF(ISBLANK('Control Sheet'!D171),\"\",'Control Sheet'!D171)","v":""},{"$f":"IF(ISBLANK('Control Sheet'!E171),\"\",'Control Sheet'!E171&\" (\"&'Control Sheet'!F171&\")\")","v":""},{"$f":"IF(C$18=1,IF(ISNA(VLOOKUP($A191,INDIRECT(C$20),NMS_col,FALSE)),\"\",VLOOKUP($A191,INDIRECT(C$20),NMS_col,FALSE)),\"\")","v":""},"","","","","","","","","","","","",null,"","","","","","","","","","","","","","","","","","","","","","","","","","","","","","","","","","","","","","","","","","",{"$f":"IF(A191=\"\",\"\",MAX(IF(ISERROR(AU191:BF191),0,AU191:BF191)))","v":""},"","","","","","","","","","","","","","","","","","","","","","","","","","","","","","","","","","","","","","","","","","","","",""]
[{"$f":"IF(ISBLANK('Control Sheet'!D172),\"\",'Control Sheet'!D172)","v":""},{"$f":"IF(ISBLANK('Control Sheet'!E172),\"\",'Control Sheet'!E172&\" (\"&'Control Sheet'!F172&\")\")","v":""},"","","","","","","","","","","","","",null,"","","","","","","","","","","","","","","","","","","","","","","","","","","","","","","","","","","","","","","","","","",{"$f":"IF(A192=\"\",\"\",MAX(IF(ISERROR(AU192:BF192),0,AU192:BF192)))","v":""},"","","","","","","","","","","","","","","","","","","","","","","","","","","","","","","","","","","","","","","","","","","","",""]
[{"$f":"IF(ISBLANK('Control Sheet'!D173),\"\",'Control Sheet'!D173)","v":""},{"$f":"IF(ISBLANK('Control Sheet'!E173),\"\",'Control Sheet'!E173&\" (\"&'Control Sheet'!F173&\")\")","v":""},"","","","","","","","","","","","","",null,"","","","","","","","","","","","","","","","","","","","","","","","","","","","","","","","","","","","","","","","","","",{"$f":"IF(A193=\"\",\"\",MAX(IF(ISERROR(AU193:BF193),0,AU193:BF193)))","v":""},"","","","","","","","","","","","","","","","","","","","","","","","","","","","","","","","","","","","","","","","","","","","",""]
[{"$f":"IF(ISBLANK('Control Sheet'!D174),\"\",'Control Sheet'!D174)","v":""},{"$f":"IF(ISBLANK('Control Sheet'!E174),\"\",'Control Sheet'!E174&\" (\"&'Control Sheet'!F174&\")\")","v":""},"","","","","","","","","","","","","",null,"","","","","","","","","","","","","","","","","","","","","","","","","","","","","","","","","","","","","","","","","","",{"$f":"IF(A194=\"\",\"\",MAX(IF(ISERROR(AU194:BF194),0,AU194:BF194)))","v":""},"","","","","","","","","","","","","","","","","","","","","","","","","","","","","","","","","","","","","","","","","","","","",""]
[{"$f":"IF(ISBLANK('Control Sheet'!D175),\"\",'Control Sheet'!D175)","v":""},{"$f":"IF(ISBLANK('Control Sheet'!E175),\"\",'Control Sheet'!E175&\" (\"&'Control Sheet'!F175&\")\")","v":""},"","","","","","","","","","","","","",null,"","","","","","","","","","","","","","","","","","","","","","","","","","","","","","","","","","","","","","","","","","",{"$f":"IF(A195=\"\",\"\",MAX(IF(ISERROR(AU195:BF195),0,AU195:BF195)))","v":""},"","","","","","","","","","","","","","","","","","","","","","","","","","","","","","","","","","","","","","","","","","","","",""]
[{"$f":"IF(ISBLANK('Control Sheet'!D176),\"\",'Control Sheet'!D176)","v":""},{"$f":"IF(ISBLANK('Control Sheet'!E176),\"\",'Control Sheet'!E176&\" (\"&'Control Sheet'!F176&\")\")","v":""},"","","","","","","","","","","","","",null,"","","","","","","","","","","","","","","","","","","","","","","","","","","","","","","","","","","","","","","","","","",{"$f":"IF(A196=\"\",\"\",MAX(IF(ISERROR(AU196:BF196),0,AU196:BF196)))","v":""},"","","","","","","","","","","","","","","","","","","","","","","","","","","","","","","","","","","","","","","","","","","","",""]
[{"$f":"IF(ISBLANK('Control Sheet'!D177),\"\",'Control Sheet'!D177)","v":""},{"$f":"IF(ISBLANK('Control Sheet'!E177),\"\",'Control Sheet'!E177&\" (\"&'Control Sheet'!F177&\")\")","v":""},"","","","","","","","","","","","","",null,"","","","","","","","","","","","","","","","","","","","","","","","","","","","","","","","","","","","","","","","","","",{"$f":"IF(A197=\"\",\"\",MAX(IF(ISERROR(AU197:BF197),0,AU197:BF197)))","v":""},"","","","","","","","","","","","","","","","","","","","","","","","","","","","","","","","","","","","","","","","","","","","",""]
[{"$f":"IF(ISBLANK('Control Sheet'!D178),\"\",'Control Sheet'!D178)","v":""},{"$f":"IF(ISBLANK('Control Sheet'!E178),\"\",'Control Sheet'!E178&\" (\"&'Control Sheet'!F178&\")\")","v":""},"","","","","","","","","","","","","",null,"","","","","","","","","","","","","","","","","","","","","","","","","","","","","","","","","","","","","","","","","","",{"$f":"IF(A198=\"\",\"\",MAX(IF(ISERROR(AU198:BF198),0,AU198:BF198)))","v":""},"","","","","","","","","","","","","","","","","","","","","","","","","","","","","","","","","","","","","","","","","","","","",""]
[{"$f":"IF(ISBLANK('Control Sheet'!D179),\"\",'Control Sheet'!D179)","v":""},{"$f":"IF(ISBLANK('Control Sheet'!E179),\"\",'Control Sheet'!E179&\" (\"&'Control Sheet'!F179&\")\")","v":""},"","","","","","","","","","","","","",null,"","","","","","","","","","","","","","","","","","","","","","","","","","","","","","","","","","","","","","","","","","",{"$f":"IF(A199=\"\",\"\",MAX(IF(ISERROR(AU199:BF199),0,AU199:BF199)))","v":""},"","","","","","","","","","","","","","","","","","","","","","","","","","","","","","","","","","","","","","","","","","","","",""]
[{"$f":"IF(ISBLANK('Control Sheet'!D180),\"\",'Control Sheet'!D180)","v":""},{"$f":"IF(ISBLANK('Control Sheet'!E180),\"\",'Control Sheet'!E180&\" (\"&'Control Sheet'!F180&\")\")","v":""},"","","","","","","","","","","","","",null,"","","","","","","","","","","","","","","","","","","","","","","","","","","","","","","","","","","","","","","","","","",{"$f":"IF(A200=\"\",\"\",MAX(IF(ISERROR(AU200:BF200),0,AU200:BF200)))","v":""},"","","","","","","","","","","","","","","","","","","","","","","","","","","","","","","","","","","","","","","","","","","","",""]
[{"$f":"IF(ISBLANK('Control Sheet'!D181),\"\",'Control Sheet'!D181)","v":""},{"$f":"IF(ISBLANK('Control Sheet'!E181),\"\",'Control Sheet'!E181&\" (\"&'Control Sheet'!F181&\")\")","v":""},{"$f":"IF(C$18=1,IF(ISNA(VLOOKUP($A201,INDIRECT(C$20),NMS_col,FALSE)),\"\",VLOOKUP($A201,INDIRECT(C$20),NMS_col,FALSE)),\"\")","v":""},"","","","","","","","","","","","",null,"","","","","","","","","","","","","","","","","","","","","","","","","","","","","","","","","","","","","","","","","","",{"$f":"IF(A201=\"\",\"\",MAX(IF(ISERROR(AU201:BF201),0,AU201:BF201)))","v":""},"","","","","","","","","","","","","","","","","","","","","","","","","","","","","","","","","","","","","","","","","","","","",""]
[{"$f":"IF(ISBLANK('Control Sheet'!D182),\"\",'Control Sheet'!D182)","v":""},{"$f":"IF(ISBLANK('Control Sheet'!E182),\"\",'Control Sheet'!E182&\" (\"&'Control Sheet'!F182&\")\")","v":""},"","","","","","","","","","","","","",null,"","","","","","","","","","","","","","","","","","","","","","","","","","","","","","","","","","","","","","","","","","",{"$f":"IF(A202=\"\",\"\",MAX(IF(ISERROR(AU202:BF202),0,AU202:BF202)))","v":""},"","","","","","","","","","","","","","","","","","","","","","","","","","","","","","","","","","","","","","","","","","","","",""]
[{"$f":"IF(ISBLANK('Control Sheet'!D183),\"\",'Control Sheet'!D183)","v":""},{"$f":"IF(ISBLANK('Control Sheet'!E183),\"\",'Control Sheet'!E183&\" (\"&'Control Sheet'!F183&\")\")","v":""},"","","","","","","","","","","","","",null,"","","","","","","","","","","","","","","","","","","","","","","","","","","","","","","","","","","","","","","","","","",{"$f":"IF(A203=\"\",\"\",MAX(IF(ISERROR(AU203:BF203),0,AU203:BF203)))","v":""},"","","","","","","","","","","","","","","","","","","","","","","","","","","","","","","","","","","","","","","","","","","","",""]
[{"$f":"IF(ISBLANK('Control Sheet'!D184),\"\",'Control Sheet'!D184)","v":""},{"$f":"IF(ISBLANK('Control Sheet'!E184),\"\",'Control Sheet'!E184&\" (\"&'Control Sheet'!F184&\")\")","v":""},"","","","","","","","","","","","","",null,"","","","","","","","","","","","","","","","","","","","","","","","","","","","","","","","","","","","","","","","","","",{"$f":"IF(A204=\"\",\"\",MAX(IF(ISERROR(AU204:BF204),0,AU204:BF204)))","v":""},"","","","","","","","","","","","","","","","","","","","","","","","","","","","","","","","","","","","","","","","","","","","",""]
[{"$f":"IF(ISBLANK('Control Sheet'!D185),\"\",'Control Sheet'!D185)","v":""},{"$f":"IF(ISBLANK('Control Sheet'!E185),\"\",'Control Sheet'!E185&\" (\"&'Control Sheet'!F185&\")\")","v":""},"","","","","","","","","","","","","",null,"","","","","","","","","","","","","","","","","","","","","","","","","","","","","","","","","","","","","","","","","","",{"$f":"IF(A205=\"\",\"\",MAX(IF(ISERROR(AU205:BF205),0,AU205:BF205)))","v":""},"","","","","","","","","","","","","","","","","","","","","","","","","","","","","","","","","","","","","","","","","","","","",""]
[{"$f":"IF(ISBLANK('Control Sheet'!D186),\"\",'Control Sheet'!D186)","v":""},{"$f":"IF(ISBLANK('Control Sheet'!E186),\"\",'Control Sheet'!E186&\" (\"&'Control Sheet'!F186&\")\")","v":""},"","","","","","","","","","","","","",null,"","","","","","","","","","","","","","","","","","","","","","","","","","","","","","","","","","","","","","","","","","",{"$f":"IF(A206=\"\",\"\",MAX(IF(ISERROR(AU206:BF206),0,AU206:BF206)))","v":""},"","","","","","","","","","","","","","","","","","","","","","","","","","","","","","","","","","","","","","","","","","","","",""]
[{"$f":"IF(ISBLANK('Control Sheet'!D187),\"\",'Control Sheet'!D187)","v":""},{"$f":"IF(ISBLANK('Control Sheet'!E187),\"\",'Control Sheet'!E187&\" (\"&'Control Sheet'!F187&\")\")","v":""},"","","","","","","","","","","","","",null,"","","","","","","","","","","","","","","","","","","","","","","","","","","","","","","","","","","","","","","","","","",{"$f":"IF(A207=\"\",\"\",MAX(IF(ISERROR(AU207:BF207),0,AU207:BF207)))","v":""},"","","","","","","","","","","","","","","","","","","","","","","","","","","","","","","","","","","","","","","","","","","","",""]
[{"$f":"IF(ISBLANK('Control Sheet'!D188),\"\",'Control Sheet'!D188)","v":""},{"$f":"IF(ISBLANK('Control Sheet'!E188),\"\",'Control Sheet'!E188&\" (\"&'Control Sheet'!F188&\")\")","v":""},"","","","","","","","","","","","","",null,"","","","","","","","","","","","","","","","","","","","","","","","","","","","","","","","","","","","","","","","","","",{"$f":"IF(A208=\"\",\"\",MAX(IF(ISERROR(AU208:BF208),0,AU208:BF208)))","v":""},"","","","","","","","","","","","","","","","","","","","","","","","","","","","","","","","","","","","","","","","","","","","",""]
[{"$f":"IF(ISBLANK('Control Sheet'!D189),\"\",'Control Sheet'!D189)","v":""},{"$f":"IF(ISBLANK('Control Sheet'!E189),\"\",'Control Sheet'!E189&\" (\"&'Control Sheet'!F189&\")\")","v":""},"","","","","","","","","","","","","",null,"","","","","","","","","","","","","","","","","","","","","","","","","","","","","","","","","","","","","","","","","","",{"$f":"IF(A209=\"\",\"\",MAX(IF(ISERROR(AU209:BF209),0,AU209:BF209)))","v":""},"","","","","","","","","","","","","","","","","","","","","","","","","","","","","","","","","","","","","","","","","","","","",""]
[{"$f":"IF(ISBLANK('Control Sheet'!D190),\"\",'Control Sheet'!D190)","v":""},{"$f":"IF(ISBLANK('Control Sheet'!E190),\"\",'Control Sheet'!E190&\" (\"&'Control Sheet'!F190&\")\")","v":""},"","","","","","","","","","","","","",null,"","","","","","","","","","","","","","","","","","","","","","","","","","","","","","","","","","","","","","","","","","",{"$f":"IF(A210=\"\",\"\",MAX(IF(ISERROR(AU210:BF210),0,AU210:BF210)))","v":""},"","","","","","","","","","","","","","","","","","","","","","","","","","","","","","","","","","","","","","","","","","","","",""]
[{"$f":"IF(ISBLANK('Control Sheet'!D191),\"\",'Control Sheet'!D191)","v":""},{"$f":"IF(ISBLANK('Control Sheet'!E191),\"\",'Control Sheet'!E191&\" (\"&'Control Sheet'!F191&\")\")","v":""},{"$f":"IF(C$18=1,IF(ISNA(VLOOKUP($A211,INDIRECT(C$20),NMS_col,FALSE)),\"\",VLOOKUP($A211,INDIRECT(C$20),NMS_col,FALSE)),\"\")","v":""},"","","","","","","","","","","","",null,"","","","","","","","","","","","","","","","","","","","","","","","","","","","","","","","","","","","","","","","","","",{"$f":"IF(A211=\"\",\"\",MAX(IF(ISERROR(AU211:BF211),0,AU211:BF211)))","v":""},"","","","","","","","","","","","","","","","","","","","","","","","","","","","","","","","","","","","","","","","","","","","",""]
[{"$f":"IF(ISBLANK('Control Sheet'!D192),\"\",'Control Sheet'!D192)","v":""},{"$f":"IF(ISBLANK('Control Sheet'!E192),\"\",'Control Sheet'!E192&\" (\"&'Control Sheet'!F192&\")\")","v":""},"","","","","","","","","","","","","",null,"","","","","","","","","","","","","","","","","","","","","","","","","","","","","","","","","","","","","","","","","","",{"$f":"IF(A212=\"\",\"\",MAX(IF(ISERROR(AU212:BF212),0,AU212:BF212)))","v":""},"","","","","","","","","","","","","","","","","","","","","","","","","","","","","","","","","","","","","","","","","","","","",""]
[{"$f":"IF(ISBLANK('Control Sheet'!D193),\"\",'Control Sheet'!D193)","v":""},{"$f":"IF(ISBLANK('Control Sheet'!E193),\"\",'Control Sheet'!E193&\" (\"&'Control Sheet'!F193&\")\")","v":""},"","","","","","","","","","","","","",null,"",{"$f":"IF(A213=\"\",\"\",NMSMonthsPop-(COUNTA(C213:N213)-COUNTBLANK(C213:N213)))","v":""},"","","","","","","","","","","","","","","","","","","","","","","","","","","","",{"$f":"IF(OR(A213=\"\",NMSMonthsPop=0),\"\",IF(AU$18=NMSMonthsPop,AH213,#N/A))","v":""},{"$f":"IF(OR($A213=\"\",NMSMonthsPop=0),\"\",IF(AV$18<NMSMonthsPop,#N/A,IF(AV$18=NMSMonthsPop,AI213,IF(AU213=\"\",\"\",IF(AV$18=NMSMonthsPop+1,AU213+(AU213*VLOOKUP(NMSMonthsPop-$R213,ForecastMult,3,FALSE)/12),AU213+AU213-AT213)))))","v":""},{"$f":"IF(OR($A213=\"\",NMSMonthsPop=0),\"\",IF(AW$18<NMSMonthsPop,#N/A,IF(AW$18=NMSMonthsPop,AJ213,IF(AV213=\"\",\"\",IF(AW$18=NMSMonthsPop+1,AV213+(AV213*VLOOKUP(NMSMonthsPop-$R213,ForecastMult,3,FALSE)/12),AV213+AV213-AU213)))))","v":""},{"$f":"IF(OR($A213=\"\",NMSMonthsPop=0),\"\",IF(AX$18<NMSMonthsPop,#N/A,IF(AX$18=NMSMonthsPop,AK213,IF(AW213=\"\",\"\",IF(AX$18=NMSMonthsPop+1,AW213+(AW213*VLOOKUP(NMSMonthsPop-$R213,ForecastMult,3,FALSE)/12),AW213+AW213-AV213)))))","v":""},{"$f":"IF(OR($A213=\"\",NMSMonthsPop=0),\"\",IF(AY$18<NMSMonthsPop,#N/A,IF(AY$18=NMSMonthsPop,AL213,IF(AX213=\"\",\"\",IF(AY$18=NMSMonthsPop+1,AX213+(AX213*VLOOKUP(NMSMonthsPop-$R213,ForecastMult,3,FALSE)/12),AX213+AX213-AW213)))))","v":""},{"$f":"IF(OR($A213=\"\",NMSMonthsPop=0),\"\",IF(AZ$18<NMSMonthsPop,#N/A,IF(AZ$18=NMSMonthsPop,AM213,IF(AY213=\"\",\"\",IF(AZ$18=NMSMonthsPop+1,AY213+(AY213*VLOOKUP(NMSMonthsPop-$R213,ForecastMult,3,FALSE)/12),AY213+AY213-AX213)))))","v":""},{"$f":"IF(OR($A213=\"\",NMSMonthsPop=0),\"\",IF(BA$18<NMSMonthsPop,#N/A,IF(BA$18=NMSMonthsPop,AN213,IF(AZ213=\"\",\"\",IF(BA$18=NMSMonthsPop+1,AZ213+(AZ213*VLOOKUP(NMSMonthsPop-$R213,ForecastMult,3,FALSE)/12),AZ213+AZ213-AY213)))))","v":""},{"$f":"IF(OR($A213=\"\",NMSMonthsPop=0),\"\",IF(BB$18<NMSMonthsPop,#N/A,IF(BB$18=NMSMonthsPop,AO213,IF(BA213=\"\",\"\",IF(BB$18=NMSMonthsPop+1,BA213+(BA213*VLOOKUP(NMSMonthsPop-$R213,ForecastMult,3,FALSE)/12),BA213+BA213-AZ213)))))","v":""},{"$f":"IF(OR($A213=\"\",NMSMonthsPop=0),\"\",IF(BC$18<NMSMonthsPop,#N/A,IF(BC$18=NMSMonthsPop,AP213,IF(BB213=\"\",\"\",IF(BC$18=NMSMonthsPop+1,BB213+(BB213*VLOOKUP(NMSMonthsPop-$R213,ForecastMult,3,FALSE)/12),BB213+BB213-BA213)))))","v":""},{"$f":"IF(OR($A213=\"\",NMSMonthsPop=0),\"\",IF(BD$18<NMSMonthsPop,#N/A,IF(BD$18=NMSMonthsPop,AQ213,IF(BC213=\"\",\"\",IF(BD$18=NMSMonthsPop+1,BC213+(BC213*VLOOKUP(NMSMonthsPop-$R213,ForecastMult,3,FALSE)/12),BC213+BC213-BB213)))))","v":""},{"$f":"IF(OR($A213=\"\",NMSMonthsPop=0),\"\",IF(BE$18<NMSMonthsPop,#N/A,IF(BE$18=NMSMonthsPop,AR213,IF(BD213=\"\",\"\",IF(BE$18=NMSMonthsPop+1,BD213+(BD213*VLOOKUP(NMSMonthsPop-$R213,ForecastMult,3,FALSE)/12),BD213+BD213-BC213)))))","v":""},{"$f":"IF(OR($A213=\"\",NMSMonthsPop=0),\"\",IF(BF$18<NMSMonthsPop,#N/A,IF(BF$18=NMSMonthsPop,AS213,IF(BE213=\"\",\"\",IF(BF$18=NMSMonthsPop+1,BE213+(BE213*VLOOKUP(NMSMonthsPop-$R213,ForecastMult,3,FALSE)/12),BE213+BE213-BD213)))))","v":""},{"$f":"IF(A213=\"\",\"\",MAX(IF(ISERROR(AU213:BF213),0,AU213:BF213)))","v":""},{"$f":"IF(AND(C$18=1,$A213<>\"\"),IF(ISNA(VLOOKUP($A213,INDIRECT(C$20),NMS_items_col,FALSE)),\"\",VLOOKUP($A213,INDIRECT(C$20),NMS_items_col,FALSE)),\"\")","v":""},{"$f":"IF(AND(D$18=1,$A213<>\"\"),IF(ISNA(VLOOKUP($A213,INDIRECT(D$20),NMS_items_col,FALSE)),\"\",VLOOKUP($A213,INDIRECT(D$20),NMS_items_col,FALSE)),\"\")","v":""},{"$f":"IF(AND(E$18=1,$A213<>\"\"),IF(ISNA(VLOOKUP($A213,INDIRECT(E$20),NMS_items_col,FALSE)),\"\",VLOOKUP($A213,INDIRECT(E$20),NMS_items_col,FALSE)),\"\")","v":""},{"$f":"IF(AND(F$18=1,$A213<>\"\"),IF(ISNA(VLOOKUP($A213,INDIRECT(F$20),NMS_items_col,FALSE)),\"\",VLOOKUP($A213,INDIRECT(F$20),NMS_items_col,FALSE)),\"\")","v":""},{"$f":"IF(AND(G$18=1,$A213<>\"\"),IF(ISNA(VLOOKUP($A213,INDIRECT(G$20),NMS_items_col,FALSE)),\"\",VLOOKUP($A213,INDIRECT(G$20),NMS_items_col,FALSE)),\"\")","v":""},{"$f":"IF(AND(H$18=1,$A213<>\"\"),IF(ISNA(VLOOKUP($A213,INDIRECT(H$20),NMS_items_col,FALSE)),\"\",VLOOKUP($A213,INDIRECT(H$20),NMS_items_col,FALSE)),\"\")","v":""},{"$f":"IF(AND(I$18=1,$A213<>\"\"),IF(ISNA(VLOOKUP($A213,INDIRECT(I$20),NMS_items_col,FALSE)),\"\",VLOOKUP($A213,INDIRECT(I$20),NMS_items_col,FALSE)),\"\")","v":""},{"$f":"IF(AND(J$18=1,$A213<>\"\"),IF(ISNA(VLOOKUP($A213,INDIRECT(J$20),NMS_items_col,FALSE)),\"\",VLOOKUP($A213,INDIRECT(J$20),NMS_items_col,FALSE)),\"\")","v":""},{"$f":"IF(AND(K$18=1,$A213<>\"\"),IF(ISNA(VLOOKUP($A213,INDIRECT(K$20),NMS_items_col,FALSE)),\"\",VLOOKUP($A213,INDIRECT(K$20),NMS_items_col,FALSE)),\"\")","v":""},{"$f":"IF(AND(L$18=1,$A213<>\"\"),IF(ISNA(VLOOKUP($A213,INDIRECT(L$20),NMS_items_col,FALSE)),\"\",VLOOKUP($A213,INDIRECT(L$20),NMS_items_col,FALSE)),\"\")","v":""},{"$f":"IF(AND(M$18=1,$A213<>\"\"),IF(ISNA(VLOOKUP($A213,INDIRECT(M$20),NMS_items_col,FALSE)),\"\",VLOOKUP($A213,INDIRECT(M$20),NMS_items_col,FALSE)),\"\")","v":""},{"$f":"IF(AND(N$18=1,$A213<>\"\"),IF(ISNA(VLOOKUP($A213,INDIRECT(N$20),NMS_items_col,FALSE)),\"\",VLOOKUP($A213,INDIRECT(N$20),NMS_items_col,FALSE)),\"\")","v":""},"","","","","","","",{"$f":"IF(C$18=1,IF(ISNA(VLOOKUP($A213,INDIRECT(C$20),NMS_fee_col,FALSE)),\"\",VLOOKUP($A213,INDIRECT(C$20),NMS_fee_col,FALSE)),\"\")","v":""},{"$f":"IF(D$18=1,IF(ISNA(VLOOKUP($A213,INDIRECT(D$20),NMS_fee_col,FALSE)),\"\",VLOOKUP($A213,INDIRECT(D$20),NMS_fee_col,FALSE)),\"\")","v":""},{"$f":"IF(E$18=1,IF(ISNA(VLOOKUP($A213,INDIRECT(E$20),NMS_fee_col,FALSE)),\"\",VLOOKUP($A213,INDIRECT(E$20),NMS_fee_col,FALSE)),\"\")","v":""},{"$f":"IF(F$18=1,IF(ISNA(VLOOKUP($A213,INDIRECT(F$20),NMS_fee_col,FALSE)),\"\",VLOOKUP($A213,INDIRECT(F$20),NMS_fee_col,FALSE)),\"\")","v":""},{"$f":"IF(G$18=1,IF(ISNA(VLOOKUP($A213,INDIRECT(G$20),NMS_fee_col,FALSE)),\"\",VLOOKUP($A213,INDIRECT(G$20),NMS_fee_col,FALSE)),\"\")","v":""},{"$f":"IF(H$18=1,IF(ISNA(VLOOKUP($A213,INDIRECT(H$20),NMS_fee_col,FALSE)),\"\",VLOOKUP($A213,INDIRECT(H$20),NMS_fee_col,FALSE)),\"\")","v":""},{"$f":"IF(I$18=1,IF(ISNA(VLOOKUP($A213,INDIRECT(I$20),NMS_fee_col,FALSE)),\"\",VLOOKUP($A213,INDIRECT(I$20),NMS_fee_col,FALSE)),\"\")","v":""},{"$f":"IF(J$18=1,IF(ISNA(VLOOKUP($A213,INDIRECT(J$20),NMS_fee_col,FALSE)),\"\",VLOOKUP($A213,INDIRECT(J$20),NMS_fee_col,FALSE)),\"\")","v":""},{"$f":"IF(K$18=1,IF(ISNA(VLOOKUP($A213,INDIRECT(K$20),NMS_fee_col,FALSE)),\"\",VLOOKUP($A213,INDIRECT(K$20),NMS_fee_col,FALSE)),\"\")","v":""},{"$f":"IF(L$18=1,IF(ISNA(VLOOKUP($A213,INDIRECT(L$20),NMS_fee_col,FALSE)),\"\",VLOOKUP($A213,INDIRECT(L$20),NMS_fee_col,FALSE)),\"\")","v":""},{"$f":"IF(M$18=1,IF(ISNA(VLOOKUP($A213,INDIRECT(M$20),NMS_fee_col,FALSE)),\"\",VLOOKUP($A213,INDIRECT(M$20),NMS_fee_col,FALSE)),\"\")","v":""},{"$f":"IF(N$18=1,IF(ISNA(VLOOKUP($A213,INDIRECT(N$20),NMS_fee_col,FALSE)),\"\",VLOOKUP($A213,INDIRECT(N$20),NMS_fee_col,FALSE)),\"\")","v":""},"",{"$f":"IF(C$18=1,IF(ISNA(VLOOKUP($A213,INDIRECT(C$20),NMS_Fee_adj_col,FALSE)),\"\",VLOOKUP($A213,INDIRECT(C$20),NMS_Fee_adj_col,FALSE)),\"\")","v":""},{"$f":"IF(D$18=1,IF(ISNA(VLOOKUP($A213,INDIRECT(D$20),NMS_Fee_adj_col,FALSE)),\"\",VLOOKUP($A213,INDIRECT(D$20),NMS_Fee_adj_col,FALSE)),\"\")","v":""},{"$f":"IF(E$18=1,IF(ISNA(VLOOKUP($A213,INDIRECT(E$20),NMS_Fee_adj_col,FALSE)),\"\",VLOOKUP($A213,INDIRECT(E$20),NMS_Fee_adj_col,FALSE)),\"\")","v":""},{"$f":"IF(F$18=1,IF(ISNA(VLOOKUP($A213,INDIRECT(F$20),NMS_Fee_adj_col,FALSE)),\"\",VLOOKUP($A213,INDIRECT(F$20),NMS_Fee_adj_col,FALSE)),\"\")","v":""},{"$f":"IF(G$18=1,IF(ISNA(VLOOKUP($A213,INDIRECT(G$20),NMS_Fee_adj_col,FALSE)),\"\",VLOOKUP($A213,INDIRECT(G$20),NMS_Fee_adj_col,FALSE)),\"\")","v":""},{"$f":"IF(H$18=1,IF(ISNA(VLOOKUP($A213,INDIRECT(H$20),NMS_Fee_adj_col,FALSE)),\"\",VLOOKUP($A213,INDIRECT(H$20),NMS_Fee_adj_col,FALSE)),\"\")","v":""},{"$f":"IF(I$18=1,IF(ISNA(VLOOKUP($A213,INDIRECT(I$20),NMS_Fee_adj_col,FALSE)),\"\",VLOOKUP($A213,INDIRECT(I$20),NMS_Fee_adj_col,FALSE)),\"\")","v":""},{"$f":"IF(J$18=1,IF(ISNA(VLOOKUP($A213,INDIRECT(J$20),NMS_Fee_adj_col,FALSE)),\"\",VLOOKUP($A213,INDIRECT(J$20),NMS_Fee_adj_col,FALSE)),\"\")","v":""},{"$f":"IF(K$18=1,IF(ISNA(VLOOKUP($A213,INDIRECT(K$20),NMS_Fee_adj_col,FALSE)),\"\",VLOOKUP($A213,INDIRECT(K$20),NMS_Fee_adj_col,FALSE)),\"\")","v":""},{"$f":"IF(L$18=1,IF(ISNA(VLOOKUP($A213,INDIRECT(L$20),NMS_Fee_adj_col,FALSE)),\"\",VLOOKUP($A213,INDIRECT(L$20),NMS_Fee_adj_col,FALSE)),\"\")","v":""},{"$f":"IF(M$18=1,IF(ISNA(VLOOKUP($A213,INDIRECT(M$20),NMS_Fee_adj_col,FALSE)),\"\",VLOOKUP($A213,INDIRECT(M$20),NMS_Fee_adj_col,FALSE)),\"\")","v":""},{"$f":"IF(N$18=1,IF(ISNA(VLOOKUP($A213,INDIRECT(N$20),NMS_Fee_adj_col,FALSE)),\"\",VLOOKUP($A213,INDIRECT(N$20),NMS_Fee_adj_col,FALSE)),\"\")","v":""},""]
[{"$f":"IF(ISBLANK('Control Sheet'!D194),\"\",'Control Sheet'!D194)","v":""},{"$f":"IF(ISBLANK('Control Sheet'!E194),\"\",'Control Sheet'!E194&\" (\"&'Control Sheet'!F194&\")\")","v":""},"","","","","","","","","","","","",{"$f":"IF(A214=\"\",\"\",SUM(C214:N214))","v":""},null,{"$f":"IF(A214=\"\",\"\",IF(BG214<=400,\"No\",\"Yes\"))","v":""},"",{"$f":"IF(C214=\"\",\"\",IF(C214<=C$10,1,IF(C214<=C$7,2,IF(C214<=C$8,3,IF(C214<=C$9,4,IF(C214<=C$11,5,60))))))","v":""},{"$f":"IF(D214=\"\",\"\",IF(D214<=D$10,1,IF(D214<=D$7,2,IF(D214<=D$8,3,IF(D214<=D$9,4,IF(D214<=D$11,5,60))))))","v":""},{"$f":"IF(E214=\"\",\"\",IF(E214<=E$10,1,IF(E214<=E$7,2,IF(E214<=E$8,3,IF(E214<=E$9,4,IF(E214<=E$11,5,60))))))","v":""},{"$f":"IF(F214=\"\",\"\",IF(F214<=F$10,1,IF(F214<=F$7,2,IF(F214<=F$8,3,IF(F214<=F$9,4,IF(F214<=F$11,5,60))))))","v":""},{"$f":"IF(G214=\"\",\"\",IF(G214<=G$10,1,IF(G214<=G$7,2,IF(G214<=G$8,3,IF(G214<=G$9,4,IF(G214<=G$11,5,60))))))","v":""},{"$f":"IF(H214=\"\",\"\",IF(H214<=H$10,1,IF(H214<=H$7,2,IF(H214<=H$8,3,IF(H214<=H$9,4,IF(H214<=H$11,5,60))))))","v":""},{"$f":"IF(I214=\"\",\"\",IF(I214<=I$10,1,IF(I214<=I$7,2,IF(I214<=I$8,3,IF(I214<=I$9,4,IF(I214<=I$11,5,60))))))","v":""},{"$f":"IF(J214=\"\",\"\",IF(J214<=J$10,1,IF(J214<=J$7,2,IF(J214<=J$8,3,IF(J214<=J$9,4,IF(J214<=J$11,5,60))))))","v":""},{"$f":"IF(K214=\"\",\"\",IF(K214<=K$10,1,IF(K214<=K$7,2,IF(K214<=K$8,3,IF(K214<=K$9,4,IF(K214<=K$11,5,60))))))","v":""},{"$f":"IF(L214=\"\",\"\",IF(L214<=L$10,1,IF(L214<=L$7,2,IF(L214<=L$8,3,IF(L214<=L$9,4,IF(L214<=L$11,5,60))))))","v":""},{"$f":"IF(M214=\"\",\"\",IF(M214<=M$10,1,IF(M214<=M$7,2,IF(M214<=M$8,3,IF(M214<=M$9,4,IF(M214<=M$11,5,60))))))","v":""},{"$f":"IF(N214=\"\",\"\",IF(N214<=N$10,1,IF(N214<=N$7,2,IF(N214<=N$8,3,IF(N214<=N$9,4,IF(N214<=N$11,5,60))))))","v":""},{"$f":"IF(A214=\"\",\"\",SUM(S214:AD214))","v":""},{"$f":"IF(OR(A214=\"\",AE214=0),\"\",AE214/(O$18--R214))","v":""},{"$f":"IF(AF214=\"\",\"\",IF(AF214<=1,\"Lower Outlier\",IF(AF214<=2,\"Below Average\",IF(AF214<=3,\"Lower Quartile\",IF(AF214<=4,\"Upper Quartile\",IF(AF214<=5, \"Above Average\", \"Upper Outlier\"))))))","v":""},{"$f":"IF(C$18=1,C214,\"\")","v":""},{"$f":"IF(D$18=1,IF(D214=\"\",IF(AH214=\"\",\"\",AH214),IF(AND(D214>=0,AH214=\"\"),D214,IF(ISERROR(D214+AH214),#N/A,D214+AH214))),\"\")","v":""},{"$f":"IF(E$18=1,IF(E214=\"\",IF(AI214=\"\",\"\",AI214),IF(AND(E214>=0,AI214=\"\"),E214,IF(ISERROR(E214+AI214),#N/A,E214+AI214))),\"\")","v":""},{"$f":"IF(F$18=1,IF(F214=\"\",IF(AJ214=\"\",\"\",AJ214),IF(AND(F214>=0,AJ214=\"\"),F214,IF(ISERROR(F214+AJ214),#N/A,F214+AJ214))),\"\")","v":""},{"$f":"IF(G$18=1,IF(G214=\"\",IF(AK214=\"\",\"\",AK214),IF(AND(G214>=0,AK214=\"\"),G214,IF(ISERROR(G214+AK214),#N/A,G214+AK214))),\"\")","v":""},{"$f":"IF(H$18=1,IF(H214=\"\",IF(AL214=\"\",\"\",AL214),IF(AND(H214>=0,AL214=\"\"),H214,IF(ISERROR(H214+AL214),#N/A,H214+AL214))),\"\")","v":""},{"$f":"IF(I$18=1,IF(I214=\"\",IF(AM214=\"\",\"\",AM214),IF(AND(I214>=0,AM214=\"\"),I214,IF(ISERROR(I214+AM214),#N/A,I214+AM214))),\"\")","v":""},{"$f":"IF(J$18=1,IF(J214=\"\",IF(AN214=\"\",\"\",AN214),IF(AND(J214>=0,AN214=\"\"),J214,IF(ISERROR(J214+AN214),#N/A,J214+AN214))),\"\")","v":""},{"$f":"IF(K$18=1,IF(K214=\"\",IF(AO214=\"\",\"\",AO214),IF(AND(K214>=0,AO214=\"\"),K214,IF(ISERROR(K214+AO214),#N/A,K214+AO214))),\"\")","v":""},{"$f":"IF(L$18=1,IF(L214=\"\",IF(AP214=\"\",\"\",AP214),IF(AND(L214>=0,AP214=\"\"),L214,IF(ISERROR(L214+AP214),#N/A,L214+AP214))),\"\")","v":""},{"$f":"IF(M$18=1,IF(M214=\"\",IF(AQ214=\"\",\"\",AQ214),IF(AND(M214>=0,AQ214=\"\"),M214,IF(ISERROR(M214+AQ214),#N/A,M214+AQ214))),\"\")","v":""},{"$f":"IF(N$18=1,IF(N214=\"\",IF(AR214=\"\",\"\",AR214),IF(AND(N214>=0,AR214=\"\"),N214,IF(ISERROR(N214+AR214),#N/A,N214+AR214))),\"\")","v":""},{"$f":"IF(A214=\"\",\"\",MAX(AH214:AS214))","v":""},"","","","","","","","","","","","",{"$f":"IF(A214=\"\",\"\",MAX(IF(ISERROR(AU214:BF214),0,AU214:BF214)))","v":""},"","","","","","","","","","","","",{"$f":"IF(A214=\"\",\"\",SUM(BH214:BS214))","v":""},{"$f":"IF(A214=\"\",\"\",MIN(B214:M214))","v":""},{"$f":"IF(A214=\"\",\"\",MAX(B214:M214))","v":""},{"$f":"IF(A214=\"\",\"\",BV214-BU214)","v":""},"",{"$f":"IF(A214=\"\",\"\",(COUNTA(C214:N214)-COUNTBLANK(C214:N214)))","v":""},{"$f":"IF(A214=\"\",\"\",BY214-COUNTIF(C214:N214,\"=0\"))","v":""},"","","","","","","","","","","","",{"$f":"IF(A214=\"\",\"\",SUM(CA214:CL214))","v":""},"","","","","","","","","","","","",{"$f":"IF(A214=\"\",\"\",SUM(CN214:CY214))","v":""}]
[{"$f":"IF(ISBLANK('Control Sheet'!D195),\"\",'Control Sheet'!D195)","v":""},{"$f":"IF(ISBLANK('Control Sheet'!E195),\"\",'Control Sheet'!E195&\" (\"&'Control Sheet'!F195&\")\")","v":""},"","","","","","","","","","","","","",null,"","","","","","","","","","","","","","","","","","","","","","","","","","","","","","","","","","","","","","","","","","",{"$f":"IF(A215=\"\",\"\",MAX(IF(ISERROR(AU215:BF215),0,AU215:BF215)))","v":""},"","","","","","","","","","","","","","","","","","","","","","","","","","","","","","","","","","","","","","","","","","","","",""]
[{"$f":"IF(ISBLANK('Control Sheet'!D196),\"\",'Control Sheet'!D196)","v":""},{"$f":"IF(ISBLANK('Control Sheet'!E196),\"\",'Control Sheet'!E196&\" (\"&'Control Sheet'!F196&\")\")","v":""},"","","","","","","","","","","","","",null,"","","","","","","","","","","","","","","","","","","","","","","","","","","","","","","","","","","","","","","","","","",{"$f":"IF(A216=\"\",\"\",MAX(IF(ISERROR(AU216:BF216),0,AU216:BF216)))","v":""},"","","","","","","","","","","","","","","","","","","","","","","","","","","","","","","","","","","","","","","","","","","","",""]
[{"$f":"IF(ISBLANK('Control Sheet'!D197),\"\",'Control Sheet'!D197)","v":""},{"$f":"IF(ISBLANK('Control Sheet'!E197),\"\",'Control Sheet'!E197&\" (\"&'Control Sheet'!F197&\")\")","v":""},"","","","","","","","","","","","","",null,"","","","","","","","","","","","","","","","","","","","","","","","","","","","","","","","","","","","","","","","","","",{"$f":"IF(A217=\"\",\"\",MAX(IF(ISERROR(AU217:BF217),0,AU217:BF217)))","v":""},"","","","","","","","","","","","","","","","","","","","","","","","","","","","","","","","","","","","","","","","","","","","",""]
[{"$f":"IF(ISBLANK('Control Sheet'!D198),\"\",'Control Sheet'!D198)","v":""},{"$f":"IF(ISBLANK('Control Sheet'!E198),\"\",'Control Sheet'!E198&\" (\"&'Control Sheet'!F198&\")\")","v":""},"","","","","","","","","","","","","",null,"","","","","","","","","","","","","","","","","","","","","","","","","","","","","","","","","","","","","","","","","","",{"$f":"IF(A218=\"\",\"\",MAX(IF(ISERROR(AU218:BF218),0,AU218:BF218)))","v":""},"","","","","","","","","","","","","","","","","","","","","","","","","","","","","","","","","","","","","","","","","","","","",""]
[{"$f":"IF(ISBLANK('Control Sheet'!D199),\"\",'Control Sheet'!D199)","v":""},{"$f":"IF(ISBLANK('Control Sheet'!E199),\"\",'Control Sheet'!E199&\" (\"&'Control Sheet'!F199&\")\")","v":""},"","","","","","","","","","","","","",null,"","","","","","","","","","","","","","","","","","","","","","","","","","","","","","","","","","","","","","","","","","",{"$f":"IF(A219=\"\",\"\",MAX(IF(ISERROR(AU219:BF219),0,AU219:BF219)))","v":""},"","","","","","","","","","","","","","","","","","","","","","","","","","","","","","","","","","","","","","","","","","","","",""]
[{"$f":"IF(ISBLANK('Control Sheet'!D200),\"\",'Control Sheet'!D200)","v":""},{"$f":"IF(ISBLANK('Control Sheet'!E200),\"\",'Control Sheet'!E200&\" (\"&'Control Sheet'!F200&\")\")","v":""},"","","","","","","","","","","","","",null,"","","","","","","","","","","","","","","","","","","","","","","","","","","","","","","","","","","","","","","","","","",{"$f":"IF(A220=\"\",\"\",MAX(IF(ISERROR(AU220:BF220),0,AU220:BF220)))","v":""},"","","","","","","","","","","","","","","","","","","","","","","","","","","","","","","","","","","","","","","","","","","","",""]
[{"$f":"IF(ISBLANK('Control Sheet'!D201),\"\",'Control Sheet'!D201)","v":""},{"$f":"IF(ISBLANK('Control Sheet'!E201),\"\",'Control Sheet'!E201&\" (\"&'Control Sheet'!F201&\")\")","v":""},{"$f":"IF(C$18=1,IF(ISNA(VLOOKUP($A221,INDIRECT(C$20),NMS_col,FALSE)),\"\",VLOOKUP($A221,INDIRECT(C$20),NMS_col,FALSE)),\"\")","v":""},"","","","","","","","","","","","",null,"","","","","","","","","","","","","","","","","","","","","","","","","","","","","","","","","","","","","","","","","","",{"$f":"IF(A221=\"\",\"\",MAX(IF(ISERROR(AU221:BF221),0,AU221:BF221)))","v":""},"","","","","","","","","","","","","","","","","","","","","","","","","","","","","","","","","","","","","","","","","","","","",""]
[{"$f":"IF(ISBLANK('Control Sheet'!D202),\"\",'Control Sheet'!D202)","v":""},{"$f":"IF(ISBLANK('Control Sheet'!E202),\"\",'Control Sheet'!E202&\" (\"&'Control Sheet'!F202&\")\")","v":""},"","","","","","","","","","","","","",null,"","","","","","","","","","","","","","","","","","","","","","","","","","","","","","","","","","","","","","","","","","",{"$f":"IF(A222=\"\",\"\",MAX(IF(ISERROR(AU222:BF222),0,AU222:BF222)))","v":""},"","","","","","","","","","","","","","","","","","","","","","","","","","","","","","","","","","","","","","","","","","","","",""]
[{"$f":"IF(ISBLANK('Control Sheet'!D203),\"\",'Control Sheet'!D203)","v":""},{"$f":"IF(ISBLANK('Control Sheet'!E203),\"\",'Control Sheet'!E203&\" (\"&'Control Sheet'!F203&\")\")","v":""},"","","","","","","","","","","","","",null,"","","","","","","","","","","","","","","","","","","","","","","","","","","","","","","","","","","","","","","","","","",{"$f":"IF(A223=\"\",\"\",MAX(IF(ISERROR(AU223:BF223),0,AU223:BF223)))","v":""},"","","","","","","","","","","","","","","","","","","","","","","","","","","","","","","","","","","","","","","","","","","","",""]
[{"$f":"IF(ISBLANK('Control Sheet'!D204),\"\",'Control Sheet'!D204)","v":""},{"$f":"IF(ISBLANK('Control Sheet'!E204),\"\",'Control Sheet'!E204&\" (\"&'Control Sheet'!F204&\")\")","v":""},"","","","","","","","","","","","","",null,"","","","","","","","","","","","","","","","","","","","","","","","","","","","","","","","","","","","","","","","","","",{"$f":"IF(A224=\"\",\"\",MAX(IF(ISERROR(AU224:BF224),0,AU224:BF224)))","v":""},"","","","","","","","","","","","","","","","","","","","","","","","","","","","","","","","","","","","","","","","","","","","",""]
[{"$f":"IF(ISBLANK('Control Sheet'!D205),\"\",'Control Sheet'!D205)","v":""},{"$f":"IF(ISBLANK('Control Sheet'!E205),\"\",'Control Sheet'!E205&\" (\"&'Control Sheet'!F205&\")\")","v":""},"","","","","","","","","","","","","",null,"","","","","","","","","","","","","","","","","","","","","","","","","","","","","","","","","","","","","","","","","","",{"$f":"IF(A225=\"\",\"\",MAX(IF(ISERROR(AU225:BF225),0,AU225:BF225)))","v":""},"","","","","","","","","","","","","","","","","","","","","","","","","","","","","","","","","","","","","","","","","","","","",""]
[{"$f":"IF(ISBLANK('Control Sheet'!D206),\"\",'Control Sheet'!D206)","v":""},{"$f":"IF(ISBLANK('Control Sheet'!E206),\"\",'Control Sheet'!E206&\" (\"&'Control Sheet'!F206&\")\")","v":""},"","","","","","","","","","","","","",null,"","","","","","","","","","","","","","","","","","","","","","","","","","","","","","","","","","","","","","","","","","",{"$f":"IF(A226=\"\",\"\",MAX(IF(ISERROR(AU226:BF226),0,AU226:BF226)))","v":""},"","","","","","","","","","","","","","","","","","","","","","","","","","","","","","","","","","","","","","","","","","","","",""]
[{"$f":"IF(ISBLANK('Control Sheet'!D207),\"\",'Control Sheet'!D207)","v":""},{"$f":"IF(ISBLANK('Control Sheet'!E207),\"\",'Control Sheet'!E207&\" (\"&'Control Sheet'!F207&\")\")","v":""},"","","","","","","","","","","","","",null,"","","","","","","","","","","","","","","","","","","","","","","","","","","","","","","","","","","","","","","","","","",{"$f":"IF(A227=\"\",\"\",MAX(IF(ISERROR(AU227:BF227),0,AU227:BF227)))","v":""},"","","","","","","","","","","","","","","","","","","","","","","","","","","","","","","","","","","","","","","","","","","","",""]
[{"$f":"IF(ISBLANK('Control Sheet'!D208),\"\",'Control Sheet'!D208)","v":""},{"$f":"IF(ISBLANK('Control Sheet'!E208),\"\",'Control Sheet'!E208&\" (\"&'Control Sheet'!F208&\")\")","v":""},"","","","","","","","","","","","","",null,"","","","","","","","","","","","","","","","","","","","","","","","","","","","","","","","","","","","","","","","","","",{"$f":"IF(A228=\"\",\"\",MAX(IF(ISERROR(AU228:BF228),0,AU228:BF228)))","v":""},"","","","","","","","","","","","","","","","","","","","","","","","","","","","","","","","","","","","","","","","","","","","",""]
[{"$f":"IF(ISBLANK('Control Sheet'!D209),\"\",'Control Sheet'!D209)","v":""},{"$f":"IF(ISBLANK('Control Sheet'!E209),\"\",'Control Sheet'!E209&\" (\"&'Control Sheet'!F209&\")\")","v":""},"","","","","","","","","","","","","",null,"","","","","","","","","","","","","","","","","","","","","","","","","","","","","","","","","","","","","","","","","","",{"$f":"IF(A229=\"\",\"\",MAX(IF(ISERROR(AU229:BF229),0,AU229:BF229)))","v":""},"","","","","","","","","","","","","","","","","","","","","","","","","","","","","","","","","","","","","","","","","","","","",""]
[{"$f":"IF(ISBLANK('Control Sheet'!D210),\"\",'Control Sheet'!D210)","v":""},{"$f":"IF(ISBLANK('Control Sheet'!E210),\"\",'Control Sheet'!E210&\" (\"&'Control Sheet'!F210&\")\")","v":""},"","","","","","","","","","","","","",null,"","","","","","","","","","","","","","","","","","","","","","","","","","","","","","","","","","","","","","","","","","",{"$f":"IF(A230=\"\",\"\",MAX(IF(ISERROR(AU230:BF230),0,AU230:BF230)))","v":""},"","","","","","","","","","","","","","","","","","","","","","","","","","","","","","","","","","","","","","","","","","","","",""]
[{"$f":"IF(ISBLANK('Control Sheet'!D211),\"\",'Control Sheet'!D211)","v":""},{"$f":"IF(ISBLANK('Control Sheet'!E211),\"\",'Control Sheet'!E211&\" (\"&'Control Sheet'!F211&\")\")","v":""},{"$f":"IF(C$18=1,IF(ISNA(VLOOKUP($A231,INDIRECT(C$20),NMS_col,FALSE)),\"\",VLOOKUP($A231,INDIRECT(C$20),NMS_col,FALSE)),\"\")","v":""},"","","","","","","","","","","","",null,"","","","","","","","","","","","","","","","","","","","","","","","","","","","","","","","","","","","","","","","","","",{"$f":"IF(A231=\"\",\"\",MAX(IF(ISERROR(AU231:BF231),0,AU231:BF231)))","v":""},"","","","","","","","","","","","","","","","","","","","","","","","","","","","","","","","","","","","","","","","","","","","",""]
[{"$f":"IF(ISBLANK('Control Sheet'!D212),\"\",'Control Sheet'!D212)","v":""},{"$f":"IF(ISBLANK('Control Sheet'!E212),\"\",'Control Sheet'!E212&\" (\"&'Control Sheet'!F212&\")\")","v":""},"","","","","","","","","","","","","",null,"","","","","","","","","","","","","","","","","","","","","","","","","","","","","","","","","","","","","","","","","","",{"$f":"IF(A232=\"\",\"\",MAX(IF(ISERROR(AU232:BF232),0,AU232:BF232)))","v":""},"","","","","","","","","","","","","","","","","","","","","","","","","","","","","","","","","","","","","","","","","","","","",""]
[{"$f":"IF(ISBLANK('Control Sheet'!D213),\"\",'Control Sheet'!D213)","v":""},{"$f":"IF(ISBLANK('Control Sheet'!E213),\"\",'Control Sheet'!E213&\" (\"&'Control Sheet'!F213&\")\")","v":""},"","","","","","","","","","","","","",null,"","","","","","","","","","","","","","","","","","","","","","","","","","","","","","","","","","","","","","","","","","",{"$f":"IF(A233=\"\",\"\",MAX(IF(ISERROR(AU233:BF233),0,AU233:BF233)))","v":""},"","","","","","","","","","","","","","","","","","","","","","","","","","","","","","","","","","","","","","","","","","","","",""]
[{"$f":"IF(ISBLANK('Control Sheet'!D214),\"\",'Control Sheet'!D214)","v":""},{"$f":"IF(ISBLANK('Control Sheet'!E214),\"\",'Control Sheet'!E214&\" (\"&'Control Sheet'!F214&\")\")","v":""},"","","","","","","","","","","","","",null,"","","","","","","","","","","","","","","","","","","","","","","","","","","","","","","","","","","","","","","","","","",{"$f":"IF(A234=\"\",\"\",MAX(IF(ISERROR(AU234:BF234),0,AU234:BF234)))","v":""},"","","","","","","","","","","","","","","","","","","","","","","","","","","","","","","","","","","","","","","","","","","","",""]
[{"$f":"IF(ISBLANK('Control Sheet'!D215),\"\",'Control Sheet'!D215)","v":""},{"$f":"IF(ISBLANK('Control Sheet'!E215),\"\",'Control Sheet'!E215&\" (\"&'Control Sheet'!F215&\")\")","v":""},"","","","","","","","","","","","","",null,"","","","","","","","","","","","","","","","","","","","","","","","","","","","","","","","","","","","","","","","","","",{"$f":"IF(A235=\"\",\"\",MAX(IF(ISERROR(AU235:BF235),0,AU235:BF235)))","v":""},"","","","","","","","","","","","","","","","","","","","","","","","","","","","","","","","","","","","","","","","","","","","",""]
[{"$f":"IF(ISBLANK('Control Sheet'!D216),\"\",'Control Sheet'!D216)","v":""},{"$f":"IF(ISBLANK('Control Sheet'!E216),\"\",'Control Sheet'!E216&\" (\"&'Control Sheet'!F216&\")\")","v":""},"","","","","","","","","","","","","",null,"","","","","","","","","","","","","","","","","","","","","","","","","","","","","","","","","","","","","","","","","","",{"$f":"IF(A236=\"\",\"\",MAX(IF(ISERROR(AU236:BF236),0,AU236:BF236)))","v":""},"","","","","","","","","","","","","","","","","","","","","","","","","","","","","","","","","","","","","","","","","","","","",""]
[{"$f":"IF(ISBLANK('Control Sheet'!D217),\"\",'Control Sheet'!D217)","v":""},{"$f":"IF(ISBLANK('Control Sheet'!E217),\"\",'Control Sheet'!E217&\" (\"&'Control Sheet'!F217&\")\")","v":""},"","","","","","","","","","","","","",null,"","","","","","","","","","","","","","","","","","","","","","","","","","","","","","","","","","","","","","","","","","",{"$f":"IF(A237=\"\",\"\",MAX(IF(ISERROR(AU237:BF237),0,AU237:BF237)))","v":""},"","","","","","","","","","","","","","","","","","","","","","","","","","","","","","","","","","","","","","","","","","","","",""]
[{"$f":"IF(ISBLANK('Control Sheet'!D218),\"\",'Control Sheet'!D218)","v":""},{"$f":"IF(ISBLANK('Control Sheet'!E218),\"\",'Control Sheet'!E218&\" (\"&'Control Sheet'!F218&\")\")","v":""},"","","","","","","","","","","","","",null,"","","","","","","","","","","","","","","","","","","","","","","","","","","","","","","","","","","","","","","","","","",{"$f":"IF(A238=\"\",\"\",MAX(IF(ISERROR(AU238:BF238),0,AU238:BF238)))","v":""},"","","","","","","","","","","","","","","","","","","","","","","","","","","","","","","","","","","","","","","","","","","","",""]
[{"$f":"IF(ISBLANK('Control Sheet'!D219),\"\",'Control Sheet'!D219)","v":""},{"$f":"IF(ISBLANK('Control Sheet'!E219),\"\",'Control Sheet'!E219&\" (\"&'Control Sheet'!F219&\")\")","v":""},"","","","","","","","","","","","","",null,"","","","","","","","","","","","","","","","","","","","","","","","","","","","","","","","","","","","","","","","","","",{"$f":"IF(A239=\"\",\"\",MAX(IF(ISERROR(AU239:BF239),0,AU239:BF239)))","v":""},"","","","","","","","","","","","","","","","","","","","","","","","","","","","","","","","","","","","","","","","","","","","",""]
[{"$f":"IF(ISBLANK('Control Sheet'!D220),\"\",'Control Sheet'!D220)","v":""},{"$f":"IF(ISBLANK('Control Sheet'!E220),\"\",'Control Sheet'!E220&\" (\"&'Control Sheet'!F220&\")\")","v":""},"","","","","","","","","","","","","",null,"","","","","","","","","","","","","","","","","","","","","","","","","","","","","","","","","","","","","","","","","","",{"$f":"IF(A240=\"\",\"\",MAX(IF(ISERROR(AU240:BF240),0,AU240:BF240)))","v":""},"","","","","","","","","","","","","","","","","","","","","","","","","","","","","","","","","","","","","","","","","","","","",""]
[{"$f":"IF(ISBLANK('Control Sheet'!D221),\"\",'Control Sheet'!D221)","v":""},{"$f":"IF(ISBLANK('Control Sheet'!E221),\"\",'Control Sheet'!E221&\" (\"&'Control Sheet'!F221&\")\")","v":""},{"$f":"IF(C$18=1,IF(ISNA(VLOOKUP($A241,INDIRECT(C$20),NMS_col,FALSE)),\"\",VLOOKUP($A241,INDIRECT(C$20),NMS_col,FALSE)),\"\")","v":""},"","","","","","","","","","","","",null,"","","","","","","","","","","","","","","","","","","","","","","","","","","","","","","","","","","","","","","","","","",{"$f":"IF(A241=\"\",\"\",MAX(IF(ISERROR(AU241:BF241),0,AU241:BF241)))","v":""},"","","","","","","","","","","","","","","","","","","","","","","","","","","","","","","","","","","","","","","","","","","","",""]
[{"$f":"IF(ISBLANK('Control Sheet'!D222),\"\",'Control Sheet'!D222)","v":""},{"$f":"IF(ISBLANK('Control Sheet'!E222),\"\",'Control Sheet'!E222&\" (\"&'Control Sheet'!F222&\")\")","v":""},"","","","","","","","","","","","","",null,"","","","","","","","","","","","","","","","","","","","","","","","","","","","","","","","","","","","","","","","","","",{"$f":"IF(A242=\"\",\"\",MAX(IF(ISERROR(AU242:BF242),0,AU242:BF242)))","v":""},"","","","","","","","","","","","","","","","","","","","","","","","","","","","","","","","","","","","","","","","","","","","",""]
[{"$f":"IF(ISBLANK('Control Sheet'!D223),\"\",'Control Sheet'!D223)","v":""},{"$f":"IF(ISBLANK('Control Sheet'!E223),\"\",'Control Sheet'!E223&\" (\"&'Control Sheet'!F223&\")\")","v":""},"","","","","","","","","","","","","",null,"","","","","","","","","","","","","","","","","","","","","","","","","","","","","","","","","","","","","","","","","","",{"$f":"IF(A243=\"\",\"\",MAX(IF(ISERROR(AU243:BF243),0,AU243:BF243)))","v":""},"","","","","","","","","","","","","","","","","","","","","","","","","","","","","","","","","","","","","","","","","","","","",""]
[{"$f":"IF(ISBLANK('Control Sheet'!D224),\"\",'Control Sheet'!D224)","v":""},{"$f":"IF(ISBLANK('Control Sheet'!E224),\"\",'Control Sheet'!E224&\" (\"&'Control Sheet'!F224&\")\")","v":""},"","","","","","","","","","","","","",null,"","","","","","","","","","","","","","","","","","","","","","","","","","","","","","","","","","","","","","","","","","",{"$f":"IF(A244=\"\",\"\",MAX(IF(ISERROR(AU244:BF244),0,AU244:BF244)))","v":""},"","","","","","","","","","","","","","","","","","","","","","","","","","","","","","","","","","","","","","","","","","","","",""]
[{"$f":"IF(ISBLANK('Control Sheet'!D225),\"\",'Control Sheet'!D225)","v":""},{"$f":"IF(ISBLANK('Control Sheet'!E225),\"\",'Control Sheet'!E225&\" (\"&'Control Sheet'!F225&\")\")","v":""},"","","","","","","","","","","","","",null,"","","","","","","","","","","","","","","","","","","","","","","","","","","","","","","","","","","","","","","","","","",{"$f":"IF(A245=\"\",\"\",MAX(IF(ISERROR(AU245:BF245),0,AU245:BF245)))","v":""},"","","","","","","","","","","","","","","","",{"$f":"IF(A245=\"\",\"\",IF(BW245>$BW$11,\"Yes\",\"No\"))","v":""},"","","","","","","","","","","","","","","","","","","","","","","","","","","",""]
[{"$f":"IF(ISBLANK('Control Sheet'!D226),\"\",'Control Sheet'!D226)","v":""},{"$f":"IF(ISBLANK('Control Sheet'!E226),\"\",'Control Sheet'!E226&\" (\"&'Control Sheet'!F226&\")\")","v":""},"","","","","","","","","","","","","",null,"","","","","","","","","","","","","","","","","","","","","","","","","","","","","","","","","","","","","","","","","","",{"$f":"IF(A246=\"\",\"\",MAX(IF(ISERROR(AU246:BF246),0,AU246:BF246)))","v":""},"","","","","","","","","","","","","","","","","","","","","","","","","","","","","","","","","","","","","","","","","","","","",""]
[{"$f":"IF(ISBLANK('Control Sheet'!D227),\"\",'Control Sheet'!D227)","v":""},{"$f":"IF(ISBLANK('Control Sheet'!E227),\"\",'Control Sheet'!E227&\" (\"&'Control Sheet'!F227&\")\")","v":""},"","","","","","","","","","","","","",null,"","","","","","","","","","","","","","","","","","","","","","","","","","","","","","","","","","","","","","","","","","",{"$f":"IF(A247=\"\",\"\",MAX(IF(ISERROR(AU247:BF247),0,AU247:BF247)))","v":""},"","","","","","","","","","","","","","","","","","","","","","","","","","","","","","","","","","","","","","","","","","","","",""]
[{"$f":"IF(ISBLANK('Control Sheet'!D228),\"\",'Control Sheet'!D228)","v":""},{"$f":"IF(ISBLANK('Control Sheet'!E228),\"\",'Control Sheet'!E228&\" (\"&'Control Sheet'!F228&\")\")","v":""},"","","","","","","","","","","","","",null,"","","","","","","","","","","","","","","","","","","","","","","","","","","","","","","","","","","","","","","","","","",{"$f":"IF(A248=\"\",\"\",MAX(IF(ISERROR(AU248:BF248),0,AU248:BF248)))","v":""},"","","","","","","","","","","","","","","","","","","","","","","","","","","","","","","","","","","","","","","","","","","","",""]
[{"$f":"IF(ISBLANK('Control Sheet'!D229),\"\",'Control Sheet'!D229)","v":""},{"$f":"IF(ISBLANK('Control Sheet'!E229),\"\",'Control Sheet'!E229&\" (\"&'Control Sheet'!F229&\")\")","v":""},"","","","","","","","","","","","","",null,"","","","","","","","","","","","","","","","","","","","","","","","","","","","","","","","","","","","","","","","","","",{"$f":"IF(A249=\"\",\"\",MAX(IF(ISERROR(AU249:BF249),0,AU249:BF249)))","v":""},"","","","","","","","","","","","","","","","","","","","","","","","","","","","","","","","","","","","","","","","","","","","",""]
[{"$f":"IF(ISBLANK('Control Sheet'!D230),\"\",'Control Sheet'!D230)","v":""},{"$f":"IF(ISBLANK('Control Sheet'!E230),\"\",'Control Sheet'!E230&\" (\"&'Control Sheet'!F230&\")\")","v":""},"","","","","","","","","","","","","",null,"","","","","","","","","","","","","","","","","","","","","","","","","","","","","","","","","","","","","","","","","","",{"$f":"IF(A250=\"\",\"\",MAX(IF(ISERROR(AU250:BF250),0,AU250:BF250)))","v":""},"","","","","","","","","","","","","","","","","","","","","","","","","","","","","","","","","","","","","","","","","","","","",""]
[{"$f":"IF(ISBLANK('Control Sheet'!D232),\"\",'Control Sheet'!D232)","v":""},{"$f":"IF(ISBLANK('Control Sheet'!E232),\"\",'Control Sheet'!E232&\" (\"&'Control Sheet'!F232&\")\")","v":""},"","","","","","","","","","","","","",null,"","","","","","","","","","","","","","","","","","","","","","","","","","","","","","","","","","","","","","","","","","",{"$f":"IF(A252=\"\",\"\",MAX(IF(ISERROR(AU252:BF252),0,AU252:BF252)))","v":""},"","","","","","","","","","","","","","","","","","","","","","","","","","","","","","","","","","","","","","","","","","","","",""]
[{"$f":"IF(ISBLANK('Control Sheet'!D234),\"\",'Control Sheet'!D234)","v":""},{"$f":"IF(ISBLANK('Control Sheet'!E234),\"\",'Control Sheet'!E234&\" (\"&'Control Sheet'!F234&\")\")","v":""},"","","","","","","","","","","","","",null,"","","","","","","","","","","","","","","","","","","","","","","","","","","","","","","","","","","","","","","","","","",{"$f":"IF(A254=\"\",\"\",MAX(IF(ISERROR(AU254:BF254),0,AU254:BF254)))","v":""},"","","","","","","","","","","","","","","","","","","","","","","","","","","","","","","","","","","","","","","","","","","","",""]
[{"$f":"IF(ISBLANK('Control Sheet'!D237),\"\",'Control Sheet'!D237)","v":""},{"$f":"IF(ISBLANK('Control Sheet'!E237),\"\",'Control Sheet'!E237&\" (\"&'Control Sheet'!F237&\")\")","v":""},"","","","","","","","","","","","","",null,"","","","","","","","","","","","","","","","","","","","","","","","","","","","","","","","","","","","","","","","","","",{"$f":"IF(A257=\"\",\"\",MAX(IF(ISERROR(AU257:BF257),0,AU257:BF257)))","v":""},"","","","","","","","","","","","","","","","","","","","","","","","","","","","","","","","","","","","","","","","","","","","",""]
[{"$f":"IF(ISBLANK('Control Sheet'!D241),\"\",'Control Sheet'!D241)","v":""},{"$f":"IF(ISBLANK('Control Sheet'!E241),\"\",'Control Sheet'!E241&\" (\"&'Control Sheet'!F241&\")\")","v":""},{"$f":"IF(C$18=1,IF(ISNA(VLOOKUP($A261,INDIRECT(C$20),NMS_col,FALSE)),\"\",VLOOKUP($A261,INDIRECT(C$20),NMS_col,FALSE)),\"\")","v":""},"","","","","","","","","","","","",null,"","","","","","","","","","","","","","","","","","","","","","","","","","","","","","","","","","","","","","","","","","",{"$f":"IF(A261=\"\",\"\",MAX(IF(ISERROR(AU261:BF261),0,AU261:BF261)))","v":""},"","","","","","","","","","","","","","","","","","","","","","","","","","","","","","","","","","","","","","","","","","","","",""]
[{"$f":"IF(ISBLANK('Control Sheet'!D244),\"\",'Control Sheet'!D244)","v":""},{"$f":"IF(ISBLANK('Control Sheet'!E244),\"\",'Control Sheet'!E244&\" (\"&'Control Sheet'!F244&\")\")","v":""},"","","","","","","","","","","","","",null,"","","","","","","","","","","","","","","","","","","","","","","","","","","","","","","","","","","","","","","","","","",{"$f":"IF(A264=\"\",\"\",MAX(IF(ISERROR(AU264:BF264),0,AU264:BF264)))","v":""},"","","","","","","","","","","","","","","","","","","","","","","","","","","","","","","","","","","","","","","","","","","","",""]
[{"$f":"IF(ISBLANK('Control Sheet'!D245),\"\",'Control Sheet'!D245)","v":""},{"$f":"IF(ISBLANK('Control Sheet'!E245),\"\",'Control Sheet'!E245&\" (\"&'Control Sheet'!F245&\")\")","v":""},"","","","","","","","","","","","","",null,"","","","","","","","","","","","","","","","","","","","","","","","","","","","","","","","","","","","","","","","","","",{"$f":"IF(A265=\"\",\"\",MAX(IF(ISERROR(AU265:BF265),0,AU265:BF265)))","v":""},"","","","","","","","","","","","","","","","","","","","","","","","","","","","","","","","","","","","","","","","","","","","",""]
[{"$f":"IF(ISBLANK('Control Sheet'!D247),\"\",'Control Sheet'!D247)","v":""},{"$f":"IF(ISBLANK('Control Sheet'!E247),\"\",'Control Sheet'!E247&\" (\"&'Control Sheet'!F247&\")\")","v":""},"","","","","","","","","","","","","",null,"","","","","","","","","","","","","","","","","","","","","","","","","","","","","","","","","","","","","","","","","","",{"$f":"IF(A267=\"\",\"\",MAX(IF(ISERROR(AU267:BF267),0,AU267:BF267)))","v":""},"","","","","","","","","","","","","","","","","","","","","","","","","","","","","","","","","","","","","","","","","","","","",""]
[{"$f":"IF(ISBLANK('Control Sheet'!D250),\"\",'Control Sheet'!D250)","v":""},{"$f":"IF(ISBLANK('Control Sheet'!E250),\"\",'Control Sheet'!E250&\" (\"&'Control Sheet'!F250&\")\")","v":""},"","","","","","","","","","","","","",null,"","","","","","","","","","","","","","","","","","","","","","","","","","","","","","","","","","","","","","","","","","",{"$f":"IF(A270=\"\",\"\",MAX(IF(ISERROR(AU270:BF270),0,AU270:BF270)))","v":""},"","","","","","","","","","","","","","","","","","","","","","","","","","","","","","","","","","","","","","","","","","","","",""]
[{"$f":"IF(ISBLANK('Control Sheet'!D254),\"\",'Control Sheet'!D254)","v":""},{"$f":"IF(ISBLANK('Control Sheet'!E254),\"\",'Control Sheet'!E254&\" (\"&'Control Sheet'!F254&\")\")","v":""},"","","","","","","","","","","","","",null,"","","","","","","","","","","","","","","","","","","","","","","","","","","","","","","","","","","","","","","","","","",{"$f":"IF(A274=\"\",\"\",MAX(IF(ISERROR(AU274:BF274),0,AU274:BF274)))","v":""},"","","","","","","","","","","","","","","","","","","","","","","","","","","","","","","","","","","","","","","","","","","","",""]
[{"$f":"IF(ISBLANK('Control Sheet'!D257),\"\",'Control Sheet'!D257)","v":""},{"$f":"IF(ISBLANK('Control Sheet'!E257),\"\",'Control Sheet'!E257&\" (\"&'Control Sheet'!F257&\")\")","v":""},"","","","","","","","","","","","","",null,"",{"$f":"IF(A277=\"\",\"\",NMSMonthsPop-(COUNTA(C277:N277)-COUNTBLANK(C277:N277)))","v":""},"","","","","","","","","","","","","","","","","","","","","","","","","","","","",{"$f":"IF(OR(A277=\"\",NMSMonthsPop=0),\"\",IF(AU$18=NMSMonthsPop,AH277,#N/A))","v":""},{"$f":"IF(OR($A277=\"\",NMSMonthsPop=0),\"\",IF(AV$18<NMSMonthsPop,#N/A,IF(AV$18=NMSMonthsPop,AI277,IF(AU277=\"\",\"\",IF(AV$18=NMSMonthsPop+1,AU277+(AU277*VLOOKUP(NMSMonthsPop-$R277,ForecastMult,3,FALSE)/12),AU277+AU277-AT277)))))","v":""},{"$f":"IF(OR($A277=\"\",NMSMonthsPop=0),\"\",IF(AW$18<NMSMonthsPop,#N/A,IF(AW$18=NMSMonthsPop,AJ277,IF(AV277=\"\",\"\",IF(AW$18=NMSMonthsPop+1,AV277+(AV277*VLOOKUP(NMSMonthsPop-$R277,ForecastMult,3,FALSE)/12),AV277+AV277-AU277)))))","v":""},{"$f":"IF(OR($A277=\"\",NMSMonthsPop=0),\"\",IF(AX$18<NMSMonthsPop,#N/A,IF(AX$18=NMSMonthsPop,AK277,IF(AW277=\"\",\"\",IF(AX$18=NMSMonthsPop+1,AW277+(AW277*VLOOKUP(NMSMonthsPop-$R277,ForecastMult,3,FALSE)/12),AW277+AW277-AV277)))))","v":""},{"$f":"IF(OR($A277=\"\",NMSMonthsPop=0),\"\",IF(AY$18<NMSMonthsPop,#N/A,IF(AY$18=NMSMonthsPop,AL277,IF(AX277=\"\",\"\",IF(AY$18=NMSMonthsPop+1,AX277+(AX277*VLOOKUP(NMSMonthsPop-$R277,ForecastMult,3,FALSE)/12),AX277+AX277-AW277)))))","v":""},{"$f":"IF(OR($A277=\"\",NMSMonthsPop=0),\"\",IF(AZ$18<NMSMonthsPop,#N/A,IF(AZ$18=NMSMonthsPop,AM277,IF(AY277=\"\",\"\",IF(AZ$18=NMSMonthsPop+1,AY277+(AY277*VLOOKUP(NMSMonthsPop-$R277,ForecastMult,3,FALSE)/12),AY277+AY277-AX277)))))","v":""},{"$f":"IF(OR($A277=\"\",NMSMonthsPop=0),\"\",IF(BA$18<NMSMonthsPop,#N/A,IF(BA$18=NMSMonthsPop,AN277,IF(AZ277=\"\",\"\",IF(BA$18=NMSMonthsPop+1,AZ277+(AZ277*VLOOKUP(NMSMonthsPop-$R277,ForecastMult,3,FALSE)/12),AZ277+AZ277-AY277)))))","v":""},{"$f":"IF(OR($A277=\"\",NMSMonthsPop=0),\"\",IF(BB$18<NMSMonthsPop,#N/A,IF(BB$18=NMSMonthsPop,AO277,IF(BA277=\"\",\"\",IF(BB$18=NMSMonthsPop+1,BA277+(BA277*VLOOKUP(NMSMonthsPop-$R277,ForecastMult,3,FALSE)/12),BA277+BA277-AZ277)))))","v":""},{"$f":"IF(OR($A277=\"\",NMSMonthsPop=0),\"\",IF(BC$18<NMSMonthsPop,#N/A,IF(BC$18=NMSMonthsPop,AP277,IF(BB277=\"\",\"\",IF(BC$18=NMSMonthsPop+1,BB277+(BB277*VLOOKUP(NMSMonthsPop-$R277,ForecastMult,3,FALSE)/12),BB277+BB277-BA277)))))","v":""},{"$f":"IF(OR($A277=\"\",NMSMonthsPop=0),\"\",IF(BD$18<NMSMonthsPop,#N/A,IF(BD$18=NMSMonthsPop,AQ277,IF(BC277=\"\",\"\",IF(BD$18=NMSMonthsPop+1,BC277+(BC277*VLOOKUP(NMSMonthsPop-$R277,ForecastMult,3,FALSE)/12),BC277+BC277-BB277)))))","v":""},{"$f":"IF(OR($A277=\"\",NMSMonthsPop=0),\"\",IF(BE$18<NMSMonthsPop,#N/A,IF(BE$18=NMSMonthsPop,AR277,IF(BD277=\"\",\"\",IF(BE$18=NMSMonthsPop+1,BD277+(BD277*VLOOKUP(NMSMonthsPop-$R277,ForecastMult,3,FALSE)/12),BD277+BD277-BC277)))))","v":""},{"$f":"IF(OR($A277=\"\",NMSMonthsPop=0),\"\",IF(BF$18<NMSMonthsPop,#N/A,IF(BF$18=NMSMonthsPop,AS277,IF(BE277=\"\",\"\",IF(BF$18=NMSMonthsPop+1,BE277+(BE277*VLOOKUP(NMSMonthsPop-$R277,ForecastMult,3,FALSE)/12),BE277+BE277-BD277)))))","v":""},{"$f":"IF(A277=\"\",\"\",MAX(IF(ISERROR(AU277:BF277),0,AU277:BF277)))","v":""},{"$f":"IF(AND(C$18=1,$A277<>\"\"),IF(ISNA(VLOOKUP($A277,INDIRECT(C$20),NMS_items_col,FALSE)),\"\",VLOOKUP($A277,INDIRECT(C$20),NMS_items_col,FALSE)),\"\")","v":""},{"$f":"IF(AND(D$18=1,$A277<>\"\"),IF(ISNA(VLOOKUP($A277,INDIRECT(D$20),NMS_items_col,FALSE)),\"\",VLOOKUP($A277,INDIRECT(D$20),NMS_items_col,FALSE)),\"\")","v":""},{"$f":"IF(AND(E$18=1,$A277<>\"\"),IF(ISNA(VLOOKUP($A277,INDIRECT(E$20),NMS_items_col,FALSE)),\"\",VLOOKUP($A277,INDIRECT(E$20),NMS_items_col,FALSE)),\"\")","v":""},{"$f":"IF(AND(F$18=1,$A277<>\"\"),IF(ISNA(VLOOKUP($A277,INDIRECT(F$20),NMS_items_col,FALSE)),\"\",VLOOKUP($A277,INDIRECT(F$20),NMS_items_col,FALSE)),\"\")","v":""},{"$f":"IF(AND(G$18=1,$A277<>\"\"),IF(ISNA(VLOOKUP($A277,INDIRECT(G$20),NMS_items_col,FALSE)),\"\",VLOOKUP($A277,INDIRECT(G$20),NMS_items_col,FALSE)),\"\")","v":""},{"$f":"IF(AND(H$18=1,$A277<>\"\"),IF(ISNA(VLOOKUP($A277,INDIRECT(H$20),NMS_items_col,FALSE)),\"\",VLOOKUP($A277,INDIRECT(H$20),NMS_items_col,FALSE)),\"\")","v":""},{"$f":"IF(AND(I$18=1,$A277<>\"\"),IF(ISNA(VLOOKUP($A277,INDIRECT(I$20),NMS_items_col,FALSE)),\"\",VLOOKUP($A277,INDIRECT(I$20),NMS_items_col,FALSE)),\"\")","v":""},{"$f":"IF(AND(J$18=1,$A277<>\"\"),IF(ISNA(VLOOKUP($A277,INDIRECT(J$20),NMS_items_col,FALSE)),\"\",VLOOKUP($A277,INDIRECT(J$20),NMS_items_col,FALSE)),\"\")","v":""},{"$f":"IF(AND(K$18=1,$A277<>\"\"),IF(ISNA(VLOOKUP($A277,INDIRECT(K$20),NMS_items_col,FALSE)),\"\",VLOOKUP($A277,INDIRECT(K$20),NMS_items_col,FALSE)),\"\")","v":""},{"$f":"IF(AND(L$18=1,$A277<>\"\"),IF(ISNA(VLOOKUP($A277,INDIRECT(L$20),NMS_items_col,FALSE)),\"\",VLOOKUP($A277,INDIRECT(L$20),NMS_items_col,FALSE)),\"\")","v":""},{"$f":"IF(AND(M$18=1,$A277<>\"\"),IF(ISNA(VLOOKUP($A277,INDIRECT(M$20),NMS_items_col,FALSE)),\"\",VLOOKUP($A277,INDIRECT(M$20),NMS_items_col,FALSE)),\"\")","v":""},{"$f":"IF(AND(N$18=1,$A277<>\"\"),IF(ISNA(VLOOKUP($A277,INDIRECT(N$20),NMS_items_col,FALSE)),\"\",VLOOKUP($A277,INDIRECT(N$20),NMS_items_col,FALSE)),\"\")","v":""},"","","","","","","",{"$f":"IF(C$18=1,IF(ISNA(VLOOKUP($A277,INDIRECT(C$20),NMS_fee_col,FALSE)),\"\",VLOOKUP($A277,INDIRECT(C$20),NMS_fee_col,FALSE)),\"\")","v":""},{"$f":"IF(D$18=1,IF(ISNA(VLOOKUP($A277,INDIRECT(D$20),NMS_fee_col,FALSE)),\"\",VLOOKUP($A277,INDIRECT(D$20),NMS_fee_col,FALSE)),\"\")","v":""},{"$f":"IF(E$18=1,IF(ISNA(VLOOKUP($A277,INDIRECT(E$20),NMS_fee_col,FALSE)),\"\",VLOOKUP($A277,INDIRECT(E$20),NMS_fee_col,FALSE)),\"\")","v":""},{"$f":"IF(F$18=1,IF(ISNA(VLOOKUP($A277,INDIRECT(F$20),NMS_fee_col,FALSE)),\"\",VLOOKUP($A277,INDIRECT(F$20),NMS_fee_col,FALSE)),\"\")","v":""},{"$f":"IF(G$18=1,IF(ISNA(VLOOKUP($A277,INDIRECT(G$20),NMS_fee_col,FALSE)),\"\",VLOOKUP($A277,INDIRECT(G$20),NMS_fee_col,FALSE)),\"\")","v":""},{"$f":"IF(H$18=1,IF(ISNA(VLOOKUP($A277,INDIRECT(H$20),NMS_fee_col,FALSE)),\"\",VLOOKUP($A277,INDIRECT(H$20),NMS_fee_col,FALSE)),\"\")","v":""},{"$f":"IF(I$18=1,IF(ISNA(VLOOKUP($A277,INDIRECT(I$20),NMS_fee_col,FALSE)),\"\",VLOOKUP($A277,INDIRECT(I$20),NMS_fee_col,FALSE)),\"\")","v":""},{"$f":"IF(J$18=1,IF(ISNA(VLOOKUP($A277,INDIRECT(J$20),NMS_fee_col,FALSE)),\"\",VLOOKUP($A277,INDIRECT(J$20),NMS_fee_col,FALSE)),\"\")","v":""},{"$f":"IF(K$18=1,IF(ISNA(VLOOKUP($A277,INDIRECT(K$20),NMS_fee_col,FALSE)),\"\",VLOOKUP($A277,INDIRECT(K$20),NMS_fee_col,FALSE)),\"\")","v":""},{"$f":"IF(L$18=1,IF(ISNA(VLOOKUP($A277,INDIRECT(L$20),NMS_fee_col,FALSE)),\"\",VLOOKUP($A277,INDIRECT(L$20),NMS_fee_col,FALSE)),\"\")","v":""},{"$f":"IF(M$18=1,IF(ISNA(VLOOKUP($A277,INDIRECT(M$20),NMS_fee_col,FALSE)),\"\",VLOOKUP($A277,INDIRECT(M$20),NMS_fee_col,FALSE)),\"\")","v":""},{"$f":"IF(N$18=1,IF(ISNA(VLOOKUP($A277,INDIRECT(N$20),NMS_fee_col,FALSE)),\"\",VLOOKUP($A277,INDIRECT(N$20),NMS_fee_col,FALSE)),\"\")","v":""},"",{"$f":"IF(C$18=1,IF(ISNA(VLOOKUP($A277,INDIRECT(C$20),NMS_Fee_adj_col,FALSE)),\"\",VLOOKUP($A277,INDIRECT(C$20),NMS_Fee_adj_col,FALSE)),\"\")","v":""},{"$f":"IF(D$18=1,IF(ISNA(VLOOKUP($A277,INDIRECT(D$20),NMS_Fee_adj_col,FALSE)),\"\",VLOOKUP($A277,INDIRECT(D$20),NMS_Fee_adj_col,FALSE)),\"\")","v":""},{"$f":"IF(E$18=1,IF(ISNA(VLOOKUP($A277,INDIRECT(E$20),NMS_Fee_adj_col,FALSE)),\"\",VLOOKUP($A277,INDIRECT(E$20),NMS_Fee_adj_col,FALSE)),\"\")","v":""},{"$f":"IF(F$18=1,IF(ISNA(VLOOKUP($A277,INDIRECT(F$20),NMS_Fee_adj_col,FALSE)),\"\",VLOOKUP($A277,INDIRECT(F$20),NMS_Fee_adj_col,FALSE)),\"\")","v":""},{"$f":"IF(G$18=1,IF(ISNA(VLOOKUP($A277,INDIRECT(G$20),NMS_Fee_adj_col,FALSE)),\"\",VLOOKUP($A277,INDIRECT(G$20),NMS_Fee_adj_col,FALSE)),\"\")","v":""},{"$f":"IF(H$18=1,IF(ISNA(VLOOKUP($A277,INDIRECT(H$20),NMS_Fee_adj_col,FALSE)),\"\",VLOOKUP($A277,INDIRECT(H$20),NMS_Fee_adj_col,FALSE)),\"\")","v":""},{"$f":"IF(I$18=1,IF(ISNA(VLOOKUP($A277,INDIRECT(I$20),NMS_Fee_adj_col,FALSE)),\"\",VLOOKUP($A277,INDIRECT(I$20),NMS_Fee_adj_col,FALSE)),\"\")","v":""},{"$f":"IF(J$18=1,IF(ISNA(VLOOKUP($A277,INDIRECT(J$20),NMS_Fee_adj_col,FALSE)),\"\",VLOOKUP($A277,INDIRECT(J$20),NMS_Fee_adj_col,FALSE)),\"\")","v":""},{"$f":"IF(K$18=1,IF(ISNA(VLOOKUP($A277,INDIRECT(K$20),NMS_Fee_adj_col,FALSE)),\"\",VLOOKUP($A277,INDIRECT(K$20),NMS_Fee_adj_col,FALSE)),\"\")","v":""},{"$f":"IF(L$18=1,IF(ISNA(VLOOKUP($A277,INDIRECT(L$20),NMS_Fee_adj_col,FALSE)),\"\",VLOOKUP($A277,INDIRECT(L$20),NMS_Fee_adj_col,FALSE)),\"\")","v":""},{"$f":"IF(M$18=1,IF(ISNA(VLOOKUP($A277,INDIRECT(M$20),NMS_Fee_adj_col,FALSE)),\"\",VLOOKUP($A277,INDIRECT(M$20),NMS_Fee_adj_col,FALSE)),\"\")","v":""},{"$f":"IF(N$18=1,IF(ISNA(VLOOKUP($A277,INDIRECT(N$20),NMS_Fee_adj_col,FALSE)),\"\",VLOOKUP($A277,INDIRECT(N$20),NMS_Fee_adj_col,FALSE)),\"\")","v":""},""]
[{"$f":"IF(ISBLANK('Control Sheet'!D260),\"\",'Control Sheet'!D260)","v":""},{"$f":"IF(ISBLANK('Control Sheet'!E260),\"\",'Control Sheet'!E260&\" (\"&'Control Sheet'!F260&\")\")","v":""},"","","","","","","","","","","","","",null,"","","","","","","","","","","","","","","","","","","","","","","","","","","","","","","","","","","","","","","","","","",{"$f":"IF(A280=\"\",\"\",MAX(IF(ISERROR(AU280:BF280),0,AU280:BF280)))","v":""},"","","","","","","","","","","","","","","","","","","","","","","","","","","","","","","","","","","","","","","","","","","","",""]
[{"$f":"IF(ISBLANK('Control Sheet'!D262),\"\",'Control Sheet'!D262)","v":""},{"$f":"IF(ISBLANK('Control Sheet'!E262),\"\",'Control Sheet'!E262&\" (\"&'Control Sheet'!F262&\")\")","v":""},"","","","","","","","","","","","","",null,"","","","","","","","","","","","","","","","","","","","","","","","","","","","","","","","","","","","","","","","","","",{"$f":"IF(A282=\"\",\"\",MAX(IF(ISERROR(AU282:BF282),0,AU282:BF282)))","v":""},"","","","","","","","","","","","","","","","","","","","","","","","","","","","","","","","","","","","","","","","","","","","",""]
[{"$f":"IF(ISBLANK('Control Sheet'!D266),\"\",'Control Sheet'!D266)","v":""},{"$f":"IF(ISBLANK('Control Sheet'!E266),\"\",'Control Sheet'!E266&\" (\"&'Control Sheet'!F266&\")\")","v":""},"","","","","","","","","","","","","",null,"","","","","","","","","","","","","","","","","","","","","","","","","","","","","","","","","","","","","","","","","","",{"$f":"IF(A286=\"\",\"\",MAX(IF(ISERROR(AU286:BF286),0,AU286:BF286)))","v":""},"","","","","","","","","","","","","","","","","","","","","","","","","","","","","","","","","","","","","","","","","","","","",""]
[{"$f":"IF(ISBLANK('Control Sheet'!D269),\"\",'Control Sheet'!D269)","v":""},{"$f":"IF(ISBLANK('Control Sheet'!E269),\"\",'Control Sheet'!E269&\" (\"&'Control Sheet'!F269&\")\")","v":""},"","","","","","","","","","","","","",null,"","","","","","","","","","","","","","","","","","","","","","","","","","","","","","","","","","","","","","","","","","",{"$f":"IF(A289=\"\",\"\",MAX(IF(ISERROR(AU289:BF289),0,AU289:BF289)))","v":""},"","","","","","","","","","","","","","","","","","","","","","","","","","","","","","","","","","","","","","","","","","","","",""]
[{"$f":"IF(ISBLANK('Control Sheet'!D270),\"\",'Control Sheet'!D270)","v":""},{"$f":"IF(ISBLANK('Control Sheet'!E270),\"\",'Control Sheet'!E270&\" (\"&'Control Sheet'!F270&\")\")","v":""},"","","","","","","","","","","","","",null,"","","","","","","","","","","","","","","","","","","","","","","","","","","","","","","","","","","","","","","","","","",{"$f":"IF(A290=\"\",\"\",MAX(IF(ISERROR(AU290:BF290),0,AU290:BF290)))","v":""},"","","","","","","","","","","","","","","","","","","","","","","","","","","","","","","","","","","","","","","","","","","","",""]
[{"$f":"IF(ISBLANK('Control Sheet'!D273),\"\",'Control Sheet'!D273)","v":""},{"$f":"IF(ISBLANK('Control Sheet'!E273),\"\",'Control Sheet'!E273&\" (\"&'Control Sheet'!F273&\")\")","v":""},"","","","","","","","","","","","","",null,"","","","","","","","","","","","","","","","","","","","","","","","","","","","","","","","","","","","","","","","","","",{"$f":"IF(A293=\"\",\"\",MAX(IF(ISERROR(AU293:BF293),0,AU293:BF293)))","v":""},"","","","","","","","","","","","","","","","","","","","","","","","","","","","","","","","","","","","","","","","","","","","",""]
[{"$f":"IF(ISBLANK('Control Sheet'!D277),\"\",'Control Sheet'!D277)","v":""},{"$f":"IF(ISBLANK('Control Sheet'!E277),\"\",'Control Sheet'!E277&\" (\"&'Control Sheet'!F277&\")\")","v":""},"","","","","","","","","","","","","",null,"","","","","","","","","","","","","","","","","","","","","","","","","","","","","","","","","","","","","","","","","","",{"$f":"IF(A297=\"\",\"\",MAX(IF(ISERROR(AU297:BF297),0,AU297:BF297)))","v":""},"","","","","","","","","","","","","","","","","","","","","","","","","","","","","","","","","","","","","","","","","","","","",""]
[{"$f":"IF(ISBLANK('Control Sheet'!D279),\"\",'Control Sheet'!D279)","v":""},{"$f":"IF(ISBLANK('Control Sheet'!E279),\"\",'Control Sheet'!E279&\" (\"&'Control Sheet'!F279&\")\")","v":""},"","","","","","","","","","","","","",null,"","","","","","","","","","","","","","","","","","","","","","","","","","","","","","","","","","","","","","","","","","",{"$f":"IF(A299=\"\",\"\",MAX(IF(ISERROR(AU299:BF299),0,AU299:BF299)))","v":""},"","","","","","","","","","","","","","","","","","","","","","","","","","","","","","","","","","","","","","","","","","","","",""]
[{"$f":"IF(ISBLANK('Control Sheet'!D282),\"\",'Control Sheet'!D282)","v":""},{"$f":"IF(ISBLANK('Control Sheet'!E282),\"\",'Control Sheet'!E282&\" (\"&'Control Sheet'!F282&\")\")","v":""},"","","","","","","","","","","","","",null,"","","","","","","","","","","","","","","","","","","","","","","","","","","","","","","","","","","","","","","","","","",{"$f":"IF(A302=\"\",\"\",MAX(IF(ISERROR(AU302:BF302),0,AU302:BF302)))","v":""},"","","","","","","","","","","","","","","","","","","","","","","","","","","","","","","","","","","","","","","","","","","","",""]
[{"$f":"IF(ISBLANK('Control Sheet'!D286),\"\",'Control Sheet'!D286)","v":""},{"$f":"IF(ISBLANK('Control Sheet'!E286),\"\",'Control Sheet'!E286&\" (\"&'Control Sheet'!F286&\")\")","v":""},"","","","","","","","","","","","","",null,"","","","","","","","","","","","","","","","","","","","","","","","","","","","","","","","","","","","","","","","","","",{"$f":"IF(A306=\"\",\"\",MAX(IF(ISERROR(AU306:BF306),0,AU306:BF306)))","v":""},"","","","","","","","","","","","","","","","","","","","","","","","","","","","","","","","","","","","","","","","","","","","",""]
[{"$f":"IF(ISBLANK('Control Sheet'!D289),\"\",'Control Sheet'!D289)","v":""},{"$f":"IF(ISBLANK('Control Sheet'!E289),\"\",'Control Sheet'!E289&\" (\"&'Control Sheet'!F289&\")\")","v":""},"","","","","","","","","","","","","",null,"","","","","","","","","","","","","","","","","","","","","","","","","","","","","","","","","","","","","","","","","","",{"$f":"IF(A309=\"\",\"\",MAX(IF(ISERROR(AU309:BF309),0,AU309:BF309)))","v":""},"","","","","","","","","","","","","","","","",{"$f":"IF(A309=\"\",\"\",IF(BW309>$BW$11,\"Yes\",\"No\"))","v":""},"","","","","","","","","","","","","","","","","","","","","","","","","","","",""]
[{"$f":"IF(ISBLANK('Control Sheet'!D290),\"\",'Control Sheet'!D290)","v":""},{"$f":"IF(ISBLANK('Control Sheet'!E290),\"\",'Control Sheet'!E290&\" (\"&'Control Sheet'!F290&\")\")","v":""},"","","","","","","","","","","","","",null,"","","","","","","","","","","","","","","","","","","","","","","","","","","","","","","","","","","","","","","","","","",{"$f":"IF(A310=\"\",\"\",MAX(IF(ISERROR(AU310:BF310),0,AU310:BF310)))","v":""},"","","","","","","","","","","","","","","","","","","","","","","","","","","","","","","","","","","","","","","","","","","","",""]
[{"$f":"IF(ISBLANK('Control Sheet'!D294),\"\",'Control Sheet'!D294)","v":""},{"$f":"IF(ISBLANK('Control Sheet'!E294),\"\",'Control Sheet'!E294&\" (\"&'Control Sheet'!F294&\")\")","v":""},"","","","","","","","","","","","","",null,"","","","","","","","","","","","","","","","","","","","","","","","","","","","","","","","","","","","","","","","","","",{"$f":"IF(A314=\"\",\"\",MAX(IF(ISERROR(AU314:BF314),0,AU314:BF314)))","v":""},"","","","","","","","","","","","","","","","","","","","","","","","","","","","","","","","","","","","","","","","","","","","",""]
[{"$f":"IF(ISBLANK('Control Sheet'!D295),\"\",'Control Sheet'!D295)","v":""},{"$f":"IF(ISBLANK('Control Sheet'!E295),\"\",'Control Sheet'!E295&\" (\"&'Control Sheet'!F295&\")\")","v":""},"","","","","","","","","","","","","",null,"","","","","","","","","","","","","","","","","","","","","","","","","","","","","","","","","","","","","","","","","","",{"$f":"IF(A315=\"\",\"\",MAX(IF(ISERROR(AU315:BF315),0,AU315:BF315)))","v":""},"","","","","","","","","","","","","","","","","","","","","","","","","","","","","","","","","","","","","","","","","","","","",""]
[{"$f":"IF(ISBLANK('Control Sheet'!D299),\"\",'Control Sheet'!D299)","v":""},{"$f":"IF(ISBLANK('Control Sheet'!E299),\"\",'Control Sheet'!E299&\" (\"&'Control Sheet'!F299&\")\")","v":""},"","","","","","","","","","","","","",null,"","","","","","","","","","","","","","","","","","","","","","","","","","","","","","","","","","","","","","","","","","",{"$f":"IF(A319=\"\",\"\",MAX(IF(ISERROR(AU319:BF319),0,AU319:BF319)))","v":""},"","","","","","","","","","","","","","","","","","","","","","","","","","","","","","","","","","","","","","","","","","","","",""]
[{"$f":"IF(ISBLANK('Control Sheet'!D302),\"\",'Control Sheet'!D302)","v":""},{"$f":"IF(ISBLANK('Control Sheet'!E302),\"\",'Control Sheet'!E302&\" (\"&'Control Sheet'!F302&\")\")","v":""},"","","","","","","","","","","","","",null,"","","","","","","","","","","","","","","","","","","","","","","","","","","","","","","","","","","","","","","","","","",{"$f":"IF(A322=\"\",\"\",MAX(IF(ISERROR(AU322:BF322),0,AU322:BF322)))","v":""},"","","","","","","","","","","","","","","","","","","","","","","","","","","","","","","","","","","","","","","","","","","","",""]
[{"$f":"IF(ISBLANK('Control Sheet'!D305),\"\",'Control Sheet'!D305)","v":""},{"$f":"IF(ISBLANK('Control Sheet'!E305),\"\",'Control Sheet'!E305&\" (\"&'Control Sheet'!F305&\")\")","v":""},"","","","","","","","","","","","","",null,"","","","","","","","","","","","","","","","","","","","","","","","","","","","","","","","","","","","","","","","","","",{"$f":"IF(A325=\"\",\"\",MAX(IF(ISERROR(AU325:BF325),0,AU325:BF325)))","v":""},"","","","","","","","","","","","","","","","","","","","","","","","","","","","","","","","","","","","","","","","","","","","",""]
[{"$f":"IF(ISBLANK('Control Sheet'!D309),\"\",'Control Sheet'!D309)","v":""},{"$f":"IF(ISBLANK('Control Sheet'!E309),\"\",'Control Sheet'!E309&\" (\"&'Control Sheet'!F309&\")\")","v":""},"","","","","","","","","","","","","",null,"","","","","","","","","","","","","","","","","","","","","","","","","","","","","","","","","","","","","","","","","","",{"$f":"IF(A329=\"\",\"\",MAX(IF(ISERROR(AU329:BF329),0,AU329:BF329)))","v":""},"","","","","","","","","","","","","","","","","","","","","","","","","","","","","","","","","","","","","","","","","","","","",""]
[{"$f":"IF(ISBLANK('Control Sheet'!D311),\"\",'Control Sheet'!D311)","v":""},{"$f":"IF(ISBLANK('Control Sheet'!E311),\"\",'Control Sheet'!E311&\" (\"&'Control Sheet'!F311&\")\")","v":""},{"$f":"IF(C$18=1,IF(ISNA(VLOOKUP($A331,INDIRECT(C$20),NMS_col,FALSE)),\"\",VLOOKUP($A331,INDIRECT(C$20),NMS_col,FALSE)),\"\")","v":""},"","","","","","","","","","","","",null,"","","","","","","","","","","","","","","","","","","","","","","","","","","","","","","","","","","","","","","","","","",{"$f":"IF(A331=\"\",\"\",MAX(IF(ISERROR(AU331:BF331),0,AU331:BF331)))","v":""},"","","","","","","","","","","","","","","","","","","","","","","","","","","","","","","","","","","","","","","","","","","","",""]
[{"$f":"IF(ISBLANK('Control Sheet'!D312),\"\",'Control Sheet'!D312)","v":""},{"$f":"IF(ISBLANK('Control Sheet'!E312),\"\",'Control Sheet'!E312&\" (\"&'Control Sheet'!F312&\")\")","v":""},"","","","","","","","","","","","","",null,"","","","","","","","","","","","","","","","","","","","","","","","","","","","","","","","","","","","","","","","","","",{"$f":"IF(A332=\"\",\"\",MAX(IF(ISERROR(AU332:BF332),0,AU332:BF332)))","v":""},"","","","","","","","","","","","","","","","","","","","","","","","","","","","","","","","","","","","","","","","","","","","",""]
[{"$f":"IF(ISBLANK('Control Sheet'!D315),\"\",'Control Sheet'!D315)","v":""},{"$f":"IF(ISBLANK('Control Sheet'!E315),\"\",'Control Sheet'!E315&\" (\"&'Control Sheet'!F315&\")\")","v":""},"","","","","","","","","","","","","",null,"","","","","","","","","","","","","","","","","","","","","","","","","","","","","","","","","","","","","","","","","","",{"$f":"IF(A335=\"\",\"\",MAX(IF(ISERROR(AU335:BF335),0,AU335:BF335)))","v":""},"","","","","","","","","","","","","","","","","","","","","","","","","","","","","","","","","","","","","","","","","","","","",""]
[{"$f":"IF(ISBLANK('Control Sheet'!D318),\"\",'Control Sheet'!D318)","v":""},{"$f":"IF(ISBLANK('Control Sheet'!E318),\"\",'Control Sheet'!E318&\" (\"&'Control Sheet'!F318&\")\")","v":""},"","","","","","","","","","","","","",null,"","","","","","","","","","","","","","","","","","","","","","","","","","","","","","","","","","","","","","","","","","",{"$f":"IF(A338=\"\",\"\",MAX(IF(ISERROR(AU338:BF338),0,AU338:BF338)))","v":""},"","","","","","","","","","","","","","","","","","","","","","","","","","","","","","","","","","","","","","","","","","","","",""]
[{"$f":"IF(ISBLANK('Control Sheet'!D322),\"\",'Control Sheet'!D322)","v":""},{"$f":"IF(ISBLANK('Control Sheet'!E322),\"\",'Control Sheet'!E322&\" (\"&'Control Sheet'!F322&\")\")","v":""},"","","","","","","","","","","","",{"$f":"IF(A342=\"\",\"\",SUM(C342:N342))","v":""},null,{"$f":"IF(A342=\"\",\"\",IF(BG342<=400,\"No\",\"Yes\"))","v":""},"",{"$f":"IF(C342=\"\",\"\",IF(C342<=C$10,1,IF(C342<=C$7,2,IF(C342<=C$8,3,IF(C342<=C$9,4,IF(C342<=C$11,5,60))))))","v":""},{"$f":"IF(D342=\"\",\"\",IF(D342<=D$10,1,IF(D342<=D$7,2,IF(D342<=D$8,3,IF(D342<=D$9,4,IF(D342<=D$11,5,60))))))","v":""},{"$f":"IF(E342=\"\",\"\",IF(E342<=E$10,1,IF(E342<=E$7,2,IF(E342<=E$8,3,IF(E342<=E$9,4,IF(E342<=E$11,5,60))))))","v":""},{"$f":"IF(F342=\"\",\"\",IF(F342<=F$10,1,IF(F342<=F$7,2,IF(F342<=F$8,3,IF(F342<=F$9,4,IF(F342<=F$11,5,60))))))","v":""},{"$f":"IF(G342=\"\",\"\",IF(G342<=G$10,1,IF(G342<=G$7,2,IF(G342<=G$8,3,IF(G342<=G$9,4,IF(G342<=G$11,5,60))))))","v":""},{"$f":"IF(H342=\"\",\"\",IF(H342<=H$10,1,IF(H342<=H$7,2,IF(H342<=H$8,3,IF(H342<=H$9,4,IF(H342<=H$11,5,60))))))","v":""},{"$f":"IF(I342=\"\",\"\",IF(I342<=I$10,1,IF(I342<=I$7,2,IF(I342<=I$8,3,IF(I342<=I$9,4,IF(I342<=I$11,5,60))))))","v":""},{"$f":"IF(J342=\"\",\"\",IF(J342<=J$10,1,IF(J342<=J$7,2,IF(J342<=J$8,3,IF(J342<=J$9,4,IF(J342<=J$11,5,60))))))","v":""},{"$f":"IF(K342=\"\",\"\",IF(K342<=K$10,1,IF(K342<=K$7,2,IF(K342<=K$8,3,IF(K342<=K$9,4,IF(K342<=K$11,5,60))))))","v":""},{"$f":"IF(L342=\"\",\"\",IF(L342<=L$10,1,IF(L342<=L$7,2,IF(L342<=L$8,3,IF(L342<=L$9,4,IF(L342<=L$11,5,60))))))","v":""},{"$f":"IF(M342=\"\",\"\",IF(M342<=M$10,1,IF(M342<=M$7,2,IF(M342<=M$8,3,IF(M342<=M$9,4,IF(M342<=M$11,5,60))))))","v":""},{"$f":"IF(N342=\"\",\"\",IF(N342<=N$10,1,IF(N342<=N$7,2,IF(N342<=N$8,3,IF(N342<=N$9,4,IF(N342<=N$11,5,60))))))","v":""},{"$f":"IF(A342=\"\",\"\",SUM(S342:AD342))","v":""},{"$f":"IF(OR(A342=\"\",AE342=0),\"\",AE342/(O$18--R342))","v":""},{"$f":"IF(AF342=\"\",\"\",IF(AF342<=1,\"Lower Outlier\",IF(AF342<=2,\"Below Average\",IF(AF342<=3,\"Lower Quartile\",IF(AF342<=4,\"Upper Quartile\",IF(AF342<=5, \"Above Average\", \"Upper Outlier\"))))))","v":""},{"$f":"IF(C$18=1,C342,\"\")","v":""},{"$f":"IF(D$18=1,IF(D342=\"\",IF(AH342=\"\",\"\",AH342),IF(AND(D342>=0,AH342=\"\"),D342,IF(ISERROR(D342+AH342),#N/A,D342+AH342))),\"\")","v":""},{"$f":"IF(E$18=1,IF(E342=\"\",IF(AI342=\"\",\"\",AI342),IF(AND(E342>=0,AI342=\"\"),E342,IF(ISERROR(E342+AI342),#N/A,E342+AI342))),\"\")","v":""},{"$f":"IF(F$18=1,IF(F342=\"\",IF(AJ342=\"\",\"\",AJ342),IF(AND(F342>=0,AJ342=\"\"),F342,IF(ISERROR(F342+AJ342),#N/A,F342+AJ342))),\"\")","v":""},{"$f":"IF(G$18=1,IF(G342=\"\",IF(AK342=\"\",\"\",AK342),IF(AND(G342>=0,AK342=\"\"),G342,IF(ISERROR(G342+AK342),#N/A,G342+AK342))),\"\")","v":""},{"$f":"IF(H$18=1,IF(H342=\"\",IF(AL342=\"\",\"\",AL342),IF(AND(H342>=0,AL342=\"\"),H342,IF(ISERROR(H342+AL342),#N/A,H342+AL342))),\"\")","v":""},{"$f":"IF(I$18=1,IF(I342=\"\",IF(AM342=\"\",\"\",AM342),IF(AND(I342>=0,AM342=\"\"),I342,IF(ISERROR(I342+AM342),#N/A,I342+AM342))),\"\")","v":""},{"$f":"IF(J$18=1,IF(J342=\"\",IF(AN342=\"\",\"\",AN342),IF(AND(J342>=0,AN342=\"\"),J342,IF(ISERROR(J342+AN342),#N/A,J342+AN342))),\"\")","v":""},{"$f":"IF(K$18=1,IF(K342=\"\",IF(AO342=\"\",\"\",AO342),IF(AND(K342>=0,AO342=\"\"),K342,IF(ISERROR(K342+AO342),#N/A,K342+AO342))),\"\")","v":""},{"$f":"IF(L$18=1,IF(L342=\"\",IF(AP342=\"\",\"\",AP342),IF(AND(L342>=0,AP342=\"\"),L342,IF(ISERROR(L342+AP342),#N/A,L342+AP342))),\"\")","v":""},{"$f":"IF(M$18=1,IF(M342=\"\",IF(AQ342=\"\",\"\",AQ342),IF(AND(M342>=0,AQ342=\"\"),M342,IF(ISERROR(M342+AQ342),#N/A,M342+AQ342))),\"\")","v":""},{"$f":"IF(N$18=1,IF(N342=\"\",IF(AR342=\"\",\"\",AR342),IF(AND(N342>=0,AR342=\"\"),N342,IF(ISERROR(N342+AR342),#N/A,N342+AR342))),\"\")","v":""},{"$f":"IF(A342=\"\",\"\",MAX(AH342:AS342))","v":""},"","","","","","","","","","","","",{"$f":"IF(A342=\"\",\"\",MAX(IF(ISERROR(AU342:BF342),0,AU342:BF342)))","v":""},"","","","","","","","","","","","",{"$f":"IF(A342=\"\",\"\",SUM(BH342:BS342))","v":""},{"$f":"IF(A342=\"\",\"\",MIN(B342:M342))","v":""},{"$f":"IF(A342=\"\",\"\",MAX(B342:M342))","v":""},{"$f":"IF(A342=\"\",\"\",BV342-BU342)","v":""},"",{"$f":"IF(A342=\"\",\"\",(COUNTA(C342:N342)-COUNTBLANK(C342:N342)))","v":""},{"$f":"IF(A342=\"\",\"\",BY342-COUNTIF(C342:N342,\"=0\"))","v":""},"","","","","","","","","","","","",{"$f":"IF(A342=\"\",\"\",SUM(CA342:CL342))","v":""},"","","","","","","","","","","","",{"$f":"IF(A342=\"\",\"\",SUM(CN342:CY342))","v":""}]
[{"$f":"IF(ISBLANK('Control Sheet'!D325),\"\",'Control Sheet'!D325)","v":""},{"$f":"IF(ISBLANK('Control Sheet'!E325),\"\",'Control Sheet'!E325&\" (\"&'Control Sheet'!F325&\")\")","v":""},"","","","","","","","","","","","","",null,"","","","","","","","","","","","","","","","","","","","","","","","","","","","","","","","","","","","","","","","","","",{"$f":"IF(A345=\"\",\"\",MAX(IF(ISERROR(AU345:BF345),0,AU345:BF345)))","v":""},"","","","","","","","","","","","","","","","","","","","","","","","","","","","","","","","","","","","","","","","","","","","",""]
[{"$f":"IF(ISBLANK('Control Sheet'!D328),\"\",'Control Sheet'!D328)","v":""},{"$f":"IF(ISBLANK('Control Sheet'!E328),\"\",'Control Sheet'!E328&\" (\"&'Control Sheet'!F328&\")\")","v":""},"","","","","","","","","","","","","",null,"","","","","","","","","","","","","","","","","","","","","","","","","","","","","","","","","","","","","","","","","","",{"$f":"IF(A348=\"\",\"\",MAX(IF(ISERROR(AU348:BF348),0,AU348:BF348)))","v":""},"","","","","","","","","","","","","","","","","","","","","","","","","","","","","","","","","","","","","","","","","","","","",""]
[{"$f":"IF(ISBLANK('Control Sheet'!D331),\"\",'Control Sheet'!D331)","v":""},{"$f":"IF(ISBLANK('Control Sheet'!E331),\"\",'Control Sheet'!E331&\" (\"&'Control Sheet'!F331&\")\")","v":""},{"$f":"IF(C$18=1,IF(ISNA(VLOOKUP($A351,INDIRECT(C$20),NMS_col,FALSE)),\"\",VLOOKUP($A351,INDIRECT(C$20),NMS_col,FALSE)),\"\")","v":""},"","","","","","","","","","","","",null,"","","","","","","","","","","","","","","","","","","","","","","","","","","","","","","","","","","","","","","","","","",{"$f":"IF(A351=\"\",\"\",MAX(IF(ISERROR(AU351:BF351),0,AU351:BF351)))","v":""},"","","","","","","","","","","","","","","","","","","","","","","","","","","","","","","","","","","","","","","","","","","","",""]
[{"$f":"IF(ISBLANK('Control Sheet'!D334),\"\",'Control Sheet'!D334)","v":""},{"$f":"IF(ISBLANK('Control Sheet'!E334),\"\",'Control Sheet'!E334&\" (\"&'Control Sheet'!F334&\")\")","v":""},"","","","","","","","","","","","","",null,"","","","","","","","","","","","","","","","","","","","","","","","","","","","","","","","","","","","","","","","","","",{"$f":"IF(A354=\"\",\"\",MAX(IF(ISERROR(AU354:BF354),0,AU354:BF354)))","v":""},"","","","","","","","","","","","","","","","","","","","","","","","","","","","","","","","","","","","","","","","","","","","",""]
[{"$f":"IF(ISBLANK('Control Sheet'!D335),\"\",'Control Sheet'!D335)","v":""},{"$f":"IF(ISBLANK('Control Sheet'!E335),\"\",'Control Sheet'!E335&\" (\"&'Control Sheet'!F335&\")\")","v":""},"","","","","","","","","","","","","",null,"","","","","","","","","","","","","","","","","","","","","","","","","","","","","","","","","","","","","","","","","","",{"$f":"IF(A355=\"\",\"\",MAX(IF(ISERROR(AU355:BF355),0,AU355:BF355)))","v":""},"","","","","","","","","","","","","","","","","","","","","","","","","","","","","","","","","","","","","","","","","","","","",""]
[{"$f":"IF(ISBLANK('Control Sheet'!D338),\"\",'Control Sheet'!D338)","v":""},{"$f":"IF(ISBLANK('Control Sheet'!E338),\"\",'Control Sheet'!E338&\" (\"&'Control Sheet'!F338&\")\")","v":""},"","","","","","","","","","","","","",null,"","","","","","","","","","","","","","","","","","","","","","","","","","","","","","","","","","","","","","","","","","",{"$f":"IF(A358=\"\",\"\",MAX(IF(ISERROR(AU358:BF358),0,AU358:BF358)))","v":""},"","","","","","","","","","","","","","","","","","","","","","","","","","","","","","","","","","","","","","","","","","","","",""]
[{"$f":"IF(ISBLANK('Control Sheet'!D341),\"\",'Control Sheet'!D341)","v":""},{"$f":"IF(ISBLANK('Control Sheet'!E341),\"\",'Control Sheet'!E341&\" (\"&'Control Sheet'!F341&\")\")","v":""},{"$f":"IF(C$18=1,IF(ISNA(VLOOKUP($A361,INDIRECT(C$20),NMS_col,FALSE)),\"\",VLOOKUP($A361,INDIRECT(C$20),NMS_col,FALSE)),\"\")","v":""},"","","","","","","","","","","","",null,"","","","","","","","","","","","","","","","","","","","","","","","","","","","","","","","","","","","","","","","","","",{"$f":"IF(A361=\"\",\"\",MAX(IF(ISERROR(AU361:BF361),0,AU361:BF361)))","v":""},"","","","","","","","","","","","","","","","","","","","","","","","","","","","","","","","","","","","","","","","","","","","",""]
[{"$f":"IF(ISBLANK('Control Sheet'!D344),\"\",'Control Sheet'!D344)","v":""},{"$f":"IF(ISBLANK('Control Sheet'!E344),\"\",'Control Sheet'!E344&\" (\"&'Control Sheet'!F344&\")\")","v":""},"","","","","","","","","","","","","",null,"","","","","","","","","","","","","","","","","","","","","","","","","","","","","","","","","","","","","","","","","","",{"$f":"IF(A364=\"\",\"\",MAX(IF(ISERROR(AU364:BF364),0,AU364:BF364)))","v":""},"","","","","","","","","","","","","","","","","","","","","","","","","","","","","","","","","","","","","","","","","","","","",""]
[{"$f":"IF(ISBLANK('Control Sheet'!D347),\"\",'Control Sheet'!D347)","v":""},{"$f":"IF(ISBLANK('Control Sheet'!E347),\"\",'Control Sheet'!E347&\" (\"&'Control Sheet'!F347&\")\")","v":""},"","","","","","","","","","","","","",null,"","","","","","","","","","","","","","","","","","","","","","","","","","","","","","","","","","","","","","","","","","",{"$f":"IF(A367=\"\",\"\",MAX(IF(ISERROR(AU367:BF367),0,AU367:BF367)))","v":""},"","","","","","","","","","","","","","","","","","","","","","","","","","","","","","","","","","","","","","","","","","","","",""]
[{"$f":"IF(ISBLANK('Control Sheet'!D351),\"\",'Control Sheet'!D351)","v":""},{"$f":"IF(ISBLANK('Control Sheet'!E351),\"\",'Control Sheet'!E351&\" (\"&'Control Sheet'!F351&\")\")","v":""},{"$f":"IF(C$18=1,IF(ISNA(VLOOKUP($A371,INDIRECT(C$20),NMS_col,FALSE)),\"\",VLOOKUP($A371,INDIRECT(C$20),NMS_col,FALSE)),\"\")","v":""},"","","","","","","","","","","","",null,"","","","","","","","","","","","","","","","","","","","","","","","","","","","","","","","","","","","","","","","","","",{"$f":"IF(A371=\"\",\"\",MAX(IF(ISERROR(AU371:BF371),0,AU371:BF371)))","v":""},"","","","","","","","","","","","","","","","","","","","","","","","","","","","","","","","","","","","","","","","","","","","",""]
[{"$f":"IF(ISBLANK('Control Sheet'!D354),\"\",'Control Sheet'!D354)","v":""},{"$f":"IF(ISBLANK('Control Sheet'!E354),\"\",'Control Sheet'!E354&\" (\"&'Control Sheet'!F354&\")\")","v":""},"","","","","","","","","","","","","",null,"","","","","","","","","","","","","","","","","","","","","","","","","","","","","","","","","","","","","","","","","","",{"$f":"IF(A374=\"\",\"\",MAX(IF(ISERROR(AU374:BF374),0,AU374:BF374)))","v":""},"","","","","","","","","","","","","","","","","","","","","","","","","","","","","","","","","","","","","","","","","","","","",""]
[{"$f":"IF(ISBLANK('Control Sheet'!D357),\"\",'Control Sheet'!D357)","v":""},{"$f":"IF(ISBLANK('Control Sheet'!E357),\"\",'Control Sheet'!E357&\" (\"&'Control Sheet'!F357&\")\")","v":""},"","","","","","","","","","","","","",null,"","","","","","","","","","","","","","","","","","","","","","","","","","","","","","","","","","","","","","","","","","",{"$f":"IF(A377=\"\",\"\",MAX(IF(ISERROR(AU377:BF377),0,AU377:BF377)))","v":""},"","","","","","","","","","","","","","","","","","","","","","","","","","","","","","","","","","","","","","","","","","","","",""]
[{"$f":"IF(ISBLANK('Control Sheet'!D358),\"\",'Control Sheet'!D358)","v":""},{"$f":"IF(ISBLANK('Control Sheet'!E358),\"\",'Control Sheet'!E358&\" (\"&'Control Sheet'!F358&\")\")","v":""},"","","","","","","","","","","","","",null,"","","","","","","","","","","","","","","","","","","","","","","","","","","","","","","","","","","","","","","","","","",{"$f":"IF(A378=\"\",\"\",MAX(IF(ISERROR(AU378:BF378),0,AU378:BF378)))","v":""},"","","","","","","","","","","","","","","","","","","","","","","","","","","","","","","","","","","","","","","","","","","","",""]
[{"$f":"IF(ISBLANK('Control Sheet'!D360),\"\",'Control Sheet'!D360)","v":""},{"$f":"IF(ISBLANK('Control Sheet'!E360),\"\",'Control Sheet'!E360&\" (\"&'Control Sheet'!F360&\")\")","v":""},"","","","","","","","","","","","","",null,"","","","","","","","","","","","","","","","","","","","","","","","","","","","","","","","","","","","","","","","","","",{"$f":"IF(A380=\"\",\"\",MAX(IF(ISERROR(AU380:BF380),0,AU380:BF380)))","v":""},"","","","","","","","","","","","","","","","","","","","","","","","","","","","","","","","","","","","","","","","","","","","",""]
[{"$f":"IF(ISBLANK('Control Sheet'!D363),\"\",'Control Sheet'!D363)","v":""},{"$f":"IF(ISBLANK('Control Sheet'!E363),\"\",'Control Sheet'!E363&\" (\"&'Control Sheet'!F363&\")\")","v":""},"","","","","","","","","","","","","",null,"","","","","","","","","","","","","","","","","","","","","","","","","","","","","","","","","","","","","","","","","","",{"$f":"IF(A383=\"\",\"\",MAX(IF(ISERROR(AU383:BF383),0,AU383:BF383)))","v":""},"","","","","","","","","","","","","","","","","","","","","","","","","","","","","","","","","","","","","","","","","","","","",""]
[{"$f":"IF(ISBLANK('Control Sheet'!D367),\"\",'Control Sheet'!D367)","v":""},{"$f":"IF(ISBLANK('Control Sheet'!E367),\"\",'Control Sheet'!E367&\" (\"&'Control Sheet'!F367&\")\")","v":""},"","","","","","","","","","","","","",null,"","","","","","","","","","","","","","","","","","","","","","","","","","","","","","","","","","","","","","","","","","",{"$f":"IF(A387=\"\",\"\",MAX(IF(ISERROR(AU387:BF387),0,AU387:BF387)))","v":""},"","","","","","","","","","","","","","","","","","","","","","","","","","","","","","","","","","","","","","","","","","","","",""]
[{"$f":"IF(ISBLANK('Control Sheet'!D370),\"\",'Control Sheet'!D370)","v":""},{"$f":"IF(ISBLANK('Control Sheet'!E370),\"\",'Control Sheet'!E370&\" (\"&'Control Sheet'!F370&\")\")","v":""},"","","","","","","","","","","","","",null,"","","","","","","","","","","","","","","","","","","","","","","","","","","","","","","","","","","","","","","","","","",{"$f":"IF(A390=\"\",\"\",MAX(IF(ISERROR(AU390:BF390),0,AU390:BF390)))","v":""},"","","","","","","","","","","","","","","","","","","","","","","","","","","","","","","","","","","","","","","","","","","","",""]
[{"$f":"IF(ISBLANK('Control Sheet'!D374),\"\",'Control Sheet'!D374)","v":""},{"$f":"IF(ISBLANK('Control Sheet'!E374),\"\",'Control Sheet'!E374&\" (\"&'Control Sheet'!F374&\")\")","v":""},"","","","","","","","","","","","","",null,"","","","","","","","","","","","","","","","","","","","","","","","","","","","","","","","","","","","","","","","","","",{"$f":"IF(A394=\"\",\"\",MAX(IF(ISERROR(AU394:BF394),0,AU394:BF394)))","v":""},"","","","","","","","","","","","","","","","","","","","","","","","","","","","","","","","","","","","","","","","","","","","",""]
[{"$f":"IF(ISBLANK('Control Sheet'!D375),\"\",'Control Sheet'!D375)","v":""},{"$f":"IF(ISBLANK('Control Sheet'!E375),\"\",'Control Sheet'!E375&\" (\"&'Control Sheet'!F375&\")\")","v":""},"","","","","","","","","","","","","",null,"","","","","","","","","","","","","","","","","","","","","","","","","","","","","","","","","","","","","","","","","","",{"$f":"IF(A395=\"\",\"\",MAX(IF(ISERROR(AU395:BF395),0,AU395:BF395)))","v":""},"","","","","","","","","","","","","","","","","","","","","","","","","","","","","","","","","","","","","","","","","","","","",""]
[{"$f":"IF(ISBLANK('Control Sheet'!D379),\"\",'Control Sheet'!D379)","v":""},{"$f":"IF(ISBLANK('Control Sheet'!E379),\"\",'Control Sheet'!E379&\" (\"&'Control Sheet'!F379&\")\")","v":""},"","","","","","","","","","","","","",null,"","","","","","","","","","","","","","","","","","","","","","","","","","","","","","","","","","","","","","","","","","",{"$f":"IF(A399=\"\",\"\",MAX(IF(ISERROR(AU399:BF399),0,AU399:BF399)))","v":""},"","","","","","","","","","","","","","","","","","","","","","","","","","","","","","","","","","","","","","","","","","","","",""]
[{"$f":"IF(ISBLANK('Control Sheet'!D380),\"\",'Control Sheet'!D380)","v":""},{"$f":"IF(ISBLANK('Control Sheet'!E380),\"\",'Control Sheet'!E380&\" (\"&'Control Sheet'!F380&\")\")","v":""},"","","","","","","","","","","","","",null,"","","","","","","","","","","","","","","","","","","","","","","","","","","","","","","","","","","","","","","","","","",{"$f":"IF(A400=\"\",\"\",MAX(IF(ISERROR(AU400:BF400),0,AU400:BF400)))","v":""},"","","","","","","","","","","","","","","","","","","","","","","","","","","","","","","","","","","","","","","","","","","","",""]
[{"$f":"IF(ISBLANK('Control Sheet'!D383),\"\",'Control Sheet'!D383)","v":""},{"$f":"IF(ISBLANK('Control Sheet'!E383),\"\",'Control Sheet'!E383&\" (\"&'Control Sheet'!F383&\")\")","v":""},"","","","","","","","","","","","","",null,"","","","","","","","","","","","","","","","","","","","","","","","","","","","","","","","","","","","","","","","","","",{"$f":"IF(A403=\"\",\"\",MAX(IF(ISERROR(AU403:BF403),0,AU403:BF403)))","v":""},"","","","","","","","","","","","","","","","","","","","","","","","","","","","","","","","","","","","","","","","","","","","",""]
[{"$f":"IF(ISBLANK('Control Sheet'!D387),\"\",'Control Sheet'!D387)","v":""},{"$f":"IF(ISBLANK('Control Sheet'!E387),\"\",'Control Sheet'!E387&\" (\"&'Control Sheet'!F387&\")\")","v":""},"","","","","","","","","","","","","",null,"","","","","","","","","","","","","","","","","","","","","","","","","","","","","","","","","","","","","","","","","","",{"$f":"IF(A407=\"\",\"\",MAX(IF(ISERROR(AU407:BF407),0,AU407:BF407)))","v":""},"","","","","","","","","","","","","","","","","","","","","","","","","","","","","","","","","","","","","","","","","","","","",""]
[{"$f":"IF(ISBLANK('Control Sheet'!D390),\"\",'Control Sheet'!D390)","v":""},{"$f":"IF(ISBLANK('Control Sheet'!E390),\"\",'Control Sheet'!E390&\" (\"&'Control Sheet'!F390&\")\")","v":""},"","","","","","","","","","","","","",null,"","","","","","","","","","","","","","","","","","","","","","","","","","","","","","","","","","","","","","","","","","",{"$f":"IF(A410=\"\",\"\",MAX(IF(ISERROR(AU410:BF410),0,AU410:BF410)))","v":""},"","","","","","","","","","","","","","","","","","","","","","","","","","","","","","","","","","","","","","","","","","","","",""]
[{"$f":"IF(ISBLANK('Control Sheet'!D392),\"\",'Control Sheet'!D392)","v":""},{"$f":"IF(ISBLANK('Control Sheet'!E392),\"\",'Control Sheet'!E392&\" (\"&'Control Sheet'!F392&\")\")","v":""},"","","","","","","","","","","","","",null,"","","","","","","","","","","","","","","","","","","","","","","","","","","","","","","","","","","","","","","","","","",{"$f":"IF(A412=\"\",\"\",MAX(IF(ISERROR(AU412:BF412),0,AU412:BF412)))","v":""},"","","","","","","","","","","","","","","","","","","","","","","","","","","","","","","","","","","","","","","","","","","","",""]
[{"$f":"IF(ISBLANK('Control Sheet'!D396),\"\",'Control Sheet'!D396)","v":""},{"$f":"IF(ISBLANK('Control Sheet'!E396),\"\",'Control Sheet'!E396&\" (\"&'Control Sheet'!F396&\")\")","v":""},"","","","","","","","","","","","","",null,"","","","","","","","","","","","","","","","","","","","","","","","","","","","","","","","","","","","","","","","","","",{"$f":"IF(A416=\"\",\"\",MAX(IF(ISERROR(AU416:BF416),0,AU416:BF416)))","v":""},"","","","","","","","","","","","","","","","","","","","","","","","","","","","","","","","","","","","","","","","","","","","",""]
[{"$f":"IF(ISBLANK('Control Sheet'!D399),\"\",'Control Sheet'!D399)","v":""},{"$f":"IF(ISBLANK('Control Sheet'!E399),\"\",'Control Sheet'!E399&\" (\"&'Control Sheet'!F399&\")\")","v":""},"","","","","","","","","","","","","",null,"","","","","","","","","","","","","","","","","","","","","","","","","","","","","","","","","","","","","","","","","","",{"$f":"IF(A419=\"\",\"\",MAX(IF(ISERROR(AU419:BF419),0,AU419:BF419)))","v":""},"","","","","","","","","","","","","","","","","","","","","","","","","","","","","","","","","","","","","","","","","","","","",""]
[{"$f":"IF(ISBLANK('Control Sheet'!D402),\"\",'Control Sheet'!D402)","v":""},{"$f":"IF(ISBLANK('Control Sheet'!E402),\"\",'Control Sheet'!E402&\" (\"&'Control Sheet'!F402&\")\")","v":""},"","","","","","","","","","","","","",null,"","","","","","","","","","","","","","","","","","","","","","","","","","","","","","","","","","","","","","","","","","",{"$f":"IF(A422=\"\",\"\",MAX(IF(ISERROR(AU422:BF422),0,AU422:BF422)))","v":""},"","","","","","","","","","","","","","","","","","","","","","","","","","","","","","","","","","","","","","","","","","","","",""]
[{"$f":"IF(ISBLANK('Control Sheet'!D403),\"\",'Control Sheet'!D403)","v":""},{"$f":"IF(ISBLANK('Control Sheet'!E403),\"\",'Control Sheet'!E403&\" (\"&'Control Sheet'!F403&\")\")","v":""},"","","","","","","","","","","","","",null,"","","","","","","","","","","","","","","","","","","","","","","","","","","","","","","","","","","","","","","","","","",{"$f":"IF(A423=\"\",\"\",MAX(IF(ISERROR(AU423:BF423),0,AU423:BF423)))","v":""},"","","","","","","","","","","","","","","","","","","","","","","","","","","","","","","","","","","","","","","","","","","","",""]
[{"$f":"IF(ISBLANK('Control Sheet'!D407),\"\",'Control Sheet'!D407)","v":""},{"$f":"IF(ISBLANK('Control Sheet'!E407),\"\",'Control Sheet'!E407&\" (\"&'Control Sheet'!F407&\")\")","v":""},"","","","","","","","","","","","","",null,"","","","","","","","","","","","","","","","","","","","","","","","","","","","","","","","","","","","","","","","","","",{"$f":"IF(A427=\"\",\"\",MAX(IF(ISERROR(AU427:BF427),0,AU427:BF427)))","v":""},"","","","","","","","","","","","","","","","","","","","","","","","","","","","","","","","","","","","","","","","","","","","",""]
[{"$f":"IF(ISBLANK('Control Sheet'!D409),\"\",'Control Sheet'!D409)","v":""},{"$f":"IF(ISBLANK('Control Sheet'!E409),\"\",'Control Sheet'!E409&\" (\"&'Control Sheet'!F409&\")\")","v":""},"","","","","","","","","","","","","",null,"","","","","","","","","","","","","","","","","","","","","","","","","","","","","","","","","","","","","","","","","","",{"$f":"IF(A429=\"\",\"\",MAX(IF(ISERROR(AU429:BF429),0,AU429:BF429)))","v":""},"","","","","","","","","","","","","","","","","","","","","","","","","","","","","","","","","","","","","","","","","","","","",""]
[{"$f":"IF(ISBLANK('Control Sheet'!D412),\"\",'Control Sheet'!D412)","v":""},{"$f":"IF(ISBLANK('Control Sheet'!E412),\"\",'Control Sheet'!E412&\" (\"&'Control Sheet'!F412&\")\")","v":""},"","","","","","","","","","","","","",null,"","","","","","","","","","","","","","","","","","","","","","","","","","","","","","","","","","","","","","","","","","",{"$f":"IF(A432=\"\",\"\",MAX(IF(ISERROR(AU432:BF432),0,AU432:BF432)))","v":""},"","","","","","","","","","","","","","","","","","","","","","","","","","","","","","","","","","","","","","","","","","","","",""]
[{"$f":"IF(ISBLANK('Control Sheet'!D415),\"\",'Control Sheet'!D415)","v":""},{"$f":"IF(ISBLANK('Control Sheet'!E415),\"\",'Control Sheet'!E415&\" (\"&'Control Sheet'!F415&\")\")","v":""},"","","","","","","","","","","","","",null,"","","","","","","","","","","","","","","","","","","","","","","","","","","","","","","","","","","","","","","","","","",{"$f":"IF(A435=\"\",\"\",MAX(IF(ISERROR(AU435:BF435),0,AU435:BF435)))","v":""},"","","","","","","","","","","","","","","","","","","","","","","","","","","","","","","","","","","","","","","","","","","","",""]
[{"$f":"IF(ISBLANK('Control Sheet'!D419),\"\",'Control Sheet'!D419)","v":""},{"$f":"IF(ISBLANK('Control Sheet'!E419),\"\",'Control Sheet'!E419&\" (\"&'Control Sheet'!F419&\")\")","v":""},"","","","","","","","","","","","","",null,"","","","","","","","","","","","","","","","","","","","","","","","","","","","","","","","","","","","","","","","","","",{"$f":"IF(A439=\"\",\"\",MAX(IF(ISERROR(AU439:BF439),0,AU439:BF439)))","v":""},"","","","","","","","","","","","","","","","","","","","","","","","","","","","","","","","","","","","","","","","","","","","",""]
[{"$f":"IF(ISBLANK('Control Sheet'!D422),\"\",'Control Sheet'!D422)","v":""},{"$f":"IF(ISBLANK('Control Sheet'!E422),\"\",'Control Sheet'!E422&\" (\"&'Control Sheet'!F422&\")\")","v":""},"","","","","","","","","","","","","",null,"","","","","","","","","","","","","","","","","","","","","","","","","","","","","","","","","","","","","","","","","","",{"$f":"IF(A442=\"\",\"\",MAX(IF(ISERROR(AU442:BF442),0,AU442:BF442)))","v":""},"","","","","","","","","","","","","","","","","","","","","","","","","","","","","","","","","","","","","","","","","","","","",""]
[{"$f":"IF(ISBLANK('Control Sheet'!D424),\"\",'Control Sheet'!D424)","v":""},{"$f":"IF(ISBLANK('Control Sheet'!E424),\"\",'Control Sheet'!E424&\" (\"&'Control Sheet'!F424&\")\")","v":""},"","","","","","","","","","","","","",null,"","","","","","","","","","","","","","","","","","","","","","","","","","","","","","","","","","","","","","","","","","",{"$f":"IF(A444=\"\",\"\",MAX(IF(ISERROR(AU444:BF444),0,AU444:BF444)))","v":""},"","","","","","","","","","","","","","","","","","","","","","","","","","","","","","","","","","","","","","","","","","","","",""]
[{"$f":"IF(ISBLANK('Control Sheet'!D425),\"\",'Control Sheet'!D425)","v":""},{"$f":"IF(ISBLANK('Control Sheet'!E425),\"\",'Control Sheet'!E425&\" (\"&'Control Sheet'!F425&\")\")","v":""},"","","","","","","","","","","","","",null,"","","","","","","","","","","","","","","","","","","","","","","","","","","","","","","","","","","","","","","","","","",{"$f":"IF(A445=\"\",\"\",MAX(IF(ISERROR(AU445:BF445),0,AU445:BF445)))","v":""},"","","","","","","","","","","","","","","","","","","","","","","","","","","","","","","","","","","","","","","","","","","","",""]
[{"$f":"IF(ISBLANK('Control Sheet'!D428),\"\",'Control Sheet'!D428)","v":""},{"$f":"IF(ISBLANK('Control Sheet'!E428),\"\",'Control Sheet'!E428&\" (\"&'Control Sheet'!F428&\")\")","v":""},"","","","","","","","","","","","","",null,"","","","","","","","","","","","","","","","","","","","","","","","","","","","","","","","","","","","","","","","","","",{"$f":"IF(A448=\"\",\"\",MAX(IF(ISERROR(AU448:BF448),0,AU448:BF448)))","v":""},"","","","","","","","","","","","","","","","","","","","","","","","","","","","","","","","","","","","","","","","","","","","",""]
[{"$f":"IF(ISBLANK('Control Sheet'!D432),\"\",'Control Sheet'!D432)","v":""},{"$f":"IF(ISBLANK('Control Sheet'!E432),\"\",'Control Sheet'!E432&\" (\"&'Control Sheet'!F432&\")\")","v":""},"","","","","","","","","","","","","",null,"","","","","","","","","","","","","","","","","","","","","","","","","","","","","","","","","","","","","","","","","","",{"$f":"IF(A452=\"\",\"\",MAX(IF(ISERROR(AU452:BF452),0,AU452:BF452)))","v":""},"","","","","","","","","","","","","","","","","","","","","","","","","","","","","","","","","","","","","","","","","","","","",""]
[{"$f":"IF(ISBLANK('Control Sheet'!D435),\"\",'Control Sheet'!D435)","v":""},{"$f":"IF(ISBLANK('Control Sheet'!E435),\"\",'Control Sheet'!E435&\" (\"&'Control Sheet'!F435&\")\")","v":""},"","","","","","","","","","","","","",null,"","","","","","","","","","","","","","","","","","","","","","","","","","","","","","","","","","","","","","","","","","",{"$f":"IF(A455=\"\",\"\",MAX(IF(ISERROR(AU455:BF455),0,AU455:BF455)))","v":""},"","","","","","","","","","","","","","","","","","","","","","","","","","","","","","","","","","","","","","","","","","","","",""]
[{"$f":"IF(ISBLANK('Control Sheet'!D437),\"\",'Control Sheet'!D437)","v":""},{"$f":"IF(ISBLANK('Control Sheet'!E437),\"\",'Control Sheet'!E437&\" (\"&'Control Sheet'!F437&\")\")","v":""},"","","","","","","","","","","","","",null,"","","","","","","","","","","","","","","","","","","","","","","","","","","","","","","","","","","","","","","","","","",{"$f":"IF(A457=\"\",\"\",MAX(IF(ISERROR(AU457:BF457),0,AU457:BF457)))","v":""},"","","","","","","","","","","","","","","","","","","","","","","","","","","","","","","","","","","","","","","","","","","","",""]
[{"$f":"IF(ISBLANK('Control Sheet'!D441),\"\",'Control Sheet'!D441)","v":""},{"$f":"IF(ISBLANK('Control Sheet'!E441),\"\",'Control Sheet'!E441&\" (\"&'Control Sheet'!F441&\")\")","v":""},{"$f":"IF(C$18=1,IF(ISNA(VLOOKUP($A461,INDIRECT(C$20),NMS_col,FALSE)),\"\",VLOOKUP($A461,INDIRECT(C$20),NMS_col,FALSE)),\"\")","v":""},"","","","","","","","","","","","",null,"","","","","","","","","","","","","","","","","","","","","","","","","","","","","","","","","","","","","","","","","","",{"$f":"IF(A461=\"\",\"\",MAX(IF(ISERROR(AU461:BF461),0,AU461:BF461)))","v":""},"","","","","","","","","","","","","","","","","","","","","","","","","","","","","","","","","","","","","","","","","","","","",""]
[{"$f":"IF(ISBLANK('Control Sheet'!D444),\"\",'Control Sheet'!D444)","v":""},{"$f":"IF(ISBLANK('Control Sheet'!E444),\"\",'Control Sheet'!E444&\" (\"&'Control Sheet'!F444&\")\")","v":""},"","","","","","","","","","","","","",null,"","","","","","","","","","","","","","","","","","","","","","","","","","","","","","","","","","","","","","","","","","",{"$f":"IF(A464=\"\",\"\",MAX(IF(ISERROR(AU464:BF464),0,AU464:BF464)))","v":""},"","","","","","","","","","","","","","","","","","","","","","","","","","","","","","","","","","","","","","","","","","","","",""]
[{"$f":"IF(ISBLANK('Control Sheet'!D445),\"\",'Control Sheet'!D445)","v":""},{"$f":"IF(ISBLANK('Control Sheet'!E445),\"\",'Control Sheet'!E445&\" (\"&'Control Sheet'!F445&\")\")","v":""},"","","","","","","","","","","","","",null,"","","","","","","","","","","","","","","","","","","","","","","","","","","","","","","","","","","","","","","","","","",{"$f":"IF(A465=\"\",\"\",MAX(IF(ISERROR(AU465:BF465),0,AU465:BF465)))","v":""},"","","","","","","","","","","","","","","","","","","","","","","","","","","","","","","","","","","","","","","","","","","","",""]
[{"$f":"IF(ISBLANK('Control Sheet'!D448),\"\",'Control Sheet'!D448)","v":""},{"$f":"IF(ISBLANK('Control Sheet'!E448),\"\",'Control Sheet'!E448&\" (\"&'Control Sheet'!F448&\")\")","v":""},"","","","","","","","","","","","","",null,"","","","","","","","","","","","","","","","","","","","","","","","","","","","","","","","","","","","","","","","","","",{"$f":"IF(A468=\"\",\"\",MAX(IF(ISERROR(AU468:BF468),0,AU468:BF468)))","v":""},"","","","","","","","","","","","","","","","","","","","","","","","","","","","","","","","","","","","","","","","","","","","",""]
[{"$f":"IF(ISBLANK('Control Sheet'!D451),\"\",'Control Sheet'!D451)","v":""},{"$f":"IF(ISBLANK('Control Sheet'!E451),\"\",'Control Sheet'!E451&\" (\"&'Control Sheet'!F451&\")\")","v":""},{"$f":"IF(C$18=1,IF(ISNA(VLOOKUP($A471,INDIRECT(C$20),NMS_col,FALSE)),\"\",VLOOKUP($A471,INDIRECT(C$20),NMS_col,FALSE)),\"\")","v":""},"","","","","","","","","","","","",null,"","","","","","","","","","","","","","","","","","","","","","","","","","","","","","","","","","","","","","","","","","",{"$f":"IF(A471=\"\",\"\",MAX(IF(ISERROR(AU471:BF471),0,AU471:BF471)))","v":""},"","","","","","","","","","","","","","","","","","","","","","","","","","","","","","","","","","","","","","","","","","","","",""]
[{"$f":"IF(ISBLANK('Control Sheet'!D454),\"\",'Control Sheet'!D454)","v":""},{"$f":"IF(ISBLANK('Control Sheet'!E454),\"\",'Control Sheet'!E454&\" (\"&'Control Sheet'!F454&\")\")","v":""},"","","","","","","","","","","","","",null,"","","","","","","","","","","","","","","","","","","","","","","","","","","","","","","","","","","","","","","","","","",{"$f":"IF(A474=\"\",\"\",MAX(IF(ISERROR(AU474:BF474),0,AU474:BF474)))","v":""},"","","","","","","","","","","","","","","","","","","","","","","","","","","","","","","","","","","","","","","","","","","","",""]
[{"$f":"IF(ISBLANK('Control Sheet'!D457),\"\",'Control Sheet'!D457)","v":""},{"$f":"IF(ISBLANK('Control Sheet'!E457),\"\",'Control Sheet'!E457&\" (\"&'Control Sheet'!F457&\")\")","v":""},"","","","","","","","","","","","","",null,"","","","","","","","","","","","","","","","","","","","","","","","","","","","","","","","","","","","","","","","","","",{"$f":"IF(A477=\"\",\"\",MAX(IF(ISERROR(AU477:BF477),0,AU477:BF477)))","v":""},"","","","","","","","","","","","","","","","","","","","","","","","","","","","","","","","","","","","","","","","","","","","",""]
[{"$f":"IF(ISBLANK('Control Sheet'!D460),\"\",'Control Sheet'!D460)","v":""},{"$f":"IF(ISBLANK('Control Sheet'!E460),\"\",'Control Sheet'!E460&\" (\"&'Control Sheet'!F460&\")\")","v":""},"","","","","","","","","","","","","",null,"","","","","","","","","","","","","","","","","","","","","","","","","","","","","","","","","","","","","","","","","","",{"$f":"IF(A480=\"\",\"\",MAX(IF(ISERROR(AU480:BF480),0,AU480:BF480)))","v":""},"","","","","","","","","","","","","","","","","","","","","","","","","","","","","","","","","","","","","","","","","","","","",""]
[{"$f":"IF(ISBLANK('Control Sheet'!D464),\"\",'Control Sheet'!D464)","v":""},{"$f":"IF(ISBLANK('Control Sheet'!E464),\"\",'Control Sheet'!E464&\" (\"&'Control Sheet'!F464&\")\")","v":""},"","","","","","","","","","","","","",null,"","","","","","","","","","","","","","","","","","","","","","","","","","","","","","","","","","","","","","","","","","",{"$f":"IF(A484=\"\",\"\",MAX(IF(ISERROR(AU484:BF484),0,AU484:BF484)))","v":""},"","","","","","","","","","","","","","","","","","","","","","","","","","","","","","","","","","","","","","","","","","","","",""]
[{"$f":"IF(ISBLANK('Control Sheet'!D467),\"\",'Control Sheet'!D467)","v":""},{"$f":"IF(ISBLANK('Control Sheet'!E467),\"\",'Control Sheet'!E467&\" (\"&'Control Sheet'!F467&\")\")","v":""},"","","","","","","","","","","","","",null,"","","","","","","","","","","","","","","","","","","","","","","","","","","","","","","","","","","","","","","","","","",{"$f":"IF(A487=\"\",\"\",MAX(IF(ISERROR(AU487:BF487),0,AU487:BF487)))","v":""},"","","","","","","","","","","","","","","","","","","","","","","","","","","","","","","","","","","","","","","","","","","","",""]
[{"$f":"IF(ISBLANK('Control Sheet'!D468),\"\",'Control Sheet'!D468)","v":""},{"$f":"IF(ISBLANK('Control Sheet'!E468),\"\",'Control Sheet'!E468&\" (\"&'Control Sheet'!F468&\")\")","v":""},"","","","","","","","","","","","","",null,"","","","","","","","","","","","","","","","","","","","","","","","","","","","","","","","","","","","","","","","","","",{"$f":"IF(A488=\"\",\"\",MAX(IF(ISERROR(AU488:BF488),0,AU488:BF488)))","v":""},"","","","","","","","","","","","","","","","","","","","","","","","","","","","","","","","","","","","","","","","","","","","",""]
[{"$f":"IF(ISBLANK('Control Sheet'!D471),\"\",'Control Sheet'!D471)","v":""},{"$f":"IF(ISBLANK('Control Sheet'!E471),\"\",'Control Sheet'!E471&\" (\"&'Control Sheet'!F471&\")\")","v":""},{"$f":"IF(C$18=1,IF(ISNA(VLOOKUP($A491,INDIRECT(C$20),NMS_col,FALSE)),\"\",VLOOKUP($A491,INDIRECT(C$20),NMS_col,FALSE)),\"\")","v":""},"","","","","","","","","","","","",null,"","","","","","","","","","","","","","","","","","","","","","","","","","","","","","","","","","","","","","","","","","",{"$f":"IF(A491=\"\",\"\",MAX(IF(ISERROR(AU491:BF491),0,AU491:BF491)))","v":""},"","","","","","","","","","","","","","","","","","","","","","","","","","","","","","","","","","","","","","","","","","","","",""]
[{"$f":"IF(ISBLANK('Control Sheet'!D473),\"\",'Control Sheet'!D473)","v":""},{"$f":"IF(ISBLANK('Control Sheet'!E473),\"\",'Control Sheet'!E473&\" (\"&'Control Sheet'!F473&\")\")","v":""},"","","","","","","","","","","","","",null,"","","","","","","","","","","","","","","","","","","","","","","","","","","","","","","","","","","","","","","","","","",{"$f":"IF(A493=\"\",\"\",MAX(IF(ISERROR(AU493:BF493),0,AU493:BF493)))","v":""},"","","","","","","","","","","","","","","","","","","","","","","","","","","","","","","","","","","","","","","","","","","","",""]
[{"$f":"IF(ISBLANK('Control Sheet'!D477),\"\",'Control Sheet'!D477)","v":""},{"$f":"IF(ISBLANK('Control Sheet'!E477),\"\",'Control Sheet'!E477&\" (\"&'Control Sheet'!F477&\")\")","v":""},"","","","","","","","","","","","","",null,"","","","","","","","","","","","","","","","","","","","","","","","","","","","","","","","","","","","","","","","","","",{"$f":"IF(A497=\"\",\"\",MAX(IF(ISERROR(AU497:BF497),0,AU497:BF497)))","v":""},"","","","","","","","","","","","","","","","","","","","","","","","","","","","","","","","","","","","","","","","","","","","",""]
[{"$f":"IF(ISBLANK('Control Sheet'!D480),\"\",'Control Sheet'!D480)","v":""},{"$f":"IF(ISBLANK('Control Sheet'!E480),\"\",'Control Sheet'!E480&\" (\"&'Control Sheet'!F480&\")\")","v":""},"","","","","","","","","","","","","",null,"","","","","","","","","","","","","","","","","","","","","","","","","","","","","","","","","","","","","","","","","","",{"$f":"IF(A500=\"\",\"\",MAX(IF(ISERROR(AU500:BF500),0,AU500:BF500)))","v":""},"","","","","","","","","","","","","","","","","","","","","","","","","","","","","","","","","","","","","","","","","","","","",""]
[{"$f":"IF(ISBLANK('Control Sheet'!D483),\"\",'Control Sheet'!D483)","v":""},{"$f":"IF(ISBLANK('Control Sheet'!E483),\"\",'Control Sheet'!E483&\" (\"&'Control Sheet'!F483&\")\")","v":""},"","","","","","","","","","","","","",null,"","","","","","","","","","","","","","","","","","","","","","","","","","","","","","","","","","","","","","","","","","",{"$f":"IF(A503=\"\",\"\",MAX(IF(ISERROR(AU503:BF503),0,AU503:BF503)))","v":""},"","","","","","","","","","","","","","","","","","","","","","","","","","","","","","","","","","","","","","","","","","","","",""]
[{"$f":"IF(ISBLANK('Control Sheet'!D486),\"\",'Control Sheet'!D486)","v":""},{"$f":"IF(ISBLANK('Control Sheet'!E486),\"\",'Control Sheet'!E486&\" (\"&'Control Sheet'!F486&\")\")","v":""},"","","","","","","","","","","","","",null,"","","","","","","","","","","","","","","","","","","","","","","","","","","","","","","","","","","","","","","","","","",{"$f":"IF(A506=\"\",\"\",MAX(IF(ISERROR(AU506:BF506),0,AU506:BF506)))","v":""},"","","","","","","","","","","","","","","","","","","","","","","","","","","","","","","","","","","","","","","","","","","","",""]
[{"$f":"IF(ISBLANK('Control Sheet'!D489),\"\",'Control Sheet'!D489)","v":""},{"$f":"IF(ISBLANK('Control Sheet'!E489),\"\",'Control Sheet'!E489&\" (\"&'Control Sheet'!F489&\")\")","v":""},"","","","","","","","","","","","","",null,"","","","","","","","","","","","","","","","","","","","","","","","","","","","","","","","","","","","","","","","","","",{"$f":"IF(A509=\"\",\"\",MAX(IF(ISERROR(AU509:BF509),0,AU509:BF509)))","v":""},"","","","","","","","","","","","","","","","","","","","","","","","","","","","","","","","","","","","","","","","","","","","",""]
[{"$f":"IF(ISBLANK('Control Sheet'!D490),\"\",'Control Sheet'!D490)","v":""},{"$f":"IF(ISBLANK('Control Sheet'!E490),\"\",'Control Sheet'!E490&\" (\"&'Control Sheet'!F490&\")\")","v":""},"","","","","","","","","","","","","",null,"","","","","","","","","","","","","","","","","","","","","","","","","","","","","","","","","","","","","","","","","","",{"$f":"IF(A510=\"\",\"\",MAX(IF(ISERROR(AU510:BF510),0,AU510:BF510)))","v":""},"","","","","","","","","","","","","","","","","","","","","","","","","","","","","","","","","","","","","","","","","","","","",""]
[{"$f":"IF(ISBLANK('Control Sheet'!D493),\"\",'Control Sheet'!D493)","v":""},{"$f":"IF(ISBLANK('Control Sheet'!E493),\"\",'Control Sheet'!E493&\" (\"&'Control Sheet'!F493&\")\")","v":""},"","","","","","","","","","","","","",null,"","","","","","","","","","","","","","","","","","","","","","","","","","","","","","","","","","","","","","","","","","",{"$f":"IF(A513=\"\",\"\",MAX(IF(ISERROR(AU513:BF513),0,AU513:BF513)))","v":""},"","","","","","","","","","","","","","","","","","","","","","","","","","","","","","","","","","","","","","","","","","","","",""]
[{"$f":"IF(ISBLANK('Control Sheet'!D496),\"\",'Control Sheet'!D496)","v":""},{"$f":"IF(ISBLANK('Control Sheet'!E496),\"\",'Control Sheet'!E496&\" (\"&'Control Sheet'!F496&\")\")","v":""},"","","","","","","","","","","","","",null,"","","","","","","","","","","","","","","","","","","","","","","","","","","","","","","","","","","","","","","","","","",{"$f":"IF(A516=\"\",\"\",MAX(IF(ISERROR(AU516:BF516),0,AU516:BF516)))","v":""},"","","","","","","","","","","","","","","","","","","","","","","","","","","","","","","","","","","","","","","","","","","","",""]
[{"$f":"IF(ISBLANK('Control Sheet'!D500),\"\",'Control Sheet'!D500)","v":""},{"$f":"IF(ISBLANK('Control Sheet'!E500),\"\",'Control Sheet'!E500&\" (\"&'Control Sheet'!F500&\")\")","v":""},"","","","","","","","","","","","","",null,"","","","","","","","","","","","","","","","","","","","","","","","","","","","","","","","","","","","","","","","","","",{"$f":"IF(A520=\"\",\"\",MAX(IF(ISERROR(AU520:BF520),0,AU520:BF520)))","v":""},"","","","","","","","","","","","","","","","","","","","","","","","","","","","","","","","","","","","","","","","","","","","",""]
[{"$f":"IF(ISBLANK('Control Sheet'!D503),\"\",'Control Sheet'!D503)","v":""},{"$f":"IF(ISBLANK('Control Sheet'!E503),\"\",'Control Sheet'!E503&\" (\"&'Control Sheet'!F503&\")\")","v":""},"","","","","","","","","","","","","",null,"","","","","","","","","","","","","","","","","","","","","","","","","","","","","","","","","","","","","","","","","","",{"$f":"IF(A523=\"\",\"\",MAX(IF(ISERROR(AU523:BF523),0,AU523:BF523)))","v":""},"","","","","","","","","","","","","","","","","","","","","","","","","","","","","","","","","","","","","","","","","","","","",""]
[{"$f":"IF(ISBLANK('Control Sheet'!D506),\"\",'Control Sheet'!D506)","v":""},{"$f":"IF(ISBLANK('Control Sheet'!E506),\"\",'Control Sheet'!E506&\" (\"&'Control Sheet'!F506&\")\")","v":""},"","","","","","","","","","","","","",null,"","","","","","","","","","","","","","","","","","","","","","","","","","","","","","","","","","","","","","","","","","",{"$f":"IF(A526=\"\",\"\",MAX(IF(ISERROR(AU526:BF526),0,AU526:BF526)))","v":""},"","","","","","","","","","","","","","","","","","","","","","","","","","","","","","","","","","","","","","","","","","","","",""]
[{"$f":"IF(ISBLANK('Control Sheet'!D509),\"\",'Control Sheet'!D509)","v":""},{"$f":"IF(ISBLANK('Control Sheet'!E509),\"\",'Control Sheet'!E509&\" (\"&'Control Sheet'!F509&\")\")","v":""},"","","","","","","","","","","","","",null,"","","","","","","","","","","","","","","","","","","","","","","","","","","","","","","","","","","","","","","","","","",{"$f":"IF(A529=\"\",\"\",MAX(IF(ISERROR(AU529:BF529),0,AU529:BF529)))","v":""},"","","","","","","","","","","","","","","","","","","","","","","","","","","","","","","","","","","","","","","","","","","","",""]
[{"$f":"IF(ISBLANK('Control Sheet'!D512),\"\",'Control Sheet'!D512)","v":""},{"$f":"IF(ISBLANK('Control Sheet'!E512),\"\",'Control Sheet'!E512&\" (\"&'Control Sheet'!F512&\")\")","v":""},"","","","","","","","","","","","","",null,"","","","","","","","","","","","","","","","","","","","","","","","","","","","","","","","","","","","","","","","","","",{"$f":"IF(A532=\"\",\"\",MAX(IF(ISERROR(AU532:BF532),0,AU532:BF532)))","v":""},"","","","","","","","","","","","","","","","","","","","","","","","","","","","","","","","","","","","","","","","","","","","",""]
[{"$f":"IF(ISBLANK('Control Sheet'!D513),\"\",'Control Sheet'!D513)","v":""},{"$f":"IF(ISBLANK('Control Sheet'!E513),\"\",'Control Sheet'!E513&\" (\"&'Control Sheet'!F513&\")\")","v":""},"","","","","","","","","","","","","",null,"",{"$f":"IF(A533=\"\",\"\",NMSMonthsPop-(COUNTA(C533:N533)-COUNTBLANK(C533:N533)))","v":""},"","","","","","","","","","","","","","","","","","","","","","","","","","","","",{"$f":"IF(OR(A533=\"\",NMSMonthsPop=0),\"\",IF(AU$18=NMSMonthsPop,AH533,#N/A))","v":""},{"$f":"IF(OR($A533=\"\",NMSMonthsPop=0),\"\",IF(AV$18<NMSMonthsPop,#N/A,IF(AV$18=NMSMonthsPop,AI533,IF(AU533=\"\",\"\",IF(AV$18=NMSMonthsPop+1,AU533+(AU533*VLOOKUP(NMSMonthsPop-$R533,ForecastMult,3,FALSE)/12),AU533+AU533-AT533)))))","v":""},{"$f":"IF(OR($A533=\"\",NMSMonthsPop=0),\"\",IF(AW$18<NMSMonthsPop,#N/A,IF(AW$18=NMSMonthsPop,AJ533,IF(AV533=\"\",\"\",IF(AW$18=NMSMonthsPop+1,AV533+(AV533*VLOOKUP(NMSMonthsPop-$R533,ForecastMult,3,FALSE)/12),AV533+AV533-AU533)))))","v":""},{"$f":"IF(OR($A533=\"\",NMSMonthsPop=0),\"\",IF(AX$18<NMSMonthsPop,#N/A,IF(AX$18=NMSMonthsPop,AK533,IF(AW533=\"\",\"\",IF(AX$18=NMSMonthsPop+1,AW533+(AW533*VLOOKUP(NMSMonthsPop-$R533,ForecastMult,3,FALSE)/12),AW533+AW533-AV533)))))","v":""},{"$f":"IF(OR($A533=\"\",NMSMonthsPop=0),\"\",IF(AY$18<NMSMonthsPop,#N/A,IF(AY$18=NMSMonthsPop,AL533,IF(AX533=\"\",\"\",IF(AY$18=NMSMonthsPop+1,AX533+(AX533*VLOOKUP(NMSMonthsPop-$R533,ForecastMult,3,FALSE)/12),AX533+AX533-AW533)))))","v":""},{"$f":"IF(OR($A533=\"\",NMSMonthsPop=0),\"\",IF(AZ$18<NMSMonthsPop,#N/A,IF(AZ$18=NMSMonthsPop,AM533,IF(AY533=\"\",\"\",IF(AZ$18=NMSMonthsPop+1,AY533+(AY533*VLOOKUP(NMSMonthsPop-$R533,ForecastMult,3,FALSE)/12),AY533+AY533-AX533)))))","v":""},{"$f":"IF(OR($A533=\"\",NMSMonthsPop=0),\"\",IF(BA$18<NMSMonthsPop,#N/A,IF(BA$18=NMSMonthsPop,AN533,IF(AZ533=\"\",\"\",IF(BA$18=NMSMonthsPop+1,AZ533+(AZ533*VLOOKUP(NMSMonthsPop-$R533,ForecastMult,3,FALSE)/12),AZ533+AZ533-AY533)))))","v":""},{"$f":"IF(OR($A533=\"\",NMSMonthsPop=0),\"\",IF(BB$18<NMSMonthsPop,#N/A,IF(BB$18=NMSMonthsPop,AO533,IF(BA533=\"\",\"\",IF(BB$18=NMSMonthsPop+1,BA533+(BA533*VLOOKUP(NMSMonthsPop-$R533,ForecastMult,3,FALSE)/12),BA533+BA533-AZ533)))))","v":""},{"$f":"IF(OR($A533=\"\",NMSMonthsPop=0),\"\",IF(BC$18<NMSMonthsPop,#N/A,IF(BC$18=NMSMonthsPop,AP533,IF(BB533=\"\",\"\",IF(BC$18=NMSMonthsPop+1,BB533+(BB533*VLOOKUP(NMSMonthsPop-$R533,ForecastMult,3,FALSE)/12),BB533+BB533-BA533)))))","v":""},{"$f":"IF(OR($A533=\"\",NMSMonthsPop=0),\"\",IF(BD$18<NMSMonthsPop,#N/A,IF(BD$18=NMSMonthsPop,AQ533,IF(BC533=\"\",\"\",IF(BD$18=NMSMonthsPop+1,BC533+(BC533*VLOOKUP(NMSMonthsPop-$R533,ForecastMult,3,FALSE)/12),BC533+BC533-BB533)))))","v":""},{"$f":"IF(OR($A533=\"\",NMSMonthsPop=0),\"\",IF(BE$18<NMSMonthsPop,#N/A,IF(BE$18=NMSMonthsPop,AR533,IF(BD533=\"\",\"\",IF(BE$18=NMSMonthsPop+1,BD533+(BD533*VLOOKUP(NMSMonthsPop-$R533,ForecastMult,3,FALSE)/12),BD533+BD533-BC533)))))","v":""},{"$f":"IF(OR($A533=\"\",NMSMonthsPop=0),\"\",IF(BF$18<NMSMonthsPop,#N/A,IF(BF$18=NMSMonthsPop,AS533,IF(BE533=\"\",\"\",IF(BF$18=NMSMonthsPop+1,BE533+(BE533*VLOOKUP(NMSMonthsPop-$R533,ForecastMult,3,FALSE)/12),BE533+BE533-BD533)))))","v":""},{"$f":"IF(A533=\"\",\"\",MAX(IF(ISERROR(AU533:BF533),0,AU533:BF533)))","v":""},{"$f":"IF(AND(C$18=1,$A533<>\"\"),IF(ISNA(VLOOKUP($A533,INDIRECT(C$20),NMS_items_col,FALSE)),\"\",VLOOKUP($A533,INDIRECT(C$20),NMS_items_col,FALSE)),\"\")","v":""},{"$f":"IF(AND(D$18=1,$A533<>\"\"),IF(ISNA(VLOOKUP($A533,INDIRECT(D$20),NMS_items_col,FALSE)),\"\",VLOOKUP($A533,INDIRECT(D$20),NMS_items_col,FALSE)),\"\")","v":""},{"$f":"IF(AND(E$18=1,$A533<>\"\"),IF(ISNA(VLOOKUP($A533,INDIRECT(E$20),NMS_items_col,FALSE)),\"\",VLOOKUP($A533,INDIRECT(E$20),NMS_items_col,FALSE)),\"\")","v":""},{"$f":"IF(AND(F$18=1,$A533<>\"\"),IF(ISNA(VLOOKUP($A533,INDIRECT(F$20),NMS_items_col,FALSE)),\"\",VLOOKUP($A533,INDIRECT(F$20),NMS_items_col,FALSE)),\"\")","v":""},{"$f":"IF(AND(G$18=1,$A533<>\"\"),IF(ISNA(VLOOKUP($A533,INDIRECT(G$20),NMS_items_col,FALSE)),\"\",VLOOKUP($A533,INDIRECT(G$20),NMS_items_col,FALSE)),\"\")","v":""},{"$f":"IF(AND(H$18=1,$A533<>\"\"),IF(ISNA(VLOOKUP($A533,INDIRECT(H$20),NMS_items_col,FALSE)),\"\",VLOOKUP($A533,INDIRECT(H$20),NMS_items_col,FALSE)),\"\")","v":""},{"$f":"IF(AND(I$18=1,$A533<>\"\"),IF(ISNA(VLOOKUP($A533,INDIRECT(I$20),NMS_items_col,FALSE)),\"\",VLOOKUP($A533,INDIRECT(I$20),NMS_items_col,FALSE)),\"\")","v":""},{"$f":"IF(AND(J$18=1,$A533<>\"\"),IF(ISNA(VLOOKUP($A533,INDIRECT(J$20),NMS_items_col,FALSE)),\"\",VLOOKUP($A533,INDIRECT(J$20),NMS_items_col,FALSE)),\"\")","v":""},{"$f":"IF(AND(K$18=1,$A533<>\"\"),IF(ISNA(VLOOKUP($A533,INDIRECT(K$20),NMS_items_col,FALSE)),\"\",VLOOKUP($A533,INDIRECT(K$20),NMS_items_col,FALSE)),\"\")","v":""},{"$f":"IF(AND(L$18=1,$A533<>\"\"),IF(ISNA(VLOOKUP($A533,INDIRECT(L$20),NMS_items_col,FALSE)),\"\",VLOOKUP($A533,INDIRECT(L$20),NMS_items_col,FALSE)),\"\")","v":""},{"$f":"IF(AND(M$18=1,$A533<>\"\"),IF(ISNA(VLOOKUP($A533,INDIRECT(M$20),NMS_items_col,FALSE)),\"\",VLOOKUP($A533,INDIRECT(M$20),NMS_items_col,FALSE)),\"\")","v":""},{"$f":"IF(AND(N$18=1,$A533<>\"\"),IF(ISNA(VLOOKUP($A533,INDIRECT(N$20),NMS_items_col,FALSE)),\"\",VLOOKUP($A533,INDIRECT(N$20),NMS_items_col,FALSE)),\"\")","v":""},"","","","","","","",{"$f":"IF(C$18=1,IF(ISNA(VLOOKUP($A533,INDIRECT(C$20),NMS_fee_col,FALSE)),\"\",VLOOKUP($A533,INDIRECT(C$20),NMS_fee_col,FALSE)),\"\")","v":""},{"$f":"IF(D$18=1,IF(ISNA(VLOOKUP($A533,INDIRECT(D$20),NMS_fee_col,FALSE)),\"\",VLOOKUP($A533,INDIRECT(D$20),NMS_fee_col,FALSE)),\"\")","v":""},{"$f":"IF(E$18=1,IF(ISNA(VLOOKUP($A533,INDIRECT(E$20),NMS_fee_col,FALSE)),\"\",VLOOKUP($A533,INDIRECT(E$20),NMS_fee_col,FALSE)),\"\")","v":""},{"$f":"IF(F$18=1,IF(ISNA(VLOOKUP($A533,INDIRECT(F$20),NMS_fee_col,FALSE)),\"\",VLOOKUP($A533,INDIRECT(F$20),NMS_fee_col,FALSE)),\"\")","v":""},{"$f":"IF(G$18=1,IF(ISNA(VLOOKUP($A533,INDIRECT(G$20),NMS_fee_col,FALSE)),\"\",VLOOKUP($A533,INDIRECT(G$20),NMS_fee_col,FALSE)),\"\")","v":""},{"$f":"IF(H$18=1,IF(ISNA(VLOOKUP($A533,INDIRECT(H$20),NMS_fee_col,FALSE)),\"\",VLOOKUP($A533,INDIRECT(H$20),NMS_fee_col,FALSE)),\"\")","v":""},{"$f":"IF(I$18=1,IF(ISNA(VLOOKUP($A533,INDIRECT(I$20),NMS_fee_col,FALSE)),\"\",VLOOKUP($A533,INDIRECT(I$20),NMS_fee_col,FALSE)),\"\")","v":""},{"$f":"IF(J$18=1,IF(ISNA(VLOOKUP($A533,INDIRECT(J$20),NMS_fee_col,FALSE)),\"\",VLOOKUP($A533,INDIRECT(J$20),NMS_fee_col,FALSE)),\"\")","v":""},{"$f":"IF(K$18=1,IF(ISNA(VLOOKUP($A533,INDIRECT(K$20),NMS_fee_col,FALSE)),\"\",VLOOKUP($A533,INDIRECT(K$20),NMS_fee_col,FALSE)),\"\")","v":""},{"$f":"IF(L$18=1,IF(ISNA(VLOOKUP($A533,INDIRECT(L$20),NMS_fee_col,FALSE)),\"\",VLOOKUP($A533,INDIRECT(L$20),NMS_fee_col,FALSE)),\"\")","v":""},{"$f":"IF(M$18=1,IF(ISNA(VLOOKUP($A533,INDIRECT(M$20),NMS_fee_col,FALSE)),\"\",VLOOKUP($A533,INDIRECT(M$20),NMS_fee_col,FALSE)),\"\")","v":""},{"$f":"IF(N$18=1,IF(ISNA(VLOOKUP($A533,INDIRECT(N$20),NMS_fee_col,FALSE)),\"\",VLOOKUP($A533,INDIRECT(N$20),NMS_fee_col,FALSE)),\"\")","v":""},"",{"$f":"IF(C$18=1,IF(ISNA(VLOOKUP($A533,INDIRECT(C$20),NMS_Fee_adj_col,FALSE)),\"\",VLOOKUP($A533,INDIRECT(C$20),NMS_Fee_adj_col,FALSE)),\"\")","v":""},{"$f":"IF(D$18=1,IF(ISNA(VLOOKUP($A533,INDIRECT(D$20),NMS_Fee_adj_col,FALSE)),\"\",VLOOKUP($A533,INDIRECT(D$20),NMS_Fee_adj_col,FALSE)),\"\")","v":""},{"$f":"IF(E$18=1,IF(ISNA(VLOOKUP($A533,INDIRECT(E$20),NMS_Fee_adj_col,FALSE)),\"\",VLOOKUP($A533,INDIRECT(E$20),NMS_Fee_adj_col,FALSE)),\"\")","v":""},{"$f":"IF(F$18=1,IF(ISNA(VLOOKUP($A533,INDIRECT(F$20),NMS_Fee_adj_col,FALSE)),\"\",VLOOKUP($A533,INDIRECT(F$20),NMS_Fee_adj_col,FALSE)),\"\")","v":""},{"$f":"IF(G$18=1,IF(ISNA(VLOOKUP($A533,INDIRECT(G$20),NMS_Fee_adj_col,FALSE)),\"\",VLOOKUP($A533,INDIRECT(G$20),NMS_Fee_adj_col,FALSE)),\"\")","v":""},{"$f":"IF(H$18=1,IF(ISNA(VLOOKUP($A533,INDIRECT(H$20),NMS_Fee_adj_col,FALSE)),\"\",VLOOKUP($A533,INDIRECT(H$20),NMS_Fee_adj_col,FALSE)),\"\")","v":""},{"$f":"IF(I$18=1,IF(ISNA(VLOOKUP($A533,INDIRECT(I$20),NMS_Fee_adj_col,FALSE)),\"\",VLOOKUP($A533,INDIRECT(I$20),NMS_Fee_adj_col,FALSE)),\"\")","v":""},{"$f":"IF(J$18=1,IF(ISNA(VLOOKUP($A533,INDIRECT(J$20),NMS_Fee_adj_col,FALSE)),\"\",VLOOKUP($A533,INDIRECT(J$20),NMS_Fee_adj_col,FALSE)),\"\")","v":""},{"$f":"IF(K$18=1,IF(ISNA(VLOOKUP($A533,INDIRECT(K$20),NMS_Fee_adj_col,FALSE)),\"\",VLOOKUP($A533,INDIRECT(K$20),NMS_Fee_adj_col,FALSE)),\"\")","v":""},{"$f":"IF(L$18=1,IF(ISNA(VLOOKUP($A533,INDIRECT(L$20),NMS_Fee_adj_col,FALSE)),\"\",VLOOKUP($A533,INDIRECT(L$20),NMS_Fee_adj_col,FALSE)),\"\")","v":""},{"$f":"IF(M$18=1,IF(ISNA(VLOOKUP($A533,INDIRECT(M$20),NMS_Fee_adj_col,FALSE)),\"\",VLOOKUP($A533,INDIRECT(M$20),NMS_Fee_adj_col,FALSE)),\"\")","v":""},{"$f":"IF(N$18=1,IF(ISNA(VLOOKUP($A533,INDIRECT(N$20),NMS_Fee_adj_col,FALSE)),\"\",VLOOKUP($A533,INDIRECT(N$20),NMS_Fee_adj_col,FALSE)),\"\")","v":""},""]
[{"$f":"IF(ISBLANK('Control Sheet'!D516),\"\",'Control Sheet'!D516)","v":""},{"$f":"IF(ISBLANK('Control Sheet'!E516),\"\",'Control Sheet'!E516&\" (\"&'Control Sheet'!F516&\")\")","v":""},"","","","","","","","","","","","","",null,"","","","","","","","","","","","","","","","","","","","","","","","","","","","","","","","","","","","","","","","","","",{"$f":"IF(A536=\"\",\"\",MAX(IF(ISERROR(AU536:BF536),0,AU536:BF536)))","v":""},"","","","","","","","","","","","","","","","","","","","","","","","","","","","","","","","","","","","","","","","","","","","",""]
[{"$f":"IF(ISBLANK('Control Sheet'!D520),\"\",'Control Sheet'!D520)","v":""},{"$f":"IF(ISBLANK('Control Sheet'!E520),\"\",'Control Sheet'!E520&\" (\"&'Control Sheet'!F520&\")\")","v":""},"","","","","","","","","","","","","",null,"","","","","","","","","","","","","","","","","","","","","","","","","","","","","","","","","","","","","","","","","","",{"$f":"IF(A540=\"\",\"\",MAX(IF(ISERROR(AU540:BF540),0,AU540:BF540)))","v":""},"","","","","","","","","","","","","","","","","","","","","","","","","","","","","","","","","","","","","","","","","","","","",""]
[{"$f":"IF(ISBLANK('Control Sheet'!D522),\"\",'Control Sheet'!D522)","v":""},{"$f":"IF(ISBLANK('Control Sheet'!E522),\"\",'Control Sheet'!E522&\" (\"&'Control Sheet'!F522&\")\")","v":""},"","","","","","","","","","","","","",null,"","","","","","","","","","","","","","","","","","","","","","","","","","","","","","","","","","","","","","","","","","",{"$f":"IF(A542=\"\",\"\",MAX(IF(ISERROR(AU542:BF542),0,AU542:BF542)))","v":""},"","","","","","","","","","","","","","","","","","","","","","","","","","","","","","","","","","","","","","","","","","","","",""]
[{"$f":"IF(ISBLANK('Control Sheet'!D525),\"\",'Control Sheet'!D525)","v":""},{"$f":"IF(ISBLANK('Control Sheet'!E525),\"\",'Control Sheet'!E525&\" (\"&'Control Sheet'!F525&\")\")","v":""},"","","","","","","","","","","","","",null,"","","","","","","","","","","","","","","","","","","","","","","","","","","","","","","","","","","","","","","","","","",{"$f":"IF(A545=\"\",\"\",MAX(IF(ISERROR(AU545:BF545),0,AU545:BF545)))","v":""},"","","","","","","","","","","","","","","","","","","","","","","","","","","","","","","","","","","","","","","","","","","","",""]
[{"$f":"IF(ISBLANK('Control Sheet'!D529),\"\",'Control Sheet'!D529)","v":""},{"$f":"IF(ISBLANK('Control Sheet'!E529),\"\",'Control Sheet'!E529&\" (\"&'Control Sheet'!F529&\")\")","v":""},"","","","","","","","","","","","","",null,"","","","","","","","","","","","","","","","","","","","","","","","","","","","","","","","","","","","","","","","","","",{"$f":"IF(A549=\"\",\"\",MAX(IF(ISERROR(AU549:BF549),0,AU549:BF549)))","v":""},"","","","","","","","","","","","","","","","","","","","","","","","","","","","","","","","","","","","","","","","","","","","",""]
[{"$f":"IF(ISBLANK('Control Sheet'!D532),\"\",'Control Sheet'!D532)","v":""},{"$f":"IF(ISBLANK('Control Sheet'!E532),\"\",'Control Sheet'!E532&\" (\"&'Control Sheet'!F532&\")\")","v":""},"","","","","","","","","","","","","",null,"","","","","","","","","","","","","","","","","","","","","","","","","","","","","","","","","","","","","","","","","","",{"$f":"IF(A552=\"\",\"\",MAX(IF(ISERROR(AU552:BF552),0,AU552:BF552)))","v":""},"","","","","","","","","","","","","","","","","","","","","","","","","","","","","","","","","","","","","","","","","","","","",""]
[{"$f":"IF(ISBLANK('Control Sheet'!D533),\"\",'Control Sheet'!D533)","v":""},{"$f":"IF(ISBLANK('Control Sheet'!E533),\"\",'Control Sheet'!E533&\" (\"&'Control Sheet'!F533&\")\")","v":""},"","","","","","","","","","","","","",null,"","","","","","","","","","","","","","","","","","","","","","","","","","","","","","","","","","","","","","","","","","",{"$f":"IF(A553=\"\",\"\",MAX(IF(ISERROR(AU553:BF553),0,AU553:BF553)))","v":""},"","","","","","","","","","","","","","","","","","","","","","","","","","","","","","","","","","","","","","","","","","","","",""]
[{"$f":"IF(ISBLANK('Control Sheet'!D535),\"\",'Control Sheet'!D535)","v":""},{"$f":"IF(ISBLANK('Control Sheet'!E535),\"\",'Control Sheet'!E535&\" (\"&'Control Sheet'!F535&\")\")","v":""},"","","","","","","","","","","","","",null,"","","","","","","","","","","","","","","","","","","","","","","","","","","","","","","","","","","","","","","","","","",{"$f":"IF(A555=\"\",\"\",MAX(IF(ISERROR(AU555:BF555),0,AU555:BF555)))","v":""},"","","","","","","","","","","","","","","","","","","","","","","","","","","","","","","","","","","","","","","","","","","","",""]
[{"$f":"IF(ISBLANK('Control Sheet'!D538),\"\",'Control Sheet'!D538)","v":""},{"$f":"IF(ISBLANK('Control Sheet'!E538),\"\",'Control Sheet'!E538&\" (\"&'Control Sheet'!F538&\")\")","v":""},"","","","","","","","","","","","","",null,"","","","","","","","","","","","","","","","","","","","","","","","","","","","","","","","","","","","","","","","","","",{"$f":"IF(A558=\"\",\"\",MAX(IF(ISERROR(AU558:BF558),0,AU558:BF558)))","v":""},"","","","","","","","","","","","","","","","","","","","","","","","","","","","","","","","","","","","","","","","","","","","",""]
[{"$f":"IF(ISBLANK('Control Sheet'!D542),\"\",'Control Sheet'!D542)","v":""},{"$f":"IF(ISBLANK('Control Sheet'!E542),\"\",'Control Sheet'!E542&\" (\"&'Control Sheet'!F542&\")\")","v":""},"","","","","","","","","","","","","",null,"","","","","","","","","","","","","","","","","","","","","","","","","","","","","","","","","","","","","","","","","","",{"$f":"IF(A562=\"\",\"\",MAX(IF(ISERROR(AU562:BF562),0,AU562:BF562)))","v":""},"","","","","","","","","","","","","","","","","","","","","","","","","","","","","","","","","","","","","","","","","","","","",""]
[{"$f":"IF(ISBLANK('Control Sheet'!D545),\"\",'Control Sheet'!D545)","v":""},{"$f":"IF(ISBLANK('Control Sheet'!E545),\"\",'Control Sheet'!E545&\" (\"&'Control Sheet'!F545&\")\")","v":""},"","","","","","","","","","","","","",null,"","","","","","","","","","","","","","","","","","","","","","","","","","","","","","","","","","","","","","","","","","",{"$f":"IF(A565=\"\",\"\",MAX(IF(ISERROR(AU565:BF565),0,AU565:BF565)))","v":""},"","","","","","","","","","","","","","","","",{"$f":"IF(A565=\"\",\"\",IF(BW565>$BW$11,\"Yes\",\"No\"))","v":""},"","","","","","","","","","","","","","","","","","","","","","","","","","","",""]
[{"$f":"IF(ISBLANK('Control Sheet'!D548),\"\",'Control Sheet'!D548)","v":""},{"$f":"IF(ISBLANK('Control Sheet'!E548),\"\",'Control Sheet'!E548&\" (\"&'Control Sheet'!F548&\")\")","v":""},"","","","","","","","","","","","","",null,"","","","","","","","","","","","","","","","","","","","","","","","","","","","","","","","","","","","","","","","","","",{"$f":"IF(A568=\"\",\"\",MAX(IF(ISERROR(AU568:BF568),0,AU568:BF568)))","v":""},"","","","","","","","","","","","","","","","","","","","","","","","","","","","","","","","","","","","","","","","","","","","",""]
[{"$f":"IF(ISBLANK('Control Sheet'!D550),\"\",'Control Sheet'!D550)","v":""},{"$f":"IF(ISBLANK('Control Sheet'!E550),\"\",'Control Sheet'!E550&\" (\"&'Control Sheet'!F550&\")\")","v":""},"","","","","","","","","","","","","",null,"","","","","","","","","","","","","","","","","","","","","","","","","","","","","","","","","","","","","","","","","","",{"$f":"IF(A570=\"\",\"\",MAX(IF(ISERROR(AU570:BF570),0,AU570:BF570)))","v":""},"","","","","","","","","","","","","","","","","","","","","","","","","","","","","","","","","","","","","","","","","","","","",""]
[{"$f":"IF(ISBLANK('Control Sheet'!D554),\"\",'Control Sheet'!D554)","v":""},{"$f":"IF(ISBLANK('Control Sheet'!E554),\"\",'Control Sheet'!E554&\" (\"&'Control Sheet'!F554&\")\")","v":""},"","","","","","","","","","","","","",null,"","","","","","","","","","","","","","","","","","","","","","","","","","","","","","","","","","","","","","","","","","",{"$f":"IF(A574=\"\",\"\",MAX(IF(ISERROR(AU574:BF574),0,AU574:BF574)))","v":""},"","","","","","","","","","","","","","","","","","","","","","","","","","","","","","","","","","","","","","","","","","","","",""]
[{"$f":"IF(ISBLANK('Control Sheet'!D557),\"\",'Control Sheet'!D557)","v":""},{"$f":"IF(ISBLANK('Control Sheet'!E557),\"\",'Control Sheet'!E557&\" (\"&'Control Sheet'!F557&\")\")","v":""},"","","","","","","","","","","","","",null,"","","","","","","","","","","","","","","","","","","","","","","","","","","","","","","","","","","","","","","","","","",{"$f":"IF(A577=\"\",\"\",MAX(IF(ISERROR(AU577:BF577),0,AU577:BF577)))","v":""},"","","","","","","","","","","","","","","","","","","","","","","","","","","","","","","","","","","","","","","","","","","","",""]
[{"$f":"IF(ISBLANK('Control Sheet'!D558),\"\",'Control Sheet'!D558)","v":""},{"$f":"IF(ISBLANK('Control Sheet'!E558),\"\",'Control Sheet'!E558&\" (\"&'Control Sheet'!F558&\")\")","v":""},"","","","","","","","","","","","","",null,"","","","","","","","","","","","","","","","","","","","","","","","","","","","","","","","","","","","","","","","","","",{"$f":"IF(A578=\"\",\"\",MAX(IF(ISERROR(AU578:BF578),0,AU578:BF578)))","v":""},"","","","","","","","","","","","","","","","","","","","","","","","","","","","","","","","","","","","","","","","","","","","",""]
[{"$f":"IF(ISBLANK('Control Sheet'!D561),\"\",'Control Sheet'!D561)","v":""},{"$f":"IF(ISBLANK('Control Sheet'!E561),\"\",'Control Sheet'!E561&\" (\"&'Control Sheet'!F561&\")\")","v":""},{"$f":"IF(C$18=1,IF(ISNA(VLOOKUP($A581,INDIRECT(C$20),NMS_col,FALSE)),\"\",VLOOKUP($A581,INDIRECT(C$20),NMS_col,FALSE)),\"\")","v":""},"","","","","","","","","","","","",null,"","","","","","","","","","","","","","","","","","","","","","","","","","","","","","","","","","","","","","","","","","",{"$f":"IF(A581=\"\",\"\",MAX(IF(ISERROR(AU581:BF581),0,AU581:BF581)))","v":""},"","","","","","","","","","","","","","","","","","","","","","","","","","","","","","","","","","","","","","","","","","","","",""]
[{"$f":"IF(ISBLANK('Control Sheet'!D565),\"\",'Control Sheet'!D565)","v":""},{"$f":"IF(ISBLANK('Control Sheet'!E565),\"\",'Control Sheet'!E565&\" (\"&'Control Sheet'!F565&\")\")","v":""},"","","","","","","","","","","","","",null,"","","","","","","","","","","","","","","","","","","","","","","","","","","","","","","","","","","","","","","","","","",{"$f":"IF(A585=\"\",\"\",MAX(IF(ISERROR(AU585:BF585),0,AU585:BF585)))","v":""},"","","","","","","","","","","","","","","","","","","","","","","","","","","","","","","","","","","","","","","","","","","","",""]
[{"$f":"IF(ISBLANK('Control Sheet'!D567),\"\",'Control Sheet'!D567)","v":""},{"$f":"IF(ISBLANK('Control Sheet'!E567),\"\",'Control Sheet'!E567&\" (\"&'Control Sheet'!F567&\")\")","v":""},"","","","","","","","","","","","","",null,"","","","","","","","","","","","","","","","","","","","","","","","","","","","","","","","","","","","","","","","","","",{"$f":"IF(A587=\"\",\"\",MAX(IF(ISERROR(AU587:BF587),0,AU587:BF587)))","v":""},"","","","","","","","","","","","","","","","","","","","","","","","","","","","","","","","","","","","","","","","","","","","",""]
[{"$f":"IF(ISBLANK('Control Sheet'!D570),\"\",'Control Sheet'!D570)","v":""},{"$f":"IF(ISBLANK('Control Sheet'!E570),\"\",'Control Sheet'!E570&\" (\"&'Control Sheet'!F570&\")\")","v":""},"","","","","","","","","","","","","",null,"","","","","","","","","","","","","","","","","","","","","","","","","","","","","","","","","","","","","","","","","","",{"$f":"IF(A590=\"\",\"\",MAX(IF(ISERROR(AU590:BF590),0,AU590:BF590)))","v":""},"","","","","","","","","","","","","","","","","","","","","","","","","","","","","","","","","","","","","","","","","","","","",""]
[{"$f":"IF(ISBLANK('Control Sheet'!D574),\"\",'Control Sheet'!D574)","v":""},{"$f":"IF(ISBLANK('Control Sheet'!E574),\"\",'Control Sheet'!E574&\" (\"&'Control Sheet'!F574&\")\")","v":""},"","","","","","","","","","","","","",null,"","","","","","","","","","","","","","","","","","","","","","","","","","","","","","","","","","","","","","","","","","",{"$f":"IF(A594=\"\",\"\",MAX(IF(ISERROR(AU594:BF594),0,AU594:BF594)))","v":""},"","","","","","","","","","","","","","","","","","","","","","","","","","","","","","","","","","","","","","","","","","","","",""]
[{"$f":"IF(ISBLANK('Control Sheet'!D577),\"\",'Control Sheet'!D577)","v":""},{"$f":"IF(ISBLANK('Control Sheet'!E577),\"\",'Control Sheet'!E577&\" (\"&'Control Sheet'!F577&\")\")","v":""},"","","","","","","","","","","","","",null,"",{"$f":"IF(A597=\"\",\"\",NMSMonthsPop-(COUNTA(C597:N597)-COUNTBLANK(C597:N597)))","v":""},"","","","","","","","","","","","","","","","","","","","","","","","","","","","",{"$f":"IF(OR(A597=\"\",NMSMonthsPop=0),\"\",IF(AU$18=NMSMonthsPop,AH597,#N/A))","v":""},{"$f":"IF(OR($A597=\"\",NMSMonthsPop=0),\"\",IF(AV$18<NMSMonthsPop,#N/A,IF(AV$18=NMSMonthsPop,AI597,IF(AU597=\"\",\"\",IF(AV$18=NMSMonthsPop+1,AU597+(AU597*VLOOKUP(NMSMonthsPop-$R597,ForecastMult,3,FALSE)/12),AU597+AU597-AT597)))))","v":""},{"$f":"IF(OR($A597=\"\",NMSMonthsPop=0),\"\",IF(AW$18<NMSMonthsPop,#N/A,IF(AW$18=NMSMonthsPop,AJ597,IF(AV597=\"\",\"\",IF(AW$18=NMSMonthsPop+1,AV597+(AV597*VLOOKUP(NMSMonthsPop-$R597,ForecastMult,3,FALSE)/12),AV597+AV597-AU597)))))","v":""},{"$f":"IF(OR($A597=\"\",NMSMonthsPop=0),\"\",IF(AX$18<NMSMonthsPop,#N/A,IF(AX$18=NMSMonthsPop,AK597,IF(AW597=\"\",\"\",IF(AX$18=NMSMonthsPop+1,AW597+(AW597*VLOOKUP(NMSMonthsPop-$R597,ForecastMult,3,FALSE)/12),AW597+AW597-AV597)))))","v":""},{"$f":"IF(OR($A597=\"\",NMSMonthsPop=0),\"\",IF(AY$18<NMSMonthsPop,#N/A,IF(AY$18=NMSMonthsPop,AL597,IF(AX597=\"\",\"\",IF(AY$18=NMSMonthsPop+1,AX597+(AX597*VLOOKUP(NMSMonthsPop-$R597,ForecastMult,3,FALSE)/12),AX597+AX597-AW597)))))","v":""},{"$f":"IF(OR($A597=\"\",NMSMonthsPop=0),\"\",IF(AZ$18<NMSMonthsPop,#N/A,IF(AZ$18=NMSMonthsPop,AM597,IF(AY597=\"\",\"\",IF(AZ$18=NMSMonthsPop+1,AY597+(AY597*VLOOKUP(NMSMonthsPop-$R597,ForecastMult,3,FALSE)/12),AY597+AY597-AX597)))))","v":""},{"$f":"IF(OR($A597=\"\",NMSMonthsPop=0),\"\",IF(BA$18<NMSMonthsPop,#N/A,IF(BA$18=NMSMonthsPop,AN597,IF(AZ597=\"\",\"\",IF(BA$18=NMSMonthsPop+1,AZ597+(AZ597*VLOOKUP(NMSMonthsPop-$R597,ForecastMult,3,FALSE)/12),AZ597+AZ597-AY597)))))","v":""},{"$f":"IF(OR($A597=\"\",NMSMonthsPop=0),\"\",IF(BB$18<NMSMonthsPop,#N/A,IF(BB$18=NMSMonthsPop,AO597,IF(BA597=\"\",\"\",IF(BB$18=NMSMonthsPop+1,BA597+(BA597*VLOOKUP(NMSMonthsPop-$R597,ForecastMult,3,FALSE)/12),BA597+BA597-AZ597)))))","v":""},{"$f":"IF(OR($A597=\"\",NMSMonthsPop=0),\"\",IF(BC$18<NMSMonthsPop,#N/A,IF(BC$18=NMSMonthsPop,AP597,IF(BB597=\"\",\"\",IF(BC$18=NMSMonthsPop+1,BB597+(BB597*VLOOKUP(NMSMonthsPop-$R597,ForecastMult,3,FALSE)/12),BB597+BB597-BA597)))))","v":""},{"$f":"IF(OR($A597=\"\",NMSMonthsPop=0),\"\",IF(BD$18<NMSMonthsPop,#N/A,IF(BD$18=NMSMonthsPop,AQ597,IF(BC597=\"\",\"\",IF(BD$18=NMSMonthsPop+1,BC597+(BC597*VLOOKUP(NMSMonthsPop-$R597,ForecastMult,3,FALSE)/12),BC597+BC597-BB597)))))","v":""},{"$f":"IF(OR($A597=\"\",NMSMonthsPop=0),\"\",IF(BE$18<NMSMonthsPop,#N/A,IF(BE$18=NMSMonthsPop,AR597,IF(BD597=\"\",\"\",IF(BE$18=NMSMonthsPop+1,BD597+(BD597*VLOOKUP(NMSMonthsPop-$R597,ForecastMult,3,FALSE)/12),BD597+BD597-BC597)))))","v":""},{"$f":"IF(OR($A597=\"\",NMSMonthsPop=0),\"\",IF(BF$18<NMSMonthsPop,#N/A,IF(BF$18=NMSMonthsPop,AS597,IF(BE597=\"\",\"\",IF(BF$18=NMSMonthsPop+1,BE597+(BE597*VLOOKUP(NMSMonthsPop-$R597,ForecastMult,3,FALSE)/12),BE597+BE597-BD597)))))","v":""},{"$f":"IF(A597=\"\",\"\",MAX(IF(ISERROR(AU597:BF597),0,AU597:BF597)))","v":""},{"$f":"IF(AND(C$18=1,$A597<>\"\"),IF(ISNA(VLOOKUP($A597,INDIRECT(C$20),NMS_items_col,FALSE)),\"\",VLOOKUP($A597,INDIRECT(C$20),NMS_items_col,FALSE)),\"\")","v":""},{"$f":"IF(AND(D$18=1,$A597<>\"\"),IF(ISNA(VLOOKUP($A597,INDIRECT(D$20),NMS_items_col,FALSE)),\"\",VLOOKUP($A597,INDIRECT(D$20),NMS_items_col,FALSE)),\"\")","v":""},{"$f":"IF(AND(E$18=1,$A597<>\"\"),IF(ISNA(VLOOKUP($A597,INDIRECT(E$20),NMS_items_col,FALSE)),\"\",VLOOKUP($A597,INDIRECT(E$20),NMS_items_col,FALSE)),\"\")","v":""},{"$f":"IF(AND(F$18=1,$A597<>\"\"),IF(ISNA(VLOOKUP($A597,INDIRECT(F$20),NMS_items_col,FALSE)),\"\",VLOOKUP($A597,INDIRECT(F$20),NMS_items_col,FALSE)),\"\")","v":""},{"$f":"IF(AND(G$18=1,$A597<>\"\"),IF(ISNA(VLOOKUP($A597,INDIRECT(G$20),NMS_items_col,FALSE)),\"\",VLOOKUP($A597,INDIRECT(G$20),NMS_items_col,FALSE)),\"\")","v":""},{"$f":"IF(AND(H$18=1,$A597<>\"\"),IF(ISNA(VLOOKUP($A597,INDIRECT(H$20),NMS_items_col,FALSE)),\"\",VLOOKUP($A597,INDIRECT(H$20),NMS_items_col,FALSE)),\"\")","v":""},{"$f":"IF(AND(I$18=1,$A597<>\"\"),IF(ISNA(VLOOKUP($A597,INDIRECT(I$20),NMS_items_col,FALSE)),\"\",VLOOKUP($A597,INDIRECT(I$20),NMS_items_col,FALSE)),\"\")","v":""},{"$f":"IF(AND(J$18=1,$A597<>\"\"),IF(ISNA(VLOOKUP($A597,INDIRECT(J$20),NMS_items_col,FALSE)),\"\",VLOOKUP($A597,INDIRECT(J$20),NMS_items_col,FALSE)),\"\")","v":""},{"$f":"IF(AND(K$18=1,$A597<>\"\"),IF(ISNA(VLOOKUP($A597,INDIRECT(K$20),NMS_items_col,FALSE)),\"\",VLOOKUP($A597,INDIRECT(K$20),NMS_items_col,FALSE)),\"\")","v":""},{"$f":"IF(AND(L$18=1,$A597<>\"\"),IF(ISNA(VLOOKUP($A597,INDIRECT(L$20),NMS_items_col,FALSE)),\"\",VLOOKUP($A597,INDIRECT(L$20),NMS_items_col,FALSE)),\"\")","v":""},{"$f":"IF(AND(M$18=1,$A597<>\"\"),IF(ISNA(VLOOKUP($A597,INDIRECT(M$20),NMS_items_col,FALSE)),\"\",VLOOKUP($A597,INDIRECT(M$20),NMS_items_col,FALSE)),\"\")","v":""},{"$f":"IF(AND(N$18=1,$A597<>\"\"),IF(ISNA(VLOOKUP($A597,INDIRECT(N$20),NMS_items_col,FALSE)),\"\",VLOOKUP($A597,INDIRECT(N$20),NMS_items_col,FALSE)),\"\")","v":""},"","","","","","","",{"$f":"IF(C$18=1,IF(ISNA(VLOOKUP($A597,INDIRECT(C$20),NMS_fee_col,FALSE)),\"\",VLOOKUP($A597,INDIRECT(C$20),NMS_fee_col,FALSE)),\"\")","v":""},{"$f":"IF(D$18=1,IF(ISNA(VLOOKUP($A597,INDIRECT(D$20),NMS_fee_col,FALSE)),\"\",VLOOKUP($A597,INDIRECT(D$20),NMS_fee_col,FALSE)),\"\")","v":""},{"$f":"IF(E$18=1,IF(ISNA(VLOOKUP($A597,INDIRECT(E$20),NMS_fee_col,FALSE)),\"\",VLOOKUP($A597,INDIRECT(E$20),NMS_fee_col,FALSE)),\"\")","v":""},{"$f":"IF(F$18=1,IF(ISNA(VLOOKUP($A597,INDIRECT(F$20),NMS_fee_col,FALSE)),\"\",VLOOKUP($A597,INDIRECT(F$20),NMS_fee_col,FALSE)),\"\")","v":""},{"$f":"IF(G$18=1,IF(ISNA(VLOOKUP($A597,INDIRECT(G$20),NMS_fee_col,FALSE)),\"\",VLOOKUP($A597,INDIRECT(G$20),NMS_fee_col,FALSE)),\"\")","v":""},{"$f":"IF(H$18=1,IF(ISNA(VLOOKUP($A597,INDIRECT(H$20),NMS_fee_col,FALSE)),\"\",VLOOKUP($A597,INDIRECT(H$20),NMS_fee_col,FALSE)),\"\")","v":""},{"$f":"IF(I$18=1,IF(ISNA(VLOOKUP($A597,INDIRECT(I$20),NMS_fee_col,FALSE)),\"\",VLOOKUP($A597,INDIRECT(I$20),NMS_fee_col,FALSE)),\"\")","v":""},{"$f":"IF(J$18=1,IF(ISNA(VLOOKUP($A597,INDIRECT(J$20),NMS_fee_col,FALSE)),\"\",VLOOKUP($A597,INDIRECT(J$20),NMS_fee_col,FALSE)),\"\")","v":""},{"$f":"IF(K$18=1,IF(ISNA(VLOOKUP($A597,INDIRECT(K$20),NMS_fee_col,FALSE)),\"\",VLOOKUP($A597,INDIRECT(K$20),NMS_fee_col,FALSE)),\"\")","v":""},{"$f":"IF(L$18=1,IF(ISNA(VLOOKUP($A597,INDIRECT(L$20),NMS_fee_col,FALSE)),\"\",VLOOKUP($A597,INDIRECT(L$20),NMS_fee_col,FALSE)),\"\")","v":""},{"$f":"IF(M$18=1,IF(ISNA(VLOOKUP($A597,INDIRECT(M$20),NMS_fee_col,FALSE)),\"\",VLOOKUP($A597,INDIRECT(M$20),NMS_fee_col,FALSE)),\"\")","v":""},{"$f":"IF(N$18=1,IF(ISNA(VLOOKUP($A597,INDIRECT(N$20),NMS_fee_col,FALSE)),\"\",VLOOKUP($A597,INDIRECT(N$20),NMS_fee_col,FALSE)),\"\")","v":""},"",{"$f":"IF(C$18=1,IF(ISNA(VLOOKUP($A597,INDIRECT(C$20),NMS_Fee_adj_col,FALSE)),\"\",VLOOKUP($A597,INDIRECT(C$20),NMS_Fee_adj_col,FALSE)),\"\")","v":""},{"$f":"IF(D$18=1,IF(ISNA(VLOOKUP($A597,INDIRECT(D$20),NMS_Fee_adj_col,FALSE)),\"\",VLOOKUP($A597,INDIRECT(D$20),NMS_Fee_adj_col,FALSE)),\"\")","v":""},{"$f":"IF(E$18=1,IF(ISNA(VLOOKUP($A597,INDIRECT(E$20),NMS_Fee_adj_col,FALSE)),\"\",VLOOKUP($A597,INDIRECT(E$20),NMS_Fee_adj_col,FALSE)),\"\")","v":""},{"$f":"IF(F$18=1,IF(ISNA(VLOOKUP($A597,INDIRECT(F$20),NMS_Fee_adj_col,FALSE)),\"\",VLOOKUP($A597,INDIRECT(F$20),NMS_Fee_adj_col,FALSE)),\"\")","v":""},{"$f":"IF(G$18=1,IF(ISNA(VLOOKUP($A597,INDIRECT(G$20),NMS_Fee_adj_col,FALSE)),\"\",VLOOKUP($A597,INDIRECT(G$20),NMS_Fee_adj_col,FALSE)),\"\")","v":""},{"$f":"IF(H$18=1,IF(ISNA(VLOOKUP($A597,INDIRECT(H$20),NMS_Fee_adj_col,FALSE)),\"\",VLOOKUP($A597,INDIRECT(H$20),NMS_Fee_adj_col,FALSE)),\"\")","v":""},{"$f":"IF(I$18=1,IF(ISNA(VLOOKUP($A597,INDIRECT(I$20),NMS_Fee_adj_col,FALSE)),\"\",VLOOKUP($A597,INDIRECT(I$20),NMS_Fee_adj_col,FALSE)),\"\")","v":""},{"$f":"IF(J$18=1,IF(ISNA(VLOOKUP($A597,INDIRECT(J$20),NMS_Fee_adj_col,FALSE)),\"\",VLOOKUP($A597,INDIRECT(J$20),NMS_Fee_adj_col,FALSE)),\"\")","v":""},{"$f":"IF(K$18=1,IF(ISNA(VLOOKUP($A597,INDIRECT(K$20),NMS_Fee_adj_col,FALSE)),\"\",VLOOKUP($A597,INDIRECT(K$20),NMS_Fee_adj_col,FALSE)),\"\")","v":""},{"$f":"IF(L$18=1,IF(ISNA(VLOOKUP($A597,INDIRECT(L$20),NMS_Fee_adj_col,FALSE)),\"\",VLOOKUP($A597,INDIRECT(L$20),NMS_Fee_adj_col,FALSE)),\"\")","v":""},{"$f":"IF(M$18=1,IF(ISNA(VLOOKUP($A597,INDIRECT(M$20),NMS_Fee_adj_col,FALSE)),\"\",VLOOKUP($A597,INDIRECT(M$20),NMS_Fee_adj_col,FALSE)),\"\")","v":""},{"$f":"IF(N$18=1,IF(ISNA(VLOOKUP($A597,INDIRECT(N$20),NMS_Fee_adj_col,FALSE)),\"\",VLOOKUP($A597,INDIRECT(N$20),NMS_Fee_adj_col,FALSE)),\"\")","v":""},""]
[{"$f":"IF(ISBLANK('Control Sheet'!D580),\"\",'Control Sheet'!D580)","v":""},{"$f":"IF(ISBLANK('Control Sheet'!E580),\"\",'Control Sheet'!E580&\" (\"&'Control Sheet'!F580&\")\")","v":""},"","","","","","","","","","","","","",null,"","","","","","","","","","","","","","","","","","","","","","","","","","","","","","","","","","","","","","","","","","",{"$f":"IF(A600=\"\",\"\",MAX(IF(ISERROR(AU600:BF600),0,AU600:BF600)))","v":""},"","","","","","","","","","","","","","","","","","","","","","","","","","","","","","","","","","","","","","","","","","","","",""]
[{"$f":"IF(ISBLANK('Control Sheet'!D581),\"\",'Control Sheet'!D581)","v":""},{"$f":"IF(ISBLANK('Control Sheet'!E581),\"\",'Control Sheet'!E581&\" (\"&'Control Sheet'!F581&\")\")","v":""},{"$f":"IF(C$18=1,IF(ISNA(VLOOKUP($A601,INDIRECT(C$20),NMS_col,FALSE)),\"\",VLOOKUP($A601,INDIRECT(C$20),NMS_col,FALSE)),\"\")","v":""},"","","","","","","","","","","","",null,"","","","","","","","","","","","","","","","","","","","","","","","","","","","","","","","","","","","","","","","","","",{"$f":"IF(A601=\"\",\"\",MAX(IF(ISERROR(AU601:BF601),0,AU601:BF601)))","v":""},"","","","","","","","","","","","","","","","","","","","","","","","","","","","","","","","","","","","","","","","","","","","",""]
[{"$f":"IF(ISBLANK('Control Sheet'!D584),\"\",'Control Sheet'!D584)","v":""},{"$f":"IF(ISBLANK('Control Sheet'!E584),\"\",'Control Sheet'!E584&\" (\"&'Control Sheet'!F584&\")\")","v":""},"","","","","","","","","","","","","",null,"","","","","","","","","","","","","","","","","","","","","","","","","","","","","","","","","","","","","","","","","","",{"$f":"IF(A604=\"\",\"\",MAX(IF(ISERROR(AU604:BF604),0,AU604:BF604)))","v":""},"","","","","","","","","","","","","","","","","","","","","","","","","","","","","","","","","","","","","","","","","","","","",""]
[{"$f":"IF(ISBLANK('Control Sheet'!D587),\"\",'Control Sheet'!D587)","v":""},{"$f":"IF(ISBLANK('Control Sheet'!E587),\"\",'Control Sheet'!E587&\" (\"&'Control Sheet'!F587&\")\")","v":""},"","","","","","","","","","","","","",null,"","","","","","","","","","","","","","","","","","","","","","","","","","","","","","","","","","","","","","","","","","",{"$f":"IF(A607=\"\",\"\",MAX(IF(ISERROR(AU607:BF607),0,AU607:BF607)))","v":""},"","","","","","","","","","","","","","","","","","","","","","","","","","","","","","","","","","","","","","","","","","","","",""]
[{"$f":"IF(ISBLANK('Control Sheet'!D590),\"\",'Control Sheet'!D590)","v":""},{"$f":"IF(ISBLANK('Control Sheet'!E590),\"\",'Control Sheet'!E590&\" (\"&'Control Sheet'!F590&\")\")","v":""},"","","","","","","","","","","","","",null,"","","","","","","","","","","","","","","","","","","","","","","","","","","","","","","","","","","","","","","","","","",{"$f":"IF(A610=\"\",\"\",MAX(IF(ISERROR(AU610:BF610),0,AU610:BF610)))","v":""},"","","","","","","","","","","","","","","","","","","","","","","","","","","","","","","","","","","","","","","","","","","","",""]
[{"$f":"IF(ISBLANK('Control Sheet'!D593),\"\",'Control Sheet'!D593)","v":""},{"$f":"IF(ISBLANK('Control Sheet'!E593),\"\",'Control Sheet'!E593&\" (\"&'Control Sheet'!F593&\")\")","v":""},"","","","","","","","","","","","","",null,"","","","","","","","","","","","","","","","","","","","","","","","","","","","","","","","","","","","","","","","","","",{"$f":"IF(A613=\"\",\"\",MAX(IF(ISERROR(AU613:BF613),0,AU613:BF613)))","v":""},"","","","","","","","","","","","","","","","","","","","","","","","","","","","","","","","","","","","","","","","","","","","",""]
[{"$f":"IF(ISBLANK('Control Sheet'!D597),\"\",'Control Sheet'!D597)","v":""},{"$f":"IF(ISBLANK('Control Sheet'!E597),\"\",'Control Sheet'!E597&\" (\"&'Control Sheet'!F597&\")\")","v":""},"","","","","","","","","","","","","",null,"","","","","","","","","","","","","","","","","","","","","","","","","","","","","","","","","","","","","","","","","","",{"$f":"IF(A617=\"\",\"\",MAX(IF(ISERROR(AU617:BF617),0,AU617:BF617)))","v":""},"","","","","","","","","","","","","","","","","","","","","","","","","","","","","","","","","","","","","","","","","","","","",""]
[{"$f":"IF(ISBLANK('Control Sheet'!D599),\"\",'Control Sheet'!D599)","v":""},{"$f":"IF(ISBLANK('Control Sheet'!E599),\"\",'Control Sheet'!E599&\" (\"&'Control Sheet'!F599&\")\")","v":""},"","","","","","","","","","","","","",null,"","","","","","","","","","","","","","","","","","","","","","","","","","","","","","","","","","","","","","","","","","",{"$f":"IF(A619=\"\",\"\",MAX(IF(ISERROR(AU619:BF619),0,AU619:BF619)))","v":""},"","","","","","","","","","","","","","","","","","","","","","","","","","","","","","","","","","","","","","","","","","","","",""]
[{"$f":"IF(ISBLANK('Control Sheet'!D600),\"\",'Control Sheet'!D600)","v":""},{"$f":"IF(ISBLANK('Control Sheet'!E600),\"\",'Control Sheet'!E600&\" (\"&'Control Sheet'!F600&\")\")","v":""},"","","","","","","","","","","","","",null,"","","","","","","","","","","","","","","","","","","","","","","","","","","","","","","","","","","","","","","","","","",{"$f":"IF(A620=\"\",\"\",MAX(IF(ISERROR(AU620:BF620),0,AU620:BF620)))","v":""},"","","","","","","","","","","","","","","","","","","","","","","","","","","","","","","","","","","","","","","","","","","","",""]
[{"$f":"IF(ISBLANK('Control Sheet'!D603),\"\",'Control Sheet'!D603)","v":""},{"$f":"IF(ISBLANK('Control Sheet'!E603),\"\",'Control Sheet'!E603&\" (\"&'Control Sheet'!F603&\")\")","v":""},"","","","","","","","","","","","","",null,"","","","","","","","","","","","","","","","","","","","","","","","","","","","","","","","","","","","","","","","","","",{"$f":"IF(A623=\"\",\"\",MAX(IF(ISERROR(AU623:BF623),0,AU623:BF623)))","v":""},"","","","","","","","","","","","","","","","","","","","","","","","","","","","","","","","","","","","","","","","","","","","",""]
[{"$f":"IF(ISBLANK('Control Sheet'!D606),\"\",'Control Sheet'!D606)","v":""},{"$f":"IF(ISBLANK('Control Sheet'!E606),\"\",'Control Sheet'!E606&\" (\"&'Control Sheet'!F606&\")\")","v":""},"","","","","","","","","","","","","",null,"","","","","","","","","","","","","","","","","","","","","","","","","","","","","","","","","","","","","","","","","","",{"$f":"IF(A626=\"\",\"\",MAX(IF(ISERROR(AU626:BF626),0,AU626:BF626)))","v":""},"","","","","","","","","","","","","","","","","","","","","","","","","","","","","","","","","","","","","","","","","","","","",""]
[{"$f":"IF(ISBLANK('Control Sheet'!D610),\"\",'Control Sheet'!D610)","v":""},{"$f":"IF(ISBLANK('Control Sheet'!E610),\"\",'Control Sheet'!E610&\" (\"&'Control Sheet'!F610&\")\")","v":""},"","","","","","","","","","","","","",null,"","","","","","","","","","","","","","","","","","","","","","","","","","","","","","","","","","","","","","","","","","",{"$f":"IF(A630=\"\",\"\",MAX(IF(ISERROR(AU630:BF630),0,AU630:BF630)))","v":""},"","","","","","","","","","","","","","","","","","","","","","","","","","","","","","","","","","","","","","","","","","","","",""]
[{"$f":"IF(ISBLANK('Control Sheet'!D613),\"\",'Control Sheet'!D613)","v":""},{"$f":"IF(ISBLANK('Control Sheet'!E613),\"\",'Control Sheet'!E613&\" (\"&'Control Sheet'!F613&\")\")","v":""},"","","","","","","","","","","","","",null,"","","","","","","","","","","","","","","","","","","","","","","","","","","","","","","","","","","","","","","","","","",{"$f":"IF(A633=\"\",\"\",MAX(IF(ISERROR(AU633:BF633),0,AU633:BF633)))","v":""},"","","","","","","","","","","","","","","","","","","","","","","","","","","","","","","","","","","","","","","","","","","","",""]
[{"$f":"IF(ISBLANK('Control Sheet'!D616),\"\",'Control Sheet'!D616)","v":""},{"$f":"IF(ISBLANK('Control Sheet'!E616),\"\",'Control Sheet'!E616&\" (\"&'Control Sheet'!F616&\")\")","v":""},"","","","","","","","","","","","","",null,"","","","","","","","","","","","","","","","","","","","","","","","","","","","","","","","","","","","","","","","","","",{"$f":"IF(A636=\"\",\"\",MAX(IF(ISERROR(AU636:BF636),0,AU636:BF636)))","v":""},"","","","","","","","","","","","","","","","","","","","","","","","","","","","","","","","","","","","","","","","","","","","",""]
[{"$f":"IF(ISBLANK('Control Sheet'!D619),\"\",'Control Sheet'!D619)","v":""},{"$f":"IF(ISBLANK('Control Sheet'!E619),\"\",'Control Sheet'!E619&\" (\"&'Control Sheet'!F619&\")\")","v":""},"","","","","","","","","","","","","",null,"","","","","","","","","","","","","","","","","","","","","","","","","","","","","","","","","","","","","","","","","","",{"$f":"IF(A639=\"\",\"\",MAX(IF(ISERROR(AU639:BF639),0,AU639:BF639)))","v":""},"","","","","","","","","","","","","","","","","","","","","","","","","","","","","","","","","","","","","","","","","","","","",""]
[{"$f":"IF(ISBLANK('Control Sheet'!D622),\"\",'Control Sheet'!D622)","v":""},{"$f":"IF(ISBLANK('Control Sheet'!E622),\"\",'Control Sheet'!E622&\" (\"&'Control Sheet'!F622&\")\")","v":""},"","","","","","","","","","","","","",null,"","","","","","","","","","","","","","","","","","","","","","","","","","","","","","","","","","","","","","","","","","",{"$f":"IF(A642=\"\",\"\",MAX(IF(ISERROR(AU642:BF642),0,AU642:BF642)))","v":""},"","","","","","","","","","","","","","","","","","","","","","","","","","","","","","","","","","","","","","","","","","","","",""]
[{"$f":"IF(ISBLANK('Control Sheet'!D623),\"\",'Control Sheet'!D623)","v":""},{"$f":"IF(ISBLANK('Control Sheet'!E623),\"\",'Control Sheet'!E623&\" (\"&'Control Sheet'!F623&\")\")","v":""},"","","","","","","","","","","","","",null,"","","","","","","","","","","","","","","","","","","","","","","","","","","","","","","","","","","","","","","","","","",{"$f":"IF(A643=\"\",\"\",MAX(IF(ISERROR(AU643:BF643),0,AU643:BF643)))","v":""},"","","","","","","","","","","","","","","","","","","","","","","","","","","","","","","","","","","","","","","","","","","","",""]
[{"$f":"IF(ISBLANK('Control Sheet'!D626),\"\",'Control Sheet'!D626)","v":""},{"$f":"IF(ISBLANK('Control Sheet'!E626),\"\",'Control Sheet'!E626&\" (\"&'Control Sheet'!F626&\")\")","v":""},"","","","","","","","","","","","","",null,"","","","","","","","","","","","","","","","","","","","","","","","","","","","","","","","","","","","","","","","","","",{"$f":"IF(A646=\"\",\"\",MAX(IF(ISERROR(AU646:BF646),0,AU646:BF646)))","v":""},"","","","","","","","","","","","","","","","","","","","","","","","","","","","","","","","","","","","","","","","","","","","",""]
[{"$f":"IF(ISBLANK('Control Sheet'!D629),\"\",'Control Sheet'!D629)","v":""},{"$f":"IF(ISBLANK('Control Sheet'!E629),\"\",'Control Sheet'!E629&\" (\"&'Control Sheet'!F629&\")\")","v":""},"","","","","","","","","","","","","",null,"","","","","","","","","","","","","","","","","","","","","","","","","","","","","","","","","","","","","","","","","","",{"$f":"IF(A649=\"\",\"\",MAX(IF(ISERROR(AU649:BF649),0,AU649:BF649)))","v":""},"","","","","","","","","","","","","","","","","","","","","","","","","","","","","","","","","","","","","","","","","","","","",""]
[{"$f":"IF(ISBLANK('Control Sheet'!D633),\"\",'Control Sheet'!D633)","v":""},{"$f":"IF(ISBLANK('Control Sheet'!E633),\"\",'Control Sheet'!E633&\" (\"&'Control Sheet'!F633&\")\")","v":""},"","","","","","","","","","","","","",null,"","","","","","","","","","","","","","","","","","","","","","","","","","","","","","","","","","","","","","","","","","",{"$f":"IF(A653=\"\",\"\",MAX(IF(ISERROR(AU653:BF653),0,AU653:BF653)))","v":""},"","","","","","","","","","","","","","","","","","","","","","","","","","","","","","","","","","","","","","","","","","","","",""]
[{"$f":"IF(ISBLANK('Control Sheet'!D635),\"\",'Control Sheet'!D635)","v":""},{"$f":"IF(ISBLANK('Control Sheet'!E635),\"\",'Control Sheet'!E635&\" (\"&'Control Sheet'!F635&\")\")","v":""},"","","","","","","","","","","","","",null,"","","","","","","","","","","","","","","","","","","","","","","","","","","","","","","","","","","","","","","","","","",{"$f":"IF(A655=\"\",\"\",MAX(IF(ISERROR(AU655:BF655),0,AU655:BF655)))","v":""},"","","","","","","","","","","","","","","","","","","","","","","","","","","","","","","","","","","","","","","","","","","","",""]
[{"$f":"IF(ISBLANK('Control Sheet'!D639),\"\",'Control Sheet'!D639)","v":""},{"$f":"IF(ISBLANK('Control Sheet'!E639),\"\",'Control Sheet'!E639&\" (\"&'Control Sheet'!F639&\")\")","v":""},"","","","","","","","","","","","","",null,"","","","","","","","","","","","","","","","","","","","","","","","","","","","","","","","","","","","","","","","","","",{"$f":"IF(A659=\"\",\"\",MAX(IF(ISERROR(AU659:BF659),0,AU659:BF659)))","v":""},"","","","","","","","","","","","","","","","","","","","","","","","","","","","","","","","","","","","","","","","","","","","",""]
[{"$f":"IF(ISBLANK('Control Sheet'!D642),\"\",'Control Sheet'!D642)","v":""},{"$f":"IF(ISBLANK('Control Sheet'!E642),\"\",'Control Sheet'!E642&\" (\"&'Control Sheet'!F642&\")\")","v":""},"","","","","","","","","","","","",{"$f":"IF(A662=\"\",\"\",SUM(C662:N662))","v":""},null,{"$f":"IF(A662=\"\",\"\",IF(BG662<=400,\"No\",\"Yes\"))","v":""},"",{"$f":"IF(C662=\"\",\"\",IF(C662<=C$10,1,IF(C662<=C$7,2,IF(C662<=C$8,3,IF(C662<=C$9,4,IF(C662<=C$11,5,60))))))","v":""},{"$f":"IF(D662=\"\",\"\",IF(D662<=D$10,1,IF(D662<=D$7,2,IF(D662<=D$8,3,IF(D662<=D$9,4,IF(D662<=D$11,5,60))))))","v":""},{"$f":"IF(E662=\"\",\"\",IF(E662<=E$10,1,IF(E662<=E$7,2,IF(E662<=E$8,3,IF(E662<=E$9,4,IF(E662<=E$11,5,60))))))","v":""},{"$f":"IF(F662=\"\",\"\",IF(F662<=F$10,1,IF(F662<=F$7,2,IF(F662<=F$8,3,IF(F662<=F$9,4,IF(F662<=F$11,5,60))))))","v":""},{"$f":"IF(G662=\"\",\"\",IF(G662<=G$10,1,IF(G662<=G$7,2,IF(G662<=G$8,3,IF(G662<=G$9,4,IF(G662<=G$11,5,60))))))","v":""},{"$f":"IF(H662=\"\",\"\",IF(H662<=H$10,1,IF(H662<=H$7,2,IF(H662<=H$8,3,IF(H662<=H$9,4,IF(H662<=H$11,5,60))))))","v":""},{"$f":"IF(I662=\"\",\"\",IF(I662<=I$10,1,IF(I662<=I$7,2,IF(I662<=I$8,3,IF(I662<=I$9,4,IF(I662<=I$11,5,60))))))","v":""},{"$f":"IF(J662=\"\",\"\",IF(J662<=J$10,1,IF(J662<=J$7,2,IF(J662<=J$8,3,IF(J662<=J$9,4,IF(J662<=J$11,5,60))))))","v":""},{"$f":"IF(K662=\"\",\"\",IF(K662<=K$10,1,IF(K662<=K$7,2,IF(K662<=K$8,3,IF(K662<=K$9,4,IF(K662<=K$11,5,60))))))","v":""},{"$f":"IF(L662=\"\",\"\",IF(L662<=L$10,1,IF(L662<=L$7,2,IF(L662<=L$8,3,IF(L662<=L$9,4,IF(L662<=L$11,5,60))))))","v":""},{"$f":"IF(M662=\"\",\"\",IF(M662<=M$10,1,IF(M662<=M$7,2,IF(M662<=M$8,3,IF(M662<=M$9,4,IF(M662<=M$11,5,60))))))","v":""},{"$f":"IF(N662=\"\",\"\",IF(N662<=N$10,1,IF(N662<=N$7,2,IF(N662<=N$8,3,IF(N662<=N$9,4,IF(N662<=N$11,5,60))))))","v":""},{"$f":"IF(A662=\"\",\"\",SUM(S662:AD662))","v":""},{"$f":"IF(OR(A662=\"\",AE662=0),\"\",AE662/(O$18--R662))","v":""},{"$f":"IF(AF662=\"\",\"\",IF(AF662<=1,\"Lower Outlier\",IF(AF662<=2,\"Below Average\",IF(AF662<=3,\"Lower Quartile\",IF(AF662<=4,\"Upper Quartile\",IF(AF662<=5, \"Above Average\", \"Upper Outlier\"))))))","v":""},{"$f":"IF(C$18=1,C662,\"\")","v":""},{"$f":"IF(D$18=1,IF(D662=\"\",IF(AH662=\"\",\"\",AH662),IF(AND(D662>=0,AH662=\"\"),D662,IF(ISERROR(D662+AH662),#N/A,D662+AH662))),\"\")","v":""},{"$f":"IF(E$18=1,IF(E662=\"\",IF(AI662=\"\",\"\",AI662),IF(AND(E662>=0,AI662=\"\"),E662,IF(ISERROR(E662+AI662),#N/A,E662+AI662))),\"\")","v":""},{"$f":"IF(F$18=1,IF(F662=\"\",IF(AJ662=\"\",\"\",AJ662),IF(AND(F662>=0,AJ662=\"\"),F662,IF(ISERROR(F662+AJ662),#N/A,F662+AJ662))),\"\")","v":""},{"$f":"IF(G$18=1,IF(G662=\"\",IF(AK662=\"\",\"\",AK662),IF(AND(G662>=0,AK662=\"\"),G662,IF(ISERROR(G662+AK662),#N/A,G662+AK662))),\"\")","v":""},{"$f":"IF(H$18=1,IF(H662=\"\",IF(AL662=\"\",\"\",AL662),IF(AND(H662>=0,AL662=\"\"),H662,IF(ISERROR(H662+AL662),#N/A,H662+AL662))),\"\")","v":""},{"$f":"IF(I$18=1,IF(I662=\"\",IF(AM662=\"\",\"\",AM662),IF(AND(I662>=0,AM662=\"\"),I662,IF(ISERROR(I662+AM662),#N/A,I662+AM662))),\"\")","v":""},{"$f":"IF(J$18=1,IF(J662=\"\",IF(AN662=\"\",\"\",AN662),IF(AND(J662>=0,AN662=\"\"),J662,IF(ISERROR(J662+AN662),#N/A,J662+AN662))),\"\")","v":""},{"$f":"IF(K$18=1,IF(K662=\"\",IF(AO662=\"\",\"\",AO662),IF(AND(K662>=0,AO662=\"\"),K662,IF(ISERROR(K662+AO662),#N/A,K662+AO662))),\"\")","v":""},{"$f":"IF(L$18=1,IF(L662=\"\",IF(AP662=\"\",\"\",AP662),IF(AND(L662>=0,AP662=\"\"),L662,IF(ISERROR(L662+AP662),#N/A,L662+AP662))),\"\")","v":""},{"$f":"IF(M$18=1,IF(M662=\"\",IF(AQ662=\"\",\"\",AQ662),IF(AND(M662>=0,AQ662=\"\"),M662,IF(ISERROR(M662+AQ662),#N/A,M662+AQ662))),\"\")","v":""},{"$f":"IF(N$18=1,IF(N662=\"\",IF(AR662=\"\",\"\",AR662),IF(AND(N662>=0,AR662=\"\"),N662,IF(ISERROR(N662+AR662),#N/A,N662+AR662))),\"\")","v":""},{"$f":"IF(A662=\"\",\"\",MAX(AH662:AS662))","v":""},"","","","","","","","","","","","",{"$f":"IF(A662=\"\",\"\",MAX(IF(ISERROR(AU662:BF662),0,AU662:BF662)))","v":""},"","","","","","","","","","","","",{"$f":"IF(A662=\"\",\"\",SUM(BH662:BS662))","v":""},{"$f":"IF(A662=\"\",\"\",MIN(B662:M662))","v":""},{"$f":"IF(A662=\"\",\"\",MAX(B662:M662))","v":""},{"$f":"IF(A662=\"\",\"\",BV662-BU662)","v":""},"",{"$f":"IF(A662=\"\",\"\",(COUNTA(C662:N662)-COUNTBLANK(C662:N662)))","v":""},{"$f":"IF(A662=\"\",\"\",BY662-COUNTIF(C662:N662,\"=0\"))","v":""},"","","","","","","","","","","","",{"$f":"IF(A662=\"\",\"\",SUM(CA662:CL662))","v":""},"","","","","","","","","","","","",{"$f":"IF(A662=\"\",\"\",SUM(CN662:CY662))","v":""}]
[{"$f":"IF(ISBLANK('Control Sheet'!D645),\"\",'Control Sheet'!D645)","v":""},{"$f":"IF(ISBLANK('Control Sheet'!E645),\"\",'Control Sheet'!E645&\" (\"&'Control Sheet'!F645&\")\")","v":""},"","","","","","","","","","","","","",null,"","","","","","","","","","","","","","","","","","","","","","","","","","","","","","","","","","","","","","","","","","",{"$f":"IF(A665=\"\",\"\",MAX(IF(ISERROR(AU665:BF665),0,AU665:BF665)))","v":""},"","","","","","","","","","","","","","","","","","","","","","","","","","","","","","","","","","","","","","","","","","","","",""]
[{"$f":"IF(ISBLANK('Control Sheet'!D646),\"\",'Control Sheet'!D646)","v":""},{"$f":"IF(ISBLANK('Control Sheet'!E646),\"\",'Control Sheet'!E646&\" (\"&'Control Sheet'!F646&\")\")","v":""},"","","","","","","","","","","","","",null,"","","","","","","","","","","","","","","","","","","","","","","","","","","","","","","","","","","","","","","","","","",{"$f":"IF(A666=\"\",\"\",MAX(IF(ISERROR(AU666:BF666),0,AU666:BF666)))","v":""},"","","","","","","","","","","","","","","","","","","","","","","","","","","","","","","","","","","","","","","","","","","","",""]
[{"$f":"IF(ISBLANK('Control Sheet'!D648),\"\",'Control Sheet'!D648)","v":""},{"$f":"IF(ISBLANK('Control Sheet'!E648),\"\",'Control Sheet'!E648&\" (\"&'Control Sheet'!F648&\")\")","v":""},"","","","","","","","","","","","","",null,"","","","","","","","","","","","","","","","","","","","","","","","","","","","","","","","","","","","","","","","","","",{"$f":"IF(A668=\"\",\"\",MAX(IF(ISERROR(AU668:BF668),0,AU668:BF668)))","v":""},"","","","","","","","","","","","","","","","","","","","","","","","","","","","","","","","","","","","","","","","","","","","",""]
[{"$f":"IF(ISBLANK('Control Sheet'!D651),\"\",'Control Sheet'!D651)","v":""},{"$f":"IF(ISBLANK('Control Sheet'!E651),\"\",'Control Sheet'!E651&\" (\"&'Control Sheet'!F651&\")\")","v":""},{"$f":"IF(C$18=1,IF(ISNA(VLOOKUP($A671,INDIRECT(C$20),NMS_col,FALSE)),\"\",VLOOKUP($A671,INDIRECT(C$20),NMS_col,FALSE)),\"\")","v":""},"","","","","","","","","","","","",null,"","","","","","","","","","","","","","","","","","","","","","","","","","","","","","","","","","","","","","","","","","",{"$f":"IF(A671=\"\",\"\",MAX(IF(ISERROR(AU671:BF671),0,AU671:BF671)))","v":""},"","","","","","","","","","","","","","","","","","","","","","","","","","","","","","","","","","","","","","","","","","","","",""]
[{"$f":"IF(ISBLANK('Control Sheet'!D655),\"\",'Control Sheet'!D655)","v":""},{"$f":"IF(ISBLANK('Control Sheet'!E655),\"\",'Control Sheet'!E655&\" (\"&'Control Sheet'!F655&\")\")","v":""},"","","","","","","","","","","","","",null,"","","","","","","","","","","","","","","","","","","","","","","","","","","","","","","","","","","","","","","","","","",{"$f":"IF(A675=\"\",\"\",MAX(IF(ISERROR(AU675:BF675),0,AU675:BF675)))","v":""},"","","","","","","","","","","","","","","","","","","","","","","","","","","","","","","","","","","","","","","","","","","","",""]
[{"$f":"IF(ISBLANK('Control Sheet'!D658),\"\",'Control Sheet'!D658)","v":""},{"$f":"IF(ISBLANK('Control Sheet'!E658),\"\",'Control Sheet'!E658&\" (\"&'Control Sheet'!F658&\")\")","v":""},"","","","","","","","","","","","","",null,"","","","","","","","","","","","","","","","","","","","","","","","","","","","","","","","","","","","","","","","","","",{"$f":"IF(A678=\"\",\"\",MAX(IF(ISERROR(AU678:BF678),0,AU678:BF678)))","v":""},"","","","","","","","","","","","","","","","","","","","","","","","","","","","","","","","","","","","","","","","","","","","",""]
[{"$f":"IF(ISBLANK('Control Sheet'!D662),\"\",'Control Sheet'!D662)","v":""},{"$f":"IF(ISBLANK('Control Sheet'!E662),\"\",'Control Sheet'!E662&\" (\"&'Control Sheet'!F662&\")\")","v":""},"","","","","","","","","","","","","",null,"","","","","","","","","","","","","","","","","","","","","","","","","","","","","","","","","","","","","","","","","","",{"$f":"IF(A682=\"\",\"\",MAX(IF(ISERROR(AU682:BF682),0,AU682:BF682)))","v":""},"","","","","","","","","","","","","","","","","","","","","","","","","","","","","","","","","","","","","","","","","","","","",""]
[{"$f":"IF(ISBLANK('Control Sheet'!D663),\"\",'Control Sheet'!D663)","v":""},{"$f":"IF(ISBLANK('Control Sheet'!E663),\"\",'Control Sheet'!E663&\" (\"&'Control Sheet'!F663&\")\")","v":""},"","","","","","","","","","","","","",null,"","","","","","","","","","","","","","","","","","","","","","","","","","","","","","","","","","","","","","","","","","",{"$f":"IF(A683=\"\",\"\",MAX(IF(ISERROR(AU683:BF683),0,AU683:BF683)))","v":""},"","","","","","","","","","","","","","","","","","","","","","","","","","","","","","","","","","","","","","","","","","","","",""]
[{"$f":"IF(ISBLANK('Control Sheet'!D667),\"\",'Control Sheet'!D667)","v":""},{"$f":"IF(ISBLANK('Control Sheet'!E667),\"\",'Control Sheet'!E667&\" (\"&'Control Sheet'!F667&\")\")","v":""},"","","","","","","","","","","","","",null,"","","","","","","","","","","","","","","","","","","","","","","","","","","","","","","","","","","","","","","","","","",{"$f":"IF(A687=\"\",\"\",MAX(IF(ISERROR(AU687:BF687),0,AU687:BF687)))","v":""},"","","","","","","","","","","","","","","","","","","","","","","","","","","","","","","","","","","","","","","","","","","","",""]
[{"$f":"IF(ISBLANK('Control Sheet'!D668),\"\",'Control Sheet'!D668)","v":""},{"$f":"IF(ISBLANK('Control Sheet'!E668),\"\",'Control Sheet'!E668&\" (\"&'Control Sheet'!F668&\")\")","v":""},"","","","","","","","","","","","","",null,"","","","","","","","","","","","","","","","","","","","","","","","","","","","","","","","","","","","","","","","","","",{"$f":"IF(A688=\"\",\"\",MAX(IF(ISERROR(AU688:BF688),0,AU688:BF688)))","v":""},"","","","","","","","","","","","","","","","","","","","","","","","","","","","","","","","","","","","","","","","","","","","",""]
[{"$f":"IF(ISBLANK('Control Sheet'!D671),\"\",'Control Sheet'!D671)","v":""},{"$f":"IF(ISBLANK('Control Sheet'!E671),\"\",'Control Sheet'!E671&\" (\"&'Control Sheet'!F671&\")\")","v":""},{"$f":"IF(C$18=1,IF(ISNA(VLOOKUP($A691,INDIRECT(C$20),NMS_col,FALSE)),\"\",VLOOKUP($A691,INDIRECT(C$20),NMS_col,FALSE)),\"\")","v":""},"","","","","","","","","","","","",null,"","","","","","","","","","","","","","","","","","","","","","","","","","","","","","","","","","","","","","","","","","",{"$f":"IF(A691=\"\",\"\",MAX(IF(ISERROR(AU691:BF691),0,AU691:BF691)))","v":""},"","","","","","","","","","","","","","","","","","","","","","","","","","","","","","","","","","","","","","","","","","","","",""]
[{"$f":"IF(ISBLANK('Control Sheet'!D674),\"\",'Control Sheet'!D674)","v":""},{"$f":"IF(ISBLANK('Control Sheet'!E674),\"\",'Control Sheet'!E674&\" (\"&'Control Sheet'!F674&\")\")","v":""},"","","","","","","","","","","","","",null,"","","","","","","","","","","","","","","","","","","","","","","","","","","","","","","","","","","","","","","","","","",{"$f":"IF(A694=\"\",\"\",MAX(IF(ISERROR(AU694:BF694),0,AU694:BF694)))","v":""},"","","","","","","","","","","","","","","","","","","","","","","","","","","","","","","","","","","","","","","","","","","","",""]
[{"$f":"IF(ISBLANK('Control Sheet'!D678),\"\",'Control Sheet'!D678)","v":""},{"$f":"IF(ISBLANK('Control Sheet'!E678),\"\",'Control Sheet'!E678&\" (\"&'Control Sheet'!F678&\")\")","v":""},"","","","","","","","","","","","","",null,"","","","","","","","","","","","","","","","","","","","","","","","","","","","","","","","","","","","","","","","","","",{"$f":"IF(A698=\"\",\"\",MAX(IF(ISERROR(AU698:BF698),0,AU698:BF698)))","v":""},"","","","","","","","","","","","","","","","","","","","","","","","","","","","","","","","","","","","","","","","","","","","",""]
[{"$f":"IF(ISBLANK('Control Sheet'!D680),\"\",'Control Sheet'!D680)","v":""},{"$f":"IF(ISBLANK('Control Sheet'!E680),\"\",'Control Sheet'!E680&\" (\"&'Control Sheet'!F680&\")\")","v":""},"","","","","","","","","","","","","",null,"","","","","","","","","","","","","","","","","","","","","","","","","","","","","","","","","","","","","","","","","","",{"$f":"IF(A700=\"\",\"\",MAX(IF(ISERROR(AU700:BF700),0,AU700:BF700)))","v":""},"","","","","","","","","","","","","","","","","","","","","","","","","","","","","","","","","","","","","","","","","","","","",""]
[{"$f":"IF(ISBLANK('Control Sheet'!D684),\"\",'Control Sheet'!D684)","v":""},{"$f":"IF(ISBLANK('Control Sheet'!E684),\"\",'Control Sheet'!E684&\" (\"&'Control Sheet'!F684&\")\")","v":""},"","","","","","","","","","","","","",null,"","","","","","","","","","","","","","","","","","","","","","","","","","","","","","","","","","","","","","","","","","",{"$f":"IF(A704=\"\",\"\",MAX(IF(ISERROR(AU704:BF704),0,AU704:BF704)))","v":""},"","","","","","","","","","","","","","","","","","","","","","","","","","","","","","","","","","","","","","","","","","","","",""]
[{"$f":"IF(ISBLANK('Control Sheet'!D687),\"\",'Control Sheet'!D687)","v":""},{"$f":"IF(ISBLANK('Control Sheet'!E687),\"\",'Control Sheet'!E687&\" (\"&'Control Sheet'!F687&\")\")","v":""},"","","","","","","","","","","","","",null,"","","","","","","","","","","","","","","","","","","","","","","","","","","","","","","","","","","","","","","","","","",{"$f":"IF(A707=\"\",\"\",MAX(IF(ISERROR(AU707:BF707),0,AU707:BF707)))","v":""},"","","","","","","","","","","","","","","","","","","","","","","","","","","","","","","","","","","","","","","","","","","","",""]
[{"$f":"IF(ISBLANK('Control Sheet'!D690),\"\",'Control Sheet'!D690)","v":""},{"$f":"IF(ISBLANK('Control Sheet'!E690),\"\",'Control Sheet'!E690&\" (\"&'Control Sheet'!F690&\")\")","v":""},"","","","","","","","","","","","","",null,"","","","","","","","","","","","","","","","","","","","","","","","","","","","","","","","","","","","","","","","","","",{"$f":"IF(A710=\"\",\"\",MAX(IF(ISERROR(AU710:BF710),0,AU710:BF710)))","v":""},"","","","","","","","","","","","","","","","","","","","","","","","","","","","","","","","","","","","","","","","","","","","",""]
[{"$f":"IF(ISBLANK('Control Sheet'!D691),\"\",'Control Sheet'!D691)","v":""},{"$f":"IF(ISBLANK('Control Sheet'!E691),\"\",'Control Sheet'!E691&\" (\"&'Control Sheet'!F691&\")\")","v":""},{"$f":"IF(C$18=1,IF(ISNA(VLOOKUP($A711,INDIRECT(C$20),NMS_col,FALSE)),\"\",VLOOKUP($A711,INDIRECT(C$20),NMS_col,FALSE)),\"\")","v":""},"","","","","","","","","","","","",null,"","","","","","","","","","","","","","","","","","","","","","","","","","","","","","","","","","","","","","","","","","",{"$f":"IF(A711=\"\",\"\",MAX(IF(ISERROR(AU711:BF711),0,AU711:BF711)))","v":""},"","","","","","","","","","","","","","","","","","","","","","","","","","","","","","","","","","","","","","","","","","","","",""]
[{"$f":"IF(ISBLANK('Control Sheet'!D695),\"\",'Control Sheet'!D695)","v":""},{"$f":"IF(ISBLANK('Control Sheet'!E695),\"\",'Control Sheet'!E695&\" (\"&'Control Sheet'!F695&\")\")","v":""},"","","","","","","","","","","","","",null,"","","","","","","","","","","","","","","","","","","","","","","","","","","","","","","","","","","","","","","","","","",{"$f":"IF(A715=\"\",\"\",MAX(IF(ISERROR(AU715:BF715),0,AU715:BF715)))","v":""},"","","","","","","","","","","","","","","","","","","","","","","","","","","","","","","","","","","","","","","","","","","","",""]
[{"$f":"IF(ISBLANK('Control Sheet'!D697),\"\",'Control Sheet'!D697)","v":""},{"$f":"IF(ISBLANK('Control Sheet'!E697),\"\",'Control Sheet'!E697&\" (\"&'Control Sheet'!F697&\")\")","v":""},"","","","","","","","","","","","","",null,"","","","","","","","","","","","","","","","","","","","","","","","","","","","","","","","","","","","","","","","","","",{"$f":"IF(A717=\"\",\"\",MAX(IF(ISERROR(AU717:BF717),0,AU717:BF717)))","v":""},"","","","","","","","","","","","","","","","","","","","","","","","","","","","","","","","","","","","","","","","","","","","",""]
[{"$f":"IF(ISBLANK('Control Sheet'!D700),\"\",'Control Sheet'!D700)","v":""},{"$f":"IF(ISBLANK('Control Sheet'!E700),\"\",'Control Sheet'!E700&\" (\"&'Control Sheet'!F700&\")\")","v":""},"","","","","","","","","","","","","",null,"","","","","","","","","","","","","","","","","","","","","","","","","","","","","","","","","","","","","","","","","","",{"$f":"IF(A720=\"\",\"\",MAX(IF(ISERROR(AU720:BF720),0,AU720:BF720)))","v":""},"","","","","","","","","","","","","","","","","","","","","","","","","","","","","","","","","","","","","","","","","","","","",""]
[{"$f":"IF(ISBLANK('Control Sheet'!D703),\"\",'Control Sheet'!D703)","v":""},{"$f":"IF(ISBLANK('Control Sheet'!E703),\"\",'Control Sheet'!E703&\" (\"&'Control Sheet'!F703&\")\")","v":""},"","","","","","","","","","","","","",null,"","","","","","","","","","","","","","","","","","","","","","","","","","","","","","","","","","","","","","","","","","",{"$f":"IF(A723=\"\",\"\",MAX(IF(ISERROR(AU723:BF723),0,AU723:BF723)))","v":""},"","","","","","","","","","","","","","","","","","","","","","","","","","","","","","","","","","","","","","","","","","","","",""]
[{"$f":"IF(ISBLANK('Control Sheet'!D707),\"\",'Control Sheet'!D707)","v":""},{"$f":"IF(ISBLANK('Control Sheet'!E707),\"\",'Control Sheet'!E707&\" (\"&'Control Sheet'!F707&\")\")","v":""},"","","","","","","","","","","","","",null,"","","","","","","","","","","","","","","","","","","","","","","","","","","","","","","","","","","","","","","","","","",{"$f":"IF(A727=\"\",\"\",MAX(IF(ISERROR(AU727:BF727),0,AU727:BF727)))","v":""},"","","","","","","","","","","","","","","","","","","","","","","","","","","","","","","","","","","","","","","","","","","","",""]
[{"$f":"IF(ISBLANK('Control Sheet'!D710),\"\",'Control Sheet'!D710)","v":""},{"$f":"IF(ISBLANK('Control Sheet'!E710),\"\",'Control Sheet'!E710&\" (\"&'Control Sheet'!F710&\")\")","v":""},"","","","","","","","","","","","","",null,"","","","","","","","","","","","","","","","","","","","","","","","","","","","","","","","","","","","","","","","","","",{"$f":"IF(A730=\"\",\"\",MAX(IF(ISERROR(AU730:BF730),0,AU730:BF730)))","v":""},"","","","","","","","","","","","","","","","","","","","","","","","","","","","","","","","","","","","","","","","","","","","",""]
[{"$f":"IF(ISBLANK('Control Sheet'!D712),\"\",'Control Sheet'!D712)","v":""},{"$f":"IF(ISBLANK('Control Sheet'!E712),\"\",'Control Sheet'!E712&\" (\"&'Control Sheet'!F712&\")\")","v":""},"","","","","","","","","","","","","",null,"","","","","","","","","","","","","","","","","","","","","","","","","","","","","","","","","","","","","","","","","","",{"$f":"IF(A732=\"\",\"\",MAX(IF(ISERROR(AU732:BF732),0,AU732:BF732)))","v":""},"","","","","","","","","","","","","","","","","","","","","","","","","","","","","","","","","","","","","","","","","","","","",""]
[{"$f":"IF(ISBLANK('Control Sheet'!D713),\"\",'Control Sheet'!D713)","v":""},{"$f":"IF(ISBLANK('Control Sheet'!E713),\"\",'Control Sheet'!E713&\" (\"&'Control Sheet'!F713&\")\")","v":""},"","","","","","","","","","","","","",null,"","","","","","","","","","","","","","","","","","","","","","","","","","","","","","","","","","","","","","","","","","",{"$f":"IF(A733=\"\",\"\",MAX(IF(ISERROR(AU733:BF733),0,AU733:BF733)))","v":""},"","","","","","","","","","","","","","","","","","","","","","","","","","","","","","","","","","","","","","","","","","","","",""]
[{"$f":"IF(ISBLANK('Control Sheet'!D716),\"\",'Control Sheet'!D716)","v":""},{"$f":"IF(ISBLANK('Control Sheet'!E716),\"\",'Control Sheet'!E716&\" (\"&'Control Sheet'!F716&\")\")","v":""},"","","","","","","","","","","","","",null,"","","","","","","","","","","","","","","","","","","","","","","","","","","","","","","","","","","","","","","","","","",{"$f":"IF(A736=\"\",\"\",MAX(IF(ISERROR(AU736:BF736),0,AU736:BF736)))","v":""},"","","","","","","","","","","","","","","","","","","","","","","","","","","","","","","","","","","","","","","","","","","","",""]
[{"$f":"IF(ISBLANK('Control Sheet'!D720),\"\",'Control Sheet'!D720)","v":""},{"$f":"IF(ISBLANK('Control Sheet'!E720),\"\",'Control Sheet'!E720&\" (\"&'Control Sheet'!F720&\")\")","v":""},"","","","","","","","","","","","","",null,"","","","","","","","","","","","","","","","","","","","","","","","","","","","","","","","","","","","","","","","","","",{"$f":"IF(A740=\"\",\"\",MAX(IF(ISERROR(AU740:BF740),0,AU740:BF740)))","v":""},"","","","","","","","","","","","","","","","","","","","","","","","","","","","","","","","","","","","","","","","","","","","",""]
[{"$f":"IF(ISBLANK('Control Sheet'!D723),\"\",'Control Sheet'!D723)","v":""},{"$f":"IF(ISBLANK('Control Sheet'!E723),\"\",'Control Sheet'!E723&\" (\"&'Control Sheet'!F723&\")\")","v":""},"","","","","","","","","","","","","",null,"","","","","","","","","","","","","","","","","","","","","","","","","","","","","","","","","","","","","","","","","","",{"$f":"IF(A743=\"\",\"\",MAX(IF(ISERROR(AU743:BF743),0,AU743:BF743)))","v":""},"","","","","","","","","","","","","","","","","","","","","","","","","","","","","","","","","","","","","","","","","","","","",""]
[{"$f":"IF(ISBLANK('Control Sheet'!D726),\"\",'Control Sheet'!D726)","v":""},{"$f":"IF(ISBLANK('Control Sheet'!E726),\"\",'Control Sheet'!E726&\" (\"&'Control Sheet'!F726&\")\")","v":""},"","","","","","","","","","","","","",null,"","","","","","","","","","","","","","","","","","","","","","","","","","","","","","","","","","","","","","","","","","",{"$f":"IF(A746=\"\",\"\",MAX(IF(ISERROR(AU746:BF746),0,AU746:BF746)))","v":""},"","","","","","","","","","","","","","","","","","","","","","","","","","","","","","","","","","","","","","","","","","","","",""]
[{"$f":"IF(ISBLANK('Control Sheet'!D729),\"\",'Control Sheet'!D729)","v":""},{"$f":"IF(ISBLANK('Control Sheet'!E729),\"\",'Control Sheet'!E729&\" (\"&'Control Sheet'!F729&\")\")","v":""},"","","","","","","","","","","","","",null,"","","","","","","","","","","","","","","","","","","","","","","","","","","","","","","","","","","","","","","","","","",{"$f":"IF(A749=\"\",\"\",MAX(IF(ISERROR(AU749:BF749),0,AU749:BF749)))","v":""},"","","","","","","","","","","","","","","","","","","","","","","","","","","","","","","","","","","","","","","","","","","","",""]
[{"$f":"IF(ISBLANK('Control Sheet'!D732),\"\",'Control Sheet'!D732)","v":""},{"$f":"IF(ISBLANK('Control Sheet'!E732),\"\",'Control Sheet'!E732&\" (\"&'Control Sheet'!F732&\")\")","v":""},"","","","","","","","","","","","","",null,"","","","","","","","","","","","","","","","","","","","","","","","","","","","","","","","","","","","","","","","","","",{"$f":"IF(A752=\"\",\"\",MAX(IF(ISERROR(AU752:BF752),0,AU752:BF752)))","v":""},"","","","","","","","","","","","","","","","","","","","","","","","","","","","","","","","","","","","","","","","","","","","",""]
[{"$f":"IF(ISBLANK('Control Sheet'!D735),\"\",'Control Sheet'!D735)","v":""},{"$f":"IF(ISBLANK('Control Sheet'!E735),\"\",'Control Sheet'!E735&\" (\"&'Control Sheet'!F735&\")\")","v":""},"","","","","","","","","","","","","",null,"","","","","","","","","","","","","","","","","","","","","","","","","","","","","","","","","","","","","","","","","","",{"$f":"IF(A755=\"\",\"\",MAX(IF(ISERROR(AU755:BF755),0,AU755:BF755)))","v":""},"","","","","","","","","","","","","","","","","","","","","","","","","","","","","","","","","","","","","","","","","","","","",""]
[{"$f":"IF(ISBLANK('Control Sheet'!D736),\"\",'Control Sheet'!D736)","v":""},{"$f":"IF(ISBLANK('Control Sheet'!E736),\"\",'Control Sheet'!E736&\" (\"&'Control Sheet'!F736&\")\")","v":""},"","","","","","","","","","","","","",null,"","","","","","","","","","","","","","","","","","","","","","","","","","","","","","","","","","","","","","","","","","",{"$f":"IF(A756=\"\",\"\",MAX(IF(ISERROR(AU756:BF756),0,AU756:BF756)))","v":""},"","","","","","","","","","","","","","","","","","","","","","","","","","","","","","","","","","","","","","","","","","","","",""]
[{"$f":"IF(ISBLANK('Control Sheet'!D739),\"\",'Control Sheet'!D739)","v":""},{"$f":"IF(ISBLANK('Control Sheet'!E739),\"\",'Control Sheet'!E739&\" (\"&'Control Sheet'!F739&\")\")","v":""},"","","","","","","","","","","","","",null,"","","","","","","","","","","","","","","","","","","","","","","","","","","","","","","","","","","","","","","","","","",{"$f":"IF(A759=\"\",\"\",MAX(IF(ISERROR(AU759:BF759),0,AU759:BF759)))","v":""},"","","","","","","","","","","","","","","","","","","","","","","","","","","","","","","","","","","","","","","","","","","","",""]
[{"$f":"IF(ISBLANK('Control Sheet'!D742),\"\",'Control Sheet'!D742)","v":""},{"$f":"IF(ISBLANK('Control Sheet'!E742),\"\",'Control Sheet'!E742&\" (\"&'Control Sheet'!F742&\")\")","v":""},"","","","","","","","","","","","","",null,"","","","","","","","","","","","","","","","","","","","","","","","","","","","","","","","","","","","","","","","","","",{"$f":"IF(A762=\"\",\"\",MAX(IF(ISERROR(AU762:BF762),0,AU762:BF762)))","v":""},"","","","","","","","","","","","","","","","","","","","","","","","","","","","","","","","","","","","","","","","","","","","",""]
[{"$f":"IF(ISBLANK('Control Sheet'!D745),\"\",'Control Sheet'!D745)","v":""},{"$f":"IF(ISBLANK('Control Sheet'!E745),\"\",'Control Sheet'!E745&\" (\"&'Control Sheet'!F745&\")\")","v":""},"","","","","","","","","","","","","",null,"","","","","","","","","","","","","","","","","","","","","","","","","","","","","","","","","","","","","","","","","","",{"$f":"IF(A765=\"\",\"\",MAX(IF(ISERROR(AU765:BF765),0,AU765:BF765)))","v":""},"","","","","","","","","","","","","","","","","","","","","","","","","","","","","","","","","","","","","","","","","","","","",""]
[{"$f":"IF(ISBLANK('Control Sheet'!D748),\"\",'Control Sheet'!D748)","v":""},{"$f":"IF(ISBLANK('Control Sheet'!E748),\"\",'Control Sheet'!E748&\" (\"&'Control Sheet'!F748&\")\")","v":""},"","","","","","","","","","","","","",null,"","","","","","","","","","","","","","","","","","","","","","","","","","","","","","","","","","","","","","","","","","",{"$f":"IF(A768=\"\",\"\",MAX(IF(ISERROR(AU768:BF768),0,AU768:BF768)))","v":""},"","","","","","","","","","","","","","","","","","","","","","","","","","","","","","","","","","","","","","","","","","","","",""]
[{"$f":"IF(ISBLANK('Control Sheet'!D752),\"\",'Control Sheet'!D752)","v":""},{"$f":"IF(ISBLANK('Control Sheet'!E752),\"\",'Control Sheet'!E752&\" (\"&'Control Sheet'!F752&\")\")","v":""},"","","","","","","","","","","","","",null,"","","","","","","","","","","","","","","","","","","","","","","","","","","","","","","","","","","","","","","","","","",{"$f":"IF(A772=\"\",\"\",MAX(IF(ISERROR(AU772:BF772),0,AU772:BF772)))","v":""},"","","","","","","","","","","","","","","","","","","","","","","","","","","","","","","","","","","","","","","","","","","","",""]
[{"$f":"IF(ISBLANK('Control Sheet'!D755),\"\",'Control Sheet'!D755)","v":""},{"$f":"IF(ISBLANK('Control Sheet'!E755),\"\",'Control Sheet'!E755&\" (\"&'Control Sheet'!F755&\")\")","v":""},"","","","","","","","","","","","","",null,"","","","","","","","","","","","","","","","","","","","","","","","","","","","","","","","","","","","","","","","","","",{"$f":"IF(A775=\"\",\"\",MAX(IF(ISERROR(AU775:BF775),0,AU775:BF775)))","v":""},"","","","","","","","","","","","","","","","","","","","","","","","","","","","","","","","","","","","","","","","","","","","",""]
[{"$f":"IF(ISBLANK('Control Sheet'!D756),\"\",'Control Sheet'!D756)","v":""},{"$f":"IF(ISBLANK('Control Sheet'!E756),\"\",'Control Sheet'!E756&\" (\"&'Control Sheet'!F756&\")\")","v":""},"","","","","","","","","","","","","",null,"","","","","","","","","","","","","","","","","","","","","","","","","","","","","","","","","","","","","","","","","","",{"$f":"IF(A776=\"\",\"\",MAX(IF(ISERROR(AU776:BF776),0,AU776:BF776)))","v":""},"","","","","","","","","","","","","","","","","","","","","","","","","","","","","","","","","","","","","","","","","","","","",""]
[{"$f":"IF(ISBLANK('Control Sheet'!D759),\"\",'Control Sheet'!D759)","v":""},{"$f":"IF(ISBLANK('Control Sheet'!E759),\"\",'Control Sheet'!E759&\" (\"&'Control Sheet'!F759&\")\")","v":""},"","","","","","","","","","","","","",null,"","","","","","","","","","","","","","","","","","","","","","","","","","","","","","","","","","","","","","","","","","",{"$f":"IF(A779=\"\",\"\",MAX(IF(ISERROR(AU779:BF779),0,AU779:BF779)))","v":""},"","","","","","","","","","","","","","","","","","","","","","","","","","","","","","","","","","","","","","","","","","","","",""]
[{"$f":"IF(ISBLANK('Control Sheet'!D761),\"\",'Control Sheet'!D761)","v":""},{"$f":"IF(ISBLANK('Control Sheet'!E761),\"\",'Control Sheet'!E761&\" (\"&'Control Sheet'!F761&\")\")","v":""},{"$f":"IF(C$18=1,IF(ISNA(VLOOKUP($A781,INDIRECT(C$20),NMS_col,FALSE)),\"\",VLOOKUP($A781,INDIRECT(C$20),NMS_col,FALSE)),\"\")","v":""},"","","","","","","","","","","","",null,"","","","","","","","","","","","","","","","","","","","","","","","","","","","","","","","","","","","","","","","","","",{"$f":"IF(A781=\"\",\"\",MAX(IF(ISERROR(AU781:BF781),0,AU781:BF781)))","v":""},"","","","","","","","","","","","","","","","","","","","","","","","","","","","","","","","","","","","","","","","","","","","",""]
[{"$f":"IF(ISBLANK('Control Sheet'!D765),\"\",'Control Sheet'!D765)","v":""},{"$f":"IF(ISBLANK('Control Sheet'!E765),\"\",'Control Sheet'!E765&\" (\"&'Control Sheet'!F765&\")\")","v":""},"","","","","","","","","","","","","",null,"","","","","","","","","","","","","","","","","","","","","","","","","","","","","","","","","","","","","","","","","","",{"$f":"IF(A785=\"\",\"\",MAX(IF(ISERROR(AU785:BF785),0,AU785:BF785)))","v":""},"","","","","","","","","","","","","","","","","","","","","","","","","","","","","","","","","","","","","","","","","","","","",""]
[{"$f":"IF(ISBLANK('Control Sheet'!D768),\"\",'Control Sheet'!D768)","v":""},{"$f":"IF(ISBLANK('Control Sheet'!E768),\"\",'Control Sheet'!E768&\" (\"&'Control Sheet'!F768&\")\")","v":""},"","","","","","","","","","","","","",null,"","","","","","","","","","","","","","","","","","","","","","","","","","","","","","","","","","","","","","","","","","",{"$f":"IF(A788=\"\",\"\",MAX(IF(ISERROR(AU788:BF788),0,AU788:BF788)))","v":""},"","","","","","","","","","","","","","","","","","","","","","","","","","","","","","","","","","","","","","","","","","","","",""]
[{"$f":"IF(ISBLANK('Control Sheet'!D771),\"\",'Control Sheet'!D771)","v":""},{"$f":"IF(ISBLANK('Control Sheet'!E771),\"\",'Control Sheet'!E771&\" (\"&'Control Sheet'!F771&\")\")","v":""},{"$f":"IF(C$18=1,IF(ISNA(VLOOKUP($A791,INDIRECT(C$20),NMS_col,FALSE)),\"\",VLOOKUP($A791,INDIRECT(C$20),NMS_col,FALSE)),\"\")","v":""},"","","","","","","","","","","","",null,"","","","","","","","","","","","","","","","","","","","","","","","","","","","","","","","","","","","","","","","","","",{"$f":"IF(A791=\"\",\"\",MAX(IF(ISERROR(AU791:BF791),0,AU791:BF791)))","v":""},"","","","","","","","","","","","","","","","","","","","","","","","","","","","","","","","","","","","","","","","","","","","",""]
[{"$f":"IF(ISBLANK('Control Sheet'!D775),\"\",'Control Sheet'!D775)","v":""},{"$f":"IF(ISBLANK('Control Sheet'!E775),\"\",'Control Sheet'!E775&\" (\"&'Control Sheet'!F775&\")\")","v":""},"","","","","","","","","","","","","",null,"","","","","","","","","","","","","","","","","","","","","","","","","","","","","","","","","","","","","","","","","","",{"$f":"IF(A795=\"\",\"\",MAX(IF(ISERROR(AU795:BF795),0,AU795:BF795)))","v":""},"","","","","","","","","","","","","","","","","","","","","","","","","","","","","","","","","","","","","","","","","","","","",""]
[{"$f":"IF(ISBLANK('Control Sheet'!D776),\"\",'Control Sheet'!D776)","v":""},{"$f":"IF(ISBLANK('Control Sheet'!E776),\"\",'Control Sheet'!E776&\" (\"&'Control Sheet'!F776&\")\")","v":""},"","","","","","","","","","","","","",null,"","","","","","","","","","","","","","","","","","","","","","","","","","","","","","","","","","","","","","","","","","",{"$f":"IF(A796=\"\",\"\",MAX(IF(ISERROR(AU796:BF796),0,AU796:BF796)))","v":""},"","","","","","","","","","","","","","","","","","","","","","","","","","","","","","","","","","","","","","","","","","","","",""]
[{"$f":"IF(ISBLANK('Control Sheet'!D778),\"\",'Control Sheet'!D778)","v":""},{"$f":"IF(ISBLANK('Control Sheet'!E778),\"\",'Control Sheet'!E778&\" (\"&'Control Sheet'!F778&\")\")","v":""},"","","","","","","","","","","","","",null,"","","","","","","","","","","","","","","","","","","","","","","","","","","","","","","","","","","","","","","","","","",{"$f":"IF(A798=\"\",\"\",MAX(IF(ISERROR(AU798:BF798),0,AU798:BF798)))","v":""},"","","","","","","","","","","","","","","","","","","","","","","","","","","","","","","","","","","","","","","","","","","","",""]
[{"$f":"IF(ISBLANK('Control Sheet'!D781),\"\",'Control Sheet'!D781)","v":""},{"$f":"IF(ISBLANK('Control Sheet'!E781),\"\",'Control Sheet'!E781&\" (\"&'Control Sheet'!F781&\")\")","v":""},{"$f":"IF(C$18=1,IF(ISNA(VLOOKUP($A801,INDIRECT(C$20),NMS_col,FALSE)),\"\",VLOOKUP($A801,INDIRECT(C$20),NMS_col,FALSE)),\"\")","v":""},"","","","","","","","","","","","",null,"","","","","","","","","","","","","","","","","","","","","","","","","","","","","","","","","","","","","","","","","","",{"$f":"IF(A801=\"\",\"\",MAX(IF(ISERROR(AU801:BF801),0,AU801:BF801)))","v":""},"","","","","","","","","","","","","","","","","","","","","","","","","","","","","","","","","","","","","","","","","","","","",""]
[{"$f":"IF(ISBLANK('Control Sheet'!D784),\"\",'Control Sheet'!D784)","v":""},{"$f":"IF(ISBLANK('Control Sheet'!E784),\"\",'Control Sheet'!E784&\" (\"&'Control Sheet'!F784&\")\")","v":""},"","","","","","","","","","","","","",null,"","","","","","","","","","","","","","","","","","","","","","","","","","","","","","","","","","","","","","","","","","",{"$f":"IF(A804=\"\",\"\",MAX(IF(ISERROR(AU804:BF804),0,AU804:BF804)))","v":""},"","","","","","","","","","","","","","","","","","","","","","","","","","","","","","","","","","","","","","","","","","","","",""]
[{"$f":"IF(ISBLANK('Control Sheet'!D788),\"\",'Control Sheet'!D788)","v":""},{"$f":"IF(ISBLANK('Control Sheet'!E788),\"\",'Control Sheet'!E788&\" (\"&'Control Sheet'!F788&\")\")","v":""},"","","","","","","","","","","","","",null,"","","","","","","","","","","","","","","","","","","","","","","","","","","","","","","","","","","","","","","","","","",{"$f":"IF(A808=\"\",\"\",MAX(IF(ISERROR(AU808:BF808),0,AU808:BF808)))","v":""},"","","","","","","","","","","","","","","","","","","","","","","","","","","","","","","","","","","","","","","","","","","","",""]
[{"$f":"IF(ISBLANK('Control Sheet'!D791),\"\",'Control Sheet'!D791)","v":""},{"$f":"IF(ISBLANK('Control Sheet'!E791),\"\",'Control Sheet'!E791&\" (\"&'Control Sheet'!F791&\")\")","v":""},{"$f":"IF(C$18=1,IF(ISNA(VLOOKUP($A811,INDIRECT(C$20),NMS_col,FALSE)),\"\",VLOOKUP($A811,INDIRECT(C$20),NMS_col,FALSE)),\"\")","v":""},"","","","","","","","","","","","",null,"","","","","","","","","","","","","","","","","","","","","","","","","","","","","","","","","","","","","","","","","","",{"$f":"IF(A811=\"\",\"\",MAX(IF(ISERROR(AU811:BF811),0,AU811:BF811)))","v":""},"","","","","","","","","","","","","","","","","","","","","","","","","","","","","","","","","","","","","","","","","","","","",""]
[{"$f":"IF(ISBLANK('Control Sheet'!D794),\"\",'Control Sheet'!D794)","v":""},{"$f":"IF(ISBLANK('Control Sheet'!E794),\"\",'Control Sheet'!E794&\" (\"&'Control Sheet'!F794&\")\")","v":""},"","","","","","","","","","","","","",null,"","","","","","","","","","","","","","","","","","","","","","","","","","","","","","","","","","","","","","","","","","",{"$f":"IF(A814=\"\",\"\",MAX(IF(ISERROR(AU814:BF814),0,AU814:BF814)))","v":""},"","","","","","","","","","","","","","","","","","","","","","","","","","","","","","","","","","","","","","","","","","","","",""]
[{"$f":"IF(ISBLANK('Control Sheet'!D797),\"\",'Control Sheet'!D797)","v":""},{"$f":"IF(ISBLANK('Control Sheet'!E797),\"\",'Control Sheet'!E797&\" (\"&'Control Sheet'!F797&\")\")","v":""},"","","","","","","","","","","","","",null,"","","","","","","","","","","","","","","","","","","","","","","","","","","","","","","","","","","","","","","","","","",{"$f":"IF(A817=\"\",\"\",MAX(IF(ISERROR(AU817:BF817),0,AU817:BF817)))","v":""},"","","","","","","","","","","","","","","","","","","","","","","","","","","","","","","","","","","","","","","","","","","","",""]
[{"$f":"IF(ISBLANK('Control Sheet'!D800),\"\",'Control Sheet'!D800)","v":""},{"$f":"IF(ISBLANK('Control Sheet'!E800),\"\",'Control Sheet'!E800&\" (\"&'Control Sheet'!F800&\")\")","v":""},"","","","","","","","","","","","","",null,"","","","","","","","","","","","","","","","","","","","","","","","","","","","","","","","","","","","","","","","","","",{"$f":"IF(A820=\"\",\"\",MAX(IF(ISERROR(AU820:BF820),0,AU820:BF820)))","v":""},"","","","","","","","","","","","","","","","","","","","","","","","","","","","","","","","","","","","","","","","","","","","",""]
[{"$f":"IF(ISBLANK('Control Sheet'!D801),\"\",'Control Sheet'!D801)","v":""},{"$f":"IF(ISBLANK('Control Sheet'!E801),\"\",'Control Sheet'!E801&\" (\"&'Control Sheet'!F801&\")\")","v":""},{"$f":"IF(C$18=1,IF(ISNA(VLOOKUP($A821,INDIRECT(C$20),NMS_col,FALSE)),\"\",VLOOKUP($A821,INDIRECT(C$20),NMS_col,FALSE)),\"\")","v":""},"","","","","","","","","","","","",null,"","","","","","","","","","","","","","","","","","","","","","","","","","","","","","","","","","","","","","","","","","",{"$f":"IF(A821=\"\",\"\",MAX(IF(ISERROR(AU821:BF821),0,AU821:BF821)))","v":""},"","","","","","","","","","","","","","","","",{"$f":"IF(A821=\"\",\"\",IF(BW821>$BW$11,\"Yes\",\"No\"))","v":""},"","","","","","","","","","","","","","","","","","","","","","","","","","","",""]
[{"$f":"IF(ISBLANK('Control Sheet'!D804),\"\",'Control Sheet'!D804)","v":""},{"$f":"IF(ISBLANK('Control Sheet'!E804),\"\",'Control Sheet'!E804&\" (\"&'Control Sheet'!F804&\")\")","v":""},"","","","","","","","","","","","","",null,"","","","","","","","","","","","","","","","","","","","","","","","","","","","","","","","","","","","","","","","","","",{"$f":"IF(A824=\"\",\"\",MAX(IF(ISERROR(AU824:BF824),0,AU824:BF824)))","v":""},"","","","","","","","","","","","","","","","","","","","","","","","","","","","","","","","","","","","","","","","","","","","",""]
[{"$f":"IF(ISBLANK('Control Sheet'!D808),\"\",'Control Sheet'!D808)","v":""},{"$f":"IF(ISBLANK('Control Sheet'!E808),\"\",'Control Sheet'!E808&\" (\"&'Control Sheet'!F808&\")\")","v":""},"","","","","","","","","","","","","",null,"","","","","","","","","","","","","","","","","","","","","","","","","","","","","","","","","","","","","","","","","","",{"$f":"IF(A828=\"\",\"\",MAX(IF(ISERROR(AU828:BF828),0,AU828:BF828)))","v":""},"","","","","","","","","","","","","","","","","","","","","","","","","","","","","","","","","","","","","","","","","","","","",""]
[{"$f":"IF(ISBLANK('Control Sheet'!D810),\"\",'Control Sheet'!D810)","v":""},{"$f":"IF(ISBLANK('Control Sheet'!E810),\"\",'Control Sheet'!E810&\" (\"&'Control Sheet'!F810&\")\")","v":""},"","","","","","","","","","","","","",null,"","","","","","","","","","","","","","","","","","","","","","","","","","","","","","","","","","","","","","","","","","",{"$f":"IF(A830=\"\",\"\",MAX(IF(ISERROR(AU830:BF830),0,AU830:BF830)))","v":""},"","","","","","","","","","","","","","","","","","","","","","","","","","","","","","","","","","","","","","","","","","","","",""]
[{"$f":"IF(ISBLANK('Control Sheet'!D813),\"\",'Control Sheet'!D813)","v":""},{"$f":"IF(ISBLANK('Control Sheet'!E813),\"\",'Control Sheet'!E813&\" (\"&'Control Sheet'!F813&\")\")","v":""},"","","","","","","","","","","","","",null,"","","","","","","","","","","","","","","","","","","","","","","","","","","","","","","","","","","","","","","","","","",{"$f":"IF(A833=\"\",\"\",MAX(IF(ISERROR(AU833:BF833),0,AU833:BF833)))","v":""},"","","","","","","","","","","","","","","","","","","","","","","","","","","","","","","","","","","","","","","","","","","","",""]
[{"$f":"IF(ISBLANK('Control Sheet'!D817),\"\",'Control Sheet'!D817)","v":""},{"$f":"IF(ISBLANK('Control Sheet'!E817),\"\",'Control Sheet'!E817&\" (\"&'Control Sheet'!F817&\")\")","v":""},"","","","","","","","","","","","","",null,"","","","","","","","","","","","","","","","","","","","","","","","","","","","","","","","","","","","","","","","","","",{"$f":"IF(A837=\"\",\"\",MAX(IF(ISERROR(AU837:BF837),0,AU837:BF837)))","v":""},"","","","","","","","","","","","","","","","","","","","","","","","","","","","","","","","","","","","","","","","","","","","",""]
[{"$f":"IF(ISBLANK('Control Sheet'!D820),\"\",'Control Sheet'!D820)","v":""},{"$f":"IF(ISBLANK('Control Sheet'!E820),\"\",'Control Sheet'!E820&\" (\"&'Control Sheet'!F820&\")\")","v":""},"","","","","","","","","","","","","",null,"","","","","","","","","","","","","","","","","","","","","","","","","","","","","","","","","","","","","","","","","","",{"$f":"IF(A840=\"\",\"\",MAX(IF(ISERROR(AU840:BF840),0,AU840:BF840)))","v":""},"","","","","","","","","","","","","","","","","","","","","","","","","","","","","","","","","","","","","","","","","","","","",""]
[{"$f":"IF(ISBLANK('Control Sheet'!D823),\"\",'Control Sheet'!D823)","v":""},{"$f":"IF(ISBLANK('Control Sheet'!E823),\"\",'Control Sheet'!E823&\" (\"&'Control Sheet'!F823&\")\")","v":""},"","","","","","","","","","","","","",null,"","","","","","","","","","","","","","","","","","","","","","","","","","","","","","","","","","","","","","","","","","",{"$f":"IF(A843=\"\",\"\",MAX(IF(ISERROR(AU843:BF843),0,AU843:BF843)))","v":""},"","","","","","","","","","","","","","","","","","","","","","","","","","","","","","","","","","","","","","","","","","","","",""]
[{"$f":"IF(ISBLANK('Control Sheet'!D825),\"\",'Control Sheet'!D825)","v":""},{"$f":"IF(ISBLANK('Control Sheet'!E825),\"\",'Control Sheet'!E825&\" (\"&'Control Sheet'!F825&\")\")","v":""},"","","","","","","","","","","","","",null,"","","","","","","","","","","","","","","","","","","","","","","","","","","","","","","","","","","","","","","","","","",{"$f":"IF(A845=\"\",\"\",MAX(IF(ISERROR(AU845:BF845),0,AU845:BF845)))","v":""},"","","","","","","","","","","","","","","","","","","","","","","","","","","","","","","","","","","","","","","","","","","","",""]
[{"$f":"IF(ISBLANK('Control Sheet'!D826),\"\",'Control Sheet'!D826)","v":""},{"$f":"IF(ISBLANK('Control Sheet'!E826),\"\",'Control Sheet'!E826&\" (\"&'Control Sheet'!F826&\")\")","v":""},"","","","","","","","","","","","","",null,"","","","","","","","","","","","","","","","","","","","","","","","","","","","","","","","","","","","","","","","","","",{"$f":"IF(A846=\"\",\"\",MAX(IF(ISERROR(AU846:BF846),0,AU846:BF846)))","v":""},"","","","","","","","","","","","","","","","","","","","","","","","","","","","","","","","","","","","","","","","","","","","",""]
[{"$f":"IF(ISBLANK('Control Sheet'!D829),\"\",'Control Sheet'!D829)","v":""},{"$f":"IF(ISBLANK('Control Sheet'!E829),\"\",'Control Sheet'!E829&\" (\"&'Control Sheet'!F829&\")\")","v":""},"","","","","","","","","","","","","",null,"","","","","","","","","","","","","","","","","","","","","","","","","","","","","","","","","","","","","","","","","","",{"$f":"IF(A849=\"\",\"\",MAX(IF(ISERROR(AU849:BF849),0,AU849:BF849)))","v":""},"","","","","","","","","","","","","","","","","","","","","","","","","","","","","","","","","","","","","","","","","","","","",""]
[{"$f":"IF(ISBLANK('Control Sheet'!D833),\"\",'Control Sheet'!D833)","v":""},{"$f":"IF(ISBLANK('Control Sheet'!E833),\"\",'Control Sheet'!E833&\" (\"&'Control Sheet'!F833&\")\")","v":""},"","","","","","","","","","","","","",null,"",{"$f":"IF(A853=\"\",\"\",NMSMonthsPop-(COUNTA(C853:N853)-COUNTBLANK(C853:N853)))","v":""},"","","","","","","","","","","","","","","","","","","","","","","","","","","","",{"$f":"IF(OR(A853=\"\",NMSMonthsPop=0),\"\",IF(AU$18=NMSMonthsPop,AH853,#N/A))","v":""},{"$f":"IF(OR($A853=\"\",NMSMonthsPop=0),\"\",IF(AV$18<NMSMonthsPop,#N/A,IF(AV$18=NMSMonthsPop,AI853,IF(AU853=\"\",\"\",IF(AV$18=NMSMonthsPop+1,AU853+(AU853*VLOOKUP(NMSMonthsPop-$R853,ForecastMult,3,FALSE)/12),AU853+AU853-AT853)))))","v":""},{"$f":"IF(OR($A853=\"\",NMSMonthsPop=0),\"\",IF(AW$18<NMSMonthsPop,#N/A,IF(AW$18=NMSMonthsPop,AJ853,IF(AV853=\"\",\"\",IF(AW$18=NMSMonthsPop+1,AV853+(AV853*VLOOKUP(NMSMonthsPop-$R853,ForecastMult,3,FALSE)/12),AV853+AV853-AU853)))))","v":""},{"$f":"IF(OR($A853=\"\",NMSMonthsPop=0),\"\",IF(AX$18<NMSMonthsPop,#N/A,IF(AX$18=NMSMonthsPop,AK853,IF(AW853=\"\",\"\",IF(AX$18=NMSMonthsPop+1,AW853+(AW853*VLOOKUP(NMSMonthsPop-$R853,ForecastMult,3,FALSE)/12),AW853+AW853-AV853)))))","v":""},{"$f":"IF(OR($A853=\"\",NMSMonthsPop=0),\"\",IF(AY$18<NMSMonthsPop,#N/A,IF(AY$18=NMSMonthsPop,AL853,IF(AX853=\"\",\"\",IF(AY$18=NMSMonthsPop+1,AX853+(AX853*VLOOKUP(NMSMonthsPop-$R853,ForecastMult,3,FALSE)/12),AX853+AX853-AW853)))))","v":""},{"$f":"IF(OR($A853=\"\",NMSMonthsPop=0),\"\",IF(AZ$18<NMSMonthsPop,#N/A,IF(AZ$18=NMSMonthsPop,AM853,IF(AY853=\"\",\"\",IF(AZ$18=NMSMonthsPop+1,AY853+(AY853*VLOOKUP(NMSMonthsPop-$R853,ForecastMult,3,FALSE)/12),AY853+AY853-AX853)))))","v":""},{"$f":"IF(OR($A853=\"\",NMSMonthsPop=0),\"\",IF(BA$18<NMSMonthsPop,#N/A,IF(BA$18=NMSMonthsPop,AN853,IF(AZ853=\"\",\"\",IF(BA$18=NMSMonthsPop+1,AZ853+(AZ853*VLOOKUP(NMSMonthsPop-$R853,ForecastMult,3,FALSE)/12),AZ853+AZ853-AY853)))))","v":""},{"$f":"IF(OR($A853=\"\",NMSMonthsPop=0),\"\",IF(BB$18<NMSMonthsPop,#N/A,IF(BB$18=NMSMonthsPop,AO853,IF(BA853=\"\",\"\",IF(BB$18=NMSMonthsPop+1,BA853+(BA853*VLOOKUP(NMSMonthsPop-$R853,ForecastMult,3,FALSE)/12),BA853+BA853-AZ853)))))","v":""},{"$f":"IF(OR($A853=\"\",NMSMonthsPop=0),\"\",IF(BC$18<NMSMonthsPop,#N/A,IF(BC$18=NMSMonthsPop,AP853,IF(BB853=\"\",\"\",IF(BC$18=NMSMonthsPop+1,BB853+(BB853*VLOOKUP(NMSMonthsPop-$R853,ForecastMult,3,FALSE)/12),BB853+BB853-BA853)))))","v":""},{"$f":"IF(OR($A853=\"\",NMSMonthsPop=0),\"\",IF(BD$18<NMSMonthsPop,#N/A,IF(BD$18=NMSMonthsPop,AQ853,IF(BC853=\"\",\"\",IF(BD$18=NMSMonthsPop+1,BC853+(BC853*VLOOKUP(NMSMonthsPop-$R853,ForecastMult,3,FALSE)/12),BC853+BC853-BB853)))))","v":""},{"$f":"IF(OR($A853=\"\",NMSMonthsPop=0),\"\",IF(BE$18<NMSMonthsPop,#N/A,IF(BE$18=NMSMonthsPop,AR853,IF(BD853=\"\",\"\",IF(BE$18=NMSMonthsPop+1,BD853+(BD853*VLOOKUP(NMSMonthsPop-$R853,ForecastMult,3,FALSE)/12),BD853+BD853-BC853)))))","v":""},{"$f":"IF(OR($A853=\"\",NMSMonthsPop=0),\"\",IF(BF$18<NMSMonthsPop,#N/A,IF(BF$18=NMSMonthsPop,AS853,IF(BE853=\"\",\"\",IF(BF$18=NMSMonthsPop+1,BE853+(BE853*VLOOKUP(NMSMonthsPop-$R853,ForecastMult,3,FALSE)/12),BE853+BE853-BD853)))))","v":""},{"$f":"IF(A853=\"\",\"\",MAX(IF(ISERROR(AU853:BF853),0,AU853:BF853)))","v":""},{"$f":"IF(AND(C$18=1,$A853<>\"\"),IF(ISNA(VLOOKUP($A853,INDIRECT(C$20),NMS_items_col,FALSE)),\"\",VLOOKUP($A853,INDIRECT(C$20),NMS_items_col,FALSE)),\"\")","v":""},{"$f":"IF(AND(D$18=1,$A853<>\"\"),IF(ISNA(VLOOKUP($A853,INDIRECT(D$20),NMS_items_col,FALSE)),\"\",VLOOKUP($A853,INDIRECT(D$20),NMS_items_col,FALSE)),\"\")","v":""},{"$f":"IF(AND(E$18=1,$A853<>\"\"),IF(ISNA(VLOOKUP($A853,INDIRECT(E$20),NMS_items_col,FALSE)),\"\",VLOOKUP($A853,INDIRECT(E$20),NMS_items_col,FALSE)),\"\")","v":""},{"$f":"IF(AND(F$18=1,$A853<>\"\"),IF(ISNA(VLOOKUP($A853,INDIRECT(F$20),NMS_items_col,FALSE)),\"\",VLOOKUP($A853,INDIRECT(F$20),NMS_items_col,FALSE)),\"\")","v":""},{"$f":"IF(AND(G$18=1,$A853<>\"\"),IF(ISNA(VLOOKUP($A853,INDIRECT(G$20),NMS_items_col,FALSE)),\"\",VLOOKUP($A853,INDIRECT(G$20),NMS_items_col,FALSE)),\"\")","v":""},{"$f":"IF(AND(H$18=1,$A853<>\"\"),IF(ISNA(VLOOKUP($A853,INDIRECT(H$20),NMS_items_col,FALSE)),\"\",VLOOKUP($A853,INDIRECT(H$20),NMS_items_col,FALSE)),\"\")","v":""},{"$f":"IF(AND(I$18=1,$A853<>\"\"),IF(ISNA(VLOOKUP($A853,INDIRECT(I$20),NMS_items_col,FALSE)),\"\",VLOOKUP($A853,INDIRECT(I$20),NMS_items_col,FALSE)),\"\")","v":""},{"$f":"IF(AND(J$18=1,$A853<>\"\"),IF(ISNA(VLOOKUP($A853,INDIRECT(J$20),NMS_items_col,FALSE)),\"\",VLOOKUP($A853,INDIRECT(J$20),NMS_items_col,FALSE)),\"\")","v":""},{"$f":"IF(AND(K$18=1,$A853<>\"\"),IF(ISNA(VLOOKUP($A853,INDIRECT(K$20),NMS_items_col,FALSE)),\"\",VLOOKUP($A853,INDIRECT(K$20),NMS_items_col,FALSE)),\"\")","v":""},{"$f":"IF(AND(L$18=1,$A853<>\"\"),IF(ISNA(VLOOKUP($A853,INDIRECT(L$20),NMS_items_col,FALSE)),\"\",VLOOKUP($A853,INDIRECT(L$20),NMS_items_col,FALSE)),\"\")","v":""},{"$f":"IF(AND(M$18=1,$A853<>\"\"),IF(ISNA(VLOOKUP($A853,INDIRECT(M$20),NMS_items_col,FALSE)),\"\",VLOOKUP($A853,INDIRECT(M$20),NMS_items_col,FALSE)),\"\")","v":""},{"$f":"IF(AND(N$18=1,$A853<>\"\"),IF(ISNA(VLOOKUP($A853,INDIRECT(N$20),NMS_items_col,FALSE)),\"\",VLOOKUP($A853,INDIRECT(N$20),NMS_items_col,FALSE)),\"\")","v":""},"","","","","","","",{"$f":"IF(C$18=1,IF(ISNA(VLOOKUP($A853,INDIRECT(C$20),NMS_fee_col,FALSE)),\"\",VLOOKUP($A853,INDIRECT(C$20),NMS_fee_col,FALSE)),\"\")","v":""},{"$f":"IF(D$18=1,IF(ISNA(VLOOKUP($A853,INDIRECT(D$20),NMS_fee_col,FALSE)),\"\",VLOOKUP($A853,INDIRECT(D$20),NMS_fee_col,FALSE)),\"\")","v":""},{"$f":"IF(E$18=1,IF(ISNA(VLOOKUP($A853,INDIRECT(E$20),NMS_fee_col,FALSE)),\"\",VLOOKUP($A853,INDIRECT(E$20),NMS_fee_col,FALSE)),\"\")","v":""},{"$f":"IF(F$18=1,IF(ISNA(VLOOKUP($A853,INDIRECT(F$20),NMS_fee_col,FALSE)),\"\",VLOOKUP($A853,INDIRECT(F$20),NMS_fee_col,FALSE)),\"\")","v":""},{"$f":"IF(G$18=1,IF(ISNA(VLOOKUP($A853,INDIRECT(G$20),NMS_fee_col,FALSE)),\"\",VLOOKUP($A853,INDIRECT(G$20),NMS_fee_col,FALSE)),\"\")","v":""},{"$f":"IF(H$18=1,IF(ISNA(VLOOKUP($A853,INDIRECT(H$20),NMS_fee_col,FALSE)),\"\",VLOOKUP($A853,INDIRECT(H$20),NMS_fee_col,FALSE)),\"\")","v":""},{"$f":"IF(I$18=1,IF(ISNA(VLOOKUP($A853,INDIRECT(I$20),NMS_fee_col,FALSE)),\"\",VLOOKUP($A853,INDIRECT(I$20),NMS_fee_col,FALSE)),\"\")","v":""},{"$f":"IF(J$18=1,IF(ISNA(VLOOKUP($A853,INDIRECT(J$20),NMS_fee_col,FALSE)),\"\",VLOOKUP($A853,INDIRECT(J$20),NMS_fee_col,FALSE)),\"\")","v":""},{"$f":"IF(K$18=1,IF(ISNA(VLOOKUP($A853,INDIRECT(K$20),NMS_fee_col,FALSE)),\"\",VLOOKUP($A853,INDIRECT(K$20),NMS_fee_col,FALSE)),\"\")","v":""},{"$f":"IF(L$18=1,IF(ISNA(VLOOKUP($A853,INDIRECT(L$20),NMS_fee_col,FALSE)),\"\",VLOOKUP($A853,INDIRECT(L$20),NMS_fee_col,FALSE)),\"\")","v":""},{"$f":"IF(M$18=1,IF(ISNA(VLOOKUP($A853,INDIRECT(M$20),NMS_fee_col,FALSE)),\"\",VLOOKUP($A853,INDIRECT(M$20),NMS_fee_col,FALSE)),\"\")","v":""},{"$f":"IF(N$18=1,IF(ISNA(VLOOKUP($A853,INDIRECT(N$20),NMS_fee_col,FALSE)),\"\",VLOOKUP($A853,INDIRECT(N$20),NMS_fee_col,FALSE)),\"\")","v":""},"",{"$f":"IF(C$18=1,IF(ISNA(VLOOKUP($A853,INDIRECT(C$20),NMS_Fee_adj_col,FALSE)),\"\",VLOOKUP($A853,INDIRECT(C$20),NMS_Fee_adj_col,FALSE)),\"\")","v":""},{"$f":"IF(D$18=1,IF(ISNA(VLOOKUP($A853,INDIRECT(D$20),NMS_Fee_adj_col,FALSE)),\"\",VLOOKUP($A853,INDIRECT(D$20),NMS_Fee_adj_col,FALSE)),\"\")","v":""},{"$f":"IF(E$18=1,IF(ISNA(VLOOKUP($A853,INDIRECT(E$20),NMS_Fee_adj_col,FALSE)),\"\",VLOOKUP($A853,INDIRECT(E$20),NMS_Fee_adj_col,FALSE)),\"\")","v":""},{"$f":"IF(F$18=1,IF(ISNA(VLOOKUP($A853,INDIRECT(F$20),NMS_Fee_adj_col,FALSE)),\"\",VLOOKUP($A853,INDIRECT(F$20),NMS_Fee_adj_col,FALSE)),\"\")","v":""},{"$f":"IF(G$18=1,IF(ISNA(VLOOKUP($A853,INDIRECT(G$20),NMS_Fee_adj_col,FALSE)),\"\",VLOOKUP($A853,INDIRECT(G$20),NMS_Fee_adj_col,FALSE)),\"\")","v":""},{"$f":"IF(H$18=1,IF(ISNA(VLOOKUP($A853,INDIRECT(H$20),NMS_Fee_adj_col,FALSE)),\"\",VLOOKUP($A853,INDIRECT(H$20),NMS_Fee_adj_col,FALSE)),\"\")","v":""},{"$f":"IF(I$18=1,IF(ISNA(VLOOKUP($A853,INDIRECT(I$20),NMS_Fee_adj_col,FALSE)),\"\",VLOOKUP($A853,INDIRECT(I$20),NMS_Fee_adj_col,FALSE)),\"\")","v":""},{"$f":"IF(J$18=1,IF(ISNA(VLOOKUP($A853,INDIRECT(J$20),NMS_Fee_adj_col,FALSE)),\"\",VLOOKUP($A853,INDIRECT(J$20),NMS_Fee_adj_col,FALSE)),\"\")","v":""},{"$f":"IF(K$18=1,IF(ISNA(VLOOKUP($A853,INDIRECT(K$20),NMS_Fee_adj_col,FALSE)),\"\",VLOOKUP($A853,INDIRECT(K$20),NMS_Fee_adj_col,FALSE)),\"\")","v":""},{"$f":"IF(L$18=1,IF(ISNA(VLOOKUP($A853,INDIRECT(L$20),NMS_Fee_adj_col,FALSE)),\"\",VLOOKUP($A853,INDIRECT(L$20),NMS_Fee_adj_col,FALSE)),\"\")","v":""},{"$f":"IF(M$18=1,IF(ISNA(VLOOKUP($A853,INDIRECT(M$20),NMS_Fee_adj_col,FALSE)),\"\",VLOOKUP($A853,INDIRECT(M$20),NMS_Fee_adj_col,FALSE)),\"\")","v":""},{"$f":"IF(N$18=1,IF(ISNA(VLOOKUP($A853,INDIRECT(N$20),NMS_Fee_adj_col,FALSE)),\"\",VLOOKUP($A853,INDIRECT(N$20),NMS_Fee_adj_col,FALSE)),\"\")","v":""},""]
[{"$f":"IF(ISBLANK('Control Sheet'!D836),\"\",'Control Sheet'!D836)","v":""},{"$f":"IF(ISBLANK('Control Sheet'!E836),\"\",'Control Sheet'!E836&\" (\"&'Control Sheet'!F836&\")\")","v":""},"","","","","","","","","","","","","",null,"","","","","","","","","","","","","","","","","","","","","","","","","","","","","","","","","","","","","","","","","","",{"$f":"IF(A856=\"\",\"\",MAX(IF(ISERROR(AU856:BF856),0,AU856:BF856)))","v":""},"","","","","","","","","","","","","","","","","","","","","","","","","","","","","","","","","","","","","","","","","","","","",""]
[{"$f":"IF(ISBLANK('Control Sheet'!D838),\"\",'Control Sheet'!D838)","v":""},{"$f":"IF(ISBLANK('Control Sheet'!E838),\"\",'Control Sheet'!E838&\" (\"&'Control Sheet'!F838&\")\")","v":""},"","","","","","","","","","","","","",null,"","","","","","","","","","","","","","","","","","","","","","","","","","","","","","","","","","","","","","","","","","",{"$f":"IF(A858=\"\",\"\",MAX(IF(ISERROR(AU858:BF858),0,AU858:BF858)))","v":""},"","","","","","","","","","","","","","","","","","","","","","","","","","","","","","","","","","","","","","","","","","","","",""]
[{"$f":"IF(ISBLANK('Control Sheet'!D842),\"\",'Control Sheet'!D842)","v":""},{"$f":"IF(ISBLANK('Control Sheet'!E842),\"\",'Control Sheet'!E842&\" (\"&'Control Sheet'!F842&\")\")","v":""},"","","","","","","","","","","","","",null,"","","","","","","","","","","","","","","","","","","","","","","","","","","","","","","","","","","","","","","","","","",{"$f":"IF(A862=\"\",\"\",MAX(IF(ISERROR(AU862:BF862),0,AU862:BF862)))","v":""},"","","","","","","","","","","","","","","","","","","","","","","","","","","","","","","","","","","","","","","","","","","","",""]
[{"$f":"IF(ISBLANK('Control Sheet'!D845),\"\",'Control Sheet'!D845)","v":""},{"$f":"IF(ISBLANK('Control Sheet'!E845),\"\",'Control Sheet'!E845&\" (\"&'Control Sheet'!F845&\")\")","v":""},"","","","","","","","","","","","","",null,"","","","","","","","","","","","","","","","","","","","","","","","","","","","","","","","","","","","","","","","","","",{"$f":"IF(A865=\"\",\"\",MAX(IF(ISERROR(AU865:BF865),0,AU865:BF865)))","v":""},"","","","","","","","","","","","","","","","","","","","","","","","","","","","","","","","","","","","","","","","","","","","",""]
[{"$f":"IF(ISBLANK('Control Sheet'!D846),\"\",'Control Sheet'!D846)","v":""},{"$f":"IF(ISBLANK('Control Sheet'!E846),\"\",'Control Sheet'!E846&\" (\"&'Control Sheet'!F846&\")\")","v":""},"","","","","","","","","","","","","",null,"","","","","","","","","","","","","","","","","","","","","","","","","","","","","","","","","","","","","","","","","","",{"$f":"IF(A866=\"\",\"\",MAX(IF(ISERROR(AU866:BF866),0,AU866:BF866)))","v":""},"","","","","","","","","","","","","","","","","","","","","","","","","","","","","","","","","","","","","","","","","","","","",""]
[{"$f":"IF(ISBLANK('Control Sheet'!D849),\"\",'Control Sheet'!D849)","v":""},{"$f":"IF(ISBLANK('Control Sheet'!E849),\"\",'Control Sheet'!E849&\" (\"&'Control Sheet'!F849&\")\")","v":""},"","","","","","","","","","","","","",null,"","","","","","","","","","","","","","","","","","","","","","","","","","","","","","","","","","","","","","","","","","",{"$f":"IF(A869=\"\",\"\",MAX(IF(ISERROR(AU869:BF869),0,AU869:BF869)))","v":""},"","","","","","","","","","","","","","","","","","","","","","","","","","","","","","","","","","","","","","","","","","","","",""]
[{"$f":"IF(ISBLANK('Control Sheet'!D853),\"\",'Control Sheet'!D853)","v":""},{"$f":"IF(ISBLANK('Control Sheet'!E853),\"\",'Control Sheet'!E853&\" (\"&'Control Sheet'!F853&\")\")","v":""},"","","","","","","","","","","","","",null,"","","","","","","","","","","","","","","","","","","","","","","","","","","","","","","","","","","","","","","","","","",{"$f":"IF(A873=\"\",\"\",MAX(IF(ISERROR(AU873:BF873),0,AU873:BF873)))","v":""},"","","","","","","","","","","","","","","","","","","","","","","","","","","","","","","","","","","","","","","","","","","","",""]
[{"$f":"IF(ISBLANK('Control Sheet'!D855),\"\",'Control Sheet'!D855)","v":""},{"$f":"IF(ISBLANK('Control Sheet'!E855),\"\",'Control Sheet'!E855&\" (\"&'Control Sheet'!F855&\")\")","v":""},"","","","","","","","","","","","","",null,"","","","","","","","","","","","","","","","","","","","","","","","","","","","","","","","","","","","","","","","","","",{"$f":"IF(A875=\"\",\"\",MAX(IF(ISERROR(AU875:BF875),0,AU875:BF875)))","v":""},"","","","","","","","","","","","","","","","","","","","","","","","","","","","","","","","","","","","","","","","","","","","",""]
[{"$f":"IF(ISBLANK('Control Sheet'!D858),\"\",'Control Sheet'!D858)","v":""},{"$f":"IF(ISBLANK('Control Sheet'!E858),\"\",'Control Sheet'!E858&\" (\"&'Control Sheet'!F858&\")\")","v":""},"","","","","","","","","","","","","",null,"","","","","","","","","","","","","","","","","","","","","","","","","","","","","","","","","","","","","","","","","","",{"$f":"IF(A878=\"\",\"\",MAX(IF(ISERROR(AU878:BF878),0,AU878:BF878)))","v":""},"","","","","","","","","","","","","","","","","","","","","","","","","","","","","","","","","","","","","","","","","","","","",""]
[{"$f":"IF(ISBLANK('Control Sheet'!D862),\"\",'Control Sheet'!D862)","v":""},{"$f":"IF(ISBLANK('Control Sheet'!E862),\"\",'Control Sheet'!E862&\" (\"&'Control Sheet'!F862&\")\")","v":""},"","","","","","","","","","","","","",null,"","","","","","","","","","","","","","","","","","","","","","","","","","","","","","","","","","","","","","","","","","",{"$f":"IF(A882=\"\",\"\",MAX(IF(ISERROR(AU882:BF882),0,AU882:BF882)))","v":""},"","","","","","","","","","","","","","","","","","","","","","","","","","","","","","","","","","","","","","","","","","","","",""]
[{"$f":"IF(ISBLANK('Control Sheet'!D865),\"\",'Control Sheet'!D865)","v":""},{"$f":"IF(ISBLANK('Control Sheet'!E865),\"\",'Control Sheet'!E865&\" (\"&'Control Sheet'!F865&\")\")","v":""},"","","","","","","","","","","","","",null,"","","","","","","","","","","","","","","","","","","","","","","","","","","","","","","","","","","","","","","","","","",{"$f":"IF(A885=\"\",\"\",MAX(IF(ISERROR(AU885:BF885),0,AU885:BF885)))","v":""},"","","","","","","","","","","","","","","","",{"$f":"IF(A885=\"\",\"\",IF(BW885>$BW$11,\"Yes\",\"No\"))","v":""},"","","","","","","","","","","","","","","","","","","","","","","","","","","",""]
[{"$f":"IF(ISBLANK('Control Sheet'!D868),\"\",'Control Sheet'!D868)","v":""},{"$f":"IF(ISBLANK('Control Sheet'!E868),\"\",'Control Sheet'!E868&\" (\"&'Control Sheet'!F868&\")\")","v":""},"","","","","","","","","","","","","",null,"","","","","","","","","","","","","","","","","","","","","","","","","","","","","","","","","","","","","","","","","","",{"$f":"IF(A888=\"\",\"\",MAX(IF(ISERROR(AU888:BF888),0,AU888:BF888)))","v":""},"","","","","","","","","","","","","","","","","","","","","","","","","","","","","","","","","","","","","","","","","","","","",""]
[{"$f":"IF(ISBLANK('Control Sheet'!D869),\"\",'Control Sheet'!D869)","v":""},{"$f":"IF(ISBLANK('Control Sheet'!E869),\"\",'Control Sheet'!E869&\" (\"&'Control Sheet'!F869&\")\")","v":""},"","","","","","","","","","","","","",null,"","","","","","","","","","","","","","","","","","","","","","","","","","","","","","","","","","","","","","","","","","",{"$f":"IF(A889=\"\",\"\",MAX(IF(ISERROR(AU889:BF889),0,AU889:BF889)))","v":""},"","","","","","","","","","","","","","","","","","","","","","","","","","","","","","","","","","","","","","","","","","","","",""]
[{"$f":"IF(ISBLANK('Control Sheet'!D872),\"\",'Control Sheet'!D872)","v":""},{"$f":"IF(ISBLANK('Control Sheet'!E872),\"\",'Control Sheet'!E872&\" (\"&'Control Sheet'!F872&\")\")","v":""},"","","","","","","","","","","","","",null,"","","","","","","","","","","","","","","","","","","","","","","","","","","","","","","","","","","","","","","","","","",{"$f":"IF(A892=\"\",\"\",MAX(IF(ISERROR(AU892:BF892),0,AU892:BF892)))","v":""},"","","","","","","","","","","","","","","","","","","","","","","","","","","","","","","","","","","","","","","","","","","","",""]
[{"$f":"IF(ISBLANK('Control Sheet'!D875),\"\",'Control Sheet'!D875)","v":""},{"$f":"IF(ISBLANK('Control Sheet'!E875),\"\",'Control Sheet'!E875&\" (\"&'Control Sheet'!F875&\")\")","v":""},"","","","","","","","","","","","","",null,"","","","","","","","","","","","","","","","","","","","","","","","","","","","","","","","","","","","","","","","","","",{"$f":"IF(A895=\"\",\"\",MAX(IF(ISERROR(AU895:BF895),0,AU895:BF895)))","v":""},"","","","","","","","","","","","","","","","","","","","","","","","","","","","","","","","","","","","","","","","","","","","",""]
[{"$f":"IF(ISBLANK('Control Sheet'!D878),\"\",'Control Sheet'!D878)","v":""},{"$f":"IF(ISBLANK('Control Sheet'!E878),\"\",'Control Sheet'!E878&\" (\"&'Control Sheet'!F878&\")\")","v":""},"","","","","","","","","","","","","",null,"","","","","","","","","","","","","","","","","","","","","","","","","","","","","","","","","","","","","","","","","","",{"$f":"IF(A898=\"\",\"\",MAX(IF(ISERROR(AU898:BF898),0,AU898:BF898)))","v":""},"","","","","","","","","","","","","","","","","","","","","","","","","","","","","","","","","","","","","","","","","","","","",""]
[{"$f":"IF(ISBLANK('Control Sheet'!D881),\"\",'Control Sheet'!D881)","v":""},{"$f":"IF(ISBLANK('Control Sheet'!E881),\"\",'Control Sheet'!E881&\" (\"&'Control Sheet'!F881&\")\")","v":""},{"$f":"IF(C$18=1,IF(ISNA(VLOOKUP($A901,INDIRECT(C$20),NMS_col,FALSE)),\"\",VLOOKUP($A901,INDIRECT(C$20),NMS_col,FALSE)),\"\")","v":""},"","","","","","","","","","","","",null,"","","","","","","","","","","","","","","","","","","","","","","","","","","","","","","","","","","","","","","","","","",{"$f":"IF(A901=\"\",\"\",MAX(IF(ISERROR(AU901:BF901),0,AU901:BF901)))","v":""},"","","","","","","","","","","","","","","","","","","","","","","","","","","","","","","","","","","","","","","","","","","","",""]
[{"$f":"IF(ISBLANK('Control Sheet'!D885),\"\",'Control Sheet'!D885)","v":""},{"$f":"IF(ISBLANK('Control Sheet'!E885),\"\",'Control Sheet'!E885&\" (\"&'Control Sheet'!F885&\")\")","v":""},"","","","","","","","","","","","","",null,"","","","","","","","","","","","","","","","","","","","","","","","","","","","","","","","","","","","","","","","","","",{"$f":"IF(A905=\"\",\"\",MAX(IF(ISERROR(AU905:BF905),0,AU905:BF905)))","v":""},"","","","","","","","","","","","","","","","","","","","","","","","","","","","","","","","","","","","","","","","","","","","",""]
[{"$f":"IF(ISBLANK('Control Sheet'!D887),\"\",'Control Sheet'!D887)","v":""},{"$f":"IF(ISBLANK('Control Sheet'!E887),\"\",'Control Sheet'!E887&\" (\"&'Control Sheet'!F887&\")\")","v":""},"","","","","","","","","","","","","",null,"","","","","","","","","","","","","","","","","","","","","","","","","","","","","","","","","","","","","","","","","","",{"$f":"IF(A907=\"\",\"\",MAX(IF(ISERROR(AU907:BF907),0,AU907:BF907)))","v":""},"","","","","","","","","","","","","","","","","","","","","","","","","","","","","","","","","","","","","","","","","","","","",""]
[{"$f":"IF(ISBLANK('Control Sheet'!D890),\"\",'Control Sheet'!D890)","v":""},{"$f":"IF(ISBLANK('Control Sheet'!E890),\"\",'Control Sheet'!E890&\" (\"&'Control Sheet'!F890&\")\")","v":""},"","","","","","","","","","","","","",null,"","","","","","","","","","","","","","","","","","","","","","","","","","","","","","","","","","","","","","","","","","",{"$f":"IF(A910=\"\",\"\",MAX(IF(ISERROR(AU910:BF910),0,AU910:BF910)))","v":""},"","","","","","","","","","","","","","","","","","","","","","","","","","","","","","","","","","","","","","","","","","","","",""]
[{"$f":"IF(ISBLANK('Control Sheet'!D891),\"\",'Control Sheet'!D891)","v":""},{"$f":"IF(ISBLANK('Control Sheet'!E891),\"\",'Control Sheet'!E891&\" (\"&'Control Sheet'!F891&\")\")","v":""},{"$f":"IF(C$18=1,IF(ISNA(VLOOKUP($A911,INDIRECT(C$20),NMS_col,FALSE)),\"\",VLOOKUP($A911,INDIRECT(C$20),NMS_col,FALSE)),\"\")","v":""},"","","","","","","","","","","","",null,"","","","","","","","","","","","","","","","","","","","","","","","","","","","","","","","","","","","","","","","","","",{"$f":"IF(A911=\"\",\"\",MAX(IF(ISERROR(AU911:BF911),0,AU911:BF911)))","v":""},"","","","","","","","","","","","","","","","","","","","","","","","","","","","","","","","","","","","","","","","","","","","",""]
[{"$f":"IF(ISBLANK('Control Sheet'!D894),\"\",'Control Sheet'!D894)","v":""},{"$f":"IF(ISBLANK('Control Sheet'!E894),\"\",'Control Sheet'!E894&\" (\"&'Control Sheet'!F894&\")\")","v":""},"","","","","","","","","","","","","",null,"","","","","","","","","","","","","","","","","","","","","","","","","","","","","","","","","","","","","","","","","","",{"$f":"IF(A914=\"\",\"\",MAX(IF(ISERROR(AU914:BF914),0,AU914:BF914)))","v":""},"","","","","","","","","","","","","","","","","","","","","","","","","","","","","","","","","","","","","","","","","","","","",""]
[{"$f":"IF(ISBLANK('Control Sheet'!D898),\"\",'Control Sheet'!D898)","v":""},{"$f":"IF(ISBLANK('Control Sheet'!E898),\"\",'Control Sheet'!E898&\" (\"&'Control Sheet'!F898&\")\")","v":""},"","","","","","","","","","","","",{"$f":"IF(A918=\"\",\"\",SUM(C918:N918))","v":""},null,{"$f":"IF(A918=\"\",\"\",IF(BG918<=400,\"No\",\"Yes\"))","v":""},"",{"$f":"IF(C918=\"\",\"\",IF(C918<=C$10,1,IF(C918<=C$7,2,IF(C918<=C$8,3,IF(C918<=C$9,4,IF(C918<=C$11,5,60))))))","v":""},{"$f":"IF(D918=\"\",\"\",IF(D918<=D$10,1,IF(D918<=D$7,2,IF(D918<=D$8,3,IF(D918<=D$9,4,IF(D918<=D$11,5,60))))))","v":""},{"$f":"IF(E918=\"\",\"\",IF(E918<=E$10,1,IF(E918<=E$7,2,IF(E918<=E$8,3,IF(E918<=E$9,4,IF(E918<=E$11,5,60))))))","v":""},{"$f":"IF(F918=\"\",\"\",IF(F918<=F$10,1,IF(F918<=F$7,2,IF(F918<=F$8,3,IF(F918<=F$9,4,IF(F918<=F$11,5,60))))))","v":""},{"$f":"IF(G918=\"\",\"\",IF(G918<=G$10,1,IF(G918<=G$7,2,IF(G918<=G$8,3,IF(G918<=G$9,4,IF(G918<=G$11,5,60))))))","v":""},{"$f":"IF(H918=\"\",\"\",IF(H918<=H$10,1,IF(H918<=H$7,2,IF(H918<=H$8,3,IF(H918<=H$9,4,IF(H918<=H$11,5,60))))))","v":""},{"$f":"IF(I918=\"\",\"\",IF(I918<=I$10,1,IF(I918<=I$7,2,IF(I918<=I$8,3,IF(I918<=I$9,4,IF(I918<=I$11,5,60))))))","v":""},{"$f":"IF(J918=\"\",\"\",IF(J918<=J$10,1,IF(J918<=J$7,2,IF(J918<=J$8,3,IF(J918<=J$9,4,IF(J918<=J$11,5,60))))))","v":""},{"$f":"IF(K918=\"\",\"\",IF(K918<=K$10,1,IF(K918<=K$7,2,IF(K918<=K$8,3,IF(K918<=K$9,4,IF(K918<=K$11,5,60))))))","v":""},{"$f":"IF(L918=\"\",\"\",IF(L918<=L$10,1,IF(L918<=L$7,2,IF(L918<=L$8,3,IF(L918<=L$9,4,IF(L918<=L$11,5,60))))))","v":""},{"$f":"IF(M918=\"\",\"\",IF(M918<=M$10,1,IF(M918<=M$7,2,IF(M918<=M$8,3,IF(M918<=M$9,4,IF(M918<=M$11,5,60))))))","v":""},{"$f":"IF(N918=\"\",\"\",IF(N918<=N$10,1,IF(N918<=N$7,2,IF(N918<=N$8,3,IF(N918<=N$9,4,IF(N918<=N$11,5,60))))))","v":""},{"$f":"IF(A918=\"\",\"\",SUM(S918:AD918))","v":""},{"$f":"IF(OR(A918=\"\",AE918=0),\"\",AE918/(O$18--R918))","v":""},{"$f":"IF(AF918=\"\",\"\",IF(AF918<=1,\"Lower Outlier\",IF(AF918<=2,\"Below Average\",IF(AF918<=3,\"Lower Quartile\",IF(AF918<=4,\"Upper Quartile\",IF(AF918<=5, \"Above Average\", \"Upper Outlier\"))))))","v":""},{"$f":"IF(C$18=1,C918,\"\")","v":""},{"$f":"IF(D$18=1,IF(D918=\"\",IF(AH918=\"\",\"\",AH918),IF(AND(D918>=0,AH918=\"\"),D918,IF(ISERROR(D918+AH918),#N/A,D918+AH918))),\"\")","v":""},{"$f":"IF(E$18=1,IF(E918=\"\",IF(AI918=\"\",\"\",AI918),IF(AND(E918>=0,AI918=\"\"),E918,IF(ISERROR(E918+AI918),#N/A,E918+AI918))),\"\")","v":""},{"$f":"IF(F$18=1,IF(F918=\"\",IF(AJ918=\"\",\"\",AJ918),IF(AND(F918>=0,AJ918=\"\"),F918,IF(ISERROR(F918+AJ918),#N/A,F918+AJ918))),\"\")","v":""},{"$f":"IF(G$18=1,IF(G918=\"\",IF(AK918=\"\",\"\",AK918),IF(AND(G918>=0,AK918=\"\"),G918,IF(ISERROR(G918+AK918),#N/A,G918+AK918))),\"\")","v":""},{"$f":"IF(H$18=1,IF(H918=\"\",IF(AL918=\"\",\"\",AL918),IF(AND(H918>=0,AL918=\"\"),H918,IF(ISERROR(H918+AL918),#N/A,H918+AL918))),\"\")","v":""},{"$f":"IF(I$18=1,IF(I918=\"\",IF(AM918=\"\",\"\",AM918),IF(AND(I918>=0,AM918=\"\"),I918,IF(ISERROR(I918+AM918),#N/A,I918+AM918))),\"\")","v":""},{"$f":"IF(J$18=1,IF(J918=\"\",IF(AN918=\"\",\"\",AN918),IF(AND(J918>=0,AN918=\"\"),J918,IF(ISERROR(J918+AN918),#N/A,J918+AN918))),\"\")","v":""},{"$f":"IF(K$18=1,IF(K918=\"\",IF(AO918=\"\",\"\",AO918),IF(AND(K918>=0,AO918=\"\"),K918,IF(ISERROR(K918+AO918),#N/A,K918+AO918))),\"\")","v":""},{"$f":"IF(L$18=1,IF(L918=\"\",IF(AP918=\"\",\"\",AP918),IF(AND(L918>=0,AP918=\"\"),L918,IF(ISERROR(L918+AP918),#N/A,L918+AP918))),\"\")","v":""},{"$f":"IF(M$18=1,IF(M918=\"\",IF(AQ918=\"\",\"\",AQ918),IF(AND(M918>=0,AQ918=\"\"),M918,IF(ISERROR(M918+AQ918),#N/A,M918+AQ918))),\"\")","v":""},{"$f":"IF(N$18=1,IF(N918=\"\",IF(AR918=\"\",\"\",AR918),IF(AND(N918>=0,AR918=\"\"),N918,IF(ISERROR(N918+AR918),#N/A,N918+AR918))),\"\")","v":""},{"$f":"IF(A918=\"\",\"\",MAX(AH918:AS918))","v":""},"","","","","","","","","","","","",{"$f":"IF(A918=\"\",\"\",MAX(IF(ISERROR(AU918:BF918),0,AU918:BF918)))","v":""},"","","","","","","","","","","","",{"$f":"IF(A918=\"\",\"\",SUM(BH918:BS918))","v":""},{"$f":"IF(A918=\"\",\"\",MIN(B918:M918))","v":""},{"$f":"IF(A918=\"\",\"\",MAX(B918:M918))","v":""},{"$f":"IF(A918=\"\",\"\",BV918-BU918)","v":""},"",{"$f":"IF(A918=\"\",\"\",(COUNTA(C918:N918)-COUNTBLANK(C918:N918)))","v":""},{"$f":"IF(A918=\"\",\"\",BY918-COUNTIF(C918:N918,\"=0\"))","v":""},"","","","","","","","","","","","",{"$f":"IF(A918=\"\",\"\",SUM(CA918:CL918))","v":""},"","","","","","","","","","","","",{"$f":"IF(A918=\"\",\"\",SUM(CN918:CY918))","v":""}]
[{"$f":"IF(ISBLANK('Control Sheet'!D901),\"\",'Control Sheet'!D901)","v":""},{"$f":"IF(ISBLANK('Control Sheet'!E901),\"\",'Control Sheet'!E901&\" (\"&'Control Sheet'!F901&\")\")","v":""},{"$f":"IF(C$18=1,IF(ISNA(VLOOKUP($A921,INDIRECT(C$20),NMS_col,FALSE)),\"\",VLOOKUP($A921,INDIRECT(C$20),NMS_col,FALSE)),\"\")","v":""},"","","","","","","","","","","","",null,"","","","","","","","","","","","","","","","","","","","","","","","","","","","","","","","","","","","","","","","","","",{"$f":"IF(A921=\"\",\"\",MAX(IF(ISERROR(AU921:BF921),0,AU921:BF921)))","v":""},"","","","","","","","","","","","","","","","","","","","","","","","","","","","","","","","","","","","","","","","","","","","",""]
[{"$f":"IF(ISBLANK('Control Sheet'!D904),\"\",'Control Sheet'!D904)","v":""},{"$f":"IF(ISBLANK('Control Sheet'!E904),\"\",'Control Sheet'!E904&\" (\"&'Control Sheet'!F904&\")\")","v":""},"","","","","","","","","","","","","",null,"","","","","","","","","","","","","","","","","","","","","","","","","","","","","","","","","","","","","","","","","","",{"$f":"IF(A924=\"\",\"\",MAX(IF(ISERROR(AU924:BF924),0,AU924:BF924)))","v":""},"","","","","","","","","","","","","","","","","","","","","","","","","","","","","","","","","","","","","","","","","","","","",""]
[{"$f":"IF(ISBLANK('Control Sheet'!D907),\"\",'Control Sheet'!D907)","v":""},{"$f":"IF(ISBLANK('Control Sheet'!E907),\"\",'Control Sheet'!E907&\" (\"&'Control Sheet'!F907&\")\")","v":""},"","","","","","","","","","","","","",null,"","","","","","","","","","","","","","","","","","","","","","","","","","","","","","","","","","","","","","","","","","",{"$f":"IF(A927=\"\",\"\",MAX(IF(ISERROR(AU927:BF927),0,AU927:BF927)))","v":""},"","","","","","","","","","","","","","","","","","","","","","","","","","","","","","","","","","","","","","","","","","","","",""]
[{"$f":"IF(ISBLANK('Control Sheet'!D910),\"\",'Control Sheet'!D910)","v":""},{"$f":"IF(ISBLANK('Control Sheet'!E910),\"\",'Control Sheet'!E910&\" (\"&'Control Sheet'!F910&\")\")","v":""},"","","","","","","","","","","","","",null,"","","","","","","","","","","","","","","","","","","","","","","","","","","","","","","","","","","","","","","","","","",{"$f":"IF(A930=\"\",\"\",MAX(IF(ISERROR(AU930:BF930),0,AU930:BF930)))","v":""},"","","","","","","","","","","","","","","","","","","","","","","","","","","","","","","","","","","","","","","","","","","","",""]
[{"$f":"IF(ISBLANK('Control Sheet'!D911),\"\",'Control Sheet'!D911)","v":""},{"$f":"IF(ISBLANK('Control Sheet'!E911),\"\",'Control Sheet'!E911&\" (\"&'Control Sheet'!F911&\")\")","v":""},{"$f":"IF(C$18=1,IF(ISNA(VLOOKUP($A931,INDIRECT(C$20),NMS_col,FALSE)),\"\",VLOOKUP($A931,INDIRECT(C$20),NMS_col,FALSE)),\"\")","v":""},"","","","","","","","","","","","",null,"","","","","","","","","","","","","","","","","","","","","","","","","","","","","","","","","","","","","","","","","","",{"$f":"IF(A931=\"\",\"\",MAX(IF(ISERROR(AU931:BF931),0,AU931:BF931)))","v":""},"","","","","","","","","","","","","","","","","","","","","","","","","","","","","","","","","","","","","","","","","","","","",""]
[{"$f":"IF(ISBLANK('Control Sheet'!D914),\"\",'Control Sheet'!D914)","v":""},{"$f":"IF(ISBLANK('Control Sheet'!E914),\"\",'Control Sheet'!E914&\" (\"&'Control Sheet'!F914&\")\")","v":""},"","","","","","","","","","","","","",null,"","","","","","","","","","","","","","","","","","","","","","","","","","","","","","","","","","","","","","","","","","",{"$f":"IF(A934=\"\",\"\",MAX(IF(ISERROR(AU934:BF934),0,AU934:BF934)))","v":""},"","","","","","","","","","","","","","","","","","","","","","","","","","","","","","","","","","","","","","","","","","","","",""]
[{"$f":"IF(ISBLANK('Control Sheet'!D917),\"\",'Control Sheet'!D917)","v":""},{"$f":"IF(ISBLANK('Control Sheet'!E917),\"\",'Control Sheet'!E917&\" (\"&'Control Sheet'!F917&\")\")","v":""},"","","","","","","","","","","","","",null,"","","","","","","","","","","","","","","","","","","","","","","","","","","","","","","","","","","","","","","","","","",{"$f":"IF(A937=\"\",\"\",MAX(IF(ISERROR(AU937:BF937),0,AU937:BF937)))","v":""},"","","","","","","","","","","","","","","","","","","","","","","","","","","","","","","","","","","","","","","","","","","","",""]
[{"$f":"IF(ISBLANK('Control Sheet'!D921),\"\",'Control Sheet'!D921)","v":""},{"$f":"IF(ISBLANK('Control Sheet'!E921),\"\",'Control Sheet'!E921&\" (\"&'Control Sheet'!F921&\")\")","v":""},{"$f":"IF(C$18=1,IF(ISNA(VLOOKUP($A941,INDIRECT(C$20),NMS_col,FALSE)),\"\",VLOOKUP($A941,INDIRECT(C$20),NMS_col,FALSE)),\"\")","v":""},"","","","","","","","","","","","",null,"","","","","","","","","","","","","","","","","","","","","","","","","","","","","","","","","","","","","","","","","","",{"$f":"IF(A941=\"\",\"\",MAX(IF(ISERROR(AU941:BF941),0,AU941:BF941)))","v":""},"","","","","","","","","","","","","","","","","","","","","","","","","","","","","","","","","","","","","","","","","","","","",""]
[{"$f":"IF(ISBLANK('Control Sheet'!D923),\"\",'Control Sheet'!D923)","v":""},{"$f":"IF(ISBLANK('Control Sheet'!E923),\"\",'Control Sheet'!E923&\" (\"&'Control Sheet'!F923&\")\")","v":""},"","","","","","","","","","","","","",null,"","","","","","","","","","","","","","","","","","","","","","","","","","","","","","","","","","","","","","","","","","",{"$f":"IF(A943=\"\",\"\",MAX(IF(ISERROR(AU943:BF943),0,AU943:BF943)))","v":""},"","","","","","","","","","","","","","","","","","","","","","","","","","","","","","","","","","","","","","","","","","","","",""]
[{"$f":"IF(ISBLANK('Control Sheet'!D926),\"\",'Control Sheet'!D926)","v":""},{"$f":"IF(ISBLANK('Control Sheet'!E926),\"\",'Control Sheet'!E926&\" (\"&'Control Sheet'!F926&\")\")","v":""},"","","","","","","","","","","","","",null,"","","","","","","","","","","","","","","","","","","","","","","","","","","","","","","","","","","","","","","","","","",{"$f":"IF(A946=\"\",\"\",MAX(IF(ISERROR(AU946:BF946),0,AU946:BF946)))","v":""},"","","","","","","","","","","","","","","","","","","","","","","","","","","","","","","","","","","","","","","","","","","","",""]
[{"$f":"IF(ISBLANK('Control Sheet'!D930),\"\",'Control Sheet'!D930)","v":""},{"$f":"IF(ISBLANK('Control Sheet'!E930),\"\",'Control Sheet'!E930&\" (\"&'Control Sheet'!F930&\")\")","v":""},"","","","","","","","","","","","","",null,"","","","","","","","","","","","","","","","","","","","","","","","","","","","","","","","","","","","","","","","","","",{"$f":"IF(A950=\"\",\"\",MAX(IF(ISERROR(AU950:BF950),0,AU950:BF950)))","v":""},"","","","","","","","","","","","","","","","","","","","","","","","","","","","","","","","","","","","","","","","","","","","",""]
[{"$f":"IF(ISBLANK('Control Sheet'!D933),\"\",'Control Sheet'!D933)","v":""},{"$f":"IF(ISBLANK('Control Sheet'!E933),\"\",'Control Sheet'!E933&\" (\"&'Control Sheet'!F933&\")\")","v":""},"","","","","","","","","","","","","",null,"","","","","","","","","","","","","","","","","","","","","","","","","","","","","","","","","","","","","","","","","","",{"$f":"IF(A953=\"\",\"\",MAX(IF(ISERROR(AU953:BF953),0,AU953:BF953)))","v":""},"","","","","","","","","","","","","","","","","","","","","","","","","","","","","","","","","","","","","","","","","","","","",""]
[{"$f":"IF(ISBLANK('Control Sheet'!D934),\"\",'Control Sheet'!D934)","v":""},{"$f":"IF(ISBLANK('Control Sheet'!E934),\"\",'Control Sheet'!E934&\" (\"&'Control Sheet'!F934&\")\")","v":""},"","","","","","","","","","","","","",null,"","","","","","","","","","","","","","","","","","","","","","","","","","","","","","","","","","","","","","","","","","",{"$f":"IF(A954=\"\",\"\",MAX(IF(ISERROR(AU954:BF954),0,AU954:BF954)))","v":""},"","","","","","","","","","","","","","","","","","","","","","","","","","","","","","","","","","","","","","","","","","","","",""]
[{"$f":"IF(ISBLANK('Control Sheet'!D937),\"\",'Control Sheet'!D937)","v":""},{"$f":"IF(ISBLANK('Control Sheet'!E937),\"\",'Control Sheet'!E937&\" (\"&'Control Sheet'!F937&\")\")","v":""},"","","","","","","","","","","","","",null,"","","","","","","","","","","","","","","","","","","","","","","","","","","","","","","","","","","","","","","","","","",{"$f":"IF(A957=\"\",\"\",MAX(IF(ISERROR(AU957:BF957),0,AU957:BF957)))","v":""},"","","","","","","","","","","","","","","","","","","","","","","","","","","","","","","","","","","","","","","","","","","","",""]
[{"$f":"IF(ISBLANK('Control Sheet'!D938),\"\",'Control Sheet'!D938)","v":""},{"$f":"IF(ISBLANK('Control Sheet'!E938),\"\",'Control Sheet'!E938&\" (\"&'Control Sheet'!F938&\")\")","v":""},"","","","","","","","","","","","","",null,"","","","","","","","","","","","","","","","","","","","","","","","","","","","","","","","","","","","","","","","","","",{"$f":"IF(A958=\"\",\"\",MAX(IF(ISERROR(AU958:BF958),0,AU958:BF958)))","v":""},"","","","","","","","","","","","","","","","","","","","","","","","","","","","","","","","","","","","","","","","","","","","",""]
[{"$f":"IF(ISBLANK('Control Sheet'!D939),\"\",'Control Sheet'!D939)","v":""},{"$f":"IF(ISBLANK('Control Sheet'!E939),\"\",'Control Sheet'!E939&\" (\"&'Control Sheet'!F939&\")\")","v":""},"","","","","","","","","","","","","",null,"","","","","","","","","","","","","","","","","","","","","","","","","","","","","","","","","","","","","","","","","","",{"$f":"IF(A959=\"\",\"\",MAX(IF(ISERROR(AU959:BF959),0,AU959:BF959)))","v":""},"","","","","","","","","","","","","","","","","","","","","","","","","","","","","","","","","","","","","","","","","","","","",""]
[{"$f":"IF(ISBLANK('Control Sheet'!D940),\"\",'Control Sheet'!D940)","v":""},{"$f":"IF(ISBLANK('Control Sheet'!E940),\"\",'Control Sheet'!E940&\" (\"&'Control Sheet'!F940&\")\")","v":""},"","","","","","","","","","","","","",null,"","","","","","","","","","","","","","","","","","","","","","","","","","","","","","","","","","","","","","","","","","",{"$f":"IF(A960=\"\",\"\",MAX(IF(ISERROR(AU960:BF960),0,AU960:BF960)))","v":""},"","","","","","","","","","","","","","","","","","","","","","","","","","","","","","","","","","","","","","","","","","","","",""]
[{"$f":"IF(ISBLANK('Control Sheet'!D941),\"\",'Control Sheet'!D941)","v":""},{"$f":"IF(ISBLANK('Control Sheet'!E941),\"\",'Control Sheet'!E941&\" (\"&'Control Sheet'!F941&\")\")","v":""},{"$f":"IF(C$18=1,IF(ISNA(VLOOKUP($A961,INDIRECT(C$20),NMS_col,FALSE)),\"\",VLOOKUP($A961,INDIRECT(C$20),NMS_col,FALSE)),\"\")","v":""},"","","","","","","","","","","","",null,"","","","","","","","","","","","","","","","","","","","","","","","","","","","","","","","","","","","","","","","","","",{"$f":"IF(A961=\"\",\"\",MAX(IF(ISERROR(AU961:BF961),0,AU961:BF961)))","v":""},"","","","","","","","","","","","","","","","","","","","","","","","","","","","","","","","","","","","","","","","","","","","",""]
[{"$f":"IF(ISBLANK('Control Sheet'!D942),\"\",'Control Sheet'!D942)","v":""},{"$f":"IF(ISBLANK('Control Sheet'!E942),\"\",'Control Sheet'!E942&\" (\"&'Control Sheet'!F942&\")\")","v":""},"","","","","","","","","","","","","",null,"","","","","","","","","","","","","","","","","","","","","","","","","","","","","","","","","","","","","","","","","","",{"$f":"IF(A962=\"\",\"\",MAX(IF(ISERROR(AU962:BF962),0,AU962:BF962)))","v":""},"","","","","","","","","","","","","","","","","","","","","","","","","","","","","","","","","","","","","","","","","","","","",""]
[{"$f":"IF(ISBLANK('Control Sheet'!D943),\"\",'Control Sheet'!D943)","v":""},{"$f":"IF(ISBLANK('Control Sheet'!E943),\"\",'Control Sheet'!E943&\" (\"&'Control Sheet'!F943&\")\")","v":""},"","","","","","","","","","","","","",null,"","","","","","","","","","","","","","","","","","","","","","","","","","","","","","","","","","","","","","","","","","",{"$f":"IF(A963=\"\",\"\",MAX(IF(ISERROR(AU963:BF963),0,AU963:BF963)))","v":""},"","","","","","","","","","","","","","","","","","","","","","","","","","","","","","","","","","","","","","","","","","","","",""]
[{"$f":"IF(ISBLANK('Control Sheet'!D944),\"\",'Control Sheet'!D944)","v":""},{"$f":"IF(ISBLANK('Control Sheet'!E944),\"\",'Control Sheet'!E944&\" (\"&'Control Sheet'!F944&\")\")","v":""},"","","","","","","","","","","","","",null,"","","","","","","","","","","","","","","","","","","","","","","","","","","","","","","","","","","","","","","","","","",{"$f":"IF(A964=\"\",\"\",MAX(IF(ISERROR(AU964:BF964),0,AU964:BF964)))","v":""},"","","","","","","","","","","","","","","","","","","","","","","","","","","","","","","","","","","","","","","","","","","","",""]
[{"$f":"IF(ISBLANK('Control Sheet'!D945),\"\",'Control Sheet'!D945)","v":""},{"$f":"IF(ISBLANK('Control Sheet'!E945),\"\",'Control Sheet'!E945&\" (\"&'Control Sheet'!F945&\")\")","v":""},"","","","","","","","","","","","","",null,"","","","","","","","","","","","","","","","","","","","","","","","","","","","","","","","","","","","","","","","","","",{"$f":"IF(A965=\"\",\"\",MAX(IF(ISERROR(AU965:BF965),0,AU965:BF965)))","v":""},"","","","","","","","","","","","","","","","","","","","","","","","","","","","","","","","","","","","","","","","","","","","",""]
[{"$f":"IF(ISBLANK('Control Sheet'!D946),\"\",'Control Sheet'!D946)","v":""},{"$f":"IF(ISBLANK('Control Sheet'!E946),\"\",'Control Sheet'!E946&\" (\"&'Control Sheet'!F946&\")\")","v":""},"","","","","","","","","","","","","",null,"","","","","","","","","","","","","","","","","","","","","","","","","","","","","","","","","","","","","","","","","","",{"$f":"IF(A966=\"\",\"\",MAX(IF(ISERROR(AU966:BF966),0,AU966:BF966)))","v":""},"","","","","","","","","","","","","","","","","","","","","","","","","","","","","","","","","","","","","","","","","","","","",""]
[{"$f":"IF(ISBLANK('Control Sheet'!D947),\"\",'Control Sheet'!D947)","v":""},{"$f":"IF(ISBLANK('Control Sheet'!E947),\"\",'Control Sheet'!E947&\" (\"&'Control Sheet'!F947&\")\")","v":""},"","","","","","","","","","","","","",null,"","","","","","","","","","","","","","","","","","","","","","","","","","","","","","","","","","","","","","","","","","",{"$f":"IF(A967=\"\",\"\",MAX(IF(ISERROR(AU967:BF967),0,AU967:BF967)))","v":""},"","","","","","","","","","","","","","","","","","","","","","","","","","","","","","","","","","","","","","","","","","","","",""]
[{"$f":"IF(ISBLANK('Control Sheet'!D948),\"\",'Control Sheet'!D948)","v":""},{"$f":"IF(ISBLANK('Control Sheet'!E948),\"\",'Control Sheet'!E948&\" (\"&'Control Sheet'!F948&\")\")","v":""},"","","","","","","","","","","","","",null,"","","","","","","","","","","","","","","","","","","","","","","","","","","","","","","","","","","","","","","","","","",{"$f":"IF(A968=\"\",\"\",MAX(IF(ISERROR(AU968:BF968),0,AU968:BF968)))","v":""},"","","","","","","","","","","","","","","","","","","","","","","","","","","","","","","","","","","","","","","","","","","","",""]
[{"$f":"IF(ISBLANK('Control Sheet'!D949),\"\",'Control Sheet'!D949)","v":""},{"$f":"IF(ISBLANK('Control Sheet'!E949),\"\",'Control Sheet'!E949&\" (\"&'Control Sheet'!F949&\")\")","v":""},"","","","","","","","","","","","","",null,"","","","","","","","","","","","","","","","","","","","","","","","","","","","","","","","","","","","","","","","","","",{"$f":"IF(A969=\"\",\"\",MAX(IF(ISERROR(AU969:BF969),0,AU969:BF969)))","v":""},"","","","","","","","","","","","","","","","","","","","","","","","","","","","","","","","","","","","","","","","","","","","",""]
[{"$f":"IF(ISBLANK('Control Sheet'!D950),\"\",'Control Sheet'!D950)","v":""},{"$f":"IF(ISBLANK('Control Sheet'!E950),\"\",'Control Sheet'!E950&\" (\"&'Control Sheet'!F950&\")\")","v":""},"","","","","","","","","","","","","",null,"","","","","","","","","","","","","","","","","","","","","","","","","","","","","","","","","","","","","","","","","","",{"$f":"IF(A970=\"\",\"\",MAX(IF(ISERROR(AU970:BF970),0,AU970:BF970)))","v":""},"","","","","","","","","","","","","","","","","","","","","","","","","","","","","","","","","","","","","","","","","","","","",""]
[{"$f":"IF(ISBLANK('Control Sheet'!D951),\"\",'Control Sheet'!D951)","v":""},{"$f":"IF(ISBLANK('Control Sheet'!E951),\"\",'Control Sheet'!E951&\" (\"&'Control Sheet'!F951&\")\")","v":""},{"$f":"IF(C$18=1,IF(ISNA(VLOOKUP($A971,INDIRECT(C$20),NMS_col,FALSE)),\"\",VLOOKUP($A971,INDIRECT(C$20),NMS_col,FALSE)),\"\")","v":""},"","","","","","","","","","","","",null,"","","","","","","","","","","","","","","","","","","","","","","","","","","","","","","","","","","","","","","","","","",{"$f":"IF(A971=\"\",\"\",MAX(IF(ISERROR(AU971:BF971),0,AU971:BF971)))","v":""},"","","","","","","","","","","","","","","","","","","","","","","","","","","","","","","","","","","","","","","","","","","","",""]
[{"$f":"IF(ISBLANK('Control Sheet'!D952),\"\",'Control Sheet'!D952)","v":""},{"$f":"IF(ISBLANK('Control Sheet'!E952),\"\",'Control Sheet'!E952&\" (\"&'Control Sheet'!F952&\")\")","v":""},"","","","","","","","","","","","","",null,"","","","","","","","","","","","","","","","","","","","","","","","","","","","","","","","","","","","","","","","","","",{"$f":"IF(A972=\"\",\"\",MAX(IF(ISERROR(AU972:BF972),0,AU972:BF972)))","v":""},"","","","","","","","","","","","","","","","","","","","","","","","","","","","","","","","","","","","","","","","","","","","",""]
[{"$f":"IF(ISBLANK('Control Sheet'!D953),\"\",'Control Sheet'!D953)","v":""},{"$f":"IF(ISBLANK('Control Sheet'!E953),\"\",'Control Sheet'!E953&\" (\"&'Control Sheet'!F953&\")\")","v":""},"","","","","","","","","","","","","",null,"","","","","","","","","","","","","","","","","","","","","","","","","","","","","","","","","","","","","","","","","","",{"$f":"IF(A973=\"\",\"\",MAX(IF(ISERROR(AU973:BF973),0,AU973:BF973)))","v":""},"","","","","","","","","","","","","","","","","","","","","","","","","","","","","","","","","","","","","","","","","","","","",""]
[{"$f":"IF(ISBLANK('Control Sheet'!D954),\"\",'Control Sheet'!D954)","v":""},{"$f":"IF(ISBLANK('Control Sheet'!E954),\"\",'Control Sheet'!E954&\" (\"&'Control Sheet'!F954&\")\")","v":""},"","","","","","","","","","","","","",null,"","","","","","","","","","","","","","","","","","","","","","","","","","","","","","","","","","","","","","","","","","",{"$f":"IF(A974=\"\",\"\",MAX(IF(ISERROR(AU974:BF974),0,AU974:BF974)))","v":""},"","","","","","","","","","","","","","","","","","","","","","","","","","","","","","","","","","","","","","","","","","","","",""]
[{"$f":"IF(ISBLANK('Control Sheet'!D955),\"\",'Control Sheet'!D955)","v":""},{"$f":"IF(ISBLANK('Control Sheet'!E955),\"\",'Control Sheet'!E955&\" (\"&'Control Sheet'!F955&\")\")","v":""},"","","","","","","","","","","","","",null,"","","","","","","","","","","","","","","","","","","","","","","","","","","","","","","","","","","","","","","","","","",{"$f":"IF(A975=\"\",\"\",MAX(IF(ISERROR(AU975:BF975),0,AU975:BF975)))","v":""},"","","","","","","","","","","","","","","","","","","","","","","","","","","","","","","","","","","","","","","","","","","","",""]
[{"$f":"IF(ISBLANK('Control Sheet'!D956),\"\",'Control Sheet'!D956)","v":""},{"$f":"IF(ISBLANK('Control Sheet'!E956),\"\",'Control Sheet'!E956&\" (\"&'Control Sheet'!F956&\")\")","v":""},"","","","","","","","","","","","","",null,"","","","","","","","","","","","","","","","","","","","","","","","","","","","","","","","","","","","","","","","","","",{"$f":"IF(A976=\"\",\"\",MAX(IF(ISERROR(AU976:BF976),0,AU976:BF976)))","v":""},"","","","","","","","","","","","","","","","","","","","","","","","","","","","","","","","","","","","","","","","","","","","",""]
[{"$f":"IF(ISBLANK('Control Sheet'!D957),\"\",'Control Sheet'!D957)","v":""},{"$f":"IF(ISBLANK('Control Sheet'!E957),\"\",'Control Sheet'!E957&\" (\"&'Control Sheet'!F957&\")\")","v":""},"","","","","","","","","","","","","",null,"","","","","","","","","","","","","","","","","","","","","","","","","","","","","","","","","","","","","","","","","","",{"$f":"IF(A977=\"\",\"\",MAX(IF(ISERROR(AU977:BF977),0,AU977:BF977)))","v":""},"","","","","","","","","","","","","","","","","","","","","","","","","","","","","","","","","","","","","","","","","","","","",""]
[{"$f":"IF(ISBLANK('Control Sheet'!D958),\"\",'Control Sheet'!D958)","v":""},{"$f":"IF(ISBLANK('Control Sheet'!E958),\"\",'Control Sheet'!E958&\" (\"&'Control Sheet'!F958&\")\")","v":""},"","","","","","","","","","","","","",null,"","","","","","","","","","","","","","","","","","","","","","","","","","","","","","","","","","","","","","","","","","",{"$f":"IF(A978=\"\",\"\",MAX(IF(ISERROR(AU978:BF978),0,AU978:BF978)))","v":""},"","","","","","","","","","","","","","","","","","","","","","","","","","","","","","","","","","","","","","","","","","","","",""]
[{"$f":"IF(ISBLANK('Control Sheet'!D959),\"\",'Control Sheet'!D959)","v":""},{"$f":"IF(ISBLANK('Control Sheet'!E959),\"\",'Control Sheet'!E959&\" (\"&'Control Sheet'!F959&\")\")","v":""},"","","","","","","","","","","","","",null,"","","","","","","","","","","","","","","","","","","","","","","","","","","","","","","","","","","","","","","","","","",{"$f":"IF(A979=\"\",\"\",MAX(IF(ISERROR(AU979:BF979),0,AU979:BF979)))","v":""},"","","","","","","","","","","","","","","","","","","","","","","","","","","","","","","","","","","","","","","","","","","","",""]
[{"$f":"IF(ISBLANK('Control Sheet'!D960),\"\",'Control Sheet'!D960)","v":""},{"$f":"IF(ISBLANK('Control Sheet'!E960),\"\",'Control Sheet'!E960&\" (\"&'Control Sheet'!F960&\")\")","v":""},"","","","","","","","","","","","","",null,"","","","","","","","","","","","","","","","","","","","","","","","","","","","","","","","","","","","","","","","","","",{"$f":"IF(A980=\"\",\"\",MAX(IF(ISERROR(AU980:BF980),0,AU980:BF980)))","v":""},"","","","","","","","","","","","","","","","","","","","","","","","","","","","","","","","","","","","","","","","","","","","",""]
[{"$f":"IF(ISBLANK('Control Sheet'!D961),\"\",'Control Sheet'!D961)","v":""},{"$f":"IF(ISBLANK('Control Sheet'!E961),\"\",'Control Sheet'!E961&\" (\"&'Control Sheet'!F961&\")\")","v":""},{"$f":"IF(C$18=1,IF(ISNA(VLOOKUP($A981,INDIRECT(C$20),NMS_col,FALSE)),\"\",VLOOKUP($A981,INDIRECT(C$20),NMS_col,FALSE)),\"\")","v":""},"","","","","","","","","","","","",null,"",{"$f":"IF(A981=\"\",\"\",NMSMonthsPop-(COUNTA(C981:N981)-COUNTBLANK(C981:N981)))","v":""},"","","","","","","","","","","","","","","","","","","","","","","","","","","","",{"$f":"IF(OR(A981=\"\",NMSMonthsPop=0),\"\",IF(AU$18=NMSMonthsPop,AH981,#N/A))","v":""},{"$f":"IF(OR($A981=\"\",NMSMonthsPop=0),\"\",IF(AV$18<NMSMonthsPop,#N/A,IF(AV$18=NMSMonthsPop,AI981,IF(AU981=\"\",\"\",IF(AV$18=NMSMonthsPop+1,AU981+(AU981*VLOOKUP(NMSMonthsPop-$R981,ForecastMult,3,FALSE)/12),AU981+AU981-AT981)))))","v":""},{"$f":"IF(OR($A981=\"\",NMSMonthsPop=0),\"\",IF(AW$18<NMSMonthsPop,#N/A,IF(AW$18=NMSMonthsPop,AJ981,IF(AV981=\"\",\"\",IF(AW$18=NMSMonthsPop+1,AV981+(AV981*VLOOKUP(NMSMonthsPop-$R981,ForecastMult,3,FALSE)/12),AV981+AV981-AU981)))))","v":""},{"$f":"IF(OR($A981=\"\",NMSMonthsPop=0),\"\",IF(AX$18<NMSMonthsPop,#N/A,IF(AX$18=NMSMonthsPop,AK981,IF(AW981=\"\",\"\",IF(AX$18=NMSMonthsPop+1,AW981+(AW981*VLOOKUP(NMSMonthsPop-$R981,ForecastMult,3,FALSE)/12),AW981+AW981-AV981)))))","v":""},{"$f":"IF(OR($A981=\"\",NMSMonthsPop=0),\"\",IF(AY$18<NMSMonthsPop,#N/A,IF(AY$18=NMSMonthsPop,AL981,IF(AX981=\"\",\"\",IF(AY$18=NMSMonthsPop+1,AX981+(AX981*VLOOKUP(NMSMonthsPop-$R981,ForecastMult,3,FALSE)/12),AX981+AX981-AW981)))))","v":""},{"$f":"IF(OR($A981=\"\",NMSMonthsPop=0),\"\",IF(AZ$18<NMSMonthsPop,#N/A,IF(AZ$18=NMSMonthsPop,AM981,IF(AY981=\"\",\"\",IF(AZ$18=NMSMonthsPop+1,AY981+(AY981*VLOOKUP(NMSMonthsPop-$R981,ForecastMult,3,FALSE)/12),AY981+AY981-AX981)))))","v":""},{"$f":"IF(OR($A981=\"\",NMSMonthsPop=0),\"\",IF(BA$18<NMSMonthsPop,#N/A,IF(BA$18=NMSMonthsPop,AN981,IF(AZ981=\"\",\"\",IF(BA$18=NMSMonthsPop+1,AZ981+(AZ981*VLOOKUP(NMSMonthsPop-$R981,ForecastMult,3,FALSE)/12),AZ981+AZ981-AY981)))))","v":""},{"$f":"IF(OR($A981=\"\",NMSMonthsPop=0),\"\",IF(BB$18<NMSMonthsPop,#N/A,IF(BB$18=NMSMonthsPop,AO981,IF(BA981=\"\",\"\",IF(BB$18=NMSMonthsPop+1,BA981+(BA981*VLOOKUP(NMSMonthsPop-$R981,ForecastMult,3,FALSE)/12),BA981+BA981-AZ981)))))","v":""},{"$f":"IF(OR($A981=\"\",NMSMonthsPop=0),\"\",IF(BC$18<NMSMonthsPop,#N/A,IF(BC$18=NMSMonthsPop,AP981,IF(BB981=\"\",\"\",IF(BC$18=NMSMonthsPop+1,BB981+(BB981*VLOOKUP(NMSMonthsPop-$R981,ForecastMult,3,FALSE)/12),BB981+BB981-BA981)))))","v":""},{"$f":"IF(OR($A981=\"\",NMSMonthsPop=0),\"\",IF(BD$18<NMSMonthsPop,#N/A,IF(BD$18=NMSMonthsPop,AQ981,IF(BC981=\"\",\"\",IF(BD$18=NMSMonthsPop+1,BC981+(BC981*VLOOKUP(NMSMonthsPop-$R981,ForecastMult,3,FALSE)/12),BC981+BC981-BB981)))))","v":""},{"$f":"IF(OR($A981=\"\",NMSMonthsPop=0),\"\",IF(BE$18<NMSMonthsPop,#N/A,IF(BE$18=NMSMonthsPop,AR981,IF(BD981=\"\",\"\",IF(BE$18=NMSMonthsPop+1,BD981+(BD981*VLOOKUP(NMSMonthsPop-$R981,ForecastMult,3,FALSE)/12),BD981+BD981-BC981)))))","v":""},{"$f":"IF(OR($A981=\"\",NMSMonthsPop=0),\"\",IF(BF$18<NMSMonthsPop,#N/A,IF(BF$18=NMSMonthsPop,AS981,IF(BE981=\"\",\"\",IF(BF$18=NMSMonthsPop+1,BE981+(BE981*VLOOKUP(NMSMonthsPop-$R981,ForecastMult,3,FALSE)/12),BE981+BE981-BD981)))))","v":""},{"$f":"IF(A981=\"\",\"\",MAX(IF(ISERROR(AU981:BF981),0,AU981:BF981)))","v":""},{"$f":"IF(AND(C$18=1,$A981<>\"\"),IF(ISNA(VLOOKUP($A981,INDIRECT(C$20),NMS_items_col,FALSE)),\"\",VLOOKUP($A981,INDIRECT(C$20),NMS_items_col,FALSE)),\"\")","v":""},{"$f":"IF(AND(D$18=1,$A981<>\"\"),IF(ISNA(VLOOKUP($A981,INDIRECT(D$20),NMS_items_col,FALSE)),\"\",VLOOKUP($A981,INDIRECT(D$20),NMS_items_col,FALSE)),\"\")","v":""},{"$f":"IF(AND(E$18=1,$A981<>\"\"),IF(ISNA(VLOOKUP($A981,INDIRECT(E$20),NMS_items_col,FALSE)),\"\",VLOOKUP($A981,INDIRECT(E$20),NMS_items_col,FALSE)),\"\")","v":""},{"$f":"IF(AND(F$18=1,$A981<>\"\"),IF(ISNA(VLOOKUP($A981,INDIRECT(F$20),NMS_items_col,FALSE)),\"\",VLOOKUP($A981,INDIRECT(F$20),NMS_items_col,FALSE)),\"\")","v":""},{"$f":"IF(AND(G$18=1,$A981<>\"\"),IF(ISNA(VLOOKUP($A981,INDIRECT(G$20),NMS_items_col,FALSE)),\"\",VLOOKUP($A981,INDIRECT(G$20),NMS_items_col,FALSE)),\"\")","v":""},{"$f":"IF(AND(H$18=1,$A981<>\"\"),IF(ISNA(VLOOKUP($A981,INDIRECT(H$20),NMS_items_col,FALSE)),\"\",VLOOKUP($A981,INDIRECT(H$20),NMS_items_col,FALSE)),\"\")","v":""},{"$f":"IF(AND(I$18=1,$A981<>\"\"),IF(ISNA(VLOOKUP($A981,INDIRECT(I$20),NMS_items_col,FALSE)),\"\",VLOOKUP($A981,INDIRECT(I$20),NMS_items_col,FALSE)),\"\")","v":""},{"$f":"IF(AND(J$18=1,$A981<>\"\"),IF(ISNA(VLOOKUP($A981,INDIRECT(J$20),NMS_items_col,FALSE)),\"\",VLOOKUP($A981,INDIRECT(J$20),NMS_items_col,FALSE)),\"\")","v":""},{"$f":"IF(AND(K$18=1,$A981<>\"\"),IF(ISNA(VLOOKUP($A981,INDIRECT(K$20),NMS_items_col,FALSE)),\"\",VLOOKUP($A981,INDIRECT(K$20),NMS_items_col,FALSE)),\"\")","v":""},{"$f":"IF(AND(L$18=1,$A981<>\"\"),IF(ISNA(VLOOKUP($A981,INDIRECT(L$20),NMS_items_col,FALSE)),\"\",VLOOKUP($A981,INDIRECT(L$20),NMS_items_col,FALSE)),\"\")","v":""},{"$f":"IF(AND(M$18=1,$A981<>\"\"),IF(ISNA(VLOOKUP($A981,INDIRECT(M$20),NMS_items_col,FALSE)),\"\",VLOOKUP($A981,INDIRECT(M$20),NMS_items_col,FALSE)),\"\")","v":""},{"$f":"IF(AND(N$18=1,$A981<>\"\"),IF(ISNA(VLOOKUP($A981,INDIRECT(N$20),NMS_items_col,FALSE)),\"\",VLOOKUP($A981,INDIRECT(N$20),NMS_items_col,FALSE)),\"\")","v":""},"","","","","","","",{"$f":"IF(C$18=1,IF(ISNA(VLOOKUP($A981,INDIRECT(C$20),NMS_fee_col,FALSE)),\"\",VLOOKUP($A981,INDIRECT(C$20),NMS_fee_col,FALSE)),\"\")","v":""},{"$f":"IF(D$18=1,IF(ISNA(VLOOKUP($A981,INDIRECT(D$20),NMS_fee_col,FALSE)),\"\",VLOOKUP($A981,INDIRECT(D$20),NMS_fee_col,FALSE)),\"\")","v":""},{"$f":"IF(E$18=1,IF(ISNA(VLOOKUP($A981,INDIRECT(E$20),NMS_fee_col,FALSE)),\"\",VLOOKUP($A981,INDIRECT(E$20),NMS_fee_col,FALSE)),\"\")","v":""},{"$f":"IF(F$18=1,IF(ISNA(VLOOKUP($A981,INDIRECT(F$20),NMS_fee_col,FALSE)),\"\",VLOOKUP($A981,INDIRECT(F$20),NMS_fee_col,FALSE)),\"\")","v":""},{"$f":"IF(G$18=1,IF(ISNA(VLOOKUP($A981,INDIRECT(G$20),NMS_fee_col,FALSE)),\"\",VLOOKUP($A981,INDIRECT(G$20),NMS_fee_col,FALSE)),\"\")","v":""},{"$f":"IF(H$18=1,IF(ISNA(VLOOKUP($A981,INDIRECT(H$20),NMS_fee_col,FALSE)),\"\",VLOOKUP($A981,INDIRECT(H$20),NMS_fee_col,FALSE)),\"\")","v":""},{"$f":"IF(I$18=1,IF(ISNA(VLOOKUP($A981,INDIRECT(I$20),NMS_fee_col,FALSE)),\"\",VLOOKUP($A981,INDIRECT(I$20),NMS_fee_col,FALSE)),\"\")","v":""},{"$f":"IF(J$18=1,IF(ISNA(VLOOKUP($A981,INDIRECT(J$20),NMS_fee_col,FALSE)),\"\",VLOOKUP($A981,INDIRECT(J$20),NMS_fee_col,FALSE)),\"\")","v":""},{"$f":"IF(K$18=1,IF(ISNA(VLOOKUP($A981,INDIRECT(K$20),NMS_fee_col,FALSE)),\"\",VLOOKUP($A981,INDIRECT(K$20),NMS_fee_col,FALSE)),\"\")","v":""},{"$f":"IF(L$18=1,IF(ISNA(VLOOKUP($A981,INDIRECT(L$20),NMS_fee_col,FALSE)),\"\",VLOOKUP($A981,INDIRECT(L$20),NMS_fee_col,FALSE)),\"\")","v":""},{"$f":"IF(M$18=1,IF(ISNA(VLOOKUP($A981,INDIRECT(M$20),NMS_fee_col,FALSE)),\"\",VLOOKUP($A981,INDIRECT(M$20),NMS_fee_col,FALSE)),\"\")","v":""},{"$f":"IF(N$18=1,IF(ISNA(VLOOKUP($A981,INDIRECT(N$20),NMS_fee_col,FALSE)),\"\",VLOOKUP($A981,INDIRECT(N$20),NMS_fee_col,FALSE)),\"\")","v":""},"",{"$f":"IF(C$18=1,IF(ISNA(VLOOKUP($A981,INDIRECT(C$20),NMS_Fee_adj_col,FALSE)),\"\",VLOOKUP($A981,INDIRECT(C$20),NMS_Fee_adj_col,FALSE)),\"\")","v":""},{"$f":"IF(D$18=1,IF(ISNA(VLOOKUP($A981,INDIRECT(D$20),NMS_Fee_adj_col,FALSE)),\"\",VLOOKUP($A981,INDIRECT(D$20),NMS_Fee_adj_col,FALSE)),\"\")","v":""},{"$f":"IF(E$18=1,IF(ISNA(VLOOKUP($A981,INDIRECT(E$20),NMS_Fee_adj_col,FALSE)),\"\",VLOOKUP($A981,INDIRECT(E$20),NMS_Fee_adj_col,FALSE)),\"\")","v":""},{"$f":"IF(F$18=1,IF(ISNA(VLOOKUP($A981,INDIRECT(F$20),NMS_Fee_adj_col,FALSE)),\"\",VLOOKUP($A981,INDIRECT(F$20),NMS_Fee_adj_col,FALSE)),\"\")","v":""},{"$f":"IF(G$18=1,IF(ISNA(VLOOKUP($A981,INDIRECT(G$20),NMS_Fee_adj_col,FALSE)),\"\",VLOOKUP($A981,INDIRECT(G$20),NMS_Fee_adj_col,FALSE)),\"\")","v":""},{"$f":"IF(H$18=1,IF(ISNA(VLOOKUP($A981,INDIRECT(H$20),NMS_Fee_adj_col,FALSE)),\"\",VLOOKUP($A981,INDIRECT(H$20),NMS_Fee_adj_col,FALSE)),\"\")","v":""},{"$f":"IF(I$18=1,IF(ISNA(VLOOKUP($A981,INDIRECT(I$20),NMS_Fee_adj_col,FALSE)),\"\",VLOOKUP($A981,INDIRECT(I$20),NMS_Fee_adj_col,FALSE)),\"\")","v":""},{"$f":"IF(J$18=1,IF(ISNA(VLOOKUP($A981,INDIRECT(J$20),NMS_Fee_adj_col,FALSE)),\"\",VLOOKUP($A981,INDIRECT(J$20),NMS_Fee_adj_col,FALSE)),\"\")","v":""},{"$f":"IF(K$18=1,IF(ISNA(VLOOKUP($A981,INDIRECT(K$20),NMS_Fee_adj_col,FALSE)),\"\",VLOOKUP($A981,INDIRECT(K$20),NMS_Fee_adj_col,FALSE)),\"\")","v":""},{"$f":"IF(L$18=1,IF(ISNA(VLOOKUP($A981,INDIRECT(L$20),NMS_Fee_adj_col,FALSE)),\"\",VLOOKUP($A981,INDIRECT(L$20),NMS_Fee_adj_col,FALSE)),\"\")","v":""},{"$f":"IF(M$18=1,IF(ISNA(VLOOKUP($A981,INDIRECT(M$20),NMS_Fee_adj_col,FALSE)),\"\",VLOOKUP($A981,INDIRECT(M$20),NMS_Fee_adj_col,FALSE)),\"\")","v":""},{"$f":"IF(N$18=1,IF(ISNA(VLOOKUP($A981,INDIRECT(N$20),NMS_Fee_adj_col,FALSE)),\"\",VLOOKUP($A981,INDIRECT(N$20),NMS_Fee_adj_col,FALSE)),\"\")","v":""},""]
[{"$f":"IF(ISBLANK('Control Sheet'!D962),\"\",'Control Sheet'!D962)","v":""},{"$f":"IF(ISBLANK('Control Sheet'!E962),\"\",'Control Sheet'!E962&\" (\"&'Control Sheet'!F962&\")\")","v":""},"","","","","","","","","","","","",{"$f":"IF(A982=\"\",\"\",SUM(C982:N982))","v":""},null,{"$f":"IF(A982=\"\",\"\",IF(BG982<=400,\"No\",\"Yes\"))","v":""},"",{"$f":"IF(C982=\"\",\"\",IF(C982<=C$10,1,IF(C982<=C$7,2,IF(C982<=C$8,3,IF(C982<=C$9,4,IF(C982<=C$11,5,60))))))","v":""},{"$f":"IF(D982=\"\",\"\",IF(D982<=D$10,1,IF(D982<=D$7,2,IF(D982<=D$8,3,IF(D982<=D$9,4,IF(D982<=D$11,5,60))))))","v":""},{"$f":"IF(E982=\"\",\"\",IF(E982<=E$10,1,IF(E982<=E$7,2,IF(E982<=E$8,3,IF(E982<=E$9,4,IF(E982<=E$11,5,60))))))","v":""},{"$f":"IF(F982=\"\",\"\",IF(F982<=F$10,1,IF(F982<=F$7,2,IF(F982<=F$8,3,IF(F982<=F$9,4,IF(F982<=F$11,5,60))))))","v":""},{"$f":"IF(G982=\"\",\"\",IF(G982<=G$10,1,IF(G982<=G$7,2,IF(G982<=G$8,3,IF(G982<=G$9,4,IF(G982<=G$11,5,60))))))","v":""},{"$f":"IF(H982=\"\",\"\",IF(H982<=H$10,1,IF(H982<=H$7,2,IF(H982<=H$8,3,IF(H982<=H$9,4,IF(H982<=H$11,5,60))))))","v":""},{"$f":"IF(I982=\"\",\"\",IF(I982<=I$10,1,IF(I982<=I$7,2,IF(I982<=I$8,3,IF(I982<=I$9,4,IF(I982<=I$11,5,60))))))","v":""},{"$f":"IF(J982=\"\",\"\",IF(J982<=J$10,1,IF(J982<=J$7,2,IF(J982<=J$8,3,IF(J982<=J$9,4,IF(J982<=J$11,5,60))))))","v":""},{"$f":"IF(K982=\"\",\"\",IF(K982<=K$10,1,IF(K982<=K$7,2,IF(K982<=K$8,3,IF(K982<=K$9,4,IF(K982<=K$11,5,60))))))","v":""},{"$f":"IF(L982=\"\",\"\",IF(L982<=L$10,1,IF(L982<=L$7,2,IF(L982<=L$8,3,IF(L982<=L$9,4,IF(L982<=L$11,5,60))))))","v":""},{"$f":"IF(M982=\"\",\"\",IF(M982<=M$10,1,IF(M982<=M$7,2,IF(M982<=M$8,3,IF(M982<=M$9,4,IF(M982<=M$11,5,60))))))","v":""},{"$f":"IF(N982=\"\",\"\",IF(N982<=N$10,1,IF(N982<=N$7,2,IF(N982<=N$8,3,IF(N982<=N$9,4,IF(N982<=N$11,5,60))))))","v":""},{"$f":"IF(A982=\"\",\"\",SUM(S982:AD982))","v":""},{"$f":"IF(OR(A982=\"\",AE982=0),\"\",AE982/(O$18--R982))","v":""},{"$f":"IF(AF982=\"\",\"\",IF(AF982<=1,\"Lower Outlier\",IF(AF982<=2,\"Below Average\",IF(AF982<=3,\"Lower Quartile\",IF(AF982<=4,\"Upper Quartile\",IF(AF982<=5, \"Above Average\", \"Upper Outlier\"))))))","v":""},{"$f":"IF(C$18=1,C982,\"\")","v":""},{"$f":"IF(D$18=1,IF(D982=\"\",IF(AH982=\"\",\"\",AH982),IF(AND(D982>=0,AH982=\"\"),D982,IF(ISERROR(D982+AH982),#N/A,D982+AH982))),\"\")","v":""},{"$f":"IF(E$18=1,IF(E982=\"\",IF(AI982=\"\",\"\",AI982),IF(AND(E982>=0,AI982=\"\"),E982,IF(ISERROR(E982+AI982),#N/A,E982+AI982))),\"\")","v":""},{"$f":"IF(F$18=1,IF(F982=\"\",IF(AJ982=\"\",\"\",AJ982),IF(AND(F982>=0,AJ982=\"\"),F982,IF(ISERROR(F982+AJ982),#N/A,F982+AJ982))),\"\")","v":""},{"$f":"IF(G$18=1,IF(G982=\"\",IF(AK982=\"\",\"\",AK982),IF(AND(G982>=0,AK982=\"\"),G982,IF(ISERROR(G982+AK982),#N/A,G982+AK982))),\"\")","v":""},{"$f":"IF(H$18=1,IF(H982=\"\",IF(AL982=\"\",\"\",AL982),IF(AND(H982>=0,AL982=\"\"),H982,IF(ISERROR(H982+AL982),#N/A,H982+AL982))),\"\")","v":""},{"$f":"IF(I$18=1,IF(I982=\"\",IF(AM982=\"\",\"\",AM982),IF(AND(I982>=0,AM982=\"\"),I982,IF(ISERROR(I982+AM982),#N/A,I982+AM982))),\"\")","v":""},{"$f":"IF(J$18=1,IF(J982=\"\",IF(AN982=\"\",\"\",AN982),IF(AND(J982>=0,AN982=\"\"),J982,IF(ISERROR(J982+AN982),#N/A,J982+AN982))),\"\")","v":""},{"$f":"IF(K$18=1,IF(K982=\"\",IF(AO982=\"\",\"\",AO982),IF(AND(K982>=0,AO982=\"\"),K982,IF(ISERROR(K982+AO982),#N/A,K982+AO982))),\"\")","v":""},{"$f":"IF(L$18=1,IF(L982=\"\",IF(AP982=\"\",\"\",AP982),IF(AND(L982>=0,AP982=\"\"),L982,IF(ISERROR(L982+AP982),#N/A,L982+AP982))),\"\")","v":""},{"$f":"IF(M$18=1,IF(M982=\"\",IF(AQ982=\"\",\"\",AQ982),IF(AND(M982>=0,AQ982=\"\"),M982,IF(ISERROR(M982+AQ982),#N/A,M982+AQ982))),\"\")","v":""},{"$f":"IF(N$18=1,IF(N982=\"\",IF(AR982=\"\",\"\",AR982),IF(AND(N982>=0,AR982=\"\"),N982,IF(ISERROR(N982+AR982),#N/A,N982+AR982))),\"\")","v":""},{"$f":"IF(A982=\"\",\"\",MAX(AH982:AS982))","v":""},"","","","","","","","","","","","",{"$f":"IF(A982=\"\",\"\",MAX(IF(ISERROR(AU982:BF982),0,AU982:BF982)))","v":""},"","","","","","","","","","","","",{"$f":"IF(A982=\"\",\"\",SUM(BH982:BS982))","v":""},{"$f":"IF(A982=\"\",\"\",MIN(B982:M982))","v":""},{"$f":"IF(A982=\"\",\"\",MAX(B982:M982))","v":""},{"$f":"IF(A982=\"\",\"\",BV982-BU982)","v":""},"",{"$f":"IF(A982=\"\",\"\",(COUNTA(C982:N982)-COUNTBLANK(C982:N982)))","v":""},{"$f":"IF(A982=\"\",\"\",BY982-COUNTIF(C982:N982,\"=0\"))","v":""},"","","","","","","","","","","","",{"$f":"IF(A982=\"\",\"\",SUM(CA982:CL982))","v":""},"","","","","","","","","","","","",{"$f":"IF(A982=\"\",\"\",SUM(CN982:CY982))","v":""}]
[{"$f":"IF(ISBLANK('Control Sheet'!D963),\"\",'Control Sheet'!D963)","v":""},{"$f":"IF(ISBLANK('Control Sheet'!E963),\"\",'Control Sheet'!E963&\" (\"&'Control Sheet'!F963&\")\")","v":""},"","","","","","","","","","","","","",null,"","","","","","","","","","","","","","","","","","","","","","","","","","","","","","","","","","","","","","","","","","",{"$f":"IF(A983=\"\",\"\",MAX(IF(ISERROR(AU983:BF983),0,AU983:BF983)))","v":""},"","","","","","","","","","","","","","","","","","","","","","","","","","","","","","","","","","","","","","","","","","","","",""]
[{"$f":"IF(ISBLANK('Control Sheet'!D964),\"\",'Control Sheet'!D964)","v":""},{"$f":"IF(ISBLANK('Control Sheet'!E964),\"\",'Control Sheet'!E964&\" (\"&'Control Sheet'!F964&\")\")","v":""},"","","","","","","","","","","","","",null,"","","","","","","","","","","","","","","","","","","","","","","","","","","","","","","","","","","","","","","","","","",{"$f":"IF(A984=\"\",\"\",MAX(IF(ISERROR(AU984:BF984),0,AU984:BF984)))","v":""},"","","","","","","","","","","","","","","","","","","","","","","","","","","","","","","","","","","","","","","","","","","","",""]
[{"$f":"IF(ISBLANK('Control Sheet'!D965),\"\",'Control Sheet'!D965)","v":""},{"$f":"IF(ISBLANK('Control Sheet'!E965),\"\",'Control Sheet'!E965&\" (\"&'Control Sheet'!F965&\")\")","v":""},"","","","","","","","","","","","","",null,"","","","","","","","","","","","","","","","","","","","","","","","","","","","","","","","","","","","","","","","","","",{"$f":"IF(A985=\"\",\"\",MAX(IF(ISERROR(AU985:BF985),0,AU985:BF985)))","v":""},"","","","","","","","","","","","","","","","","","","","","","","","","","","","","","","","","","","","","","","","","","","","",""]
[{"$f":"IF(ISBLANK('Control Sheet'!D966),\"\",'Control Sheet'!D966)","v":""},{"$f":"IF(ISBLANK('Control Sheet'!E966),\"\",'Control Sheet'!E966&\" (\"&'Control Sheet'!F966&\")\")","v":""},"","","","","","","","","","","","","",null,"","","","","","","","","","","","","","","","","","","","","","","","","","","","","","","","","","","","","","","","","","",{"$f":"IF(A986=\"\",\"\",MAX(IF(ISERROR(AU986:BF986),0,AU986:BF986)))","v":""},"","","","","","","","","","","","","","","","","","","","","","","","","","","","","","","","","","","","","","","","","","","","",""]
[{"$f":"IF(ISBLANK('Control Sheet'!D967),\"\",'Control Sheet'!D967)","v":""},{"$f":"IF(ISBLANK('Control Sheet'!E967),\"\",'Control Sheet'!E967&\" (\"&'Control Sheet'!F967&\")\")","v":""},"","","","","","","","","","","","","",null,"","","","","","","","","","","","","","","","","","","","","","","","","","","","","","","","","","","","","","","","","","",{"$f":"IF(A987=\"\",\"\",MAX(IF(ISERROR(AU987:BF987),0,AU987:BF987)))","v":""},"","","","","","","","","","","","","","","","","","","","","","","","","","","","","","","","","","","","","","","","","","","","",""]
[{"$f":"IF(ISBLANK('Control Sheet'!D968),\"\",'Control Sheet'!D968)","v":""},{"$f":"IF(ISBLANK('Control Sheet'!E968),\"\",'Control Sheet'!E968&\" (\"&'Control Sheet'!F968&\")\")","v":""},"","","","","","","","","","","","","",null,"","","","","","","","","","","","","","","","","","","","","","","","","","","","","","","","","","","","","","","","","","",{"$f":"IF(A988=\"\",\"\",MAX(IF(ISERROR(AU988:BF988),0,AU988:BF988)))","v":""},"","","","","","","","","","","","","","","","","","","","","","","","","","","","","","","","","","","","","","","","","","","","",""]
[{"$f":"IF(ISBLANK('Control Sheet'!D969),\"\",'Control Sheet'!D969)","v":""},{"$f":"IF(ISBLANK('Control Sheet'!E969),\"\",'Control Sheet'!E969&\" (\"&'Control Sheet'!F969&\")\")","v":""},"","","","","","","","","","","","","",null,"","","","","","","","","","","","","","","","","","","","","","","","","","","","","","","","","","","","","","","","","","",{"$f":"IF(A989=\"\",\"\",MAX(IF(ISERROR(AU989:BF989),0,AU989:BF989)))","v":""},"","","","","","","","","","","","","","","","","","","","","","","","","","","","","","","","","","","","","","","","","","","","",""]
[{"$f":"IF(ISBLANK('Control Sheet'!D970),\"\",'Control Sheet'!D970)","v":""},{"$f":"IF(ISBLANK('Control Sheet'!E970),\"\",'Control Sheet'!E970&\" (\"&'Control Sheet'!F970&\")\")","v":""},"","","","","","","","","","","","","",null,"","","","","","","","","","","","","","","","","","","","","","","","","","","","","","","","","","","","","","","","","","",{"$f":"IF(A990=\"\",\"\",MAX(IF(ISERROR(AU990:BF990),0,AU990:BF990)))","v":""},"","","","","","","","","","","","","","","","","","","","","","","","","","","","","","","","","","","","","","","","","","","","",""]
[{"$f":"IF(ISBLANK('Control Sheet'!D971),\"\",'Control Sheet'!D971)","v":""},{"$f":"IF(ISBLANK('Control Sheet'!E971),\"\",'Control Sheet'!E971&\" (\"&'Control Sheet'!F971&\")\")","v":""},{"$f":"IF(C$18=1,IF(ISNA(VLOOKUP($A991,INDIRECT(C$20),NMS_col,FALSE)),\"\",VLOOKUP($A991,INDIRECT(C$20),NMS_col,FALSE)),\"\")","v":""},"","","","","","","","","","","","",null,"","","","","","","","","","","","","","","","","","","","","","","","","","","","","","","","","","","","","","","","","","",{"$f":"IF(A991=\"\",\"\",MAX(IF(ISERROR(AU991:BF991),0,AU991:BF991)))","v":""},"","","","","","","","","","","","","","","","","","","","","","","","","","","","","","","","","","","","","","","","","","","","",""]
[{"$f":"IF(ISBLANK('Control Sheet'!D972),\"\",'Control Sheet'!D972)","v":""},{"$f":"IF(ISBLANK('Control Sheet'!E972),\"\",'Control Sheet'!E972&\" (\"&'Control Sheet'!F972&\")\")","v":""},"","","","","","","","","","","","","",null,"","","","","","","","","","","","","","","","","","","","","","","","","","","","","","","","","","","","","","","","","","",{"$f":"IF(A992=\"\",\"\",MAX(IF(ISERROR(AU992:BF992),0,AU992:BF992)))","v":""},"","","","","","","","","","","","","","","","","","","","","","","","","","","","","","","","","","","","","","","","","","","","",""]
[{"$f":"IF(ISBLANK('Control Sheet'!D973),\"\",'Control Sheet'!D973)","v":""},{"$f":"IF(ISBLANK('Control Sheet'!E973),\"\",'Control Sheet'!E973&\" (\"&'Control Sheet'!F973&\")\")","v":""},"","","","","","","","","","","","","",null,"","","","","","","","","","","","","","","","","","","","","","","","","","","","","","","","","","","","","","","","","","",{"$f":"IF(A993=\"\",\"\",MAX(IF(ISERROR(AU993:BF993),0,AU993:BF993)))","v":""},"","","","","","","","","","","","","","","","","","","","","","","","","","","","","","","","","","","","","","","","","","","","",""]
[{"$f":"IF(ISBLANK('Control Sheet'!D974),\"\",'Control Sheet'!D974)","v":""},{"$f":"IF(ISBLANK('Control Sheet'!E974),\"\",'Control Sheet'!E974&\" (\"&'Control Sheet'!F974&\")\")","v":""},"","","","","","","","","","","","","",null,"","","","","","","","","","","","","","","","","","","","","","","","","","","","","","","","","","","","","","","","","","",{"$f":"IF(A994=\"\",\"\",MAX(IF(ISERROR(AU994:BF994),0,AU994:BF994)))","v":""},"","","","","","","","","","","","","","","","","","","","","","","","","","","","","","","","","","","","","","","","","","","","",""]
[{"$f":"IF(ISBLANK('Control Sheet'!D975),\"\",'Control Sheet'!D975)","v":""},{"$f":"IF(ISBLANK('Control Sheet'!E975),\"\",'Control Sheet'!E975&\" (\"&'Control Sheet'!F975&\")\")","v":""},"","","","","","","","","","","","","",null,"","","","","","","","","","","","","","","","","","","","","","","","","","","","","","","","","","","","","","","","","","",{"$f":"IF(A995=\"\",\"\",MAX(IF(ISERROR(AU995:BF995),0,AU995:BF995)))","v":""},"","","","","","","","","","","","","","","","","","","","","","","","","","","","","","","","","","","","","","","","","","","","",""]
[{"$f":"IF(ISBLANK('Control Sheet'!D976),\"\",'Control Sheet'!D976)","v":""},{"$f":"IF(ISBLANK('Control Sheet'!E976),\"\",'Control Sheet'!E976&\" (\"&'Control Sheet'!F976&\")\")","v":""},"","","","","","","","","","","","","",null,"","","","","","","","","","","","","","","","","","","","","","","","","","","","","","","","","","","","","","","","","","",{"$f":"IF(A996=\"\",\"\",MAX(IF(ISERROR(AU996:BF996),0,AU996:BF996)))","v":""},"","","","","","","","","","","","","","","","","","","","","","","","","","","","","","","","","","","","","","","","","","","","",""]
[{"$f":"IF(ISBLANK('Control Sheet'!D977),\"\",'Control Sheet'!D977)","v":""},{"$f":"IF(ISBLANK('Control Sheet'!E977),\"\",'Control Sheet'!E977&\" (\"&'Control Sheet'!F977&\")\")","v":""},"","","","","","","","","","","","","",null,"","","","","","","","","","","","","","","","","","","","","","","","","","","","","","","","","","","","","","","","","","",{"$f":"IF(A997=\"\",\"\",MAX(IF(ISERROR(AU997:BF997),0,AU997:BF997)))","v":""},"","","","","","","","","","","","","","","","","","","","","","","","","","","","","","","","","","","","","","","","","","","","",""]
[{"$f":"IF(ISBLANK('Control Sheet'!D978),\"\",'Control Sheet'!D978)","v":""},{"$f":"IF(ISBLANK('Control Sheet'!E978),\"\",'Control Sheet'!E978&\" (\"&'Control Sheet'!F978&\")\")","v":""},"","","","","","","","","","","","","",null,"","","","","","","","","","","","","","","","","","","","","","","","","","","","","","","","","","","","","","","","","","",{"$f":"IF(A998=\"\",\"\",MAX(IF(ISERROR(AU998:BF998),0,AU998:BF998)))","v":""},"","","","","","","","","","","","","","","","","","","","","","","","","","","","","","","","","","","","","","","","","","","","",""]
[{"$f":"IF(ISBLANK('Control Sheet'!D979),\"\",'Control Sheet'!D979)","v":""},{"$f":"IF(ISBLANK('Control Sheet'!E979),\"\",'Control Sheet'!E979&\" (\"&'Control Sheet'!F979&\")\")","v":""},"","","","","","","","","","","","","",null,"","","","","","","","","","","","","","","","","","","","","","","","","","","","","","","","","","","","","","","","","","",{"$f":"IF(A999=\"\",\"\",MAX(IF(ISERROR(AU999:BF999),0,AU999:BF999)))","v":""},"","","","","","","","","","","","","","","","","","","","","","","","","","","","","","","","","","","","","","","","","","","","",""]
[{"$f":"IF(ISBLANK('Control Sheet'!D980),\"\",'Control Sheet'!D980)","v":""},{"$f":"IF(ISBLANK('Control Sheet'!E980),\"\",'Control Sheet'!E980&\" (\"&'Control Sheet'!F980&\")\")","v":""},"","","","","","","","","","","","","",null,"","","","","","","","","","","","","","","","","","","","","","","","","","","","","","","","","","","","","","","","","","",{"$f":"IF(A1000=\"\",\"\",MAX(IF(ISERROR(AU1000:BF1000),0,AU1000:BF1000)))","v":""},"","","","","","","","","","","","","","","","","","","","","","","","","","","","","","","","","","","","","","","","","","","","",""]
[{"$f":"IF(ISBLANK('Control Sheet'!D981),\"\",'Control Sheet'!D981)","v":""},{"$f":"IF(ISBLANK('Control Sheet'!E981),\"\",'Control Sheet'!E981&\" (\"&'Control Sheet'!F981&\")\")","v":""},{"$f":"IF(C$18=1,IF(ISNA(VLOOKUP($A1001,INDIRECT(C$20),NMS_col,FALSE)),\"\",VLOOKUP($A1001,INDIRECT(C$20),NMS_col,FALSE)),\"\")","v":""},"","","","","","","","","","","","",null,"","","","","","","","","","","","","","","","","","","","","","","","","","","","","","","","","","","","","","","","","","",{"$f":"IF(A1001=\"\",\"\",MAX(IF(ISERROR(AU1001:BF1001),0,AU1001:BF1001)))","v":""},"","","","","","","","","","","","","","","","","","","","","","","","","","","","","","","","","","","","","","","","","","","","",""]
[{"$f":"IF(ISBLANK('Control Sheet'!D982),\"\",'Control Sheet'!D982)","v":""},{"$f":"IF(ISBLANK('Control Sheet'!E982),\"\",'Control Sheet'!E982&\" (\"&'Control Sheet'!F982&\")\")","v":""},"","","","","","","","","","","","","",null,"","","","","","","","","","","","","","","","","","","","","","","","","","","","","","","","","","","","","","","","","","",{"$f":"IF(A1002=\"\",\"\",MAX(IF(ISERROR(AU1002:BF1002),0,AU1002:BF1002)))","v":""},"","","","","","","","","","","","","","","","","","","","","","","","","","","","","","","","","","","","","","","","","","","","",""]
[{"$f":"IF(ISBLANK('Control Sheet'!D983),\"\",'Control Sheet'!D983)","v":""},{"$f":"IF(ISBLANK('Control Sheet'!E983),\"\",'Control Sheet'!E983&\" (\"&'Control Sheet'!F983&\")\")","v":""},"","","","","","","","","","","","","",null,"","","","","","","","","","","","","","","","","","","","","","","","","","","","","","","","","","","","","","","","","","",{"$f":"IF(A1003=\"\",\"\",MAX(IF(ISERROR(AU1003:BF1003),0,AU1003:BF1003)))","v":""},"","","","","","","","","","","","","","","","","","","","","","","","","","","","","","","","","","","","","","","","","","","","",""]
[{"$f":"IF(ISBLANK('Control Sheet'!D984),\"\",'Control Sheet'!D984)","v":""},{"$f":"IF(ISBLANK('Control Sheet'!E984),\"\",'Control Sheet'!E984&\" (\"&'Control Sheet'!F984&\")\")","v":""},"","","","","","","","","","","","","",null,"","","","","","","","","","","","","","","","","","","","","","","","","","","","","","","","","","","","","","","","","","",{"$f":"IF(A1004=\"\",\"\",MAX(IF(ISERROR(AU1004:BF1004),0,AU1004:BF1004)))","v":""},"","","","","","","","","","","","","","","","","","","","","","","","","","","","","","","","","","","","","","","","","","","","",""]
[{"$f":"IF(ISBLANK('Control Sheet'!D985),\"\",'Control Sheet'!D985)","v":""},{"$f":"IF(ISBLANK('Control Sheet'!E985),\"\",'Control Sheet'!E985&\" (\"&'Control Sheet'!F985&\")\")","v":""},"","","","","","","","","","","","","",null,"","","","","","","","","","","","","","","","","","","","","","","","","","","","","","","","","","","","","","","","","","",{"$f":"IF(A1005=\"\",\"\",MAX(IF(ISERROR(AU1005:BF1005),0,AU1005:BF1005)))","v":""},"","","","","","","","","","","","","","","","","","","","","","","","","","","","","","","","","","","","","","","","","","","","",""]
[{"$f":"IF(ISBLANK('Control Sheet'!D986),\"\",'Control Sheet'!D986)","v":""},{"$f":"IF(ISBLANK('Control Sheet'!E986),\"\",'Control Sheet'!E986&\" (\"&'Control Sheet'!F986&\")\")","v":""},"","","","","","","","","","","","","",null,"","","","","","","","","","","","","","","","","","","","","","","","","","","","","","","","","","","","","","","","","","",{"$f":"IF(A1006=\"\",\"\",MAX(IF(ISERROR(AU1006:BF1006),0,AU1006:BF1006)))","v":""},"","","","","","","","","","","","","","","","","","","","","","","","","","","","","","","","","","","","","","","","","","","","",""]
[{"$f":"IF(ISBLANK('Control Sheet'!D987),\"\",'Control Sheet'!D987)","v":""},{"$f":"IF(ISBLANK('Control Sheet'!E987),\"\",'Control Sheet'!E987&\" (\"&'Control Sheet'!F987&\")\")","v":""},"","","","","","","","","","","","","",null,"","","","","","","","","","","","","","","","","","","","","","","","","","","","","","","","","","","","","","","","","","",{"$f":"IF(A1007=\"\",\"\",MAX(IF(ISERROR(AU1007:BF1007),0,AU1007:BF1007)))","v":""},"","","","","","","","","","","","","","","","","","","","","","","","","","","","","","","","","","","","","","","","","","","","",""]
[{"$f":"IF(ISBLANK('Control Sheet'!D988),\"\",'Control Sheet'!D988)","v":""},{"$f":"IF(ISBLANK('Control Sheet'!E988),\"\",'Control Sheet'!E988&\" (\"&'Control Sheet'!F988&\")\")","v":""},"","","","","","","","","","","","","",null,"","","","","","","","","","","","","","","","","","","","","","","","","","","","","","","","","","","","","","","","","","",{"$f":"IF(A1008=\"\",\"\",MAX(IF(ISERROR(AU1008:BF1008),0,AU1008:BF1008)))","v":""},"","","","","","","","","","","","","","","","","","","","","","","","","","","","","","","","","","","","","","","","","","","","",""]
[{"$f":"IF(ISBLANK('Control Sheet'!D989),\"\",'Control Sheet'!D989)","v":""},{"$f":"IF(ISBLANK('Control Sheet'!E989),\"\",'Control Sheet'!E989&\" (\"&'Control Sheet'!F989&\")\")","v":""},"","","","","","","","","","","","","",null,"","","","","","","","","","","","","","","","","","","","","","","","","","","","","","","","","","","","","","","","","","",{"$f":"IF(A1009=\"\",\"\",MAX(IF(ISERROR(AU1009:BF1009),0,AU1009:BF1009)))","v":""},"","","","","","","","","","","","","","","","","","","","","","","","","","","","","","","","","","","","","","","","","","","","",""]
[{"$f":"IF(ISBLANK('Control Sheet'!D990),\"\",'Control Sheet'!D990)","v":""},{"$f":"IF(ISBLANK('Control Sheet'!E990),\"\",'Control Sheet'!E990&\" (\"&'Control Sheet'!F990&\")\")","v":""},"","","","","","","","","","","","","",null,"","","","","","","","","","","","","","","","","","","","","","","","","","","","","","","","","","","","","","","","","","",{"$f":"IF(A1010=\"\",\"\",MAX(IF(ISERROR(AU1010:BF1010),0,AU1010:BF1010)))","v":""},"","","","","","","","","","","","","","","","","","","","","","","","","","","","","","","","","","","","","","","","","","","","",""]
[{"$f":"IF(ISBLANK('Control Sheet'!D991),\"\",'Control Sheet'!D991)","v":""},{"$f":"IF(ISBLANK('Control Sheet'!E991),\"\",'Control Sheet'!E991&\" (\"&'Control Sheet'!F991&\")\")","v":""},{"$f":"IF(C$18=1,IF(ISNA(VLOOKUP($A1011,INDIRECT(C$20),NMS_col,FALSE)),\"\",VLOOKUP($A1011,INDIRECT(C$20),NMS_col,FALSE)),\"\")","v":""},"","","","","","","","","","","","",null,"","","","","","","","","","","","","","","","","","","","","","","","","","","","","","","","","","","","","","","","","","",{"$f":"IF(A1011=\"\",\"\",MAX(IF(ISERROR(AU1011:BF1011),0,AU1011:BF1011)))","v":""},"","","","","","","","","","","","","","","","","","","","","","","","","","","","","","","","","","","","","","","","","","","","",""]
[{"$f":"IF(ISBLANK('Control Sheet'!D992),\"\",'Control Sheet'!D992)","v":""},{"$f":"IF(ISBLANK('Control Sheet'!E992),\"\",'Control Sheet'!E992&\" (\"&'Control Sheet'!F992&\")\")","v":""},"","","","","","","","","","","","","",null,"","","","","","","","","","","","","","","","","","","","","","","","","","","","","","","","","","","","","","","","","","",{"$f":"IF(A1012=\"\",\"\",MAX(IF(ISERROR(AU1012:BF1012),0,AU1012:BF1012)))","v":""},"","","","","","","","","","","","","","","","","","","","","","","","","","","","","","","","","","","","","","","","","","","","",""]
[{"$f":"IF(ISBLANK('Control Sheet'!D993),\"\",'Control Sheet'!D993)","v":""},{"$f":"IF(ISBLANK('Control Sheet'!E993),\"\",'Control Sheet'!E993&\" (\"&'Control Sheet'!F993&\")\")","v":""},"","","","","","","","","","","","","",null,"","","","","","","","","","","","","","","","","","","","","","","","","","","","","","","","","","","","","","","","","","",{"$f":"IF(A1013=\"\",\"\",MAX(IF(ISERROR(AU1013:BF1013),0,AU1013:BF1013)))","v":""},"","","","","","","","","","","","","","","","",{"$f":"IF(A1013=\"\",\"\",IF(BW1013>$BW$11,\"Yes\",\"No\"))","v":""},"","","","","","","","","","","","","","","","","","","","","","","","","","","",""]
[{"$f":"IF(ISBLANK('Control Sheet'!D994),\"\",'Control Sheet'!D994)","v":""},{"$f":"IF(ISBLANK('Control Sheet'!E994),\"\",'Control Sheet'!E994&\" (\"&'Control Sheet'!F994&\")\")","v":""},"","","","","","","","","","","","","",null,"","","","","","","","","","","","","","","","","","","","","","","","","","","","","","","","","","","","","","","","","","",{"$f":"IF(A1014=\"\",\"\",MAX(IF(ISERROR(AU1014:BF1014),0,AU1014:BF1014)))","v":""},"","","","","","","","","","","","","","","","","","","","","","","","","","","","","","","","","","","","","","","","","","","","",""]
[{"$f":"IF(ISBLANK('Control Sheet'!D995),\"\",'Control Sheet'!D995)","v":""},{"$f":"IF(ISBLANK('Control Sheet'!E995),\"\",'Control Sheet'!E995&\" (\"&'Control Sheet'!F995&\")\")","v":""},"","","","","","","","","","","","","",null,"","","","","","","","","","","","","","","","","","","","","","","","","","","","","","","","","","","","","","","","","","",{"$f":"IF(A1015=\"\",\"\",MAX(IF(ISERROR(AU1015:BF1015),0,AU1015:BF1015)))","v":""},"","","","","","","","","","","","","","","","","","","","","","","","","","","","","","","","","","","","","","","","","","","","",""]
[{"$f":"IF(ISBLANK('Control Sheet'!D996),\"\",'Control Sheet'!D996)","v":""},{"$f":"IF(ISBLANK('Control Sheet'!E996),\"\",'Control Sheet'!E996&\" (\"&'Control Sheet'!F996&\")\")","v":""},"","","","","","","","","","","","","",null,"","","","","","","","","","","","","","","","","","","","","","","","","","","","","","","","","","","","","","","","","","",{"$f":"IF(A1016=\"\",\"\",MAX(IF(ISERROR(AU1016:BF1016),0,AU1016:BF1016)))","v":""},"","","","","","","","","","","","","","","","","","","","","","","","","","","","","","","","","","","","","","","","","","","","",""]
[{"$f":"IF(ISBLANK('Control Sheet'!D997),\"\",'Control Sheet'!D997)","v":""},{"$f":"IF(ISBLANK('Control Sheet'!E997),\"\",'Control Sheet'!E997&\" (\"&'Control Sheet'!F997&\")\")","v":""},"","","","","","","","","","","","",{"$f":"IF(A1017=\"\",\"\",SUM(C1017:N1017))","v":""},null,"","","","","","","","","","","","","","",{"$f":"IF(A1017=\"\",\"\",SUM(S1017:AD1017))","v":""},"",{"$f":"IF(AF1017=\"\",\"\",IF(AF1017<=1,\"Lower Outlier\",IF(AF1017<=2,\"Below Average\",IF(AF1017<=3,\"Lower Quartile\",IF(AF1017<=4,\"Upper Quartile\",IF(AF1017<=5, \"Above Average\", \"Upper Outlier\"))))))","v":""},{"$f":"IF(C$18=1,C1017,\"\")","v":""},"","","","","","","","","","","",{"$f":"IF(A1017=\"\",\"\",MAX(AH1017:AS1017))","v":""},"","","","","","","","","","","","",{"$f":"IF(A1017=\"\",\"\",MAX(IF(ISERROR(AU1017:BF1017),0,AU1017:BF1017)))","v":""},"","","","","","","","","","","","",{"$f":"IF(A1017=\"\",\"\",SUM(BH1017:BS1017))","v":""},"","","","","","","","","","","","","","","","","","","","","","","","","","","","","","","",""]
[{"$f":"IF(ISBLANK('Control Sheet'!D998),\"\",'Control Sheet'!D998)","v":""},{"$f":"IF(ISBLANK('Control Sheet'!E998),\"\",'Control Sheet'!E998&\" (\"&'Control Sheet'!F998&\")\")","v":""},"","","","","","","","","","","","",{"$f":"IF(A1018=\"\",\"\",SUM(C1018:N1018))","v":""},null,"","","","","","","","","","","","","","",{"$f":"IF(A1018=\"\",\"\",SUM(S1018:AD1018))","v":""},"",{"$f":"IF(AF1018=\"\",\"\",IF(AF1018<=1,\"Lower Outlier\",IF(AF1018<=2,\"Below Average\",IF(AF1018<=3,\"Lower Quartile\",IF(AF1018<=4,\"Upper Quartile\",IF(AF1018<=5, \"Above Average\", \"Upper Outlier\"))))))","v":""},{"$f":"IF(C$18=1,C1018,\"\")","v":""},"","","","","","","","","","","",{"$f":"IF(A1018=\"\",\"\",MAX(AH1018:AS1018))","v":""},"","","","","","","","","","","","",{"$f":"IF(A1018=\"\",\"\",MAX(IF(ISERROR(AU1018:BF1018),0,AU1018:BF1018)))","v":""},"","","","","","","","","","","","",{"$f":"IF(A1018=\"\",\"\",SUM(BH1018:BS1018))","v":""},"","","","","","","","","","","","","","","","","","","","","","","","","","","","","","","",""]

{"sheet":"NMS Dynamic","index":9,"n_rows":13,"n_cols":43,"rows_kept":13,"cut":false,"hidden":true,"merged":[]}
["Scatter plot Charts (do not put anything below - Keep space for pivot to expand)",null,null,null,null,null,null,null,null,null,null,null,null,null,null,null,null,null,null,null,null,null,null,null,null,null,null,null,null,null,"Box plot Charts (do not put anything below - Keep space for pivot to expand)",null,null,null,null,null,null,null,null,"Scatter hover series"]
["Contains Outlier Activity","(All)",null,null,null,null,null,null,null,null,null,null,null,null,null,null,null,null,null,null,null,null,null,null,"Averages",null,null,null,null,null,null,null,null,null,"Spread Outlier","Yes"]
[null,null,null,null,null,null,null,null,null,null,null,null,null,null,null,null,null,null,null,null,null,null,null,null,"y","Ave. Items",null,"x","Ave. NMS",null,"Outlier",1.5]
["Row Labels","NMS to date","Total Items",null,null,null,null,null,null,null,null,null,null,null,null,null,null,null,null,null,null,null,null,null,0,{"$f":"'NMS Workings'!BT5","v":0},null,0,{"$f":"'NMS Workings'!O5","v":0},null,"Min/LO",{"$f":"IF(AF5-((AF7-AF5)*AF3)<0,0,AF5-((AF7-AF5)*AF3))","v":0},null,null,"Row Labels","Count of Contractor","Sum of Spread"]
["Blank",0,0,null,null,null,null,null,null,null,null,null,null,null,null,null,null,null,null,null,null,null,null,null,1,{"$f":"Z4","v":0},null,{"$f":"'NMS Workings'!BT13","v":0},{"$f":"AC4","v":0},null,"Q1",{"$f":"'NMS Workings'!BW7","v":0},null,null,null,null,null,null,null,{"$f":"LastFCodeSelected","v":"FR338"},{"$f":"IF(ISERROR(VLOOKUP(LastFCodeSelected,NMS_Data,15,FALSE)),#N/A,VLOOKUP(LastFCodeSelected,NMS_Data,15,FALSE))","v":{"$error":"#N/A"}},{"$f":"IF(ISERROR(VLOOKUP(LastFCodeSelected,NMS_Data,72,FALSE)),#N/A,VLOOKUP(LastFCodeSelected,NMS_Data,72,FALSE))","v":{"$error":"#N/A"}},{"$f":"IF(ISERROR(VLOOKUP(LastFCodeSelected,NMS_Data,75,FALSE)),#N/A,VLOOKUP(LastFCodeSelected,NMS_Data,75,FALSE))","v":{"$error":"#N/A"}}]
[null,null,null,null,null,null,null,null,null,null,null,null,null,null,null,null,null,null,null,null,null,null,null,null,null,null,null,null,null,null,"Median",{"$f":"'NMS Workings'!BW8","v":0},null,null,null,null,null,null,null,null,0,0,1]
[null,null,null,null,null,null,null,null,null,null,null,null,null,null,null,null,null,null,null,null,null,null,null,null,null,null,null,null,null,null,"Q3",{"$f":"'NMS Workings'!BW9","v":0}]
[null,null,null,null,null,null,null,null,null,null,null,null,null,null,null,null,null,null,null,null,null,null,null,null,null,null,null,null,null,null,"Max/UO",{"$f":"AF7+((AF7-AF5)*AF3)","v":0}]
[null,null,null,null,null,null,null,null,null,null,null,null,null,null,null,null,null,null,null,null,null,null,null,null,null,null,null,null,null,null,"Bottom",{"$f":"AF5-AF4","v":0}]
[null,null,null,null,null,null,null,null,null,null,null,null,null,null,null,null,null,null,null,null,null,null,null,null,null,null,null,null,null,null,"2Q Box",{"$f":"AF6-AF5","v":0}]
[null,null,null,null,null,null,null,null,null,null,null,null,null,null,null,null,null,null,null,null,null,null,null,null,null,null,null,null,null,null,"3Q Box",{"$f":"AF7-AF6","v":0}]
[null,null,null,null,null,null,null,null,null,null,null,null,null,null,null,null,null,null,null,null,null,null,null,null,null,null,null,null,null,null,"Whisker -",{"$f":"AF5-AF4","v":0}]
[null,null,null,null,null,null,null,null,null,null,null,null,null,null,null,null,null,null,null,null,null,null,null,null,null,null,null,null,null,null,"Whisker +",{"$f":"AF8-AF7","v":0}]

{"sheet":"OOPE Dynamic","index":10,"n_rows":13,"n_cols":43,"rows_kept":13,"cut":false,"hidden":true,"merged":[]}
["Scatter plot Charts (do not put anything below - Keep space for pivot to expand)",null,null,null,null,null,null,null,null,null,null,null,null,null,null,null,null,null,null,null,null,null,null,null,null,null,null,null,null,null,"Box plot Charts (do not put anything below - Keep space for pivot to expand)",null,null,null,null,null,null,null,null,"Scatter hover series"]
["Contains Outlier Activity","(All)",null,null,null,null,null,null,null,null,null,null,null,null,null,null,null,null,null,null,null,null,null,null,"Averages",null,null,null,null,null,null,null,null,null,"Spread Outlier","Yes"]
[null,null,null,null,null,null,null,null,null,null,null,null,null,null,null,null,null,null,null,null,null,null,null,null,"y","Ave. Items",null,"x","Ave. OOPE",null,"Outlier",1.5,null,null,null,null,null,null,null,{"$f":"LastFCodeSelected","v":"FR338"},{"$f":"IF(ISERROR(VLOOKUP(LastFCodeSelected,OOPE_data,15,FALSE)),#N/A,VLOOKUP(LastFCodeSelected,OOPE_data,15,FALSE))","v":{"$error":"#N/A"}},{"$f":"IF(ISERROR(VLOOKUP(LastFCodeSelected,MUR_Data,72,FALSE)),#N/A,VLOOKUP(LastFCodeSelected,MUR_Data,72,FALSE))","v":{"$error":"#N/A"}},{"$f":"IF(ISERROR(VLOOKUP(LastFCodeSelected,MUR_Data,75,FALSE)),#N/A,VLOOKUP(LastFCodeSelected,MUR_Data,75,FALSE))","v":{"$error":"#N/A"}}]
["Row Labels","OOPE to date","Total Items",null,null,null,null,null,null,null,null,null,null,null,null,null,null,null,null,null,null,null,null,null,0,{"$f":"'OOPE Workings'!BT5","v":0},null,0,{"$f":"'OOPE Workings'!O5","v":0},null,"Min/LO",{"$f":"IF(AF5-((AF7-AF5)*AF3)<0,0,AF5-((AF7-AF5)*AF3))","v":0},null,null,"Row Labels","Count of Contractor","Sum of Spread",null,null,null,0,0,1]
["Blank",0,0,null,null,null,null,null,null,null,null,null,null,null,null,null,null,null,null,null,null,null,null,null,1,{"$f":"Z4","v":0},null,{"$f":"'OOPE Workings'!BT13","v":0},{"$f":"AC4","v":0},null,"Q1",{"$f":"'OOPE Workings'!BW7","v":0}]
[null,null,null,null,null,null,null,null,null,null,null,null,null,null,null,null,null,null,null,null,null,null,null,null,null,null,null,null,null,null,"Median",{"$f":"'OOPE Workings'!BW8","v":0}]
[null,null,null,null,null,null,null,null,null,null,null,null,null,null,null,null,null,null,null,null,null,null,null,null,null,null,null,null,null,null,"Q3",{"$f":"'OOPE Workings'!BW9","v":0}]
[null,null,null,null,null,null,null,null,null,null,null,null,null,null,null,null,null,null,null,null,null,null,null,null,null,null,null,null,null,null,"Max/UO",{"$f":"AF7+((AF7-AF5)*AF3)","v":0}]
[null,null,null,null,null,null,null,null,null,null,null,null,null,null,null,null,null,null,null,null,null,null,null,null,null,null,null,null,null,null,"Bottom",{"$f":"AF5-AF4","v":0}]
[null,null,null,null,null,null,null,null,null,null,null,null,null,null,null,null,null,null,null,null,null,null,null,null,null,null,null,null,null,null,"2Q Box",{"$f":"AF6-AF5","v":0}]
[null,null,null,null,null,null,null,null,null,null,null,null,null,null,null,null,null,null,null,null,null,null,null,null,null,null,null,null,null,null,"3Q Box",{"$f":"AF7-AF6","v":0}]
[null,null,null,null,null,null,null,null,null,null,null,null,null,null,null,null,null,null,null,null,null,null,null,null,null,null,null,null,null,null,"Whisker -",{"$f":"AF5-AF4","v":0}]
[null,null,null,null,null,null,null,null,null,null,null,null,null,null,null,null,null,null,null,null,null,null,null,null,null,null,null,null,null,null,"Whisker +",{"$f":"AF8-AF7","v":0}]

{"sheet":"Control Sheet","index":11,"n_rows":1,"n_cols":4,"rows_kept":1,"cut":false,"hidden":true,"merged":[]}
[null,null,null,"Blank"]

{"sheet":"Apr","index":12,"n_rows":3,"n_cols":131,"rows_kept":3,"cut":false,"hidden":true,"merged":[]}
[]
[""]
["Contractor","Name","Add_1","Add_2","Add_3","Add_4","Start Date","End Date","Area Team","TOTAL FORMS","TOT STDR PXS","TOT ZDR PXS","RETD BACK FORMS","RETD BACK ITEMS","CHGS CURR RATE","CHGS PREV RATE","ELHOSE ITEMS","ADVANCE ITEMS","ADVANCE CHARGES","EXPENSIVE PX FEE","MED USE REVIEWS","DISPENSING STAFF","FP57 REF FORMS","AVG ITEM VALUE","ETP FORMS","ETP ITEMS","AUR HOME NUM","AUR PREM NUM","NMS NUM","NMS NUM ITEMS","is_abated","BASIC PRICE STDR","DISCOUNT","BASIC PRICE ZDR","OUT OF POCKET EX","PAYMT CONSUMABLE","ADVANCE PAY REM","ADVANCE PAY DRG","REC PAY REM","REC PAY DRG","LATE REG ADV REM","LATE REG ADV DRG","REC ADV PAY REM","REC ADV PAY DRG","PAY CONTAINERS","NMS FEE","spare","BASIC DISP FEE","TRANSITION PAYMT","REPEAT DISP FEE","PRACTICE PAYMENT","ADD FEE-2A","ADD-FEE-2B-MF","ADD-FEE-2B-HD","METHADONE PAYMT","spare","ADD FEE-2E","ADD FEE-2F","MANUALLY PRICED","ESTAB PAYMENT","MED USE REVIEWS","PXS CHGS CURR","PXS CHGS PREV","ELASTIC HOSIERY","FP57 REFUNDS","AUR HOME FEE","AUR PREM FEE","STOMA CUST FEE","PREREG TRAINEE","TOP UP PROT/ESTB","H.C. DRG ADV","H.C. DRG ADV REC","NEEDLE EXCHANGE ","LOCAL SCHEME 1","LOCAL SCHEME 2","LOCAL SCHEME 3","LOCAL SCHEME 4","BOTTLE STORAGE","ADD PH ACC SERV","ADVICE CARE HOME","ETP RELEASE 2","PRACTICE PAY ADJ","MED USE REV ADJ","REPEAT DISP ADJ","ETP ALLOWANCE","BREACH SERV FINE","COLL UNUSED DRG","WELFARE MILK","FORMULARY DEVT","LPC VOL LEVY","LPC STAT LEVY","VOL LEVY ADJ","STAT LEVY ADJ","LPS","E S P SCHEME","E S P SCHEME ADJ","spare","ETP RELEASE 1","OXY THER-SERVICE","OXY COMPENSATION","LOCAL SCHEME 5","LOCAL SCHEME 6","LOCAL SCHEME 7","LOCAL SCHEME 8","LOCAL SCHEME 9","LOCAL SCHEME 10","AUR ADJUSTMENT","STOMA CUST ADJ","NMS FEE ADJ","NMS IMPL PAY ADJ","spare","12 MTH PPC CURR","3 MTH PPC CURR","12 MTH PPC PREV","3 MTH PPC PREV","spare","spare","CIP COMPENSATION","PH REWARD SCHEME","COPY SCHED CHGE","ADJUSTMENT DRUGS","ADJUSTMENT FEES","ADD_ADV_PAY","ADD_ADV_PAY_REC","TMP_SAFE_PAY","AMENDMENT_ALLOW","LOCAL SCHEME 11","LOCAL SCHEME 12","LOCAL SCHEME 13","LOCAL SCHEME 14","LOCAL SCHEME 15"]

{"sheet":"Apr_Con","index":13,"n_rows":4,"n_cols":19,"rows_kept":4,"cut":false,"hidden":true,"merged":[]}
[null,null,null,"Values"]
["Contractor","Name","Add_1","Sum of TOT STDR PXS","Sum of TOT ZDR PXS","Sum of MED USE REVIEWS","Sum of NMS NUM","Sum of OUT OF POCKET EX","Sum of NMS NUM ITEMS","Sum of NMS FEE","Sum of NMS FEE ADJ","Sum of MED USE REVIEWS2","Sum of MED USE REV ADJ","Sum of is_abated","Count of is_abated","Sum of LPC STAT LEVY","Sum of LPC VOL LEVY","Sum of STAT LEVY ADJ","Sum of VOL LEVY ADJ"]
["(blank)","(blank)","(blank)"]
["Grand Total"]

{"sheet":"May","index":14,"n_rows":3,"n_cols":131,"rows_kept":3,"cut":false,"hidden":true,"merged":[]}
[]
[""]
["Contractor","Name","Add_1","Add_2","Add_3","Add_4","Start Date","End Date","Area Team","TOTAL FORMS","TOT STDR PXS","TOT ZDR PXS","RETD BACK FORMS","RETD BACK ITEMS","CHGS CURR RATE","CHGS PREV RATE","ELHOSE ITEMS","ADVANCE ITEMS","ADVANCE CHARGES","EXPENSIVE PX FEE","MED USE REVIEWS","DISPENSING STAFF","FP57 REF FORMS","AVG ITEM VALUE","ETP FORMS","ETP ITEMS","AUR HOME NUM","AUR PREM NUM","NMS NUM","NMS NUM ITEMS","is_abated","BASIC PRICE STDR","DISCOUNT","BASIC PRICE ZDR","OUT OF POCKET EX","PAYMT CONSUMABLE","ADVANCE PAY REM","ADVANCE PAY DRG","REC PAY REM","REC PAY DRG","LATE REG ADV REM","LATE REG ADV DRG","REC ADV PAY REM","REC ADV PAY DRG","PAY CONTAINERS","NMS FEE","spare","BASIC DISP FEE","TRANSITION PAYMT","REPEAT DISP FEE","PRACTICE PAYMENT","ADD FEE-2A","ADD-FEE-2B-MF","ADD-FEE-2B-HD","METHADONE PAYMT","spare","ADD FEE-2E","ADD FEE-2F","MANUALLY PRICED","ESTAB PAYMENT","MED USE REVIEWS","PXS CHGS CURR","PXS CHGS PREV","ELASTIC HOSIERY","FP57 REFUNDS","AUR HOME FEE","AUR PREM FEE","STOMA CUST FEE","PREREG TRAINEE","TOP UP PROT/ESTB","H.C. DRG ADV","H.C. DRG ADV REC","NEEDLE EXCHANGE ","LOCAL SCHEME 1","LOCAL SCHEME 2","LOCAL SCHEME 3","LOCAL SCHEME 4","BOTTLE STORAGE","ADD PH ACC SERV","ADVICE CARE HOME","ETP RELEASE 2","PRACTICE PAY ADJ","MED USE REV ADJ","REPEAT DISP ADJ","ETP ALLOWANCE","BREACH SERV FINE","COLL UNUSED DRG","WELFARE MILK","FORMULARY DEVT","LPC VOL LEVY","LPC STAT LEVY","VOL LEVY ADJ","STAT LEVY ADJ","LPS","E S P SCHEME","E S P SCHEME ADJ","spare","ETP RELEASE 1","OXY THER-SERVICE","OXY COMPENSATION","LOCAL SCHEME 5","LOCAL SCHEME 6","LOCAL SCHEME 7","LOCAL SCHEME 8","LOCAL SCHEME 9","LOCAL SCHEME 10","AUR ADJUSTMENT","STOMA CUST ADJ","NMS FEE ADJ","NMS IMPL PAY ADJ","spare","12 MTH PPC CURR","3 MTH PPC CURR","12 MTH PPC PREV","3 MTH PPC PREV","spare","spare","CIP COMPENSATION","PH REWARD SCHEME","COPY SCHED CHGE","ADJUSTMENT DRUGS","ADJUSTMENT FEES","ADD_ADV_PAY","ADD_ADV_PAY_REC","TMP_SAFE_PAY","AMENDMENT_ALLOW","LOCAL SCHEME 11","LOCAL SCHEME 12","LOCAL SCHEME 13","LOCAL SCHEME 14","LOCAL SCHEME 15"]

{"sheet":"May_Con","index":15,"n_rows":4,"n_cols":19,"rows_kept":4,"cut":false,"hidden":true,"merged":[]}
[null,null,null,"Values"]
["Contractor","Name","Add_1","Sum of TOT STDR PXS","Sum of TOT ZDR PXS","Sum of MED USE REVIEWS","Sum of NMS NUM","Sum of OUT OF POCKET EX","Sum of NMS NUM ITEMS","Sum of NMS FEE","Sum of NMS FEE ADJ","Sum of MED USE REVIEWS2","Sum of MED USE REV ADJ","Sum of is_abated","Count of is_abated","Sum of LPC STAT LEVY","Sum of LPC VOL LEVY","Sum of STAT LEVY ADJ","Sum of VOL LEVY ADJ"]
["(blank)","(blank)","(blank)"]
["Grand Total"]

{"sheet":"Jun","index":16,"n_rows":3,"n_cols":131,"rows_kept":3,"cut":false,"hidden":true,"merged":[]}
[]
[""]
["Contractor","Name","Add_1","Add_2","Add_3","Add_4","Start Date","End Date","Area Team","TOTAL FORMS","TOT STDR PXS","TOT ZDR PXS","RETD BACK FORMS","RETD BACK ITEMS","CHGS CURR RATE","CHGS PREV RATE","ELHOSE ITEMS","ADVANCE ITEMS","ADVANCE CHARGES","EXPENSIVE PX FEE","MED USE REVIEWS","DISPENSING STAFF","FP57 REF FORMS","AVG ITEM VALUE","ETP FORMS","ETP ITEMS","AUR HOME NUM","AUR PREM NUM","NMS NUM","NMS NUM ITEMS","is_abated","BASIC PRICE STDR","DISCOUNT","BASIC PRICE ZDR","OUT OF POCKET EX","PAYMT CONSUMABLE","ADVANCE PAY REM","ADVANCE PAY DRG","REC PAY REM","REC PAY DRG","LATE REG ADV REM","LATE REG ADV DRG","REC ADV PAY REM","REC ADV PAY DRG","PAY CONTAINERS","NMS FEE","spare","BASIC DISP FEE","TRANSITION PAYMT","REPEAT DISP FEE","PRACTICE PAYMENT","ADD FEE-2A","ADD-FEE-2B-MF","ADD-FEE-2B-HD","METHADONE PAYMT","spare","ADD FEE-2E","ADD FEE-2F","MANUALLY PRICED","ESTAB PAYMENT","MED USE REVIEWS","PXS CHGS CURR","PXS CHGS PREV","ELASTIC HOSIERY","FP57 REFUNDS","AUR HOME FEE","AUR PREM FEE","STOMA CUST FEE","PREREG TRAINEE","TOP UP PROT/ESTB","H.C. DRG ADV","H.C. DRG ADV REC","NEEDLE EXCHANGE ","LOCAL SCHEME 1","LOCAL SCHEME 2","LOCAL SCHEME 3","LOCAL SCHEME 4","BOTTLE STORAGE","ADD PH ACC SERV","ADVICE CARE HOME","ETP RELEASE 2","PRACTICE PAY ADJ","MED USE REV ADJ","REPEAT DISP ADJ","ETP ALLOWANCE","BREACH SERV FINE","COLL UNUSED DRG","WELFARE MILK","FORMULARY DEVT","LPC VOL LEVY","LPC STAT LEVY","VOL LEVY ADJ","STAT LEVY ADJ","LPS","E S P SCHEME","E S P SCHEME ADJ","spare","ETP RELEASE 1","OXY THER-SERVICE","OXY COMPENSATION","LOCAL SCHEME 5","LOCAL SCHEME 6","LOCAL SCHEME 7","LOCAL SCHEME 8","LOCAL SCHEME 9","LOCAL SCHEME 10","AUR ADJUSTMENT","STOMA CUST ADJ","NMS FEE ADJ","NMS IMPL PAY ADJ","spare","12 MTH PPC CURR","3 MTH PPC CURR","12 MTH PPC PREV","3 MTH PPC PREV","spare","spare","CIP COMPENSATION","PH REWARD SCHEME","COPY SCHED CHGE","ADJUSTMENT DRUGS","ADJUSTMENT FEES","ADD_ADV_PAY","ADD_ADV_PAY_REC","TMP_SAFE_PAY","AMENDMENT_ALLOW","LOCAL SCHEME 11","LOCAL SCHEME 12","LOCAL SCHEME 13","LOCAL SCHEME 14","LOCAL SCHEME 15"]

{"sheet":"Jun_Con","index":17,"n_rows":4,"n_cols":19,"rows_kept":4,"cut":false,"hidden":true,"merged":[]}
[null,null,null,"Values"]
["Contractor","Name","Add_1","Sum of TOT STDR PXS","Sum of TOT ZDR PXS","Sum of MED USE REVIEWS","Sum of NMS NUM","Sum of OUT OF POCKET EX","Sum of NMS NUM ITEMS","Sum of NMS FEE","Sum of NMS FEE ADJ","Sum of MED USE REVIEWS2","Sum of MED USE REV ADJ","Sum of is_abated","Count of is_abated","Sum of LPC STAT LEVY","Sum of LPC VOL LEVY","Sum of STAT LEVY ADJ","Sum of VOL LEVY ADJ"]
["(blank)","(blank)","(blank)"]
["Grand Total"]

{"sheet":"Jul","index":18,"n_rows":3,"n_cols":131,"rows_kept":3,"cut":false,"hidden":true,"merged":[]}
[]
[""]
["Contractor","Name","Add_1","Add_2","Add_3","Add_4","Start Date","End Date","Area Team","TOTAL FORMS","TOT STDR PXS","TOT ZDR PXS","RETD BACK FORMS","RETD BACK ITEMS","CHGS CURR RATE","CHGS PREV RATE","ELHOSE ITEMS","ADVANCE ITEMS","ADVANCE CHARGES","EXPENSIVE PX FEE","MED USE REVIEWS","DISPENSING STAFF","FP57 REF FORMS","AVG ITEM VALUE","ETP FORMS","ETP ITEMS","AUR HOME NUM","AUR PREM NUM","NMS NUM","NMS NUM ITEMS","is_abated","BASIC PRICE STDR","DISCOUNT","BASIC PRICE ZDR","OUT OF POCKET EX","PAYMT CONSUMABLE","ADVANCE PAY REM","ADVANCE PAY DRG","REC PAY REM","REC PAY DRG","LATE REG ADV REM","LATE REG ADV DRG","REC ADV PAY REM","REC ADV PAY DRG","PAY CONTAINERS","NMS FEE","spare","BASIC DISP FEE","TRANSITION PAYMT","REPEAT DISP FEE","PRACTICE PAYMENT","ADD FEE-2A","ADD-FEE-2B-MF","ADD-FEE-2B-HD","METHADONE PAYMT","spare","ADD FEE-2E","ADD FEE-2F","MANUALLY PRICED","ESTAB PAYMENT","MED USE REVIEWS","PXS CHGS CURR","PXS CHGS PREV","ELASTIC HOSIERY","FP57 REFUNDS","AUR HOME FEE","AUR PREM FEE","STOMA CUST FEE","PREREG TRAINEE","TOP UP PROT/ESTB","H.C. DRG ADV","H.C. DRG ADV REC","NEEDLE EXCHANGE ","LOCAL SCHEME 1","LOCAL SCHEME 2","LOCAL SCHEME 3","LOCAL SCHEME 4","BOTTLE STORAGE","ADD PH ACC SERV","ADVICE CARE HOME","ETP RELEASE 2","PRACTICE PAY ADJ","MED USE REV ADJ","REPEAT DISP ADJ","ETP ALLOWANCE","BREACH SERV FINE","COLL UNUSED DRG","WELFARE MILK","FORMULARY DEVT","LPC VOL LEVY","LPC STAT LEVY","VOL LEVY ADJ","STAT LEVY ADJ","LPS","E S P SCHEME","E S P SCHEME ADJ","spare","ETP RELEASE 1","OXY THER-SERVICE","OXY COMPENSATION","LOCAL SCHEME 5","LOCAL SCHEME 6","LOCAL SCHEME 7","LOCAL SCHEME 8","LOCAL SCHEME 9","LOCAL SCHEME 10","AUR ADJUSTMENT","STOMA CUST ADJ","NMS FEE ADJ","NMS IMPL PAY ADJ","spare","12 MTH PPC CURR","3 MTH PPC CURR","12 MTH PPC PREV","3 MTH PPC PREV","spare","spare","CIP COMPENSATION","PH REWARD SCHEME","COPY SCHED CHGE","ADJUSTMENT DRUGS","ADJUSTMENT FEES","ADD_ADV_PAY","ADD_ADV_PAY_REC","TMP_SAFE_PAY","AMENDMENT_ALLOW","LOCAL SCHEME 11","LOCAL SCHEME 12","LOCAL SCHEME 13","LOCAL SCHEME 14","LOCAL SCHEME 15"]

{"sheet":"Jul_con","index":19,"n_rows":4,"n_cols":19,"rows_kept":4,"cut":false,"hidden":true,"merged":[]}
[null,null,null,"Values"]
["Contractor","Name","Add_1","Sum of TOT STDR PXS","Sum of TOT ZDR PXS","Sum of MED USE REVIEWS","Sum of NMS NUM","Sum of OUT OF POCKET EX","Sum of NMS NUM ITEMS","Sum of NMS FEE","Sum of NMS FEE ADJ","Sum of MED USE REVIEWS2","Sum of MED USE REV ADJ","Sum of is_abated","Count of is_abated","Sum of LPC STAT LEVY","Sum of LPC VOL LEVY","Sum of STAT LEVY ADJ","Sum of VOL LEVY ADJ"]
["(blank)","(blank)","(blank)"]
["Grand Total"]

{"sheet":"Aug","index":20,"n_rows":3,"n_cols":131,"rows_kept":3,"cut":false,"hidden":true,"merged":[]}
[]
[""]
["Contractor","Name","Add_1","Add_2","Add_3","Add_4","Start Date","End Date","Area Team","TOTAL FORMS","TOT STDR PXS","TOT ZDR PXS","RETD BACK FORMS","RETD BACK ITEMS","CHGS CURR RATE","CHGS PREV RATE","ELHOSE ITEMS","ADVANCE ITEMS","ADVANCE CHARGES","EXPENSIVE PX FEE","MED USE REVIEWS","DISPENSING STAFF","FP57 REF FORMS","AVG ITEM VALUE","ETP FORMS","ETP ITEMS","AUR HOME NUM","AUR PREM NUM","NMS NUM","NMS NUM ITEMS","is_abated","BASIC PRICE STDR","DISCOUNT","BASIC PRICE ZDR","OUT OF POCKET EX","PAYMT CONSUMABLE","ADVANCE PAY REM","ADVANCE PAY DRG","REC PAY REM","REC PAY DRG","LATE REG ADV REM","LATE REG ADV DRG","REC ADV PAY REM","REC ADV PAY DRG","PAY CONTAINERS","NMS FEE","spare","BASIC DISP FEE","TRANSITION PAYMT","REPEAT DISP FEE","PRACTICE PAYMENT","ADD FEE-2A","ADD-FEE-2B-MF","ADD-FEE-2B-HD","METHADONE PAYMT","spare","ADD FEE-2E","ADD FEE-2F","MANUALLY PRICED","ESTAB PAYMENT","MED USE REVIEWS","PXS CHGS CURR","PXS CHGS PREV","ELASTIC HOSIERY","FP57 REFUNDS","AUR HOME FEE","AUR PREM FEE","STOMA CUST FEE","PREREG TRAINEE","TOP UP PROT/ESTB","H.C. DRG ADV","H.C. DRG ADV REC","NEEDLE EXCHANGE ","LOCAL SCHEME 1","LOCAL SCHEME 2","LOCAL SCHEME 3","LOCAL SCHEME 4","BOTTLE STORAGE","ADD PH ACC SERV","ADVICE CARE HOME","ETP RELEASE 2","PRACTICE PAY ADJ","MED USE REV ADJ","REPEAT DISP ADJ","ETP ALLOWANCE","BREACH SERV FINE","COLL UNUSED DRG","WELFARE MILK","FORMULARY DEVT","LPC VOL LEVY","LPC STAT LEVY","VOL LEVY ADJ","STAT LEVY ADJ","LPS","E S P SCHEME","E S P SCHEME ADJ","spare","ETP RELEASE 1","OXY THER-SERVICE","OXY COMPENSATION","LOCAL SCHEME 5","LOCAL SCHEME 6","LOCAL SCHEME 7","LOCAL SCHEME 8","LOCAL SCHEME 9","LOCAL SCHEME 10","AUR ADJUSTMENT","STOMA CUST ADJ","NMS FEE ADJ","NMS IMPL PAY ADJ","spare","12 MTH PPC CURR","3 MTH PPC CURR","12 MTH PPC PREV","3 MTH PPC PREV","spare","spare","CIP COMPENSATION","PH REWARD SCHEME","COPY SCHED CHGE","ADJUSTMENT DRUGS","ADJUSTMENT FEES","ADD_ADV_PAY","ADD_ADV_PAY_REC","TMP_SAFE_PAY","AMENDMENT_ALLOW","LOCAL SCHEME 11","LOCAL SCHEME 12","LOCAL SCHEME 13","LOCAL SCHEME 14","LOCAL SCHEME 15"]

{"sheet":"Aug_Con","index":21,"n_rows":4,"n_cols":19,"rows_kept":4,"cut":false,"hidden":true,"merged":[]}
[null,null,null,"Values"]
["Contractor","Name","Add_1","Sum of TOT STDR PXS","Sum of TOT ZDR PXS","Sum of MED USE REVIEWS","Sum of NMS NUM","Sum of OUT OF POCKET EX","Sum of NMS NUM ITEMS","Sum of NMS FEE","Sum of NMS FEE ADJ","Sum of MED USE REVIEWS2","Sum of MED USE REV ADJ","Sum of is_abated","Count of is_abated","Sum of LPC STAT LEVY","Sum of LPC VOL LEVY","Sum of STAT LEVY ADJ","Sum of VOL LEVY ADJ"]
["(blank)","(blank)","(blank)"]
["Grand Total"]

{"sheet":"Sep","index":22,"n_rows":3,"n_cols":131,"rows_kept":3,"cut":false,"hidden":true,"merged":[]}
[]
[""]
["Contractor","Name","Add_1","Add_2","Add_3","Add_4","Start Date","End Date","Area Team","TOTAL FORMS","TOT STDR PXS","TOT ZDR PXS","RETD BACK FORMS","RETD BACK ITEMS","CHGS CURR RATE","CHGS PREV RATE","ELHOSE ITEMS","ADVANCE ITEMS","ADVANCE CHARGES","EXPENSIVE PX FEE","MED USE REVIEWS","DISPENSING STAFF","FP57 REF FORMS","AVG ITEM VALUE","ETP FORMS","ETP ITEMS","AUR HOME NUM","AUR PREM NUM","NMS NUM","NMS NUM ITEMS","is_abated","BASIC PRICE STDR","DISCOUNT","BASIC PRICE ZDR","OUT OF POCKET EX","PAYMT CONSUMABLE","ADVANCE PAY REM","ADVANCE PAY DRG","REC PAY REM","REC PAY DRG","LATE REG ADV REM","LATE REG ADV DRG","REC ADV PAY REM","REC ADV PAY DRG","PAY CONTAINERS","NMS FEE","spare","BASIC DISP FEE","TRANSITION PAYMT","REPEAT DISP FEE","PRACTICE PAYMENT","ADD FEE-2A","ADD-FEE-2B-MF","ADD-FEE-2B-HD","METHADONE PAYMT","spare","ADD FEE-2E","ADD FEE-2F","MANUALLY PRICED","ESTAB PAYMENT","MED USE REVIEWS","PXS CHGS CURR","PXS CHGS PREV","ELASTIC HOSIERY","FP57 REFUNDS","AUR HOME FEE","AUR PREM FEE","STOMA CUST FEE","PREREG TRAINEE","TOP UP PROT/ESTB","H.C. DRG ADV","H.C. DRG ADV REC","NEEDLE EXCHANGE ","LOCAL SCHEME 1","LOCAL SCHEME 2","LOCAL SCHEME 3","LOCAL SCHEME 4","BOTTLE STORAGE","ADD PH ACC SERV","ADVICE CARE HOME","ETP RELEASE 2","PRACTICE PAY ADJ","MED USE REV ADJ","REPEAT DISP ADJ","ETP ALLOWANCE","BREACH SERV FINE","COLL UNUSED DRG","WELFARE MILK","FORMULARY DEVT","LPC VOL LEVY","LPC STAT LEVY","VOL LEVY ADJ","STAT LEVY ADJ","LPS","E S P SCHEME","E S P SCHEME ADJ","spare","ETP RELEASE 1","OXY THER-SERVICE","OXY COMPENSATION","LOCAL SCHEME 5","LOCAL SCHEME 6","LOCAL SCHEME 7","LOCAL SCHEME 8","LOCAL SCHEME 9","LOCAL SCHEME 10","AUR ADJUSTMENT","STOMA CUST ADJ","NMS FEE ADJ","NMS IMPL PAY ADJ","spare","12 MTH PPC CURR","3 MTH PPC CURR","12 MTH PPC PREV","3 MTH PPC PREV","spare","spare","CIP COMPENSATION","PH REWARD SCHEME","COPY SCHED CHGE","ADJUSTMENT DRUGS","ADJUSTMENT FEES","ADD_ADV_PAY","ADD_ADV_PAY_REC","TMP_SAFE_PAY","AMENDMENT_ALLOW","LOCAL SCHEME 11","LOCAL SCHEME 12","LOCAL SCHEME 13","LOCAL SCHEME 14","LOCAL SCHEME 15"]

{"sheet":"Sep_Con","index":23,"n_rows":4,"n_cols":19,"rows_kept":4,"cut":false,"hidden":true,"merged":[]}
[null,null,null,"Values"]
["Contractor","Name","Add_1","Sum of TOT STDR PXS","Sum of TOT ZDR PXS","Sum of MED USE REVIEWS","Sum of NMS NUM","Sum of OUT OF POCKET EX","Sum of NMS NUM ITEMS","Sum of NMS FEE","Sum of NMS FEE ADJ","Sum of MED USE REVIEWS2","Sum of MED USE REV ADJ","Sum of is_abated","Count of is_abated","Sum of LPC STAT LEVY","Sum of LPC VOL LEVY","Sum of STAT LEVY ADJ","Sum of VOL LEVY ADJ"]
["(blank)","(blank)","(blank)"]
["Grand Total"]

{"sheet":"Oct","index":24,"n_rows":3,"n_cols":131,"rows_kept":3,"cut":false,"hidden":true,"merged":[]}
[]
[""]
["Contractor","Name","Add_1","Add_2","Add_3","Add_4","Start Date","End Date","Area Team","TOTAL FORMS","TOT STDR PXS","TOT ZDR PXS","RETD BACK FORMS","RETD BACK ITEMS","CHGS CURR RATE","CHGS PREV RATE","ELHOSE ITEMS","ADVANCE ITEMS","ADVANCE CHARGES","EXPENSIVE PX FEE","MED USE REVIEWS","DISPENSING STAFF","FP57 REF FORMS","AVG ITEM VALUE","ETP FORMS","ETP ITEMS","AUR HOME NUM","AUR PREM NUM","NMS NUM","NMS NUM ITEMS","is_abated","BASIC PRICE STDR","DISCOUNT","BASIC PRICE ZDR","OUT OF POCKET EX","PAYMT CONSUMABLE","ADVANCE PAY REM","ADVANCE PAY DRG","REC PAY REM","REC PAY DRG","LATE REG ADV REM","LATE REG ADV DRG","REC ADV PAY REM","REC ADV PAY DRG","PAY CONTAINERS","NMS FEE","spare","BASIC DISP FEE","TRANSITION PAYMT","REPEAT DISP FEE","PRACTICE PAYMENT","ADD FEE-2A","ADD-FEE-2B-MF","ADD-FEE-2B-HD","METHADONE PAYMT","spare","ADD FEE-2E","ADD FEE-2F","MANUALLY PRICED","ESTAB PAYMENT","MED USE REVIEWS","PXS CHGS CURR","PXS CHGS PREV","ELASTIC HOSIERY","FP57 REFUNDS","AUR HOME FEE","AUR PREM FEE","STOMA CUST FEE","PREREG TRAINEE","TOP UP PROT/ESTB","H.C. DRG ADV","H.C. DRG ADV REC","NEEDLE EXCHANGE ","LOCAL SCHEME 1","LOCAL SCHEME 2","LOCAL SCHEME 3","LOCAL SCHEME 4","BOTTLE STORAGE","ADD PH ACC SERV","ADVICE CARE HOME","ETP RELEASE 2","PRACTICE PAY ADJ","MED USE REV ADJ","REPEAT DISP ADJ","ETP ALLOWANCE","BREACH SERV FINE","COLL UNUSED DRG","WELFARE MILK","FORMULARY DEVT","LPC VOL LEVY","LPC STAT LEVY","VOL LEVY ADJ","STAT LEVY ADJ","LPS","E S P SCHEME","E S P SCHEME ADJ","spare","ETP RELEASE 1","OXY THER-SERVICE","OXY COMPENSATION","LOCAL SCHEME 5","LOCAL SCHEME 6","LOCAL SCHEME 7","LOCAL SCHEME 8","LOCAL SCHEME 9","LOCAL SCHEME 10","AUR ADJUSTMENT","STOMA CUST ADJ","NMS FEE ADJ","NMS IMPL PAY ADJ","spare","12 MTH PPC CURR","3 MTH PPC CURR","12 MTH PPC PREV","3 MTH PPC PREV","spare","spare","CIP COMPENSATION","PH REWARD SCHEME","COPY SCHED CHGE","ADJUSTMENT DRUGS","ADJUSTMENT FEES","ADD_ADV_PAY","ADD_ADV_PAY_REC","TMP_SAFE_PAY","AMENDMENT_ALLOW","LOCAL SCHEME 11","LOCAL SCHEME 12","LOCAL SCHEME 13","LOCAL SCHEME 14","LOCAL SCHEME 15"]

{"sheet":"Oct_Con","index":25,"n_rows":4,"n_cols":19,"rows_kept":4,"cut":false,"hidden":true,"merged":[]}
[null,null,null,"Values"]
["Contractor","Name","Add_1","Sum of TOT STDR PXS","Sum of TOT ZDR PXS","Sum of MED USE REVIEWS","Sum of NMS NUM","Sum of OUT OF POCKET EX","Sum of NMS NUM ITEMS","Sum of NMS FEE","Sum of NMS FEE ADJ","Sum of MED USE REVIEWS2","Sum of MED USE REV ADJ","Sum of is_abated","Count of is_abated","Sum of LPC STAT LEVY","Sum of LPC VOL LEVY","Sum of STAT LEVY ADJ","Sum of VOL LEVY ADJ"]
["(blank)","(blank)","(blank)"]
["Grand Total"]

{"sheet":"Nov","index":26,"n_rows":3,"n_cols":131,"rows_kept":3,"cut":false,"hidden":true,"merged":[]}
[]
[""]
["Contractor","Name","Add_1","Add_2","Add_3","Add_4","Start Date","End Date","Area Team","TOTAL FORMS","TOT STDR PXS","TOT ZDR PXS","RETD BACK FORMS","RETD BACK ITEMS","CHGS CURR RATE","CHGS PREV RATE","ELHOSE ITEMS","ADVANCE ITEMS","ADVANCE CHARGES","EXPENSIVE PX FEE","MED USE REVIEWS","DISPENSING STAFF","FP57 REF FORMS","AVG ITEM VALUE","ETP FORMS","ETP ITEMS","AUR HOME NUM","AUR PREM NUM","NMS NUM","NMS NUM ITEMS","is_abated","BASIC PRICE STDR","DISCOUNT","BASIC PRICE ZDR","OUT OF POCKET EX","PAYMT CONSUMABLE","ADVANCE PAY REM","ADVANCE PAY DRG","REC PAY REM","REC PAY DRG","LATE REG ADV REM","LATE REG ADV DRG","REC ADV PAY REM","REC ADV PAY DRG","PAY CONTAINERS","NMS FEE","spare","BASIC DISP FEE","TRANSITION PAYMT","REPEAT DISP FEE","PRACTICE PAYMENT","ADD FEE-2A","ADD-FEE-2B-MF","ADD-FEE-2B-HD","METHADONE PAYMT","spare","ADD FEE-2E","ADD FEE-2F","MANUALLY PRICED","ESTAB PAYMENT","MED USE REVIEWS","PXS CHGS CURR","PXS CHGS PREV","ELASTIC HOSIERY","FP57 REFUNDS","AUR HOME FEE","AUR PREM FEE","STOMA CUST FEE","PREREG TRAINEE","TOP UP PROT/ESTB","H.C. DRG ADV","H.C. DRG ADV REC","NEEDLE EXCHANGE ","LOCAL SCHEME 1","LOCAL SCHEME 2","LOCAL SCHEME 3","LOCAL SCHEME 4","BOTTLE STORAGE","ADD PH ACC SERV","ADVICE CARE HOME","ETP RELEASE 2","PRACTICE PAY ADJ","MED USE REV ADJ","REPEAT DISP ADJ","ETP ALLOWANCE","BREACH SERV FINE","COLL UNUSED DRG","WELFARE MILK","FORMULARY DEVT","LPC VOL LEVY","LPC STAT LEVY","VOL LEVY ADJ","STAT LEVY ADJ","LPS","E S P SCHEME","E S P SCHEME ADJ","spare","ETP RELEASE 1","OXY THER-SERVICE","OXY COMPENSATION","LOCAL SCHEME 5","LOCAL SCHEME 6","LOCAL SCHEME 7","LOCAL SCHEME 8","LOCAL SCHEME 9","LOCAL SCHEME 10","AUR ADJUSTMENT","STOMA CUST ADJ","NMS FEE ADJ","NMS IMPL PAY ADJ","spare","12 MTH PPC CURR","3 MTH PPC CURR","12 MTH PPC PREV","3 MTH PPC PREV","spare","spare","CIP COMPENSATION","PH REWARD SCHEME","COPY SCHED CHGE","ADJUSTMENT DRUGS","ADJUSTMENT FEES","ADD_ADV_PAY","ADD_ADV_PAY_REC","TMP_SAFE_PAY","AMENDMENT_ALLOW","LOCAL SCHEME 11","LOCAL SCHEME 12","LOCAL SCHEME 13","LOCAL SCHEME 14","LOCAL SCHEME 15"]

{"sheet":"Nov_Con","index":27,"n_rows":4,"n_cols":19,"rows_kept":4,"cut":false,"hidden":true,"merged":[]}
[null,null,null,"Values"]
["Contractor","Name","Add_1","Sum of TOT STDR PXS","Sum of TOT ZDR PXS","Sum of MED USE REVIEWS","Sum of NMS NUM","Sum of OUT OF POCKET EX","Sum of NMS NUM ITEMS","Sum of NMS FEE","Sum of NMS FEE ADJ","Sum of MED USE REVIEWS2","Sum of MED USE REV ADJ","Sum of is_abated","Count of is_abated","Sum of LPC STAT LEVY","Sum of LPC VOL LEVY","Sum of STAT LEVY ADJ","Sum of VOL LEVY ADJ"]
["(blank)","(blank)","(blank)"]
["Grand Total"]

{"sheet":"Dec","index":28,"n_rows":3,"n_cols":131,"rows_kept":3,"cut":false,"hidden":true,"merged":[]}
[]
[""]
["Contractor","Name","Add_1","Add_2","Add_3","Add_4","Start Date","End Date","Area Team","TOTAL FORMS","TOT STDR PXS","TOT ZDR PXS","RETD BACK FORMS","RETD BACK ITEMS","CHGS CURR RATE","CHGS PREV RATE","ELHOSE ITEMS","ADVANCE ITEMS","ADVANCE CHARGES","EXPENSIVE PX FEE","MED USE REVIEWS","DISPENSING STAFF","FP57 REF FORMS","AVG ITEM VALUE","ETP FORMS","ETP ITEMS","AUR HOME NUM","AUR PREM NUM","NMS NUM","NMS NUM ITEMS","is_abated","BASIC PRICE STDR","DISCOUNT","BASIC PRICE ZDR","OUT OF POCKET EX","PAYMT CONSUMABLE","ADVANCE PAY REM","ADVANCE PAY DRG","REC PAY REM","REC PAY DRG","LATE REG ADV REM","LATE REG ADV DRG","REC ADV PAY REM","REC ADV PAY DRG","PAY CONTAINERS","NMS FEE","spare","BASIC DISP FEE","TRANSITION PAYMT","REPEAT DISP FEE","PRACTICE PAYMENT","ADD FEE-2A","ADD-FEE-2B-MF","ADD-FEE-2B-HD","METHADONE PAYMT","spare","ADD FEE-2E","ADD FEE-2F","MANUALLY PRICED","ESTAB PAYMENT","MED USE REVIEWS","PXS CHGS CURR","PXS CHGS PREV","ELASTIC HOSIERY","FP57 REFUNDS","AUR HOME FEE","AUR PREM FEE","STOMA CUST FEE","PREREG TRAINEE","TOP UP PROT/ESTB","H.C. DRG ADV","H.C. DRG ADV REC","NEEDLE EXCHANGE ","LOCAL SCHEME 1","LOCAL SCHEME 2","LOCAL SCHEME 3","LOCAL SCHEME 4","BOTTLE STORAGE","ADD PH ACC SERV","ADVICE CARE HOME","ETP RELEASE 2","PRACTICE PAY ADJ","MED USE REV ADJ","REPEAT DISP ADJ","ETP ALLOWANCE","BREACH SERV FINE","COLL UNUSED DRG","WELFARE MILK","FORMULARY DEVT","LPC VOL LEVY","LPC STAT LEVY","VOL LEVY ADJ","STAT LEVY ADJ","LPS","E S P SCHEME","E S P SCHEME ADJ","spare","ETP RELEASE 1","OXY THER-SERVICE","OXY COMPENSATION","LOCAL SCHEME 5","LOCAL SCHEME 6","LOCAL SCHEME 7","LOCAL SCHEME 8","LOCAL SCHEME 9","LOCAL SCHEME 10","AUR ADJUSTMENT","STOMA CUST ADJ","NMS FEE ADJ","NMS IMPL PAY ADJ","spare","12 MTH PPC CURR","3 MTH PPC CURR","12 MTH PPC PREV","3 MTH PPC PREV","spare","spare","CIP COMPENSATION","PH REWARD SCHEME","COPY SCHED CHGE","ADJUSTMENT DRUGS","ADJUSTMENT FEES","ADD_ADV_PAY","ADD_ADV_PAY_REC","TMP_SAFE_PAY","AMENDMENT_ALLOW","LOCAL SCHEME 11","LOCAL SCHEME 12","LOCAL SCHEME 13","LOCAL SCHEME 14","LOCAL SCHEME 15"]

{"sheet":"Dec_Con","index":29,"n_rows":4,"n_cols":19,"rows_kept":4,"cut":false,"hidden":true,"merged":[]}
[null,null,null,"Values"]
["Contractor","Name","Add_1","Sum of TOT STDR PXS","Sum of TOT ZDR PXS","Sum of MED USE REVIEWS","Sum of NMS NUM","Sum of OUT OF POCKET EX","Sum of NMS NUM ITEMS","Sum of NMS FEE","Sum of NMS FEE ADJ","Sum of MED USE REVIEWS2","Sum of MED USE REV ADJ","Sum of is_abated","Count of is_abated","Sum of LPC STAT LEVY","Sum of LPC VOL LEVY","Sum of STAT LEVY ADJ","Sum of VOL LEVY ADJ"]
["(blank)","(blank)","(blank)"]
["Grand Total"]

{"sheet":"Jan","index":30,"n_rows":3,"n_cols":131,"rows_kept":3,"cut":false,"hidden":true,"merged":[]}
[]
[""]
["Contractor","Name","Add_1","Add_2","Add_3","Add_4","Start Date","End Date","Area Team","TOTAL FORMS","TOT STDR PXS","TOT ZDR PXS","RETD BACK FORMS","RETD BACK ITEMS","CHGS CURR RATE","CHGS PREV RATE","ELHOSE ITEMS","ADVANCE ITEMS","ADVANCE CHARGES","EXPENSIVE PX FEE","MED USE REVIEWS","DISPENSING STAFF","FP57 REF FORMS","AVG ITEM VALUE","ETP FORMS","ETP ITEMS","AUR HOME NUM","AUR PREM NUM","NMS NUM","NMS NUM ITEMS","is_abated","BASIC PRICE STDR","DISCOUNT","BASIC PRICE ZDR","OUT OF POCKET EX","PAYMT CONSUMABLE","ADVANCE PAY REM","ADVANCE PAY DRG","REC PAY REM","REC PAY DRG","LATE REG ADV REM","LATE REG ADV DRG","REC ADV PAY REM","REC ADV PAY DRG","PAY CONTAINERS","NMS FEE","spare","BASIC DISP FEE","TRANSITION PAYMT","REPEAT DISP FEE","PRACTICE PAYMENT","ADD FEE-2A","ADD-FEE-2B-MF","ADD-FEE-2B-HD","METHADONE PAYMT","spare","ADD FEE-2E","ADD FEE-2F","MANUALLY PRICED","ESTAB PAYMENT","MED USE REVIEWS","PXS CHGS CURR","PXS CHGS PREV","ELASTIC HOSIERY","FP57 REFUNDS","AUR HOME FEE","AUR PREM FEE","STOMA CUST FEE","PREREG TRAINEE","TOP UP PROT/ESTB","H.C. DRG ADV","H.C. DRG ADV REC","NEEDLE EXCHANGE ","LOCAL SCHEME 1","LOCAL SCHEME 2","LOCAL SCHEME 3","LOCAL SCHEME 4","BOTTLE STORAGE","ADD PH ACC SERV","ADVICE CARE HOME","ETP RELEASE 2","PRACTICE PAY ADJ","MED USE REV ADJ","REPEAT DISP ADJ","ETP ALLOWANCE","BREACH SERV FINE","COLL UNUSED DRG","WELFARE MILK","FORMULARY DEVT","LPC VOL LEVY","LPC STAT LEVY","VOL LEVY ADJ","STAT LEVY ADJ","LPS","E S P SCHEME","E S P SCHEME ADJ","spare","ETP RELEASE 1","OXY THER-SERVICE","OXY COMPENSATION","LOCAL SCHEME 5","LOCAL SCHEME 6","LOCAL SCHEME 7","LOCAL SCHEME 8","LOCAL SCHEME 9","LOCAL SCHEME 10","AUR ADJUSTMENT","STOMA CUST ADJ","NMS FEE ADJ","NMS IMPL PAY ADJ","spare","12 MTH PPC CURR","3 MTH PPC CURR","12 MTH PPC PREV","3 MTH PPC PREV","spare","spare","CIP COMPENSATION","PH REWARD SCHEME","COPY SCHED CHGE","ADJUSTMENT DRUGS","ADJUSTMENT FEES","ADD_ADV_PAY","ADD_ADV_PAY_REC","TMP_SAFE_PAY","AMENDMENT_ALLOW","LOCAL SCHEME 11","LOCAL SCHEME 12","LOCAL SCHEME 13","LOCAL SCHEME 14","LOCAL SCHEME 15"]

{"sheet":"Jan_Con","index":31,"n_rows":4,"n_cols":19,"rows_kept":4,"cut":false,"hidden":true,"merged":[]}
[null,null,null,"Values"]
["Contractor","Name","Add_1","Sum of TOT STDR PXS","Sum of TOT ZDR PXS","Sum of MED USE REVIEWS","Sum of NMS NUM","Sum of OUT OF POCKET EX","Sum of NMS NUM ITEMS","Sum of NMS FEE","Sum of NMS FEE ADJ","Sum of MED USE REVIEWS2","Sum of MED USE REV ADJ","Sum of is_abated","Count of is_abated","Sum of LPC STAT LEVY","Sum of LPC VOL LEVY","Sum of STAT LEVY ADJ","Sum of VOL LEVY ADJ"]
["(blank)","(blank)","(blank)"]
["Grand Total"]

{"sheet":"Feb","index":32,"n_rows":3,"n_cols":136,"rows_kept":3,"cut":false,"hidden":true,"merged":[]}
[]
[""]
["Contractor","Name","Add_1","Add_2","Add_3","Add_4","Start Date","End Date","Area Team","TOTAL FORMS","TOT STDR PXS","TOT ZDR PXS","RETD BACK FORMS","RETD BACK ITEMS","CHGS CURR RATE","CHGS PREV RATE","ELHOSE ITEMS","ADVANCE ITEMS","ADVANCE CHARGES","EXPENSIVE PX FEE","MED USE REVIEWS","DISPENSING STAFF","FP57 REF FORMS","AVG ITEM VALUE","ETP FORMS","ETP ITEMS","AUR HOME NUM","AUR PREM NUM","NMS NUM","NMS NUM ITEMS","is_abated","BASIC PRICE STDR","DISCOUNT","BASIC PRICE ZDR","OUT OF POCKET EX","PAYMT CONSUMABLE","ADVANCE PAY REM","ADVANCE PAY DRG","REC PAY REM","REC PAY DRG","LATE REG ADV REM","LATE REG ADV DRG","REC ADV PAY REM","REC ADV PAY DRG","PAY CONTAINERS","NMS FEE","spare","BASIC DISP FEE","TRANSITION PAYMT","REPEAT DISP FEE","PRACTICE PAYMENT","ADD FEE-2A","ADD-FEE-2B-MF","ADD-FEE-2B-HD","METHADONE PAYMT","spare","ADD FEE-2E","ADD FEE-2F","MANUALLY PRICED","ESTAB PAYMENT","MED USE REVIEWS","PXS CHGS CURR","PXS CHGS PREV","ELASTIC HOSIERY","FP57 REFUNDS","AUR HOME FEE","AUR PREM FEE","STOMA CUST FEE","PREREG TRAINEE","TOP UP PROT/ESTB","H.C. DRG ADV","H.C. DRG ADV REC","NEEDLE EXCHANGE ","LOCAL SCHEME 1","LOCAL SCHEME 2","LOCAL SCHEME 3","LOCAL SCHEME 4","BOTTLE STORAGE","ADD PH ACC SERV","ADVICE CARE HOME","ETP RELEASE 2","PRACTICE PAY ADJ","MED USE REV ADJ","REPEAT DISP ADJ","ETP ALLOWANCE","BREACH SERV FINE","COLL UNUSED DRG","WELFARE MILK","FORMULARY DEVT","LPC VOL LEVY","LPC STAT LEVY","VOL LEVY ADJ","STAT LEVY ADJ","LPS","E S P SCHEME","E S P SCHEME ADJ","spare","ETP RELEASE 1","OXY THER-SERVICE","OXY COMPENSATION","LOCAL SCHEME 5","LOCAL SCHEME 6","LOCAL SCHEME 7","LOCAL SCHEME 8","LOCAL SCHEME 9","LOCAL SCHEME 10","AUR ADJUSTMENT","STOMA CUST ADJ","NMS FEE ADJ","NMS IMPL PAY ADJ","spare","12 MTH PPC CURR","3 MTH PPC CURR","12 MTH PPC PREV","3 MTH PPC PREV","spare","spare","CIP COMPENSATION","PH REWARD SCHEME","COPY SCHED CHGE","ADJUSTMENT DRUGS","ADJUSTMENT FEES","ADD_ADV_PAY","ADD_ADV_PAY_REC","TMP_SAFE_PAY","AMENDMENT_ALLOW","LOCAL SCHEME 11","LOCAL SCHEME 12","LOCAL SCHEME 13","LOCAL SCHEME 14","LOCAL SCHEME 15","FLU REIMB","FLU REIMB ADJ","FLU REMUN","FLU REMUN ADJ","SUMM CARE REC"]

{"sheet":"Feb_Con","index":33,"n_rows":4,"n_cols":19,"rows_kept":4,"cut":false,"hidden":true,"merged":[]}
[null,null,null,"Values"]
["Contractor","Name","Add_1","Sum of TOT STDR PXS","Sum of TOT ZDR PXS","Sum of MED USE REVIEWS","Sum of NMS NUM","Sum of OUT OF POCKET EX","Sum of NMS NUM ITEMS","Sum of NMS FEE","Sum of NMS FEE ADJ","Sum of MED USE REVIEWS2","Sum of MED USE REV ADJ","Sum of is_abated","Count of is_abated","Sum of LPC STAT LEVY","Sum of LPC VOL LEVY","Sum of STAT LEVY ADJ","Sum of VOL LEVY ADJ"]
["(blank)","(blank)","(blank)"]
["Grand Total"]

{"sheet":"Mar","index":34,"n_rows":3,"n_cols":136,"rows_kept":3,"cut":false,"hidden":true,"merged":[]}
[]
[""]
["Contractor","Name","Add_1","Add_2","Add_3","Add_4","Start Date","End Date","Area Team","TOTAL FORMS","TOT STDR PXS","TOT ZDR PXS","RETD BACK FORMS","RETD BACK ITEMS","CHGS CURR RATE","CHGS PREV RATE","ELHOSE ITEMS","ADVANCE ITEMS","ADVANCE CHARGES","EXPENSIVE PX FEE","MED USE REVIEWS","DISPENSING STAFF","FP57 REF FORMS","AVG ITEM VALUE","ETP FORMS","ETP ITEMS","AUR HOME NUM","AUR PREM NUM","NMS NUM","NMS NUM ITEMS","is_abated","BASIC PRICE STDR","DISCOUNT","BASIC PRICE ZDR","OUT OF POCKET EX","PAYMT CONSUMABLE","ADVANCE PAY REM","ADVANCE PAY DRG","REC PAY REM","REC PAY DRG","LATE REG ADV REM","LATE REG ADV DRG","REC ADV PAY REM","REC ADV PAY DRG","PAY CONTAINERS","NMS FEE","spare","BASIC DISP FEE","TRANSITION PAYMT","REPEAT DISP FEE","PRACTICE PAYMENT","ADD FEE-2A","ADD-FEE-2B-MF","ADD-FEE-2B-HD","METHADONE PAYMT","spare","ADD FEE-2E","ADD FEE-2F","MANUALLY PRICED","ESTAB PAYMENT","MED USE REVIEWS","PXS CHGS CURR","PXS CHGS PREV","ELASTIC HOSIERY","FP57 REFUNDS","AUR HOME FEE","AUR PREM FEE","STOMA CUST FEE","PREREG TRAINEE","TOP UP PROT/ESTB","H.C. DRG ADV","H.C. DRG ADV REC","NEEDLE EXCHANGE ","LOCAL SCHEME 1","LOCAL SCHEME 2","LOCAL SCHEME 3","LOCAL SCHEME 4","BOTTLE STORAGE","ADD PH ACC SERV","ADVICE CARE HOME","ETP RELEASE 2","PRACTICE PAY ADJ","MED USE REV ADJ","REPEAT DISP ADJ","ETP ALLOWANCE","BREACH SERV FINE","COLL UNUSED DRG","WELFARE MILK","FORMULARY DEVT","LPC VOL LEVY","LPC STAT LEVY","VOL LEVY ADJ","STAT LEVY ADJ","LPS","E S P SCHEME","E S P SCHEME ADJ","spare","ETP RELEASE 1","OXY THER-SERVICE","OXY COMPENSATION","LOCAL SCHEME 5","LOCAL SCHEME 6","LOCAL SCHEME 7","LOCAL SCHEME 8","LOCAL SCHEME 9","LOCAL SCHEME 10","AUR ADJUSTMENT","STOMA CUST ADJ","NMS FEE ADJ","NMS IMPL PAY ADJ","spare","12 MTH PPC CURR","3 MTH PPC CURR","12 MTH PPC PREV","3 MTH PPC PREV","spare","spare","CIP COMPENSATION","PH REWARD SCHEME","COPY SCHED CHGE","ADJUSTMENT DRUGS","ADJUSTMENT FEES","ADD_ADV_PAY","ADD_ADV_PAY_REC","TMP_SAFE_PAY","AMENDMENT_ALLOW","LOCAL SCHEME 11","LOCAL SCHEME 12","LOCAL SCHEME 13","LOCAL SCHEME 14","LOCAL SCHEME 15","FLU REIMB","FLU REIMB ADJ","FLU REMUN","FLU REMUN ADJ","SUMM CARE REC"]

{"sheet":"Mar_Con","index":35,"n_rows":4,"n_cols":19,"rows_kept":4,"cut":false,"hidden":true,"merged":[]}
[null,null,null,"Values"]
["Contractor","Name","Add_1","Sum of TOT STDR PXS","Sum of TOT ZDR PXS","Sum of MED USE REVIEWS","Sum of NMS NUM","Sum of OUT OF POCKET EX","Sum of NMS NUM ITEMS","Sum of NMS FEE","Sum of NMS FEE ADJ","Sum of MED USE REVIEWS2","Sum of MED USE REV ADJ","Sum of is_abated","Count of is_abated","Sum of LPC STAT LEVY","Sum of LPC VOL LEVY","Sum of STAT LEVY ADJ","Sum of VOL LEVY ADJ"]
["(blank)","(blank)","(blank)"]
["Grand Total"]

{"sheet":"Variables","index":36,"n_rows":69,"n_cols":104,"rows_kept":69,"cut":false,"hidden":true,"merged":[]}
["Months",null,"Number of Months Data =",null,null,5,null,null,"MIS Columns",null,null,"LastFCodeSelected","FR338"]
["Jan","Apr"]
["Feb","May",null,"UpperOutlierScore",60,"Upper Outlier",null,null,"TOT_STDR_PXS_col",4,null,11]
["Mar","Jun",null,"AboveAverageScore",5,"Above Average",null,null,"TOT_ZDR_PXS_col",5,null,12]
["Apr","Jul",null,"UpperQRScore",4,"Upper Quartile Range",null,null,"MUR_col",6,null,21]
["May","Aug",null,"LowerQRScore",3,"Lower Quartile Range",null,null,"NMS_col",7,null,29]
["Jun","Sep",null,"BelowAverageScore",2,"Below Average",null,null,"NMS_items_col",9,null,30]
["Jul","Oct",null,"LowerOutlierScore",1,"Lower Outlier",null,null,"OOPE_col",8,null,35]
["Aug","Nov",null,null,null,null,null,null,"NMS_fee_col",10,null,46]
["Sep","Dec",null,null,null,null,null,null,"NMS_Fee_adj_col",11,null,109]
["Oct","Jan",null,null,null,null,null,null,"MUR_fee_col",12,null,61]
["Nov","Feb",null,null,null,null,null,null,"MUR_Fee_adj_col",13,null,83]
["Dec","Mar",null,null,null,null,null,null,"Abated_col",14]
["Tot",null,null,null,null,null,null,null,"MIS_Count_col",15]
[null,null,null,null,null,null,null,null,"LPC_Stat_col",16]
["Year_From",0,null,null,null,null,null,null,"LPC_Vol_col",17]
["Year_To",0,null,null,null,null,null,null,"LPC_Stat_adj",18]
["RecreateTempFiles",false,null,null,null,null,null,null,"LPC_Vol_adj",19]
["Autosave",true]
["ForecastMult"]
[1,12,12]
[2,12,6]
[3,12,4]
[4,12,3]
[5,12,2.4]
[6,12,2]
[7,12,1.7142857142857142]
[8,12,1.5]
[9,12,1.3333333333333333]
[10,12,1.2]
[11,12,1.0909090909090908]
[12,12,1]
[]
["Area Team","Q49"]
[]
["Sheet Metrics"]
["Sheet Name","Ann MUR"]
["start",13]
["End",1009]
[]
[]
[null,null,"a","b","c","d","e","f","g","h","i","j","k","l","m","n","o","p","q","r","s","t","u","v","w","x","y","z"]
["x",null,1,2,3,4,5,6,7,8,9,10,11,12,13,14,15,16,17,18,19,20,21,22,23,24,25,26]
["ax",26,{"$f":"$B44+C$43","v":27},{"$f":"$B44+D$43","v":28},29,30,31,32,33,34,35,36,37,38,39,40,41,42,43,44,45,46,47,48,49,50,51,52]
["bx",{"$f":"B44+26","v":52},{"$f":"B45+C$43","v":53},54,55,56,57,58,59,60,61,62,63,64,65,66,67,68,69,70,71,72,73,74,75,76,77,78]
["cx",{"$f":"B45+26","v":78},{"$f":"B46+C$43","v":79},80,81,82,83,84,85,86,87,88,89,90,91,92,93,94,95,96,97,98,99,100,101,102,103,104]
["dx",{"$f":"B46+26","v":104},{"$f":"B47+C$43","v":105},106,107,108,109,110,111,112,113,114,115,116,117,118,119,120,121,122,123,124,125,126,127,128,129,130]
["ex",{"$f":"B47+26","v":130},{"$f":"B48+C$43","v":131},132,133,134,135,136,137,138,139,140,141,142,143,144,145,146,147,148,149,150,151,152,153,154,155,156]
["fx",{"$f":"B48+26","v":156},{"$f":"B49+C$43","v":157},158,159,160,161,162,163,164,165,166,167,168,169,170,171,172,173,174,175,176,177,178,179,180,181,182]
[]
[]
[]
[]
[]
["Test Pivot"]
["Contractor","Name","Apr","May","Jun","Jul","Aug","Sep","Oct","Nov","Dec","Jan","Feb","Mar","Cumm Tot","Projected Total","Project over 400","MonthMod","BP_Apr","BP_May","BP_Jun","BP_Jul","BP_Aug","BP_Sep","BP_Oct","BP_Nov","BP_Dec","BP_Jan","BP_Feb","BP_Mar","bp_Total","Average Score","Contains Outlier Activity","Cum_Apr","Cum_May","Cum_Jun","Cum_Jul","Cum_Aug","Cum_Sep","Cum_Oct","Cum_Nov","Cum_Dec","Cum_Jan","Cum_Feb","Cum_Mar","Cum_to_date","For_Apr","For_May","For_Jun","For_Jul","For_Aug","For_Sep","For_Oct","For_Nov","For_Dec","For_Jan","For_Feb","For_Mar","For_Tot","It_Apr","It_May","It_Jun","It_Jul","It_Aug","It_Sep","It_Oct","It_Nov","It_Dec","It_Jan","It_Feb","It_Mar","Tot Items","MIN","MAX","Spread","Spread Outlier","Months Sub","Months Cond","Fee_Apr","Fee_May","Fee_Jun","Fee_Jul","Fee_Aug","Fee_Sep","Fee_Oct","Fee_Nov","Fee_Dec","Fee_Jan","Fee_Feb","Fee_Mar","Fee_Tot","Fee_Adj_Apr","Fee_Adj_May","Fee_Adj_Jun","Fee_Adj_Jul","Fee_Adj_Aug","Fee_Adj_Sep","Fee_Adj_Oct","Fee_Adj_Nov","Fee_Adj_Dec","Fee_Adj_Jan","Fee_Adj_Feb","Fee_Adj_Mar","Fee_Adj_Tot"]
["FA037","NEWLINE PHARMACY (DEREHAM TERRACE)","",15,5,10,14,"","","","","","","",44,123.20000000000002,"No",1,"",3,3,3,3,"","","","","","","",12,3,"Lower Quartile","",{"$error":"#N/A"},{"$error":"#N/A"},{"$error":"#N/A"},{"$error":"#N/A"},"","","","","","","",{"$error":"#N/A"},{"$error":"#N/A"},{"$error":"#N/A"},{"$error":"#N/A"},{"$error":"#N/A"},{"$error":"#N/A"},{"$error":"#N/A"},{"$error":"#N/A"},{"$error":"#N/A"},{"$error":"#N/A"},{"$error":"#N/A"},{"$error":"#N/A"},{"$error":"#N/A"},0,"",5560,5375,5818,5255,"","","","","","","",22008,5,15,10,"No",4,4,"",0,0,0,0,"","","","","","","",0,"",0,0,0,0,"","","","","","","",0]
[]
[]
[null,null,"MUR",{"$f":"MURMonthsPop","v":0}]
[null,null,"Monthly","Annual"]
["UpperOutlierScore","UOScore",10]
["AboveAverageScore","AAScore",8,{"$f":"IF(D60>1,MURmAAScore+((1/12)*(MURmUOScore-MURmAAScore))*($D$60-2),MURmAAScore)","v":8}]
["UpperQRScore","UQRScore",7,{"$f":"IF(D60>1,MURmUQRScore+((1/12)*(MURmAAScore-MURmUQRScore))*($D$60-2),MURmUQRScore)","v":7}]
["LowerQRScore","LQRScore",5,{"$f":"IF(D60>1,MURmLQRScore+((1/12)*(MURmUQRScore-MURmLQRScore))*($D$60-2),MURmLQRScore)","v":5}]
["BelowAverageScore","BAScore",3,{"$f":"IF(D60>1,MURmBAScore+((1/12)*(MURmLQRScore-MURmBAScore))*($D$60-2),MURmBAScore)","v":3}]
["LowerOutlierScore","LOScore",1,{"$f":"IF(D60>1,MURmLOScore+((1/12)*(MURmBAScore-MURmLOScore))*($D$60-2),MURmLOScore)","v":1}]
[]
[null,null,{"$f":"6/4","v":1.5}]

{"sheet":"Blank Control Sheet","index":37,"n_rows":1,"n_cols":4,"rows_kept":1,"cut":false,"hidden":true,"merged":[]}
[null,null,null,"Blank"]

{"sheet":"BlankAbated","index":38,"n_rows":1,"n_cols":69,"rows_kept":1,"cut":false,"hidden":true,"merged":[]}
["Mis Month","Contractor","Name","Add_1","Add_2","Add_3","Add_4","Start Date","End Date","Area Team","Prescription Month","TOTAL FORMS","TOT STDR PXS","TOT ZDR PXS","RETD BACK FORMS","RETD BACK ITEMS","CHGS CURR RATE","CHGS PREV RATE","ELHOSE ITEMS","ADVANCE ITEMS","ADVANCE CHARGES","EXPENSIVE PX FEE","MED USE REVIEWS","DISPENSING STAFF","FP57 REF FORMS","AVG ITEM VALUE","ETP FORMS","ETP ITEMS","AUR HOME NUM","AUR PREM NUM","NMS NUM","NMS NUM ITEMS","BASIC PRICE STDR","DISCOUNT","BASIC PRICE ZDR","OUT OF POCKET EX","PAYMT CONSUMABLE","PAY CONTAINERS","Spare","BASIC DISP FEE","TRANSITION PAYMT","REPEAT DISP FEE","PRACTICE PAYMENT","ADD FEE-2A","ADD-FEE-2B-MF","ADD-FEE-2B-HD","METHADONE PAYMT","Spare","ADD FEE-2E","ADD FEE-2F","MANUALLY PRICED","ESTAB PAYMENT","NMS FEE","Spare","MED USE REVIEWS","PXS CHGS CURR","PXS CHGS PREV","ELASTIC HOSIERY","FP57 REFUNDS","AUR HOME FEE","AUR PREM FEE","STOMA CUST FEE","Spare","Spare","Spare","ADJUSTMENT DRUGS","ADJUSTMENT FEES","AUR ADJUSTMENT","STOMA CUST ADJ"]

{"sheet":"Abated","index":39,"n_rows":2,"n_cols":69,"rows_kept":2,"cut":false,"hidden":true,"merged":[]}
["Mis Month","Contractor","Name","Add_1","Add_2","Add_3","Add_4","Start Date","End Date","Area Team","Prescription Month","TOTAL FORMS","TOT STDR PXS","TOT ZDR PXS","RETD BACK FORMS","RETD BACK ITEMS","CHGS CURR RATE","CHGS PREV RATE","ELHOSE ITEMS","ADVANCE ITEMS","ADVANCE CHARGES","EXPENSIVE PX FEE","MED USE REVIEWS","DISPENSING STAFF","FP57 REF FORMS","AVG ITEM VALUE","ETP FORMS","ETP ITEMS","AUR HOME NUM","AUR PREM NUM","NMS NUM","NMS NUM ITEMS","BASIC PRICE STDR","DISCOUNT","BASIC PRICE ZDR","OUT OF POCKET EX","PAYMT CONSUMABLE","PAY CONTAINERS","Spare","BASIC DISP FEE","TRANSITION PAYMT","REPEAT DISP FEE","PRACTICE PAYMENT","ADD FEE-2A","ADD-FEE-2B-MF","ADD-FEE-2B-HD","METHADONE PAYMT","Spare","ADD FEE-2E","ADD FEE-2F","MANUALLY PRICED","ESTAB PAYMENT","NMS FEE","Spare","MED USE REVIEWS","PXS CHGS CURR","PXS CHGS PREV","ELASTIC HOSIERY","FP57 REFUNDS","AUR HOME FEE","AUR PREM FEE","STOMA CUST FEE","Spare","Spare","Spare","ADJUSTMENT DRUGS","ADJUSTMENT FEES","AUR ADJUSTMENT","STOMA CUST ADJ"]
["(blank)"]

{"sheet":"Abated Workings","index":40,"n_rows":1018,"n_cols":104,"rows_kept":562,"cut":true,"hidden":true,"merged":[],"bounds":{"rows_first":250,"rows_last":62,"rows_between":250,"halvings":3}}
["Metric",null,"Abated",null,"AT:",{"$f":"Apr!A2","v":""},null,"Contractors:",{"$f":"COUNT(O21:O1016)","v":1},null,null,null,null,null,null,null,null,null,null,null,null,null,null,null,null,null,null,null,null,null,null,"Lower Outlier",{"$f":"COUNTIF(AG$21:AG$1016,\"Lower Outlier\")","v":0}]
["Tot MUR (ytd)",null,{"$f":"SUM(C21:N1016)","v":0},null,"Avg (ytd)",{"$f":"IF(MURMonthsPop=0,0,AVERAGE(C21:N1016))","v":0},null,"St Dev (ytd)",{"$f":"STDEVA(C21:N1016)","v":0},null,"YTD Spent",{"$f":"C2*28","v":0},null,"disctinct cons",{"$f":"COUNTIF(O21:O1024,\">0\")","v":0},null,null,null,null,null,null,null,null,null,null,null,null,null,null,null,null,"Below Average",{"$f":"COUNTIF(AG$21:AG$1016,\"Below Average\")","v":0},null,null,null,null,null,null,null,null,null,null,null,null,null,null,null,null,null,null,null,null,null,null,null,null,null,null,null,null,null,null,null,null,null,null,null,null,null,null,null,null,null,null,null,null,null,null,null,null,null,null,null,null,null,null,null,null,null,{"$f":"SUM(CM21:CM1018)","v":0},null,null,null,null,null,null,null,null,null,null,null,"Fee Adj Tot",{"$f":"SUM(CZ21:CZ1018)","v":0}]
["Monthly Total","Abated",{"$f":"SUM(C21:C1016)","v":0},{"$f":"SUM(D21:D1016)","v":0},{"$f":"SUM(E21:E1016)","v":0},{"$f":"SUM(F21:F1016)","v":0},{"$f":"SUM(G21:G1016)","v":0},0,0,0,0,0,0,0,{"$f":"IF(MURMonthsPop=0,0,SUM(C3:N3))","v":0},null,null,null,null,null,null,null,null,null,null,null,null,null,null,null,null,"Lower Quartile",{"$f":"COUNTIF(AG$21:AG$1016,\"Lower Quartile\")","v":0},null,null,null,null,null,null,null,null,null,null,null,null,null,null,null,null,null,null,null,null,null,null,null,null,null,null,{"$f":"SUM(BH21:BH1016)","v":0},{"$f":"SUM(BI21:BI1016)","v":0},0,0,0,0,0,0,0,0,0,0,0,0,0,0]
["Monthly Cummulative",null,{"$f":"C3","v":0},{"$f":"SUM(C3:D3)","v":0},{"$f":"SUM(C3:E3)","v":0},{"$f":"SUM(C3:F3)","v":0},{"$f":"SUM(C3:G3)","v":0},{"$f":"SUM(C3:H3)","v":0},{"$f":"SUM(C3:I3)","v":0},{"$f":"SUM(C3:J3)","v":0},{"$f":"SUM(C3:K3)","v":0},{"$f":"SUM(C3:L3)","v":0},{"$f":"SUM(C3:M3)","v":0},{"$f":"SUM(C3:N3)","v":0},null,null,null,null,null,null,null,null,null,null,null,null,null,null,null,null,null,"Upper Quatile",{"$f":"COUNTIF(AG$21:AG$1016,\"Upper Quartile\")","v":0}]
["Monthly Average",null,{"$f":"IF(C18=0,#N/A,AVERAGE(C21:C1016))","v":{"$error":"#N/A"}},{"$f":"IF(D18=0,#N/A,AVERAGE(D21:D1016))","v":{"$error":"#N/A"}},{"$f":"IF(E18=0,#N/A,AVERAGE(E21:E1016))","v":{"$error":"#N/A"}},{"$error":"#N/A"},{"$error":"#N/A"},{"$error":"#N/A"},{"$error":"#N/A"},{"$error":"#N/A"},{"$error":"#N/A"},{"$error":"#N/A"},{"$error":"#N/A"},{"$error":"#N/A"},{"$f":"IF(O18=0,0,AVERAGE(O21:O1016))","v":0},null,null,null,null,null,null,null,null,null,null,null,null,null,null,null,null,"Above Average",{"$f":"COUNTIF(AG$21:AG$1016,\"Above Average\")","v":0},null,null,null,null,null,null,null,null,null,null,null,null,null,null,null,null,null,null,null,null,null,null,null,null,null,null,{"$f":"IF(C18=0,0,AVERAGE(BH21:BH1016))","v":0},{"$f":"IF(D18=0,0,AVERAGE(BI21:BI1016))","v":0},0,0,0,0,0,0,0,0,0,0,0,{"$f":"IF(ISERROR(AVERAGE(BU21:BU1016)),0,AVERAGE(BU21:BU1016))","v":0},{"$f":"IF(ISERROR(AVERAGE(BV21:BV1016)),0,AVERAGE(BV21:BV1016))","v":0},{"$f":"IF(ISERROR(AVERAGE(BW21:BW1016)),0,AVERAGE(BW21:BW1016))","v":0}]
["Minumum Value",null,{"$f":"IF(C18=0,#N/A,QUARTILE(C21:C1016,0))","v":{"$error":"#N/A"}},{"$f":"IF(D18=0,#N/A,QUARTILE(D21:D1016,0))","v":{"$error":"#N/A"}},{"$error":"#N/A"},{"$error":"#N/A"},{"$error":"#N/A"},{"$error":"#N/A"},{"$error":"#N/A"},{"$error":"#N/A"},{"$error":"#N/A"},{"$error":"#N/A"},{"$error":"#N/A"},{"$error":"#N/A"},{"$f":"IF(O18=0,0,QUARTILE(O21:O1016,0))","v":0},null,null,null,null,null,null,null,null,null,null,null,null,null,null,null,null,"Upper Outlier",{"$f":"COUNTIF(AG$21:AG$1016,\"Upper Outlier\")","v":0},null,null,null,null,null,null,null,null,null,null,null,null,null,null,null,null,null,null,null,null,null,null,null,null,null,null,null,null,null,null,null,null,null,null,null,null,null,null,null,{"$f":"IF(ISERROR(QUARTILE(BU21:BU1016,0)),0,QUARTILE(BU21:BU1016,0))","v":0},{"$f":"IF(ISERROR(QUARTILE(BV21:BV1016,0)),0,QUARTILE(BV21:BV1016,0))","v":0},{"$f":"IF(ISERROR(QUARTILE(BW21:BW1016,0)),0,QUARTILE(BW21:BW1016,0))","v":0}]
["Q1",null,{"$f":"IF(C18=0,0,QUARTILE(C21:C1016,1))","v":0},0,0,0,0,0,0,0,0,0,0,0,0,null,null,null,null,null,null,null,null,null,null,null,null,null,null,null,null,null,null,null,null,null,null,null,null,null,null,null,null,null,null,null,null,null,null,null,null,null,null,null,null,null,null,null,null,null,null,null,null,null,null,null,null,null,null,null,null,null,{"$f":"IF(ISERROR(QUARTILE(BU21:BU1016,1)),0,QUARTILE(BU21:BU1016,1))","v":0},{"$f":"IF(ISERROR(QUARTILE(BV21:BV1016,1)),0,QUARTILE(BV21:BV1016,1))","v":0},{"$f":"IF(ISERROR(QUARTILE(BW21:BW1016,1)),0,QUARTILE(BW21:BW1016,1))","v":0}]
["Q2",null,{"$f":"IF(C18=0,0,QUARTILE(C21:C1016,2))","v":0},0,0,0,0,0,0,0,0,0,0,0,0,null,null,null,null,null,null,null,null,null,null,null,null,null,null,null,null,null,null,null,null,null,null,null,null,null,null,null,null,null,null,null,null,null,null,null,null,null,null,null,null,null,null,null,null,null,null,null,null,null,null,null,null,null,null,null,null,null,{"$f":"IF(ISERROR(QUARTILE(BU21:BU1016,2)),0,QUARTILE(BU21:BU1016,2))","v":0},{"$f":"IF(ISERROR(QUARTILE(BV21:BV1016,2)),0,QUARTILE(BV21:BV1016,2))","v":0},{"$f":"IF(ISERROR(QUARTILE(BW21:BW1016,2)),0,QUARTILE(BW21:BW1016,2))","v":0}]
["Q3",null,{"$f":"IF(C18=0,0,QUARTILE(C21:C1016,3))","v":0},{"$f":"IF(D18=0,0,QUARTILE(D21:D1016,3))","v":0},0,0,0,0,0,0,0,0,0,0,0,null,null,null,null,null,null,null,null,null,null,null,null,null,null,null,null,null,null,null,null,null,null,null,null,null,null,null,null,null,null,null,null,null,null,null,null,null,null,null,null,null,null,null,null,null,null,null,null,null,null,null,null,null,null,null,null,null,{"$f":"IF(ISERROR(QUARTILE(BU21:BU1016,3)),0,QUARTILE(BU21:BU1016,3))","v":0},{"$f":"IF(ISERROR(QUARTILE(BV21:BV1016,3)),0,QUARTILE(BV21:BV1016,3))","v":0},{"$f":"IF(ISERROR(QUARTILE(BW21:BW1016,3)),0,QUARTILE(BW21:BW1016,3))","v":0}]
["Lower Outlier",null,{"$f":"IF(C18=0,0,IF((C7-(1.5*C12))>0,(C7-(1.5*C12)),0))","v":0},{"$f":"IF(D18=0,0,IF((D7-(1.5*D12))>0,(D7-(1.5*D12)),0))","v":0},0,0,0,0,0,0,0,0,0,0,{"$f":"IF(O18=0,0,(O7-(1.5*O12)))","v":0},null,null,null,null,null,null,null,null,null,null,null,null,null,null,null,null,null,null,null,null,null,null,null,null,null,null,null,null,null,null,null,null,null,null,null,null,null,null,null,null,null,null,null,null,null,null,null,null,null,null,null,null,null,null,null,null,null,{"$f":"BU7-(1.5*BU12)","v":0},{"$f":"BV7-(1.5*BV12)","v":0},{"$f":"BW7-(1.5*BW12)","v":0}]
["Upper Outlier",null,{"$f":"IF(C18=0,#N/A,(C9+(1.5*C12)))","v":{"$error":"#N/A"}},{"$f":"IF(D18=0,#N/A,(D9+(1.5*D12)))","v":{"$error":"#N/A"}},{"$error":"#N/A"},{"$error":"#N/A"},{"$error":"#N/A"},{"$error":"#N/A"},{"$error":"#N/A"},{"$error":"#N/A"},{"$error":"#N/A"},{"$error":"#N/A"},{"$error":"#N/A"},{"$error":"#N/A"},{"$f":"IF(O18=0,0,(O9+(1.5*O12)))","v":0},null,null,null,null,null,null,null,null,null,null,null,null,null,null,null,null,null,null,null,null,null,null,null,null,null,null,null,null,null,null,null,null,null,null,null,null,null,null,null,null,null,null,null,null,null,null,null,null,null,null,null,null,null,null,null,null,null,{"$f":"(BU9+(1.5*BU12))","v":0},{"$f":"(BV9+(1.5*BV12))","v":0},{"$f":"(BW9+(1.5*BW12))","v":0}]
["IQR",null,{"$f":"IF(C18=0,0,C9-C7)","v":0},{"$f":"IF(D18=0,0,D9-D7)","v":0},0,0,0,0,0,0,0,0,0,0,0,null,null,null,null,null,null,null,null,null,null,null,null,null,null,null,null,null,null,null,null,null,null,null,null,null,null,null,null,null,null,null,null,null,null,null,null,null,null,null,null,null,null,null,null,null,null,null,null,null,null,null,null,null,null,null,null,null,{"$f":"BU9-BU7","v":0},{"$f":"BV9-BV7","v":0},{"$f":"BW9-BW7","v":0},null,null,null,null,null,null,null,null,"`"]
["Maximum",null,{"$f":"IF(C18=0,#N/A,MAX(C21:C1016))","v":{"$error":"#N/A"}},{"$f":"IF(D18=0,#N/A,MAX(D21:D1016))","v":{"$error":"#N/A"}},{"$error":"#N/A"},{"$error":"#N/A"},{"$error":"#N/A"},{"$error":"#N/A"},{"$error":"#N/A"},{"$error":"#N/A"},{"$error":"#N/A"},{"$error":"#N/A"},{"$error":"#N/A"},{"$error":"#N/A"},{"$f":"MAX(O21:O1016)","v":0},null,null,null,null,null,null,null,null,null,null,null,null,null,null,null,null,null,null,{"$f":"MAX(AH21:AH1016)","v":0},{"$f":"MAX(AI21:AI1016)","v":0},0,0,0,0,0,0,0,0,0,0,0,null,null,null,null,null,null,null,null,null,null,null,null,null,{"$f":"MAX(BH21,BH1016)","v":0},{"$f":"MAX(BI21,BI1016)","v":0},0,0,0,0,0,0,0,0,0,0,{"$f":"MAX(BT21:BT1016)","v":0},{"$f":"IF(ISERROR(QUARTILE(BU21:BU1016,4)),0,QUARTILE(BU21:BU1016,4))","v":0},{"$f":"IF(ISERROR(QUARTILE(BV21:BV1016,4)),0,QUARTILE(BV21:BV1016,4))","v":0},{"$f":"IF(ISERROR(QUARTILE(BW21:BW1016,4)),0,QUARTILE(BW21:BW1016,4))","v":0}]
["Total Contractoprs",null,{"$f":"COUNT(C21:C1016)","v":0},{"$f":"COUNT(D21:D1016)","v":0},0,0,0,0,0,0,0,0,0,0,{"$f":"COUNT(O21:O1016)","v":1}]
["Conducting MUR",null,{"$f":"C14-C16","v":0},{"$f":"D14-D16","v":0},0,0,0,0,0,0,0,0,0,0,0]
["Not Conducting MUR",null,{"$f":"COUNTIF(C21:C1016,0)","v":0},{"$f":"COUNTIF(D21:D1016,0)","v":0},0,0,0,0,0,0,0,0,0,0,{"$f":"COUNTIF(O21:O1016,0)","v":1},null,null,null,null,null,null,null,null,null,null,null,null,null,{"$f":"A482","v":""}]
[]
["Populated",null,{"$f":"IF(Apr!B1=\"\",0,1)","v":0},{"$f":"IF(May!B1=\"\",0,1)","v":0},{"$f":"IF(Jun!B1=\"\",0,1)","v":0},{"$f":"IF(Jul!B1=\"\",0,1)","v":0},{"$f":"IF(Aug!B1=\"\",0,1)","v":0},{"$f":"IF(Sep!B1=\"\",0,1)","v":0},{"$f":"IF(Oct!B1=\"\",0,1)","v":0},{"$f":"IF(Nov!B1=\"\",0,1)","v":0},{"$f":"IF(Dec!B1=\"\",0,1)","v":0},{"$f":"IF(Jan!B1=\"\",0,1)","v":0},{"$f":"IF(Feb!B1=\"\",0,1)","v":0},{"$f":"IF(Mar!B1=\"\",0,1)","v":0},{"$f":"SUM(C18:N18)","v":0},null,null,null,null,null,null,null,null,null,null,null,null,null,null,null,null,null,null,null,null,null,null,null,null,null,null,null,null,null,null,null,1,2,3,4,5,6,7,8,9,10,11,12]
[null,null,"Actual Recorded Values",null,null,null,null,null,null,null,null,null,null,null,null,null,null,null,"Number of MIS entries by month",null,null,null,null,null,null,null,null,null,null,null,null,null,null,"Type of MIS (Normal=Monthly MIS only, Abated-1=Single Abated entry, Abated-n=Multiple abated entries, Mixed=both normal and abated entries)",null,null,null,null,null,null,null,null,null,null,null,null,"LPC Stat Levy",null,null,null,null,null,null,null,null,null,null,null,null,"LPC Vol Levy",null,null,null,null,null,null,null,null,null,null,null,null,"Spread Analysis",null,null,null,null,null,"MUR Fee",null,null,null,null,null,null,null,null,null,null,null,null," Fee Adjustment"]
["Contractor","Name","Apr","May","Jun","Jul","Aug","Sep","Oct","Nov","Dec","Jan","Feb","Mar","Abated Tot","Projected Total","Project over 400","MonthMod","MIS_Cnt_Apr","MIS_Cnt_May","MIS_Cnt_Jun","MIS_Cnt_Jul","MIS_Cnt_Aug","MIS_Cnt_Sep","MIS_Cnt_Oct","MIS_Cnt_Nov","MIS_Cnt_Dec","MIS_Cnt_Jan","MIS_Cnt_Feb","MIS_Cnt_Mar","MIS Entries ","Average Score","Contains Outlier Activity","MIS_Apr","MIS_May","MIS_Jun","MIS_Jul","MIS_Aug","MIS_Sep","MIS_Oct","MIS_Nov","MIS_Dec","MIS_Jan","MIS_Feb","MIS_Mar","Cum_to_date","LPC_Stat_Apr","LPC_Stat_May","LPC_Stat_Jun","LPC_Stat_Jul","LPC_Stat_Aug","LPC_Stat_Sep","LPC_Stat_Oct","LPC_Stat_Nov","LPC_Stat_Dec","LPC_Stat_Jan","LPC_Stat_Feb","LPC_Stat_Mar","For_Tot","It_Apr","It_May","It_Jun","It_Jul","It_Aug","It_Sep","It_Oct","It_Nov","It_Dec","It_Jan","It_Feb","It_Mar","Tot Items","MIN","MAX","Spread","Spread Outlier","Months Sub","Months Cond","Fee_Apr","Fee_May","Fee_Jun","Fee_Jul","Fee_Aug","Fee_Sep","Fee_Oct","Fee_Nov","Fee_Dec","Fee_Jan","Fee_Feb","Fee_Mar","Fee_Tot","Fee_Adj_Apr","Fee_Adj_May","Fee_Adj_Jun","Fee_Adj_Jul","Fee_Adj_Aug","Fee_Adj_Sep","Fee_Adj_Oct","Fee_Adj_Nov","Fee_Adj_Dec","Fee_Adj_Jan","Fee_Adj_Feb","Fee_Adj_Mar","Fee_Adj_Tot"]
[{"$f":"IF(ISBLANK('Control Sheet'!D1),\"\",'Control Sheet'!D1)","v":"Blank"},{"$f":"IF(ISBLANK('Control Sheet'!E1),\"\",'Control Sheet'!E1&\" (\"&'Control Sheet'!F1&\")\")","v":""},{"$f":"IF(C$18=1,IF(ISNA(VLOOKUP($A21,INDIRECT(C$20),Abated_col,FALSE)),\"\",VLOOKUP($A21,INDIRECT(C$20),Abated_col,FALSE)),\"\")","v":""},"","","","","","","","","","","",{"$f":"IF(A21=\"\",\"\",SUM(C21:N21))","v":0},{"$f":"IF(A21=\"\",\"\",IF($O$18=12,SUM(C21:N21),AVERAGE(C21:O21)*(12-$O$18)))","v":0},{"$f":"IF(A21=\"\",\"\",IF(P21<=400,\"No\",\"Yes\"))","v":"No"},{"$f":"IF(A21=\"\",\"\",MURMonthsPop-(COUNTA(C21:N21)-COUNTBLANK(C21:N21)))","v":0},{"$f":"IF(C$18=1,IF(ISNA(VLOOKUP($A21,INDIRECT(C$20),MIS_Count_col,FALSE)),\"\",VLOOKUP($A21,INDIRECT(C$20),MIS_Count_col,FALSE)),\"\")","v":""},{"$f":"IF(D$18=1,IF(ISNA(VLOOKUP($A21,INDIRECT(D$20),MIS_Count_col,FALSE)),\"\",VLOOKUP($A21,INDIRECT(D$20),MIS_Count_col,FALSE)),\"\")","v":""},{"$f":"IF(E$18=1,IF(ISNA(VLOOKUP($A21,INDIRECT(E$20),MIS_Count_col,FALSE)),\"\",VLOOKUP($A21,INDIRECT(E$20),MIS_Count_col,FALSE)),\"\")","v":""},{"$f":"IF(F$18=1,IF(ISNA(VLOOKUP($A21,INDIRECT(F$20),MIS_Count_col,FALSE)),\"\",VLOOKUP($A21,INDIRECT(F$20),MIS_Count_col,FALSE)),\"\")","v":""},{"$f":"IF(G$18=1,IF(ISNA(VLOOKUP($A21,INDIRECT(G$20),MIS_Count_col,FALSE)),\"\",VLOOKUP($A21,INDIRECT(G$20),MIS_Count_col,FALSE)),\"\")","v":""},{"$f":"IF(H$18=1,IF(ISNA(VLOOKUP($A21,INDIRECT(H$20),MIS_Count_col,FALSE)),\"\",VLOOKUP($A21,INDIRECT(H$20),MIS_Count_col,FALSE)),\"\")","v":""},{"$f":"IF(I$18=1,IF(ISNA(VLOOKUP($A21,INDIRECT(I$20),MIS_Count_col,FALSE)),\"\",VLOOKUP($A21,INDIRECT(I$20),MIS_Count_col,FALSE)),\"\")","v":""},{"$f":"IF(J$18=1,IF(ISNA(VLOOKUP($A21,INDIRECT(J$20),MIS_Count_col,FALSE)),\"\",VLOOKUP($A21,INDIRECT(J$20),MIS_Count_col,FALSE)),\"\")","v":""},{"$f":"IF(K$18=1,IF(ISNA(VLOOKUP($A21,INDIRECT(K$20),MIS_Count_col,FALSE)),\"\",VLOOKUP($A21,INDIRECT(K$20),MIS_Count_col,FALSE)),\"\")","v":""},{"$f":"IF(L$18=1,IF(ISNA(VLOOKUP($A21,INDIRECT(L$20),MIS_Count_col,FALSE)),\"\",VLOOKUP($A21,INDIRECT(L$20),MIS_Count_col,FALSE)),\"\")","v":""},{"$f":"IF(M$18=1,IF(ISNA(VLOOKUP($A21,INDIRECT(M$20),MIS_Count_col,FALSE)),\"\",VLOOKUP($A21,INDIRECT(M$20),MIS_Count_col,FALSE)),\"\")","v":""},{"$f":"IF(N$18=1,IF(ISNA(VLOOKUP($A21,INDIRECT(N$20),MIS_Count_col,FALSE)),\"\",VLOOKUP($A21,INDIRECT(N$20),MIS_Count_col,FALSE)),\"\")","v":""},{"$f":"IF(A21=\"\",\"\",SUM(S21:AD21))","v":0},{"$f":"IF(OR(A21=\"\",AE21=0),\"\",AE21/(O$18-R21))","v":""},{"$f":"IF(AF21=\"\",\"\",IF(AF21<=1,\"Lower Outlier\",IF(AF21<=2,\"Below Average\",IF(AF21<=3,\"Lower Quartile\",IF(AF21<=4,\"Upper Quartile\",IF(AF21<=5, \"Above Average\", \"Upper Outlier\"))))))","v":""},{"$f":"IF(C21=\"\",\"\",IF(AND(C21=0,S21=1),\"Normal\",IF(AND(C21=1,S21=1),\"Abated-1\",IF(C21=S21,\"Abated-n\",\"Mixed\"))))","v":""},{"$f":"IF(D21=\"\",\"\",IF(AND(D21=0,T21=1),\"Normal\",IF(AND(D21=1,T21=1),\"Abated-1\",IF(D21=T21,\"Abated-n\",\"Mixed\"))))","v":""},"","","","","","","","","","",{"$f":"IF(A21=\"\",\"\",MAX(AH21:AS21))","v":0},{"$f":"IF(C$18=1,IF(ISNA(VLOOKUP($A21,INDIRECT(C$20),LPC_Stat_col,FALSE)),\"\",VLOOKUP($A21,INDIRECT(C$20),LPC_Stat_col,FALSE)),\"\")","v":""},{"$f":"IF(D$18=1,IF(ISNA(VLOOKUP($A21,INDIRECT(D$20),LPC_Stat_col,FALSE)),\"\",VLOOKUP($A21,INDIRECT(D$20),LPC_Stat_col,FALSE)),\"\")","v":""},{"$f":"IF(E$18=1,IF(ISNA(VLOOKUP($A21,INDIRECT(E$20),LPC_Stat_col,FALSE)),\"\",VLOOKUP($A21,INDIRECT(E$20),LPC_Stat_col,FALSE)),\"\")","v":""},{"$f":"IF(F$18=1,IF(ISNA(VLOOKUP($A21,INDIRECT(F$20),LPC_Stat_col,FALSE)),\"\",VLOOKUP($A21,INDIRECT(F$20),LPC_Stat_col,FALSE)),\"\")","v":""},{"$f":"IF(G$18=1,IF(ISNA(VLOOKUP($A21,INDIRECT(G$20),LPC_Stat_col,FALSE)),\"\",VLOOKUP($A21,INDIRECT(G$20),LPC_Stat_col,FALSE)),\"\")","v":""},{"$f":"IF(H$18=1,IF(ISNA(VLOOKUP($A21,INDIRECT(H$20),LPC_Stat_col,FALSE)),\"\",VLOOKUP($A21,INDIRECT(H$20),LPC_Stat_col,FALSE)),\"\")","v":""},{"$f":"IF(I$18=1,IF(ISNA(VLOOKUP($A21,INDIRECT(I$20),LPC_Stat_col,FALSE)),\"\",VLOOKUP($A21,INDIRECT(I$20),LPC_Stat_col,FALSE)),\"\")","v":""},{"$f":"IF(J$18=1,IF(ISNA(VLOOKUP($A21,INDIRECT(J$20),LPC_Stat_col,FALSE)),\"\",VLOOKUP($A21,INDIRECT(J$20),LPC_Stat_col,FALSE)),\"\")","v":""},{"$f":"IF(K$18=1,IF(ISNA(VLOOKUP($A21,INDIRECT(K$20),LPC_Stat_col,FALSE)),\"\",VLOOKUP($A21,INDIRECT(K$20),LPC_Stat_col,FALSE)),\"\")","v":""},{"$f":"IF(L$18=1,IF(ISNA(VLOOKUP($A21,INDIRECT(L$20),LPC_Stat_col,FALSE)),\"\",VLOOKUP($A21,INDIRECT(L$20),LPC_Stat_col,FALSE)),\"\")","v":""},{"$f":"IF(M$18=1,IF(ISNA(VLOOKUP($A21,INDIRECT(M$20),LPC_Stat_col,FALSE)),\"\",VLOOKUP($A21,INDIRECT(M$20),LPC_Stat_col,FALSE)),\"\")","v":""},{"$f":"IF(N$18=1,IF(ISNA(VLOOKUP($A21,INDIRECT(N$20),LPC_Stat_col,FALSE)),\"\",VLOOKUP($A21,INDIRECT(N$20),LPC_Stat_col,FALSE)),\"\")","v":""},{"$f":"SUM(AT21:BF21)","v":0},{"$f":"IF(C$18=1,IF(ISNA(VLOOKUP($A21,INDIRECT(C$20),LPC_Vol_col,FALSE)),\"\",VLOOKUP($A21,INDIRECT(C$20),LPC_Vol_col,FALSE)),\"\")","v":""},{"$f":"IF(D$18=1,IF(ISNA(VLOOKUP($A21,INDIRECT(D$20),LPC_Vol_col,FALSE)),\"\",VLOOKUP($A21,INDIRECT(D$20),LPC_Vol_col,FALSE)),\"\")","v":""},{"$f":"IF(E$18=1,IF(ISNA(VLOOKUP($A21,INDIRECT(E$20),LPC_Vol_col,FALSE)),\"\",VLOOKUP($A21,INDIRECT(E$20),LPC_Vol_col,FALSE)),\"\")","v":""},{"$f":"IF(F$18=1,IF(ISNA(VLOOKUP($A21,INDIRECT(F$20),LPC_Vol_col,FALSE)),\"\",VLOOKUP($A21,INDIRECT(F$20),LPC_Vol_col,FALSE)),\"\")","v":""},{"$f":"IF(G$18=1,IF(ISNA(VLOOKUP($A21,INDIRECT(G$20),LPC_Vol_col,FALSE)),\"\",VLOOKUP($A21,INDIRECT(G$20),LPC_Vol_col,FALSE)),\"\")","v":""},{"$f":"IF(H$18=1,IF(ISNA(VLOOKUP($A21,INDIRECT(H$20),LPC_Vol_col,FALSE)),\"\",VLOOKUP($A21,INDIRECT(H$20),LPC_Vol_col,FALSE)),\"\")","v":""},{"$f":"IF(I$18=1,IF(ISNA(VLOOKUP($A21,INDIRECT(I$20),LPC_Vol_col,FALSE)),\"\",VLOOKUP($A21,INDIRECT(I$20),LPC_Vol_col,FALSE)),\"\")","v":""},{"$f":"IF(J$18=1,IF(ISNA(VLOOKUP($A21,INDIRECT(J$20),LPC_Vol_col,FALSE)),\"\",VLOOKUP($A21,INDIRECT(J$20),LPC_Vol_col,FALSE)),\"\")","v":""},{"$f":"IF(K$18=1,IF(ISNA(VLOOKUP($A21,INDIRECT(K$20),LPC_Vol_col,FALSE)),\"\",VLOOKUP($A21,INDIRECT(K$20),LPC_Vol_col,FALSE)),\"\")","v":""},{"$f":"IF(L$18=1,IF(ISNA(VLOOKUP($A21,INDIRECT(L$20),LPC_Vol_col,FALSE)),\"\",VLOOKUP($A21,INDIRECT(L$20),LPC_Vol_col,FALSE)),\"\")","v":""},{"$f":"IF(M$18=1,IF(ISNA(VLOOKUP($A21,INDIRECT(M$20),LPC_Vol_col,FALSE)),\"\",VLOOKUP($A21,INDIRECT(M$20),LPC_Vol_col,FALSE)),\"\")","v":""},{"$f":"IF(N$18=1,IF(ISNA(VLOOKUP($A21,INDIRECT(N$20),LPC_Vol_col,FALSE)),\"\",VLOOKUP($A21,INDIRECT(N$20),LPC_Vol_col,FALSE)),\"\")","v":""},{"$f":"IF(A21=\"\",\"\",SUM(BH21:BS21))","v":0},{"$f":"IF(A21=\"\",\"\",MIN(B21:M21))","v":0},{"$f":"IF(A21=\"\",\"\",MAX(B21:M21))","v":0},{"$f":"IF(A21=\"\",\"\",BV21-BU21)","v":0},{"$f":"IF(A21=\"\",\"\",IF(BW21>$BW$11,\"Yes\",\"No\"))","v":"No"},{"$f":"IF(A21=\"\",\"\",(COUNTA(C21:N21)-COUNTBLANK(C21:N21)))","v":0},{"$f":"IF(A21=\"\",\"\",BY21-COUNTIF(C21:N21,\"=0\"))","v":0},{"$f":"IF(C$18=1,IF(ISNA(VLOOKUP($A21,INDIRECT(C$20),MUR_fee_col,FALSE)),\"\",VLOOKUP($A21,INDIRECT(C$20),MUR_fee_col,FALSE)),\"\")","v":""},"","","","","","","","","","","",{"$f":"IF(A21=\"\",\"\",SUM(CA21:CL21))","v":0},{"$f":"IF(C$18=1,IF(ISNA(VLOOKUP($A21,INDIRECT(C$20),MUR_Fee_adj_col,FALSE)),\"\",VLOOKUP($A21,INDIRECT(C$20),MUR_Fee_adj_col,FALSE)),\"\")","v":""},"","","","","","","","","","","",{"$f":"IF(A21=\"\",\"\",SUM(CN21:CY21))","v":0}]
[{"$f":"IF(ISBLANK('Control Sheet'!D2),\"\",'Control Sheet'!D2)","v":""},{"$f":"IF(ISBLANK('Control Sheet'!E2),\"\",'Control Sheet'!E2&\" (\"&'Control Sheet'!F2&\")\")","v":""},"","","","","","","","","","","","","","","","","","","","","","","","","","","","","","",{"$f":"IF(AF22=\"\",\"\",IF(AF22<=1,\"Lower Outlier\",IF(AF22<=2,\"Below Average\",IF(AF22<=3,\"Lower Quartile\",IF(AF22<=4,\"Upper Quartile\",IF(AF22<=5, \"Above Average\", \"Upper Outlier\"))))))","v":""},{"$f":"IF(C22=\"\",\"\",IF(AND(C22=0,S22=1),\"Normal\",IF(AND(C22=1,S22=1),\"Abated-1\",IF(C22=S22,\"Abated-n\",\"Mixed\"))))","v":""},{"$f":"IF(D22=\"\",\"\",IF(AND(D22=0,T22=1),\"Normal\",IF(AND(D22=1,T22=1),\"Abated-1\",IF(D22=T22,\"Abated-n\",\"Mixed\"))))","v":""},{"$f":"IF(E22=\"\",\"\",IF(AND(E22=0,U22=1),\"Normal\",IF(AND(E22=1,U22=1),\"Abated-1\",IF(E22=U22,\"Abated-n\",\"Mixed\"))))","v":""},{"$f":"IF(F22=\"\",\"\",IF(AND(F22=0,V22=1),\"Normal\",IF(AND(F22=1,V22=1),\"Abated-1\",IF(F22=V22,\"Abated-n\",\"Mixed\"))))","v":""},{"$f":"IF(G22=\"\",\"\",IF(AND(G22=0,W22=1),\"Normal\",IF(AND(G22=1,W22=1),\"Abated-1\",IF(G22=W22,\"Abated-n\",\"Mixed\"))))","v":""},{"$f":"IF(H22=\"\",\"\",IF(AND(H22=0,X22=1),\"Normal\",IF(AND(H22=1,X22=1),\"Abated-1\",IF(H22=X22,\"Abated-n\",\"Mixed\"))))","v":""},{"$f":"IF(I22=\"\",\"\",IF(AND(I22=0,Y22=1),\"Normal\",IF(AND(I22=1,Y22=1),\"Abated-1\",IF(I22=Y22,\"Abated-n\",\"Mixed\"))))","v":""},{"$f":"IF(J22=\"\",\"\",IF(AND(J22=0,Z22=1),\"Normal\",IF(AND(J22=1,Z22=1),\"Abated-1\",IF(J22=Z22,\"Abated-n\",\"Mixed\"))))","v":""},{"$f":"IF(K22=\"\",\"\",IF(AND(K22=0,AA22=1),\"Normal\",IF(AND(K22=1,AA22=1),\"Abated-1\",IF(K22=AA22,\"Abated-n\",\"Mixed\"))))","v":""},{"$f":"IF(L22=\"\",\"\",IF(AND(L22=0,AB22=1),\"Normal\",IF(AND(L22=1,AB22=1),\"Abated-1\",IF(L22=AB22,\"Abated-n\",\"Mixed\"))))","v":""},{"$f":"IF(M22=\"\",\"\",IF(AND(M22=0,AC22=1),\"Normal\",IF(AND(M22=1,AC22=1),\"Abated-1\",IF(M22=AC22,\"Abated-n\",\"Mixed\"))))","v":""},{"$f":"IF(N22=\"\",\"\",IF(AND(N22=0,AD22=1),\"Normal\",IF(AND(N22=1,AD22=1),\"Abated-1\",IF(N22=AD22,\"Abated-n\",\"Mixed\"))))","v":""},"","","","","","","","","","","","","",{"$f":"IF(A22=\"\",\"\",MAX(IF(ISERROR(AU22:BF22),0,AU22:BF22)))","v":""},"","","","","","","","","","","","","","","","","","","","","","","","","","","","","","","","","","","","","","","","","","","","",""]
[{"$f":"IF(ISBLANK('Control Sheet'!D3),\"\",'Control Sheet'!D3)","v":""},{"$f":"IF(ISBLANK('Control Sheet'!E3),\"\",'Control Sheet'!E3&\" (\"&'Control Sheet'!F3&\")\")","v":""},"","","","","","","","","","","","","","","","","","","","","","","","","","","","","","",{"$f":"IF(AF23=\"\",\"\",IF(AF23<=1,\"Lower Outlier\",IF(AF23<=2,\"Below Average\",IF(AF23<=3,\"Lower Quartile\",IF(AF23<=4,\"Upper Quartile\",IF(AF23<=5, \"Above Average\", \"Upper Outlier\"))))))","v":""},{"$f":"IF(C23=\"\",\"\",IF(AND(C23=0,S23=1),\"Normal\",IF(AND(C23=1,S23=1),\"Abated-1\",IF(C23=S23,\"Abated-n\",\"Mixed\"))))","v":""},"","","","","","","","","","","","","","","","","","","","","","","","",{"$f":"IF(A23=\"\",\"\",MAX(IF(ISERROR(AU23:BF23),0,AU23:BF23)))","v":""},"","","","","","","","","","","","","","","","","","","","","","","","","","","","","","","","","","","","","","","","","","","","",""]
[{"$f":"IF(ISBLANK('Control Sheet'!D4),\"\",'Control Sheet'!D4)","v":""},{"$f":"IF(ISBLANK('Control Sheet'!E4),\"\",'Control Sheet'!E4&\" (\"&'Control Sheet'!F4&\")\")","v":""},"","","","","","","","","","","","","","","","","","","","","","","","","","","","","","","","","","","","","","","","","","","","","","","","","","","","","","","","",{"$f":"IF(A24=\"\",\"\",MAX(IF(ISERROR(AU24:BF24),0,AU24:BF24)))","v":""},"","","","","","","","","","","","","","","","","","","","","","","","","","","","","","","","","","","","","","","","","","","","",""]
[{"$f":"IF(ISBLANK('Control Sheet'!D5),\"\",'Control Sheet'!D5)","v":""},{"$f":"IF(ISBLANK('Control Sheet'!E5),\"\",'Control Sheet'!E5&\" (\"&'Control Sheet'!F5&\")\")","v":""},"","","","","","","","","","","","","","","","","","","","","","","","","","","","","","","","","","","","","","","","","","","","","","","","","","","","","","","","",{"$f":"IF(A25=\"\",\"\",MAX(IF(ISERROR(AU25:BF25),0,AU25:BF25)))","v":""},"","","","","","","","","","","","","","","","","","","","","","","","","","","","","","","","","","","","","","","","","","","","",""]
[{"$f":"IF(ISBLANK('Control Sheet'!D6),\"\",'Control Sheet'!D6)","v":""},{"$f":"IF(ISBLANK('Control Sheet'!E6),\"\",'Control Sheet'!E6&\" (\"&'Control Sheet'!F6&\")\")","v":""},"","","","","","","","","","","","","","","","","","","","","","","","","","","","","","","","","","","","","","","","","","","","","","","","","","","","","","","","",{"$f":"IF(A26=\"\",\"\",MAX(IF(ISERROR(AU26:BF26),0,AU26:BF26)))","v":""},"","","","","","","","","","","","","","","","","","","","","","","","","","","","","","","","","","","","","","","","","","","","",""]
[{"$f":"IF(ISBLANK('Control Sheet'!D7),\"\",'Control Sheet'!D7)","v":""},{"$f":"IF(ISBLANK('Control Sheet'!E7),\"\",'Control Sheet'!E7&\" (\"&'Control Sheet'!F7&\")\")","v":""},"","","","","","","","","","","","","","","","","","","","","","","","","","","","","","","","","","","","","","","","","","","","","","","","","","","","","","","","",{"$f":"IF(A27=\"\",\"\",MAX(IF(ISERROR(AU27:BF27),0,AU27:BF27)))","v":""},"","","","","","","","","","","","","","","","","","","","","","","","","","","","","","","","","","","","","","","","","","","","",""]
[{"$f":"IF(ISBLANK('Control Sheet'!D8),\"\",'Control Sheet'!D8)","v":""},{"$f":"IF(ISBLANK('Control Sheet'!E8),\"\",'Control Sheet'!E8&\" (\"&'Control Sheet'!F8&\")\")","v":""},"","","","","","","","","","","","","","","","","","","","","","","","","","","","","","","","","","","","","","","","","","","","","","","","","","","","","","","","",{"$f":"IF(A28=\"\",\"\",MAX(IF(ISERROR(AU28:BF28),0,AU28:BF28)))","v":""},"","","","","","","","","","","","","","","","","","","","","","","","","","","","","","","","","","","","","","","","","","","","",""]
[{"$f":"IF(ISBLANK('Control Sheet'!D9),\"\",'Control Sheet'!D9)","v":""},{"$f":"IF(ISBLANK('Control Sheet'!E9),\"\",'Control Sheet'!E9&\" (\"&'Control Sheet'!F9&\")\")","v":""},"","","","","","","","","","","","","","","","","","","","","","","","","","","","","","","","","","","","","","","","","","","","","","","","","","","","","","","","",{"$f":"IF(A29=\"\",\"\",MAX(IF(ISERROR(AU29:BF29),0,AU29:BF29)))","v":""},"","","","","","","","","","","","","","","","","","","","","","","","","","","","","","","","","","","","","","","","","","","","",""]
[{"$f":"IF(ISBLANK('Control Sheet'!D10),\"\",'Control Sheet'!D10)","v":""},{"$f":"IF(ISBLANK('Control Sheet'!E10),\"\",'Control Sheet'!E10&\" (\"&'Control Sheet'!F10&\")\")","v":""},"","","","","","","","","","","","","","","","","","","","","","","","","","","","","","","","","","","","","","","","","","","","","","","","","","","","","","","","",{"$f":"IF(A30=\"\",\"\",MAX(IF(ISERROR(AU30:BF30),0,AU30:BF30)))","v":""},"","","","","","","","","","","","","","","","","","","","","","","","","","","","","","","","","","","","","","","","","","","","",""]
[{"$f":"IF(ISBLANK('Control Sheet'!D11),\"\",'Control Sheet'!D11)","v":""},{"$f":"IF(ISBLANK('Control Sheet'!E11),\"\",'Control Sheet'!E11&\" (\"&'Control Sheet'!F11&\")\")","v":""},{"$f":"IF(C$18=1,IF(ISNA(VLOOKUP($A31,INDIRECT(C$20),Abated_col,FALSE)),\"\",VLOOKUP($A31,INDIRECT(C$20),Abated_col,FALSE)),\"\")","v":""},"","","","","","","","","","","","","","","","","","","","","","","","","","","","","","","","","","","","","","","","","","","","","","","","","","","","","","","",{"$f":"IF(A31=\"\",\"\",MAX(IF(ISERROR(AU31:BF31),0,AU31:BF31)))","v":""},"","","","","","","","","","","","","","","","","","","","","","","","","","","","","","","","","","","","","","","","","","","","",""]
[{"$f":"IF(ISBLANK('Control Sheet'!D12),\"\",'Control Sheet'!D12)","v":""},{"$f":"IF(ISBLANK('Control Sheet'!E12),\"\",'Control Sheet'!E12&\" (\"&'Control Sheet'!F12&\")\")","v":""},"","","","","","","","","","","","","","","","","","","","","","","","","","","","","","","","","","","","","","","","","","","","","","","","","","","","","","","","",{"$f":"IF(A32=\"\",\"\",MAX(IF(ISERROR(AU32:BF32),0,AU32:BF32)))","v":""},"","","","","","","","","","","","","","","","","","","","","","","","","","","","","","","","","","","","","","","","","","","","",""]
[{"$f":"IF(ISBLANK('Control Sheet'!D13),\"\",'Control Sheet'!D13)","v":""},{"$f":"IF(ISBLANK('Control Sheet'!E13),\"\",'Control Sheet'!E13&\" (\"&'Control Sheet'!F13&\")\")","v":""},"","","","","","","","","","","","","","","","","","","","","","","","","","","","","","","","","","","","","","","","","","","","","","","","","","","","","","","","",{"$f":"IF(A33=\"\",\"\",MAX(IF(ISERROR(AU33:BF33),0,AU33:BF33)))","v":""},"","","","","","","","","","","","","","","","","","","","","","","","","","","","","","","","","","","","","","","","","","","","",""]
[{"$f":"IF(ISBLANK('Control Sheet'!D14),\"\",'Control Sheet'!D14)","v":""},{"$f":"IF(ISBLANK('Control Sheet'!E14),\"\",'Control Sheet'!E14&\" (\"&'Control Sheet'!F14&\")\")","v":""},"","","","","","","","","","","","","","","","","","","","","","","","","","","","","","","","","","","","","","","","","","","","","","","","","","","","","","","","",{"$f":"IF(A34=\"\",\"\",MAX(IF(ISERROR(AU34:BF34),0,AU34:BF34)))","v":""},"","","","","","","","","","","","","","","","","","","","","","","","","","","","","","","","","","","","","","","","","","","","",""]
[{"$f":"IF(ISBLANK('Control Sheet'!D15),\"\",'Control Sheet'!D15)","v":""},{"$f":"IF(ISBLANK('Control Sheet'!E15),\"\",'Control Sheet'!E15&\" (\"&'Control Sheet'!F15&\")\")","v":""},"","","","","","","","","","","","","","","","","","","","","","","","","","","","","","","","","","","","","","","","","","","","","","","","","","","","","","","","",{"$f":"IF(A35=\"\",\"\",MAX(IF(ISERROR(AU35:BF35),0,AU35:BF35)))","v":""},"","","","","","","","","","","","","","","","","","","","","","","","","","","","","","","","","","","","","","","","","","","","",""]
[{"$f":"IF(ISBLANK('Control Sheet'!D16),\"\",'Control Sheet'!D16)","v":""},{"$f":"IF(ISBLANK('Control Sheet'!E16),\"\",'Control Sheet'!E16&\" (\"&'Control Sheet'!F16&\")\")","v":""},"","","","","","","","","","","","","","","","","","","","","","","","","","","","","","","","","","","","","","","","","","","","","","","","","","","","","","","","",{"$f":"IF(A36=\"\",\"\",MAX(IF(ISERROR(AU36:BF36),0,AU36:BF36)))","v":""},"","","","","","","","","","","","","","","","","","","","","","","","","","","","","","","","","","","","","","","","","","","","",""]
[{"$f":"IF(ISBLANK('Control Sheet'!D17),\"\",'Control Sheet'!D17)","v":""},{"$f":"IF(ISBLANK('Control Sheet'!E17),\"\",'Control Sheet'!E17&\" (\"&'Control Sheet'!F17&\")\")","v":""},"","","","","","","","","","","","","","","","","","","","","","","","","","","","","","","","","","","","","","","","","","","","","","","","","","","","","","","","",{"$f":"IF(A37=\"\",\"\",MAX(IF(ISERROR(AU37:BF37),0,AU37:BF37)))","v":""},"","","","","","","","","","","","","","","","","","","","","","","","","","","","","","","","","","","","","","","","","","","","",""]
[{"$f":"IF(ISBLANK('Control Sheet'!D18),\"\",'Control Sheet'!D18)","v":""},{"$f":"IF(ISBLANK('Control Sheet'!E18),\"\",'Control Sheet'!E18&\" (\"&'Control Sheet'!F18&\")\")","v":""},"","","","","","","","","","","","","","","","","","","","","","","","","","","","","","","","","","","","","","","","","","","","","","","","","","","","","","","","",{"$f":"IF(A38=\"\",\"\",MAX(IF(ISERROR(AU38:BF38),0,AU38:BF38)))","v":""},"","","","","","","","","","","","","","","","","","","","","","","","","","","","","","","","","","","","","","","","","","","","",""]
[{"$f":"IF(ISBLANK('Control Sheet'!D19),\"\",'Control Sheet'!D19)","v":""},{"$f":"IF(ISBLANK('Control Sheet'!E19),\"\",'Control Sheet'!E19&\" (\"&'Control Sheet'!F19&\")\")","v":""},"","","","","","","","","","","","","","","","","","","","","","","","","","","","","","","","","","","","","","","","","","","","","","","","","","","","","","","","",{"$f":"IF(A39=\"\",\"\",MAX(IF(ISERROR(AU39:BF39),0,AU39:BF39)))","v":""},"","","","","","","","","","","","","","","","","","","","","","","","","","","","","","","","","","","","","","","","","","","","",""]
[{"$f":"IF(ISBLANK('Control Sheet'!D20),\"\",'Control Sheet'!D20)","v":""},{"$f":"IF(ISBLANK('Control Sheet'!E20),\"\",'Control Sheet'!E20&\" (\"&'Control Sheet'!F20&\")\")","v":""},"","","","","","","","","","","","","","","","","","","","","","","","","","","","","","","","","","","","","","","","","","","","","","","","","","","","","","","","",{"$f":"IF(A40=\"\",\"\",MAX(IF(ISERROR(AU40:BF40),0,AU40:BF40)))","v":""},"","","","","","","","","","","","","","","","","","","","","","","","","","","","","","","","","","","","","","","","","","","","",""]
[{"$f":"IF(ISBLANK('Control Sheet'!D21),\"\",'Control Sheet'!D21)","v":""},{"$f":"IF(ISBLANK('Control Sheet'!E21),\"\",'Control Sheet'!E21&\" (\"&'Control Sheet'!F21&\")\")","v":""},{"$f":"IF(C$18=1,IF(ISNA(VLOOKUP($A41,INDIRECT(C$20),Abated_col,FALSE)),\"\",VLOOKUP($A41,INDIRECT(C$20),Abated_col,FALSE)),\"\")","v":""},"","","","","","","","","","","","","","","","","","","","","","","","","","","","","","","","","","","","","","","","","","","","","","","","","","","","","","","",{"$f":"IF(A41=\"\",\"\",MAX(IF(ISERROR(AU41:BF41),0,AU41:BF41)))","v":""},"","","","","","","","","","","","","","","","","","","","","","","","","","","","","","","","","","","","","","","","","","","","",""]
[{"$f":"IF(ISBLANK('Control Sheet'!D22),\"\",'Control Sheet'!D22)","v":""},{"$f":"IF(ISBLANK('Control Sheet'!E22),\"\",'Control Sheet'!E22&\" (\"&'Control Sheet'!F22&\")\")","v":""},"","","","","","","","","","","","","","","","","","","","","","","","","","","","","","","","","","","","","","","","","","","","","","","","","","","","","","","","",{"$f":"IF(A42=\"\",\"\",MAX(IF(ISERROR(AU42:BF42),0,AU42:BF42)))","v":""},"","","","","","","","","","","","","","","","","","","","","","",{"$f":"IF(F$18=1,IF(ISNA(VLOOKUP($A42,INDIRECT(F$20),MUR_fee_col,FALSE)),\"\",VLOOKUP($A42,INDIRECT(F$20),MUR_fee_col,FALSE)),\"\")","v":""},"","","","","","","","","","","","",{"$f":"IF(F$18=1,IF(ISNA(VLOOKUP($A42,INDIRECT(F$20),MUR_Fee_adj_col,FALSE)),\"\",VLOOKUP($A42,INDIRECT(F$20),MUR_Fee_adj_col,FALSE)),\"\")","v":""},"","","","","","","","",""]
[{"$f":"IF(ISBLANK('Control Sheet'!D23),\"\",'Control Sheet'!D23)","v":""},{"$f":"IF(ISBLANK('Control Sheet'!E23),\"\",'Control Sheet'!E23&\" (\"&'Control Sheet'!F23&\")\")","v":""},"","","","","","","","","","","","","","","","","","","","","","","","","","","","","","","","","","","","","","","","","","","","","","","","","","","","","","","","",{"$f":"IF(A43=\"\",\"\",MAX(IF(ISERROR(AU43:BF43),0,AU43:BF43)))","v":""},"","","","","","","","","","","","","","","","","","","",{"$f":"IF(C$18=1,IF(ISNA(VLOOKUP($A43,INDIRECT(C$20),MUR_fee_col,FALSE)),\"\",VLOOKUP($A43,INDIRECT(C$20),MUR_fee_col,FALSE)),\"\")","v":""},"","","","","","","","","","","","",{"$f":"IF(C$18=1,IF(ISNA(VLOOKUP($A43,INDIRECT(C$20),MUR_Fee_adj_col,FALSE)),\"\",VLOOKUP($A43,INDIRECT(C$20),MUR_Fee_adj_col,FALSE)),\"\")","v":""},"","","","","","","","","","","",""]
[{"$f":"IF(ISBLANK('Control Sheet'!D24),\"\",'Control Sheet'!D24)","v":""},{"$f":"IF(ISBLANK('Control Sheet'!E24),\"\",'Control Sheet'!E24&\" (\"&'Control Sheet'!F24&\")\")","v":""},"","","","","","","","","","","","","","","","","","","","","","","","","","","","","","","","","","","","","","","","","","","","","","","","","","","","","","","","",{"$f":"IF(A44=\"\",\"\",MAX(IF(ISERROR(AU44:BF44),0,AU44:BF44)))","v":""},"","","","","","","","","","","","","","","","","","","","","","","","","","","","","","","","","","","","","","","","","","","","",""]
[{"$f":"IF(ISBLANK('Control Sheet'!D25),\"\",'Control Sheet'!D25)","v":""},{"$f":"IF(ISBLANK('Control Sheet'!E25),\"\",'Control Sheet'!E25&\" (\"&'Control Sheet'!F25&\")\")","v":""},"","","","","","","","","","","","","","","","","","","","","","","","","","","","","","","","","","","","","","","","","","","","","","","","","","","","","","","","",{"$f":"IF(A45=\"\",\"\",MAX(IF(ISERROR(AU45:BF45),0,AU45:BF45)))","v":""},"","","","","","","","","","","","","","","","","","","","","","","","","","","","","","","","","","","","","","","","","","","","",""]
[{"$f":"IF(ISBLANK('Control Sheet'!D26),\"\",'Control Sheet'!D26)","v":""},{"$f":"IF(ISBLANK('Control Sheet'!E26),\"\",'Control Sheet'!E26&\" (\"&'Control Sheet'!F26&\")\")","v":""},"","","","","","","","","","","","","","","","","","","","","","","","","","","","","","","","","","","","","","","","","","","","","","","","","","","","","","","","",{"$f":"IF(A46=\"\",\"\",MAX(IF(ISERROR(AU46:BF46),0,AU46:BF46)))","v":""},"","","","","","","","","","","","","","","","","","","","","","","","","","","","","","","","","","","","","","","","","","","","",""]
[{"$f":"IF(ISBLANK('Control Sheet'!D27),\"\",'Control Sheet'!D27)","v":""},{"$f":"IF(ISBLANK('Control Sheet'!E27),\"\",'Control Sheet'!E27&\" (\"&'Control Sheet'!F27&\")\")","v":""},"","","","","","","","","","","","","","","","","","","","","","","","","","","","","","","","","","","","","","","","","","","","","","","","","","","","","","","","",{"$f":"IF(A47=\"\",\"\",MAX(IF(ISERROR(AU47:BF47),0,AU47:BF47)))","v":""},"","","","","","","","","","","","","","","","","","","","","","","","","","","","","","","","","","","","","","","","","","","","",""]
[{"$f":"IF(ISBLANK('Control Sheet'!D28),\"\",'Control Sheet'!D28)","v":""},{"$f":"IF(ISBLANK('Control Sheet'!E28),\"\",'Control Sheet'!E28&\" (\"&'Control Sheet'!F28&\")\")","v":""},"","","","","","","","","","","","","","","","","","","","","","","","","","","","","","","","","","","","","","","","","","","","","","","","","","","","","","","","",{"$f":"IF(A48=\"\",\"\",MAX(IF(ISERROR(AU48:BF48),0,AU48:BF48)))","v":""},"","","","","","","","","","","","","","","","","","","","","","","","","","","","","","","","","","","","","","","","","","","","",""]
[{"$f":"IF(ISBLANK('Control Sheet'!D29),\"\",'Control Sheet'!D29)","v":""},{"$f":"IF(ISBLANK('Control Sheet'!E29),\"\",'Control Sheet'!E29&\" (\"&'Control Sheet'!F29&\")\")","v":""},"","","","","","","","","","","","","","","","","","","","","","","","","","","","","","","","","","","","","","","","","","","","","","","","","","","","","","","","",{"$f":"IF(A49=\"\",\"\",MAX(IF(ISERROR(AU49:BF49),0,AU49:BF49)))","v":""},"","","","","","","","","","","","","","","","","","","","","","","","","","","","","","","","","","","","","","","","","","","","",""]
[{"$f":"IF(ISBLANK('Control Sheet'!D30),\"\",'Control Sheet'!D30)","v":""},{"$f":"IF(ISBLANK('Control Sheet'!E30),\"\",'Control Sheet'!E30&\" (\"&'Control Sheet'!F30&\")\")","v":""},"","","","","","","","","","","","","","","","","","","","","","","","","","","","","","","","","","","","","","","","","","","","","","","","","","","","","","","","",{"$f":"IF(A50=\"\",\"\",MAX(IF(ISERROR(AU50:BF50),0,AU50:BF50)))","v":""},"","","","","","","","","","","","","","","","","","","","","","","","","","","","","","","","","","","","","","","","","","","","",""]
[{"$f":"IF(ISBLANK('Control Sheet'!D31),\"\",'Control Sheet'!D31)","v":""},{"$f":"IF(ISBLANK('Control Sheet'!E31),\"\",'Control Sheet'!E31&\" (\"&'Control Sheet'!F31&\")\")","v":""},{"$f":"IF(C$18=1,IF(ISNA(VLOOKUP($A51,INDIRECT(C$20),Abated_col,FALSE)),\"\",VLOOKUP($A51,INDIRECT(C$20),Abated_col,FALSE)),\"\")","v":""},"","","","","","","","","","","","","","","","","","","","","","","","","","","","","","","","","","","","","","","","","","","","","","","","","","","","","","","",{"$f":"IF(A51=\"\",\"\",MAX(IF(ISERROR(AU51:BF51),0,AU51:BF51)))","v":""},"","","","","","","","","","","","","","","","","","","","","","","","","","","","","","","","","","","","","","","","","","","","",""]
[{"$f":"IF(ISBLANK('Control Sheet'!D32),\"\",'Control Sheet'!D32)","v":""},{"$f":"IF(ISBLANK('Control Sheet'!E32),\"\",'Control Sheet'!E32&\" (\"&'Control Sheet'!F32&\")\")","v":""},"","","","","","","","","","","","","","","","","","","","","","","","","","","","","","","","","","","","","","","","","","","","","","","","","","","","","","","","",{"$f":"IF(A52=\"\",\"\",MAX(IF(ISERROR(AU52:BF52),0,AU52:BF52)))","v":""},"","","","","","","","","","","","","","","","","","","","","","","","","","","","","","","","","","","","","","","","","","","","",""]
[{"$f":"IF(ISBLANK('Control Sheet'!D33),\"\",'Control Sheet'!D33)","v":""},{"$f":"IF(ISBLANK('Control Sheet'!E33),\"\",'Control Sheet'!E33&\" (\"&'Control Sheet'!F33&\")\")","v":""},"","","","","","","","","","","","","","","","","","","","","","","","","","","","","","","","","","","","","","","","","","","","","","","","","","","","","","","","",{"$f":"IF(A53=\"\",\"\",MAX(IF(ISERROR(AU53:BF53),0,AU53:BF53)))","v":""},"","","","","","","","","","","","","","","","","","","","","","","","","","","","","","","","","","","","","","","","","","","","",""]
[{"$f":"IF(ISBLANK('Control Sheet'!D34),\"\",'Control Sheet'!D34)","v":""},{"$f":"IF(ISBLANK('Control Sheet'!E34),\"\",'Control Sheet'!E34&\" (\"&'Control Sheet'!F34&\")\")","v":""},"","","","","","","","","","","","","","","","","","","","","","","","","","","","","","","","","","","","","","","","","","","","","","","","","","","","","","","","",{"$f":"IF(A54=\"\",\"\",MAX(IF(ISERROR(AU54:BF54),0,AU54:BF54)))","v":""},"","","","","","","","","","","","","","","","","","","","","","","","","","","","","","","","","","","","","","","","","","","","",""]
[{"$f":"IF(ISBLANK('Control Sheet'!D35),\"\",'Control Sheet'!D35)","v":""},{"$f":"IF(ISBLANK('Control Sheet'!E35),\"\",'Control Sheet'!E35&\" (\"&'Control Sheet'!F35&\")\")","v":""},"","","","","","","","","","","","","","","","","","","","","","","","","","","","","","","","","","","","","","","","","","","","","","","","","","","","","","","","",{"$f":"IF(A55=\"\",\"\",MAX(IF(ISERROR(AU55:BF55),0,AU55:BF55)))","v":""},"","","","","","","","","","","","","","","","","","","","","","","","","","","","","","","","","","","","","","","","","","","","",""]
[{"$f":"IF(ISBLANK('Control Sheet'!D36),\"\",'Control Sheet'!D36)","v":""},{"$f":"IF(ISBLANK('Control Sheet'!E36),\"\",'Control Sheet'!E36&\" (\"&'Control Sheet'!F36&\")\")","v":""},"","","","","","","","","","","","","","","","","","","","","","","","","","","","","","","","","","","","","","","","","","","","","","","","","","","","","","","","",{"$f":"IF(A56=\"\",\"\",MAX(IF(ISERROR(AU56:BF56),0,AU56:BF56)))","v":""},"","","","","","","","","","","","","","","","","","","","","","","","","","","","","","","","","","","","","","","","","","","","",""]
[{"$f":"IF(ISBLANK('Control Sheet'!D37),\"\",'Control Sheet'!D37)","v":""},{"$f":"IF(ISBLANK('Control Sheet'!E37),\"\",'Control Sheet'!E37&\" (\"&'Control Sheet'!F37&\")\")","v":""},"","","","","","","","","","","","","","","","","","","","","","","","","","","","","","","","","","","","","","","","","","","","","","","","","","","","","","","","",{"$f":"IF(A57=\"\",\"\",MAX(IF(ISERROR(AU57:BF57),0,AU57:BF57)))","v":""},"","","","","","","","","","","","","","","","","","","","","","","","","","","","","","","","","","","","","","","","","","","","",""]
[{"$f":"IF(ISBLANK('Control Sheet'!D38),\"\",'Control Sheet'!D38)","v":""},{"$f":"IF(ISBLANK('Control Sheet'!E38),\"\",'Control Sheet'!E38&\" (\"&'Control Sheet'!F38&\")\")","v":""},"","","","","","","","","","","","","","","","","","","","","","","","","","","","","","","","","","","","","","","","","","","","","","","","","","","","","","","","",{"$f":"IF(A58=\"\",\"\",MAX(IF(ISERROR(AU58:BF58),0,AU58:BF58)))","v":""},"","","","","","","","","","","","","","","","","","","","","","","","","","","","","","","","","","","","","","","","","","","","",""]
[{"$f":"IF(ISBLANK('Control Sheet'!D39),\"\",'Control Sheet'!D39)","v":""},{"$f":"IF(ISBLANK('Control Sheet'!E39),\"\",'Control Sheet'!E39&\" (\"&'Control Sheet'!F39&\")\")","v":""},"","","","","","","","","","","","","","","","","","","","","","","","","","","","","","","","","","","","","","","","","","","","","","","","","","","","","","","","",{"$f":"IF(A59=\"\",\"\",MAX(IF(ISERROR(AU59:BF59),0,AU59:BF59)))","v":""},"","","","","","","","","","","","","","","","","","","","","","","","","","","","","","","","","","","","","","","","","","","","",""]
[{"$f":"IF(ISBLANK('Control Sheet'!D40),\"\",'Control Sheet'!D40)","v":""},{"$f":"IF(ISBLANK('Control Sheet'!E40),\"\",'Control Sheet'!E40&\" (\"&'Control Sheet'!F40&\")\")","v":""},"","","","","","","","","","","","","","","","","","","","","","","","","","","","","","","","","","","","","","","","","","","","","","","","","","","","","","","","",{"$f":"IF(A60=\"\",\"\",MAX(IF(ISERROR(AU60:BF60),0,AU60:BF60)))","v":""},"","","","","","","","","","","","","","","","","","","","","","","","","","","","","","","","","","","","","","","","","","","","",""]
[{"$f":"IF(ISBLANK('Control Sheet'!D41),\"\",'Control Sheet'!D41)","v":""},{"$f":"IF(ISBLANK('Control Sheet'!E41),\"\",'Control Sheet'!E41&\" (\"&'Control Sheet'!F41&\")\")","v":""},{"$f":"IF(C$18=1,IF(ISNA(VLOOKUP($A61,INDIRECT(C$20),Abated_col,FALSE)),\"\",VLOOKUP($A61,INDIRECT(C$20),Abated_col,FALSE)),\"\")","v":""},"","","","","","","","","","","","","","","","","","","","","","","","","","","","","","","","","","","","","","","","","","","","","","","","","","","","","","","",{"$f":"IF(A61=\"\",\"\",MAX(IF(ISERROR(AU61:BF61),0,AU61:BF61)))","v":""},"","","","","","","","","","","","","","","","","","","","","","","","","","","","","","","","","","","","","","","","","","","","",""]
[{"$f":"IF(ISBLANK('Control Sheet'!D42),\"\",'Control Sheet'!D42)","v":""},{"$f":"IF(ISBLANK('Control Sheet'!E42),\"\",'Control Sheet'!E42&\" (\"&'Control Sheet'!F42&\")\")","v":""},"","","","","","","","","","","","","","","","","","","","","","","","","","","","","","","","","","","","","","","","","","","","","","","","","","","","","","","","",{"$f":"IF(A62=\"\",\"\",MAX(IF(ISERROR(AU62:BF62),0,AU62:BF62)))","v":""},"","","","","","","","","","","","","","","","","","","","","","","","","","","","","","","","","","","","","","","","","","","","",""]
[{"$f":"IF(ISBLANK('Control Sheet'!D43),\"\",'Control Sheet'!D43)","v":""},{"$f":"IF(ISBLANK('Control Sheet'!E43),\"\",'Control Sheet'!E43&\" (\"&'Control Sheet'!F43&\")\")","v":""},"","","","","","","","","","","","","","","","","","","","","","","","","","","","","","","","","","","","","","","","","","","","","","","","","","","","","","","","",{"$f":"IF(A63=\"\",\"\",MAX(IF(ISERROR(AU63:BF63),0,AU63:BF63)))","v":""},"","","","","","","","","","","","","","","","","","","","","","","","","","","","","","","","","","","","","","","","","","","","",""]
[{"$f":"IF(ISBLANK('Control Sheet'!D44),\"\",'Control Sheet'!D44)","v":""},{"$f":"IF(ISBLANK('Control Sheet'!E44),\"\",'Control Sheet'!E44&\" (\"&'Control Sheet'!F44&\")\")","v":""},"","","","","","","","","","","","","","","","","","","","","","","","","","","","","","","","","","","","","","","","","","","","","","","","","","","","","","","","",{"$f":"IF(A64=\"\",\"\",MAX(IF(ISERROR(AU64:BF64),0,AU64:BF64)))","v":""},"","","","","","","","","","","","","","","","","","","","","","","","","","","","","","","","","","","","","","","","","","","","",""]
[{"$f":"IF(ISBLANK('Control Sheet'!D45),\"\",'Control Sheet'!D45)","v":""},{"$f":"IF(ISBLANK('Control Sheet'!E45),\"\",'Control Sheet'!E45&\" (\"&'Control Sheet'!F45&\")\")","v":""},"","","","","","","","","","","","","","","","","","","","","","","","","","","","","","","","","","","","","","","","","","","","","","","","","","","","","","","","",{"$f":"IF(A65=\"\",\"\",MAX(IF(ISERROR(AU65:BF65),0,AU65:BF65)))","v":""},"","","","","","","","","","","","","","","","","","","","","","","","","","","","","","","","","","","","","","","","","","","","",""]
[{"$f":"IF(ISBLANK('Control Sheet'!D46),\"\",'Control Sheet'!D46)","v":""},{"$f":"IF(ISBLANK('Control Sheet'!E46),\"\",'Control Sheet'!E46&\" (\"&'Control Sheet'!F46&\")\")","v":""},"","","","","","","","","","","","","","","","","","","","","","","","","","","","","","","","","","","","","","","","","","","","","","","","","","","","","","","","",{"$f":"IF(A66=\"\",\"\",MAX(IF(ISERROR(AU66:BF66),0,AU66:BF66)))","v":""},"","","","","","","","","","","","","","","","","","","","","","","","","","","","","","","","","","","","","","","","","","","","",""]
[{"$f":"IF(ISBLANK('Control Sheet'!D47),\"\",'Control Sheet'!D47)","v":""},{"$f":"IF(ISBLANK('Control Sheet'!E47),\"\",'Control Sheet'!E47&\" (\"&'Control Sheet'!F47&\")\")","v":""},"","","","","","","","","","","","","","","","","","","","","","","","","","","","","","","","","","","","","","","","","","","","","","","","","","","","","","","","",{"$f":"IF(A67=\"\",\"\",MAX(IF(ISERROR(AU67:BF67),0,AU67:BF67)))","v":""},"","","","","","","","","","","","","","","","","","","","","","","","","","","","","","","","","","","","","","","","","","","","",""]
[{"$f":"IF(ISBLANK('Control Sheet'!D48),\"\",'Control Sheet'!D48)","v":""},{"$f":"IF(ISBLANK('Control Sheet'!E48),\"\",'Control Sheet'!E48&\" (\"&'Control Sheet'!F48&\")\")","v":""},"","","","","","","","","","","","","","","","","","","","","","","","","","","","","","","","","","","","","","","","","","","","","","","","","","","","","","","","",{"$f":"IF(A68=\"\",\"\",MAX(IF(ISERROR(AU68:BF68),0,AU68:BF68)))","v":""},"","","","","","","","","","","","","","","","","","","","","","","","","","","","","","","","","","","","","","","","","","","","",""]
[{"$f":"IF(ISBLANK('Control Sheet'!D49),\"\",'Control Sheet'!D49)","v":""},{"$f":"IF(ISBLANK('Control Sheet'!E49),\"\",'Control Sheet'!E49&\" (\"&'Control Sheet'!F49&\")\")","v":""},"","","","","","","","","","","","","","","","","","","","","","","","","","","","","","","","","","","","","","","","","","","","","","","","","","","","","","","","",{"$f":"IF(A69=\"\",\"\",MAX(IF(ISERROR(AU69:BF69),0,AU69:BF69)))","v":""},"","","","","","","","","","","","","","","","","","","","","","","","","","","","","","","","","","","","","","","","","","","","",""]
[{"$f":"IF(ISBLANK('Control Sheet'!D50),\"\",'Control Sheet'!D50)","v":""},{"$f":"IF(ISBLANK('Control Sheet'!E50),\"\",'Control Sheet'!E50&\" (\"&'Control Sheet'!F50&\")\")","v":""},"","","","","","","","","","","","","","","","","","","","","","","","","","","","","","","","","","","","","","","","","","","","","","","","","","","","","","","","",{"$f":"IF(A70=\"\",\"\",MAX(IF(ISERROR(AU70:BF70),0,AU70:BF70)))","v":""},"","","","","","","","","","","","","","","","","","","","","","","","","",{"$f":"IF(I$18=1,IF(ISNA(VLOOKUP($A70,INDIRECT(I$20),MUR_fee_col,FALSE)),\"\",VLOOKUP($A70,INDIRECT(I$20),MUR_fee_col,FALSE)),\"\")","v":""},"","","","","","","","","","","","",{"$f":"IF(I$18=1,IF(ISNA(VLOOKUP($A70,INDIRECT(I$20),MUR_Fee_adj_col,FALSE)),\"\",VLOOKUP($A70,INDIRECT(I$20),MUR_Fee_adj_col,FALSE)),\"\")","v":""},"","","","","",""]
[{"$f":"IF(ISBLANK('Control Sheet'!D51),\"\",'Control Sheet'!D51)","v":""},{"$f":"IF(ISBLANK('Control Sheet'!E51),\"\",'Control Sheet'!E51&\" (\"&'Control Sheet'!F51&\")\")","v":""},{"$f":"IF(C$18=1,IF(ISNA(VLOOKUP($A71,INDIRECT(C$20),Abated_col,FALSE)),\"\",VLOOKUP($A71,INDIRECT(C$20),Abated_col,FALSE)),\"\")","v":""},"","","","","","","","","","","","","","","","","","","","","","","","","","","","","","","","","","","","","","","","","","","","","","","","","","","","","","","",{"$f":"IF(A71=\"\",\"\",MAX(IF(ISERROR(AU71:BF71),0,AU71:BF71)))","v":""},"","","","","","","","","","","","","","","","","","","","","","","","","","","","","","","","","","","","","","","","","","","","",""]
[{"$f":"IF(ISBLANK('Control Sheet'!D52),\"\",'Control Sheet'!D52)","v":""},{"$f":"IF(ISBLANK('Control Sheet'!E52),\"\",'Control Sheet'!E52&\" (\"&'Control Sheet'!F52&\")\")","v":""},"","","","","","","","","","","","","","","","","","","","","","","","","","","","","","","","","","","","","","","","","","","","","","","","","","","","","","","","",{"$f":"IF(A72=\"\",\"\",MAX(IF(ISERROR(AU72:BF72),0,AU72:BF72)))","v":""},"","","","","","","","","","","","","","","","","","","","","","","","","","","","","","","","","","","","","","","","","","","","",""]
[{"$f":"IF(ISBLANK('Control Sheet'!D53),\"\",'Control Sheet'!D53)","v":""},{"$f":"IF(ISBLANK('Control Sheet'!E53),\"\",'Control Sheet'!E53&\" (\"&'Control Sheet'!F53&\")\")","v":""},"","","","","","","","","","","","","","","","","","","","","","","","","","","","","","","","","","","","","","","","","","","","","","","","","","","","","","","","",{"$f":"IF(A73=\"\",\"\",MAX(IF(ISERROR(AU73:BF73),0,AU73:BF73)))","v":""},"","","","","","","","","","","","","","","","","","","","","","","","","","","","","","","","","","","","","","","","","","","","",""]
[{"$f":"IF(ISBLANK('Control Sheet'!D54),\"\",'Control Sheet'!D54)","v":""},{"$f":"IF(ISBLANK('Control Sheet'!E54),\"\",'Control Sheet'!E54&\" (\"&'Control Sheet'!F54&\")\")","v":""},"","","","","","","","","","","","","","","","","","","","","","","","","","","","","","","","","","","","","","","","","","","","","","","","","","","","","","","","",{"$f":"IF(A74=\"\",\"\",MAX(IF(ISERROR(AU74:BF74),0,AU74:BF74)))","v":""},"","","","","","","","","","","","","","","","","","","","","","","","","","","","","","","","","","","","","","","","","","","","",""]
[{"$f":"IF(ISBLANK('Control Sheet'!D55),\"\",'Control Sheet'!D55)","v":""},{"$f":"IF(ISBLANK('Control Sheet'!E55),\"\",'Control Sheet'!E55&\" (\"&'Control Sheet'!F55&\")\")","v":""},"","","","","","","","","","","","","","","","","","","","","","","","","","","","","","","","","","","","","","","","","","","","","","","","","","","","","","","","",{"$f":"IF(A75=\"\",\"\",MAX(IF(ISERROR(AU75:BF75),0,AU75:BF75)))","v":""},"","","","","","","","","","","","","","","","","","","","","","","","","","","","","","","","","","","","","","","","","","","","",""]
[{"$f":"IF(ISBLANK('Control Sheet'!D56),\"\",'Control Sheet'!D56)","v":""},{"$f":"IF(ISBLANK('Control Sheet'!E56),\"\",'Control Sheet'!E56&\" (\"&'Control Sheet'!F56&\")\")","v":""},"","","","","","","","","","","","","","","","","","","","","","","","","","","","","","","","","","","","","","","","","","","","","","","","","","","","","","","","",{"$f":"IF(A76=\"\",\"\",MAX(IF(ISERROR(AU76:BF76),0,AU76:BF76)))","v":""},"","","","","","","","","","","","","","","","","","","","","","","","","","","","","","","","","","","","","","","","","","","","",""]
[{"$f":"IF(ISBLANK('Control Sheet'!D57),\"\",'Control Sheet'!D57)","v":""},{"$f":"IF(ISBLANK('Control Sheet'!E57),\"\",'Control Sheet'!E57&\" (\"&'Control Sheet'!F57&\")\")","v":""},"","","","","","","","","","","","","","","","","","","","","","","","","","","","","","","","","","","","","","","","","","","","","","","","","","","","","","","","",{"$f":"IF(A77=\"\",\"\",MAX(IF(ISERROR(AU77:BF77),0,AU77:BF77)))","v":""},"","","","","","","","","","","","","","","","","","","","","","","","","","","","","","","","","","","","","","","","","","","","",""]
[{"$f":"IF(ISBLANK('Control Sheet'!D58),\"\",'Control Sheet'!D58)","v":""},{"$f":"IF(ISBLANK('Control Sheet'!E58),\"\",'Control Sheet'!E58&\" (\"&'Control Sheet'!F58&\")\")","v":""},"","","","","","","","","","","","","","","","","","","","","","","","","","","","","","","","","","","","","","","","","","","","","","","","","","","","","","","","",{"$f":"IF(A78=\"\",\"\",MAX(IF(ISERROR(AU78:BF78),0,AU78:BF78)))","v":""},"","","","","","","","","","","","","","","","","","","","","","","","","","","","","","","","","","","","","","","","","","","","",""]
[{"$f":"IF(ISBLANK('Control Sheet'!D59),\"\",'Control Sheet'!D59)","v":""},{"$f":"IF(ISBLANK('Control Sheet'!E59),\"\",'Control Sheet'!E59&\" (\"&'Control Sheet'!F59&\")\")","v":""},"","","","","","","","","","","","","","","","","","","","","","","","","","","","","","","","","","","","","","","","","","","","","","","","","","","","","","","","",{"$f":"IF(A79=\"\",\"\",MAX(IF(ISERROR(AU79:BF79),0,AU79:BF79)))","v":""},"","","","","","","","","","","","","","","","","","","","","","","","","","","","","","","","","","","","","","","","","","","","",""]
[{"$f":"IF(ISBLANK('Control Sheet'!D60),\"\",'Control Sheet'!D60)","v":""},{"$f":"IF(ISBLANK('Control Sheet'!E60),\"\",'Control Sheet'!E60&\" (\"&'Control Sheet'!F60&\")\")","v":""},"","","","","","","","","","","","","","","","","","","","","","","","","","","","","","","","","","","","","","","","","","","","","","","","","","","","","","","","",{"$f":"IF(A80=\"\",\"\",MAX(IF(ISERROR(AU80:BF80),0,AU80:BF80)))","v":""},"","","","","","","","","","","","","","","","","","","","","","","","","","","","","","","","","","","","","","","","","","","","",""]
[{"$f":"IF(ISBLANK('Control Sheet'!D61),\"\",'Control Sheet'!D61)","v":""},{"$f":"IF(ISBLANK('Control Sheet'!E61),\"\",'Control Sheet'!E61&\" (\"&'Control Sheet'!F61&\")\")","v":""},{"$f":"IF(C$18=1,IF(ISNA(VLOOKUP($A81,INDIRECT(C$20),Abated_col,FALSE)),\"\",VLOOKUP($A81,INDIRECT(C$20),Abated_col,FALSE)),\"\")","v":""},"","","","","","","","","","","","","","","","","","","","","","","","","","","","","","","","","","","","","","","","","","","","","","","","","","","","","","","",{"$f":"IF(A81=\"\",\"\",MAX(IF(ISERROR(AU81:BF81),0,AU81:BF81)))","v":""},"","","","","","","","","","","","","","","","","","","","","","","","","","","","","","","","","","","","","","","","","","","","",""]
[{"$f":"IF(ISBLANK('Control Sheet'!D62),\"\",'Control Sheet'!D62)","v":""},{"$f":"IF(ISBLANK('Control Sheet'!E62),\"\",'Control Sheet'!E62&\" (\"&'Control Sheet'!F62&\")\")","v":""},"","","","","","","","","","","","","","","","","","","","","","","","","","","","","","","","","","","","","","","","","","","","","","","","","","","","","","","","",{"$f":"IF(A82=\"\",\"\",MAX(IF(ISERROR(AU82:BF82),0,AU82:BF82)))","v":""},"","","","","","","","","","","","","","","","","","","","","","","","","","","","","","","","","","","","","","","","","","","","",""]
[{"$f":"IF(ISBLANK('Control Sheet'!D63),\"\",'Control Sheet'!D63)","v":""},{"$f":"IF(ISBLANK('Control Sheet'!E63),\"\",'Control Sheet'!E63&\" (\"&'Control Sheet'!F63&\")\")","v":""},"","","","","","","","","","","","","","","","","","","","","","","","","","","","","","","","","","","","","","","","","","","","","","","","","","","","","","","","",{"$f":"IF(A83=\"\",\"\",MAX(IF(ISERROR(AU83:BF83),0,AU83:BF83)))","v":""},"","","","","","","","","","","","","","","","","","","","","","","","","","","","","","","","","","","","","","","","","","","","",""]
[{"$f":"IF(ISBLANK('Control Sheet'!D64),\"\",'Control Sheet'!D64)","v":""},{"$f":"IF(ISBLANK('Control Sheet'!E64),\"\",'Control Sheet'!E64&\" (\"&'Control Sheet'!F64&\")\")","v":""},"","","","","","","","","","","","","","","","","","","","","","","","","","","","","","","","","","","","","","","","","","","","","","","","","","","","","","","","",{"$f":"IF(A84=\"\",\"\",MAX(IF(ISERROR(AU84:BF84),0,AU84:BF84)))","v":""},"","","","","","","","","","","","","","","","","","","","","","","","","","","","","","","","","","","","","","","","","","","","",""]
[{"$f":"IF(ISBLANK('Control Sheet'!D65),\"\",'Control Sheet'!D65)","v":""},{"$f":"IF(ISBLANK('Control Sheet'!E65),\"\",'Control Sheet'!E65&\" (\"&'Control Sheet'!F65&\")\")","v":""},"","","","","","","","","","","","",{"$f":"IF(A85=\"\",\"\",SUM(C85:N85))","v":""},{"$f":"IF(A85=\"\",\"\",IF($O$18=12,SUM(C85:N85),AVERAGE(C85:O85)*(12-$O$18)))","v":""},{"$f":"IF(A85=\"\",\"\",IF(P85<=400,\"No\",\"Yes\"))","v":""},{"$f":"IF(A85=\"\",\"\",MURMonthsPop-(COUNTA(C85:N85)-COUNTBLANK(C85:N85)))","v":""},{"$f":"IF(C$18=1,IF(ISNA(VLOOKUP($A85,INDIRECT(C$20),MIS_Count_col,FALSE)),\"\",VLOOKUP($A85,INDIRECT(C$20),MIS_Count_col,FALSE)),\"\")","v":""},{"$f":"IF(D$18=1,IF(ISNA(VLOOKUP($A85,INDIRECT(D$20),MIS_Count_col,FALSE)),\"\",VLOOKUP($A85,INDIRECT(D$20),MIS_Count_col,FALSE)),\"\")","v":""},{"$f":"IF(E$18=1,IF(ISNA(VLOOKUP($A85,INDIRECT(E$20),MIS_Count_col,FALSE)),\"\",VLOOKUP($A85,INDIRECT(E$20),MIS_Count_col,FALSE)),\"\")","v":""},{"$f":"IF(F$18=1,IF(ISNA(VLOOKUP($A85,INDIRECT(F$20),MIS_Count_col,FALSE)),\"\",VLOOKUP($A85,INDIRECT(F$20),MIS_Count_col,FALSE)),\"\")","v":""},{"$f":"IF(G$18=1,IF(ISNA(VLOOKUP($A85,INDIRECT(G$20),MIS_Count_col,FALSE)),\"\",VLOOKUP($A85,INDIRECT(G$20),MIS_Count_col,FALSE)),\"\")","v":""},{"$f":"IF(H$18=1,IF(ISNA(VLOOKUP($A85,INDIRECT(H$20),MIS_Count_col,FALSE)),\"\",VLOOKUP($A85,INDIRECT(H$20),MIS_Count_col,FALSE)),\"\")","v":""},{"$f":"IF(I$18=1,IF(ISNA(VLOOKUP($A85,INDIRECT(I$20),MIS_Count_col,FALSE)),\"\",VLOOKUP($A85,INDIRECT(I$20),MIS_Count_col,FALSE)),\"\")","v":""},{"$f":"IF(J$18=1,IF(ISNA(VLOOKUP($A85,INDIRECT(J$20),MIS_Count_col,FALSE)),\"\",VLOOKUP($A85,INDIRECT(J$20),MIS_Count_col,FALSE)),\"\")","v":""},{"$f":"IF(K$18=1,IF(ISNA(VLOOKUP($A85,INDIRECT(K$20),MIS_Count_col,FALSE)),\"\",VLOOKUP($A85,INDIRECT(K$20),MIS_Count_col,FALSE)),\"\")","v":""},{"$f":"IF(L$18=1,IF(ISNA(VLOOKUP($A85,INDIRECT(L$20),MIS_Count_col,FALSE)),\"\",VLOOKUP($A85,INDIRECT(L$20),MIS_Count_col,FALSE)),\"\")","v":""},{"$f":"IF(M$18=1,IF(ISNA(VLOOKUP($A85,INDIRECT(M$20),MIS_Count_col,FALSE)),\"\",VLOOKUP($A85,INDIRECT(M$20),MIS_Count_col,FALSE)),\"\")","v":""},{"$f":"IF(N$18=1,IF(ISNA(VLOOKUP($A85,INDIRECT(N$20),MIS_Count_col,FALSE)),\"\",VLOOKUP($A85,INDIRECT(N$20),MIS_Count_col,FALSE)),\"\")","v":""},{"$f":"IF(A85=\"\",\"\",SUM(S85:AD85))","v":""},{"$f":"IF(OR(A85=\"\",AE85=0),\"\",AE85/(O$18-R85))","v":""},"","","","","","","","","","","","","",{"$f":"IF(A85=\"\",\"\",MAX(AH85:AS85))","v":""},{"$f":"IF(C$18=1,IF(ISNA(VLOOKUP($A85,INDIRECT(C$20),LPC_Stat_col,FALSE)),\"\",VLOOKUP($A85,INDIRECT(C$20),LPC_Stat_col,FALSE)),\"\")","v":""},{"$f":"IF(D$18=1,IF(ISNA(VLOOKUP($A85,INDIRECT(D$20),LPC_Stat_col,FALSE)),\"\",VLOOKUP($A85,INDIRECT(D$20),LPC_Stat_col,FALSE)),\"\")","v":""},{"$f":"IF(E$18=1,IF(ISNA(VLOOKUP($A85,INDIRECT(E$20),LPC_Stat_col,FALSE)),\"\",VLOOKUP($A85,INDIRECT(E$20),LPC_Stat_col,FALSE)),\"\")","v":""},{"$f":"IF(F$18=1,IF(ISNA(VLOOKUP($A85,INDIRECT(F$20),LPC_Stat_col,FALSE)),\"\",VLOOKUP($A85,INDIRECT(F$20),LPC_Stat_col,FALSE)),\"\")","v":""},{"$f":"IF(G$18=1,IF(ISNA(VLOOKUP($A85,INDIRECT(G$20),LPC_Stat_col,FALSE)),\"\",VLOOKUP($A85,INDIRECT(G$20),LPC_Stat_col,FALSE)),\"\")","v":""},{"$f":"IF(H$18=1,IF(ISNA(VLOOKUP($A85,INDIRECT(H$20),LPC_Stat_col,FALSE)),\"\",VLOOKUP($A85,INDIRECT(H$20),LPC_Stat_col,FALSE)),\"\")","v":""},{"$f":"IF(I$18=1,IF(ISNA(VLOOKUP($A85,INDIRECT(I$20),LPC_Stat_col,FALSE)),\"\",VLOOKUP($A85,INDIRECT(I$20),LPC_Stat_col,FALSE)),\"\")","v":""},{"$f":"IF(J$18=1,IF(ISNA(VLOOKUP($A85,INDIRECT(J$20),LPC_Stat_col,FALSE)),\"\",VLOOKUP($A85,INDIRECT(J$20),LPC_Stat_col,FALSE)),\"\")","v":""},{"$f":"IF(K$18=1,IF(ISNA(VLOOKUP($A85,INDIRECT(K$20),LPC_Stat_col,FALSE)),\"\",VLOOKUP($A85,INDIRECT(K$20),LPC_Stat_col,FALSE)),\"\")","v":""},{"$f":"IF(L$18=1,IF(ISNA(VLOOKUP($A85,INDIRECT(L$20),LPC_Stat_col,FALSE)),\"\",VLOOKUP($A85,INDIRECT(L$20),LPC_Stat_col,FALSE)),\"\")","v":""},{"$f":"IF(M$18=1,IF(ISNA(VLOOKUP($A85,INDIRECT(M$20),LPC_Stat_col,FALSE)),\"\",VLOOKUP($A85,INDIRECT(M$20),LPC_Stat_col,FALSE)),\"\")","v":""},{"$f":"IF(N$18=1,IF(ISNA(VLOOKUP($A85,INDIRECT(N$20),LPC_Stat_col,FALSE)),\"\",VLOOKUP($A85,INDIRECT(N$20),LPC_Stat_col,FALSE)),\"\")","v":""},{"$f":"IF(A85=\"\",\"\",MAX(IF(ISERROR(AU85:BF85),0,AU85:BF85)))","v":""},{"$f":"IF(C$18=1,IF(ISNA(VLOOKUP($A85,INDIRECT(C$20),LPC_Vol_col,FALSE)),\"\",VLOOKUP($A85,INDIRECT(C$20),LPC_Vol_col,FALSE)),\"\")","v":""},{"$f":"IF(D$18=1,IF(ISNA(VLOOKUP($A85,INDIRECT(D$20),LPC_Vol_col,FALSE)),\"\",VLOOKUP($A85,INDIRECT(D$20),LPC_Vol_col,FALSE)),\"\")","v":""},{"$f":"IF(E$18=1,IF(ISNA(VLOOKUP($A85,INDIRECT(E$20),LPC_Vol_col,FALSE)),\"\",VLOOKUP($A85,INDIRECT(E$20),LPC_Vol_col,FALSE)),\"\")","v":""},{"$f":"IF(F$18=1,IF(ISNA(VLOOKUP($A85,INDIRECT(F$20),LPC_Vol_col,FALSE)),\"\",VLOOKUP($A85,INDIRECT(F$20),LPC_Vol_col,FALSE)),\"\")","v":""},{"$f":"IF(G$18=1,IF(ISNA(VLOOKUP($A85,INDIRECT(G$20),LPC_Vol_col,FALSE)),\"\",VLOOKUP($A85,INDIRECT(G$20),LPC_Vol_col,FALSE)),\"\")","v":""},{"$f":"IF(H$18=1,IF(ISNA(VLOOKUP($A85,INDIRECT(H$20),LPC_Vol_col,FALSE)),\"\",VLOOKUP($A85,INDIRECT(H$20),LPC_Vol_col,FALSE)),\"\")","v":""},{"$f":"IF(I$18=1,IF(ISNA(VLOOKUP($A85,INDIRECT(I$20),LPC_Vol_col,FALSE)),\"\",VLOOKUP($A85,INDIRECT(I$20),LPC_Vol_col,FALSE)),\"\")","v":""},{"$f":"IF(J$18=1,IF(ISNA(VLOOKUP($A85,INDIRECT(J$20),LPC_Vol_col,FALSE)),\"\",VLOOKUP($A85,INDIRECT(J$20),LPC_Vol_col,FALSE)),\"\")","v":""},{"$f":"IF(K$18=1,IF(ISNA(VLOOKUP($A85,INDIRECT(K$20),LPC_Vol_col,FALSE)),\"\",VLOOKUP($A85,INDIRECT(K$20),LPC_Vol_col,FALSE)),\"\")","v":""},{"$f":"IF(L$18=1,IF(ISNA(VLOOKUP($A85,INDIRECT(L$20),LPC_Vol_col,FALSE)),\"\",VLOOKUP($A85,INDIRECT(L$20),LPC_Vol_col,FALSE)),\"\")","v":""},{"$f":"IF(M$18=1,IF(ISNA(VLOOKUP($A85,INDIRECT(M$20),LPC_Vol_col,FALSE)),\"\",VLOOKUP($A85,INDIRECT(M$20),LPC_Vol_col,FALSE)),\"\")","v":""},{"$f":"IF(N$18=1,IF(ISNA(VLOOKUP($A85,INDIRECT(N$20),LPC_Vol_col,FALSE)),\"\",VLOOKUP($A85,INDIRECT(N$20),LPC_Vol_col,FALSE)),\"\")","v":""},{"$f":"IF(A85=\"\",\"\",SUM(BH85:BS85))","v":""},{"$f":"IF(A85=\"\",\"\",MIN(B85:M85))","v":""},{"$f":"IF(A85=\"\",\"\",MAX(B85:M85))","v":""},{"$f":"IF(A85=\"\",\"\",BV85-BU85)","v":""},{"$f":"IF(A85=\"\",\"\",IF(BW85>$BW$11,\"Yes\",\"No\"))","v":""},{"$f":"IF(A85=\"\",\"\",(COUNTA(C85:N85)-COUNTBLANK(C85:N85)))","v":""},{"$f":"IF(A85=\"\",\"\",BY85-COUNTIF(C85:N85,\"=0\"))","v":""},"","","","","","","","","","","","",{"$f":"IF(A85=\"\",\"\",SUM(CA85:CL85))","v":""},"","","","","","","","","","","","",{"$f":"IF(A85=\"\",\"\",SUM(CN85:CY85))","v":""}]
[{"$f":"IF(ISBLANK('Control Sheet'!D66),\"\",'Control Sheet'!D66)","v":""},{"$f":"IF(ISBLANK('Control Sheet'!E66),\"\",'Control Sheet'!E66&\" (\"&'Control Sheet'!F66&\")\")","v":""},"","","","","","","","","","","","","","","","","","","","","","","","","","","","","","","",{"$f":"IF(C86=\"\",\"\",IF(AND(C86=0,S86=1),\"Normal\",IF(AND(C86=1,S86=1),\"Abated-1\",IF(C86=S86,\"Abated-n\",\"Mixed\"))))","v":""},{"$f":"IF(D86=\"\",\"\",IF(AND(D86=0,T86=1),\"Normal\",IF(AND(D86=1,T86=1),\"Abated-1\",IF(D86=T86,\"Abated-n\",\"Mixed\"))))","v":""},{"$f":"IF(E86=\"\",\"\",IF(AND(E86=0,U86=1),\"Normal\",IF(AND(E86=1,U86=1),\"Abated-1\",IF(E86=U86,\"Abated-n\",\"Mixed\"))))","v":""},{"$f":"IF(F86=\"\",\"\",IF(AND(F86=0,V86=1),\"Normal\",IF(AND(F86=1,V86=1),\"Abated-1\",IF(F86=V86,\"Abated-n\",\"Mixed\"))))","v":""},{"$f":"IF(G86=\"\",\"\",IF(AND(G86=0,W86=1),\"Normal\",IF(AND(G86=1,W86=1),\"Abated-1\",IF(G86=W86,\"Abated-n\",\"Mixed\"))))","v":""},{"$f":"IF(H86=\"\",\"\",IF(AND(H86=0,X86=1),\"Normal\",IF(AND(H86=1,X86=1),\"Abated-1\",IF(H86=X86,\"Abated-n\",\"Mixed\"))))","v":""},{"$f":"IF(I86=\"\",\"\",IF(AND(I86=0,Y86=1),\"Normal\",IF(AND(I86=1,Y86=1),\"Abated-1\",IF(I86=Y86,\"Abated-n\",\"Mixed\"))))","v":""},{"$f":"IF(J86=\"\",\"\",IF(AND(J86=0,Z86=1),\"Normal\",IF(AND(J86=1,Z86=1),\"Abated-1\",IF(J86=Z86,\"Abated-n\",\"Mixed\"))))","v":""},{"$f":"IF(K86=\"\",\"\",IF(AND(K86=0,AA86=1),\"Normal\",IF(AND(K86=1,AA86=1),\"Abated-1\",IF(K86=AA86,\"Abated-n\",\"Mixed\"))))","v":""},{"$f":"IF(L86=\"\",\"\",IF(AND(L86=0,AB86=1),\"Normal\",IF(AND(L86=1,AB86=1),\"Abated-1\",IF(L86=AB86,\"Abated-n\",\"Mixed\"))))","v":""},{"$f":"IF(M86=\"\",\"\",IF(AND(M86=0,AC86=1),\"Normal\",IF(AND(M86=1,AC86=1),\"Abated-1\",IF(M86=AC86,\"Abated-n\",\"Mixed\"))))","v":""},{"$f":"IF(N86=\"\",\"\",IF(AND(N86=0,AD86=1),\"Normal\",IF(AND(N86=1,AD86=1),\"Abated-1\",IF(N86=AD86,\"Abated-n\",\"Mixed\"))))","v":""},"","","","","","","","","","","","","",{"$f":"IF(A86=\"\",\"\",MAX(IF(ISERROR(AU86:BF86),0,AU86:BF86)))","v":""},"","","","","","","","","","","","","","","","","","","","","","","","","","","","","","","","","","","","","","","","","","","","",""]
[{"$f":"IF(ISBLANK('Control Sheet'!D67),\"\",'Control Sheet'!D67)","v":""},{"$f":"IF(ISBLANK('Control Sheet'!E67),\"\",'Control Sheet'!E67&\" (\"&'Control Sheet'!F67&\")\")","v":""},"","","","","","","","","","","","","","","","","","","","","","","","","","","","","","",{"$f":"IF(AF87=\"\",\"\",IF(AF87<=1,\"Lower Outlier\",IF(AF87<=2,\"Below Average\",IF(AF87<=3,\"Lower Quartile\",IF(AF87<=4,\"Upper Quartile\",IF(AF87<=5, \"Above Average\", \"Upper Outlier\"))))))","v":""},"","","","","","","","","","","","","","","","","","","","","","","","","",{"$f":"IF(A87=\"\",\"\",MAX(IF(ISERROR(AU87:BF87),0,AU87:BF87)))","v":""},"","","","","","","","","","","","","","","","","","","","","","","","","","","","","","","","","","","","","","","","","","","","",""]
[{"$f":"IF(ISBLANK('Control Sheet'!D68),\"\",'Control Sheet'!D68)","v":""},{"$f":"IF(ISBLANK('Control Sheet'!E68),\"\",'Control Sheet'!E68&\" (\"&'Control Sheet'!F68&\")\")","v":""},"","","","","","","","","","","","","","","","","","","","","","","","","","","","","","","","","","","","","","","","","","","","","","","","","","","","","","","","",{"$f":"IF(A88=\"\",\"\",MAX(IF(ISERROR(AU88:BF88),0,AU88:BF88)))","v":""},"","","","","","","","","","","","","","","","","","","","","","","","","","","","","","","","","","","","","","","","","","","","",""]
[{"$f":"IF(ISBLANK('Control Sheet'!D69),\"\",'Control Sheet'!D69)","v":""},{"$f":"IF(ISBLANK('Control Sheet'!E69),\"\",'Control Sheet'!E69&\" (\"&'Control Sheet'!F69&\")\")","v":""},"","","","","","","","","","","","","","","","","","","","","","","","","","","","","","","","","","","","","","","","","","","","","","","","","","","","","","","","",{"$f":"IF(A89=\"\",\"\",MAX(IF(ISERROR(AU89:BF89),0,AU89:BF89)))","v":""},"","","","","","","","","","","","","","","","","","","","","","","","","","","","","","","","","","","","","","","","","","","","",""]
[{"$f":"IF(ISBLANK('Control Sheet'!D70),\"\",'Control Sheet'!D70)","v":""},{"$f":"IF(ISBLANK('Control Sheet'!E70),\"\",'Control Sheet'!E70&\" (\"&'Control Sheet'!F70&\")\")","v":""},"","","","","","","","","","","","","","","","","","","","","","","","","","","","","","","","","","","","","","","","","","","","","","","","","","","","","","","","",{"$f":"IF(A90=\"\",\"\",MAX(IF(ISERROR(AU90:BF90),0,AU90:BF90)))","v":""},"","","","","","","","","","","","","","","","","","","","","","","","","","","","","","","","","","","","","","","","","","","","",""]
[{"$f":"IF(ISBLANK('Control Sheet'!D71),\"\",'Control Sheet'!D71)","v":""},{"$f":"IF(ISBLANK('Control Sheet'!E71),\"\",'Control Sheet'!E71&\" (\"&'Control Sheet'!F71&\")\")","v":""},{"$f":"IF(C$18=1,IF(ISNA(VLOOKUP($A91,INDIRECT(C$20),Abated_col,FALSE)),\"\",VLOOKUP($A91,INDIRECT(C$20),Abated_col,FALSE)),\"\")","v":""},"","","","","","","","","","","","","","","","","","","","","","","","","","","","","","","","","","","","","","","","","","","","","","","","","","","","","","","",{"$f":"IF(A91=\"\",\"\",MAX(IF(ISERROR(AU91:BF91),0,AU91:BF91)))","v":""},"","","","","","","","","","","","","","","","","","","","","","","","","","","","","","","","","","","","","","","","","","","","",""]
[{"$f":"IF(ISBLANK('Control Sheet'!D72),\"\",'Control Sheet'!D72)","v":""},{"$f":"IF(ISBLANK('Control Sheet'!E72),\"\",'Control Sheet'!E72&\" (\"&'Control Sheet'!F72&\")\")","v":""},"","","","","","","","","","","","","","","","","","","","","","","","","","","","","","","","","","","","","","","","","","","","","","","","","","","","","","","","",{"$f":"IF(A92=\"\",\"\",MAX(IF(ISERROR(AU92:BF92),0,AU92:BF92)))","v":""},"","","","","","","","","","","","","","","","","","","","","","","","","","","","","","","","","","","","","","","","","","","","",""]
[{"$f":"IF(ISBLANK('Control Sheet'!D73),\"\",'Control Sheet'!D73)","v":""},{"$f":"IF(ISBLANK('Control Sheet'!E73),\"\",'Control Sheet'!E73&\" (\"&'Control Sheet'!F73&\")\")","v":""},"","","","","","","","","","","","","","","","","","","","","","","","","","","","","","","","","","","","","","","","","","","","","","","","","","","","","","","","",{"$f":"IF(A93=\"\",\"\",MAX(IF(ISERROR(AU93:BF93),0,AU93:BF93)))","v":""},"","","","","","","","","","","","","","","","","","","","","","","","","","","","","","","","","","","","","","","","","","","","",""]
[{"$f":"IF(ISBLANK('Control Sheet'!D74),\"\",'Control Sheet'!D74)","v":""},{"$f":"IF(ISBLANK('Control Sheet'!E74),\"\",'Control Sheet'!E74&\" (\"&'Control Sheet'!F74&\")\")","v":""},"","","","","","","","","","","","","","","","","","","","","","","","","","","","","","","","","","","","","","","","","","","","","","","","","","","","","","","","",{"$f":"IF(A94=\"\",\"\",MAX(IF(ISERROR(AU94:BF94),0,AU94:BF94)))","v":""},"","","","","","","","","","","","","","","","","","","","","","","","","","","","","","","","","","","","","","","","","","","","",""]
[{"$f":"IF(ISBLANK('Control Sheet'!D75),\"\",'Control Sheet'!D75)","v":""},{"$f":"IF(ISBLANK('Control Sheet'!E75),\"\",'Control Sheet'!E75&\" (\"&'Control Sheet'!F75&\")\")","v":""},"","","","","","","","","","","","","","","","","","","","","","","","","","","","","","","","","","","","","","","","","","","","","","","","","","","","","","","","",{"$f":"IF(A95=\"\",\"\",MAX(IF(ISERROR(AU95:BF95),0,AU95:BF95)))","v":""},"","","","","","","","","","","","","","","","","","","","","","","","","","","","","","","","","","","","","","","","","","","","",""]
[{"$f":"IF(ISBLANK('Control Sheet'!D76),\"\",'Control Sheet'!D76)","v":""},{"$f":"IF(ISBLANK('Control Sheet'!E76),\"\",'Control Sheet'!E76&\" (\"&'Control Sheet'!F76&\")\")","v":""},"","","","","","","","","","","","","","","","","","","","","","","","","","","","","","","","","","","","","","","","","","","","","","","","","","","","","","","","",{"$f":"IF(A96=\"\",\"\",MAX(IF(ISERROR(AU96:BF96),0,AU96:BF96)))","v":""},"","","","","","","","","","","","","","","","","","","","","","","","","","","","","","","","","","","","","","","","","","","","",""]
[{"$f":"IF(ISBLANK('Control Sheet'!D77),\"\",'Control Sheet'!D77)","v":""},{"$f":"IF(ISBLANK('Control Sheet'!E77),\"\",'Control Sheet'!E77&\" (\"&'Control Sheet'!F77&\")\")","v":""},"","","","","","","","","","","","","","","","","","","","","","","","","","","","","","","","","","","","","","","","","","","","","","","","","","","","","","","","",{"$f":"IF(A97=\"\",\"\",MAX(IF(ISERROR(AU97:BF97),0,AU97:BF97)))","v":""},"","","","","","","","","","","","","","","","","","","","","","","","","","","","","","","","","","","","","","","","","","","","",""]
[{"$f":"IF(ISBLANK('Control Sheet'!D78),\"\",'Control Sheet'!D78)","v":""},{"$f":"IF(ISBLANK('Control Sheet'!E78),\"\",'Control Sheet'!E78&\" (\"&'Control Sheet'!F78&\")\")","v":""},"","","","","","","","","","","","","","","","","","","","","","","","","","","","","","","","","","","","","","","","","","","","","","","","","","","","","","","","",{"$f":"IF(A98=\"\",\"\",MAX(IF(ISERROR(AU98:BF98),0,AU98:BF98)))","v":""},"","","","","","","","","","","","","","","","","","","","","","","","","","","","","","","","","","","","","","","","","","","","",""]
[{"$f":"IF(ISBLANK('Control Sheet'!D79),\"\",'Control Sheet'!D79)","v":""},{"$f":"IF(ISBLANK('Control Sheet'!E79),\"\",'Control Sheet'!E79&\" (\"&'Control Sheet'!F79&\")\")","v":""},"","","","","","","","","","","","","","","","","","","","","","","","","","","","","","","","","","","","","","","","","","","","","","","","","","","","","","","","",{"$f":"IF(A99=\"\",\"\",MAX(IF(ISERROR(AU99:BF99),0,AU99:BF99)))","v":""},"","","","","","","","","","","","","","","","","","","","","","",{"$f":"IF(F$18=1,IF(ISNA(VLOOKUP($A99,INDIRECT(F$20),MUR_fee_col,FALSE)),\"\",VLOOKUP($A99,INDIRECT(F$20),MUR_fee_col,FALSE)),\"\")","v":""},"","","","","","","","","","","","",{"$f":"IF(F$18=1,IF(ISNA(VLOOKUP($A99,INDIRECT(F$20),MUR_Fee_adj_col,FALSE)),\"\",VLOOKUP($A99,INDIRECT(F$20),MUR_Fee_adj_col,FALSE)),\"\")","v":""},"","","","","","","","",""]
[{"$f":"IF(ISBLANK('Control Sheet'!D80),\"\",'Control Sheet'!D80)","v":""},{"$f":"IF(ISBLANK('Control Sheet'!E80),\"\",'Control Sheet'!E80&\" (\"&'Control Sheet'!F80&\")\")","v":""},"","","","","","","","","","","","","","","","","","","","","","","","","","","","","","","","","","","","","","","","","","","","","","","","","","","","","","","","",{"$f":"IF(A100=\"\",\"\",MAX(IF(ISERROR(AU100:BF100),0,AU100:BF100)))","v":""},"","","","","","","","","","","","","","","","","","","",{"$f":"IF(C$18=1,IF(ISNA(VLOOKUP($A100,INDIRECT(C$20),MUR_fee_col,FALSE)),\"\",VLOOKUP($A100,INDIRECT(C$20),MUR_fee_col,FALSE)),\"\")","v":""},"","","","","","","","","","","","",{"$f":"IF(C$18=1,IF(ISNA(VLOOKUP($A100,INDIRECT(C$20),MUR_Fee_adj_col,FALSE)),\"\",VLOOKUP($A100,INDIRECT(C$20),MUR_Fee_adj_col,FALSE)),\"\")","v":""},"","","","","","","","","","","",""]
[{"$f":"IF(ISBLANK('Control Sheet'!D81),\"\",'Control Sheet'!D81)","v":""},{"$f":"IF(ISBLANK('Control Sheet'!E81),\"\",'Control Sheet'!E81&\" (\"&'Control Sheet'!F81&\")\")","v":""},{"$f":"IF(C$18=1,IF(ISNA(VLOOKUP($A101,INDIRECT(C$20),Abated_col,FALSE)),\"\",VLOOKUP($A101,INDIRECT(C$20),Abated_col,FALSE)),\"\")","v":""},"","","","","","","","","","","","","","","","","","","","","","","","","","","","","","","","","","","","","","","","","","","","","","","","","","","","","","","",{"$f":"IF(A101=\"\",\"\",MAX(IF(ISERROR(AU101:BF101),0,AU101:BF101)))","v":""},"","","","","","","","","","","","","","","","","","","","","","","","","","","","","","","","","","","","","","","","","","","","",""]
[{"$f":"IF(ISBLANK('Control Sheet'!D82),\"\",'Control Sheet'!D82)","v":""},{"$f":"IF(ISBLANK('Control Sheet'!E82),\"\",'Control Sheet'!E82&\" (\"&'Control Sheet'!F82&\")\")","v":""},"","","","","","","","","","","","","","","","","","","","","","","","","","","","","","","","","","","","","","","","","","","","","","","","","","","","","","","","",{"$f":"IF(A102=\"\",\"\",MAX(IF(ISERROR(AU102:BF102),0,AU102:BF102)))","v":""},"","","","","","","","","","","","","","","","","","","","","","","","","","","","","","","","","","","","","","","","","","","","",""]
[{"$f":"IF(ISBLANK('Control Sheet'!D83),\"\",'Control Sheet'!D83)","v":""},{"$f":"IF(ISBLANK('Control Sheet'!E83),\"\",'Control Sheet'!E83&\" (\"&'Control Sheet'!F83&\")\")","v":""},"","","","","","","","","","","","","","","","","","","","","","","","","","","","","","","","","","","","","","","","","","","","","","","","","","","","","","","","",{"$f":"IF(A103=\"\",\"\",MAX(IF(ISERROR(AU103:BF103),0,AU103:BF103)))","v":""},"","","","","","","","","","","","","","","","","","","","","","","","","","","","","","","","","","","","","","","","","","","","",""]
[{"$f":"IF(ISBLANK('Control Sheet'!D84),\"\",'Control Sheet'!D84)","v":""},{"$f":"IF(ISBLANK('Control Sheet'!E84),\"\",'Control Sheet'!E84&\" (\"&'Control Sheet'!F84&\")\")","v":""},"","","","","","","","","","","","","","","","","","","","","","","","","","","","","","","","","","","","","","","","","","","","","","","","","","","","","","","","",{"$f":"IF(A104=\"\",\"\",MAX(IF(ISERROR(AU104:BF104),0,AU104:BF104)))","v":""},"","","","","","","","","","","","","","","","","","","","","","","","","","","","","","","","","","","","","","","","","","","","",""]
[{"$f":"IF(ISBLANK('Control Sheet'!D85),\"\",'Control Sheet'!D85)","v":""},{"$f":"IF(ISBLANK('Control Sheet'!E85),\"\",'Control Sheet'!E85&\" (\"&'Control Sheet'!F85&\")\")","v":""},"","","","","","","","","","","","","","","","","","","","","","","","","","","","","","","","","","","","","","","","","","","","","","","","","","","","","","","","",{"$f":"IF(A105=\"\",\"\",MAX(IF(ISERROR(AU105:BF105),0,AU105:BF105)))","v":""},"","","","","","","","","","","","","","","","","","","","","","","","","","","","","","","","","","","","","","","","","","","","",""]
[{"$f":"IF(ISBLANK('Control Sheet'!D86),\"\",'Control Sheet'!D86)","v":""},{"$f":"IF(ISBLANK('Control Sheet'!E86),\"\",'Control Sheet'!E86&\" (\"&'Control Sheet'!F86&\")\")","v":""},"","","","","","","","","","","","","","","","","","","","","","","","","","","","","","","","","","","","","","","","","","","","","","","","","","","","","","","","",{"$f":"IF(A106=\"\",\"\",MAX(IF(ISERROR(AU106:BF106),0,AU106:BF106)))","v":""},"","","","","","","","","","","","","","","","","","","","","","","","","","","","","","","","","","","","","","","","","","","","",""]
[{"$f":"IF(ISBLANK('Control Sheet'!D87),\"\",'Control Sheet'!D87)","v":""},{"$f":"IF(ISBLANK('Control Sheet'!E87),\"\",'Control Sheet'!E87&\" (\"&'Control Sheet'!F87&\")\")","v":""},"","","","","","","","","","","","","","","","","","","","","","","","","","","","","","","","","","","","","","","","","","","","","","","","","","","","","","","","",{"$f":"IF(A107=\"\",\"\",MAX(IF(ISERROR(AU107:BF107),0,AU107:BF107)))","v":""},"","","","","","","","","","","","","","","","","","","","","","","","","","","","","","","","","","","","","","","","","","","","",""]
[{"$f":"IF(ISBLANK('Control Sheet'!D88),\"\",'Control Sheet'!D88)","v":""},{"$f":"IF(ISBLANK('Control Sheet'!E88),\"\",'Control Sheet'!E88&\" (\"&'Control Sheet'!F88&\")\")","v":""},"","","","","","","","","","","","","","","","","","","","","","","","","","","","","","","","","","","","","","","","","","","","","","","","","","","","","","","","",{"$f":"IF(A108=\"\",\"\",MAX(IF(ISERROR(AU108:BF108),0,AU108:BF108)))","v":""},"","","","","","","","","","","","","","","","","","","","","","","","","","","","","","","","","","","","","","","","","","","","",""]
[{"$f":"IF(ISBLANK('Control Sheet'!D89),\"\",'Control Sheet'!D89)","v":""},{"$f":"IF(ISBLANK('Control Sheet'!E89),\"\",'Control Sheet'!E89&\" (\"&'Control Sheet'!F89&\")\")","v":""},"","","","","","","","","","","","","","","","","","","","","","","","","","","","","","","","","","","","","","","","","","","","","","","","","","","","","","","","",{"$f":"IF(A109=\"\",\"\",MAX(IF(ISERROR(AU109:BF109),0,AU109:BF109)))","v":""},"","","","","","","","","","","","","","","","","","","","","","","","","","","","","","","","","","","","","","","","","","","","",""]
[{"$f":"IF(ISBLANK('Control Sheet'!D90),\"\",'Control Sheet'!D90)","v":""},{"$f":"IF(ISBLANK('Control Sheet'!E90),\"\",'Control Sheet'!E90&\" (\"&'Control Sheet'!F90&\")\")","v":""},"","","","","","","","","","","","","","","","","","","","","","","","","","","","","","","","","","","","","","","","","","","","","","","","","","","","","","","","",{"$f":"IF(A110=\"\",\"\",MAX(IF(ISERROR(AU110:BF110),0,AU110:BF110)))","v":""},"","","","","","","","","","","","","","","","","","","","","","","","","","","","","","","","","","","","","","","","","","","","",""]
[{"$f":"IF(ISBLANK('Control Sheet'!D91),\"\",'Control Sheet'!D91)","v":""},{"$f":"IF(ISBLANK('Control Sheet'!E91),\"\",'Control Sheet'!E91&\" (\"&'Control Sheet'!F91&\")\")","v":""},{"$f":"IF(C$18=1,IF(ISNA(VLOOKUP($A111,INDIRECT(C$20),Abated_col,FALSE)),\"\",VLOOKUP($A111,INDIRECT(C$20),Abated_col,FALSE)),\"\")","v":""},"","","","","","","","","","","","","","","","","","","","","","","","","","","","","","","","","","","","","","","","","","","","","","","","","","","","","","","",{"$f":"IF(A111=\"\",\"\",MAX(IF(ISERROR(AU111:BF111),0,AU111:BF111)))","v":""},"","","","","","","","","","","","","","","","","","","","","","","","","","","","","","","","","","","","","","","","","","","","",""]
[{"$f":"IF(ISBLANK('Control Sheet'!D92),\"\",'Control Sheet'!D92)","v":""},{"$f":"IF(ISBLANK('Control Sheet'!E92),\"\",'Control Sheet'!E92&\" (\"&'Control Sheet'!F92&\")\")","v":""},"","","","","","","","","","","","","","","","","","","","","","","","","","","","","","","","","","","","","","","","","","","","","","","","","","","","","","","","",{"$f":"IF(A112=\"\",\"\",MAX(IF(ISERROR(AU112:BF112),0,AU112:BF112)))","v":""},"","","","","","","","","","","","","","","","","","","","","","","","","","","","",{"$f":"IF(L$18=1,IF(ISNA(VLOOKUP($A112,INDIRECT(L$20),MUR_fee_col,FALSE)),\"\",VLOOKUP($A112,INDIRECT(L$20),MUR_fee_col,FALSE)),\"\")","v":""},"","","","","","","","","","","","",{"$f":"IF(L$18=1,IF(ISNA(VLOOKUP($A112,INDIRECT(L$20),MUR_Fee_adj_col,FALSE)),\"\",VLOOKUP($A112,INDIRECT(L$20),MUR_Fee_adj_col,FALSE)),\"\")","v":""},"","",""]
[{"$f":"IF(ISBLANK('Control Sheet'!D93),\"\",'Control Sheet'!D93)","v":""},{"$f":"IF(ISBLANK('Control Sheet'!E93),\"\",'Control Sheet'!E93&\" (\"&'Control Sheet'!F93&\")\")","v":""},"","","","","","","","","","","","","","","","","","","","","","","","","","","","","","","","","","","","","","","","","","","","","","","","","","","","","","","","",{"$f":"IF(A113=\"\",\"\",MAX(IF(ISERROR(AU113:BF113),0,AU113:BF113)))","v":""},"","","","","","","","","","","","","","","","","","","","","","","","","","","","","","","","","","","","","","","","","","","","",""]
[{"$f":"IF(ISBLANK('Control Sheet'!D94),\"\",'Control Sheet'!D94)","v":""},{"$f":"IF(ISBLANK('Control Sheet'!E94),\"\",'Control Sheet'!E94&\" (\"&'Control Sheet'!F94&\")\")","v":""},"","","","","","","","","","","","","","","","","","","","","","","","","","","","","","","","","","","","","","","","","","","","","","","","","","","","","","","","",{"$f":"IF(A114=\"\",\"\",MAX(IF(ISERROR(AU114:BF114),0,AU114:BF114)))","v":""},"","","","","","","","","","","","","","","","","","","","","","","","","","","","","","","","","","","","","","","","","","","","",""]
[{"$f":"IF(ISBLANK('Control Sheet'!D95),\"\",'Control Sheet'!D95)","v":""},{"$f":"IF(ISBLANK('Control Sheet'!E95),\"\",'Control Sheet'!E95&\" (\"&'Control Sheet'!F95&\")\")","v":""},"","","","","","","","","","","","","","","","","","","","","","","","","","","","","","","","","","","","","","","","","","","","","","","","","","","","","","","","",{"$f":"IF(A115=\"\",\"\",MAX(IF(ISERROR(AU115:BF115),0,AU115:BF115)))","v":""},"","","","","","","","","","","","","","","","","","","","","","","","","","","","","","","","","","","","","","","","","","","","",""]
[{"$f":"IF(ISBLANK('Control Sheet'!D96),\"\",'Control Sheet'!D96)","v":""},{"$f":"IF(ISBLANK('Control Sheet'!E96),\"\",'Control Sheet'!E96&\" (\"&'Control Sheet'!F96&\")\")","v":""},"","","","","","","","","","","","","","","","","","","","","","","","","","","","","","","","","","","","","","","","","","","","","","","","","","","","","","","","",{"$f":"IF(A116=\"\",\"\",MAX(IF(ISERROR(AU116:BF116),0,AU116:BF116)))","v":""},"","","","","","","","","","","","","","","","","","","","","","","","","","","","","","","","","","","","","","","","","","","","",""]
[{"$f":"IF(ISBLANK('Control Sheet'!D97),\"\",'Control Sheet'!D97)","v":""},{"$f":"IF(ISBLANK('Control Sheet'!E97),\"\",'Control Sheet'!E97&\" (\"&'Control Sheet'!F97&\")\")","v":""},"","","","","","","","","","","","","","","","","","","","","","","","","","","","","","","","","","","","","","","","","","","","","","","","","","","","","","","","",{"$f":"IF(A117=\"\",\"\",MAX(IF(ISERROR(AU117:BF117),0,AU117:BF117)))","v":""},"","","","","","","","","","","","","","","","","","","","","","","","","","","","","","","","","","","","","","","","","","","","",""]
[{"$f":"IF(ISBLANK('Control Sheet'!D98),\"\",'Control Sheet'!D98)","v":""},{"$f":"IF(ISBLANK('Control Sheet'!E98),\"\",'Control Sheet'!E98&\" (\"&'Control Sheet'!F98&\")\")","v":""},"","","","","","","","","","","","","","","","","","","","","","","","","","","","","","","","","","","","","","","","","","","","","","","","","","","","","","","","",{"$f":"IF(A118=\"\",\"\",MAX(IF(ISERROR(AU118:BF118),0,AU118:BF118)))","v":""},"","","","","","","","","","","","","","","","","","","","","","","","","","","","","","","","","","","","","","","","","","","","",""]
[{"$f":"IF(ISBLANK('Control Sheet'!D99),\"\",'Control Sheet'!D99)","v":""},{"$f":"IF(ISBLANK('Control Sheet'!E99),\"\",'Control Sheet'!E99&\" (\"&'Control Sheet'!F99&\")\")","v":""},"","","","","","","","","","","","","","","","","","","","","","","","","","","","","","","","","","","","","","","","","","","","","","","","","","","","","","","","",{"$f":"IF(A119=\"\",\"\",MAX(IF(ISERROR(AU119:BF119),0,AU119:BF119)))","v":""},"","","","","","","","","","","","","","","","","","","","","","","","","","","","","","","","","","","","","","","","","","","","",""]
[{"$f":"IF(ISBLANK('Control Sheet'!D100),\"\",'Control Sheet'!D100)","v":""},{"$f":"IF(ISBLANK('Control Sheet'!E100),\"\",'Control Sheet'!E100&\" (\"&'Control Sheet'!F100&\")\")","v":""},"","","","","","","","","","","","","","","","","","","","","","","","","","","","","","","","","","","","","","","","","","","","","","","","","","","","","","","","",{"$f":"IF(A120=\"\",\"\",MAX(IF(ISERROR(AU120:BF120),0,AU120:BF120)))","v":""},"","","","","","","","","","","","","","","","","","","","","","","","","","","","","","","","","","","","","","","","","","","","",""]
[{"$f":"IF(ISBLANK('Control Sheet'!D101),\"\",'Control Sheet'!D101)","v":""},{"$f":"IF(ISBLANK('Control Sheet'!E101),\"\",'Control Sheet'!E101&\" (\"&'Control Sheet'!F101&\")\")","v":""},{"$f":"IF(C$18=1,IF(ISNA(VLOOKUP($A121,INDIRECT(C$20),Abated_col,FALSE)),\"\",VLOOKUP($A121,INDIRECT(C$20),Abated_col,FALSE)),\"\")","v":""},"","","","","","","","","","","","","","","","","","","","","","","","","","","","","","","","","","","","","","","","","","","","","","","","","","","","","","","",{"$f":"IF(A121=\"\",\"\",MAX(IF(ISERROR(AU121:BF121),0,AU121:BF121)))","v":""},"","","","","","","","","","","","","","","","","","","","","","","","","","","","","","","","","","","","","","","","","","","","",""]
[{"$f":"IF(ISBLANK('Control Sheet'!D102),\"\",'Control Sheet'!D102)","v":""},{"$f":"IF(ISBLANK('Control Sheet'!E102),\"\",'Control Sheet'!E102&\" (\"&'Control Sheet'!F102&\")\")","v":""},"","","","","","","","","","","","","","","","","","","","","","","","","","","","","","","","","","","","","","","","","","","","","","","","","","","","","","","","",{"$f":"IF(A122=\"\",\"\",MAX(IF(ISERROR(AU122:BF122),0,AU122:BF122)))","v":""},"","","","","","","","","","","","","","","","","","","","","","","","","","","","","","","","","","","","","","","","","","","","",""]
[{"$f":"IF(ISBLANK('Control Sheet'!D103),\"\",'Control Sheet'!D103)","v":""},{"$f":"IF(ISBLANK('Control Sheet'!E103),\"\",'Control Sheet'!E103&\" (\"&'Control Sheet'!F103&\")\")","v":""},"","","","","","","","","","","","","","","","","","","","","","","","","","","","","","","","","","","","","","","","","","","","","","","","","","","","","","","","",{"$f":"IF(A123=\"\",\"\",MAX(IF(ISERROR(AU123:BF123),0,AU123:BF123)))","v":""},"","","","","","","","","","","","","","","","","","","","","","","","","","","","","","","","","","","","","","","","","","","","",""]
[{"$f":"IF(ISBLANK('Control Sheet'!D104),\"\",'Control Sheet'!D104)","v":""},{"$f":"IF(ISBLANK('Control Sheet'!E104),\"\",'Control Sheet'!E104&\" (\"&'Control Sheet'!F104&\")\")","v":""},"","","","","","","","","","","","","","","","","","","","","","","","","","","","","","","","","","","","","","","","","","","","","","","","","","","","","","","","",{"$f":"IF(A124=\"\",\"\",MAX(IF(ISERROR(AU124:BF124),0,AU124:BF124)))","v":""},"","","","","","","","","","","","","","","","","","","","","","","","","","","","","","","","","","","","","","","","","","","","",""]
[{"$f":"IF(ISBLANK('Control Sheet'!D105),\"\",'Control Sheet'!D105)","v":""},{"$f":"IF(ISBLANK('Control Sheet'!E105),\"\",'Control Sheet'!E105&\" (\"&'Control Sheet'!F105&\")\")","v":""},"","","","","","","","","","","","","","","","","","","","","","","","","","","","","","","","","","","","","","","","","","","","","","","","","","","","","","","","",{"$f":"IF(A125=\"\",\"\",MAX(IF(ISERROR(AU125:BF125),0,AU125:BF125)))","v":""},"","","","","","","","","","","","","","","","","","","","","","","","","","","","","","","","","","","","","","","","","","","","",""]
[{"$f":"IF(ISBLANK('Control Sheet'!D106),\"\",'Control Sheet'!D106)","v":""},{"$f":"IF(ISBLANK('Control Sheet'!E106),\"\",'Control Sheet'!E106&\" (\"&'Control Sheet'!F106&\")\")","v":""},"","","","","","","","","","","","","","","","","","","","","","","","","","","","","","","","","","","","","","","","","","","","","","","","","","","","","","","","",{"$f":"IF(A126=\"\",\"\",MAX(IF(ISERROR(AU126:BF126),0,AU126:BF126)))","v":""},"","","","","","","","","","","","","","","","","","","","","","","","","","","","","","","","","","","","","","","","","","","","",""]
[{"$f":"IF(ISBLANK('Control Sheet'!D107),\"\",'Control Sheet'!D107)","v":""},{"$f":"IF(ISBLANK('Control Sheet'!E107),\"\",'Control Sheet'!E107&\" (\"&'Control Sheet'!F107&\")\")","v":""},"","","","","","","","","","","","","","","","","","","","","","","","","","","","","","","","","","","","","","","","","","","","","","","","","","","","","","","","",{"$f":"IF(A127=\"\",\"\",MAX(IF(ISERROR(AU127:BF127),0,AU127:BF127)))","v":""},"","","","","","","","","","","","","","","","","","","","","","","","","","","","","","","","","","","","","","","","","","","","",""]
[{"$f":"IF(ISBLANK('Control Sheet'!D108),\"\",'Control Sheet'!D108)","v":""},{"$f":"IF(ISBLANK('Control Sheet'!E108),\"\",'Control Sheet'!E108&\" (\"&'Control Sheet'!F108&\")\")","v":""},"","","","","","","","","","","","","","","","","","","","","","","","","","","","","","","","","","","","","","","","","","","","","","","","","","","","","","","","",{"$f":"IF(A128=\"\",\"\",MAX(IF(ISERROR(AU128:BF128),0,AU128:BF128)))","v":""},"","","","","","","","","","","","","","","","","","","","","","","","","","","","","","","","","","","","","","","","","","","","",""]
[{"$f":"IF(ISBLANK('Control Sheet'!D109),\"\",'Control Sheet'!D109)","v":""},{"$f":"IF(ISBLANK('Control Sheet'!E109),\"\",'Control Sheet'!E109&\" (\"&'Control Sheet'!F109&\")\")","v":""},"","","","","","","","","","","","","","","","","","","","","","","","","","","","","","","","","","","","","","","","","","","","","","","","","","","","","","","","",{"$f":"IF(A129=\"\",\"\",MAX(IF(ISERROR(AU129:BF129),0,AU129:BF129)))","v":""},"","","","","","","","","","","","","","","","","","","","","","","","","","","","","","","","","","","","","","","","","","","","",""]
[{"$f":"IF(ISBLANK('Control Sheet'!D110),\"\",'Control Sheet'!D110)","v":""},{"$f":"IF(ISBLANK('Control Sheet'!E110),\"\",'Control Sheet'!E110&\" (\"&'Control Sheet'!F110&\")\")","v":""},"","","","","","","","","","","","","","","","","","","","","","","","","","","","","","","","","","","","","","","","","","","","","","","","","","","","","","","","",{"$f":"IF(A130=\"\",\"\",MAX(IF(ISERROR(AU130:BF130),0,AU130:BF130)))","v":""},"","","","","","","","","","","","","","","","","","","","","","","","","","","","","","","","","","","","","","","","","","","","",""]
[{"$f":"IF(ISBLANK('Control Sheet'!D111),\"\",'Control Sheet'!D111)","v":""},{"$f":"IF(ISBLANK('Control Sheet'!E111),\"\",'Control Sheet'!E111&\" (\"&'Control Sheet'!F111&\")\")","v":""},{"$f":"IF(C$18=1,IF(ISNA(VLOOKUP($A131,INDIRECT(C$20),Abated_col,FALSE)),\"\",VLOOKUP($A131,INDIRECT(C$20),Abated_col,FALSE)),\"\")","v":""},"","","","","","","","","","","","","","","","","","","","","","","","","","","","","","","","","","","","","","","","","","","","","","","","","","","","","","","",{"$f":"IF(A131=\"\",\"\",MAX(IF(ISERROR(AU131:BF131),0,AU131:BF131)))","v":""},"","","","","","","","","","","","","","","","","","","","","","","","","","","","","","","","","","","","","","","","","","","","",""]
[{"$f":"IF(ISBLANK('Control Sheet'!D112),\"\",'Control Sheet'!D112)","v":""},{"$f":"IF(ISBLANK('Control Sheet'!E112),\"\",'Control Sheet'!E112&\" (\"&'Control Sheet'!F112&\")\")","v":""},"","","","","","","","","","","","","","","","","","","","","","","","","","","","","","","","","","","","","","","","","","","","","","","","","","","","","","","","",{"$f":"IF(A132=\"\",\"\",MAX(IF(ISERROR(AU132:BF132),0,AU132:BF132)))","v":""},"","","","","","","","","","","","","","","","","","","","","","","","","","","","","","","","","","","","","","","","","","","","",""]
[{"$f":"IF(ISBLANK('Control Sheet'!D113),\"\",'Control Sheet'!D113)","v":""},{"$f":"IF(ISBLANK('Control Sheet'!E113),\"\",'Control Sheet'!E113&\" (\"&'Control Sheet'!F113&\")\")","v":""},"","","","","","","","","","","","","","","","","","","","","","","","","","","","","","","","","","","","","","","","","","","","","","","","","","","","","","","","",{"$f":"IF(A133=\"\",\"\",MAX(IF(ISERROR(AU133:BF133),0,AU133:BF133)))","v":""},"","","","","","","","","","","","","","","","","","","","","","","","","","","","","","","","","","","","","","","","","","","","",""]
[{"$f":"IF(ISBLANK('Control Sheet'!D114),\"\",'Control Sheet'!D114)","v":""},{"$f":"IF(ISBLANK('Control Sheet'!E114),\"\",'Control Sheet'!E114&\" (\"&'Control Sheet'!F114&\")\")","v":""},"","","","","","","","","","","","","","","","","","","","","","","","","","","","","","","","","","","","","","","","","","","","","","","","","","","","","","","","",{"$f":"IF(A134=\"\",\"\",MAX(IF(ISERROR(AU134:BF134),0,AU134:BF134)))","v":""},"","","","","","","","","","","","","","","","","","","","","","","","","","","","","","","","","","","","","","","","","","","","",""]
[{"$f":"IF(ISBLANK('Control Sheet'!D115),\"\",'Control Sheet'!D115)","v":""},{"$f":"IF(ISBLANK('Control Sheet'!E115),\"\",'Control Sheet'!E115&\" (\"&'Control Sheet'!F115&\")\")","v":""},"","","","","","","","","","","","","","","","","","","","","","","","","","","","","","","","","","","","","","","","","","","","","","","","","","","","","","","","",{"$f":"IF(A135=\"\",\"\",MAX(IF(ISERROR(AU135:BF135),0,AU135:BF135)))","v":""},"","","","","","","","","","","","","","","","","","","","","","","","","","","","","","","","","","","","","","","","","","","","",""]
[{"$f":"IF(ISBLANK('Control Sheet'!D116),\"\",'Control Sheet'!D116)","v":""},{"$f":"IF(ISBLANK('Control Sheet'!E116),\"\",'Control Sheet'!E116&\" (\"&'Control Sheet'!F116&\")\")","v":""},"","","","","","","","","","","","","","","","","","","","","","","","","","","","","","","","","","","","","","","","","","","","","","","","","","","","","","","","",{"$f":"IF(A136=\"\",\"\",MAX(IF(ISERROR(AU136:BF136),0,AU136:BF136)))","v":""},"","","","","","","","","","","","","","","","","","","","","","","","","","","","","","","","","","","","","","","","","","","","",""]
[{"$f":"IF(ISBLANK('Control Sheet'!D117),\"\",'Control Sheet'!D117)","v":""},{"$f":"IF(ISBLANK('Control Sheet'!E117),\"\",'Control Sheet'!E117&\" (\"&'Control Sheet'!F117&\")\")","v":""},"","","","","","","","","","","","","","","","","","","","","","","","","","","","","","","","","","","","","","","","","","","","","","","","","","","","","","","","",{"$f":"IF(A137=\"\",\"\",MAX(IF(ISERROR(AU137:BF137),0,AU137:BF137)))","v":""},"","","","","","","","","","","","","","","","","","","","","","","","","","","","","","","","","","","","","","","","","","","","",""]
[{"$f":"IF(ISBLANK('Control Sheet'!D118),\"\",'Control Sheet'!D118)","v":""},{"$f":"IF(ISBLANK('Control Sheet'!E118),\"\",'Control Sheet'!E118&\" (\"&'Control Sheet'!F118&\")\")","v":""},"","","","","","","","","","","","","","","","","","","","","","","","","","","","","","","","","","","","","","","","","","","","","","","","","","","","","","","","",{"$f":"IF(A138=\"\",\"\",MAX(IF(ISERROR(AU138:BF138),0,AU138:BF138)))","v":""},"","","","","","","","","","","","","","","","","","","","","","","","","","","","","","","","","","","","","","","","","","","","",""]
[{"$f":"IF(ISBLANK('Control Sheet'!D119),\"\",'Control Sheet'!D119)","v":""},{"$f":"IF(ISBLANK('Control Sheet'!E119),\"\",'Control Sheet'!E119&\" (\"&'Control Sheet'!F119&\")\")","v":""},"","","","","","","","","","","","","","","","","","","","","","","","","","","","","","","","","","","","","","","","","","","","","","","","","","","","","","","","",{"$f":"IF(A139=\"\",\"\",MAX(IF(ISERROR(AU139:BF139),0,AU139:BF139)))","v":""},"","","","","","","","","","","","","","","","","","","","","","","","","","","","","","","","","","","","","","","","","","","","",""]
[{"$f":"IF(ISBLANK('Control Sheet'!D120),\"\",'Control Sheet'!D120)","v":""},{"$f":"IF(ISBLANK('Control Sheet'!E120),\"\",'Control Sheet'!E120&\" (\"&'Control Sheet'!F120&\")\")","v":""},"","","","","","","","","","","","","","","","","","","","","","","","","","","","","","","","","","","","","","","","","","","","","","","","","","","","","","","","",{"$f":"IF(A140=\"\",\"\",MAX(IF(ISERROR(AU140:BF140),0,AU140:BF140)))","v":""},"","","","","","","","","","","","","","","","","","","","","","","","","","","","","","","","","","","","","","","","","","","","",""]
[{"$f":"IF(ISBLANK('Control Sheet'!D121),\"\",'Control Sheet'!D121)","v":""},{"$f":"IF(ISBLANK('Control Sheet'!E121),\"\",'Control Sheet'!E121&\" (\"&'Control Sheet'!F121&\")\")","v":""},{"$f":"IF(C$18=1,IF(ISNA(VLOOKUP($A141,INDIRECT(C$20),Abated_col,FALSE)),\"\",VLOOKUP($A141,INDIRECT(C$20),Abated_col,FALSE)),\"\")","v":""},"","","","","","","","","","","","","","","","","","","","","","","","","","","","","","","","","","","","","","","","","","","","","","","","","","","","","","","",{"$f":"IF(A141=\"\",\"\",MAX(IF(ISERROR(AU141:BF141),0,AU141:BF141)))","v":""},"","","","","","","","","","","","","","","","","","","","","","","","","","","","","","","","","","","","","","","","","","","","",""]
[{"$f":"IF(ISBLANK('Control Sheet'!D122),\"\",'Control Sheet'!D122)","v":""},{"$f":"IF(ISBLANK('Control Sheet'!E122),\"\",'Control Sheet'!E122&\" (\"&'Control Sheet'!F122&\")\")","v":""},"","","","","","","","","","","","","","","","","","","","","","","","","","","","","","","","","","","","","","","","","","","","","","","","","","","","","","","","",{"$f":"IF(A142=\"\",\"\",MAX(IF(ISERROR(AU142:BF142),0,AU142:BF142)))","v":""},"","","","","","","","","","","","","","","","","","","","","","","","","","","","","","","","","","","","","","","","","","","","",""]
[{"$f":"IF(ISBLANK('Control Sheet'!D123),\"\",'Control Sheet'!D123)","v":""},{"$f":"IF(ISBLANK('Control Sheet'!E123),\"\",'Control Sheet'!E123&\" (\"&'Control Sheet'!F123&\")\")","v":""},"","","","","","","","","","","","","","","","","","","","","","","","","","","","","","","","","","","","","","","","","","","","","","","","","","","","","","","","",{"$f":"IF(A143=\"\",\"\",MAX(IF(ISERROR(AU143:BF143),0,AU143:BF143)))","v":""},"","","","","","","","","","","","","","","","","","","","","","","","","","","","","","","","","","","","","","","","","","","","",""]
[{"$f":"IF(ISBLANK('Control Sheet'!D124),\"\",'Control Sheet'!D124)","v":""},{"$f":"IF(ISBLANK('Control Sheet'!E124),\"\",'Control Sheet'!E124&\" (\"&'Control Sheet'!F124&\")\")","v":""},"","","","","","","","","","","","","","","","","","","","","","","","","","","","","","","","","","","","","","","","","","","","","","","","","","","","","","","","",{"$f":"IF(A144=\"\",\"\",MAX(IF(ISERROR(AU144:BF144),0,AU144:BF144)))","v":""},"","","","","","","","","","","","","","","","","","","","","","","","","","","","","","","","","","","","","","","","","","","","",""]
[{"$f":"IF(ISBLANK('Control Sheet'!D125),\"\",'Control Sheet'!D125)","v":""},{"$f":"IF(ISBLANK('Control Sheet'!E125),\"\",'Control Sheet'!E125&\" (\"&'Control Sheet'!F125&\")\")","v":""},"","","","","","","","","","","","","","","","","","","","","","","","","","","","","","","","","","","","","","","","","","","","","","","","","","","","","","","","",{"$f":"IF(A145=\"\",\"\",MAX(IF(ISERROR(AU145:BF145),0,AU145:BF145)))","v":""},"","","","","","","","","","","","","","","","","","","","","","","","","","","","","","","","","","","","","","","","","","","","",""]
[{"$f":"IF(ISBLANK('Control Sheet'!D126),\"\",'Control Sheet'!D126)","v":""},{"$f":"IF(ISBLANK('Control Sheet'!E126),\"\",'Control Sheet'!E126&\" (\"&'Control Sheet'!F126&\")\")","v":""},"","","","","","","","","","","","","","","","","","","","","","","","","","","","","","","","","","","","","","","","","","","","","","","","","","","","","","","","",{"$f":"IF(A146=\"\",\"\",MAX(IF(ISERROR(AU146:BF146),0,AU146:BF146)))","v":""},"","","","","","","","","","","","","","","","","","","","","","","","","","","","","","","","","","","","","","","","","","","","",""]
[{"$f":"IF(ISBLANK('Control Sheet'!D127),\"\",'Control Sheet'!D127)","v":""},{"$f":"IF(ISBLANK('Control Sheet'!E127),\"\",'Control Sheet'!E127&\" (\"&'Control Sheet'!F127&\")\")","v":""},"","","","","","","","","","","","","","","","","","","","","","","","","","","","","","","","","","","","","","","","","","","","","","","","","","","","","","","","",{"$f":"IF(A147=\"\",\"\",MAX(IF(ISERROR(AU147:BF147),0,AU147:BF147)))","v":""},"","","","","","","","","","","","","","","","","","","","","","","","","","","","","","","","","","","","","","","","","","","","",""]
[{"$f":"IF(ISBLANK('Control Sheet'!D128),\"\",'Control Sheet'!D128)","v":""},{"$f":"IF(ISBLANK('Control Sheet'!E128),\"\",'Control Sheet'!E128&\" (\"&'Control Sheet'!F128&\")\")","v":""},"","","","","","","","","","","","","","","","","","","","","","","","","","","","","","","","","","","","","","","","","","","","","","","","","","","","","","","","",{"$f":"IF(A148=\"\",\"\",MAX(IF(ISERROR(AU148:BF148),0,AU148:BF148)))","v":""},"","","","","","","","","","","","","","","","","","","","","","","","","",{"$f":"IF(I$18=1,IF(ISNA(VLOOKUP($A148,INDIRECT(I$20),MUR_fee_col,FALSE)),\"\",VLOOKUP($A148,INDIRECT(I$20),MUR_fee_col,FALSE)),\"\")","v":""},"","","","","","","","","","","","",{"$f":"IF(I$18=1,IF(ISNA(VLOOKUP($A148,INDIRECT(I$20),MUR_Fee_adj_col,FALSE)),\"\",VLOOKUP($A148,INDIRECT(I$20),MUR_Fee_adj_col,FALSE)),\"\")","v":""},"","","","","",""]
[{"$f":"IF(ISBLANK('Control Sheet'!D129),\"\",'Control Sheet'!D129)","v":""},{"$f":"IF(ISBLANK('Control Sheet'!E129),\"\",'Control Sheet'!E129&\" (\"&'Control Sheet'!F129&\")\")","v":""},"","","","","","","","","","","","",{"$f":"IF(A149=\"\",\"\",SUM(C149:N149))","v":""},{"$f":"IF(A149=\"\",\"\",IF($O$18=12,SUM(C149:N149),AVERAGE(C149:O149)*(12-$O$18)))","v":""},{"$f":"IF(A149=\"\",\"\",IF(P149<=400,\"No\",\"Yes\"))","v":""},{"$f":"IF(A149=\"\",\"\",MURMonthsPop-(COUNTA(C149:N149)-COUNTBLANK(C149:N149)))","v":""},{"$f":"IF(C$18=1,IF(ISNA(VLOOKUP($A149,INDIRECT(C$20),MIS_Count_col,FALSE)),\"\",VLOOKUP($A149,INDIRECT(C$20),MIS_Count_col,FALSE)),\"\")","v":""},{"$f":"IF(D$18=1,IF(ISNA(VLOOKUP($A149,INDIRECT(D$20),MIS_Count_col,FALSE)),\"\",VLOOKUP($A149,INDIRECT(D$20),MIS_Count_col,FALSE)),\"\")","v":""},{"$f":"IF(E$18=1,IF(ISNA(VLOOKUP($A149,INDIRECT(E$20),MIS_Count_col,FALSE)),\"\",VLOOKUP($A149,INDIRECT(E$20),MIS_Count_col,FALSE)),\"\")","v":""},{"$f":"IF(F$18=1,IF(ISNA(VLOOKUP($A149,INDIRECT(F$20),MIS_Count_col,FALSE)),\"\",VLOOKUP($A149,INDIRECT(F$20),MIS_Count_col,FALSE)),\"\")","v":""},{"$f":"IF(G$18=1,IF(ISNA(VLOOKUP($A149,INDIRECT(G$20),MIS_Count_col,FALSE)),\"\",VLOOKUP($A149,INDIRECT(G$20),MIS_Count_col,FALSE)),\"\")","v":""},{"$f":"IF(H$18=1,IF(ISNA(VLOOKUP($A149,INDIRECT(H$20),MIS_Count_col,FALSE)),\"\",VLOOKUP($A149,INDIRECT(H$20),MIS_Count_col,FALSE)),\"\")","v":""},{"$f":"IF(I$18=1,IF(ISNA(VLOOKUP($A149,INDIRECT(I$20),MIS_Count_col,FALSE)),\"\",VLOOKUP($A149,INDIRECT(I$20),MIS_Count_col,FALSE)),\"\")","v":""},{"$f":"IF(J$18=1,IF(ISNA(VLOOKUP($A149,INDIRECT(J$20),MIS_Count_col,FALSE)),\"\",VLOOKUP($A149,INDIRECT(J$20),MIS_Count_col,FALSE)),\"\")","v":""},{"$f":"IF(K$18=1,IF(ISNA(VLOOKUP($A149,INDIRECT(K$20),MIS_Count_col,FALSE)),\"\",VLOOKUP($A149,INDIRECT(K$20),MIS_Count_col,FALSE)),\"\")","v":""},{"$f":"IF(L$18=1,IF(ISNA(VLOOKUP($A149,INDIRECT(L$20),MIS_Count_col,FALSE)),\"\",VLOOKUP($A149,INDIRECT(L$20),MIS_Count_col,FALSE)),\"\")","v":""},{"$f":"IF(M$18=1,IF(ISNA(VLOOKUP($A149,INDIRECT(M$20),MIS_Count_col,FALSE)),\"\",VLOOKUP($A149,INDIRECT(M$20),MIS_Count_col,FALSE)),\"\")","v":""},{"$f":"IF(N$18=1,IF(ISNA(VLOOKUP($A149,INDIRECT(N$20),MIS_Count_col,FALSE)),\"\",VLOOKUP($A149,INDIRECT(N$20),MIS_Count_col,FALSE)),\"\")","v":""},{"$f":"IF(A149=\"\",\"\",SUM(S149:AD149))","v":""},{"$f":"IF(OR(A149=\"\",AE149=0),\"\",AE149/(O$18-R149))","v":""},"","","","","","","","","","","","","",{"$f":"IF(A149=\"\",\"\",MAX(AH149:AS149))","v":""},{"$f":"IF(C$18=1,IF(ISNA(VLOOKUP($A149,INDIRECT(C$20),LPC_Stat_col,FALSE)),\"\",VLOOKUP($A149,INDIRECT(C$20),LPC_Stat_col,FALSE)),\"\")","v":""},{"$f":"IF(D$18=1,IF(ISNA(VLOOKUP($A149,INDIRECT(D$20),LPC_Stat_col,FALSE)),\"\",VLOOKUP($A149,INDIRECT(D$20),LPC_Stat_col,FALSE)),\"\")","v":""},{"$f":"IF(E$18=1,IF(ISNA(VLOOKUP($A149,INDIRECT(E$20),LPC_Stat_col,FALSE)),\"\",VLOOKUP($A149,INDIRECT(E$20),LPC_Stat_col,FALSE)),\"\")","v":""},{"$f":"IF(F$18=1,IF(ISNA(VLOOKUP($A149,INDIRECT(F$20),LPC_Stat_col,FALSE)),\"\",VLOOKUP($A149,INDIRECT(F$20),LPC_Stat_col,FALSE)),\"\")","v":""},{"$f":"IF(G$18=1,IF(ISNA(VLOOKUP($A149,INDIRECT(G$20),LPC_Stat_col,FALSE)),\"\",VLOOKUP($A149,INDIRECT(G$20),LPC_Stat_col,FALSE)),\"\")","v":""},{"$f":"IF(H$18=1,IF(ISNA(VLOOKUP($A149,INDIRECT(H$20),LPC_Stat_col,FALSE)),\"\",VLOOKUP($A149,INDIRECT(H$20),LPC_Stat_col,FALSE)),\"\")","v":""},{"$f":"IF(I$18=1,IF(ISNA(VLOOKUP($A149,INDIRECT(I$20),LPC_Stat_col,FALSE)),\"\",VLOOKUP($A149,INDIRECT(I$20),LPC_Stat_col,FALSE)),\"\")","v":""},{"$f":"IF(J$18=1,IF(ISNA(VLOOKUP($A149,INDIRECT(J$20),LPC_Stat_col,FALSE)),\"\",VLOOKUP($A149,INDIRECT(J$20),LPC_Stat_col,FALSE)),\"\")","v":""},{"$f":"IF(K$18=1,IF(ISNA(VLOOKUP($A149,INDIRECT(K$20),LPC_Stat_col,FALSE)),\"\",VLOOKUP($A149,INDIRECT(K$20),LPC_Stat_col,FALSE)),\"\")","v":""},{"$f":"IF(L$18=1,IF(ISNA(VLOOKUP($A149,INDIRECT(L$20),LPC_Stat_col,FALSE)),\"\",VLOOKUP($A149,INDIRECT(L$20),LPC_Stat_col,FALSE)),\"\")","v":""},{"$f":"IF(M$18=1,IF(ISNA(VLOOKUP($A149,INDIRECT(M$20),LPC_Stat_col,FALSE)),\"\",VLOOKUP($A149,INDIRECT(M$20),LPC_Stat_col,FALSE)),\"\")","v":""},{"$f":"IF(N$18=1,IF(ISNA(VLOOKUP($A149,INDIRECT(N$20),LPC_Stat_col,FALSE)),\"\",VLOOKUP($A149,INDIRECT(N$20),LPC_Stat_col,FALSE)),\"\")","v":""},{"$f":"IF(A149=\"\",\"\",MAX(IF(ISERROR(AU149:BF149),0,AU149:BF149)))","v":""},{"$f":"IF(C$18=1,IF(ISNA(VLOOKUP($A149,INDIRECT(C$20),LPC_Vol_col,FALSE)),\"\",VLOOKUP($A149,INDIRECT(C$20),LPC_Vol_col,FALSE)),\"\")","v":""},{"$f":"IF(D$18=1,IF(ISNA(VLOOKUP($A149,INDIRECT(D$20),LPC_Vol_col,FALSE)),\"\",VLOOKUP($A149,INDIRECT(D$20),LPC_Vol_col,FALSE)),\"\")","v":""},{"$f":"IF(E$18=1,IF(ISNA(VLOOKUP($A149,INDIRECT(E$20),LPC_Vol_col,FALSE)),\"\",VLOOKUP($A149,INDIRECT(E$20),LPC_Vol_col,FALSE)),\"\")","v":""},{"$f":"IF(F$18=1,IF(ISNA(VLOOKUP($A149,INDIRECT(F$20),LPC_Vol_col,FALSE)),\"\",VLOOKUP($A149,INDIRECT(F$20),LPC_Vol_col,FALSE)),\"\")","v":""},{"$f":"IF(G$18=1,IF(ISNA(VLOOKUP($A149,INDIRECT(G$20),LPC_Vol_col,FALSE)),\"\",VLOOKUP($A149,INDIRECT(G$20),LPC_Vol_col,FALSE)),\"\")","v":""},{"$f":"IF(H$18=1,IF(ISNA(VLOOKUP($A149,INDIRECT(H$20),LPC_Vol_col,FALSE)),\"\",VLOOKUP($A149,INDIRECT(H$20),LPC_Vol_col,FALSE)),\"\")","v":""},{"$f":"IF(I$18=1,IF(ISNA(VLOOKUP($A149,INDIRECT(I$20),LPC_Vol_col,FALSE)),\"\",VLOOKUP($A149,INDIRECT(I$20),LPC_Vol_col,FALSE)),\"\")","v":""},{"$f":"IF(J$18=1,IF(ISNA(VLOOKUP($A149,INDIRECT(J$20),LPC_Vol_col,FALSE)),\"\",VLOOKUP($A149,INDIRECT(J$20),LPC_Vol_col,FALSE)),\"\")","v":""},{"$f":"IF(K$18=1,IF(ISNA(VLOOKUP($A149,INDIRECT(K$20),LPC_Vol_col,FALSE)),\"\",VLOOKUP($A149,INDIRECT(K$20),LPC_Vol_col,FALSE)),\"\")","v":""},{"$f":"IF(L$18=1,IF(ISNA(VLOOKUP($A149,INDIRECT(L$20),LPC_Vol_col,FALSE)),\"\",VLOOKUP($A149,INDIRECT(L$20),LPC_Vol_col,FALSE)),\"\")","v":""},{"$f":"IF(M$18=1,IF(ISNA(VLOOKUP($A149,INDIRECT(M$20),LPC_Vol_col,FALSE)),\"\",VLOOKUP($A149,INDIRECT(M$20),LPC_Vol_col,FALSE)),\"\")","v":""},{"$f":"IF(N$18=1,IF(ISNA(VLOOKUP($A149,INDIRECT(N$20),LPC_Vol_col,FALSE)),\"\",VLOOKUP($A149,INDIRECT(N$20),LPC_Vol_col,FALSE)),\"\")","v":""},{"$f":"IF(A149=\"\",\"\",SUM(BH149:BS149))","v":""},{"$f":"IF(A149=\"\",\"\",MIN(B149:M149))","v":""},{"$f":"IF(A149=\"\",\"\",MAX(B149:M149))","v":""},{"$f":"IF(A149=\"\",\"\",BV149-BU149)","v":""},{"$f":"IF(A149=\"\",\"\",IF(BW149>$BW$11,\"Yes\",\"No\"))","v":""},{"$f":"IF(A149=\"\",\"\",(COUNTA(C149:N149)-COUNTBLANK(C149:N149)))","v":""},{"$f":"IF(A149=\"\",\"\",BY149-COUNTIF(C149:N149,\"=0\"))","v":""},"","","","","","","","","","","","",{"$f":"IF(A149=\"\",\"\",SUM(CA149:CL149))","v":""},"","","","","","","","","","","","",{"$f":"IF(A149=\"\",\"\",SUM(CN149:CY149))","v":""}]
[{"$f":"IF(ISBLANK('Control Sheet'!D130),\"\",'Control Sheet'!D130)","v":""},{"$f":"IF(ISBLANK('Control Sheet'!E130),\"\",'Control Sheet'!E130&\" (\"&'Control Sheet'!F130&\")\")","v":""},"","","","","","","","","","","","","","","","","","","","","","","","","","","","","","","",{"$f":"IF(C150=\"\",\"\",IF(AND(C150=0,S150=1),\"Normal\",IF(AND(C150=1,S150=1),\"Abated-1\",IF(C150=S150,\"Abated-n\",\"Mixed\"))))","v":""},{"$f":"IF(D150=\"\",\"\",IF(AND(D150=0,T150=1),\"Normal\",IF(AND(D150=1,T150=1),\"Abated-1\",IF(D150=T150,\"Abated-n\",\"Mixed\"))))","v":""},{"$f":"IF(E150=\"\",\"\",IF(AND(E150=0,U150=1),\"Normal\",IF(AND(E150=1,U150=1),\"Abated-1\",IF(E150=U150,\"Abated-n\",\"Mixed\"))))","v":""},{"$f":"IF(F150=\"\",\"\",IF(AND(F150=0,V150=1),\"Normal\",IF(AND(F150=1,V150=1),\"Abated-1\",IF(F150=V150,\"Abated-n\",\"Mixed\"))))","v":""},{"$f":"IF(G150=\"\",\"\",IF(AND(G150=0,W150=1),\"Normal\",IF(AND(G150=1,W150=1),\"Abated-1\",IF(G150=W150,\"Abated-n\",\"Mixed\"))))","v":""},{"$f":"IF(H150=\"\",\"\",IF(AND(H150=0,X150=1),\"Normal\",IF(AND(H150=1,X150=1),\"Abated-1\",IF(H150=X150,\"Abated-n\",\"Mixed\"))))","v":""},{"$f":"IF(I150=\"\",\"\",IF(AND(I150=0,Y150=1),\"Normal\",IF(AND(I150=1,Y150=1),\"Abated-1\",IF(I150=Y150,\"Abated-n\",\"Mixed\"))))","v":""},{"$f":"IF(J150=\"\",\"\",IF(AND(J150=0,Z150=1),\"Normal\",IF(AND(J150=1,Z150=1),\"Abated-1\",IF(J150=Z150,\"Abated-n\",\"Mixed\"))))","v":""},{"$f":"IF(K150=\"\",\"\",IF(AND(K150=0,AA150=1),\"Normal\",IF(AND(K150=1,AA150=1),\"Abated-1\",IF(K150=AA150,\"Abated-n\",\"Mixed\"))))","v":""},{"$f":"IF(L150=\"\",\"\",IF(AND(L150=0,AB150=1),\"Normal\",IF(AND(L150=1,AB150=1),\"Abated-1\",IF(L150=AB150,\"Abated-n\",\"Mixed\"))))","v":""},{"$f":"IF(M150=\"\",\"\",IF(AND(M150=0,AC150=1),\"Normal\",IF(AND(M150=1,AC150=1),\"Abated-1\",IF(M150=AC150,\"Abated-n\",\"Mixed\"))))","v":""},{"$f":"IF(N150=\"\",\"\",IF(AND(N150=0,AD150=1),\"Normal\",IF(AND(N150=1,AD150=1),\"Abated-1\",IF(N150=AD150,\"Abated-n\",\"Mixed\"))))","v":""},"","","","","","","","","","","","","",{"$f":"IF(A150=\"\",\"\",MAX(IF(ISERROR(AU150:BF150),0,AU150:BF150)))","v":""},"","","","","","","","","","","","","","","","","","","","","","","","","","","","","","","","","","","","","","","","","","","","",""]
[{"$f":"IF(ISBLANK('Control Sheet'!D131),\"\",'Control Sheet'!D131)","v":""},{"$f":"IF(ISBLANK('Control Sheet'!E131),\"\",'Control Sheet'!E131&\" (\"&'Control Sheet'!F131&\")\")","v":""},{"$f":"IF(C$18=1,IF(ISNA(VLOOKUP($A151,INDIRECT(C$20),Abated_col,FALSE)),\"\",VLOOKUP($A151,INDIRECT(C$20),Abated_col,FALSE)),\"\")","v":""},"","","","","","","","","","","","","","","","","","","","","","","","","","","","","",{"$f":"IF(AF151=\"\",\"\",IF(AF151<=1,\"Lower Outlier\",IF(AF151<=2,\"Below Average\",IF(AF151<=3,\"Lower Quartile\",IF(AF151<=4,\"Upper Quartile\",IF(AF151<=5, \"Above Average\", \"Upper Outlier\"))))))","v":""},"","","","","","","","","","","","","","","","","","","","","","","","","",{"$f":"IF(A151=\"\",\"\",MAX(IF(ISERROR(AU151:BF151),0,AU151:BF151)))","v":""},"","","","","","","","","","","","","","","","","","","","","","","","","","","","","","","","","","","","","","","","","","","","",""]
[{"$f":"IF(ISBLANK('Control Sheet'!D132),\"\",'Control Sheet'!D132)","v":""},{"$f":"IF(ISBLANK('Control Sheet'!E132),\"\",'Control Sheet'!E132&\" (\"&'Control Sheet'!F132&\")\")","v":""},"","","","","","","","","","","","","","","","","","","","","","","","","","","","","","","","","","","","","","","","","","","","","","","","","","","","","","","","",{"$f":"IF(A152=\"\",\"\",MAX(IF(ISERROR(AU152:BF152),0,AU152:BF152)))","v":""},"","","","","","","","","","","","","","","","","","","","","","","","","","","","","","","","","","","","","","","","","","","","",""]
[{"$f":"IF(ISBLANK('Control Sheet'!D133),\"\",'Control Sheet'!D133)","v":""},{"$f":"IF(ISBLANK('Control Sheet'!E133),\"\",'Control Sheet'!E133&\" (\"&'Control Sheet'!F133&\")\")","v":""},"","","","","","","","","","","","","","","","","","","","","","","","","","","","","","","","","","","","","","","","","","","","","","","","","","","","","","","","",{"$f":"IF(A153=\"\",\"\",MAX(IF(ISERROR(AU153:BF153),0,AU153:BF153)))","v":""},"","","","","","","","","","","","","","","","","","","","","","","","","","","","","","","","","","","","","","","","","","","","",""]
[{"$f":"IF(ISBLANK('Control Sheet'!D134),\"\",'Control Sheet'!D134)","v":""},{"$f":"IF(ISBLANK('Control Sheet'!E134),\"\",'Control Sheet'!E134&\" (\"&'Control Sheet'!F134&\")\")","v":""},"","","","","","","","","","","","","","","","","","","","","","","","","","","","","","","","","","","","","","","","","","","","","","","","","","","","","","","","",{"$f":"IF(A154=\"\",\"\",MAX(IF(ISERROR(AU154:BF154),0,AU154:BF154)))","v":""},"","","","","","","","","","","","","","","","","","","","","","","","","","","","","","","","","","","","","","","","","","","","",""]
[{"$f":"IF(ISBLANK('Control Sheet'!D135),\"\",'Control Sheet'!D135)","v":""},{"$f":"IF(ISBLANK('Control Sheet'!E135),\"\",'Control Sheet'!E135&\" (\"&'Control Sheet'!F135&\")\")","v":""},"","","","","","","","","","","","","","","","","","","","","","","","","","","","","","","","","","","","","","","","","","","","","","","","","","","","","","","","",{"$f":"IF(A155=\"\",\"\",MAX(IF(ISERROR(AU155:BF155),0,AU155:BF155)))","v":""},"","","","","","","","","","","","","","","","","","","","","","","","","","","","","","","","","","","","","","","","","","","","",""]
[{"$f":"IF(ISBLANK('Control Sheet'!D136),\"\",'Control Sheet'!D136)","v":""},{"$f":"IF(ISBLANK('Control Sheet'!E136),\"\",'Control Sheet'!E136&\" (\"&'Control Sheet'!F136&\")\")","v":""},"","","","","","","","","","","","","","","","","","","","","","","","","","","","","","","","","","","","","","","","","","","","","","","","","","","","","","","","",{"$f":"IF(A156=\"\",\"\",MAX(IF(ISERROR(AU156:BF156),0,AU156:BF156)))","v":""},"","","","","","","","","","","","","","","","","","","","","","","","","","","","","","","","","","","","","","","","","","","","",""]
[{"$f":"IF(ISBLANK('Control Sheet'!D137),\"\",'Control Sheet'!D137)","v":""},{"$f":"IF(ISBLANK('Control Sheet'!E137),\"\",'Control Sheet'!E137&\" (\"&'Control Sheet'!F137&\")\")","v":""},"","","","","","","","","","","","","","","","","","","","","","","","","","","","","","","","","","","","","","","","","","","","","","","","","","","","","","","","",{"$f":"IF(A157=\"\",\"\",MAX(IF(ISERROR(AU157:BF157),0,AU157:BF157)))","v":""},"","","","","","","","","","","","","","","","","","","","","","","","","","","","","","","","","","","","","","","","","","","","",""]
[{"$f":"IF(ISBLANK('Control Sheet'!D138),\"\",'Control Sheet'!D138)","v":""},{"$f":"IF(ISBLANK('Control Sheet'!E138),\"\",'Control Sheet'!E138&\" (\"&'Control Sheet'!F138&\")\")","v":""},"","","","","","","","","","","","","","","","","","","","","","","","","","","","","","","","","","","","","","","","","","","","","","","","","","","","","","","","",{"$f":"IF(A158=\"\",\"\",MAX(IF(ISERROR(AU158:BF158),0,AU158:BF158)))","v":""},"","","","","","","","","","","","","","","","","","","","","","","","","","","","","","","","","","","","","","","","","","","","",""]
[{"$f":"IF(ISBLANK('Control Sheet'!D139),\"\",'Control Sheet'!D139)","v":""},{"$f":"IF(ISBLANK('Control Sheet'!E139),\"\",'Control Sheet'!E139&\" (\"&'Control Sheet'!F139&\")\")","v":""},"","","","","","","","","","","","","","","","","","","","","","","","","","","","","","","","","","","","","","","","","","","","","","","","","","","","","","","","",{"$f":"IF(A159=\"\",\"\",MAX(IF(ISERROR(AU159:BF159),0,AU159:BF159)))","v":""},"","","","","","","","","","","","","","","","","","","","","","","","","","","","","","","","","","","","","","","","","","","","",""]
[{"$f":"IF(ISBLANK('Control Sheet'!D140),\"\",'Control Sheet'!D140)","v":""},{"$f":"IF(ISBLANK('Control Sheet'!E140),\"\",'Control Sheet'!E140&\" (\"&'Control Sheet'!F140&\")\")","v":""},"","","","","","","","","","","","","","","","","","","","","","","","","","","","","","","","","","","","","","","","","","","","","","","","","","","","","","","","",{"$f":"IF(A160=\"\",\"\",MAX(IF(ISERROR(AU160:BF160),0,AU160:BF160)))","v":""},"","","","","","","","","","","","","","","","","","","","","","","","","","","","","","","","","","","","","","","","","","","","",""]
[{"$f":"IF(ISBLANK('Control Sheet'!D141),\"\",'Control Sheet'!D141)","v":""},{"$f":"IF(ISBLANK('Control Sheet'!E141),\"\",'Control Sheet'!E141&\" (\"&'Control Sheet'!F141&\")\")","v":""},{"$f":"IF(C$18=1,IF(ISNA(VLOOKUP($A161,INDIRECT(C$20),Abated_col,FALSE)),\"\",VLOOKUP($A161,INDIRECT(C$20),Abated_col,FALSE)),\"\")","v":""},"","","","","","","","","","","","","","","","","","","","","","","","","","","","","","","","","","","","","","","","","","","","","","","","","","","","","","","",{"$f":"IF(A161=\"\",\"\",MAX(IF(ISERROR(AU161:BF161),0,AU161:BF161)))","v":""},"","","","","","","","","","","","","","","","","","","","","","","","","","","","","","","","","","","","","","","","","","","","",""]
[{"$f":"IF(ISBLANK('Control Sheet'!D142),\"\",'Control Sheet'!D142)","v":""},{"$f":"IF(ISBLANK('Control Sheet'!E142),\"\",'Control Sheet'!E142&\" (\"&'Control Sheet'!F142&\")\")","v":""},"","","","","","","","","","","","","","","","","","","","","","","","","","","","","","","","","","","","","","","","","","","","","","","","","","","","","","","","",{"$f":"IF(A162=\"\",\"\",MAX(IF(ISERROR(AU162:BF162),0,AU162:BF162)))","v":""},"","","","","","","","","","","","","","","","","","","","","","","","","","","","","","","","","","","","","","","","","","","","",""]
[{"$f":"IF(ISBLANK('Control Sheet'!D143),\"\",'Control Sheet'!D143)","v":""},{"$f":"IF(ISBLANK('Control Sheet'!E143),\"\",'Control Sheet'!E143&\" (\"&'Control Sheet'!F143&\")\")","v":""},"","","","","","","","","","","","","","","","","","","","","","","","","","","","","","","","","","","","","","","","","","","","","","","","","","","","","","","","",{"$f":"IF(A163=\"\",\"\",MAX(IF(ISERROR(AU163:BF163),0,AU163:BF163)))","v":""},"","","","","","","","","","","","","","","","","","","","","","","","","","","","","","","","","","","","","","","","","","","","",""]
[{"$f":"IF(ISBLANK('Control Sheet'!D144),\"\",'Control Sheet'!D144)","v":""},{"$f":"IF(ISBLANK('Control Sheet'!E144),\"\",'Control Sheet'!E144&\" (\"&'Control Sheet'!F144&\")\")","v":""},"","","","","","","","","","","","","","","","","","","","","","","","","","","","","","","","","","","","","","","","","","","","","","","","","","","","","","","","",{"$f":"IF(A164=\"\",\"\",MAX(IF(ISERROR(AU164:BF164),0,AU164:BF164)))","v":""},"","","","","","","","","","","","","","","","","","","",{"$f":"IF(C$18=1,IF(ISNA(VLOOKUP($A164,INDIRECT(C$20),MUR_fee_col,FALSE)),\"\",VLOOKUP($A164,INDIRECT(C$20),MUR_fee_col,FALSE)),\"\")","v":""},"","","","","","","","","","","","",{"$f":"IF(C$18=1,IF(ISNA(VLOOKUP($A164,INDIRECT(C$20),MUR_Fee_adj_col,FALSE)),\"\",VLOOKUP($A164,INDIRECT(C$20),MUR_Fee_adj_col,FALSE)),\"\")","v":""},"","","","","","","","","","","",""]
[{"$f":"IF(ISBLANK('Control Sheet'!D145),\"\",'Control Sheet'!D145)","v":""},{"$f":"IF(ISBLANK('Control Sheet'!E145),\"\",'Control Sheet'!E145&\" (\"&'Control Sheet'!F145&\")\")","v":""},"","","","","","","","","","","","","","","","","","","","","","","","","","","","","","","","","","","","","","","","","","","","","","","","","","","","","","","","",{"$f":"IF(A165=\"\",\"\",MAX(IF(ISERROR(AU165:BF165),0,AU165:BF165)))","v":""},"","","","","","","","","","","","","","","","","","","","","","","","","","","","","","","","","","","","","","","","","","","","",""]
[{"$f":"IF(ISBLANK('Control Sheet'!D146),\"\",'Control Sheet'!D146)","v":""},{"$f":"IF(ISBLANK('Control Sheet'!E146),\"\",'Control Sheet'!E146&\" (\"&'Control Sheet'!F146&\")\")","v":""},"","","","","","","","","","","","","","","","","","","","","","","","","","","","","","","","","","","","","","","","","","","","","","","","","","","","","","","","",{"$f":"IF(A166=\"\",\"\",MAX(IF(ISERROR(AU166:BF166),0,AU166:BF166)))","v":""},"","","","","","","","","","","","","","","","","","","","","","","","","","","","","","","","","","","","","","","","","","","","",""]
[{"$f":"IF(ISBLANK('Control Sheet'!D147),\"\",'Control Sheet'!D147)","v":""},{"$f":"IF(ISBLANK('Control Sheet'!E147),\"\",'Control Sheet'!E147&\" (\"&'Control Sheet'!F147&\")\")","v":""},"","","","","","","","","","","","","","","","","","","","","","","","","","","","","","","","","","","","","","","","","","","","","","","","","","","","","","","","",{"$f":"IF(A167=\"\",\"\",MAX(IF(ISERROR(AU167:BF167),0,AU167:BF167)))","v":""},"","","","","","","","","","","","","","","","","","","","","","","","","","","","","","","","","","","","","","","","","","","","",""]
[{"$f":"IF(ISBLANK('Control Sheet'!D148),\"\",'Control Sheet'!D148)","v":""},{"$f":"IF(ISBLANK('Control Sheet'!E148),\"\",'Control Sheet'!E148&\" (\"&'Control Sheet'!F148&\")\")","v":""},"","","","","","","","","","","","","","","","","","","","","","","","","","","","","","","","","","","","","","","","","","","","","","","","","","","","","","","","",{"$f":"IF(A168=\"\",\"\",MAX(IF(ISERROR(AU168:BF168),0,AU168:BF168)))","v":""},"","","","","","","","","","","","","","","","","","","","","","","","","","","","","","","","","","","","","","","","","","","","",""]
[{"$f":"IF(ISBLANK('Control Sheet'!D149),\"\",'Control Sheet'!D149)","v":""},{"$f":"IF(ISBLANK('Control Sheet'!E149),\"\",'Control Sheet'!E149&\" (\"&'Control Sheet'!F149&\")\")","v":""},"","","","","","","","","","","","","","","","","","","","","","","","","","","","","","","","","","","","","","","","","","","","","","","","","","","","","","","","",{"$f":"IF(A169=\"\",\"\",MAX(IF(ISERROR(AU169:BF169),0,AU169:BF169)))","v":""},"","","","","","","","","","","","","","","","","","","","","","","","","","","","","","","","","","","","","","","","","","","","",""]
[{"$f":"IF(ISBLANK('Control Sheet'!D150),\"\",'Control Sheet'!D150)","v":""},{"$f":"IF(ISBLANK('Control Sheet'!E150),\"\",'Control Sheet'!E150&\" (\"&'Control Sheet'!F150&\")\")","v":""},"","","","","","","","","","","","","","","","","","","","","","","","","","","","","","","","","","","","","","","","","","","","","","","","","","","","","","","","",{"$f":"IF(A170=\"\",\"\",MAX(IF(ISERROR(AU170:BF170),0,AU170:BF170)))","v":""},"","","","","","","","","","","","","","","","","","","","","","","","","","","","","","","","","","","","","","","","","","","","",""]
[{"$f":"IF(ISBLANK('Control Sheet'!D151),\"\",'Control Sheet'!D151)","v":""},{"$f":"IF(ISBLANK('Control Sheet'!E151),\"\",'Control Sheet'!E151&\" (\"&'Control Sheet'!F151&\")\")","v":""},{"$f":"IF(C$18=1,IF(ISNA(VLOOKUP($A171,INDIRECT(C$20),Abated_col,FALSE)),\"\",VLOOKUP($A171,INDIRECT(C$20),Abated_col,FALSE)),\"\")","v":""},"","","","","","","","","","","","","","","","","","","","","","","","","","","","","","","","","","","","","","","","","","","","","","","","","","","","","","","",{"$f":"IF(A171=\"\",\"\",MAX(IF(ISERROR(AU171:BF171),0,AU171:BF171)))","v":""},"","","","","","","","","","","","","","","","","","","","","","","","","","","","","","","","","","","","","","","","","","","","",""]
[{"$f":"IF(ISBLANK('Control Sheet'!D152),\"\",'Control Sheet'!D152)","v":""},{"$f":"IF(ISBLANK('Control Sheet'!E152),\"\",'Control Sheet'!E152&\" (\"&'Control Sheet'!F152&\")\")","v":""},"","","","","","","","","","","","","","","","","","","","","","","","","","","","","","","","","","","","","","","","","","","","","","","","","","","","","","","","",{"$f":"IF(A172=\"\",\"\",MAX(IF(ISERROR(AU172:BF172),0,AU172:BF172)))","v":""},"","","","","","","","","","","","","","","","","","","","","","","","","","","","","","","","","","","","","","","","","","","","",""]
[{"$f":"IF(ISBLANK('Control Sheet'!D153),\"\",'Control Sheet'!D153)","v":""},{"$f":"IF(ISBLANK('Control Sheet'!E153),\"\",'Control Sheet'!E153&\" (\"&'Control Sheet'!F153&\")\")","v":""},"","","","","","","","","","","","","","","","","","","","","","","","","","","","","","","","","","","","","","","","","","","","","","","","","","","","","","","","",{"$f":"IF(A173=\"\",\"\",MAX(IF(ISERROR(AU173:BF173),0,AU173:BF173)))","v":""},"","","","","","","","","","","","","","","","","","","","","","","","","","","","","","","","","","","","","","","","","","","","",""]
[{"$f":"IF(ISBLANK('Control Sheet'!D154),\"\",'Control Sheet'!D154)","v":""},{"$f":"IF(ISBLANK('Control Sheet'!E154),\"\",'Control Sheet'!E154&\" (\"&'Control Sheet'!F154&\")\")","v":""},"","","","","","","","","","","","","","","","","","","","","","","","","","","","","","","","","","","","","","","","","","","","","","","","","","","","","","","","",{"$f":"IF(A174=\"\",\"\",MAX(IF(ISERROR(AU174:BF174),0,AU174:BF174)))","v":""},"","","","","","","","","","","","","","","","","","","","","","","","","","","","","","","","","","","","","","","","","","","","",""]
[{"$f":"IF(ISBLANK('Control Sheet'!D155),\"\",'Control Sheet'!D155)","v":""},{"$f":"IF(ISBLANK('Control Sheet'!E155),\"\",'Control Sheet'!E155&\" (\"&'Control Sheet'!F155&\")\")","v":""},"","","","","","","","","","","","","","","","","","","","","","","","","","","","","","","","","","","","","","","","","","","","","","","","","","","","","","","","",{"$f":"IF(A175=\"\",\"\",MAX(IF(ISERROR(AU175:BF175),0,AU175:BF175)))","v":""},"","","","","","","","","","","","","","","","","","","","","","","","","","","","","","","","","","","","","","","","","","","","",""]
[{"$f":"IF(ISBLANK('Control Sheet'!D156),\"\",'Control Sheet'!D156)","v":""},{"$f":"IF(ISBLANK('Control Sheet'!E156),\"\",'Control Sheet'!E156&\" (\"&'Control Sheet'!F156&\")\")","v":""},"","","","","","","","","","","","","","","","","","","","","","","","","","","","","","","","","","","","","","","","","","","","","","","","","","","","","","","","",{"$f":"IF(A176=\"\",\"\",MAX(IF(ISERROR(AU176:BF176),0,AU176:BF176)))","v":""},"","","","","","","","","","","","","","","","","","","","","","","","","","","","","","","","","","","","","","","","","","","","",""]
[{"$f":"IF(ISBLANK('Control Sheet'!D157),\"\",'Control Sheet'!D157)","v":""},{"$f":"IF(ISBLANK('Control Sheet'!E157),\"\",'Control Sheet'!E157&\" (\"&'Control Sheet'!F157&\")\")","v":""},"","","","","","","","","","","","","","","","","","","","","","","","","","","","","","","","","","","","","","","","","","","","","","","","","","","","","","","","",{"$f":"IF(A177=\"\",\"\",MAX(IF(ISERROR(AU177:BF177),0,AU177:BF177)))","v":""},"","","","","","","","","","","","","","","","","","","","","","","","","","","","","","","","","","","","","","","","","","","","",""]
[{"$f":"IF(ISBLANK('Control Sheet'!D158),\"\",'Control Sheet'!D158)","v":""},{"$f":"IF(ISBLANK('Control Sheet'!E158),\"\",'Control Sheet'!E158&\" (\"&'Control Sheet'!F158&\")\")","v":""},"","","","","","","","","","","","","","","","","","","","","","","","","","","","","","","","","","","","","","","","","","","","","","","","","","","","","","","","",{"$f":"IF(A178=\"\",\"\",MAX(IF(ISERROR(AU178:BF178),0,AU178:BF178)))","v":""},"","","","","","","","","","","","","","","","","","","","","","","","","","","","","","","","","","","","","","","","","","","","",""]
[{"$f":"IF(ISBLANK('Control Sheet'!D159),\"\",'Control Sheet'!D159)","v":""},{"$f":"IF(ISBLANK('Control Sheet'!E159),\"\",'Control Sheet'!E159&\" (\"&'Control Sheet'!F159&\")\")","v":""},"","","","","","","","","","","","","","","","","","","","","","","","","","","","","","","","","","","","","","","","","","","","","","","","","","","","","","","","",{"$f":"IF(A179=\"\",\"\",MAX(IF(ISERROR(AU179:BF179),0,AU179:BF179)))","v":""},"","","","","","","","","","","","","","","","","","","","","","","","","","","","","","","","","","","","","","","","","","","","",""]
[{"$f":"IF(ISBLANK('Control Sheet'!D160),\"\",'Control Sheet'!D160)","v":""},{"$f":"IF(ISBLANK('Control Sheet'!E160),\"\",'Control Sheet'!E160&\" (\"&'Control Sheet'!F160&\")\")","v":""},"","","","","","","","","","","","","","","","","","","","","","","","","","","","","","","","","","","","","","","","","","","","","","","","","","","","","","","","",{"$f":"IF(A180=\"\",\"\",MAX(IF(ISERROR(AU180:BF180),0,AU180:BF180)))","v":""},"","","","","","","","","","","","","","","","","","","","","","","","","","","","","","","","","","","","","","","","","","","","",""]
[{"$f":"IF(ISBLANK('Control Sheet'!D161),\"\",'Control Sheet'!D161)","v":""},{"$f":"IF(ISBLANK('Control Sheet'!E161),\"\",'Control Sheet'!E161&\" (\"&'Control Sheet'!F161&\")\")","v":""},{"$f":"IF(C$18=1,IF(ISNA(VLOOKUP($A181,INDIRECT(C$20),Abated_col,FALSE)),\"\",VLOOKUP($A181,INDIRECT(C$20),Abated_col,FALSE)),\"\")","v":""},"","","","","","","","","","","","","","","","","","","","","","","","","","","","","","","","","","","","","","","","","","","","","","","","","","","","","","","",{"$f":"IF(A181=\"\",\"\",MAX(IF(ISERROR(AU181:BF181),0,AU181:BF181)))","v":""},"","","","","","","","","","","","","","","","","","","","","","","","","","","","","","","","","","","","","","","","","","","","",""]
[{"$f":"IF(ISBLANK('Control Sheet'!D162),\"\",'Control Sheet'!D162)","v":""},{"$f":"IF(ISBLANK('Control Sheet'!E162),\"\",'Control Sheet'!E162&\" (\"&'Control Sheet'!F162&\")\")","v":""},"","","","","","","","","","","","","","","","","","","","","","","","","","","","","","","","","","","","","","","","","","","","","","","","","","","","","","","","",{"$f":"IF(A182=\"\",\"\",MAX(IF(ISERROR(AU182:BF182),0,AU182:BF182)))","v":""},"","","","","","","","","","","","","","","","","","","","","","","","","","","","","","","","","","","","","","","","","","","","",""]
[{"$f":"IF(ISBLANK('Control Sheet'!D163),\"\",'Control Sheet'!D163)","v":""},{"$f":"IF(ISBLANK('Control Sheet'!E163),\"\",'Control Sheet'!E163&\" (\"&'Control Sheet'!F163&\")\")","v":""},"","","","","","","","","","","","","","","","","","","","","","","","","","","","","","","","","","","","","","","","","","","","","","","","","","","","","","","","",{"$f":"IF(A183=\"\",\"\",MAX(IF(ISERROR(AU183:BF183),0,AU183:BF183)))","v":""},"","","","","","","","","","","","","","","","","","","","","","","","","","","","","","","","","","","","","","","","","","","","",""]
[{"$f":"IF(ISBLANK('Control Sheet'!D164),\"\",'Control Sheet'!D164)","v":""},{"$f":"IF(ISBLANK('Control Sheet'!E164),\"\",'Control Sheet'!E164&\" (\"&'Control Sheet'!F164&\")\")","v":""},"","","","","","","","","","","","","","","","","","","","","","","","","","","","","","","","","","","","","","","","","","","","","","","","","","","","","","","","",{"$f":"IF(A184=\"\",\"\",MAX(IF(ISERROR(AU184:BF184),0,AU184:BF184)))","v":""},"","","","","","","","","","","","","","","","","","","","","","","","","","","","","","","","","","","","","","","","","","","","",""]
[{"$f":"IF(ISBLANK('Control Sheet'!D165),\"\",'Control Sheet'!D165)","v":""},{"$f":"IF(ISBLANK('Control Sheet'!E165),\"\",'Control Sheet'!E165&\" (\"&'Control Sheet'!F165&\")\")","v":""},"","","","","","","","","","","","","","","","","","","","","","","","","","","","","","","","","","","","","","","","","","","","","","","","","","","","","","","","",{"$f":"IF(A185=\"\",\"\",MAX(IF(ISERROR(AU185:BF185),0,AU185:BF185)))","v":""},"","","","","","","","","","","","","","","","","","","","","","","","","","","","","","","","","","","","","","","","","","","","",""]
[{"$f":"IF(ISBLANK('Control Sheet'!D166),\"\",'Control Sheet'!D166)","v":""},{"$f":"IF(ISBLANK('Control Sheet'!E166),\"\",'Control Sheet'!E166&\" (\"&'Control Sheet'!F166&\")\")","v":""},"","","","","","","","","","","","","","","","","","","","","","","","","","","","","","","","","","","","","","","","","","","","","","","","","","","","","","","","",{"$f":"IF(A186=\"\",\"\",MAX(IF(ISERROR(AU186:BF186),0,AU186:BF186)))","v":""},"","","","","","","","","","","","","","","","","","","","","","","","","","","","","","","","","","","","","","","","","","","","",""]
[{"$f":"IF(ISBLANK('Control Sheet'!D167),\"\",'Control Sheet'!D167)","v":""},{"$f":"IF(ISBLANK('Control Sheet'!E167),\"\",'Control Sheet'!E167&\" (\"&'Control Sheet'!F167&\")\")","v":""},"","","","","","","","","","","","","","","","","","","","","","","","","","","","","","","","","","","","","","","","","","","","","","","","","","","","","","","","",{"$f":"IF(A187=\"\",\"\",MAX(IF(ISERROR(AU187:BF187),0,AU187:BF187)))","v":""},"","","","","","","","","","","","","","","","","","","","","","","","","","","","","","","","","","","","","","","","","","","","",""]
[{"$f":"IF(ISBLANK('Control Sheet'!D168),\"\",'Control Sheet'!D168)","v":""},{"$f":"IF(ISBLANK('Control Sheet'!E168),\"\",'Control Sheet'!E168&\" (\"&'Control Sheet'!F168&\")\")","v":""},"","","","","","","","","","","","","","","","","","","","","","","","","","","","","","","","","","","","","","","","","","","","","","","","","","","","","","","","",{"$f":"IF(A188=\"\",\"\",MAX(IF(ISERROR(AU188:BF188),0,AU188:BF188)))","v":""},"","","","","","","","","","","","","","","","","","","","","","","","","","","","","","","","","","","","","","","","","","","","",""]
[{"$f":"IF(ISBLANK('Control Sheet'!D169),\"\",'Control Sheet'!D169)","v":""},{"$f":"IF(ISBLANK('Control Sheet'!E169),\"\",'Control Sheet'!E169&\" (\"&'Control Sheet'!F169&\")\")","v":""},"","","","","","","","","","","","","","","","","","","","","","","","","","","","","","","","","","","","","","","","","","","","","","","","","","","","","","","","",{"$f":"IF(A189=\"\",\"\",MAX(IF(ISERROR(AU189:BF189),0,AU189:BF189)))","v":""},"","","","","","","","","","","","","","","","","","","","","","","","","","","","","","","","","","","","","","","","","","","","",""]
[{"$f":"IF(ISBLANK('Control Sheet'!D170),\"\",'Control Sheet'!D170)","v":""},{"$f":"IF(ISBLANK('Control Sheet'!E170),\"\",'Control Sheet'!E170&\" (\"&'Control Sheet'!F170&\")\")","v":""},"","","","","","","","","","","","","","","","","","","","","","","","","","","","","","","","","","","","","","","","","","","","","","","","","","","","","","","","",{"$f":"IF(A190=\"\",\"\",MAX(IF(ISERROR(AU190:BF190),0,AU190:BF190)))","v":""},"","","","","","","","","","","","","","","","","","","","","","","","","","","","","","","","","","","","","","","","","","","","",""]
[{"$f":"IF(ISBLANK('Control Sheet'!D171),\"\",'Control Sheet'!D171)","v":""},{"$f":"IF(ISBLANK('Control Sheet'!E171),\"\",'Control Sheet'!E171&\" (\"&'Control Sheet'!F171&\")\")","v":""},{"$f":"IF(C$18=1,IF(ISNA(VLOOKUP($A191,INDIRECT(C$20),Abated_col,FALSE)),\"\",VLOOKUP($A191,INDIRECT(C$20),Abated_col,FALSE)),\"\")","v":""},"","","","","","","","","","","","","","","","","","","","","","","","","","","","","","","","","","","","","","","","","","","","","","","","","","","","","","","",{"$f":"IF(A191=\"\",\"\",MAX(IF(ISERROR(AU191:BF191),0,AU191:BF191)))","v":""},"","","","","","","","","","","","","","","","","","","","","","","","","","","","","","","","","","","","","","","","","","","","",""]
[{"$f":"IF(ISBLANK('Control Sheet'!D172),\"\",'Control Sheet'!D172)","v":""},{"$f":"IF(ISBLANK('Control Sheet'!E172),\"\",'Control Sheet'!E172&\" (\"&'Control Sheet'!F172&\")\")","v":""},"","","","","","","","","","","","","","","","","","","","","","","","","","","","","","","","","","","","","","","","","","","","","","","","","","","","","","","","",{"$f":"IF(A192=\"\",\"\",MAX(IF(ISERROR(AU192:BF192),0,AU192:BF192)))","v":""},"","","","","","","","","","","","","","","","","","","","","","","","","","","","","","","","","","","","","","","","","","","","",""]
[{"$f":"IF(ISBLANK('Control Sheet'!D173),\"\",'Control Sheet'!D173)","v":""},{"$f":"IF(ISBLANK('Control Sheet'!E173),\"\",'Control Sheet'!E173&\" (\"&'Control Sheet'!F173&\")\")","v":""},"","","","","","","","","","","","","","","","","","","","","","","","","","","","","","","","","","","","","","","","","","","","","","","","","","","","","","","","",{"$f":"IF(A193=\"\",\"\",MAX(IF(ISERROR(AU193:BF193),0,AU193:BF193)))","v":""},"","","","","","","","","","","","","","","","","","","","","","","","","","","","","","","","","","","","","","","","","","","","",""]
[{"$f":"IF(ISBLANK('Control Sheet'!D174),\"\",'Control Sheet'!D174)","v":""},{"$f":"IF(ISBLANK('Control Sheet'!E174),\"\",'Control Sheet'!E174&\" (\"&'Control Sheet'!F174&\")\")","v":""},"","","","","","","","","","","","","","","","","","","","","","","","","","","","","","","","","","","","","","","","","","","","","","","","","","","","","","","","",{"$f":"IF(A194=\"\",\"\",MAX(IF(ISERROR(AU194:BF194),0,AU194:BF194)))","v":""},"","","","","","","","","","","","","","","","","","","","","","","","","","","","","","","","","","","","","","","","","","","","",""]
[{"$f":"IF(ISBLANK('Control Sheet'!D175),\"\",'Control Sheet'!D175)","v":""},{"$f":"IF(ISBLANK('Control Sheet'!E175),\"\",'Control Sheet'!E175&\" (\"&'Control Sheet'!F175&\")\")","v":""},"","","","","","","","","","","","","","","","","","","","","","","","","","","","","","","","","","","","","","","","","","","","","","","","","","","","","","","","",{"$f":"IF(A195=\"\",\"\",MAX(IF(ISERROR(AU195:BF195),0,AU195:BF195)))","v":""},"","","","","","","","","","","","","","","","","","","","","","","","","","","","","","","","","","","","","","","","","","","","",""]
[{"$f":"IF(ISBLANK('Control Sheet'!D176),\"\",'Control Sheet'!D176)","v":""},{"$f":"IF(ISBLANK('Control Sheet'!E176),\"\",'Control Sheet'!E176&\" (\"&'Control Sheet'!F176&\")\")","v":""},"","","","","","","","","","","","","","","","","","","","","","","","","","","","","","","","","","","","","","","","","","","","","","","","","","","","","","","","",{"$f":"IF(A196=\"\",\"\",MAX(IF(ISERROR(AU196:BF196),0,AU196:BF196)))","v":""},"","","","","","","","","","","","","","","","","","","","","","","","","","","","","","","","","","","","","","","","","","","","",""]
[{"$f":"IF(ISBLANK('Control Sheet'!D177),\"\",'Control Sheet'!D177)","v":""},{"$f":"IF(ISBLANK('Control Sheet'!E177),\"\",'Control Sheet'!E177&\" (\"&'Control Sheet'!F177&\")\")","v":""},"","","","","","","","","","","","","","","","","","","","","","","","","","","","","","","","","","","","","","","","","","","","","","","","","","","","","","","","",{"$f":"IF(A197=\"\",\"\",MAX(IF(ISERROR(AU197:BF197),0,AU197:BF197)))","v":""},"","","","","","","","","","","","","","","","","","","","","","","","","","","","","","","","","","","","","","","","","","","","",""]
[{"$f":"IF(ISBLANK('Control Sheet'!D178),\"\",'Control Sheet'!D178)","v":""},{"$f":"IF(ISBLANK('Control Sheet'!E178),\"\",'Control Sheet'!E178&\" (\"&'Control Sheet'!F178&\")\")","v":""},"","","","","","","","","","","","","","","","","","","","","","","","","","","","","","","","","","","","","","","","","","","","","","","","","","","","","","","","",{"$f":"IF(A198=\"\",\"\",MAX(IF(ISERROR(AU198:BF198),0,AU198:BF198)))","v":""},"","","","","","","","","","","","","","","","","","","","","","","","","","","","","","","","","","","","","","","","","","","","",""]
[{"$f":"IF(ISBLANK('Control Sheet'!D179),\"\",'Control Sheet'!D179)","v":""},{"$f":"IF(ISBLANK('Control Sheet'!E179),\"\",'Control Sheet'!E179&\" (\"&'Control Sheet'!F179&\")\")","v":""},"","","","","","","","","","","","","","","","","","","","","","","","","","","","","","","","","","","","","","","","","","","","","","","","","","","","","","","","",{"$f":"IF(A199=\"\",\"\",MAX(IF(ISERROR(AU199:BF199),0,AU199:BF199)))","v":""},"","","","","","","","","","","","","","","","","","","","","","","","","","","","","","","","","","","","","","","","","","","","",""]
[{"$f":"IF(ISBLANK('Control Sheet'!D180),\"\",'Control Sheet'!D180)","v":""},{"$f":"IF(ISBLANK('Control Sheet'!E180),\"\",'Control Sheet'!E180&\" (\"&'Control Sheet'!F180&\")\")","v":""},"","","","","","","","","","","","","","","","","","","","","","","","","","","","","","","","","","","","","","","","","","","","","","","","","","","","","","","","",{"$f":"IF(A200=\"\",\"\",MAX(IF(ISERROR(AU200:BF200),0,AU200:BF200)))","v":""},"","","","","","","","","","","","","","","","","","","","","","","","","","","","","","","","","","","","","","","","","","","","",""]
[{"$f":"IF(ISBLANK('Control Sheet'!D181),\"\",'Control Sheet'!D181)","v":""},{"$f":"IF(ISBLANK('Control Sheet'!E181),\"\",'Control Sheet'!E181&\" (\"&'Control Sheet'!F181&\")\")","v":""},{"$f":"IF(C$18=1,IF(ISNA(VLOOKUP($A201,INDIRECT(C$20),Abated_col,FALSE)),\"\",VLOOKUP($A201,INDIRECT(C$20),Abated_col,FALSE)),\"\")","v":""},"","","","","","","","","","","","","","","","","","","","","","","","","","","","","","","","","","","","","","","","","","","","","","","","","","","","","","","",{"$f":"IF(A201=\"\",\"\",MAX(IF(ISERROR(AU201:BF201),0,AU201:BF201)))","v":""},"","","","","","","","","","","","","","","","","","","","","","","","","","","","","","","","","","","","","","","","","","","","",""]
[{"$f":"IF(ISBLANK('Control Sheet'!D182),\"\",'Control Sheet'!D182)","v":""},{"$f":"IF(ISBLANK('Control Sheet'!E182),\"\",'Control Sheet'!E182&\" (\"&'Control Sheet'!F182&\")\")","v":""},"","","","","","","","","","","","","","","","","","","","","","","","","","","","","","","","","","","","","","","","","","","","","","","","","","","","","","","","",{"$f":"IF(A202=\"\",\"\",MAX(IF(ISERROR(AU202:BF202),0,AU202:BF202)))","v":""},"","","","","","","","","","","","","","","","","","","","","","","","","","","","","","","","","","","","","","","","","","","","",""]
[{"$f":"IF(ISBLANK('Control Sheet'!D183),\"\",'Control Sheet'!D183)","v":""},{"$f":"IF(ISBLANK('Control Sheet'!E183),\"\",'Control Sheet'!E183&\" (\"&'Control Sheet'!F183&\")\")","v":""},"","","","","","","","","","","","","","","","","","","","","","","","","","","","","","","","","","","","","","","","","","","","","","","","","","","","","","","","",{"$f":"IF(A203=\"\",\"\",MAX(IF(ISERROR(AU203:BF203),0,AU203:BF203)))","v":""},"","","","","","","","","","","","","","","","","","","","","","","","","","","","","","","","","","","","","","","","","","","","",""]
[{"$f":"IF(ISBLANK('Control Sheet'!D184),\"\",'Control Sheet'!D184)","v":""},{"$f":"IF(ISBLANK('Control Sheet'!E184),\"\",'Control Sheet'!E184&\" (\"&'Control Sheet'!F184&\")\")","v":""},"","","","","","","","","","","","","","","","","","","","","","","","","","","","","","","","","","","","","","","","","","","","","","","","","","","","","","","","",{"$f":"IF(A204=\"\",\"\",MAX(IF(ISERROR(AU204:BF204),0,AU204:BF204)))","v":""},"","","","","","","","","","","","","","","","","","","","","","","","","","","","",{"$f":"IF(L$18=1,IF(ISNA(VLOOKUP($A204,INDIRECT(L$20),MUR_fee_col,FALSE)),\"\",VLOOKUP($A204,INDIRECT(L$20),MUR_fee_col,FALSE)),\"\")","v":""},"","","","","","","","","","","","",{"$f":"IF(L$18=1,IF(ISNA(VLOOKUP($A204,INDIRECT(L$20),MUR_Fee_adj_col,FALSE)),\"\",VLOOKUP($A204,INDIRECT(L$20),MUR_Fee_adj_col,FALSE)),\"\")","v":""},"","",""]
[{"$f":"IF(ISBLANK('Control Sheet'!D185),\"\",'Control Sheet'!D185)","v":""},{"$f":"IF(ISBLANK('Control Sheet'!E185),\"\",'Control Sheet'!E185&\" (\"&'Control Sheet'!F185&\")\")","v":""},"","","","","","","","","","","","","","","","","","","","","","","","","","","","","","","","","","","","","","","","","","","","","","","","","","","","","","","","",{"$f":"IF(A205=\"\",\"\",MAX(IF(ISERROR(AU205:BF205),0,AU205:BF205)))","v":""},"","","","","","","","","","","","","","","","","","","","","","","","","","","","","","","","","","","","","","","","","","","","",""]
[{"$f":"IF(ISBLANK('Control Sheet'!D186),\"\",'Control Sheet'!D186)","v":""},{"$f":"IF(ISBLANK('Control Sheet'!E186),\"\",'Control Sheet'!E186&\" (\"&'Control Sheet'!F186&\")\")","v":""},"","","","","","","","","","","","","","","","","","","","","","","","","","","","","","","","","","","","","","","","","","","","","","","","","","","","","","","","",{"$f":"IF(A206=\"\",\"\",MAX(IF(ISERROR(AU206:BF206),0,AU206:BF206)))","v":""},"","","","","","","","","","","","","","","","","","","",{"$f":"IF(C$18=1,IF(ISNA(VLOOKUP($A206,INDIRECT(C$20),MUR_fee_col,FALSE)),\"\",VLOOKUP($A206,INDIRECT(C$20),MUR_fee_col,FALSE)),\"\")","v":""},"","","","","","","","","","","","",{"$f":"IF(C$18=1,IF(ISNA(VLOOKUP($A206,INDIRECT(C$20),MUR_Fee_adj_col,FALSE)),\"\",VLOOKUP($A206,INDIRECT(C$20),MUR_Fee_adj_col,FALSE)),\"\")","v":""},"","","","","","","","","","","",""]
[{"$f":"IF(ISBLANK('Control Sheet'!D187),\"\",'Control Sheet'!D187)","v":""},{"$f":"IF(ISBLANK('Control Sheet'!E187),\"\",'Control Sheet'!E187&\" (\"&'Control Sheet'!F187&\")\")","v":""},"","","","","","","","","","","","","","","","","","","","","","","","","","","","","","","","","","","","","","","","","","","","","","","","","","","","","","","","",{"$f":"IF(A207=\"\",\"\",MAX(IF(ISERROR(AU207:BF207),0,AU207:BF207)))","v":""},"","","","","","","","","","","","","","","","","","","","","","","","","","","","","","","","","","","","","","","","","","","","",""]
[{"$f":"IF(ISBLANK('Control Sheet'!D188),\"\",'Control Sheet'!D188)","v":""},{"$f":"IF(ISBLANK('Control Sheet'!E188),\"\",'Control Sheet'!E188&\" (\"&'Control Sheet'!F188&\")\")","v":""},"","","","","","","","","","","","","","","","","","","","","","","","","","","","","","","","","","","","","","","","","","","","","","","","","","","","","","","","",{"$f":"IF(A208=\"\",\"\",MAX(IF(ISERROR(AU208:BF208),0,AU208:BF208)))","v":""},"","","","","","","","","","","","","","","","","","","","","","","","","","","","","","","","","","","","","","","","","","","","",""]
[{"$f":"IF(ISBLANK('Control Sheet'!D189),\"\",'Control Sheet'!D189)","v":""},{"$f":"IF(ISBLANK('Control Sheet'!E189),\"\",'Control Sheet'!E189&\" (\"&'Control Sheet'!F189&\")\")","v":""},"","","","","","","","","","","","","","","","","","","","","","","","","","","","","","","","","","","","","","","","","","","","","","","","","","","","","","","","",{"$f":"IF(A209=\"\",\"\",MAX(IF(ISERROR(AU209:BF209),0,AU209:BF209)))","v":""},"","","","","","","","","","","","","","","","","","","","","","","","","","","","","","","","","","","","","","","","","","","","",""]
[{"$f":"IF(ISBLANK('Control Sheet'!D190),\"\",'Control Sheet'!D190)","v":""},{"$f":"IF(ISBLANK('Control Sheet'!E190),\"\",'Control Sheet'!E190&\" (\"&'Control Sheet'!F190&\")\")","v":""},"","","","","","","","","","","","","","","","","","","","","","","","","","","","","","","","","","","","","","","","","","","","","","","","","","","","","","","","",{"$f":"IF(A210=\"\",\"\",MAX(IF(ISERROR(AU210:BF210),0,AU210:BF210)))","v":""},"","","","","","","","","","","","","","","","","","","","","","","","","","","","","","","","","","","","","","","","","","","","",""]
[{"$f":"IF(ISBLANK('Control Sheet'!D191),\"\",'Control Sheet'!D191)","v":""},{"$f":"IF(ISBLANK('Control Sheet'!E191),\"\",'Control Sheet'!E191&\" (\"&'Control Sheet'!F191&\")\")","v":""},{"$f":"IF(C$18=1,IF(ISNA(VLOOKUP($A211,INDIRECT(C$20),Abated_col,FALSE)),\"\",VLOOKUP($A211,INDIRECT(C$20),Abated_col,FALSE)),\"\")","v":""},"","","","","","","","","","","","","","","","","","","","","","","","","","","","","","","","","","","","","","","","","","","","","","","","","","","","","","","",{"$f":"IF(A211=\"\",\"\",MAX(IF(ISERROR(AU211:BF211),0,AU211:BF211)))","v":""},"","","","","","","","","","","","","","","","","","","","","","","","","","","","","","","","","","","","","","","","","","","","",""]
[{"$f":"IF(ISBLANK('Control Sheet'!D192),\"\",'Control Sheet'!D192)","v":""},{"$f":"IF(ISBLANK('Control Sheet'!E192),\"\",'Control Sheet'!E192&\" (\"&'Control Sheet'!F192&\")\")","v":""},"","","","","","","","","","","","","","","","","","","","","","","","","","","","","","","","","","","","","","","","","","","","","","","","","","","","","","","","",{"$f":"IF(A212=\"\",\"\",MAX(IF(ISERROR(AU212:BF212),0,AU212:BF212)))","v":""},"","","","","","","","","","","","","","","","","","","","","","","","","","","","","","","","","","","","","","","","","","","","",""]
[{"$f":"IF(ISBLANK('Control Sheet'!D193),\"\",'Control Sheet'!D193)","v":""},{"$f":"IF(ISBLANK('Control Sheet'!E193),\"\",'Control Sheet'!E193&\" (\"&'Control Sheet'!F193&\")\")","v":""},"","","","","","","","","","","","",{"$f":"IF(A213=\"\",\"\",SUM(C213:N213))","v":""},{"$f":"IF(A213=\"\",\"\",IF($O$18=12,SUM(C213:N213),AVERAGE(C213:O213)*(12-$O$18)))","v":""},{"$f":"IF(A213=\"\",\"\",IF(P213<=400,\"No\",\"Yes\"))","v":""},{"$f":"IF(A213=\"\",\"\",MURMonthsPop-(COUNTA(C213:N213)-COUNTBLANK(C213:N213)))","v":""},{"$f":"IF(C$18=1,IF(ISNA(VLOOKUP($A213,INDIRECT(C$20),MIS_Count_col,FALSE)),\"\",VLOOKUP($A213,INDIRECT(C$20),MIS_Count_col,FALSE)),\"\")","v":""},{"$f":"IF(D$18=1,IF(ISNA(VLOOKUP($A213,INDIRECT(D$20),MIS_Count_col,FALSE)),\"\",VLOOKUP($A213,INDIRECT(D$20),MIS_Count_col,FALSE)),\"\")","v":""},{"$f":"IF(E$18=1,IF(ISNA(VLOOKUP($A213,INDIRECT(E$20),MIS_Count_col,FALSE)),\"\",VLOOKUP($A213,INDIRECT(E$20),MIS_Count_col,FALSE)),\"\")","v":""},{"$f":"IF(F$18=1,IF(ISNA(VLOOKUP($A213,INDIRECT(F$20),MIS_Count_col,FALSE)),\"\",VLOOKUP($A213,INDIRECT(F$20),MIS_Count_col,FALSE)),\"\")","v":""},{"$f":"IF(G$18=1,IF(ISNA(VLOOKUP($A213,INDIRECT(G$20),MIS_Count_col,FALSE)),\"\",VLOOKUP($A213,INDIRECT(G$20),MIS_Count_col,FALSE)),\"\")","v":""},{"$f":"IF(H$18=1,IF(ISNA(VLOOKUP($A213,INDIRECT(H$20),MIS_Count_col,FALSE)),\"\",VLOOKUP($A213,INDIRECT(H$20),MIS_Count_col,FALSE)),\"\")","v":""},{"$f":"IF(I$18=1,IF(ISNA(VLOOKUP($A213,INDIRECT(I$20),MIS_Count_col,FALSE)),\"\",VLOOKUP($A213,INDIRECT(I$20),MIS_Count_col,FALSE)),\"\")","v":""},{"$f":"IF(J$18=1,IF(ISNA(VLOOKUP($A213,INDIRECT(J$20),MIS_Count_col,FALSE)),\"\",VLOOKUP($A213,INDIRECT(J$20),MIS_Count_col,FALSE)),\"\")","v":""},{"$f":"IF(K$18=1,IF(ISNA(VLOOKUP($A213,INDIRECT(K$20),MIS_Count_col,FALSE)),\"\",VLOOKUP($A213,INDIRECT(K$20),MIS_Count_col,FALSE)),\"\")","v":""},{"$f":"IF(L$18=1,IF(ISNA(VLOOKUP($A213,INDIRECT(L$20),MIS_Count_col,FALSE)),\"\",VLOOKUP($A213,INDIRECT(L$20),MIS_Count_col,FALSE)),\"\")","v":""},{"$f":"IF(M$18=1,IF(ISNA(VLOOKUP($A213,INDIRECT(M$20),MIS_Count_col,FALSE)),\"\",VLOOKUP($A213,INDIRECT(M$20),MIS_Count_col,FALSE)),\"\")","v":""},{"$f":"IF(N$18=1,IF(ISNA(VLOOKUP($A213,INDIRECT(N$20),MIS_Count_col,FALSE)),\"\",VLOOKUP($A213,INDIRECT(N$20),MIS_Count_col,FALSE)),\"\")","v":""},{"$f":"IF(A213=\"\",\"\",SUM(S213:AD213))","v":""},{"$f":"IF(OR(A213=\"\",AE213=0),\"\",AE213/(O$18-R213))","v":""},"","","","","","","","","","","","","",{"$f":"IF(A213=\"\",\"\",MAX(AH213:AS213))","v":""},{"$f":"IF(C$18=1,IF(ISNA(VLOOKUP($A213,INDIRECT(C$20),LPC_Stat_col,FALSE)),\"\",VLOOKUP($A213,INDIRECT(C$20),LPC_Stat_col,FALSE)),\"\")","v":""},{"$f":"IF(D$18=1,IF(ISNA(VLOOKUP($A213,INDIRECT(D$20),LPC_Stat_col,FALSE)),\"\",VLOOKUP($A213,INDIRECT(D$20),LPC_Stat_col,FALSE)),\"\")","v":""},{"$f":"IF(E$18=1,IF(ISNA(VLOOKUP($A213,INDIRECT(E$20),LPC_Stat_col,FALSE)),\"\",VLOOKUP($A213,INDIRECT(E$20),LPC_Stat_col,FALSE)),\"\")","v":""},{"$f":"IF(F$18=1,IF(ISNA(VLOOKUP($A213,INDIRECT(F$20),LPC_Stat_col,FALSE)),\"\",VLOOKUP($A213,INDIRECT(F$20),LPC_Stat_col,FALSE)),\"\")","v":""},{"$f":"IF(G$18=1,IF(ISNA(VLOOKUP($A213,INDIRECT(G$20),LPC_Stat_col,FALSE)),\"\",VLOOKUP($A213,INDIRECT(G$20),LPC_Stat_col,FALSE)),\"\")","v":""},{"$f":"IF(H$18=1,IF(ISNA(VLOOKUP($A213,INDIRECT(H$20),LPC_Stat_col,FALSE)),\"\",VLOOKUP($A213,INDIRECT(H$20),LPC_Stat_col,FALSE)),\"\")","v":""},{"$f":"IF(I$18=1,IF(ISNA(VLOOKUP($A213,INDIRECT(I$20),LPC_Stat_col,FALSE)),\"\",VLOOKUP($A213,INDIRECT(I$20),LPC_Stat_col,FALSE)),\"\")","v":""},{"$f":"IF(J$18=1,IF(ISNA(VLOOKUP($A213,INDIRECT(J$20),LPC_Stat_col,FALSE)),\"\",VLOOKUP($A213,INDIRECT(J$20),LPC_Stat_col,FALSE)),\"\")","v":""},{"$f":"IF(K$18=1,IF(ISNA(VLOOKUP($A213,INDIRECT(K$20),LPC_Stat_col,FALSE)),\"\",VLOOKUP($A213,INDIRECT(K$20),LPC_Stat_col,FALSE)),\"\")","v":""},{"$f":"IF(L$18=1,IF(ISNA(VLOOKUP($A213,INDIRECT(L$20),LPC_Stat_col,FALSE)),\"\",VLOOKUP($A213,INDIRECT(L$20),LPC_Stat_col,FALSE)),\"\")","v":""},{"$f":"IF(M$18=1,IF(ISNA(VLOOKUP($A213,INDIRECT(M$20),LPC_Stat_col,FALSE)),\"\",VLOOKUP($A213,INDIRECT(M$20),LPC_Stat_col,FALSE)),\"\")","v":""},{"$f":"IF(N$18=1,IF(ISNA(VLOOKUP($A213,INDIRECT(N$20),LPC_Stat_col,FALSE)),\"\",VLOOKUP($A213,INDIRECT(N$20),LPC_Stat_col,FALSE)),\"\")","v":""},{"$f":"IF(A213=\"\",\"\",MAX(IF(ISERROR(AU213:BF213),0,AU213:BF213)))","v":""},{"$f":"IF(C$18=1,IF(ISNA(VLOOKUP($A213,INDIRECT(C$20),LPC_Vol_col,FALSE)),\"\",VLOOKUP($A213,INDIRECT(C$20),LPC_Vol_col,FALSE)),\"\")","v":""},{"$f":"IF(D$18=1,IF(ISNA(VLOOKUP($A213,INDIRECT(D$20),LPC_Vol_col,FALSE)),\"\",VLOOKUP($A213,INDIRECT(D$20),LPC_Vol_col,FALSE)),\"\")","v":""},{"$f":"IF(E$18=1,IF(ISNA(VLOOKUP($A213,INDIRECT(E$20),LPC_Vol_col,FALSE)),\"\",VLOOKUP($A213,INDIRECT(E$20),LPC_Vol_col,FALSE)),\"\")","v":""},{"$f":"IF(F$18=1,IF(ISNA(VLOOKUP($A213,INDIRECT(F$20),LPC_Vol_col,FALSE)),\"\",VLOOKUP($A213,INDIRECT(F$20),LPC_Vol_col,FALSE)),\"\")","v":""},{"$f":"IF(G$18=1,IF(ISNA(VLOOKUP($A213,INDIRECT(G$20),LPC_Vol_col,FALSE)),\"\",VLOOKUP($A213,INDIRECT(G$20),LPC_Vol_col,FALSE)),\"\")","v":""},{"$f":"IF(H$18=1,IF(ISNA(VLOOKUP($A213,INDIRECT(H$20),LPC_Vol_col,FALSE)),\"\",VLOOKUP($A213,INDIRECT(H$20),LPC_Vol_col,FALSE)),\"\")","v":""},{"$f":"IF(I$18=1,IF(ISNA(VLOOKUP($A213,INDIRECT(I$20),LPC_Vol_col,FALSE)),\"\",VLOOKUP($A213,INDIRECT(I$20),LPC_Vol_col,FALSE)),\"\")","v":""},{"$f":"IF(J$18=1,IF(ISNA(VLOOKUP($A213,INDIRECT(J$20),LPC_Vol_col,FALSE)),\"\",VLOOKUP($A213,INDIRECT(J$20),LPC_Vol_col,FALSE)),\"\")","v":""},{"$f":"IF(K$18=1,IF(ISNA(VLOOKUP($A213,INDIRECT(K$20),LPC_Vol_col,FALSE)),\"\",VLOOKUP($A213,INDIRECT(K$20),LPC_Vol_col,FALSE)),\"\")","v":""},{"$f":"IF(L$18=1,IF(ISNA(VLOOKUP($A213,INDIRECT(L$20),LPC_Vol_col,FALSE)),\"\",VLOOKUP($A213,INDIRECT(L$20),LPC_Vol_col,FALSE)),\"\")","v":""},{"$f":"IF(M$18=1,IF(ISNA(VLOOKUP($A213,INDIRECT(M$20),LPC_Vol_col,FALSE)),\"\",VLOOKUP($A213,INDIRECT(M$20),LPC_Vol_col,FALSE)),\"\")","v":""},{"$f":"IF(N$18=1,IF(ISNA(VLOOKUP($A213,INDIRECT(N$20),LPC_Vol_col,FALSE)),\"\",VLOOKUP($A213,INDIRECT(N$20),LPC_Vol_col,FALSE)),\"\")","v":""},{"$f":"IF(A213=\"\",\"\",SUM(BH213:BS213))","v":""},{"$f":"IF(A213=\"\",\"\",MIN(B213:M213))","v":""},{"$f":"IF(A213=\"\",\"\",MAX(B213:M213))","v":""},{"$f":"IF(A213=\"\",\"\",BV213-BU213)","v":""},{"$f":"IF(A213=\"\",\"\",IF(BW213>$BW$11,\"Yes\",\"No\"))","v":""},{"$f":"IF(A213=\"\",\"\",(COUNTA(C213:N213)-COUNTBLANK(C213:N213)))","v":""},{"$f":"IF(A213=\"\",\"\",BY213-COUNTIF(C213:N213,\"=0\"))","v":""},"","","","","","","","","","","","",{"$f":"IF(A213=\"\",\"\",SUM(CA213:CL213))","v":""},"","","","","","","","","","","","",{"$f":"IF(A213=\"\",\"\",SUM(CN213:CY213))","v":""}]
[{"$f":"IF(ISBLANK('Control Sheet'!D194),\"\",'Control Sheet'!D194)","v":""},{"$f":"IF(ISBLANK('Control Sheet'!E194),\"\",'Control Sheet'!E194&\" (\"&'Control Sheet'!F194&\")\")","v":""},"","","","","","","","","","","","","","","","","","","","","","","","","","","","","","","",{"$f":"IF(C214=\"\",\"\",IF(AND(C214=0,S214=1),\"Normal\",IF(AND(C214=1,S214=1),\"Abated-1\",IF(C214=S214,\"Abated-n\",\"Mixed\"))))","v":""},{"$f":"IF(D214=\"\",\"\",IF(AND(D214=0,T214=1),\"Normal\",IF(AND(D214=1,T214=1),\"Abated-1\",IF(D214=T214,\"Abated-n\",\"Mixed\"))))","v":""},{"$f":"IF(E214=\"\",\"\",IF(AND(E214=0,U214=1),\"Normal\",IF(AND(E214=1,U214=1),\"Abated-1\",IF(E214=U214,\"Abated-n\",\"Mixed\"))))","v":""},{"$f":"IF(F214=\"\",\"\",IF(AND(F214=0,V214=1),\"Normal\",IF(AND(F214=1,V214=1),\"Abated-1\",IF(F214=V214,\"Abated-n\",\"Mixed\"))))","v":""},{"$f":"IF(G214=\"\",\"\",IF(AND(G214=0,W214=1),\"Normal\",IF(AND(G214=1,W214=1),\"Abated-1\",IF(G214=W214,\"Abated-n\",\"Mixed\"))))","v":""},{"$f":"IF(H214=\"\",\"\",IF(AND(H214=0,X214=1),\"Normal\",IF(AND(H214=1,X214=1),\"Abated-1\",IF(H214=X214,\"Abated-n\",\"Mixed\"))))","v":""},{"$f":"IF(I214=\"\",\"\",IF(AND(I214=0,Y214=1),\"Normal\",IF(AND(I214=1,Y214=1),\"Abated-1\",IF(I214=Y214,\"Abated-n\",\"Mixed\"))))","v":""},{"$f":"IF(J214=\"\",\"\",IF(AND(J214=0,Z214=1),\"Normal\",IF(AND(J214=1,Z214=1),\"Abated-1\",IF(J214=Z214,\"Abated-n\",\"Mixed\"))))","v":""},{"$f":"IF(K214=\"\",\"\",IF(AND(K214=0,AA214=1),\"Normal\",IF(AND(K214=1,AA214=1),\"Abated-1\",IF(K214=AA214,\"Abated-n\",\"Mixed\"))))","v":""},{"$f":"IF(L214=\"\",\"\",IF(AND(L214=0,AB214=1),\"Normal\",IF(AND(L214=1,AB214=1),\"Abated-1\",IF(L214=AB214,\"Abated-n\",\"Mixed\"))))","v":""},{"$f":"IF(M214=\"\",\"\",IF(AND(M214=0,AC214=1),\"Normal\",IF(AND(M214=1,AC214=1),\"Abated-1\",IF(M214=AC214,\"Abated-n\",\"Mixed\"))))","v":""},{"$f":"IF(N214=\"\",\"\",IF(AND(N214=0,AD214=1),\"Normal\",IF(AND(N214=1,AD214=1),\"Abated-1\",IF(N214=AD214,\"Abated-n\",\"Mixed\"))))","v":""},"","","","","","","","","","","","","",{"$f":"IF(A214=\"\",\"\",MAX(IF(ISERROR(AU214:BF214),0,AU214:BF214)))","v":""},"","","","","","","","","","","","","","","","","","","","","","","","","","","","","","","","","","","","","","","","","","","","",""]
[{"$f":"IF(ISBLANK('Control Sheet'!D195),\"\",'Control Sheet'!D195)","v":""},{"$f":"IF(ISBLANK('Control Sheet'!E195),\"\",'Control Sheet'!E195&\" (\"&'Control Sheet'!F195&\")\")","v":""},"","","","","","","","","","","","","","","","","","","","","","","","","","","","","","",{"$f":"IF(AF215=\"\",\"\",IF(AF215<=1,\"Lower Outlier\",IF(AF215<=2,\"Below Average\",IF(AF215<=3,\"Lower Quartile\",IF(AF215<=4,\"Upper Quartile\",IF(AF215<=5, \"Above Average\", \"Upper Outlier\"))))))","v":""},"","","","","","","","","","","","","","","","","","","","","","","","","",{"$f":"IF(A215=\"\",\"\",MAX(IF(ISERROR(AU215:BF215),0,AU215:BF215)))","v":""},"","","","","","","","","","","","","","","","","","","","","","","","","","","","","","","","","","","","","","","","","","","","",""]
[{"$f":"IF(ISBLANK('Control Sheet'!D196),\"\",'Control Sheet'!D196)","v":""},{"$f":"IF(ISBLANK('Control Sheet'!E196),\"\",'Control Sheet'!E196&\" (\"&'Control Sheet'!F196&\")\")","v":""},"","","","","","","","","","","","","","","","","","","","","","","","","","","","","","","","","","","","","","","","","","","","","","","","","","","","","","","","",{"$f":"IF(A216=\"\",\"\",MAX(IF(ISERROR(AU216:BF216),0,AU216:BF216)))","v":""},"","","","","","","","","","","","","","","","","","","","","","","","","","","","","","","","","","","","","","","","","","","","",""]
[{"$f":"IF(ISBLANK('Control Sheet'!D197),\"\",'Control Sheet'!D197)","v":""},{"$f":"IF(ISBLANK('Control Sheet'!E197),\"\",'Control Sheet'!E197&\" (\"&'Control Sheet'!F197&\")\")","v":""},"","","","","","","","","","","","","","","","","","","","","","","","","","","","","","","","","","","","","","","","","","","","","","","","","","","","","","","","",{"$f":"IF(A217=\"\",\"\",MAX(IF(ISERROR(AU217:BF217),0,AU217:BF217)))","v":""},"","","","","","","","","","","","","","","","","","","","","","","","","","","","","","","","","","","","","","","","","","","","",""]
[{"$f":"IF(ISBLANK('Control Sheet'!D198),\"\",'Control Sheet'!D198)","v":""},{"$f":"IF(ISBLANK('Control Sheet'!E198),\"\",'Control Sheet'!E198&\" (\"&'Control Sheet'!F198&\")\")","v":""},"","","","","","","","","","","","","","","","","","","","","","","","","","","","","","","","","","","","","","","","","","","","","","","","","","","","","","","","",{"$f":"IF(A218=\"\",\"\",MAX(IF(ISERROR(AU218:BF218),0,AU218:BF218)))","v":""},"","","","","","","","","","","","","","","","","","","","","","","","","","","","","","","","","","","","","","","","","","","","",""]
[{"$f":"IF(ISBLANK('Control Sheet'!D199),\"\",'Control Sheet'!D199)","v":""},{"$f":"IF(ISBLANK('Control Sheet'!E199),\"\",'Control Sheet'!E199&\" (\"&'Control Sheet'!F199&\")\")","v":""},"","","","","","","","","","","","","","","","","","","","","","","","","","","","","","","","","","","","","","","","","","","","","","","","","","","","","","","","",{"$f":"IF(A219=\"\",\"\",MAX(IF(ISERROR(AU219:BF219),0,AU219:BF219)))","v":""},"","","","","","","","","","","","","","","","","","","","","","","","","","","","","","","","","","","","","","","","","","","","",""]
[{"$f":"IF(ISBLANK('Control Sheet'!D200),\"\",'Control Sheet'!D200)","v":""},{"$f":"IF(ISBLANK('Control Sheet'!E200),\"\",'Control Sheet'!E200&\" (\"&'Control Sheet'!F200&\")\")","v":""},"","","","","","","","","","","","","","","","","","","","","","","","","","","","","","","","","","","","","","","","","","","","","","","","","","","","","","","","",{"$f":"IF(A220=\"\",\"\",MAX(IF(ISERROR(AU220:BF220),0,AU220:BF220)))","v":""},"","","","","","","","","","","","","","","","","","","","","","","","","","","","","","","","","","","","","","","","","","","","",""]
[{"$f":"IF(ISBLANK('Control Sheet'!D201),\"\",'Control Sheet'!D201)","v":""},{"$f":"IF(ISBLANK('Control Sheet'!E201),\"\",'Control Sheet'!E201&\" (\"&'Control Sheet'!F201&\")\")","v":""},{"$f":"IF(C$18=1,IF(ISNA(VLOOKUP($A221,INDIRECT(C$20),Abated_col,FALSE)),\"\",VLOOKUP($A221,INDIRECT(C$20),Abated_col,FALSE)),\"\")","v":""},"","","","","","","","","","","","","","","","","","","","","","","","","","","","","","","","","","","","","","","","","","","","","","","","","","","","","","","",{"$f":"IF(A221=\"\",\"\",MAX(IF(ISERROR(AU221:BF221),0,AU221:BF221)))","v":""},"","","","","","","","","","","","","","","","","","","","","","","","","","","","","","","","","","","","","","","","","","","","",""]
[{"$f":"IF(ISBLANK('Control Sheet'!D202),\"\",'Control Sheet'!D202)","v":""},{"$f":"IF(ISBLANK('Control Sheet'!E202),\"\",'Control Sheet'!E202&\" (\"&'Control Sheet'!F202&\")\")","v":""},"","","","","","","","","","","","","","","","","","","","","","","","","","","","","","","","","","","","","","","","","","","","","","","","","","","","","","","","",{"$f":"IF(A222=\"\",\"\",MAX(IF(ISERROR(AU222:BF222),0,AU222:BF222)))","v":""},"","","","","","","","","","","","","","","","","","","","","","","","","","","","","","","","","","","","","","","","","","","","",""]
[{"$f":"IF(ISBLANK('Control Sheet'!D203),\"\",'Control Sheet'!D203)","v":""},{"$f":"IF(ISBLANK('Control Sheet'!E203),\"\",'Control Sheet'!E203&\" (\"&'Control Sheet'!F203&\")\")","v":""},"","","","","","","","","","","","","","","","","","","","","","","","","","","","","","","","","","","","","","","","","","","","","","","","","","","","","","","","",{"$f":"IF(A223=\"\",\"\",MAX(IF(ISERROR(AU223:BF223),0,AU223:BF223)))","v":""},"","","","","","","","","","","","","","","","","","","","","","","","","","","","","","","","","","","","","","","","","","","","",""]
[{"$f":"IF(ISBLANK('Control Sheet'!D204),\"\",'Control Sheet'!D204)","v":""},{"$f":"IF(ISBLANK('Control Sheet'!E204),\"\",'Control Sheet'!E204&\" (\"&'Control Sheet'!F204&\")\")","v":""},"","","","","","","","","","","","","","","","","","","","","","","","","","","","","","","","","","","","","","","","","","","","","","","","","","","","","","","","",{"$f":"IF(A224=\"\",\"\",MAX(IF(ISERROR(AU224:BF224),0,AU224:BF224)))","v":""},"","","","","","","","","","","","","","","","","","","","","","","","","","","","","","","","","","","","","","","","","","","","",""]
[{"$f":"IF(ISBLANK('Control Sheet'!D205),\"\",'Control Sheet'!D205)","v":""},{"$f":"IF(ISBLANK('Control Sheet'!E205),\"\",'Control Sheet'!E205&\" (\"&'Control Sheet'!F205&\")\")","v":""},"","","","","","","","","","","","","","","","","","","","","","","","","","","","","","","","","","","","","","","","","","","","","","","","","","","","","","","","",{"$f":"IF(A225=\"\",\"\",MAX(IF(ISERROR(AU225:BF225),0,AU225:BF225)))","v":""},"","","","","","","","","","","","","","","","","","","","","","","","","","","","","","","","","","","","","","","","","","","","",""]
[{"$f":"IF(ISBLANK('Control Sheet'!D206),\"\",'Control Sheet'!D206)","v":""},{"$f":"IF(ISBLANK('Control Sheet'!E206),\"\",'Control Sheet'!E206&\" (\"&'Control Sheet'!F206&\")\")","v":""},"","","","","","","","","","","","","","","","","","","","","","","","","","","","","","","","","","","","","","","","","","","","","","","","","","","","","","","","",{"$f":"IF(A226=\"\",\"\",MAX(IF(ISERROR(AU226:BF226),0,AU226:BF226)))","v":""},"","","","","","","","","","","","","","","","","","","","","","","","","","","","","","","","","","","","","","","","","","","","",""]
[{"$f":"IF(ISBLANK('Control Sheet'!D207),\"\",'Control Sheet'!D207)","v":""},{"$f":"IF(ISBLANK('Control Sheet'!E207),\"\",'Control Sheet'!E207&\" (\"&'Control Sheet'!F207&\")\")","v":""},"","","","","","","","","","","","","","","","","","","","","","","","","","","","","","","","","","","","","","","","","","","","","","","","","","","","","","","","",{"$f":"IF(A227=\"\",\"\",MAX(IF(ISERROR(AU227:BF227),0,AU227:BF227)))","v":""},"","","","","","","","","","","","","","","","","","","","","","","","","","","","","","","","","","","","","","","","","","","","",""]
[{"$f":"IF(ISBLANK('Control Sheet'!D208),\"\",'Control Sheet'!D208)","v":""},{"$f":"IF(ISBLANK('Control Sheet'!E208),\"\",'Control Sheet'!E208&\" (\"&'Control Sheet'!F208&\")\")","v":""},"","","","","","","","","","","","","","","","","","","","","","","","","","","","","","","","","","","","","","","","","","","","","","","","","","","","","","","","",{"$f":"IF(A228=\"\",\"\",MAX(IF(ISERROR(AU228:BF228),0,AU228:BF228)))","v":""},"","","","","","","","","","","","","","","","","","","","","","","","","","","","","","","","","","","","","","","","","","","","",""]
[{"$f":"IF(ISBLANK('Control Sheet'!D209),\"\",'Control Sheet'!D209)","v":""},{"$f":"IF(ISBLANK('Control Sheet'!E209),\"\",'Control Sheet'!E209&\" (\"&'Control Sheet'!F209&\")\")","v":""},"","","","","","","","","","","","","","","","","","","","","","","","","","","","","","","","","","","","","","","","","","","","","","","","","","","","","","","","",{"$f":"IF(A229=\"\",\"\",MAX(IF(ISERROR(AU229:BF229),0,AU229:BF229)))","v":""},"","","","","","","","","","","","","","","","","","","","","","","","","","","","","","","","","","","","","","","","","","","","",""]
[{"$f":"IF(ISBLANK('Control Sheet'!D210),\"\",'Control Sheet'!D210)","v":""},{"$f":"IF(ISBLANK('Control Sheet'!E210),\"\",'Control Sheet'!E210&\" (\"&'Control Sheet'!F210&\")\")","v":""},"","","","","","","","","","","","","","","","","","","","","","","","","","","","","","","","","","","","","","","","","","","","","","","","","","","","","","","","",{"$f":"IF(A230=\"\",\"\",MAX(IF(ISERROR(AU230:BF230),0,AU230:BF230)))","v":""},"","","","","","","","","","","","","","","","","","","","","","","","","","","","","","","","","","","","","","","","","","","","",""]
[{"$f":"IF(ISBLANK('Control Sheet'!D211),\"\",'Control Sheet'!D211)","v":""},{"$f":"IF(ISBLANK('Control Sheet'!E211),\"\",'Control Sheet'!E211&\" (\"&'Control Sheet'!F211&\")\")","v":""},{"$f":"IF(C$18=1,IF(ISNA(VLOOKUP($A231,INDIRECT(C$20),Abated_col,FALSE)),\"\",VLOOKUP($A231,INDIRECT(C$20),Abated_col,FALSE)),\"\")","v":""},"","","","","","","","","","","","","","","","","","","","","","","","","","","","","","","","","","","","","","","","","","","","","","","","","","","","","","","",{"$f":"IF(A231=\"\",\"\",MAX(IF(ISERROR(AU231:BF231),0,AU231:BF231)))","v":""},"","","","","","","","","","","","","","","","","","","","","","","","","","","","","","","","","","","","","","","","","","","","",""]
[{"$f":"IF(ISBLANK('Control Sheet'!D212),\"\",'Control Sheet'!D212)","v":""},{"$f":"IF(ISBLANK('Control Sheet'!E212),\"\",'Control Sheet'!E212&\" (\"&'Control Sheet'!F212&\")\")","v":""},"","","","","","","","","","","","","","","","","","","","","","","","","","","","","","","","","","","","","","","","","","","","","","","","","","","","","","","","",{"$f":"IF(A232=\"\",\"\",MAX(IF(ISERROR(AU232:BF232),0,AU232:BF232)))","v":""},"","","","","","","","","","","","","","","","","","","","","","","","","","","","","","","","","","","","","","","","","","","","",""]
[{"$f":"IF(ISBLANK('Control Sheet'!D213),\"\",'Control Sheet'!D213)","v":""},{"$f":"IF(ISBLANK('Control Sheet'!E213),\"\",'Control Sheet'!E213&\" (\"&'Control Sheet'!F213&\")\")","v":""},"","","","","","","","","","","","","","","","","","","","","","","","","","","","","","","","","","","","","","","","","","","","","","","","","","","","","","","","",{"$f":"IF(A233=\"\",\"\",MAX(IF(ISERROR(AU233:BF233),0,AU233:BF233)))","v":""},"","","","","","","","","","","","","","","","","","","","","","","","","","","","","","","","","","","","","","","","","","","","",""]
[{"$f":"IF(ISBLANK('Control Sheet'!D214),\"\",'Control Sheet'!D214)","v":""},{"$f":"IF(ISBLANK('Control Sheet'!E214),\"\",'Control Sheet'!E214&\" (\"&'Control Sheet'!F214&\")\")","v":""},"","","","","","","","","","","","","","","","","","","","","","","","","","","","","","","","","","","","","","","","","","","","","","","","","","","","","","","","",{"$f":"IF(A234=\"\",\"\",MAX(IF(ISERROR(AU234:BF234),0,AU234:BF234)))","v":""},"","","","","","","","","","","","","","","","","","","","","","",{"$f":"IF(F$18=1,IF(ISNA(VLOOKUP($A234,INDIRECT(F$20),MUR_fee_col,FALSE)),\"\",VLOOKUP($A234,INDIRECT(F$20),MUR_fee_col,FALSE)),\"\")","v":""},"","","","","","","","","","","","",{"$f":"IF(F$18=1,IF(ISNA(VLOOKUP($A234,INDIRECT(F$20),MUR_Fee_adj_col,FALSE)),\"\",VLOOKUP($A234,INDIRECT(F$20),MUR_Fee_adj_col,FALSE)),\"\")","v":""},"","","","","","","","",""]
[{"$f":"IF(ISBLANK('Control Sheet'!D215),\"\",'Control Sheet'!D215)","v":""},{"$f":"IF(ISBLANK('Control Sheet'!E215),\"\",'Control Sheet'!E215&\" (\"&'Control Sheet'!F215&\")\")","v":""},"","","","","","","","","","","","","","","","","","","","","","","","","","","","","","","","","","","","","","","","","","","","","","","","","","","","","","","","",{"$f":"IF(A235=\"\",\"\",MAX(IF(ISERROR(AU235:BF235),0,AU235:BF235)))","v":""},"","","","","","","","","","","","","","","","","","","",{"$f":"IF(C$18=1,IF(ISNA(VLOOKUP($A235,INDIRECT(C$20),MUR_fee_col,FALSE)),\"\",VLOOKUP($A235,INDIRECT(C$20),MUR_fee_col,FALSE)),\"\")","v":""},"","","","","","","","","","","","",{"$f":"IF(C$18=1,IF(ISNA(VLOOKUP($A235,INDIRECT(C$20),MUR_Fee_adj_col,FALSE)),\"\",VLOOKUP($A235,INDIRECT(C$20),MUR_Fee_adj_col,FALSE)),\"\")","v":""},"","","","","","","","","","","",""]
[{"$f":"IF(ISBLANK('Control Sheet'!D216),\"\",'Control Sheet'!D216)","v":""},{"$f":"IF(ISBLANK('Control Sheet'!E216),\"\",'Control Sheet'!E216&\" (\"&'Control Sheet'!F216&\")\")","v":""},"","","","","","","","","","","","","","","","","","","","","","","","","","","","","","","","","","","","","","","","","","","","","","","","","","","","","","","","",{"$f":"IF(A236=\"\",\"\",MAX(IF(ISERROR(AU236:BF236),0,AU236:BF236)))","v":""},"","","","","","","","","","","","","","","","","","","","","","","","","","","","","","","","","","","","","","","","","","","","",""]
[{"$f":"IF(ISBLANK('Control Sheet'!D217),\"\",'Control Sheet'!D217)","v":""},{"$f":"IF(ISBLANK('Control Sheet'!E217),\"\",'Control Sheet'!E217&\" (\"&'Control Sheet'!F217&\")\")","v":""},"","","","","","","","","","","","","","","","","","","","","","","","","","","","","","","","","","","","","","","","","","","","","","","","","","","","","","","","",{"$f":"IF(A237=\"\",\"\",MAX(IF(ISERROR(AU237:BF237),0,AU237:BF237)))","v":""},"","","","","","","","","","","","","","","","","","","","","","","","","","","","","","","","","","","","","","","","","","","","",""]
[{"$f":"IF(ISBLANK('Control Sheet'!D218),\"\",'Control Sheet'!D218)","v":""},{"$f":"IF(ISBLANK('Control Sheet'!E218),\"\",'Control Sheet'!E218&\" (\"&'Control Sheet'!F218&\")\")","v":""},"","","","","","","","","","","","","","","","","","","","","","","","","","","","","","","","","","","","","","","","","","","","","","","","","","","","","","","","",{"$f":"IF(A238=\"\",\"\",MAX(IF(ISERROR(AU238:BF238),0,AU238:BF238)))","v":""},"","","","","","","","","","","","","","","","","","","","","","","","","","","","","","","","","","","","","","","","","","","","",""]
[{"$f":"IF(ISBLANK('Control Sheet'!D219),\"\",'Control Sheet'!D219)","v":""},{"$f":"IF(ISBLANK('Control Sheet'!E219),\"\",'Control Sheet'!E219&\" (\"&'Control Sheet'!F219&\")\")","v":""},"","","","","","","","","","","","","","","","","","","","","","","","","","","","","","","","","","","","","","","","","","","","","","","","","","","","","","","","",{"$f":"IF(A239=\"\",\"\",MAX(IF(ISERROR(AU239:BF239),0,AU239:BF239)))","v":""},"","","","","","","","","","","","","","","","","","","","","","","","","","","","","","","","","","","","","","","","","","","","",""]
[{"$f":"IF(ISBLANK('Control Sheet'!D220),\"\",'Control Sheet'!D220)","v":""},{"$f":"IF(ISBLANK('Control Sheet'!E220),\"\",'Control Sheet'!E220&\" (\"&'Control Sheet'!F220&\")\")","v":""},"","","","","","","","","","","","","","","","","","","","","","","","","","","","","","","","","","","","","","","","","","","","","","","","","","","","","","","","",{"$f":"IF(A240=\"\",\"\",MAX(IF(ISERROR(AU240:BF240),0,AU240:BF240)))","v":""},"","","","","","","","","","","","","","","","","","","","","","","","","","","","","","","","","","","","","","","","","","","","",""]
[{"$f":"IF(ISBLANK('Control Sheet'!D221),\"\",'Control Sheet'!D221)","v":""},{"$f":"IF(ISBLANK('Control Sheet'!E221),\"\",'Control Sheet'!E221&\" (\"&'Control Sheet'!F221&\")\")","v":""},{"$f":"IF(C$18=1,IF(ISNA(VLOOKUP($A241,INDIRECT(C$20),Abated_col,FALSE)),\"\",VLOOKUP($A241,INDIRECT(C$20),Abated_col,FALSE)),\"\")","v":""},"","","","","","","","","","","","","","","","","","","","","","","","","","","","","","","","","","","","","","","","","","","","","","","","","","","","","","","",{"$f":"IF(A241=\"\",\"\",MAX(IF(ISERROR(AU241:BF241),0,AU241:BF241)))","v":""},"","","","","","","","","","","","","","","","","","","","","","","","","","","","","","","","","","","","","","","","","","","","",""]
[{"$f":"IF(ISBLANK('Control Sheet'!D222),\"\",'Control Sheet'!D222)","v":""},{"$f":"IF(ISBLANK('Control Sheet'!E222),\"\",'Control Sheet'!E222&\" (\"&'Control Sheet'!F222&\")\")","v":""},"","","","","","","","","","","","","","","","","","","","","","","","","","","","","","","","","","","","","","","","","","","","","","","","","","","","","","","","",{"$f":"IF(A242=\"\",\"\",MAX(IF(ISERROR(AU242:BF242),0,AU242:BF242)))","v":""},"","","","","","","","","","","","","","","","","","","","","","","","","","","","","","","","","","","","","","","","","","","","",""]
[{"$f":"IF(ISBLANK('Control Sheet'!D223),\"\",'Control Sheet'!D223)","v":""},{"$f":"IF(ISBLANK('Control Sheet'!E223),\"\",'Control Sheet'!E223&\" (\"&'Control Sheet'!F223&\")\")","v":""},"","","","","","","","","","","","","","","","","","","","","","","","","","","","","","","","","","","","","","","","","","","","","","","","","","","","","","","","",{"$f":"IF(A243=\"\",\"\",MAX(IF(ISERROR(AU243:BF243),0,AU243:BF243)))","v":""},"","","","","","","","","","","","","","","","","","","","","","","","","","","","","","","","","","","","","","","","","","","","",""]
[{"$f":"IF(ISBLANK('Control Sheet'!D224),\"\",'Control Sheet'!D224)","v":""},{"$f":"IF(ISBLANK('Control Sheet'!E224),\"\",'Control Sheet'!E224&\" (\"&'Control Sheet'!F224&\")\")","v":""},"","","","","","","","","","","","","","","","","","","","","","","","","","","","","","","","","","","","","","","","","","","","","","","","","","","","","","","","",{"$f":"IF(A244=\"\",\"\",MAX(IF(ISERROR(AU244:BF244),0,AU244:BF244)))","v":""},"","","","","","","","","","","","","","","","","","","","","","","","","","","","","","","","","","","","","","","","","","","","",""]
[{"$f":"IF(ISBLANK('Control Sheet'!D225),\"\",'Control Sheet'!D225)","v":""},{"$f":"IF(ISBLANK('Control Sheet'!E225),\"\",'Control Sheet'!E225&\" (\"&'Control Sheet'!F225&\")\")","v":""},"","","","","","","","","","","","","","","","","","","","","","","","","","","","","","","","","","","","","","","","","","","","","","","","","","","","","","","","",{"$f":"IF(A245=\"\",\"\",MAX(IF(ISERROR(AU245:BF245),0,AU245:BF245)))","v":""},"","","","","","","","","","","","","","","","","","","","","","","","","","","","","","","","","","","","","","","","","","","","",""]
[{"$f":"IF(ISBLANK('Control Sheet'!D226),\"\",'Control Sheet'!D226)","v":""},{"$f":"IF(ISBLANK('Control Sheet'!E226),\"\",'Control Sheet'!E226&\" (\"&'Control Sheet'!F226&\")\")","v":""},"","","","","","","","","","","","","","","","","","","","","","","","","","","","","","","","","","","","","","","","","","","","","","","","","","","","","","","","",{"$f":"IF(A246=\"\",\"\",MAX(IF(ISERROR(AU246:BF246),0,AU246:BF246)))","v":""},"","","","","","","","","","","","","","","","","","","","","","","","","","","","","","","","","","","","","","","","","","","","",""]
[{"$f":"IF(ISBLANK('Control Sheet'!D227),\"\",'Control Sheet'!D227)","v":""},{"$f":"IF(ISBLANK('Control Sheet'!E227),\"\",'Control Sheet'!E227&\" (\"&'Control Sheet'!F227&\")\")","v":""},"","","","","","","","","","","","","","","","","","","","","","","","","","","","","","","","","","","","","","","","","","","","","","","","","","","","","","","","",{"$f":"IF(A247=\"\",\"\",MAX(IF(ISERROR(AU247:BF247),0,AU247:BF247)))","v":""},"","","","","","","","","","","","","","","","","","","","","","","","","","","","","","","","","","","","","","","","","","","","",""]
[{"$f":"IF(ISBLANK('Control Sheet'!D228),\"\",'Control Sheet'!D228)","v":""},{"$f":"IF(ISBLANK('Control Sheet'!E228),\"\",'Control Sheet'!E228&\" (\"&'Control Sheet'!F228&\")\")","v":""},"","","","","","","","","","","","","","","","","","","","","","","","","","","","","","","","","","","","","","","","","","","","","","","","","","","","","","","","",{"$f":"IF(A248=\"\",\"\",MAX(IF(ISERROR(AU248:BF248),0,AU248:BF248)))","v":""},"","","","","","","","","","","","","","","","","","","","","","","","","","","","","","","","","","","","","","","","","","","","",""]
[{"$f":"IF(ISBLANK('Control Sheet'!D229),\"\",'Control Sheet'!D229)","v":""},{"$f":"IF(ISBLANK('Control Sheet'!E229),\"\",'Control Sheet'!E229&\" (\"&'Control Sheet'!F229&\")\")","v":""},"","","","","","","","","","","","","","","","","","","","","","","","","","","","","","","","","","","","","","","","","","","","","","","","","","","","","","","","",{"$f":"IF(A249=\"\",\"\",MAX(IF(ISERROR(AU249:BF249),0,AU249:BF249)))","v":""},"","","","","","","","","","","","","","","","","","","","","","","","","","","","","","","","","","","","","","","","","","","","",""]
[{"$f":"IF(ISBLANK('Control Sheet'!D230),\"\",'Control Sheet'!D230)","v":""},{"$f":"IF(ISBLANK('Control Sheet'!E230),\"\",'Control Sheet'!E230&\" (\"&'Control Sheet'!F230&\")\")","v":""},"","","","","","","","","","","","","","","","","","","","","","","","","","","","","","","","","","","","","","","","","","","","","","","","","","","","","","","","",{"$f":"IF(A250=\"\",\"\",MAX(IF(ISERROR(AU250:BF250),0,AU250:BF250)))","v":""},"","","","","","","","","","","","","","","","","","","","","","","","","","","","","","","","","","","","","","","","","","","","",""]
[{"$f":"IF(ISBLANK('Control Sheet'!D232),\"\",'Control Sheet'!D232)","v":""},{"$f":"IF(ISBLANK('Control Sheet'!E232),\"\",'Control Sheet'!E232&\" (\"&'Control Sheet'!F232&\")\")","v":""},"","","","","","","","","","","","","","","","","","","","","","","","","","","","","","","","","","","","","","","","","","","","","","","","","","","","","","","","",{"$f":"IF(A252=\"\",\"\",MAX(IF(ISERROR(AU252:BF252),0,AU252:BF252)))","v":""},"","","","","","","","","","","","","","","","","","","","","","","","","","","","","","","","","","","","","","","","","","","","",""]
[{"$f":"IF(ISBLANK('Control Sheet'!D234),\"\",'Control Sheet'!D234)","v":""},{"$f":"IF(ISBLANK('Control Sheet'!E234),\"\",'Control Sheet'!E234&\" (\"&'Control Sheet'!F234&\")\")","v":""},"","","","","","","","","","","","","","","","","","","","","","","","","","","","","","","","","","","","","","","","","","","","","","","","","","","","","","","","",{"$f":"IF(A254=\"\",\"\",MAX(IF(ISERROR(AU254:BF254),0,AU254:BF254)))","v":""},"","","","","","","","","","","","","","","","","","","","","","","","","","","","","","","","","","","","","","","","","","","","",""]
[{"$f":"IF(ISBLANK('Control Sheet'!D237),\"\",'Control Sheet'!D237)","v":""},{"$f":"IF(ISBLANK('Control Sheet'!E237),\"\",'Control Sheet'!E237&\" (\"&'Control Sheet'!F237&\")\")","v":""},"","","","","","","","","","","","","","","","","","","","","","","","","","","","","","","","","","","","","","","","","","","","","","","","","","","","","","","","",{"$f":"IF(A257=\"\",\"\",MAX(IF(ISERROR(AU257:BF257),0,AU257:BF257)))","v":""},"","","","","","","","","","","","","","","","","","","","","","","","","","","","","","","","","","","","","","","","","","","","",""]
[{"$f":"IF(ISBLANK('Control Sheet'!D241),\"\",'Control Sheet'!D241)","v":""},{"$f":"IF(ISBLANK('Control Sheet'!E241),\"\",'Control Sheet'!E241&\" (\"&'Control Sheet'!F241&\")\")","v":""},{"$f":"IF(C$18=1,IF(ISNA(VLOOKUP($A261,INDIRECT(C$20),Abated_col,FALSE)),\"\",VLOOKUP($A261,INDIRECT(C$20),Abated_col,FALSE)),\"\")","v":""},"","","","","","","","","","","","","","","","","","","","","","","","","","","","","","","","","","","","","","","","","","","","","","","","","","","","","","","",{"$f":"IF(A261=\"\",\"\",MAX(IF(ISERROR(AU261:BF261),0,AU261:BF261)))","v":""},"","","","","","","","","","","","","","","","","","","","","","","","","","","","","","","","","","","","","","","","","","","","",""]
[{"$f":"IF(ISBLANK('Control Sheet'!D244),\"\",'Control Sheet'!D244)","v":""},{"$f":"IF(ISBLANK('Control Sheet'!E244),\"\",'Control Sheet'!E244&\" (\"&'Control Sheet'!F244&\")\")","v":""},"","","","","","","","","","","","","","","","","","","","","","","","","","","","","","","","","","","","","","","","","","","","","","","","","","","","","","","","",{"$f":"IF(A264=\"\",\"\",MAX(IF(ISERROR(AU264:BF264),0,AU264:BF264)))","v":""},"","","","","","","","","","","","","","","","","","","","","","","","","","","","","","","","","","","","","","","","","","","","",""]
[{"$f":"IF(ISBLANK('Control Sheet'!D245),\"\",'Control Sheet'!D245)","v":""},{"$f":"IF(ISBLANK('Control Sheet'!E245),\"\",'Control Sheet'!E245&\" (\"&'Control Sheet'!F245&\")\")","v":""},"","","","","","","","","","","","","","","","","","","","","","","","","","","","","","","","","","","","","","","","","","","","","","","","","","","","","","","","",{"$f":"IF(A265=\"\",\"\",MAX(IF(ISERROR(AU265:BF265),0,AU265:BF265)))","v":""},"","","","","","","","","","","","","","","","","","","","","","","","","","","","","","","","","","","","","","","","","","","","",""]
[{"$f":"IF(ISBLANK('Control Sheet'!D247),\"\",'Control Sheet'!D247)","v":""},{"$f":"IF(ISBLANK('Control Sheet'!E247),\"\",'Control Sheet'!E247&\" (\"&'Control Sheet'!F247&\")\")","v":""},"","","","","","","","","","","","","","","","","","","","","","","","","","","","","","","","","","","","","","","","","","","","","","","","","","","","","","","","",{"$f":"IF(A267=\"\",\"\",MAX(IF(ISERROR(AU267:BF267),0,AU267:BF267)))","v":""},"","","","","","","","","","","","","","","","","","","","","","","","","","","","","","","","","","","","","","","","","","","","",""]
[{"$f":"IF(ISBLANK('Control Sheet'!D250),\"\",'Control Sheet'!D250)","v":""},{"$f":"IF(ISBLANK('Control Sheet'!E250),\"\",'Control Sheet'!E250&\" (\"&'Control Sheet'!F250&\")\")","v":""},"","","","","","","","","","","","","","","","","","","","","","","","","","","","","","","","","","","","","","","","","","","","","","","","","","","","","","","","",{"$f":"IF(A270=\"\",\"\",MAX(IF(ISERROR(AU270:BF270),0,AU270:BF270)))","v":""},"","","","","","","","","","","","","","","","","","","","","","","","","","","","","","","","","","","","","","","","","","","","",""]
[{"$f":"IF(ISBLANK('Control Sheet'!D254),\"\",'Control Sheet'!D254)","v":""},{"$f":"IF(ISBLANK('Control Sheet'!E254),\"\",'Control Sheet'!E254&\" (\"&'Control Sheet'!F254&\")\")","v":""},"","","","","","","","","","","","","","","","","","","","","","","","","","","","","","","","","","","","","","","","","","","","","","","","","","","","","","","","",{"$f":"IF(A274=\"\",\"\",MAX(IF(ISERROR(AU274:BF274),0,AU274:BF274)))","v":""},"","","","","","","","","","","","","","","","","","","","","","","","","","","","","","","","","","","","","","","","","","","","",""]
[{"$f":"IF(ISBLANK('Control Sheet'!D257),\"\",'Control Sheet'!D257)","v":""},{"$f":"IF(ISBLANK('Control Sheet'!E257),\"\",'Control Sheet'!E257&\" (\"&'Control Sheet'!F257&\")\")","v":""},"","","","","","","","","","","","",{"$f":"IF(A277=\"\",\"\",SUM(C277:N277))","v":""},{"$f":"IF(A277=\"\",\"\",IF($O$18=12,SUM(C277:N277),AVERAGE(C277:O277)*(12-$O$18)))","v":""},{"$f":"IF(A277=\"\",\"\",IF(P277<=400,\"No\",\"Yes\"))","v":""},{"$f":"IF(A277=\"\",\"\",MURMonthsPop-(COUNTA(C277:N277)-COUNTBLANK(C277:N277)))","v":""},{"$f":"IF(C$18=1,IF(ISNA(VLOOKUP($A277,INDIRECT(C$20),MIS_Count_col,FALSE)),\"\",VLOOKUP($A277,INDIRECT(C$20),MIS_Count_col,FALSE)),\"\")","v":""},{"$f":"IF(D$18=1,IF(ISNA(VLOOKUP($A277,INDIRECT(D$20),MIS_Count_col,FALSE)),\"\",VLOOKUP($A277,INDIRECT(D$20),MIS_Count_col,FALSE)),\"\")","v":""},{"$f":"IF(E$18=1,IF(ISNA(VLOOKUP($A277,INDIRECT(E$20),MIS_Count_col,FALSE)),\"\",VLOOKUP($A277,INDIRECT(E$20),MIS_Count_col,FALSE)),\"\")","v":""},{"$f":"IF(F$18=1,IF(ISNA(VLOOKUP($A277,INDIRECT(F$20),MIS_Count_col,FALSE)),\"\",VLOOKUP($A277,INDIRECT(F$20),MIS_Count_col,FALSE)),\"\")","v":""},{"$f":"IF(G$18=1,IF(ISNA(VLOOKUP($A277,INDIRECT(G$20),MIS_Count_col,FALSE)),\"\",VLOOKUP($A277,INDIRECT(G$20),MIS_Count_col,FALSE)),\"\")","v":""},{"$f":"IF(H$18=1,IF(ISNA(VLOOKUP($A277,INDIRECT(H$20),MIS_Count_col,FALSE)),\"\",VLOOKUP($A277,INDIRECT(H$20),MIS_Count_col,FALSE)),\"\")","v":""},{"$f":"IF(I$18=1,IF(ISNA(VLOOKUP($A277,INDIRECT(I$20),MIS_Count_col,FALSE)),\"\",VLOOKUP($A277,INDIRECT(I$20),MIS_Count_col,FALSE)),\"\")","v":""},{"$f":"IF(J$18=1,IF(ISNA(VLOOKUP($A277,INDIRECT(J$20),MIS_Count_col,FALSE)),\"\",VLOOKUP($A277,INDIRECT(J$20),MIS_Count_col,FALSE)),\"\")","v":""},{"$f":"IF(K$18=1,IF(ISNA(VLOOKUP($A277,INDIRECT(K$20),MIS_Count_col,FALSE)),\"\",VLOOKUP($A277,INDIRECT(K$20),MIS_Count_col,FALSE)),\"\")","v":""},{"$f":"IF(L$18=1,IF(ISNA(VLOOKUP($A277,INDIRECT(L$20),MIS_Count_col,FALSE)),\"\",VLOOKUP($A277,INDIRECT(L$20),MIS_Count_col,FALSE)),\"\")","v":""},{"$f":"IF(M$18=1,IF(ISNA(VLOOKUP($A277,INDIRECT(M$20),MIS_Count_col,FALSE)),\"\",VLOOKUP($A277,INDIRECT(M$20),MIS_Count_col,FALSE)),\"\")","v":""},{"$f":"IF(N$18=1,IF(ISNA(VLOOKUP($A277,INDIRECT(N$20),MIS_Count_col,FALSE)),\"\",VLOOKUP($A277,INDIRECT(N$20),MIS_Count_col,FALSE)),\"\")","v":""},{"$f":"IF(A277=\"\",\"\",SUM(S277:AD277))","v":""},{"$f":"IF(OR(A277=\"\",AE277=0),\"\",AE277/(O$18-R277))","v":""},"","","","","","","","","","","","","",{"$f":"IF(A277=\"\",\"\",MAX(AH277:AS277))","v":""},{"$f":"IF(C$18=1,IF(ISNA(VLOOKUP($A277,INDIRECT(C$20),LPC_Stat_col,FALSE)),\"\",VLOOKUP($A277,INDIRECT(C$20),LPC_Stat_col,FALSE)),\"\")","v":""},{"$f":"IF(D$18=1,IF(ISNA(VLOOKUP($A277,INDIRECT(D$20),LPC_Stat_col,FALSE)),\"\",VLOOKUP($A277,INDIRECT(D$20),LPC_Stat_col,FALSE)),\"\")","v":""},{"$f":"IF(E$18=1,IF(ISNA(VLOOKUP($A277,INDIRECT(E$20),LPC_Stat_col,FALSE)),\"\",VLOOKUP($A277,INDIRECT(E$20),LPC_Stat_col,FALSE)),\"\")","v":""},{"$f":"IF(F$18=1,IF(ISNA(VLOOKUP($A277,INDIRECT(F$20),LPC_Stat_col,FALSE)),\"\",VLOOKUP($A277,INDIRECT(F$20),LPC_Stat_col,FALSE)),\"\")","v":""},{"$f":"IF(G$18=1,IF(ISNA(VLOOKUP($A277,INDIRECT(G$20),LPC_Stat_col,FALSE)),\"\",VLOOKUP($A277,INDIRECT(G$20),LPC_Stat_col,FALSE)),\"\")","v":""},{"$f":"IF(H$18=1,IF(ISNA(VLOOKUP($A277,INDIRECT(H$20),LPC_Stat_col,FALSE)),\"\",VLOOKUP($A277,INDIRECT(H$20),LPC_Stat_col,FALSE)),\"\")","v":""},{"$f":"IF(I$18=1,IF(ISNA(VLOOKUP($A277,INDIRECT(I$20),LPC_Stat_col,FALSE)),\"\",VLOOKUP($A277,INDIRECT(I$20),LPC_Stat_col,FALSE)),\"\")","v":""},{"$f":"IF(J$18=1,IF(ISNA(VLOOKUP($A277,INDIRECT(J$20),LPC_Stat_col,FALSE)),\"\",VLOOKUP($A277,INDIRECT(J$20),LPC_Stat_col,FALSE)),\"\")","v":""},{"$f":"IF(K$18=1,IF(ISNA(VLOOKUP($A277,INDIRECT(K$20),LPC_Stat_col,FALSE)),\"\",VLOOKUP($A277,INDIRECT(K$20),LPC_Stat_col,FALSE)),\"\")","v":""},{"$f":"IF(L$18=1,IF(ISNA(VLOOKUP($A277,INDIRECT(L$20),LPC_Stat_col,FALSE)),\"\",VLOOKUP($A277,INDIRECT(L$20),LPC_Stat_col,FALSE)),\"\")","v":""},{"$f":"IF(M$18=1,IF(ISNA(VLOOKUP($A277,INDIRECT(M$20),LPC_Stat_col,FALSE)),\"\",VLOOKUP($A277,INDIRECT(M$20),LPC_Stat_col,FALSE)),\"\")","v":""},{"$f":"IF(N$18=1,IF(ISNA(VLOOKUP($A277,INDIRECT(N$20),LPC_Stat_col,FALSE)),\"\",VLOOKUP($A277,INDIRECT(N$20),LPC_Stat_col,FALSE)),\"\")","v":""},{"$f":"IF(A277=\"\",\"\",MAX(IF(ISERROR(AU277:BF277),0,AU277:BF277)))","v":""},{"$f":"IF(C$18=1,IF(ISNA(VLOOKUP($A277,INDIRECT(C$20),LPC_Vol_col,FALSE)),\"\",VLOOKUP($A277,INDIRECT(C$20),LPC_Vol_col,FALSE)),\"\")","v":""},{"$f":"IF(D$18=1,IF(ISNA(VLOOKUP($A277,INDIRECT(D$20),LPC_Vol_col,FALSE)),\"\",VLOOKUP($A277,INDIRECT(D$20),LPC_Vol_col,FALSE)),\"\")","v":""},{"$f":"IF(E$18=1,IF(ISNA(VLOOKUP($A277,INDIRECT(E$20),LPC_Vol_col,FALSE)),\"\",VLOOKUP($A277,INDIRECT(E$20),LPC_Vol_col,FALSE)),\"\")","v":""},{"$f":"IF(F$18=1,IF(ISNA(VLOOKUP($A277,INDIRECT(F$20),LPC_Vol_col,FALSE)),\"\",VLOOKUP($A277,INDIRECT(F$20),LPC_Vol_col,FALSE)),\"\")","v":""},{"$f":"IF(G$18=1,IF(ISNA(VLOOKUP($A277,INDIRECT(G$20),LPC_Vol_col,FALSE)),\"\",VLOOKUP($A277,INDIRECT(G$20),LPC_Vol_col,FALSE)),\"\")","v":""},{"$f":"IF(H$18=1,IF(ISNA(VLOOKUP($A277,INDIRECT(H$20),LPC_Vol_col,FALSE)),\"\",VLOOKUP($A277,INDIRECT(H$20),LPC_Vol_col,FALSE)),\"\")","v":""},{"$f":"IF(I$18=1,IF(ISNA(VLOOKUP($A277,INDIRECT(I$20),LPC_Vol_col,FALSE)),\"\",VLOOKUP($A277,INDIRECT(I$20),LPC_Vol_col,FALSE)),\"\")","v":""},{"$f":"IF(J$18=1,IF(ISNA(VLOOKUP($A277,INDIRECT(J$20),LPC_Vol_col,FALSE)),\"\",VLOOKUP($A277,INDIRECT(J$20),LPC_Vol_col,FALSE)),\"\")","v":""},{"$f":"IF(K$18=1,IF(ISNA(VLOOKUP($A277,INDIRECT(K$20),LPC_Vol_col,FALSE)),\"\",VLOOKUP($A277,INDIRECT(K$20),LPC_Vol_col,FALSE)),\"\")","v":""},{"$f":"IF(L$18=1,IF(ISNA(VLOOKUP($A277,INDIRECT(L$20),LPC_Vol_col,FALSE)),\"\",VLOOKUP($A277,INDIRECT(L$20),LPC_Vol_col,FALSE)),\"\")","v":""},{"$f":"IF(M$18=1,IF(ISNA(VLOOKUP($A277,INDIRECT(M$20),LPC_Vol_col,FALSE)),\"\",VLOOKUP($A277,INDIRECT(M$20),LPC_Vol_col,FALSE)),\"\")","v":""},{"$f":"IF(N$18=1,IF(ISNA(VLOOKUP($A277,INDIRECT(N$20),LPC_Vol_col,FALSE)),\"\",VLOOKUP($A277,INDIRECT(N$20),LPC_Vol_col,FALSE)),\"\")","v":""},{"$f":"IF(A277=\"\",\"\",SUM(BH277:BS277))","v":""},{"$f":"IF(A277=\"\",\"\",MIN(B277:M277))","v":""},{"$f":"IF(A277=\"\",\"\",MAX(B277:M277))","v":""},{"$f":"IF(A277=\"\",\"\",BV277-BU277)","v":""},{"$f":"IF(A277=\"\",\"\",IF(BW277>$BW$11,\"Yes\",\"No\"))","v":""},{"$f":"IF(A277=\"\",\"\",(COUNTA(C277:N277)-COUNTBLANK(C277:N277)))","v":""},{"$f":"IF(A277=\"\",\"\",BY277-COUNTIF(C277:N277,\"=0\"))","v":""},"","","","","","","","","","","","",{"$f":"IF(A277=\"\",\"\",SUM(CA277:CL277))","v":""},"","","","","","","","","","","","",{"$f":"IF(A277=\"\",\"\",SUM(CN277:CY277))","v":""}]
[{"$f":"IF(ISBLANK('Control Sheet'!D260),\"\",'Control Sheet'!D260)","v":""},{"$f":"IF(ISBLANK('Control Sheet'!E260),\"\",'Control Sheet'!E260&\" (\"&'Control Sheet'!F260&\")\")","v":""},"","","","","","","","","","","","","","","","","","","","","","","","","","","","","","","","","","","","","","","","","","","","","","","","","","","","","","","","",{"$f":"IF(A280=\"\",\"\",MAX(IF(ISERROR(AU280:BF280),0,AU280:BF280)))","v":""},"","","","","","","","","","","","","","","","","","","","","","","","","","","","","","","","","","","","","","","","","","","","",""]
[{"$f":"IF(ISBLANK('Control Sheet'!D262),\"\",'Control Sheet'!D262)","v":""},{"$f":"IF(ISBLANK('Control Sheet'!E262),\"\",'Control Sheet'!E262&\" (\"&'Control Sheet'!F262&\")\")","v":""},"","","","","","","","","","","","","","","","","","","","","","","","","","","","","","","","","","","","","","","","","","","","","","","","","","","","","","","","",{"$f":"IF(A282=\"\",\"\",MAX(IF(ISERROR(AU282:BF282),0,AU282:BF282)))","v":""},"","","","","","","","","","","","","","","","","","","","","","","","","","","","","","","","","","","","","","","","","","","","",""]
[{"$f":"IF(ISBLANK('Control Sheet'!D266),\"\",'Control Sheet'!D266)","v":""},{"$f":"IF(ISBLANK('Control Sheet'!E266),\"\",'Control Sheet'!E266&\" (\"&'Control Sheet'!F266&\")\")","v":""},"","","","","","","","","","","","","","","","","","","","","","","","","","","","","","","","","","","","","","","","","","","","","","","","","","","","","","","","",{"$f":"IF(A286=\"\",\"\",MAX(IF(ISERROR(AU286:BF286),0,AU286:BF286)))","v":""},"","","","","","","","","","","","","","","","","","","","","","","","","","","","","","","","","","","","","","","","","","","","",""]
[{"$f":"IF(ISBLANK('Control Sheet'!D269),\"\",'Control Sheet'!D269)","v":""},{"$f":"IF(ISBLANK('Control Sheet'!E269),\"\",'Control Sheet'!E269&\" (\"&'Control Sheet'!F269&\")\")","v":""},"","","","","","","","","","","","","","","","","","","","","","","","","","","","","","","","","","","","","","","","","","","","","","","","","","","","","","","","",{"$f":"IF(A289=\"\",\"\",MAX(IF(ISERROR(AU289:BF289),0,AU289:BF289)))","v":""},"","","","","","","","","","","","","","","","","","","","","","",{"$f":"IF(F$18=1,IF(ISNA(VLOOKUP($A289,INDIRECT(F$20),MUR_fee_col,FALSE)),\"\",VLOOKUP($A289,INDIRECT(F$20),MUR_fee_col,FALSE)),\"\")","v":""},"","","","","","","","","","","","",{"$f":"IF(F$18=1,IF(ISNA(VLOOKUP($A289,INDIRECT(F$20),MUR_Fee_adj_col,FALSE)),\"\",VLOOKUP($A289,INDIRECT(F$20),MUR_Fee_adj_col,FALSE)),\"\")","v":""},"","","","","","","","",""]
[{"$f":"IF(ISBLANK('Control Sheet'!D270),\"\",'Control Sheet'!D270)","v":""},{"$f":"IF(ISBLANK('Control Sheet'!E270),\"\",'Control Sheet'!E270&\" (\"&'Control Sheet'!F270&\")\")","v":""},"","","","","","","","","","","","","","","","","","","","","","","","","","","","","","","","","","","","","","","","","","","","","","","","","","","","","","","","",{"$f":"IF(A290=\"\",\"\",MAX(IF(ISERROR(AU290:BF290),0,AU290:BF290)))","v":""},"","","","","","","","","","","","","","","","","","","",{"$f":"IF(C$18=1,IF(ISNA(VLOOKUP($A290,INDIRECT(C$20),MUR_fee_col,FALSE)),\"\",VLOOKUP($A290,INDIRECT(C$20),MUR_fee_col,FALSE)),\"\")","v":""},"","","","","","","","","","","","",{"$f":"IF(C$18=1,IF(ISNA(VLOOKUP($A290,INDIRECT(C$20),MUR_Fee_adj_col,FALSE)),\"\",VLOOKUP($A290,INDIRECT(C$20),MUR_Fee_adj_col,FALSE)),\"\")","v":""},"","","","","","","","","","","",""]
[{"$f":"IF(ISBLANK('Control Sheet'!D273),\"\",'Control Sheet'!D273)","v":""},{"$f":"IF(ISBLANK('Control Sheet'!E273),\"\",'Control Sheet'!E273&\" (\"&'Control Sheet'!F273&\")\")","v":""},"","","","","","","","","","","","","","","","","","","","","","","","","","","","","","","","","","","","","","","","","","","","","","","","","","","","","","","","",{"$f":"IF(A293=\"\",\"\",MAX(IF(ISERROR(AU293:BF293),0,AU293:BF293)))","v":""},"","","","","","","","","","","","","","","","","","","","","","","","","","","","","","","","","","","","","","","","","","","","",""]
[{"$f":"IF(ISBLANK('Control Sheet'!D277),\"\",'Control Sheet'!D277)","v":""},{"$f":"IF(ISBLANK('Control Sheet'!E277),\"\",'Control Sheet'!E277&\" (\"&'Control Sheet'!F277&\")\")","v":""},"","","","","","","","","","","","","","","","","","","","","","","","","","","","","","","","","","","","","","","","","","","","","","","","","","","","","","","","",{"$f":"IF(A297=\"\",\"\",MAX(IF(ISERROR(AU297:BF297),0,AU297:BF297)))","v":""},"","","","","","","","","","","","","","","","","","","","","","","","","","","","","","","","","","","","","","","","","","","","",""]
[{"$f":"IF(ISBLANK('Control Sheet'!D279),\"\",'Control Sheet'!D279)","v":""},{"$f":"IF(ISBLANK('Control Sheet'!E279),\"\",'Control Sheet'!E279&\" (\"&'Control Sheet'!F279&\")\")","v":""},"","","","","","","","","","","","","","","","","","","","","","","","","","","","","","","","","","","","","","","","","","","","","","","","","","","","","","","","",{"$f":"IF(A299=\"\",\"\",MAX(IF(ISERROR(AU299:BF299),0,AU299:BF299)))","v":""},"","","","","","","","","","","","","","","","","","","","","","","","","","","","","","","","","","","","","","","","","","","","",""]
[{"$f":"IF(ISBLANK('Control Sheet'!D282),\"\",'Control Sheet'!D282)","v":""},{"$f":"IF(ISBLANK('Control Sheet'!E282),\"\",'Control Sheet'!E282&\" (\"&'Control Sheet'!F282&\")\")","v":""},"","","","","","","","","","","","","","","","","","","","","","","","","","","","","","","","","","","","","","","","","","","","","","","","","","","","","","","","",{"$f":"IF(A302=\"\",\"\",MAX(IF(ISERROR(AU302:BF302),0,AU302:BF302)))","v":""},"","","","","","","","","","","","","","","","","","","","","","","","","","","","","","","","","","","","","","","","","","","","",""]
[{"$f":"IF(ISBLANK('Control Sheet'!D286),\"\",'Control Sheet'!D286)","v":""},{"$f":"IF(ISBLANK('Control Sheet'!E286),\"\",'Control Sheet'!E286&\" (\"&'Control Sheet'!F286&\")\")","v":""},"","","","","","","","","","","","","","","","","","","","","","","","","","","","","","","","","","","","","","","","","","","","","","","","","","","","","","","","",{"$f":"IF(A306=\"\",\"\",MAX(IF(ISERROR(AU306:BF306),0,AU306:BF306)))","v":""},"","","","","","","","","","","","","","","","","","","","","","","","","","","","","","","","","","","","","","","","","","","","",""]
[{"$f":"IF(ISBLANK('Control Sheet'!D289),\"\",'Control Sheet'!D289)","v":""},{"$f":"IF(ISBLANK('Control Sheet'!E289),\"\",'Control Sheet'!E289&\" (\"&'Control Sheet'!F289&\")\")","v":""},"","","","","","","","","","","","","","","","","","","","","","","","","","","","","","","","","","","","","","","","","","","","","","","","","","","","","","","","",{"$f":"IF(A309=\"\",\"\",MAX(IF(ISERROR(AU309:BF309),0,AU309:BF309)))","v":""},"","","","","","","","","","","","","","","","","","","","","","","","","","","","","","","","","","","","","","","","","","","","",""]
[{"$f":"IF(ISBLANK('Control Sheet'!D290),\"\",'Control Sheet'!D290)","v":""},{"$f":"IF(ISBLANK('Control Sheet'!E290),\"\",'Control Sheet'!E290&\" (\"&'Control Sheet'!F290&\")\")","v":""},"","","","","","","","","","","","","","","","","","","","","","","","","","","","","","","","","","","","","","","","","","","","","","","","","","","","","","","","",{"$f":"IF(A310=\"\",\"\",MAX(IF(ISERROR(AU310:BF310),0,AU310:BF310)))","v":""},"","","","","","","","","","","","","","","","","","","","","","","","","","","","","","","","","","","","","","","","","","","","",""]
[{"$f":"IF(ISBLANK('Control Sheet'!D294),\"\",'Control Sheet'!D294)","v":""},{"$f":"IF(ISBLANK('Control Sheet'!E294),\"\",'Control Sheet'!E294&\" (\"&'Control Sheet'!F294&\")\")","v":""},"","","","","","","","","","","","","","","","","","","","","","","","","","","","","","","","","","","","","","","","","","","","","","","","","","","","","","","","",{"$f":"IF(A314=\"\",\"\",MAX(IF(ISERROR(AU314:BF314),0,AU314:BF314)))","v":""},"","","","","","","","","","","","","","","","","","","","","","","","","","","","","","","","","","","","","","","","","","","","",""]
[{"$f":"IF(ISBLANK('Control Sheet'!D295),\"\",'Control Sheet'!D295)","v":""},{"$f":"IF(ISBLANK('Control Sheet'!E295),\"\",'Control Sheet'!E295&\" (\"&'Control Sheet'!F295&\")\")","v":""},"","","","","","","","","","","","","","","","","","","","","","","","","","","","","","","","","","","","","","","","","","","","","","","","","","","","","","","","",{"$f":"IF(A315=\"\",\"\",MAX(IF(ISERROR(AU315:BF315),0,AU315:BF315)))","v":""},"","","","","","","","","","","","","","","","","","","","","","","","","","","","","","","","","","","","","","","","","","","","",""]
[{"$f":"IF(ISBLANK('Control Sheet'!D299),\"\",'Control Sheet'!D299)","v":""},{"$f":"IF(ISBLANK('Control Sheet'!E299),\"\",'Control Sheet'!E299&\" (\"&'Control Sheet'!F299&\")\")","v":""},"","","","","","","","","","","","","","","","","","","","","","","","","","","","","","","","","","","","","","","","","","","","","","","","","","","","","","","","",{"$f":"IF(A319=\"\",\"\",MAX(IF(ISERROR(AU319:BF319),0,AU319:BF319)))","v":""},"","","","","","","","","","","","","","","","","","","","","","","","","","","","","","","","","","","","","","","","","","","","",""]
[{"$f":"IF(ISBLANK('Control Sheet'!D302),\"\",'Control Sheet'!D302)","v":""},{"$f":"IF(ISBLANK('Control Sheet'!E302),\"\",'Control Sheet'!E302&\" (\"&'Control Sheet'!F302&\")\")","v":""},"","","","","","","","","","","","","","","","","","","","","","","","","","","","","","","","","","","","","","","","","","","","","","","","","","","","","","","","",{"$f":"IF(A322=\"\",\"\",MAX(IF(ISERROR(AU322:BF322),0,AU322:BF322)))","v":""},"","","","","","","","","","","","","","","","","","","","","","","","","","","","","","","","","","","","","","","","","","","","",""]
[{"$f":"IF(ISBLANK('Control Sheet'!D305),\"\",'Control Sheet'!D305)","v":""},{"$f":"IF(ISBLANK('Control Sheet'!E305),\"\",'Control Sheet'!E305&\" (\"&'Control Sheet'!F305&\")\")","v":""},"","","","","","","","","","","","","","","","","","","","","","","","","","","","","","","","","","","","","","","","","","","","","","","","","","","","","","","","",{"$f":"IF(A325=\"\",\"\",MAX(IF(ISERROR(AU325:BF325),0,AU325:BF325)))","v":""},"","","","","","","","","","","","","","","","","","","","","","","","","","","","","","","","","","","","","","","","","","","","",""]
[{"$f":"IF(ISBLANK('Control Sheet'!D309),\"\",'Control Sheet'!D309)","v":""},{"$f":"IF(ISBLANK('Control Sheet'!E309),\"\",'Control Sheet'!E309&\" (\"&'Control Sheet'!F309&\")\")","v":""},"","","","","","","","","","","","","","","","","","","","","","","","","","","","","","","","","","","","","","","","","","","","","","","","","","","","","","","","",{"$f":"IF(A329=\"\",\"\",MAX(IF(ISERROR(AU329:BF329),0,AU329:BF329)))","v":""},"","","","","","","","","","","","","","","","","","","","","","","","","","","","","","","","","","","","","","","","","","","","",""]
[{"$f":"IF(ISBLANK('Control Sheet'!D311),\"\",'Control Sheet'!D311)","v":""},{"$f":"IF(ISBLANK('Control Sheet'!E311),\"\",'Control Sheet'!E311&\" (\"&'Control Sheet'!F311&\")\")","v":""},{"$f":"IF(C$18=1,IF(ISNA(VLOOKUP($A331,INDIRECT(C$20),Abated_col,FALSE)),\"\",VLOOKUP($A331,INDIRECT(C$20),Abated_col,FALSE)),\"\")","v":""},"","","","","","","","","","","","","","","","","","","","","","","","","","","","","","","","","","","","","","","","","","","","","","","","","","","","","","","",{"$f":"IF(A331=\"\",\"\",MAX(IF(ISERROR(AU331:BF331),0,AU331:BF331)))","v":""},"","","","","","","","","","","","","","","","","","","","","","","","","",{"$f":"IF(I$18=1,IF(ISNA(VLOOKUP($A331,INDIRECT(I$20),MUR_fee_col,FALSE)),\"\",VLOOKUP($A331,INDIRECT(I$20),MUR_fee_col,FALSE)),\"\")","v":""},"","","","","","","","","","","","",{"$f":"IF(I$18=1,IF(ISNA(VLOOKUP($A331,INDIRECT(I$20),MUR_Fee_adj_col,FALSE)),\"\",VLOOKUP($A331,INDIRECT(I$20),MUR_Fee_adj_col,FALSE)),\"\")","v":""},"","","","","",""]
[{"$f":"IF(ISBLANK('Control Sheet'!D312),\"\",'Control Sheet'!D312)","v":""},{"$f":"IF(ISBLANK('Control Sheet'!E312),\"\",'Control Sheet'!E312&\" (\"&'Control Sheet'!F312&\")\")","v":""},"","","","","","","","","","","","","","","","","","","","","","","","","","","","","","","","","","","","","","","","","","","","","","","","","","","","","","","","",{"$f":"IF(A332=\"\",\"\",MAX(IF(ISERROR(AU332:BF332),0,AU332:BF332)))","v":""},"","","","","","","","","","","","","","","","","","","","","","","","","","","","","","","","","","","","","","","","","","","","",""]
[{"$f":"IF(ISBLANK('Control Sheet'!D315),\"\",'Control Sheet'!D315)","v":""},{"$f":"IF(ISBLANK('Control Sheet'!E315),\"\",'Control Sheet'!E315&\" (\"&'Control Sheet'!F315&\")\")","v":""},"","","","","","","","","","","","","","","","","","","","","","","","","","","","","","","","","","","","","","","","","","","","","","","","","","","","","","","","",{"$f":"IF(A335=\"\",\"\",MAX(IF(ISERROR(AU335:BF335),0,AU335:BF335)))","v":""},"","","","","","","","","","","","","","","","","","","","","","","","","","","","","","","","","","","","","","","","","","","","",""]
[{"$f":"IF(ISBLANK('Control Sheet'!D318),\"\",'Control Sheet'!D318)","v":""},{"$f":"IF(ISBLANK('Control Sheet'!E318),\"\",'Control Sheet'!E318&\" (\"&'Control Sheet'!F318&\")\")","v":""},"","","","","","","","","","","","","","","","","","","","","","","","","","","","","","","","","","","","","","","","","","","","","","","","","","","","","","","","",{"$f":"IF(A338=\"\",\"\",MAX(IF(ISERROR(AU338:BF338),0,AU338:BF338)))","v":""},"","","","","","","","","","","","","","","","","","","","","","","","","","","","","","","","","","","","","","","","","","","","",""]
[{"$f":"IF(ISBLANK('Control Sheet'!D322),\"\",'Control Sheet'!D322)","v":""},{"$f":"IF(ISBLANK('Control Sheet'!E322),\"\",'Control Sheet'!E322&\" (\"&'Control Sheet'!F322&\")\")","v":""},"","","","","","","","","","","","","","","","","","","","","","","","","","","","","","","",{"$f":"IF(C342=\"\",\"\",IF(AND(C342=0,S342=1),\"Normal\",IF(AND(C342=1,S342=1),\"Abated-1\",IF(C342=S342,\"Abated-n\",\"Mixed\"))))","v":""},{"$f":"IF(D342=\"\",\"\",IF(AND(D342=0,T342=1),\"Normal\",IF(AND(D342=1,T342=1),\"Abated-1\",IF(D342=T342,\"Abated-n\",\"Mixed\"))))","v":""},{"$f":"IF(E342=\"\",\"\",IF(AND(E342=0,U342=1),\"Normal\",IF(AND(E342=1,U342=1),\"Abated-1\",IF(E342=U342,\"Abated-n\",\"Mixed\"))))","v":""},{"$f":"IF(F342=\"\",\"\",IF(AND(F342=0,V342=1),\"Normal\",IF(AND(F342=1,V342=1),\"Abated-1\",IF(F342=V342,\"Abated-n\",\"Mixed\"))))","v":""},{"$f":"IF(G342=\"\",\"\",IF(AND(G342=0,W342=1),\"Normal\",IF(AND(G342=1,W342=1),\"Abated-1\",IF(G342=W342,\"Abated-n\",\"Mixed\"))))","v":""},{"$f":"IF(H342=\"\",\"\",IF(AND(H342=0,X342=1),\"Normal\",IF(AND(H342=1,X342=1),\"Abated-1\",IF(H342=X342,\"Abated-n\",\"Mixed\"))))","v":""},{"$f":"IF(I342=\"\",\"\",IF(AND(I342=0,Y342=1),\"Normal\",IF(AND(I342=1,Y342=1),\"Abated-1\",IF(I342=Y342,\"Abated-n\",\"Mixed\"))))","v":""},{"$f":"IF(J342=\"\",\"\",IF(AND(J342=0,Z342=1),\"Normal\",IF(AND(J342=1,Z342=1),\"Abated-1\",IF(J342=Z342,\"Abated-n\",\"Mixed\"))))","v":""},{"$f":"IF(K342=\"\",\"\",IF(AND(K342=0,AA342=1),\"Normal\",IF(AND(K342=1,AA342=1),\"Abated-1\",IF(K342=AA342,\"Abated-n\",\"Mixed\"))))","v":""},{"$f":"IF(L342=\"\",\"\",IF(AND(L342=0,AB342=1),\"Normal\",IF(AND(L342=1,AB342=1),\"Abated-1\",IF(L342=AB342,\"Abated-n\",\"Mixed\"))))","v":""},{"$f":"IF(M342=\"\",\"\",IF(AND(M342=0,AC342=1),\"Normal\",IF(AND(M342=1,AC342=1),\"Abated-1\",IF(M342=AC342,\"Abated-n\",\"Mixed\"))))","v":""},{"$f":"IF(N342=\"\",\"\",IF(AND(N342=0,AD342=1),\"Normal\",IF(AND(N342=1,AD342=1),\"Abated-1\",IF(N342=AD342,\"Abated-n\",\"Mixed\"))))","v":""},"","","","","","","","","","","","","",{"$f":"IF(A342=\"\",\"\",MAX(IF(ISERROR(AU342:BF342),0,AU342:BF342)))","v":""},"","","","","","","","","","","","","","","","","","","","","","","","","","","","","","","","","","","","","","","","","","","","",""]
[{"$f":"IF(ISBLANK('Control Sheet'!D325),\"\",'Control Sheet'!D325)","v":""},{"$f":"IF(ISBLANK('Control Sheet'!E325),\"\",'Control Sheet'!E325&\" (\"&'Control Sheet'!F325&\")\")","v":""},"","","","","","","","","","","","","","","","","","","","","","","","","","","","","","","","","","","","","","","","","","","","","","","","","","","","","","","","",{"$f":"IF(A345=\"\",\"\",MAX(IF(ISERROR(AU345:BF345),0,AU345:BF345)))","v":""},"","","","","","","","","","","","","","","","","","","","","","","","","","","","","","","","","","","","","","","","","","","","",""]
[{"$f":"IF(ISBLANK('Control Sheet'!D328),\"\",'Control Sheet'!D328)","v":""},{"$f":"IF(ISBLANK('Control Sheet'!E328),\"\",'Control Sheet'!E328&\" (\"&'Control Sheet'!F328&\")\")","v":""},"","","","","","","","","","","","","","","","","","","","","","","","","","","","","","","","","","","","","","","","","","","","","","","","","","","","","","","","",{"$f":"IF(A348=\"\",\"\",MAX(IF(ISERROR(AU348:BF348),0,AU348:BF348)))","v":""},"","","","","","","","","","","","","","","","","","","","","","","","","","","","","","","","","","","","","","","","","","","","",""]
[{"$f":"IF(ISBLANK('Control Sheet'!D331),\"\",'Control Sheet'!D331)","v":""},{"$f":"IF(ISBLANK('Control Sheet'!E331),\"\",'Control Sheet'!E331&\" (\"&'Control Sheet'!F331&\")\")","v":""},{"$f":"IF(C$18=1,IF(ISNA(VLOOKUP($A351,INDIRECT(C$20),Abated_col,FALSE)),\"\",VLOOKUP($A351,INDIRECT(C$20),Abated_col,FALSE)),\"\")","v":""},"","","","","","","","","","","","","","","","","","","","","","","","","","","","","","","","","","","","","","","","","","","","","","","","","","","","","","","",{"$f":"IF(A351=\"\",\"\",MAX(IF(ISERROR(AU351:BF351),0,AU351:BF351)))","v":""},"","","","","","","","","","","","","","","","","","","","","","","","","","","","","","","","","","","","","","","","","","","","",""]
[{"$f":"IF(ISBLANK('Control Sheet'!D334),\"\",'Control Sheet'!D334)","v":""},{"$f":"IF(ISBLANK('Control Sheet'!E334),\"\",'Control Sheet'!E334&\" (\"&'Control Sheet'!F334&\")\")","v":""},"","","","","","","","","","","","","","","","","","","","","","","","","","","","","","","","","","","","","","","","","","","","","","","","","","","","","","","","",{"$f":"IF(A354=\"\",\"\",MAX(IF(ISERROR(AU354:BF354),0,AU354:BF354)))","v":""},"","","","","","","","","","","","","","","","","","","",{"$f":"IF(C$18=1,IF(ISNA(VLOOKUP($A354,INDIRECT(C$20),MUR_fee_col,FALSE)),\"\",VLOOKUP($A354,INDIRECT(C$20),MUR_fee_col,FALSE)),\"\")","v":""},"","","","","","","","","","","","",{"$f":"IF(C$18=1,IF(ISNA(VLOOKUP($A354,INDIRECT(C$20),MUR_Fee_adj_col,FALSE)),\"\",VLOOKUP($A354,INDIRECT(C$20),MUR_Fee_adj_col,FALSE)),\"\")","v":""},"","","","","","","","","","","",""]
[{"$f":"IF(ISBLANK('Control Sheet'!D335),\"\",'Control Sheet'!D335)","v":""},{"$f":"IF(ISBLANK('Control Sheet'!E335),\"\",'Control Sheet'!E335&\" (\"&'Control Sheet'!F335&\")\")","v":""},"","","","","","","","","","","","","","","","","","","","","","","","","","","","","","","","","","","","","","","","","","","","","","","","","","","","","","","","",{"$f":"IF(A355=\"\",\"\",MAX(IF(ISERROR(AU355:BF355),0,AU355:BF355)))","v":""},"","","","","","","","","","","","","","","","","","","","","","","","","","","","","","","","","","","","","","","","","","","","",""]
[{"$f":"IF(ISBLANK('Control Sheet'!D338),\"\",'Control Sheet'!D338)","v":""},{"$f":"IF(ISBLANK('Control Sheet'!E338),\"\",'Control Sheet'!E338&\" (\"&'Control Sheet'!F338&\")\")","v":""},"","","","","","","","","","","","","","","","","","","","","","","","","","","","","","","","","","","","","","","","","","","","","","","","","","","","","","","","",{"$f":"IF(A358=\"\",\"\",MAX(IF(ISERROR(AU358:BF358),0,AU358:BF358)))","v":""},"","","","","","","","","","","","","","","","","","","","","","","","","","","","","","","","","","","","","","","","","","","","",""]
[{"$f":"IF(ISBLANK('Control Sheet'!D341),\"\",'Control Sheet'!D341)","v":""},{"$f":"IF(ISBLANK('Control Sheet'!E341),\"\",'Control Sheet'!E341&\" (\"&'Control Sheet'!F341&\")\")","v":""},{"$f":"IF(C$18=1,IF(ISNA(VLOOKUP($A361,INDIRECT(C$20),Abated_col,FALSE)),\"\",VLOOKUP($A361,INDIRECT(C$20),Abated_col,FALSE)),\"\")","v":""},"","","","","","","","","","","","","","","","","","","","","","","","","","","","","","","","","","","","","","","","","","","","","","","","","","","","","","","",{"$f":"IF(A361=\"\",\"\",MAX(IF(ISERROR(AU361:BF361),0,AU361:BF361)))","v":""},"","","","","","","","","","","","","","","","","","","","","","","","","","","","","","","","","","","","","","","","","","","","",""]
[{"$f":"IF(ISBLANK('Control Sheet'!D344),\"\",'Control Sheet'!D344)","v":""},{"$f":"IF(ISBLANK('Control Sheet'!E344),\"\",'Control Sheet'!E344&\" (\"&'Control Sheet'!F344&\")\")","v":""},"","","","","","","","","","","","","","","","","","","","","","","","","","","","","","","","","","","","","","","","","","","","","","","","","","","","","","","","",{"$f":"IF(A364=\"\",\"\",MAX(IF(ISERROR(AU364:BF364),0,AU364:BF364)))","v":""},"","","","","","","","","","","","","","","","","","","","","","","","","","","","","","","","","","","","","","","","","","","","",""]
[{"$f":"IF(ISBLANK('Control Sheet'!D347),\"\",'Control Sheet'!D347)","v":""},{"$f":"IF(ISBLANK('Control Sheet'!E347),\"\",'Control Sheet'!E347&\" (\"&'Control Sheet'!F347&\")\")","v":""},"","","","","","","","","","","","","","","","","","","","","","","","","","","","","","","","","","","","","","","","","","","","","","","","","","","","","","","","",{"$f":"IF(A367=\"\",\"\",MAX(IF(ISERROR(AU367:BF367),0,AU367:BF367)))","v":""},"","","","","","","","","","","","","","","","","","","","","","","","","","","","","","","","","","","","","","","","","","","","",""]
[{"$f":"IF(ISBLANK('Control Sheet'!D351),\"\",'Control Sheet'!D351)","v":""},{"$f":"IF(ISBLANK('Control Sheet'!E351),\"\",'Control Sheet'!E351&\" (\"&'Control Sheet'!F351&\")\")","v":""},{"$f":"IF(C$18=1,IF(ISNA(VLOOKUP($A371,INDIRECT(C$20),Abated_col,FALSE)),\"\",VLOOKUP($A371,INDIRECT(C$20),Abated_col,FALSE)),\"\")","v":""},"","","","","","","","","","","","","","","","","","","","","","","","","","","","","","","","","","","","","","","","","","","","","","","","","","","","","","","",{"$f":"IF(A371=\"\",\"\",MAX(IF(ISERROR(AU371:BF371),0,AU371:BF371)))","v":""},"","","","","","","","","","","","","","","","","","","","","","","","","","","","","","","","","","","","","","","","","","","","",""]
[{"$f":"IF(ISBLANK('Control Sheet'!D354),\"\",'Control Sheet'!D354)","v":""},{"$f":"IF(ISBLANK('Control Sheet'!E354),\"\",'Control Sheet'!E354&\" (\"&'Control Sheet'!F354&\")\")","v":""},"","","","","","","","","","","","","","","","","","","","","","","","","","","","","","","","","","","","","","","","","","","","","","","","","","","","","","","","",{"$f":"IF(A374=\"\",\"\",MAX(IF(ISERROR(AU374:BF374),0,AU374:BF374)))","v":""},"","","","","","","","","","","","","","","","","","","","","","","","","","","","","","","","","","","","","","","","","","","","",""]
[{"$f":"IF(ISBLANK('Control Sheet'!D357),\"\",'Control Sheet'!D357)","v":""},{"$f":"IF(ISBLANK('Control Sheet'!E357),\"\",'Control Sheet'!E357&\" (\"&'Control Sheet'!F357&\")\")","v":""},"","","","","","","","","","","","","","","","","","","","","","","","","","","","","","","","","","","","","","","","","","","","","","","","","","","","","","","","",{"$f":"IF(A377=\"\",\"\",MAX(IF(ISERROR(AU377:BF377),0,AU377:BF377)))","v":""},"","","","","","","","","","","","","","","","","","","","","","","","","","","","","","","","","","","","","","","","","","","","",""]
[{"$f":"IF(ISBLANK('Control Sheet'!D358),\"\",'Control Sheet'!D358)","v":""},{"$f":"IF(ISBLANK('Control Sheet'!E358),\"\",'Control Sheet'!E358&\" (\"&'Control Sheet'!F358&\")\")","v":""},"","","","","","","","","","","","","","","","","","","","","","","","","","","","","","","","","","","","","","","","","","","","","","","","","","","","","","","","",{"$f":"IF(A378=\"\",\"\",MAX(IF(ISERROR(AU378:BF378),0,AU378:BF378)))","v":""},"","","","","","","","","","","","","","","","","","","","","","","","","","","","","","","","","","","","","","","","","","","","",""]
[{"$f":"IF(ISBLANK('Control Sheet'!D360),\"\",'Control Sheet'!D360)","v":""},{"$f":"IF(ISBLANK('Control Sheet'!E360),\"\",'Control Sheet'!E360&\" (\"&'Control Sheet'!F360&\")\")","v":""},"","","","","","","","","","","","","","","","","","","","","","","","","","","","","","","","","","","","","","","","","","","","","","","","","","","","","","","","",{"$f":"IF(A380=\"\",\"\",MAX(IF(ISERROR(AU380:BF380),0,AU380:BF380)))","v":""},"","","","","","","","","","","","","","","","","","","","","","","","","","","","","","","","","","","","","","","","","","","","",""]
[{"$f":"IF(ISBLANK('Control Sheet'!D363),\"\",'Control Sheet'!D363)","v":""},{"$f":"IF(ISBLANK('Control Sheet'!E363),\"\",'Control Sheet'!E363&\" (\"&'Control Sheet'!F363&\")\")","v":""},"","","","","","","","","","","","","","","","","","","","","","","","","","","","","","","","","","","","","","","","","","","","","","","","","","","","","","","","",{"$f":"IF(A383=\"\",\"\",MAX(IF(ISERROR(AU383:BF383),0,AU383:BF383)))","v":""},"","","","","","","","","","","","","","","","","","","","","","","","","","","","","","","","","","","","","","","","","","","","",""]
[{"$f":"IF(ISBLANK('Control Sheet'!D367),\"\",'Control Sheet'!D367)","v":""},{"$f":"IF(ISBLANK('Control Sheet'!E367),\"\",'Control Sheet'!E367&\" (\"&'Control Sheet'!F367&\")\")","v":""},"","","","","","","","","","","","","","","","","","","","","","","","","","","","","","","","","","","","","","","","","","","","","","","","","","","","","","","","",{"$f":"IF(A387=\"\",\"\",MAX(IF(ISERROR(AU387:BF387),0,AU387:BF387)))","v":""},"","","","","","","","","","","","","","","","","","","","","","","","","","","","","","","","","","","","","","","","","","","","",""]
[{"$f":"IF(ISBLANK('Control Sheet'!D370),\"\",'Control Sheet'!D370)","v":""},{"$f":"IF(ISBLANK('Control Sheet'!E370),\"\",'Control Sheet'!E370&\" (\"&'Control Sheet'!F370&\")\")","v":""},"","","","","","","","","","","","","","","","","","","","","","","","","","","","","","","","","","","","","","","","","","","","","","","","","","","","","","","","",{"$f":"IF(A390=\"\",\"\",MAX(IF(ISERROR(AU390:BF390),0,AU390:BF390)))","v":""},"","","","","","","","","","","","","","","","","","","","","","","","","","","","","","","","","","","","","","","","","","","","",""]
[{"$f":"IF(ISBLANK('Control Sheet'!D374),\"\",'Control Sheet'!D374)","v":""},{"$f":"IF(ISBLANK('Control Sheet'!E374),\"\",'Control Sheet'!E374&\" (\"&'Control Sheet'!F374&\")\")","v":""},"","","","","","","","","","","","","","","","","","","","","","","","","","","","","","","","","","","","","","","","","","","","","","","","","","","","","","","","",{"$f":"IF(A394=\"\",\"\",MAX(IF(ISERROR(AU394:BF394),0,AU394:BF394)))","v":""},"","","","","","","","","","","","","","","","","","","","","","","","","","","","","","","","","","","","","","","","","","","","",""]
[{"$f":"IF(ISBLANK('Control Sheet'!D375),\"\",'Control Sheet'!D375)","v":""},{"$f":"IF(ISBLANK('Control Sheet'!E375),\"\",'Control Sheet'!E375&\" (\"&'Control Sheet'!F375&\")\")","v":""},"","","","","","","","","","","","","","","","","","","","","","","","","","","","","","","","","","","","","","","","","","","","","","","","","","","","","","","","",{"$f":"IF(A395=\"\",\"\",MAX(IF(ISERROR(AU395:BF395),0,AU395:BF395)))","v":""},"","","","","","","","","","","","","","","","","","","","","","","","","","","","","","","","","","","","","","","","","","","","",""]
[{"$f":"IF(ISBLANK('Control Sheet'!D379),\"\",'Control Sheet'!D379)","v":""},{"$f":"IF(ISBLANK('Control Sheet'!E379),\"\",'Control Sheet'!E379&\" (\"&'Control Sheet'!F379&\")\")","v":""},"","","","","","","","","","","","","","","","","","","","","","","","","","","","","","","","","","","","","","","","","","","","","","","","","","","","","","","","",{"$f":"IF(A399=\"\",\"\",MAX(IF(ISERROR(AU399:BF399),0,AU399:BF399)))","v":""},"","","","","","","","","","","","","","","","","","","","","","","","","","","","","","","","","","","","","","","","","","","","",""]
[{"$f":"IF(ISBLANK('Control Sheet'!D380),\"\",'Control Sheet'!D380)","v":""},{"$f":"IF(ISBLANK('Control Sheet'!E380),\"\",'Control Sheet'!E380&\" (\"&'Control Sheet'!F380&\")\")","v":""},"","","","","","","","","","","","","","","","","","","","","","","","","","","","","","","","","","","","","","","","","","","","","","","","","","","","","","","","",{"$f":"IF(A400=\"\",\"\",MAX(IF(ISERROR(AU400:BF400),0,AU400:BF400)))","v":""},"","","","","","","","","","","","","","","","","","","","","","","","","","","","","","","","","","","","","","","","","","","","",""]
[{"$f":"IF(ISBLANK('Control Sheet'!D383),\"\",'Control Sheet'!D383)","v":""},{"$f":"IF(ISBLANK('Control Sheet'!E383),\"\",'Control Sheet'!E383&\" (\"&'Control Sheet'!F383&\")\")","v":""},"","","","","","","","","","","","","","","","","","","","","","","","","","","","","","","","","","","","","","","","","","","","","","","","","","","","","","","","",{"$f":"IF(A403=\"\",\"\",MAX(IF(ISERROR(AU403:BF403),0,AU403:BF403)))","v":""},"","","","","","","","","","","","","","","","","","","","","","","","","","","","","","","","","","","","","","","","","","","","",""]
[{"$f":"IF(ISBLANK('Control Sheet'!D387),\"\",'Control Sheet'!D387)","v":""},{"$f":"IF(ISBLANK('Control Sheet'!E387),\"\",'Control Sheet'!E387&\" (\"&'Control Sheet'!F387&\")\")","v":""},"","","","","","","","","","","","","","","","","","","","","","","","","","","","","","",{"$f":"IF(AF407=\"\",\"\",IF(AF407<=1,\"Lower Outlier\",IF(AF407<=2,\"Below Average\",IF(AF407<=3,\"Lower Quartile\",IF(AF407<=4,\"Upper Quartile\",IF(AF407<=5, \"Above Average\", \"Upper Outlier\"))))))","v":""},"","","","","","","","","","","","","","","","","","","","","","","","","",{"$f":"IF(A407=\"\",\"\",MAX(IF(ISERROR(AU407:BF407),0,AU407:BF407)))","v":""},"","","","","","","","","","","","","","","","","","","","","","","","","",{"$f":"IF(I$18=1,IF(ISNA(VLOOKUP($A407,INDIRECT(I$20),MUR_fee_col,FALSE)),\"\",VLOOKUP($A407,INDIRECT(I$20),MUR_fee_col,FALSE)),\"\")","v":""},"","","","","","","","","","","","",{"$f":"IF(I$18=1,IF(ISNA(VLOOKUP($A407,INDIRECT(I$20),MUR_Fee_adj_col,FALSE)),\"\",VLOOKUP($A407,INDIRECT(I$20),MUR_Fee_adj_col,FALSE)),\"\")","v":""},"","","","","",""]
[{"$f":"IF(ISBLANK('Control Sheet'!D390),\"\",'Control Sheet'!D390)","v":""},{"$f":"IF(ISBLANK('Control Sheet'!E390),\"\",'Control Sheet'!E390&\" (\"&'Control Sheet'!F390&\")\")","v":""},"","","","","","","","","","","","","","","","","","","","","","","","","","","","","","","","","","","","","","","","","","","","","","","","","","","","","","","","",{"$f":"IF(A410=\"\",\"\",MAX(IF(ISERROR(AU410:BF410),0,AU410:BF410)))","v":""},"","","","","","","","","","","","","","","","","","","","","","","","","","","","","","","","","","","","","","","","","","","","",""]
[{"$f":"IF(ISBLANK('Control Sheet'!D392),\"\",'Control Sheet'!D392)","v":""},{"$f":"IF(ISBLANK('Control Sheet'!E392),\"\",'Control Sheet'!E392&\" (\"&'Control Sheet'!F392&\")\")","v":""},"","","","","","","","","","","","","","","","","","","","","","","","","","","","","","","","","","","","","","","","","","","","","","","","","","","","","","","","",{"$f":"IF(A412=\"\",\"\",MAX(IF(ISERROR(AU412:BF412),0,AU412:BF412)))","v":""},"","","","","","","","","","","","","","","","","","","","","","","","","","","","","","","","","","","","","","","","","","","","",""]
[{"$f":"IF(ISBLANK('Control Sheet'!D396),\"\",'Control Sheet'!D396)","v":""},{"$f":"IF(ISBLANK('Control Sheet'!E396),\"\",'Control Sheet'!E396&\" (\"&'Control Sheet'!F396&\")\")","v":""},"","","","","","","","","","","","","","","","","","","","","","","","","","","","","","","","","","","","","","","","","","","","","","","","","","","","","","","","",{"$f":"IF(A416=\"\",\"\",MAX(IF(ISERROR(AU416:BF416),0,AU416:BF416)))","v":""},"","","","","","","","","","","","","","","","","","","","","","","","","","","","","","","","","","","","","","","","","","","","",""]
[{"$f":"IF(ISBLANK('Control Sheet'!D399),\"\",'Control Sheet'!D399)","v":""},{"$f":"IF(ISBLANK('Control Sheet'!E399),\"\",'Control Sheet'!E399&\" (\"&'Control Sheet'!F399&\")\")","v":""},"","","","","","","","","","","","","","","","","","","","","","","","","","","","","","","","","","","","","","","","","","","","","","","","","","","","","","","","",{"$f":"IF(A419=\"\",\"\",MAX(IF(ISERROR(AU419:BF419),0,AU419:BF419)))","v":""},"","","","","","","","","","","","","","","","","","","","","","","","","","","","","","","","","","","","","","","","","","","","",""]
[{"$f":"IF(ISBLANK('Control Sheet'!D402),\"\",'Control Sheet'!D402)","v":""},{"$f":"IF(ISBLANK('Control Sheet'!E402),\"\",'Control Sheet'!E402&\" (\"&'Control Sheet'!F402&\")\")","v":""},"","","","","","","","","","","","","","","","","","","","","","","","","","","","","","","","","","","","","","","","","","","","","","","","","","","","","","","","",{"$f":"IF(A422=\"\",\"\",MAX(IF(ISERROR(AU422:BF422),0,AU422:BF422)))","v":""},"","","","","","","","","","","","","","","","","","","","","","","","","","","","","","","","","","","","","","","","","","","","",""]
[{"$f":"IF(ISBLANK('Control Sheet'!D403),\"\",'Control Sheet'!D403)","v":""},{"$f":"IF(ISBLANK('Control Sheet'!E403),\"\",'Control Sheet'!E403&\" (\"&'Control Sheet'!F403&\")\")","v":""},"","","","","","","","","","","","","","","","","","","","","","","","","","","","","","","","","","","","","","","","","","","","","","","","","","","","","","","","",{"$f":"IF(A423=\"\",\"\",MAX(IF(ISERROR(AU423:BF423),0,AU423:BF423)))","v":""},"","","","","","","","","","","","","","","","","","","","","","","","","","","","","","","","","","","","","","","","","","","","",""]
[{"$f":"IF(ISBLANK('Control Sheet'!D407),\"\",'Control Sheet'!D407)","v":""},{"$f":"IF(ISBLANK('Control Sheet'!E407),\"\",'Control Sheet'!E407&\" (\"&'Control Sheet'!F407&\")\")","v":""},"","","","","","","","","","","","","","","","","","","","","","","","","","","","","","","","","","","","","","","","","","","","","","","","","","","","","","","","",{"$f":"IF(A427=\"\",\"\",MAX(IF(ISERROR(AU427:BF427),0,AU427:BF427)))","v":""},"","","","","","","","","","","","","","","","","","","","","","","","","","","","","","","","","","","","","","","","","","","","",""]
[{"$f":"IF(ISBLANK('Control Sheet'!D409),\"\",'Control Sheet'!D409)","v":""},{"$f":"IF(ISBLANK('Control Sheet'!E409),\"\",'Control Sheet'!E409&\" (\"&'Control Sheet'!F409&\")\")","v":""},"","","","","","","","","","","","","","","","","","","","","","","","","","","","","","","","","","","","","","","","","","","","","","","","","","","","","","","","",{"$f":"IF(A429=\"\",\"\",MAX(IF(ISERROR(AU429:BF429),0,AU429:BF429)))","v":""},"","","","","","","","","","","","","","","","","","","","","","","","","","","","","","","","","","","","","","","","","","","","",""]
[{"$f":"IF(ISBLANK('Control Sheet'!D412),\"\",'Control Sheet'!D412)","v":""},{"$f":"IF(ISBLANK('Control Sheet'!E412),\"\",'Control Sheet'!E412&\" (\"&'Control Sheet'!F412&\")\")","v":""},"","","","","","","","","","","","","","","","","","","","","","","","","","","","","","","","","","","","","","","","","","","","","","","","","","","","","","","","",{"$f":"IF(A432=\"\",\"\",MAX(IF(ISERROR(AU432:BF432),0,AU432:BF432)))","v":""},"","","","","","","","","","","","","","","","","","","","","","","","","","","","","","","","","","","","","","","","","","","","",""]
[{"$f":"IF(ISBLANK('Control Sheet'!D415),\"\",'Control Sheet'!D415)","v":""},{"$f":"IF(ISBLANK('Control Sheet'!E415),\"\",'Control Sheet'!E415&\" (\"&'Control Sheet'!F415&\")\")","v":""},"","","","","","","","","","","","","","","","","","","","","","","","","","","","","","","","","","","","","","","","","","","","","","","","","","","","","","","","",{"$f":"IF(A435=\"\",\"\",MAX(IF(ISERROR(AU435:BF435),0,AU435:BF435)))","v":""},"","","","","","","","","","","","","","","","","","","","","","","","","","","","","","","","","","","","","","","","","","","","",""]
[{"$f":"IF(ISBLANK('Control Sheet'!D419),\"\",'Control Sheet'!D419)","v":""},{"$f":"IF(ISBLANK('Control Sheet'!E419),\"\",'Control Sheet'!E419&\" (\"&'Control Sheet'!F419&\")\")","v":""},"","","","","","","","","","","","","","","","","","","","","","","","","","","","","","","","","","","","","","","","","","","","","","","","","","","","","","","","",{"$f":"IF(A439=\"\",\"\",MAX(IF(ISERROR(AU439:BF439),0,AU439:BF439)))","v":""},"","","","","","","","","","","","","","","","","","","","","","","","","","","","","","","","","","","","","","","","","","","","",""]
[{"$f":"IF(ISBLANK('Control Sheet'!D422),\"\",'Control Sheet'!D422)","v":""},{"$f":"IF(ISBLANK('Control Sheet'!E422),\"\",'Control Sheet'!E422&\" (\"&'Control Sheet'!F422&\")\")","v":""},"","","","","","","","","","","","","","","","","","","","","","","","","","","","","","","","","","","","","","","","","","","","","","","","","","","","","","","","",{"$f":"IF(A442=\"\",\"\",MAX(IF(ISERROR(AU442:BF442),0,AU442:BF442)))","v":""},"","","","","","","","","","","","","","","","","","","","","","","","","","","","","","","","","","","","","","","","","","","","",""]
[{"$f":"IF(ISBLANK('Control Sheet'!D424),\"\",'Control Sheet'!D424)","v":""},{"$f":"IF(ISBLANK('Control Sheet'!E424),\"\",'Control Sheet'!E424&\" (\"&'Control Sheet'!F424&\")\")","v":""},"","","","","","","","","","","","","","","","","","","","","","","","","","","","","","","","","","","","","","","","","","","","","","","","","","","","","","","","",{"$f":"IF(A444=\"\",\"\",MAX(IF(ISERROR(AU444:BF444),0,AU444:BF444)))","v":""},"","","","","","","","","","","","","","","","","","","","","","","","","","","","","","","","","","","","","","","","","","","","",""]
[{"$f":"IF(ISBLANK('Control Sheet'!D425),\"\",'Control Sheet'!D425)","v":""},{"$f":"IF(ISBLANK('Control Sheet'!E425),\"\",'Control Sheet'!E425&\" (\"&'Control Sheet'!F425&\")\")","v":""},"","","","","","","","","","","","","","","","","","","","","","","","","","","","","","","","","","","","","","","","","","","","","","","","","","","","","","","","",{"$f":"IF(A445=\"\",\"\",MAX(IF(ISERROR(AU445:BF445),0,AU445:BF445)))","v":""},"","","","","","","","","","","","","","","","","","","","","","","","","","","","","","","","","","","","","","","","","","","","",""]
[{"$f":"IF(ISBLANK('Control Sheet'!D428),\"\",'Control Sheet'!D428)","v":""},{"$f":"IF(ISBLANK('Control Sheet'!E428),\"\",'Control Sheet'!E428&\" (\"&'Control Sheet'!F428&\")\")","v":""},"","","","","","","","","","","","","","","","","","","","","","","","","","","","","","","","","","","","","","","","","","","","","","","","","","","","","","","","",{"$f":"IF(A448=\"\",\"\",MAX(IF(ISERROR(AU448:BF448),0,AU448:BF448)))","v":""},"","","","","","","","","","","","","","","","","","","","","","","","","","","","","","","","","","","","","","","","","","","","",""]
[{"$f":"IF(ISBLANK('Control Sheet'!D432),\"\",'Control Sheet'!D432)","v":""},{"$f":"IF(ISBLANK('Control Sheet'!E432),\"\",'Control Sheet'!E432&\" (\"&'Control Sheet'!F432&\")\")","v":""},"","","","","","","","","","","","","","","","","","","","","","","","","","","","","","","","","","","","","","","","","","","","","","","","","","","","","","","","",{"$f":"IF(A452=\"\",\"\",MAX(IF(ISERROR(AU452:BF452),0,AU452:BF452)))","v":""},"","","","","","","","","","","","","","","","","","","","","","","","","","","","","","","","","","","","","","","","","","","","",""]
[{"$f":"IF(ISBLANK('Control Sheet'!D435),\"\",'Control Sheet'!D435)","v":""},{"$f":"IF(ISBLANK('Control Sheet'!E435),\"\",'Control Sheet'!E435&\" (\"&'Control Sheet'!F435&\")\")","v":""},"","","","","","","","","","","","","","","","","","","","","","","","","","","","","","","","","","","","","","","","","","","","","","","","","","","","","","","","",{"$f":"IF(A455=\"\",\"\",MAX(IF(ISERROR(AU455:BF455),0,AU455:BF455)))","v":""},"","","","","","","","","","","","","","","","","","","","","","","","","","","","","","","","","","","","","","","","","","","","",""]
[{"$f":"IF(ISBLANK('Control Sheet'!D437),\"\",'Control Sheet'!D437)","v":""},{"$f":"IF(ISBLANK('Control Sheet'!E437),\"\",'Control Sheet'!E437&\" (\"&'Control Sheet'!F437&\")\")","v":""},"","","","","","","","","","","","","","","","","","","","","","","","","","","","","","","","","","","","","","","","","","","","","","","","","","","","","","","","",{"$f":"IF(A457=\"\",\"\",MAX(IF(ISERROR(AU457:BF457),0,AU457:BF457)))","v":""},"","","","","","","","","","","","","","","","","","","","","","","","","","","","","","","","","","","","","","","","","","","","",""]
[{"$f":"IF(ISBLANK('Control Sheet'!D441),\"\",'Control Sheet'!D441)","v":""},{"$f":"IF(ISBLANK('Control Sheet'!E441),\"\",'Control Sheet'!E441&\" (\"&'Control Sheet'!F441&\")\")","v":""},{"$f":"IF(C$18=1,IF(ISNA(VLOOKUP($A461,INDIRECT(C$20),Abated_col,FALSE)),\"\",VLOOKUP($A461,INDIRECT(C$20),Abated_col,FALSE)),\"\")","v":""},"","","","","","","","","","","","","","","","","","","","","","","","","","","","","","","","","","","","","","","","","","","","","","","","","","","","","","","",{"$f":"IF(A461=\"\",\"\",MAX(IF(ISERROR(AU461:BF461),0,AU461:BF461)))","v":""},"","","","","","","","","","","","","","","","","","","",{"$f":"IF(C$18=1,IF(ISNA(VLOOKUP($A461,INDIRECT(C$20),MUR_fee_col,FALSE)),\"\",VLOOKUP($A461,INDIRECT(C$20),MUR_fee_col,FALSE)),\"\")","v":""},"","","","","","","","","","","","",{"$f":"IF(C$18=1,IF(ISNA(VLOOKUP($A461,INDIRECT(C$20),MUR_Fee_adj_col,FALSE)),\"\",VLOOKUP($A461,INDIRECT(C$20),MUR_Fee_adj_col,FALSE)),\"\")","v":""},"","","","","","","","","","","",""]
[{"$f":"IF(ISBLANK('Control Sheet'!D444),\"\",'Control Sheet'!D444)","v":""},{"$f":"IF(ISBLANK('Control Sheet'!E444),\"\",'Control Sheet'!E444&\" (\"&'Control Sheet'!F444&\")\")","v":""},"","","","","","","","","","","","","","","","","","","","","","","","","","","","","","","","","","","","","","","","","","","","","","","","","","","","","","","","",{"$f":"IF(A464=\"\",\"\",MAX(IF(ISERROR(AU464:BF464),0,AU464:BF464)))","v":""},"","","","","","","","","","","","","","","","","","","","","","","","","","","","","","","","","","","","","","","","","","","","",""]
[{"$f":"IF(ISBLANK('Control Sheet'!D445),\"\",'Control Sheet'!D445)","v":""},{"$f":"IF(ISBLANK('Control Sheet'!E445),\"\",'Control Sheet'!E445&\" (\"&'Control Sheet'!F445&\")\")","v":""},"","","","","","","","","","","","","","","","","","","","","","","","","","","","","","","","","","","","","","","","","","","","","","","","","","","","","","","","",{"$f":"IF(A465=\"\",\"\",MAX(IF(ISERROR(AU465:BF465),0,AU465:BF465)))","v":""},"","","","","","","","","","","","","","","","","","","","","","","","","","","","","","","","","","","","","","","","","","","","",""]
[{"$f":"IF(ISBLANK('Control Sheet'!D448),\"\",'Control Sheet'!D448)","v":""},{"$f":"IF(ISBLANK('Control Sheet'!E448),\"\",'Control Sheet'!E448&\" (\"&'Control Sheet'!F448&\")\")","v":""},"","","","","","","","","","","","","","","","","","","","","","","","","","","","","","","","","","","","","","","","","","","","","","","","","","","","","","","","",{"$f":"IF(A468=\"\",\"\",MAX(IF(ISERROR(AU468:BF468),0,AU468:BF468)))","v":""},"","","","","","","","","","","","","","","","","","","","","","","","","","","","","","","","","","","","","","","","","","","","",""]
[{"$f":"IF(ISBLANK('Control Sheet'!D451),\"\",'Control Sheet'!D451)","v":""},{"$f":"IF(ISBLANK('Control Sheet'!E451),\"\",'Control Sheet'!E451&\" (\"&'Control Sheet'!F451&\")\")","v":""},{"$f":"IF(C$18=1,IF(ISNA(VLOOKUP($A471,INDIRECT(C$20),Abated_col,FALSE)),\"\",VLOOKUP($A471,INDIRECT(C$20),Abated_col,FALSE)),\"\")","v":""},"","","","","","","","","","","","","","","","","","","","","","","","","","","","","",{"$f":"IF(AF471=\"\",\"\",IF(AF471<=1,\"Lower Outlier\",IF(AF471<=2,\"Below Average\",IF(AF471<=3,\"Lower Quartile\",IF(AF471<=4,\"Upper Quartile\",IF(AF471<=5, \"Above Average\", \"Upper Outlier\"))))))","v":""},"","","","","","","","","","","","","","","","","","","","","","","","","",{"$f":"IF(A471=\"\",\"\",MAX(IF(ISERROR(AU471:BF471),0,AU471:BF471)))","v":""},"","","","","","","","","","","","","","","","","","","","","","","","","","","","","","","","","","","","","","","","","","","","",""]
[{"$f":"IF(ISBLANK('Control Sheet'!D454),\"\",'Control Sheet'!D454)","v":""},{"$f":"IF(ISBLANK('Control Sheet'!E454),\"\",'Control Sheet'!E454&\" (\"&'Control Sheet'!F454&\")\")","v":""},"","","","","","","","","","","","","","","","","","","","","","","","","","","","","","","","","","","","","","","","","","","","","","","","","","","","","","","","",{"$f":"IF(A474=\"\",\"\",MAX(IF(ISERROR(AU474:BF474),0,AU474:BF474)))","v":""},"","","","","","","","","","","","","","","","","","","","","","","","","","","","","","","","","","","","","","","","","","","","",""]
[{"$f":"IF(ISBLANK('Control Sheet'!D457),\"\",'Control Sheet'!D457)","v":""},{"$f":"IF(ISBLANK('Control Sheet'!E457),\"\",'Control Sheet'!E457&\" (\"&'Control Sheet'!F457&\")\")","v":""},"","","","","","","","","","","","","","","","","","","","","","","","","","","","","","","","","","","","","","","","","","","","","","","","","","","","","","","","",{"$f":"IF(A477=\"\",\"\",MAX(IF(ISERROR(AU477:BF477),0,AU477:BF477)))","v":""},"","","","","","","","","","","","","","","","","","","","","","","","","","","","","","","","","","","","","","","","","","","","",""]
[{"$f":"IF(ISBLANK('Control Sheet'!D460),\"\",'Control Sheet'!D460)","v":""},{"$f":"IF(ISBLANK('Control Sheet'!E460),\"\",'Control Sheet'!E460&\" (\"&'Control Sheet'!F460&\")\")","v":""},"","","","","","","","","","","","",{"$f":"IF(A480=\"\",\"\",SUM(C480:N480))","v":""},"","","","","","","","","","","","","","","","","","","","","","","","","","","","","","","","","","","","","","","","","","","",{"$f":"IF(A480=\"\",\"\",MAX(IF(ISERROR(AU480:BF480),0,AU480:BF480)))","v":""},"","","","","","","","","","","","","","","","","","","","","","","","","","","","","","","","","","","","","","","","","","","","",""]
[{"$f":"IF(ISBLANK('Control Sheet'!D464),\"\",'Control Sheet'!D464)","v":""},{"$f":"IF(ISBLANK('Control Sheet'!E464),\"\",'Control Sheet'!E464&\" (\"&'Control Sheet'!F464&\")\")","v":""},"","","","","","","","","","","","","","","","","","","","","","","","","","","","","","","","","","","","","","","","","","","","","","","","","","","","","","","","",{"$f":"IF(A484=\"\",\"\",MAX(IF(ISERROR(AU484:BF484),0,AU484:BF484)))","v":""},"","","","","","","","","","","","","","","","","","","","","","","","","","","","","","","","","","","","","","","","","","","","",""]
[{"$f":"IF(ISBLANK('Control Sheet'!D467),\"\",'Control Sheet'!D467)","v":""},{"$f":"IF(ISBLANK('Control Sheet'!E467),\"\",'Control Sheet'!E467&\" (\"&'Control Sheet'!F467&\")\")","v":""},"","","","","","","","","","","","","","","","","","","","","","","","","","","","","","","","","","","","","","","","","","","","","","","","","","","","","","","","",{"$f":"IF(A487=\"\",\"\",MAX(IF(ISERROR(AU487:BF487),0,AU487:BF487)))","v":""},"","","","","","","","","","","","","","","","","","","","","","","","","","","","","","","","","","","","","","","","","","","","",""]
[{"$f":"IF(ISBLANK('Control Sheet'!D468),\"\",'Control Sheet'!D468)","v":""},{"$f":"IF(ISBLANK('Control Sheet'!E468),\"\",'Control Sheet'!E468&\" (\"&'Control Sheet'!F468&\")\")","v":""},"","","","","","","","","","","","","","","","","","","","","","","","","","","","","","","","","","","","","","","","","","","","","","","","","","","","","","","","",{"$f":"IF(A488=\"\",\"\",MAX(IF(ISERROR(AU488:BF488),0,AU488:BF488)))","v":""},"","","","","","","","","","","","","","","","","","","","","","","","","","","","","","","","","","","","","","","","","","","","",""]
[{"$f":"IF(ISBLANK('Control Sheet'!D471),\"\",'Control Sheet'!D471)","v":""},{"$f":"IF(ISBLANK('Control Sheet'!E471),\"\",'Control Sheet'!E471&\" (\"&'Control Sheet'!F471&\")\")","v":""},{"$f":"IF(C$18=1,IF(ISNA(VLOOKUP($A491,INDIRECT(C$20),Abated_col,FALSE)),\"\",VLOOKUP($A491,INDIRECT(C$20),Abated_col,FALSE)),\"\")","v":""},"","","","","","","","","","","","","","","","","","","","","","","","","","","","","","","","","","","","","","","","","","","","","","","","","","","","","","","",{"$f":"IF(A491=\"\",\"\",MAX(IF(ISERROR(AU491:BF491),0,AU491:BF491)))","v":""},"","","","","","","","","","","","","","","","","","","","","","","","","","","","","","","","","","","","","","","","","","","","",""]
[{"$f":"IF(ISBLANK('Control Sheet'!D473),\"\",'Control Sheet'!D473)","v":""},{"$f":"IF(ISBLANK('Control Sheet'!E473),\"\",'Control Sheet'!E473&\" (\"&'Control Sheet'!F473&\")\")","v":""},"","","","","","","","","","","","","","","","","","","","","","","","","","","","","","","","","","","","","","","","","","","","","","","","","","","","","","","","",{"$f":"IF(A493=\"\",\"\",MAX(IF(ISERROR(AU493:BF493),0,AU493:BF493)))","v":""},"","","","","","","","","","","","","","","","","","","","","","","","","","","","","","","","","","","","","","","","","","","","",""]
[{"$f":"IF(ISBLANK('Control Sheet'!D477),\"\",'Control Sheet'!D477)","v":""},{"$f":"IF(ISBLANK('Control Sheet'!E477),\"\",'Control Sheet'!E477&\" (\"&'Control Sheet'!F477&\")\")","v":""},"","","","","","","","","","","","","","","","","","","","","","","","","","","","","","","","","","","","","","","","","","","","","","","","","","","","","","","","",{"$f":"IF(A497=\"\",\"\",MAX(IF(ISERROR(AU497:BF497),0,AU497:BF497)))","v":""},"","","","","","","","","","","","","","","","","","","","","","","","","","","","","","","","","","","","","","","","","","","","",""]
[{"$f":"IF(ISBLANK('Control Sheet'!D480),\"\",'Control Sheet'!D480)","v":""},{"$f":"IF(ISBLANK('Control Sheet'!E480),\"\",'Control Sheet'!E480&\" (\"&'Control Sheet'!F480&\")\")","v":""},"","","","","","","","","","","","","","","","","","","","","","","","","","","","","","","","","","","","","","","","","","","","","","","","","","","","","","","","",{"$f":"IF(A500=\"\",\"\",MAX(IF(ISERROR(AU500:BF500),0,AU500:BF500)))","v":""},"","","","","","","","","","","","","","","","","","","","","","","","","","","","","","","","","","","","","","","","","","","","",""]
[{"$f":"IF(ISBLANK('Control Sheet'!D483),\"\",'Control Sheet'!D483)","v":""},{"$f":"IF(ISBLANK('Control Sheet'!E483),\"\",'Control Sheet'!E483&\" (\"&'Control Sheet'!F483&\")\")","v":""},"","","","","","","","","","","","","","","","","","","","","","","","","","","","","","","","","","","","","","","","","","","","","","","","","","","","","","","","",{"$f":"IF(A503=\"\",\"\",MAX(IF(ISERROR(AU503:BF503),0,AU503:BF503)))","v":""},"","","","","","","","","","","","","","","","","","","","","","","","","","","","","","","","","","","","","","","","","","","","",""]
[{"$f":"IF(ISBLANK('Control Sheet'!D486),\"\",'Control Sheet'!D486)","v":""},{"$f":"IF(ISBLANK('Control Sheet'!E486),\"\",'Control Sheet'!E486&\" (\"&'Control Sheet'!F486&\")\")","v":""},"","","","","","","","","","","","","","","","","","","","","","","","","","","","","","","","","","","","","","","","","","","","","","","","","","","","","","","","",{"$f":"IF(A506=\"\",\"\",MAX(IF(ISERROR(AU506:BF506),0,AU506:BF506)))","v":""},"","","","","","","","","","","","","","","","","","","","","","","","","","","","","","","","","","","","","","","","","","","","",""]
[{"$f":"IF(ISBLANK('Control Sheet'!D489),\"\",'Control Sheet'!D489)","v":""},{"$f":"IF(ISBLANK('Control Sheet'!E489),\"\",'Control Sheet'!E489&\" (\"&'Control Sheet'!F489&\")\")","v":""},"","","","","","","","","","","","","","","","","","","","","","","","","","","","","","","","","","","","","","","","","","","","","","","","","","","","","","","","",{"$f":"IF(A509=\"\",\"\",MAX(IF(ISERROR(AU509:BF509),0,AU509:BF509)))","v":""},"","","","","","","","","","","","","","","","","","","","","","","","","","","","","","","","","","","","","","","","","","","","",""]
[{"$f":"IF(ISBLANK('Control Sheet'!D490),\"\",'Control Sheet'!D490)","v":""},{"$f":"IF(ISBLANK('Control Sheet'!E490),\"\",'Control Sheet'!E490&\" (\"&'Control Sheet'!F490&\")\")","v":""},"","","","","","","","","","","","","","","","","","","","","","","","","","","","","","","","","","","","","","","","","","","","","","","","","","","","","","","","",{"$f":"IF(A510=\"\",\"\",MAX(IF(ISERROR(AU510:BF510),0,AU510:BF510)))","v":""},"","","","","","","","","","","","","","","","","","","","","","","","","","","","","","","","","","","","","","","","","","","","",""]
[{"$f":"IF(ISBLANK('Control Sheet'!D493),\"\",'Control Sheet'!D493)","v":""},{"$f":"IF(ISBLANK('Control Sheet'!E493),\"\",'Control Sheet'!E493&\" (\"&'Control Sheet'!F493&\")\")","v":""},"","","","","","","","","","","","","","","","","","","","","","","","","","","","","","","","","","","","","","","","","","","","","","","","","","","","","","","","",{"$f":"IF(A513=\"\",\"\",MAX(IF(ISERROR(AU513:BF513),0,AU513:BF513)))","v":""},"","","","","","","","","","","","","","","","","","","","","","","","","","","","","","","","","","","","","","","","","","","","",""]
[{"$f":"IF(ISBLANK('Control Sheet'!D496),\"\",'Control Sheet'!D496)","v":""},{"$f":"IF(ISBLANK('Control Sheet'!E496),\"\",'Control Sheet'!E496&\" (\"&'Control Sheet'!F496&\")\")","v":""},"","","","","","","","","","","","","","","","","","","","","","","","","","","","","","","","","","","","","","","","","","","","","","","","","","","","","","","","",{"$f":"IF(A516=\"\",\"\",MAX(IF(ISERROR(AU516:BF516),0,AU516:BF516)))","v":""},"","","","","","","","","","","","","","","","","","","","","","","","","","","","","","","","","","","","","","","","","","","","",""]
[{"$f":"IF(ISBLANK('Control Sheet'!D500),\"\",'Control Sheet'!D500)","v":""},{"$f":"IF(ISBLANK('Control Sheet'!E500),\"\",'Control Sheet'!E500&\" (\"&'Control Sheet'!F500&\")\")","v":""},"","","","","","","","","","","","","","","","","","","","","","","","","","","","","","","","","","","","","","","","","","","","","","","","","","","","","","","","",{"$f":"IF(A520=\"\",\"\",MAX(IF(ISERROR(AU520:BF520),0,AU520:BF520)))","v":""},"","","","","","","","","","","","","","","","","","","",{"$f":"IF(C$18=1,IF(ISNA(VLOOKUP($A520,INDIRECT(C$20),MUR_fee_col,FALSE)),\"\",VLOOKUP($A520,INDIRECT(C$20),MUR_fee_col,FALSE)),\"\")","v":""},"","","","","","","","","","","","",{"$f":"IF(C$18=1,IF(ISNA(VLOOKUP($A520,INDIRECT(C$20),MUR_Fee_adj_col,FALSE)),\"\",VLOOKUP($A520,INDIRECT(C$20),MUR_Fee_adj_col,FALSE)),\"\")","v":""},"","","","","","","","","","","",""]
[{"$f":"IF(ISBLANK('Control Sheet'!D503),\"\",'Control Sheet'!D503)","v":""},{"$f":"IF(ISBLANK('Control Sheet'!E503),\"\",'Control Sheet'!E503&\" (\"&'Control Sheet'!F503&\")\")","v":""},"","","","","","","","","","","","","","","","","","","","","","","","","","","","","","","","","","","","","","","","","","","","","","","","","","","","","","","","",{"$f":"IF(A523=\"\",\"\",MAX(IF(ISERROR(AU523:BF523),0,AU523:BF523)))","v":""},"","","","","","","","","","","","","","","","","","","","","","","","","","","","","","","","","","","","","","","","","","","","",""]
[{"$f":"IF(ISBLANK('Control Sheet'!D506),\"\",'Control Sheet'!D506)","v":""},{"$f":"IF(ISBLANK('Control Sheet'!E506),\"\",'Control Sheet'!E506&\" (\"&'Control Sheet'!F506&\")\")","v":""},"","","","","","","","","","","","","","","","","","","","","","","","","","","","","","","","","","","","","","","","","","","","","","","","","","","","","","","","",{"$f":"IF(A526=\"\",\"\",MAX(IF(ISERROR(AU526:BF526),0,AU526:BF526)))","v":""},"","","","","","","","","","","","","","","","","","","","","","","","","","","","","","","","","","","","","","","","","","","","",""]
[{"$f":"IF(ISBLANK('Control Sheet'!D509),\"\",'Control Sheet'!D509)","v":""},{"$f":"IF(ISBLANK('Control Sheet'!E509),\"\",'Control Sheet'!E509&\" (\"&'Control Sheet'!F509&\")\")","v":""},"","","","","","","","","","","","","","","","","","","","","","","","","","","","","","","","","","","","","","","","","","","","","","","","","","","","","","","","",{"$f":"IF(A529=\"\",\"\",MAX(IF(ISERROR(AU529:BF529),0,AU529:BF529)))","v":""},"","","","","","","","","","","","","","","","","","","","","","","","","","","","","","","","","","","","","","","","","","","","",""]
[{"$f":"IF(ISBLANK('Control Sheet'!D512),\"\",'Control Sheet'!D512)","v":""},{"$f":"IF(ISBLANK('Control Sheet'!E512),\"\",'Control Sheet'!E512&\" (\"&'Control Sheet'!F512&\")\")","v":""},"","","","","","","","","","","","","","","","","","","","","","","","","","","","","","","","","","","","","","","","","","","","","","","","","","","","","","","","",{"$f":"IF(A532=\"\",\"\",MAX(IF(ISERROR(AU532:BF532),0,AU532:BF532)))","v":""},"","","","","","","","","","","","","","","","","","","","","","","","","","","","","","","","","","","","","","","","","","","","",""]
[{"$f":"IF(ISBLANK('Control Sheet'!D513),\"\",'Control Sheet'!D513)","v":""},{"$f":"IF(ISBLANK('Control Sheet'!E513),\"\",'Control Sheet'!E513&\" (\"&'Control Sheet'!F513&\")\")","v":""},"","","","","","","","","","","","",{"$f":"IF(A533=\"\",\"\",SUM(C533:N533))","v":""},{"$f":"IF(A533=\"\",\"\",IF($O$18=12,SUM(C533:N533),AVERAGE(C533:O533)*(12-$O$18)))","v":""},{"$f":"IF(A533=\"\",\"\",IF(P533<=400,\"No\",\"Yes\"))","v":""},{"$f":"IF(A533=\"\",\"\",MURMonthsPop-(COUNTA(C533:N533)-COUNTBLANK(C533:N533)))","v":""},{"$f":"IF(C$18=1,IF(ISNA(VLOOKUP($A533,INDIRECT(C$20),MIS_Count_col,FALSE)),\"\",VLOOKUP($A533,INDIRECT(C$20),MIS_Count_col,FALSE)),\"\")","v":""},{"$f":"IF(D$18=1,IF(ISNA(VLOOKUP($A533,INDIRECT(D$20),MIS_Count_col,FALSE)),\"\",VLOOKUP($A533,INDIRECT(D$20),MIS_Count_col,FALSE)),\"\")","v":""},{"$f":"IF(E$18=1,IF(ISNA(VLOOKUP($A533,INDIRECT(E$20),MIS_Count_col,FALSE)),\"\",VLOOKUP($A533,INDIRECT(E$20),MIS_Count_col,FALSE)),\"\")","v":""},{"$f":"IF(F$18=1,IF(ISNA(VLOOKUP($A533,INDIRECT(F$20),MIS_Count_col,FALSE)),\"\",VLOOKUP($A533,INDIRECT(F$20),MIS_Count_col,FALSE)),\"\")","v":""},{"$f":"IF(G$18=1,IF(ISNA(VLOOKUP($A533,INDIRECT(G$20),MIS_Count_col,FALSE)),\"\",VLOOKUP($A533,INDIRECT(G$20),MIS_Count_col,FALSE)),\"\")","v":""},{"$f":"IF(H$18=1,IF(ISNA(VLOOKUP($A533,INDIRECT(H$20),MIS_Count_col,FALSE)),\"\",VLOOKUP($A533,INDIRECT(H$20),MIS_Count_col,FALSE)),\"\")","v":""},{"$f":"IF(I$18=1,IF(ISNA(VLOOKUP($A533,INDIRECT(I$20),MIS_Count_col,FALSE)),\"\",VLOOKUP($A533,INDIRECT(I$20),MIS_Count_col,FALSE)),\"\")","v":""},{"$f":"IF(J$18=1,IF(ISNA(VLOOKUP($A533,INDIRECT(J$20),MIS_Count_col,FALSE)),\"\",VLOOKUP($A533,INDIRECT(J$20),MIS_Count_col,FALSE)),\"\")","v":""},{"$f":"IF(K$18=1,IF(ISNA(VLOOKUP($A533,INDIRECT(K$20),MIS_Count_col,FALSE)),\"\",VLOOKUP($A533,INDIRECT(K$20),MIS_Count_col,FALSE)),\"\")","v":""},{"$f":"IF(L$18=1,IF(ISNA(VLOOKUP($A533,INDIRECT(L$20),MIS_Count_col,FALSE)),\"\",VLOOKUP($A533,INDIRECT(L$20),MIS_Count_col,FALSE)),\"\")","v":""},{"$f":"IF(M$18=1,IF(ISNA(VLOOKUP($A533,INDIRECT(M$20),MIS_Count_col,FALSE)),\"\",VLOOKUP($A533,INDIRECT(M$20),MIS_Count_col,FALSE)),\"\")","v":""},{"$f":"IF(N$18=1,IF(ISNA(VLOOKUP($A533,INDIRECT(N$20),MIS_Count_col,FALSE)),\"\",VLOOKUP($A533,INDIRECT(N$20),MIS_Count_col,FALSE)),\"\")","v":""},"","","","","","","","","","","","","","","",{"$f":"IF(A533=\"\",\"\",MAX(AH533:AS533))","v":""},{"$f":"IF(C$18=1,IF(ISNA(VLOOKUP($A533,INDIRECT(C$20),LPC_Stat_col,FALSE)),\"\",VLOOKUP($A533,INDIRECT(C$20),LPC_Stat_col,FALSE)),\"\")","v":""},{"$f":"IF(D$18=1,IF(ISNA(VLOOKUP($A533,INDIRECT(D$20),LPC_Stat_col,FALSE)),\"\",VLOOKUP($A533,INDIRECT(D$20),LPC_Stat_col,FALSE)),\"\")","v":""},{"$f":"IF(E$18=1,IF(ISNA(VLOOKUP($A533,INDIRECT(E$20),LPC_Stat_col,FALSE)),\"\",VLOOKUP($A533,INDIRECT(E$20),LPC_Stat_col,FALSE)),\"\")","v":""},{"$f":"IF(F$18=1,IF(ISNA(VLOOKUP($A533,INDIRECT(F$20),LPC_Stat_col,FALSE)),\"\",VLOOKUP($A533,INDIRECT(F$20),LPC_Stat_col,FALSE)),\"\")","v":""},{"$f":"IF(G$18=1,IF(ISNA(VLOOKUP($A533,INDIRECT(G$20),LPC_Stat_col,FALSE)),\"\",VLOOKUP($A533,INDIRECT(G$20),LPC_Stat_col,FALSE)),\"\")","v":""},{"$f":"IF(H$18=1,IF(ISNA(VLOOKUP($A533,INDIRECT(H$20),LPC_Stat_col,FALSE)),\"\",VLOOKUP($A533,INDIRECT(H$20),LPC_Stat_col,FALSE)),\"\")","v":""},{"$f":"IF(I$18=1,IF(ISNA(VLOOKUP($A533,INDIRECT(I$20),LPC_Stat_col,FALSE)),\"\",VLOOKUP($A533,INDIRECT(I$20),LPC_Stat_col,FALSE)),\"\")","v":""},{"$f":"IF(J$18=1,IF(ISNA(VLOOKUP($A533,INDIRECT(J$20),LPC_Stat_col,FALSE)),\"\",VLOOKUP($A533,INDIRECT(J$20),LPC_Stat_col,FALSE)),\"\")","v":""},{"$f":"IF(K$18=1,IF(ISNA(VLOOKUP($A533,INDIRECT(K$20),LPC_Stat_col,FALSE)),\"\",VLOOKUP($A533,INDIRECT(K$20),LPC_Stat_col,FALSE)),\"\")","v":""},{"$f":"IF(L$18=1,IF(ISNA(VLOOKUP($A533,INDIRECT(L$20),LPC_Stat_col,FALSE)),\"\",VLOOKUP($A533,INDIRECT(L$20),LPC_Stat_col,FALSE)),\"\")","v":""},{"$f":"IF(M$18=1,IF(ISNA(VLOOKUP($A533,INDIRECT(M$20),LPC_Stat_col,FALSE)),\"\",VLOOKUP($A533,INDIRECT(M$20),LPC_Stat_col,FALSE)),\"\")","v":""},{"$f":"IF(N$18=1,IF(ISNA(VLOOKUP($A533,INDIRECT(N$20),LPC_Stat_col,FALSE)),\"\",VLOOKUP($A533,INDIRECT(N$20),LPC_Stat_col,FALSE)),\"\")","v":""},{"$f":"IF(A533=\"\",\"\",MAX(IF(ISERROR(AU533:BF533),0,AU533:BF533)))","v":""},{"$f":"IF(C$18=1,IF(ISNA(VLOOKUP($A533,INDIRECT(C$20),LPC_Vol_col,FALSE)),\"\",VLOOKUP($A533,INDIRECT(C$20),LPC_Vol_col,FALSE)),\"\")","v":""},{"$f":"IF(D$18=1,IF(ISNA(VLOOKUP($A533,INDIRECT(D$20),LPC_Vol_col,FALSE)),\"\",VLOOKUP($A533,INDIRECT(D$20),LPC_Vol_col,FALSE)),\"\")","v":""},{"$f":"IF(E$18=1,IF(ISNA(VLOOKUP($A533,INDIRECT(E$20),LPC_Vol_col,FALSE)),\"\",VLOOKUP($A533,INDIRECT(E$20),LPC_Vol_col,FALSE)),\"\")","v":""},{"$f":"IF(F$18=1,IF(ISNA(VLOOKUP($A533,INDIRECT(F$20),LPC_Vol_col,FALSE)),\"\",VLOOKUP($A533,INDIRECT(F$20),LPC_Vol_col,FALSE)),\"\")","v":""},{"$f":"IF(G$18=1,IF(ISNA(VLOOKUP($A533,INDIRECT(G$20),LPC_Vol_col,FALSE)),\"\",VLOOKUP($A533,INDIRECT(G$20),LPC_Vol_col,FALSE)),\"\")","v":""},{"$f":"IF(H$18=1,IF(ISNA(VLOOKUP($A533,INDIRECT(H$20),LPC_Vol_col,FALSE)),\"\",VLOOKUP($A533,INDIRECT(H$20),LPC_Vol_col,FALSE)),\"\")","v":""},{"$f":"IF(I$18=1,IF(ISNA(VLOOKUP($A533,INDIRECT(I$20),LPC_Vol_col,FALSE)),\"\",VLOOKUP($A533,INDIRECT(I$20),LPC_Vol_col,FALSE)),\"\")","v":""},{"$f":"IF(J$18=1,IF(ISNA(VLOOKUP($A533,INDIRECT(J$20),LPC_Vol_col,FALSE)),\"\",VLOOKUP($A533,INDIRECT(J$20),LPC_Vol_col,FALSE)),\"\")","v":""},{"$f":"IF(K$18=1,IF(ISNA(VLOOKUP($A533,INDIRECT(K$20),LPC_Vol_col,FALSE)),\"\",VLOOKUP($A533,INDIRECT(K$20),LPC_Vol_col,FALSE)),\"\")","v":""},{"$f":"IF(L$18=1,IF(ISNA(VLOOKUP($A533,INDIRECT(L$20),LPC_Vol_col,FALSE)),\"\",VLOOKUP($A533,INDIRECT(L$20),LPC_Vol_col,FALSE)),\"\")","v":""},{"$f":"IF(M$18=1,IF(ISNA(VLOOKUP($A533,INDIRECT(M$20),LPC_Vol_col,FALSE)),\"\",VLOOKUP($A533,INDIRECT(M$20),LPC_Vol_col,FALSE)),\"\")","v":""},{"$f":"IF(N$18=1,IF(ISNA(VLOOKUP($A533,INDIRECT(N$20),LPC_Vol_col,FALSE)),\"\",VLOOKUP($A533,INDIRECT(N$20),LPC_Vol_col,FALSE)),\"\")","v":""},{"$f":"IF(A533=\"\",\"\",SUM(BH533:BS533))","v":""},{"$f":"IF(A533=\"\",\"\",MIN(B533:M533))","v":""},{"$f":"IF(A533=\"\",\"\",MAX(B533:M533))","v":""},{"$f":"IF(A533=\"\",\"\",BV533-BU533)","v":""},{"$f":"IF(A533=\"\",\"\",IF(BW533>$BW$11,\"Yes\",\"No\"))","v":""},{"$f":"IF(A533=\"\",\"\",(COUNTA(C533:N533)-COUNTBLANK(C533:N533)))","v":""},{"$f":"IF(A533=\"\",\"\",BY533-COUNTIF(C533:N533,\"=0\"))","v":""},"","","","","","","","","","","","",{"$f":"IF(A533=\"\",\"\",SUM(CA533:CL533))","v":""},"","","","","","","","","","","","",{"$f":"IF(A533=\"\",\"\",SUM(CN533:CY533))","v":""}]
[{"$f":"IF(ISBLANK('Control Sheet'!D516),\"\",'Control Sheet'!D516)","v":""},{"$f":"IF(ISBLANK('Control Sheet'!E516),\"\",'Control Sheet'!E516&\" (\"&'Control Sheet'!F516&\")\")","v":""},"","","","","","","","","","","","","","","","","","","","","","","","","","","","","","","","","","","","","","","","","","","","","","","","","","","","","","","","",{"$f":"IF(A536=\"\",\"\",MAX(IF(ISERROR(AU536:BF536),0,AU536:BF536)))","v":""},"","","","","","","","","","","","","","","","","","","","","","","","","","","","","","","","","","","","","","","","","","","","",""]
[{"$f":"IF(ISBLANK('Control Sheet'!D520),\"\",'Control Sheet'!D520)","v":""},{"$f":"IF(ISBLANK('Control Sheet'!E520),\"\",'Control Sheet'!E520&\" (\"&'Control Sheet'!F520&\")\")","v":""},"","","","","","","","","","","","","","","","","","","","","","","","","","","","","","","","","","","","","","","","","","","","","","","","","","","","","","","","",{"$f":"IF(A540=\"\",\"\",MAX(IF(ISERROR(AU540:BF540),0,AU540:BF540)))","v":""},"","","","","","","","","","","","","","","","","","","","","","","","","","","","","","","","","","","","","","","","","","","","",""]
[{"$f":"IF(ISBLANK('Control Sheet'!D522),\"\",'Control Sheet'!D522)","v":""},{"$f":"IF(ISBLANK('Control Sheet'!E522),\"\",'Control Sheet'!E522&\" (\"&'Control Sheet'!F522&\")\")","v":""},"","","","","","","","","","","","","","","","","","","","","","","","","","","","","","","","","","","","","","","","","","","","","","","","","","","","","","","","",{"$f":"IF(A542=\"\",\"\",MAX(IF(ISERROR(AU542:BF542),0,AU542:BF542)))","v":""},"","","","","","","","","","","","","","","","","","","","","","","","","","","","","","","","","","","","","","","","","","","","",""]
[{"$f":"IF(ISBLANK('Control Sheet'!D525),\"\",'Control Sheet'!D525)","v":""},{"$f":"IF(ISBLANK('Control Sheet'!E525),\"\",'Control Sheet'!E525&\" (\"&'Control Sheet'!F525&\")\")","v":""},"","","","","","","","","","","","","","","","","","","","","","","","","","","","","","","","","","","","","","","","","","","","","","","","","","","","","","","","",{"$f":"IF(A545=\"\",\"\",MAX(IF(ISERROR(AU545:BF545),0,AU545:BF545)))","v":""},"","","","","","","","","","","","","","","","","","","","","","","","","","","","","","","","","","","","","","","","","","","","",""]
[{"$f":"IF(ISBLANK('Control Sheet'!D529),\"\",'Control Sheet'!D529)","v":""},{"$f":"IF(ISBLANK('Control Sheet'!E529),\"\",'Control Sheet'!E529&\" (\"&'Control Sheet'!F529&\")\")","v":""},"","","","","","","","","","","","","","","","","","","","","","","","","","","","","","","","","","","","","","","","","","","","","","","","","","","","","","","","",{"$f":"IF(A549=\"\",\"\",MAX(IF(ISERROR(AU549:BF549),0,AU549:BF549)))","v":""},"","","","","","","","","","","","","","","","","","","","","","","","","","","","","","","","","","","","","","","","","","","","",""]
[{"$f":"IF(ISBLANK('Control Sheet'!D532),\"\",'Control Sheet'!D532)","v":""},{"$f":"IF(ISBLANK('Control Sheet'!E532),\"\",'Control Sheet'!E532&\" (\"&'Control Sheet'!F532&\")\")","v":""},"","","","","","","","","","","","","","","","","","","","","","","","","","","","","","","","","","","","","","","","","","","","","","","","","","","","","","","","",{"$f":"IF(A552=\"\",\"\",MAX(IF(ISERROR(AU552:BF552),0,AU552:BF552)))","v":""},"","","","","","","","","","","","","","","","","","","","","","","","","","","","","","","","","","","","","","","","","","","","",""]
[{"$f":"IF(ISBLANK('Control Sheet'!D533),\"\",'Control Sheet'!D533)","v":""},{"$f":"IF(ISBLANK('Control Sheet'!E533),\"\",'Control Sheet'!E533&\" (\"&'Control Sheet'!F533&\")\")","v":""},"","","","","","","","","","","","","","","","","","","","","","","","","","","","","","","","","","","","","","","","","","","","","","","","","","","","","","","","",{"$f":"IF(A553=\"\",\"\",MAX(IF(ISERROR(AU553:BF553),0,AU553:BF553)))","v":""},"","","","","","","","","","","","","","","","","","","","","","","","","","","","","","","","","","","","","","","","","","","","",""]
[{"$f":"IF(ISBLANK('Control Sheet'!D535),\"\",'Control Sheet'!D535)","v":""},{"$f":"IF(ISBLANK('Control Sheet'!E535),\"\",'Control Sheet'!E535&\" (\"&'Control Sheet'!F535&\")\")","v":""},"","","","","","","","","","","","","","","","","","","","","","","","","","","","","","","","","","","","","","","","","","","","","","","","","","","","","","","","",{"$f":"IF(A555=\"\",\"\",MAX(IF(ISERROR(AU555:BF555),0,AU555:BF555)))","v":""},"","","","","","","","","","","","","","","","","","","","","","","","","","","","","","","","","","","","","","","","","","","","",""]
[{"$f":"IF(ISBLANK('Control Sheet'!D538),\"\",'Control Sheet'!D538)","v":""},{"$f":"IF(ISBLANK('Control Sheet'!E538),\"\",'Control Sheet'!E538&\" (\"&'Control Sheet'!F538&\")\")","v":""},"","","","","","","","","","","","","","","","","","","","","","","","","","","","","","","","","","","","","","","","","","","","","","","","","","","","","","","","",{"$f":"IF(A558=\"\",\"\",MAX(IF(ISERROR(AU558:BF558),0,AU558:BF558)))","v":""},"","","","","","","","","","","","","","","","","","","","","","","","","","","","","","","","","","","","","","","","","","","","",""]
[{"$f":"IF(ISBLANK('Control Sheet'!D542),\"\",'Control Sheet'!D542)","v":""},{"$f":"IF(ISBLANK('Control Sheet'!E542),\"\",'Control Sheet'!E542&\" (\"&'Control Sheet'!F542&\")\")","v":""},"","","","","","","","","","","","","","","","","","","","","","","","","","","","","","","","","","","","","","","","","","","","","","","","","","","","","","","","",{"$f":"IF(A562=\"\",\"\",MAX(IF(ISERROR(AU562:BF562),0,AU562:BF562)))","v":""},"","","","","","","","","","","","","","","","","","","","","","","","","","","","","","","","","","","","","","","","","","","","",""]
[{"$f":"IF(ISBLANK('Control Sheet'!D545),\"\",'Control Sheet'!D545)","v":""},{"$f":"IF(ISBLANK('Control Sheet'!E545),\"\",'Control Sheet'!E545&\" (\"&'Control Sheet'!F545&\")\")","v":""},"","","","","","","","","","","","","","","","","","","","","","","","","","","","","","","","","","","","","","","","","","","","","","","","","","","","","","","","",{"$f":"IF(A565=\"\",\"\",MAX(IF(ISERROR(AU565:BF565),0,AU565:BF565)))","v":""},"","","","","","","","","","","","","","","","","","","","","","","","","","","","","","","","","","","","","","","","","","","","",""]
[{"$f":"IF(ISBLANK('Control Sheet'!D548),\"\",'Control Sheet'!D548)","v":""},{"$f":"IF(ISBLANK('Control Sheet'!E548),\"\",'Control Sheet'!E548&\" (\"&'Control Sheet'!F548&\")\")","v":""},"","","","","","","","","","","","","","","","","","","","","","","","","","","","","","","","","","","","","","","","","","","","","","","","","","","","","","","","",{"$f":"IF(A568=\"\",\"\",MAX(IF(ISERROR(AU568:BF568),0,AU568:BF568)))","v":""},"","","","","","","","","","","","","","","","","","","","","","","","","","","","","","","","","","","","","","","","","","","","",""]
[{"$f":"IF(ISBLANK('Control Sheet'!D550),\"\",'Control Sheet'!D550)","v":""},{"$f":"IF(ISBLANK('Control Sheet'!E550),\"\",'Control Sheet'!E550&\" (\"&'Control Sheet'!F550&\")\")","v":""},"","","","","","","","","","","","","","","","","","","","","","","","","","","","","","","","","","","","","","","","","","","","","","","","","","","","","","","","",{"$f":"IF(A570=\"\",\"\",MAX(IF(ISERROR(AU570:BF570),0,AU570:BF570)))","v":""},"","","","","","","","","","","","","","","","","","","","","","","","","","","","","","","","","","","","","","","","","","","","",""]
[{"$f":"IF(ISBLANK('Control Sheet'!D554),\"\",'Control Sheet'!D554)","v":""},{"$f":"IF(ISBLANK('Control Sheet'!E554),\"\",'Control Sheet'!E554&\" (\"&'Control Sheet'!F554&\")\")","v":""},"","","","","","","","","","","","","","","","","","","","","","","","","","","","","","","","","","","","","","","","","","","","","","","","","","","","","","","","",{"$f":"IF(A574=\"\",\"\",MAX(IF(ISERROR(AU574:BF574),0,AU574:BF574)))","v":""},"","","","","","","","","","","","","","","","","","","","","","","","","","","","","","","","","","","","","","","","","","","","",""]
[{"$f":"IF(ISBLANK('Control Sheet'!D557),\"\",'Control Sheet'!D557)","v":""},{"$f":"IF(ISBLANK('Control Sheet'!E557),\"\",'Control Sheet'!E557&\" (\"&'Control Sheet'!F557&\")\")","v":""},"","","","","","","","","","","","","","","","","","","","","","","","","","","","","","","","","","","","","","","","","","","","","","","","","","","","","","","","",{"$f":"IF(A577=\"\",\"\",MAX(IF(ISERROR(AU577:BF577),0,AU577:BF577)))","v":""},"","","","","","","","","","","","","","","","","","","","","","","","","","","","","","","","","","","","","","","","","","","","",""]
[{"$f":"IF(ISBLANK('Control Sheet'!D558),\"\",'Control Sheet'!D558)","v":""},{"$f":"IF(ISBLANK('Control Sheet'!E558),\"\",'Control Sheet'!E558&\" (\"&'Control Sheet'!F558&\")\")","v":""},"","","","","","","","","","","","","","","","","","","","","","","","","","","","","","","","","","","","","","","","","","","","","","","","","","","","","","","","",{"$f":"IF(A578=\"\",\"\",MAX(IF(ISERROR(AU578:BF578),0,AU578:BF578)))","v":""},"","","","","","","","","","","","","","","","","","","","","","","","","","","","","","","","","","","","","","","","","","","","",""]
[{"$f":"IF(ISBLANK('Control Sheet'!D561),\"\",'Control Sheet'!D561)","v":""},{"$f":"IF(ISBLANK('Control Sheet'!E561),\"\",'Control Sheet'!E561&\" (\"&'Control Sheet'!F561&\")\")","v":""},{"$f":"IF(C$18=1,IF(ISNA(VLOOKUP($A581,INDIRECT(C$20),Abated_col,FALSE)),\"\",VLOOKUP($A581,INDIRECT(C$20),Abated_col,FALSE)),\"\")","v":""},"","","","","","","","","","","","","","","","","","","","","","","","","","","","","","","","","","","","","","","","","","","","","","","","","","","","","","","",{"$f":"IF(A581=\"\",\"\",MAX(IF(ISERROR(AU581:BF581),0,AU581:BF581)))","v":""},"","","","","","","","","","","","","","","","","","","","","","","","","","","","","","","","","","","","","","","","","","","","",""]
[{"$f":"IF(ISBLANK('Control Sheet'!D565),\"\",'Control Sheet'!D565)","v":""},{"$f":"IF(ISBLANK('Control Sheet'!E565),\"\",'Control Sheet'!E565&\" (\"&'Control Sheet'!F565&\")\")","v":""},"","","","","","","","","","","","","","","","","","","","","","","","","","","","","","","","","","","","","","","","","","","","","","","","","","","","","","","","",{"$f":"IF(A585=\"\",\"\",MAX(IF(ISERROR(AU585:BF585),0,AU585:BF585)))","v":""},"","","","","","","","","","","","","","","","","","","","","","","","","","","","","","","","","","","","","","","","","","","","",""]
[{"$f":"IF(ISBLANK('Control Sheet'!D567),\"\",'Control Sheet'!D567)","v":""},{"$f":"IF(ISBLANK('Control Sheet'!E567),\"\",'Control Sheet'!E567&\" (\"&'Control Sheet'!F567&\")\")","v":""},"","","","","","","","","","","","","","","","","","","","","","","","","","","","","","","","","","","","","","","","","","","","","","","","","","","","","","","","",{"$f":"IF(A587=\"\",\"\",MAX(IF(ISERROR(AU587:BF587),0,AU587:BF587)))","v":""},"","","","","","","","","","","","","","","","","","","","","","","","","","","","","","","","","","","","","","","","","","","","",""]
[{"$f":"IF(ISBLANK('Control Sheet'!D570),\"\",'Control Sheet'!D570)","v":""},{"$f":"IF(ISBLANK('Control Sheet'!E570),\"\",'Control Sheet'!E570&\" (\"&'Control Sheet'!F570&\")\")","v":""},"","","","","","","","","","","","","","","","","","","","","","","","","","","","","","","","","","","","","","","","","","","","","","","","","","","","","","","","",{"$f":"IF(A590=\"\",\"\",MAX(IF(ISERROR(AU590:BF590),0,AU590:BF590)))","v":""},"","","","","","","","","","","","","","","","","","","","","","","","","","","","","","","","","","","","","","","","","","","","",""]
[{"$f":"IF(ISBLANK('Control Sheet'!D574),\"\",'Control Sheet'!D574)","v":""},{"$f":"IF(ISBLANK('Control Sheet'!E574),\"\",'Control Sheet'!E574&\" (\"&'Control Sheet'!F574&\")\")","v":""},"","","","","","","","","","","","","","","","","","","","","","","","","","","","","","","","","","","","","","","","","","","","","","","","","","","","","","","","",{"$f":"IF(A594=\"\",\"\",MAX(IF(ISERROR(AU594:BF594),0,AU594:BF594)))","v":""},"","","","","","","","","","","","","","","","","","","","","","","","","","","","","","","","","","","","","","","","","","","","",""]
[{"$f":"IF(ISBLANK('Control Sheet'!D577),\"\",'Control Sheet'!D577)","v":""},{"$f":"IF(ISBLANK('Control Sheet'!E577),\"\",'Control Sheet'!E577&\" (\"&'Control Sheet'!F577&\")\")","v":""},"","","","","","","","","","","","",{"$f":"IF(A597=\"\",\"\",SUM(C597:N597))","v":""},{"$f":"IF(A597=\"\",\"\",IF($O$18=12,SUM(C597:N597),AVERAGE(C597:O597)*(12-$O$18)))","v":""},{"$f":"IF(A597=\"\",\"\",IF(P597<=400,\"No\",\"Yes\"))","v":""},{"$f":"IF(A597=\"\",\"\",MURMonthsPop-(COUNTA(C597:N597)-COUNTBLANK(C597:N597)))","v":""},{"$f":"IF(C$18=1,IF(ISNA(VLOOKUP($A597,INDIRECT(C$20),MIS_Count_col,FALSE)),\"\",VLOOKUP($A597,INDIRECT(C$20),MIS_Count_col,FALSE)),\"\")","v":""},{"$f":"IF(D$18=1,IF(ISNA(VLOOKUP($A597,INDIRECT(D$20),MIS_Count_col,FALSE)),\"\",VLOOKUP($A597,INDIRECT(D$20),MIS_Count_col,FALSE)),\"\")","v":""},{"$f":"IF(E$18=1,IF(ISNA(VLOOKUP($A597,INDIRECT(E$20),MIS_Count_col,FALSE)),\"\",VLOOKUP($A597,INDIRECT(E$20),MIS_Count_col,FALSE)),\"\")","v":""},{"$f":"IF(F$18=1,IF(ISNA(VLOOKUP($A597,INDIRECT(F$20),MIS_Count_col,FALSE)),\"\",VLOOKUP($A597,INDIRECT(F$20),MIS_Count_col,FALSE)),\"\")","v":""},{"$f":"IF(G$18=1,IF(ISNA(VLOOKUP($A597,INDIRECT(G$20),MIS_Count_col,FALSE)),\"\",VLOOKUP($A597,INDIRECT(G$20),MIS_Count_col,FALSE)),\"\")","v":""},{"$f":"IF(H$18=1,IF(ISNA(VLOOKUP($A597,INDIRECT(H$20),MIS_Count_col,FALSE)),\"\",VLOOKUP($A597,INDIRECT(H$20),MIS_Count_col,FALSE)),\"\")","v":""},{"$f":"IF(I$18=1,IF(ISNA(VLOOKUP($A597,INDIRECT(I$20),MIS_Count_col,FALSE)),\"\",VLOOKUP($A597,INDIRECT(I$20),MIS_Count_col,FALSE)),\"\")","v":""},{"$f":"IF(J$18=1,IF(ISNA(VLOOKUP($A597,INDIRECT(J$20),MIS_Count_col,FALSE)),\"\",VLOOKUP($A597,INDIRECT(J$20),MIS_Count_col,FALSE)),\"\")","v":""},{"$f":"IF(K$18=1,IF(ISNA(VLOOKUP($A597,INDIRECT(K$20),MIS_Count_col,FALSE)),\"\",VLOOKUP($A597,INDIRECT(K$20),MIS_Count_col,FALSE)),\"\")","v":""},{"$f":"IF(L$18=1,IF(ISNA(VLOOKUP($A597,INDIRECT(L$20),MIS_Count_col,FALSE)),\"\",VLOOKUP($A597,INDIRECT(L$20),MIS_Count_col,FALSE)),\"\")","v":""},{"$f":"IF(M$18=1,IF(ISNA(VLOOKUP($A597,INDIRECT(M$20),MIS_Count_col,FALSE)),\"\",VLOOKUP($A597,INDIRECT(M$20),MIS_Count_col,FALSE)),\"\")","v":""},{"$f":"IF(N$18=1,IF(ISNA(VLOOKUP($A597,INDIRECT(N$20),MIS_Count_col,FALSE)),\"\",VLOOKUP($A597,INDIRECT(N$20),MIS_Count_col,FALSE)),\"\")","v":""},"","","","","","","","","","","","","","","",{"$f":"IF(A597=\"\",\"\",MAX(AH597:AS597))","v":""},{"$f":"IF(C$18=1,IF(ISNA(VLOOKUP($A597,INDIRECT(C$20),LPC_Stat_col,FALSE)),\"\",VLOOKUP($A597,INDIRECT(C$20),LPC_Stat_col,FALSE)),\"\")","v":""},{"$f":"IF(D$18=1,IF(ISNA(VLOOKUP($A597,INDIRECT(D$20),LPC_Stat_col,FALSE)),\"\",VLOOKUP($A597,INDIRECT(D$20),LPC_Stat_col,FALSE)),\"\")","v":""},{"$f":"IF(E$18=1,IF(ISNA(VLOOKUP($A597,INDIRECT(E$20),LPC_Stat_col,FALSE)),\"\",VLOOKUP($A597,INDIRECT(E$20),LPC_Stat_col,FALSE)),\"\")","v":""},{"$f":"IF(F$18=1,IF(ISNA(VLOOKUP($A597,INDIRECT(F$20),LPC_Stat_col,FALSE)),\"\",VLOOKUP($A597,INDIRECT(F$20),LPC_Stat_col,FALSE)),\"\")","v":""},{"$f":"IF(G$18=1,IF(ISNA(VLOOKUP($A597,INDIRECT(G$20),LPC_Stat_col,FALSE)),\"\",VLOOKUP($A597,INDIRECT(G$20),LPC_Stat_col,FALSE)),\"\")","v":""},{"$f":"IF(H$18=1,IF(ISNA(VLOOKUP($A597,INDIRECT(H$20),LPC_Stat_col,FALSE)),\"\",VLOOKUP($A597,INDIRECT(H$20),LPC_Stat_col,FALSE)),\"\")","v":""},{"$f":"IF(I$18=1,IF(ISNA(VLOOKUP($A597,INDIRECT(I$20),LPC_Stat_col,FALSE)),\"\",VLOOKUP($A597,INDIRECT(I$20),LPC_Stat_col,FALSE)),\"\")","v":""},{"$f":"IF(J$18=1,IF(ISNA(VLOOKUP($A597,INDIRECT(J$20),LPC_Stat_col,FALSE)),\"\",VLOOKUP($A597,INDIRECT(J$20),LPC_Stat_col,FALSE)),\"\")","v":""},{"$f":"IF(K$18=1,IF(ISNA(VLOOKUP($A597,INDIRECT(K$20),LPC_Stat_col,FALSE)),\"\",VLOOKUP($A597,INDIRECT(K$20),LPC_Stat_col,FALSE)),\"\")","v":""},{"$f":"IF(L$18=1,IF(ISNA(VLOOKUP($A597,INDIRECT(L$20),LPC_Stat_col,FALSE)),\"\",VLOOKUP($A597,INDIRECT(L$20),LPC_Stat_col,FALSE)),\"\")","v":""},{"$f":"IF(M$18=1,IF(ISNA(VLOOKUP($A597,INDIRECT(M$20),LPC_Stat_col,FALSE)),\"\",VLOOKUP($A597,INDIRECT(M$20),LPC_Stat_col,FALSE)),\"\")","v":""},{"$f":"IF(N$18=1,IF(ISNA(VLOOKUP($A597,INDIRECT(N$20),LPC_Stat_col,FALSE)),\"\",VLOOKUP($A597,INDIRECT(N$20),LPC_Stat_col,FALSE)),\"\")","v":""},{"$f":"IF(A597=\"\",\"\",MAX(IF(ISERROR(AU597:BF597),0,AU597:BF597)))","v":""},{"$f":"IF(C$18=1,IF(ISNA(VLOOKUP($A597,INDIRECT(C$20),LPC_Vol_col,FALSE)),\"\",VLOOKUP($A597,INDIRECT(C$20),LPC_Vol_col,FALSE)),\"\")","v":""},{"$f":"IF(D$18=1,IF(ISNA(VLOOKUP($A597,INDIRECT(D$20),LPC_Vol_col,FALSE)),\"\",VLOOKUP($A597,INDIRECT(D$20),LPC_Vol_col,FALSE)),\"\")","v":""},{"$f":"IF(E$18=1,IF(ISNA(VLOOKUP($A597,INDIRECT(E$20),LPC_Vol_col,FALSE)),\"\",VLOOKUP($A597,INDIRECT(E$20),LPC_Vol_col,FALSE)),\"\")","v":""},{"$f":"IF(F$18=1,IF(ISNA(VLOOKUP($A597,INDIRECT(F$20),LPC_Vol_col,FALSE)),\"\",VLOOKUP($A597,INDIRECT(F$20),LPC_Vol_col,FALSE)),\"\")","v":""},{"$f":"IF(G$18=1,IF(ISNA(VLOOKUP($A597,INDIRECT(G$20),LPC_Vol_col,FALSE)),\"\",VLOOKUP($A597,INDIRECT(G$20),LPC_Vol_col,FALSE)),\"\")","v":""},{"$f":"IF(H$18=1,IF(ISNA(VLOOKUP($A597,INDIRECT(H$20),LPC_Vol_col,FALSE)),\"\",VLOOKUP($A597,INDIRECT(H$20),LPC_Vol_col,FALSE)),\"\")","v":""},{"$f":"IF(I$18=1,IF(ISNA(VLOOKUP($A597,INDIRECT(I$20),LPC_Vol_col,FALSE)),\"\",VLOOKUP($A597,INDIRECT(I$20),LPC_Vol_col,FALSE)),\"\")","v":""},{"$f":"IF(J$18=1,IF(ISNA(VLOOKUP($A597,INDIRECT(J$20),LPC_Vol_col,FALSE)),\"\",VLOOKUP($A597,INDIRECT(J$20),LPC_Vol_col,FALSE)),\"\")","v":""},{"$f":"IF(K$18=1,IF(ISNA(VLOOKUP($A597,INDIRECT(K$20),LPC_Vol_col,FALSE)),\"\",VLOOKUP($A597,INDIRECT(K$20),LPC_Vol_col,FALSE)),\"\")","v":""},{"$f":"IF(L$18=1,IF(ISNA(VLOOKUP($A597,INDIRECT(L$20),LPC_Vol_col,FALSE)),\"\",VLOOKUP($A597,INDIRECT(L$20),LPC_Vol_col,FALSE)),\"\")","v":""},{"$f":"IF(M$18=1,IF(ISNA(VLOOKUP($A597,INDIRECT(M$20),LPC_Vol_col,FALSE)),\"\",VLOOKUP($A597,INDIRECT(M$20),LPC_Vol_col,FALSE)),\"\")","v":""},{"$f":"IF(N$18=1,IF(ISNA(VLOOKUP($A597,INDIRECT(N$20),LPC_Vol_col,FALSE)),\"\",VLOOKUP($A597,INDIRECT(N$20),LPC_Vol_col,FALSE)),\"\")","v":""},{"$f":"IF(A597=\"\",\"\",SUM(BH597:BS597))","v":""},{"$f":"IF(A597=\"\",\"\",MIN(B597:M597))","v":""},{"$f":"IF(A597=\"\",\"\",MAX(B597:M597))","v":""},{"$f":"IF(A597=\"\",\"\",BV597-BU597)","v":""},{"$f":"IF(A597=\"\",\"\",IF(BW597>$BW$11,\"Yes\",\"No\"))","v":""},{"$f":"IF(A597=\"\",\"\",(COUNTA(C597:N597)-COUNTBLANK(C597:N597)))","v":""},{"$f":"IF(A597=\"\",\"\",BY597-COUNTIF(C597:N597,\"=0\"))","v":""},"","","","","","","","","","","","",{"$f":"IF(A597=\"\",\"\",SUM(CA597:CL597))","v":""},"","","","","","","","","","","","",{"$f":"IF(A597=\"\",\"\",SUM(CN597:CY597))","v":""}]
[{"$f":"IF(ISBLANK('Control Sheet'!D580),\"\",'Control Sheet'!D580)","v":""},{"$f":"IF(ISBLANK('Control Sheet'!E580),\"\",'Control Sheet'!E580&\" (\"&'Control Sheet'!F580&\")\")","v":""},"","","","","","","","","","","","","","","","","","","","","","","","","","","","","","","","","","","","","","","","","","","","","","","","","","","","","","","","",{"$f":"IF(A600=\"\",\"\",MAX(IF(ISERROR(AU600:BF600),0,AU600:BF600)))","v":""},"","","","","","","","","","","","","","","","","","","","","","","","","","","","","","","","","","","","","","","","","","","","",""]
[{"$f":"IF(ISBLANK('Control Sheet'!D581),\"\",'Control Sheet'!D581)","v":""},{"$f":"IF(ISBLANK('Control Sheet'!E581),\"\",'Control Sheet'!E581&\" (\"&'Control Sheet'!F581&\")\")","v":""},{"$f":"IF(C$18=1,IF(ISNA(VLOOKUP($A601,INDIRECT(C$20),Abated_col,FALSE)),\"\",VLOOKUP($A601,INDIRECT(C$20),Abated_col,FALSE)),\"\")","v":""},"","","","","","","","","","","","","","","","","","","","","","","","","","","","","","","","","","","","","","","","","","","","","","","","","","","","","","","",{"$f":"IF(A601=\"\",\"\",MAX(IF(ISERROR(AU601:BF601),0,AU601:BF601)))","v":""},"","","","","","","","","","","","","","","","","","","","","","","","","","","","","","","","","","","","","","","","","","","","",""]
[{"$f":"IF(ISBLANK('Control Sheet'!D584),\"\",'Control Sheet'!D584)","v":""},{"$f":"IF(ISBLANK('Control Sheet'!E584),\"\",'Control Sheet'!E584&\" (\"&'Control Sheet'!F584&\")\")","v":""},"","","","","","","","","","","","","","","","","","","","","","","","","","","","","","","","","","","","","","","","","","","","","","","","","","","","","","","","",{"$f":"IF(A604=\"\",\"\",MAX(IF(ISERROR(AU604:BF604),0,AU604:BF604)))","v":""},"","","","","","","","","","","","","","","","","","","","","","","","","","","","","","","","","","","","","","","","","","","","",""]
[{"$f":"IF(ISBLANK('Control Sheet'!D587),\"\",'Control Sheet'!D587)","v":""},{"$f":"IF(ISBLANK('Control Sheet'!E587),\"\",'Control Sheet'!E587&\" (\"&'Control Sheet'!F587&\")\")","v":""},"","","","","","","","","","","","","","","","","","","","","","","","","","","","","","","","","","","","","","","","","","","","","","","","","","","","","","","","",{"$f":"IF(A607=\"\",\"\",MAX(IF(ISERROR(AU607:BF607),0,AU607:BF607)))","v":""},"","","","","","","","","","","","","","","","","","","","","","","","","","","","","","","","","","","","","","","","","","","","",""]
[{"$f":"IF(ISBLANK('Control Sheet'!D590),\"\",'Control Sheet'!D590)","v":""},{"$f":"IF(ISBLANK('Control Sheet'!E590),\"\",'Control Sheet'!E590&\" (\"&'Control Sheet'!F590&\")\")","v":""},"","","","","","","","","","","","","","","","","","","","","","","","","","","","","","","","","","","","","","","","","","","","","","","","","","","","","","","","",{"$f":"IF(A610=\"\",\"\",MAX(IF(ISERROR(AU610:BF610),0,AU610:BF610)))","v":""},"","","","","","","","","","","","","","","","","","","","","","","","","","","","","","","","","","","","","","","","","","","","",""]
[{"$f":"IF(ISBLANK('Control Sheet'!D593),\"\",'Control Sheet'!D593)","v":""},{"$f":"IF(ISBLANK('Control Sheet'!E593),\"\",'Control Sheet'!E593&\" (\"&'Control Sheet'!F593&\")\")","v":""},"","","","","","","","","","","","","","","","","","","","","","","","","","","","","","","","","","","","","","","","","","","","","","","","","","","","","","","","",{"$f":"IF(A613=\"\",\"\",MAX(IF(ISERROR(AU613:BF613),0,AU613:BF613)))","v":""},"","","","","","","","","","","","","","","","","","","","","","","","","","","","","","","","","","","","","","","","","","","","",""]
[{"$f":"IF(ISBLANK('Control Sheet'!D597),\"\",'Control Sheet'!D597)","v":""},{"$f":"IF(ISBLANK('Control Sheet'!E597),\"\",'Control Sheet'!E597&\" (\"&'Control Sheet'!F597&\")\")","v":""},"","","","","","","","","","","","","","","","","","","","","","","","","","","","","","","","","","","","","","","","","","","","","","","","","","","","","","","","",{"$f":"IF(A617=\"\",\"\",MAX(IF(ISERROR(AU617:BF617),0,AU617:BF617)))","v":""},"","","","","","","","","","","","","","","","","","","","","","","","","","","","","","","","","","","","","","","","","","","","",""]
[{"$f":"IF(ISBLANK('Control Sheet'!D599),\"\",'Control Sheet'!D599)","v":""},{"$f":"IF(ISBLANK('Control Sheet'!E599),\"\",'Control Sheet'!E599&\" (\"&'Control Sheet'!F599&\")\")","v":""},"","","","","","","","","","","","","","","","","","","","","","","","","","","","","","","","","","","","","","","","","","","","","","","","","","","","","","","","",{"$f":"IF(A619=\"\",\"\",MAX(IF(ISERROR(AU619:BF619),0,AU619:BF619)))","v":""},"","","","","","","","","","","","","","","","","","","","","","","","","","","","","","","","","","","","","","","","","","","","",""]
[{"$f":"IF(ISBLANK('Control Sheet'!D600),\"\",'Control Sheet'!D600)","v":""},{"$f":"IF(ISBLANK('Control Sheet'!E600),\"\",'Control Sheet'!E600&\" (\"&'Control Sheet'!F600&\")\")","v":""},"","","","","","","","","","","","","","","","","","","","","","","","","","","","","","","","","","","","","","","","","","","","","","","","","","","","","","","","",{"$f":"IF(A620=\"\",\"\",MAX(IF(ISERROR(AU620:BF620),0,AU620:BF620)))","v":""},"","","","","","","","","","","","","","","","","","","","","","","","","","","","","","","","","","","","","","","","","","","","",""]
[{"$f":"IF(ISBLANK('Control Sheet'!D603),\"\",'Control Sheet'!D603)","v":""},{"$f":"IF(ISBLANK('Control Sheet'!E603),\"\",'Control Sheet'!E603&\" (\"&'Control Sheet'!F603&\")\")","v":""},"","","","","","","","","","","","","","","","","","","","","","","","","","","","","","","","","","","","","","","","","","","","","","","","","","","","","","","","",{"$f":"IF(A623=\"\",\"\",MAX(IF(ISERROR(AU623:BF623),0,AU623:BF623)))","v":""},"","","","","","","","","","","","","","","","","","","","","","","","","","","","","","","","","","","","","","","","","","","","",""]
[{"$f":"IF(ISBLANK('Control Sheet'!D606),\"\",'Control Sheet'!D606)","v":""},{"$f":"IF(ISBLANK('Control Sheet'!E606),\"\",'Control Sheet'!E606&\" (\"&'Control Sheet'!F606&\")\")","v":""},"","","","","","","","","","","","","","","","","","","","","","","","","","","","","","","","","","","","","","","","","","","","","","","","","","","","","","","","",{"$f":"IF(A626=\"\",\"\",MAX(IF(ISERROR(AU626:BF626),0,AU626:BF626)))","v":""},"","","","","","","","","","","","","","","","","","","","","","",{"$f":"IF(F$18=1,IF(ISNA(VLOOKUP($A626,INDIRECT(F$20),MUR_fee_col,FALSE)),\"\",VLOOKUP($A626,INDIRECT(F$20),MUR_fee_col,FALSE)),\"\")","v":""},"","","","","","","","","","","","",{"$f":"IF(F$18=1,IF(ISNA(VLOOKUP($A626,INDIRECT(F$20),MUR_Fee_adj_col,FALSE)),\"\",VLOOKUP($A626,INDIRECT(F$20),MUR_Fee_adj_col,FALSE)),\"\")","v":""},"","","","","","","","",""]
[{"$f":"IF(ISBLANK('Control Sheet'!D610),\"\",'Control Sheet'!D610)","v":""},{"$f":"IF(ISBLANK('Control Sheet'!E610),\"\",'Control Sheet'!E610&\" (\"&'Control Sheet'!F610&\")\")","v":""},"","","","","","","","","","","","","","","","","","","","","","","","","","","","","","","","","","","","","","","","","","","","","","","","","","","","","","","","",{"$f":"IF(A630=\"\",\"\",MAX(IF(ISERROR(AU630:BF630),0,AU630:BF630)))","v":""},"","","","","","","","","","","","","","","","","","","","","","","","","","","","","","","","","","","","","","","","","","","","",""]
[{"$f":"IF(ISBLANK('Control Sheet'!D613),\"\",'Control Sheet'!D613)","v":""},{"$f":"IF(ISBLANK('Control Sheet'!E613),\"\",'Control Sheet'!E613&\" (\"&'Control Sheet'!F613&\")\")","v":""},"","","","","","","","","","","","","","","","","","","","","","","","","","","","","","","","","","","","","","","","","","","","","","","","","","","","","","","","",{"$f":"IF(A633=\"\",\"\",MAX(IF(ISERROR(AU633:BF633),0,AU633:BF633)))","v":""},"","","","","","","","","","","","","","","","","","","","","","","","","","","","","","","","","","","","","","","","","","","","",""]
[{"$f":"IF(ISBLANK('Control Sheet'!D616),\"\",'Control Sheet'!D616)","v":""},{"$f":"IF(ISBLANK('Control Sheet'!E616),\"\",'Control Sheet'!E616&\" (\"&'Control Sheet'!F616&\")\")","v":""},"","","","","","","","","","","","","","","","","","","","","","","","","","","","","","","","","","","","","","","","","","","","","","","","","","","","","","","","",{"$f":"IF(A636=\"\",\"\",MAX(IF(ISERROR(AU636:BF636),0,AU636:BF636)))","v":""},"","","","","","","","","","","","","","","","","","","","","","","","","","","","","","","","","","","","","","","","","","","","",""]
[{"$f":"IF(ISBLANK('Control Sheet'!D619),\"\",'Control Sheet'!D619)","v":""},{"$f":"IF(ISBLANK('Control Sheet'!E619),\"\",'Control Sheet'!E619&\" (\"&'Control Sheet'!F619&\")\")","v":""},"","","","","","","","","","","","","","","","","","","","","","","","","","","","","","","","","","","","","","","","","","","","","","","","","","","","","","","","",{"$f":"IF(A639=\"\",\"\",MAX(IF(ISERROR(AU639:BF639),0,AU639:BF639)))","v":""},"","","","","","","","","","","","","","","","","","","","","","","","","","","","","","","","","","","","","","","","","","","","",""]
[{"$f":"IF(ISBLANK('Control Sheet'!D622),\"\",'Control Sheet'!D622)","v":""},{"$f":"IF(ISBLANK('Control Sheet'!E622),\"\",'Control Sheet'!E622&\" (\"&'Control Sheet'!F622&\")\")","v":""},"","","","","","","","","","","","","","","","","","","","","","","","","","","","","","","","","","","","","","","","","","","","","","","","","","","","","","","","",{"$f":"IF(A642=\"\",\"\",MAX(IF(ISERROR(AU642:BF642),0,AU642:BF642)))","v":""},"","","","","","","","","","","","","","","","","","","","","","","","","","","","","","","","","","","","","","","","","","","","",""]
[{"$f":"IF(ISBLANK('Control Sheet'!D623),\"\",'Control Sheet'!D623)","v":""},{"$f":"IF(ISBLANK('Control Sheet'!E623),\"\",'Control Sheet'!E623&\" (\"&'Control Sheet'!F623&\")\")","v":""},"","","","","","","","","","","","","","","","","","","","","","","","","","","","","","","","","","","","","","","","","","","","","","","","","","","","","","","","",{"$f":"IF(A643=\"\",\"\",MAX(IF(ISERROR(AU643:BF643),0,AU643:BF643)))","v":""},"","","","","","","","","","","","","","","","","","","","","","","","","","","","","","","","","","","","","","","","","","","","",""]
[{"$f":"IF(ISBLANK('Control Sheet'!D626),\"\",'Control Sheet'!D626)","v":""},{"$f":"IF(ISBLANK('Control Sheet'!E626),\"\",'Control Sheet'!E626&\" (\"&'Control Sheet'!F626&\")\")","v":""},"","","","","","","","","","","","","","","","","","","","","","","","","","","","","","","","","","","","","","","","","","","","","","","","","","","","","","","","",{"$f":"IF(A646=\"\",\"\",MAX(IF(ISERROR(AU646:BF646),0,AU646:BF646)))","v":""},"","","","","","","","","","","","","","","","","","","","","","","","","","","","","","","","","","","","","","","","","","","","",""]
[{"$f":"IF(ISBLANK('Control Sheet'!D629),\"\",'Control Sheet'!D629)","v":""},{"$f":"IF(ISBLANK('Control Sheet'!E629),\"\",'Control Sheet'!E629&\" (\"&'Control Sheet'!F629&\")\")","v":""},"","","","","","","","","","","","","","","","","","","","","","","","","","","","","","","","","","","","","","","","","","","","","","","","","","","","","","","","",{"$f":"IF(A649=\"\",\"\",MAX(IF(ISERROR(AU649:BF649),0,AU649:BF649)))","v":""},"","","","","","","","","","","","","","","","","","","","","","","","","","","","","","","","","","","","","","","","","","","","",""]
[{"$f":"IF(ISBLANK('Control Sheet'!D633),\"\",'Control Sheet'!D633)","v":""},{"$f":"IF(ISBLANK('Control Sheet'!E633),\"\",'Control Sheet'!E633&\" (\"&'Control Sheet'!F633&\")\")","v":""},"","","","","","","","","","","","","","","","","","","","","","","","","","","","","","","","","","","","","","","","","","","","","","","","","","","","","","","","",{"$f":"IF(A653=\"\",\"\",MAX(IF(ISERROR(AU653:BF653),0,AU653:BF653)))","v":""},"","","","","","","","","","","","","","","","","","","","","","","","","","","","","","","","","","","","","","","","","","","","",""]
[{"$f":"IF(ISBLANK('Control Sheet'!D635),\"\",'Control Sheet'!D635)","v":""},{"$f":"IF(ISBLANK('Control Sheet'!E635),\"\",'Control Sheet'!E635&\" (\"&'Control Sheet'!F635&\")\")","v":""},"","","","","","","","","","","","","","","","","","","","","","","","","","","","","","","","","","","","","","","","","","","","","","","","","","","","","","","","",{"$f":"IF(A655=\"\",\"\",MAX(IF(ISERROR(AU655:BF655),0,AU655:BF655)))","v":""},"","","","","","","","","","","","","","","","","","","","","","","","","","","","","","","","","","","","","","","","","","","","",""]
[{"$f":"IF(ISBLANK('Control Sheet'!D639),\"\",'Control Sheet'!D639)","v":""},{"$f":"IF(ISBLANK('Control Sheet'!E639),\"\",'Control Sheet'!E639&\" (\"&'Control Sheet'!F639&\")\")","v":""},"","","","","","","","","","","","","","","","","","","","","","","","","","","","","","","","","","","","","","","","","","","","","","","","","","","","","","","","",{"$f":"IF(A659=\"\",\"\",MAX(IF(ISERROR(AU659:BF659),0,AU659:BF659)))","v":""},"","","","","","","","","","","","","","","","","","","","","","","","","","","","","","","","","","","","","","","","","","","","",""]
[{"$f":"IF(ISBLANK('Control Sheet'!D642),\"\",'Control Sheet'!D642)","v":""},{"$f":"IF(ISBLANK('Control Sheet'!E642),\"\",'Control Sheet'!E642&\" (\"&'Control Sheet'!F642&\")\")","v":""},"","","","","","","","","","","","","","","","","","","","","","","","","","","","","","","",{"$f":"IF(C662=\"\",\"\",IF(AND(C662=0,S662=1),\"Normal\",IF(AND(C662=1,S662=1),\"Abated-1\",IF(C662=S662,\"Abated-n\",\"Mixed\"))))","v":""},{"$f":"IF(D662=\"\",\"\",IF(AND(D662=0,T662=1),\"Normal\",IF(AND(D662=1,T662=1),\"Abated-1\",IF(D662=T662,\"Abated-n\",\"Mixed\"))))","v":""},{"$f":"IF(E662=\"\",\"\",IF(AND(E662=0,U662=1),\"Normal\",IF(AND(E662=1,U662=1),\"Abated-1\",IF(E662=U662,\"Abated-n\",\"Mixed\"))))","v":""},{"$f":"IF(F662=\"\",\"\",IF(AND(F662=0,V662=1),\"Normal\",IF(AND(F662=1,V662=1),\"Abated-1\",IF(F662=V662,\"Abated-n\",\"Mixed\"))))","v":""},{"$f":"IF(G662=\"\",\"\",IF(AND(G662=0,W662=1),\"Normal\",IF(AND(G662=1,W662=1),\"Abated-1\",IF(G662=W662,\"Abated-n\",\"Mixed\"))))","v":""},{"$f":"IF(H662=\"\",\"\",IF(AND(H662=0,X662=1),\"Normal\",IF(AND(H662=1,X662=1),\"Abated-1\",IF(H662=X662,\"Abated-n\",\"Mixed\"))))","v":""},{"$f":"IF(I662=\"\",\"\",IF(AND(I662=0,Y662=1),\"Normal\",IF(AND(I662=1,Y662=1),\"Abated-1\",IF(I662=Y662,\"Abated-n\",\"Mixed\"))))","v":""},{"$f":"IF(J662=\"\",\"\",IF(AND(J662=0,Z662=1),\"Normal\",IF(AND(J662=1,Z662=1),\"Abated-1\",IF(J662=Z662,\"Abated-n\",\"Mixed\"))))","v":""},{"$f":"IF(K662=\"\",\"\",IF(AND(K662=0,AA662=1),\"Normal\",IF(AND(K662=1,AA662=1),\"Abated-1\",IF(K662=AA662,\"Abated-n\",\"Mixed\"))))","v":""},{"$f":"IF(L662=\"\",\"\",IF(AND(L662=0,AB662=1),\"Normal\",IF(AND(L662=1,AB662=1),\"Abated-1\",IF(L662=AB662,\"Abated-n\",\"Mixed\"))))","v":""},{"$f":"IF(M662=\"\",\"\",IF(AND(M662=0,AC662=1),\"Normal\",IF(AND(M662=1,AC662=1),\"Abated-1\",IF(M662=AC662,\"Abated-n\",\"Mixed\"))))","v":""},{"$f":"IF(N662=\"\",\"\",IF(AND(N662=0,AD662=1),\"Normal\",IF(AND(N662=1,AD662=1),\"Abated-1\",IF(N662=AD662,\"Abated-n\",\"Mixed\"))))","v":""},"","","","","","","","","","","","","",{"$f":"IF(A662=\"\",\"\",MAX(IF(ISERROR(AU662:BF662),0,AU662:BF662)))","v":""},"","","","","","","","","","","","","","","","","","","","","","","","","","","","","","","","","","","","","","","","","","","","",""]
[{"$f":"IF(ISBLANK('Control Sheet'!D645),\"\",'Control Sheet'!D645)","v":""},{"$f":"IF(ISBLANK('Control Sheet'!E645),\"\",'Control Sheet'!E645&\" (\"&'Control Sheet'!F645&\")\")","v":""},"","","","","","","","","","","","","","","","","","","","","","","","","","","","","","","","","","","","","","","","","","","","","","","","","","","","","","","","",{"$f":"IF(A665=\"\",\"\",MAX(IF(ISERROR(AU665:BF665),0,AU665:BF665)))","v":""},"","","","","","","","","","","","","","","","","","","","","","","","","","","","","","","","","","","","","","","","","","","","",""]
[{"$f":"IF(ISBLANK('Control Sheet'!D646),\"\",'Control Sheet'!D646)","v":""},{"$f":"IF(ISBLANK('Control Sheet'!E646),\"\",'Control Sheet'!E646&\" (\"&'Control Sheet'!F646&\")\")","v":""},"","","","","","","","","","","","","","","","","","","","","","","","","","","","","","","","","","","","","","","","","","","","","","","","","","","","","","","","",{"$f":"IF(A666=\"\",\"\",MAX(IF(ISERROR(AU666:BF666),0,AU666:BF666)))","v":""},"","","","","","","","","","","","","","","","","","","","","","","","","","","","","","","","","","","","","","","","","","","","",""]
[{"$f":"IF(ISBLANK('Control Sheet'!D648),\"\",'Control Sheet'!D648)","v":""},{"$f":"IF(ISBLANK('Control Sheet'!E648),\"\",'Control Sheet'!E648&\" (\"&'Control Sheet'!F648&\")\")","v":""},"","","","","","","","","","","","","","","","","","","","","","","","","","","","","","","","","","","","","","","","","","","","","","","","","","","","","","","","",{"$f":"IF(A668=\"\",\"\",MAX(IF(ISERROR(AU668:BF668),0,AU668:BF668)))","v":""},"","","","","","","","","","","","","","","","","","","","","","","","","","","","","","","","","","","","","","","","","","","","",""]
[{"$f":"IF(ISBLANK('Control Sheet'!D651),\"\",'Control Sheet'!D651)","v":""},{"$f":"IF(ISBLANK('Control Sheet'!E651),\"\",'Control Sheet'!E651&\" (\"&'Control Sheet'!F651&\")\")","v":""},{"$f":"IF(C$18=1,IF(ISNA(VLOOKUP($A671,INDIRECT(C$20),Abated_col,FALSE)),\"\",VLOOKUP($A671,INDIRECT(C$20),Abated_col,FALSE)),\"\")","v":""},"","","","","","","","","","","","","","","","","","","","","","","","","","","","","","","","","","","","","","","","","","","","","","","","","","","","","","","",{"$f":"IF(A671=\"\",\"\",MAX(IF(ISERROR(AU671:BF671),0,AU671:BF671)))","v":""},"","","","","","","","","","","","","","","","","","","","","","","","","","","","","","","","","","","","","","","","","","","","",""]
[{"$f":"IF(ISBLANK('Control Sheet'!D655),\"\",'Control Sheet'!D655)","v":""},{"$f":"IF(ISBLANK('Control Sheet'!E655),\"\",'Control Sheet'!E655&\" (\"&'Control Sheet'!F655&\")\")","v":""},"","","","","","","","","","","","","","","","","","","","","","","","","","","","",{"$f":"IF(A675=\"\",\"\",SUM(S675:AD675))","v":""},{"$f":"IF(OR(A675=\"\",AE675=0),\"\",AE675/(O$18-R675))","v":""},{"$f":"IF(AF675=\"\",\"\",IF(AF675<=1,\"Lower Outlier\",IF(AF675<=2,\"Below Average\",IF(AF675<=3,\"Lower Quartile\",IF(AF675<=4,\"Upper Quartile\",IF(AF675<=5, \"Above Average\", \"Upper Outlier\"))))))","v":""},"","","","","","","","","","","","","","","","","","","","","","","","","",{"$f":"IF(A675=\"\",\"\",MAX(IF(ISERROR(AU675:BF675),0,AU675:BF675)))","v":""},"","","","","","","","","","","","","","","","","","","","","","","","","","","","","","","","","","","","","","","","","","","","",""]
[{"$f":"IF(ISBLANK('Control Sheet'!D658),\"\",'Control Sheet'!D658)","v":""},{"$f":"IF(ISBLANK('Control Sheet'!E658),\"\",'Control Sheet'!E658&\" (\"&'Control Sheet'!F658&\")\")","v":""},"","","","","","","","","","","","","","","","","","","","","","","","","","","","","","","","","","","","","","","","","","","","","","","","","","","","","","","","",{"$f":"IF(A678=\"\",\"\",MAX(IF(ISERROR(AU678:BF678),0,AU678:BF678)))","v":""},"","","","","","","","","","","","","","","","","","","","","","","","","","","","","","","","","","","","","","","","","","","","",""]
[{"$f":"IF(ISBLANK('Control Sheet'!D662),\"\",'Control Sheet'!D662)","v":""},{"$f":"IF(ISBLANK('Control Sheet'!E662),\"\",'Control Sheet'!E662&\" (\"&'Control Sheet'!F662&\")\")","v":""},"","","","","","","","","","","","","","","","","","","","","","","","","","","","","","","","","","","","","","","","","","","","","","","","","","","","","","","","",{"$f":"IF(A682=\"\",\"\",MAX(IF(ISERROR(AU682:BF682),0,AU682:BF682)))","v":""},"","","","","","","","","","","","","","","","","","","","","","","","","","","","","","","","","","","","","","","","","","","","",""]
[{"$f":"IF(ISBLANK('Control Sheet'!D663),\"\",'Control Sheet'!D663)","v":""},{"$f":"IF(ISBLANK('Control Sheet'!E663),\"\",'Control Sheet'!E663&\" (\"&'Control Sheet'!F663&\")\")","v":""},"","","","","","","","","","","","","","","","","","","","","","","","","","","","","","","","","","","","","","","","","","","","","","","","","","","","","","","","",{"$f":"IF(A683=\"\",\"\",MAX(IF(ISERROR(AU683:BF683),0,AU683:BF683)))","v":""},"","","","","","","","","","","","","","","","","","","","","","",{"$f":"IF(F$18=1,IF(ISNA(VLOOKUP($A683,INDIRECT(F$20),MUR_fee_col,FALSE)),\"\",VLOOKUP($A683,INDIRECT(F$20),MUR_fee_col,FALSE)),\"\")","v":""},"","","","","","","","","","","","",{"$f":"IF(F$18=1,IF(ISNA(VLOOKUP($A683,INDIRECT(F$20),MUR_Fee_adj_col,FALSE)),\"\",VLOOKUP($A683,INDIRECT(F$20),MUR_Fee_adj_col,FALSE)),\"\")","v":""},"","","","","","","","",""]
[{"$f":"IF(ISBLANK('Control Sheet'!D667),\"\",'Control Sheet'!D667)","v":""},{"$f":"IF(ISBLANK('Control Sheet'!E667),\"\",'Control Sheet'!E667&\" (\"&'Control Sheet'!F667&\")\")","v":""},"","","","","","","","","","","","","","","","","","","","","","","","","","","","","","","","","","","","","","","","","","","","","","","","","","","","","","","","",{"$f":"IF(A687=\"\",\"\",MAX(IF(ISERROR(AU687:BF687),0,AU687:BF687)))","v":""},"","","","","","","","","","","","","","","","","","","","","","","","","","","","","","","","","","","","","","","","","","","","",""]
[{"$f":"IF(ISBLANK('Control Sheet'!D668),\"\",'Control Sheet'!D668)","v":""},{"$f":"IF(ISBLANK('Control Sheet'!E668),\"\",'Control Sheet'!E668&\" (\"&'Control Sheet'!F668&\")\")","v":""},"","","","","","","","","","","","","","","","","","","","","","","","","","","","","","","","","","","","","","","","","","","","","","","","","","","","","","","","",{"$f":"IF(A688=\"\",\"\",MAX(IF(ISERROR(AU688:BF688),0,AU688:BF688)))","v":""},"","","","","","","","","","","","","","","","","","","","","","","","","","","","","","","","","","","","","","","","","","","","",""]
[{"$f":"IF(ISBLANK('Control Sheet'!D671),\"\",'Control Sheet'!D671)","v":""},{"$f":"IF(ISBLANK('Control Sheet'!E671),\"\",'Control Sheet'!E671&\" (\"&'Control Sheet'!F671&\")\")","v":""},{"$f":"IF(C$18=1,IF(ISNA(VLOOKUP($A691,INDIRECT(C$20),Abated_col,FALSE)),\"\",VLOOKUP($A691,INDIRECT(C$20),Abated_col,FALSE)),\"\")","v":""},"","","","","","","","","","","","","","","","","","","","","","","","","","","","","","","","","","","","","","","","","","","","","","","","","","","","","","","",{"$f":"IF(A691=\"\",\"\",MAX(IF(ISERROR(AU691:BF691),0,AU691:BF691)))","v":""},"","","","","","","","","","","","","","","","","","","","","","","","","","","","","","","","","","","","","","","","","","","","",""]
[{"$f":"IF(ISBLANK('Control Sheet'!D674),\"\",'Control Sheet'!D674)","v":""},{"$f":"IF(ISBLANK('Control Sheet'!E674),\"\",'Control Sheet'!E674&\" (\"&'Control Sheet'!F674&\")\")","v":""},"","","","","","","","","","","","","","","","","","","","","","","","","","","","","","","","","","","","","","","","","","","","","","","","","","","","","","","","",{"$f":"IF(A694=\"\",\"\",MAX(IF(ISERROR(AU694:BF694),0,AU694:BF694)))","v":""},"","","","","","","","","","","","","","","","","","","","","","","","","","","","","","","","","","","","","","","","","","","","",""]
[{"$f":"IF(ISBLANK('Control Sheet'!D678),\"\",'Control Sheet'!D678)","v":""},{"$f":"IF(ISBLANK('Control Sheet'!E678),\"\",'Control Sheet'!E678&\" (\"&'Control Sheet'!F678&\")\")","v":""},"","","","","","","","","","","","","","","","","","","","","","","","","","","","","","","","","","","","","","","","","","","","","","","","","","","","","","","","",{"$f":"IF(A698=\"\",\"\",MAX(IF(ISERROR(AU698:BF698),0,AU698:BF698)))","v":""},"","","","","","","","","","","","","","","","","","","","","","","","","","","","","","","","","","","","","","","","","","","","",""]
[{"$f":"IF(ISBLANK('Control Sheet'!D680),\"\",'Control Sheet'!D680)","v":""},{"$f":"IF(ISBLANK('Control Sheet'!E680),\"\",'Control Sheet'!E680&\" (\"&'Control Sheet'!F680&\")\")","v":""},"","","","","","","","","","","","","","","","","","","","","","","","","","","","","","","","","","","","","","","","","","","","","","","","","","","","","","","","",{"$f":"IF(A700=\"\",\"\",MAX(IF(ISERROR(AU700:BF700),0,AU700:BF700)))","v":""},"","","","","","","","","","","","","","","","","","","","","","","","","","","","","","","","","","","","","","","","","","","","",""]
[{"$f":"IF(ISBLANK('Control Sheet'!D684),\"\",'Control Sheet'!D684)","v":""},{"$f":"IF(ISBLANK('Control Sheet'!E684),\"\",'Control Sheet'!E684&\" (\"&'Control Sheet'!F684&\")\")","v":""},"","","","","","","","","","","","","","","","","","","","","","","","","","","","","","","","","","","","","","","","","","","","","","","","","","","","","","","","",{"$f":"IF(A704=\"\",\"\",MAX(IF(ISERROR(AU704:BF704),0,AU704:BF704)))","v":""},"","","","","","","","","","","","","","","","","","","","","","","","","","","","","","","","","","","","","","","","","","","","",""]
[{"$f":"IF(ISBLANK('Control Sheet'!D687),\"\",'Control Sheet'!D687)","v":""},{"$f":"IF(ISBLANK('Control Sheet'!E687),\"\",'Control Sheet'!E687&\" (\"&'Control Sheet'!F687&\")\")","v":""},"","","","","","","","","","","","","","","","","","","","","","","","","","","","","","","","","","","","","","","","","","","","","","","","","","","","","","","","",{"$f":"IF(A707=\"\",\"\",MAX(IF(ISERROR(AU707:BF707),0,AU707:BF707)))","v":""},"","","","","","","","","","","","","","","","","","","","","","","","","","","","","","","","","","","","","","","","","","","","",""]
[{"$f":"IF(ISBLANK('Control Sheet'!D690),\"\",'Control Sheet'!D690)","v":""},{"$f":"IF(ISBLANK('Control Sheet'!E690),\"\",'Control Sheet'!E690&\" (\"&'Control Sheet'!F690&\")\")","v":""},"","","","","","","","","","","","","","","","","","","","","","","","","","","","","","","","","","","","","","","","","","","","","","","","","","","","","","","","",{"$f":"IF(A710=\"\",\"\",MAX(IF(ISERROR(AU710:BF710),0,AU710:BF710)))","v":""},"","","","","","","","","","","","","","","","","","","","","","","","","","","","","","","","","","","","","","","","","","","","",""]
[{"$f":"IF(ISBLANK('Control Sheet'!D691),\"\",'Control Sheet'!D691)","v":""},{"$f":"IF(ISBLANK('Control Sheet'!E691),\"\",'Control Sheet'!E691&\" (\"&'Control Sheet'!F691&\")\")","v":""},{"$f":"IF(C$18=1,IF(ISNA(VLOOKUP($A711,INDIRECT(C$20),Abated_col,FALSE)),\"\",VLOOKUP($A711,INDIRECT(C$20),Abated_col,FALSE)),\"\")","v":""},"","","","","","","","","","","","","","","","","","","","","","","","","","","","","","","","","","","","","","","","","","","","","","","","","","","","","","","",{"$f":"IF(A711=\"\",\"\",MAX(IF(ISERROR(AU711:BF711),0,AU711:BF711)))","v":""},"","","","","","","","","","","","","","","","","","","","","","","","","","","","","","","","","","","","","","","","","","","","",""]
[{"$f":"IF(ISBLANK('Control Sheet'!D695),\"\",'Control Sheet'!D695)","v":""},{"$f":"IF(ISBLANK('Control Sheet'!E695),\"\",'Control Sheet'!E695&\" (\"&'Control Sheet'!F695&\")\")","v":""},"","","","","","","","","","","","","","","","","","","","","","","","","","","","","","","","","","","","","","","","","","","","","","","","","","","","","","","","",{"$f":"IF(A715=\"\",\"\",MAX(IF(ISERROR(AU715:BF715),0,AU715:BF715)))","v":""},"","","","","","","","","","","","","","","","","","","","","","","","","","","","","","","","","","","","","","","","","","","","",""]
[{"$f":"IF(ISBLANK('Control Sheet'!D697),\"\",'Control Sheet'!D697)","v":""},{"$f":"IF(ISBLANK('Control Sheet'!E697),\"\",'Control Sheet'!E697&\" (\"&'Control Sheet'!F697&\")\")","v":""},"","","","","","","","","","","","","","","","","","","","","","","","","","","","","","","","","","","","","","","","","","","","","","","","","","","","","","","","",{"$f":"IF(A717=\"\",\"\",MAX(IF(ISERROR(AU717:BF717),0,AU717:BF717)))","v":""},"","","","","","","","","","","","","","","","","","","","","","","","","","","","","","","","","","","","","","","","","","","","",""]
[{"$f":"IF(ISBLANK('Control Sheet'!D700),\"\",'Control Sheet'!D700)","v":""},{"$f":"IF(ISBLANK('Control Sheet'!E700),\"\",'Control Sheet'!E700&\" (\"&'Control Sheet'!F700&\")\")","v":""},"","","","","","","","","","","","","","","","","","","","","","","","","","","","","","","","","","","","","","","","","","","","","","","","","","","","","","","","",{"$f":"IF(A720=\"\",\"\",MAX(IF(ISERROR(AU720:BF720),0,AU720:BF720)))","v":""},"","","","","","","","","","","","","","","","","","","","","","","","","","","","","","","","","","","","","","","","","","","","",""]
[{"$f":"IF(ISBLANK('Control Sheet'!D703),\"\",'Control Sheet'!D703)","v":""},{"$f":"IF(ISBLANK('Control Sheet'!E703),\"\",'Control Sheet'!E703&\" (\"&'Control Sheet'!F703&\")\")","v":""},"","","","","","","","","","","","","","","","","","","","","","","","","","","","","","","","","","","","","","","","","","","","","","","","","","","","","","","","",{"$f":"IF(A723=\"\",\"\",MAX(IF(ISERROR(AU723:BF723),0,AU723:BF723)))","v":""},"","","","","","","","","","","","","","","","","","","","","","","","","","","","","","","","","","","","","","","","","","","","",""]
[{"$f":"IF(ISBLANK('Control Sheet'!D707),\"\",'Control Sheet'!D707)","v":""},{"$f":"IF(ISBLANK('Control Sheet'!E707),\"\",'Control Sheet'!E707&\" (\"&'Control Sheet'!F707&\")\")","v":""},"","","","","","","","","","","","","","","","","","","","","","","","","","","","","","","","","","","","","","","","","","","","","","","","","","","","","","","","",{"$f":"IF(A727=\"\",\"\",MAX(IF(ISERROR(AU727:BF727),0,AU727:BF727)))","v":""},"","","","","","","","","","","","","","","","","","","","","","","","","","","","","","","","","","","","","","","","","","","","",""]
[{"$f":"IF(ISBLANK('Control Sheet'!D710),\"\",'Control Sheet'!D710)","v":""},{"$f":"IF(ISBLANK('Control Sheet'!E710),\"\",'Control Sheet'!E710&\" (\"&'Control Sheet'!F710&\")\")","v":""},"","","","","","","","","","","","","","","","","","","","","","","","","","","","","","","","","","","","","","","","","","","","","","","","","","","","","","","","",{"$f":"IF(A730=\"\",\"\",MAX(IF(ISERROR(AU730:BF730),0,AU730:BF730)))","v":""},"","","","","","","","","","","","","","","","","","","","","","","","","","","","","","","","","","","","","","","","","","","","",""]
[{"$f":"IF(ISBLANK('Control Sheet'!D712),\"\",'Control Sheet'!D712)","v":""},{"$f":"IF(ISBLANK('Control Sheet'!E712),\"\",'Control Sheet'!E712&\" (\"&'Control Sheet'!F712&\")\")","v":""},"","","","","","","","","","","","","","","","","","","","","","","","","","","","","","","","","","","","","","","","","","","","","","","","","","","","","","","","",{"$f":"IF(A732=\"\",\"\",MAX(IF(ISERROR(AU732:BF732),0,AU732:BF732)))","v":""},"","","","","","","","","","","","","","","","","","","","","","","","","",{"$f":"IF(I$18=1,IF(ISNA(VLOOKUP($A732,INDIRECT(I$20),MUR_fee_col,FALSE)),\"\",VLOOKUP($A732,INDIRECT(I$20),MUR_fee_col,FALSE)),\"\")","v":""},"","","","","","","","","","","","",{"$f":"IF(I$18=1,IF(ISNA(VLOOKUP($A732,INDIRECT(I$20),MUR_Fee_adj_col,FALSE)),\"\",VLOOKUP($A732,INDIRECT(I$20),MUR_Fee_adj_col,FALSE)),\"\")","v":""},"","","","","",""]
[{"$f":"IF(ISBLANK('Control Sheet'!D713),\"\",'Control Sheet'!D713)","v":""},{"$f":"IF(ISBLANK('Control Sheet'!E713),\"\",'Control Sheet'!E713&\" (\"&'Control Sheet'!F713&\")\")","v":""},"","","","","","","","","","","","","","","","","","","","","","","","","","","","","","","","","","","","","","","","","","","","","","","","","","","","","","","","",{"$f":"IF(A733=\"\",\"\",MAX(IF(ISERROR(AU733:BF733),0,AU733:BF733)))","v":""},"","","","","","","","","","","","","","","","","","","","","","","","","","","","","","","","","","","","","","","","","","","","",""]
[{"$f":"IF(ISBLANK('Control Sheet'!D716),\"\",'Control Sheet'!D716)","v":""},{"$f":"IF(ISBLANK('Control Sheet'!E716),\"\",'Control Sheet'!E716&\" (\"&'Control Sheet'!F716&\")\")","v":""},"","","","","","","","","","","","","","","","","","","","","","","","","","","","","","","","","","","","","","","","","","","","","","","","","","","","","","","","",{"$f":"IF(A736=\"\",\"\",MAX(IF(ISERROR(AU736:BF736),0,AU736:BF736)))","v":""},"","","","","","","","","","","","","","","","","","","","","","","","","","","","","","","","","","","","","","","","","","","","",""]
[{"$f":"IF(ISBLANK('Control Sheet'!D720),\"\",'Control Sheet'!D720)","v":""},{"$f":"IF(ISBLANK('Control Sheet'!E720),\"\",'Control Sheet'!E720&\" (\"&'Control Sheet'!F720&\")\")","v":""},"","","","","","","","","","","","","","","","","","","","","","","","","","","","","","","","","","","","","","","","","","","","","","","","","","","","","","","","",{"$f":"IF(A740=\"\",\"\",MAX(IF(ISERROR(AU740:BF740),0,AU740:BF740)))","v":""},"","","","","","","","","","","","","","","","","","","","","","","","","","","","","","","","","","","","","","","","","","","","",""]
[{"$f":"IF(ISBLANK('Control Sheet'!D723),\"\",'Control Sheet'!D723)","v":""},{"$f":"IF(ISBLANK('Control Sheet'!E723),\"\",'Control Sheet'!E723&\" (\"&'Control Sheet'!F723&\")\")","v":""},"","","","","","","","","","","","","","","","","","","","","","","","","","","","","","","","","","","","","","","","","","","","","","","","","","","","","","","","",{"$f":"IF(A743=\"\",\"\",MAX(IF(ISERROR(AU743:BF743),0,AU743:BF743)))","v":""},"","","","","","","","","","","","","","","","","","","","","","","","","","","","","","","","","","","","","","","","","","","","",""]
[{"$f":"IF(ISBLANK('Control Sheet'!D726),\"\",'Control Sheet'!D726)","v":""},{"$f":"IF(ISBLANK('Control Sheet'!E726),\"\",'Control Sheet'!E726&\" (\"&'Control Sheet'!F726&\")\")","v":""},"","","","","","","","","","","","","","","","","","","","","","","","","","","","","","","","","","","","","","","","","","","","","","","","","","","","","","","","",{"$f":"IF(A746=\"\",\"\",MAX(IF(ISERROR(AU746:BF746),0,AU746:BF746)))","v":""},"","","","","","","","","","","","","","","","","","","","","","","","","","","","","","","","","","","","","","","","","","","","",""]
[{"$f":"IF(ISBLANK('Control Sheet'!D729),\"\",'Control Sheet'!D729)","v":""},{"$f":"IF(ISBLANK('Control Sheet'!E729),\"\",'Control Sheet'!E729&\" (\"&'Control Sheet'!F729&\")\")","v":""},"","","","","","","","","","","","","","","","","","","","","","","","","","","","","","","","","","","","","","","","","","","","","","","","","","","","","","","","",{"$f":"IF(A749=\"\",\"\",MAX(IF(ISERROR(AU749:BF749),0,AU749:BF749)))","v":""},"","","","","","","","","","","","","","","","","","","","","","","","","","","","","","","","","","","","","","","","","","","","",""]
[{"$f":"IF(ISBLANK('Control Sheet'!D732),\"\",'Control Sheet'!D732)","v":""},{"$f":"IF(ISBLANK('Control Sheet'!E732),\"\",'Control Sheet'!E732&\" (\"&'Control Sheet'!F732&\")\")","v":""},"","","","","","","","","","","","","","","","","","","","","","","","","","","","","","","","","","","","","","","","","","","","","","","","","","","","","","","","",{"$f":"IF(A752=\"\",\"\",MAX(IF(ISERROR(AU752:BF752),0,AU752:BF752)))","v":""},"","","","","","","","","","","","","","","","","","","","","","","","","","","","","","","","","","","","","","","","","","","","",""]
[{"$f":"IF(ISBLANK('Control Sheet'!D735),\"\",'Control Sheet'!D735)","v":""},{"$f":"IF(ISBLANK('Control Sheet'!E735),\"\",'Control Sheet'!E735&\" (\"&'Control Sheet'!F735&\")\")","v":""},"","","","","","","","","","","","","","","","","","","","","","","","","","","","","","","","","","","","","","","","","","","","","","","","","","","","","","","","",{"$f":"IF(A755=\"\",\"\",MAX(IF(ISERROR(AU755:BF755),0,AU755:BF755)))","v":""},"","","","","","","","","","","","","","","","","","","","","","","","","","","","","","","","","","","","","","","","","","","","",""]
[{"$f":"IF(ISBLANK('Control Sheet'!D736),\"\",'Control Sheet'!D736)","v":""},{"$f":"IF(ISBLANK('Control Sheet'!E736),\"\",'Control Sheet'!E736&\" (\"&'Control Sheet'!F736&\")\")","v":""},"","","","","","","","","","","","","","","","","","","","","","","","","","","","","","","","","","","","","","","","","","","","","","","","","","","","","","","","",{"$f":"IF(A756=\"\",\"\",MAX(IF(ISERROR(AU756:BF756),0,AU756:BF756)))","v":""},"","","","","","","","","","","","","","","","","","","","","","","","","","","","","","","","","","","","","","","","","","","","",""]
[{"$f":"IF(ISBLANK('Control Sheet'!D739),\"\",'Control Sheet'!D739)","v":""},{"$f":"IF(ISBLANK('Control Sheet'!E739),\"\",'Control Sheet'!E739&\" (\"&'Control Sheet'!F739&\")\")","v":""},"","","","","","","","","","","","","","","","","","","","","","","","","","","","","","","","","","","","","","","","","","","","","","","","","","","","","","","","",{"$f":"IF(A759=\"\",\"\",MAX(IF(ISERROR(AU759:BF759),0,AU759:BF759)))","v":""},"","","","","","","","","","","","","","","","","","","","","","","","","","","","","","","","","","","","","","","","","","","","",""]
[{"$f":"IF(ISBLANK('Control Sheet'!D742),\"\",'Control Sheet'!D742)","v":""},{"$f":"IF(ISBLANK('Control Sheet'!E742),\"\",'Control Sheet'!E742&\" (\"&'Control Sheet'!F742&\")\")","v":""},"","","","","","","","","","","","","","","","","","","","","","","","","","","","","","","","","","","","","","","","","","","","","","","","","","","","","","","","",{"$f":"IF(A762=\"\",\"\",MAX(IF(ISERROR(AU762:BF762),0,AU762:BF762)))","v":""},"","","","","","","","","","","","","","","","","","","","","","","","","","","","","","","","","","","","","","","","","","","","",""]
[{"$f":"IF(ISBLANK('Control Sheet'!D745),\"\",'Control Sheet'!D745)","v":""},{"$f":"IF(ISBLANK('Control Sheet'!E745),\"\",'Control Sheet'!E745&\" (\"&'Control Sheet'!F745&\")\")","v":""},"","","","","","","","","","","","","","","","","","","","","","","","","","","","","","","","","","","","","","","","","","","","","","","","","","","","","","","","",{"$f":"IF(A765=\"\",\"\",MAX(IF(ISERROR(AU765:BF765),0,AU765:BF765)))","v":""},"","","","","","","","","","","","","","","","","","","","","","","","","","","","","","","","","","","","","","","","","","","","",""]
[{"$f":"IF(ISBLANK('Control Sheet'!D748),\"\",'Control Sheet'!D748)","v":""},{"$f":"IF(ISBLANK('Control Sheet'!E748),\"\",'Control Sheet'!E748&\" (\"&'Control Sheet'!F748&\")\")","v":""},"","","","","","","","","","","","","","","","","","","","","","","","","","","","","","","","","","","","","","","","","","","","","","","","","","","","","","","","",{"$f":"IF(A768=\"\",\"\",MAX(IF(ISERROR(AU768:BF768),0,AU768:BF768)))","v":""},"","","","","","","","","","","","","","","","","","","","","","","","","","","","","","","","","","","","","","","","","","","","",""]
[{"$f":"IF(ISBLANK('Control Sheet'!D752),\"\",'Control Sheet'!D752)","v":""},{"$f":"IF(ISBLANK('Control Sheet'!E752),\"\",'Control Sheet'!E752&\" (\"&'Control Sheet'!F752&\")\")","v":""},"","","","","","","","","","","","","","","","","","","","","","","","","","","","","","","","","","","","","","","","","","","","","","","","","","","","","","","","",{"$f":"IF(A772=\"\",\"\",MAX(IF(ISERROR(AU772:BF772),0,AU772:BF772)))","v":""},"","","","","","","","","","","","","","","","","","","","","","","","","","","","","","","","","","","","","","","","","","","","",""]
[{"$f":"IF(ISBLANK('Control Sheet'!D755),\"\",'Control Sheet'!D755)","v":""},{"$f":"IF(ISBLANK('Control Sheet'!E755),\"\",'Control Sheet'!E755&\" (\"&'Control Sheet'!F755&\")\")","v":""},"","","","","","","","","","","","","","","","","","","","","","","","","","","","","","","","","","","","","","","","","","","","","","","","","","","","","","","","",{"$f":"IF(A775=\"\",\"\",MAX(IF(ISERROR(AU775:BF775),0,AU775:BF775)))","v":""},"","","","","","","","","","","","","","","","","","","","","","","","","","","","","","","","","","","","","","","","","","","","",""]
[{"$f":"IF(ISBLANK('Control Sheet'!D756),\"\",'Control Sheet'!D756)","v":""},{"$f":"IF(ISBLANK('Control Sheet'!E756),\"\",'Control Sheet'!E756&\" (\"&'Control Sheet'!F756&\")\")","v":""},"","","","","","","","","","","","","","","","","","","","","","","","","","","","","","","","","","","","","","","","","","","","","","","","","","","","","","","","",{"$f":"IF(A776=\"\",\"\",MAX(IF(ISERROR(AU776:BF776),0,AU776:BF776)))","v":""},"","","","","","","","","","","","","","","","","","","","","","","","","","","","","","","","","","","","","","","","","","","","",""]
[{"$f":"IF(ISBLANK('Control Sheet'!D759),\"\",'Control Sheet'!D759)","v":""},{"$f":"IF(ISBLANK('Control Sheet'!E759),\"\",'Control Sheet'!E759&\" (\"&'Control Sheet'!F759&\")\")","v":""},"","","","","","","","","","","","","","","","","","","","","","","","","","","","","","","","","","","","","","","","","","","","","","","","","","","","","","","","",{"$f":"IF(A779=\"\",\"\",MAX(IF(ISERROR(AU779:BF779),0,AU779:BF779)))","v":""},"","","","","","","","","","","","","","","","","","","","","","","","","","","","","","","","","","","","","","","","","","","","",""]
[{"$f":"IF(ISBLANK('Control Sheet'!D761),\"\",'Control Sheet'!D761)","v":""},{"$f":"IF(ISBLANK('Control Sheet'!E761),\"\",'Control Sheet'!E761&\" (\"&'Control Sheet'!F761&\")\")","v":""},{"$f":"IF(C$18=1,IF(ISNA(VLOOKUP($A781,INDIRECT(C$20),Abated_col,FALSE)),\"\",VLOOKUP($A781,INDIRECT(C$20),Abated_col,FALSE)),\"\")","v":""},"","","","","","","","","","","","","","","","","","","","","","","","","","","","","","","","","","","","","","","","","","","","","","","","","","","","","","","",{"$f":"IF(A781=\"\",\"\",MAX(IF(ISERROR(AU781:BF781),0,AU781:BF781)))","v":""},"","","","","","","","","","","","","","","","","","","","","","","","","","","","","","","","","","","","","","","","","","","","",""]
[{"$f":"IF(ISBLANK('Control Sheet'!D765),\"\",'Control Sheet'!D765)","v":""},{"$f":"IF(ISBLANK('Control Sheet'!E765),\"\",'Control Sheet'!E765&\" (\"&'Control Sheet'!F765&\")\")","v":""},"","","","","","","","","","","","","","","","","","","","","","","","","","","","","","","","","","","","","","","","","","","","","","","","","","","","","","","","",{"$f":"IF(A785=\"\",\"\",MAX(IF(ISERROR(AU785:BF785),0,AU785:BF785)))","v":""},"","","","","","","","","","","","","","","","","","","","","","","","","","","","","","","","","","","","","","","","","","","","",""]
[{"$f":"IF(ISBLANK('Control Sheet'!D768),\"\",'Control Sheet'!D768)","v":""},{"$f":"IF(ISBLANK('Control Sheet'!E768),\"\",'Control Sheet'!E768&\" (\"&'Control Sheet'!F768&\")\")","v":""},"","","","","","","","","","","","","","","","","","","","","","","","","","","","","","","","","","","","","","","","","","","","","","","","","","","","","","","","",{"$f":"IF(A788=\"\",\"\",MAX(IF(ISERROR(AU788:BF788),0,AU788:BF788)))","v":""},"","","","","","","","","","","","","","","","","","","","","","","","","","","","",{"$f":"IF(L$18=1,IF(ISNA(VLOOKUP($A788,INDIRECT(L$20),MUR_fee_col,FALSE)),\"\",VLOOKUP($A788,INDIRECT(L$20),MUR_fee_col,FALSE)),\"\")","v":""},"","","","","","","","","","","","",{"$f":"IF(L$18=1,IF(ISNA(VLOOKUP($A788,INDIRECT(L$20),MUR_Fee_adj_col,FALSE)),\"\",VLOOKUP($A788,INDIRECT(L$20),MUR_Fee_adj_col,FALSE)),\"\")","v":""},"","",""]
[{"$f":"IF(ISBLANK('Control Sheet'!D771),\"\",'Control Sheet'!D771)","v":""},{"$f":"IF(ISBLANK('Control Sheet'!E771),\"\",'Control Sheet'!E771&\" (\"&'Control Sheet'!F771&\")\")","v":""},{"$f":"IF(C$18=1,IF(ISNA(VLOOKUP($A791,INDIRECT(C$20),Abated_col,FALSE)),\"\",VLOOKUP($A791,INDIRECT(C$20),Abated_col,FALSE)),\"\")","v":""},"","","","","","","","","","","","","","","","","","","","","","","","","","","","","","","","","","","","","","","","","","","","","","","","","","","","","","","",{"$f":"IF(A791=\"\",\"\",MAX(IF(ISERROR(AU791:BF791),0,AU791:BF791)))","v":""},"","","","","","","","","","","","","","","","","","","","","","","","","","","","","","","","","","","","","","","","","","","","",""]
[{"$f":"IF(ISBLANK('Control Sheet'!D775),\"\",'Control Sheet'!D775)","v":""},{"$f":"IF(ISBLANK('Control Sheet'!E775),\"\",'Control Sheet'!E775&\" (\"&'Control Sheet'!F775&\")\")","v":""},"","","","","","","","","","","","","","","","","","","","","","","","","","","","","","","","","","","","","","","","","","","","","","","","","","","","","","","","",{"$f":"IF(A795=\"\",\"\",MAX(IF(ISERROR(AU795:BF795),0,AU795:BF795)))","v":""},"","","","","","","","","","","","","","","","","","","","","","","","","","","","","","","","","","","","","","","","","","","","",""]
[{"$f":"IF(ISBLANK('Control Sheet'!D776),\"\",'Control Sheet'!D776)","v":""},{"$f":"IF(ISBLANK('Control Sheet'!E776),\"\",'Control Sheet'!E776&\" (\"&'Control Sheet'!F776&\")\")","v":""},"","","","","","","","","","","","","","","","","","","","","","","","","","","","","","","","","","","","","","","","","","","","","","","","","","","","","","","","",{"$f":"IF(A796=\"\",\"\",MAX(IF(ISERROR(AU796:BF796),0,AU796:BF796)))","v":""},"","","","","","","","","","","","","","","","","","","","","","","","","","","","","","","","","","","","","","","","","","","","",""]
[{"$f":"IF(ISBLANK('Control Sheet'!D778),\"\",'Control Sheet'!D778)","v":""},{"$f":"IF(ISBLANK('Control Sheet'!E778),\"\",'Control Sheet'!E778&\" (\"&'Control Sheet'!F778&\")\")","v":""},"","","","","","","","","","","","","","","","","","","","","","","","","","","","","","","","","","","","","","","","","","","","","","","","","","","","","","","","",{"$f":"IF(A798=\"\",\"\",MAX(IF(ISERROR(AU798:BF798),0,AU798:BF798)))","v":""},"","","","","","","","","","","","","","","","","","","","","","","","","","","","","","","","","","","","","","","","","","","","",""]
[{"$f":"IF(ISBLANK('Control Sheet'!D781),\"\",'Control Sheet'!D781)","v":""},{"$f":"IF(ISBLANK('Control Sheet'!E781),\"\",'Control Sheet'!E781&\" (\"&'Control Sheet'!F781&\")\")","v":""},{"$f":"IF(C$18=1,IF(ISNA(VLOOKUP($A801,INDIRECT(C$20),Abated_col,FALSE)),\"\",VLOOKUP($A801,INDIRECT(C$20),Abated_col,FALSE)),\"\")","v":""},"","","","","","","","","","","","","","","","","","","","","","","","","","","","","","","","","","","","","","","","","","","","","","","","","","","","","","","",{"$f":"IF(A801=\"\",\"\",MAX(IF(ISERROR(AU801:BF801),0,AU801:BF801)))","v":""},"","","","","","","","","","","","","","","","","","","","","","","","","","","","","","","","","","","","","","","","","","","","",""]
[{"$f":"IF(ISBLANK('Control Sheet'!D784),\"\",'Control Sheet'!D784)","v":""},{"$f":"IF(ISBLANK('Control Sheet'!E784),\"\",'Control Sheet'!E784&\" (\"&'Control Sheet'!F784&\")\")","v":""},"","","","","","","","","","","","","","","","","","","","","","","","","","","","","","","","","","","","","","","","","","","","","","","","","","","","","","","","",{"$f":"IF(A804=\"\",\"\",MAX(IF(ISERROR(AU804:BF804),0,AU804:BF804)))","v":""},"","","","","","","","","","","","","","","","","","","","","","","","","","","","","","","","","","","","","","","","","","","","",""]
[{"$f":"IF(ISBLANK('Control Sheet'!D788),\"\",'Control Sheet'!D788)","v":""},{"$f":"IF(ISBLANK('Control Sheet'!E788),\"\",'Control Sheet'!E788&\" (\"&'Control Sheet'!F788&\")\")","v":""},"","","","","","","","","","","","","","","","","","","","","","","","","","","","","","","","","","","","","","","","","","","","","","","","","","","","","","","","",{"$f":"IF(A808=\"\",\"\",MAX(IF(ISERROR(AU808:BF808),0,AU808:BF808)))","v":""},"","","","","","","","","","","","","","","","","","","","","","","","","","","","","","","","","","","","","","","","","","","","",""]
[{"$f":"IF(ISBLANK('Control Sheet'!D791),\"\",'Control Sheet'!D791)","v":""},{"$f":"IF(ISBLANK('Control Sheet'!E791),\"\",'Control Sheet'!E791&\" (\"&'Control Sheet'!F791&\")\")","v":""},{"$f":"IF(C$18=1,IF(ISNA(VLOOKUP($A811,INDIRECT(C$20),Abated_col,FALSE)),\"\",VLOOKUP($A811,INDIRECT(C$20),Abated_col,FALSE)),\"\")","v":""},"","","","","","","","","","","","","","","","","","","","","","","","","","","","","","","","","","","","","","","","","","","","","","","","","","","","","","","",{"$f":"IF(A811=\"\",\"\",MAX(IF(ISERROR(AU811:BF811),0,AU811:BF811)))","v":""},"","","","","","","","","","","","","","","","","","","","","","","","","","","","","","","","","","","","","","","","","","","","",""]
[{"$f":"IF(ISBLANK('Control Sheet'!D794),\"\",'Control Sheet'!D794)","v":""},{"$f":"IF(ISBLANK('Control Sheet'!E794),\"\",'Control Sheet'!E794&\" (\"&'Control Sheet'!F794&\")\")","v":""},"","","","","","","","","","","","","","","","","","","","","","","","","","","","","","","","","","","","","","","","","","","","","","","","","","","","","","","","",{"$f":"IF(A814=\"\",\"\",MAX(IF(ISERROR(AU814:BF814),0,AU814:BF814)))","v":""},"","","","","","","","","","","","","","","","","","","","","","","","","","","","","","","","","","","","","","","","","","","","",""]
[{"$f":"IF(ISBLANK('Control Sheet'!D797),\"\",'Control Sheet'!D797)","v":""},{"$f":"IF(ISBLANK('Control Sheet'!E797),\"\",'Control Sheet'!E797&\" (\"&'Control Sheet'!F797&\")\")","v":""},"","","","","","","","","","","","","","","","","","","","","","","","","","","","","","","","","","","","","","","","","","","","","","","","","","","","","","","","",{"$f":"IF(A817=\"\",\"\",MAX(IF(ISERROR(AU817:BF817),0,AU817:BF817)))","v":""},"","","","","","","","","","","","","","","","","","","","","","","","","","","","","","","","","","","","","","","","","","","","",""]
[{"$f":"IF(ISBLANK('Control Sheet'!D800),\"\",'Control Sheet'!D800)","v":""},{"$f":"IF(ISBLANK('Control Sheet'!E800),\"\",'Control Sheet'!E800&\" (\"&'Control Sheet'!F800&\")\")","v":""},"","","","","","","","","","","","","","","","","","","","","","","","","","","","","","","","","","","","","","","","","","","","","","","","","","","","","","","","",{"$f":"IF(A820=\"\",\"\",MAX(IF(ISERROR(AU820:BF820),0,AU820:BF820)))","v":""},"","","","","","","","","","","","","","","","","","","","","","","","","","","","","","","","","","","","","","","","","","","","",""]
[{"$f":"IF(ISBLANK('Control Sheet'!D801),\"\",'Control Sheet'!D801)","v":""},{"$f":"IF(ISBLANK('Control Sheet'!E801),\"\",'Control Sheet'!E801&\" (\"&'Control Sheet'!F801&\")\")","v":""},{"$f":"IF(C$18=1,IF(ISNA(VLOOKUP($A821,INDIRECT(C$20),Abated_col,FALSE)),\"\",VLOOKUP($A821,INDIRECT(C$20),Abated_col,FALSE)),\"\")","v":""},"","","","","","","","","","","","","","","","","","","","","","","","","","","","","","","","","","","","","","","","","","","","","","","","","","","","","","","",{"$f":"IF(A821=\"\",\"\",MAX(IF(ISERROR(AU821:BF821),0,AU821:BF821)))","v":""},"","","","","","","","","","","","","","","","","","","","","","","","","","","","","","","","","","","","","","","","","","","","",""]
[{"$f":"IF(ISBLANK('Control Sheet'!D804),\"\",'Control Sheet'!D804)","v":""},{"$f":"IF(ISBLANK('Control Sheet'!E804),\"\",'Control Sheet'!E804&\" (\"&'Control Sheet'!F804&\")\")","v":""},"","","","","","","","","","","","","","","","","","","","","","","","","","","","","","","","","","","","","","","","","","","","","","","","","","","","","","","","",{"$f":"IF(A824=\"\",\"\",MAX(IF(ISERROR(AU824:BF824),0,AU824:BF824)))","v":""},"","","","","","","","","","","","","","","","","","","","","","","","","","","","","","","","","","","","","","","","","","","","",""]
[{"$f":"IF(ISBLANK('Control Sheet'!D808),\"\",'Control Sheet'!D808)","v":""},{"$f":"IF(ISBLANK('Control Sheet'!E808),\"\",'Control Sheet'!E808&\" (\"&'Control Sheet'!F808&\")\")","v":""},"","","","","","","","","","","","","","","","","","","","","","","","","","","","","","","","","","","","","","","","","","","","","","","","","","","","","","","","",{"$f":"IF(A828=\"\",\"\",MAX(IF(ISERROR(AU828:BF828),0,AU828:BF828)))","v":""},"","","","","","","","","","","","","","","","","","","","","","","","","","","","","","","","","","","","","","","","","","","","",""]
[{"$f":"IF(ISBLANK('Control Sheet'!D810),\"\",'Control Sheet'!D810)","v":""},{"$f":"IF(ISBLANK('Control Sheet'!E810),\"\",'Control Sheet'!E810&\" (\"&'Control Sheet'!F810&\")\")","v":""},"","","","","","","","","","","","","","","","","","","","","","","","","","","","","","","","","","","","","","","","","","","","","","","","","","","","","","","","",{"$f":"IF(A830=\"\",\"\",MAX(IF(ISERROR(AU830:BF830),0,AU830:BF830)))","v":""},"","","","","","","","","","","","","","","","","","","","","","","","","","","","","","","","","","","","","","","","","","","","",""]
[{"$f":"IF(ISBLANK('Control Sheet'!D813),\"\",'Control Sheet'!D813)","v":""},{"$f":"IF(ISBLANK('Control Sheet'!E813),\"\",'Control Sheet'!E813&\" (\"&'Control Sheet'!F813&\")\")","v":""},"","","","","","","","","","","","","","","","","","","","","","","","","","","","","","","","","","","","","","","","","","","","","","","","","","","","","","","","",{"$f":"IF(A833=\"\",\"\",MAX(IF(ISERROR(AU833:BF833),0,AU833:BF833)))","v":""},"","","","","","","","","","","","","","","","","","","","","","","","","","","","","","","","","","","","","","","","","","","","",""]
[{"$f":"IF(ISBLANK('Control Sheet'!D817),\"\",'Control Sheet'!D817)","v":""},{"$f":"IF(ISBLANK('Control Sheet'!E817),\"\",'Control Sheet'!E817&\" (\"&'Control Sheet'!F817&\")\")","v":""},"","","","","","","","","","","","","","","","","","","","","","","","","","","","","","","","","","","","","","","","","","","","","","","","","","","","","","","","",{"$f":"IF(A837=\"\",\"\",MAX(IF(ISERROR(AU837:BF837),0,AU837:BF837)))","v":""},"","","","","","","","","","","","","","","","","","","","","","","","","","","","","","","","","","","","","","","","","","","","",""]
[{"$f":"IF(ISBLANK('Control Sheet'!D820),\"\",'Control Sheet'!D820)","v":""},{"$f":"IF(ISBLANK('Control Sheet'!E820),\"\",'Control Sheet'!E820&\" (\"&'Control Sheet'!F820&\")\")","v":""},"","","","","","","","","","","","","","","","","","","","","","","","","","","","","","","","","","","","","","","","","","","","","","","","","","","","","","","","",{"$f":"IF(A840=\"\",\"\",MAX(IF(ISERROR(AU840:BF840),0,AU840:BF840)))","v":""},"","","","","","","","","","","","","","","","","","","","","","","","","","","","","","","","","","","","","","","","","","","","",""]
[{"$f":"IF(ISBLANK('Control Sheet'!D823),\"\",'Control Sheet'!D823)","v":""},{"$f":"IF(ISBLANK('Control Sheet'!E823),\"\",'Control Sheet'!E823&\" (\"&'Control Sheet'!F823&\")\")","v":""},"","","","","","","","","","","","","","","","","","","","","","","","","","","","","","","","","","","","","","","","","","","","","","","","","","","","","","","","",{"$f":"IF(A843=\"\",\"\",MAX(IF(ISERROR(AU843:BF843),0,AU843:BF843)))","v":""},"","","","","","","","","","","","","","","","","","","","","","","","","","","","","","","","","","","","","","","","","","","","",""]
[{"$f":"IF(ISBLANK('Control Sheet'!D825),\"\",'Control Sheet'!D825)","v":""},{"$f":"IF(ISBLANK('Control Sheet'!E825),\"\",'Control Sheet'!E825&\" (\"&'Control Sheet'!F825&\")\")","v":""},"","","","","","","","","","","","","","","","","","","","","","","","","","","","","","","","","","","","","","","","","","","","","","","","","","","","","","","","",{"$f":"IF(A845=\"\",\"\",MAX(IF(ISERROR(AU845:BF845),0,AU845:BF845)))","v":""},"","","","","","","","","","","","","","","","","","","","","","","","","","","","","","","","","","","","","","","","","","","","",""]
[{"$f":"IF(ISBLANK('Control Sheet'!D826),\"\",'Control Sheet'!D826)","v":""},{"$f":"IF(ISBLANK('Control Sheet'!E826),\"\",'Control Sheet'!E826&\" (\"&'Control Sheet'!F826&\")\")","v":""},"","","","","","","","","","","","","","","","","","","","","","","","","","","","","","","","","","","","","","","","","","","","","","","","","","","","","","","","",{"$f":"IF(A846=\"\",\"\",MAX(IF(ISERROR(AU846:BF846),0,AU846:BF846)))","v":""},"","","","","","","","","","","","","","","","","","","","","","","","","","","","","","","","","","","","","","","","","","","","",""]
[{"$f":"IF(ISBLANK('Control Sheet'!D829),\"\",'Control Sheet'!D829)","v":""},{"$f":"IF(ISBLANK('Control Sheet'!E829),\"\",'Control Sheet'!E829&\" (\"&'Control Sheet'!F829&\")\")","v":""},"","","","","","","","","","","","","","","","","","","","","","","","","","","","","","","","","","","","","","","","","","","","","","","","","","","","","","","","",{"$f":"IF(A849=\"\",\"\",MAX(IF(ISERROR(AU849:BF849),0,AU849:BF849)))","v":""},"","","","","","","","","","","","","","","","","","","","","","","","","","","","","","","","","","","","","","","","","","","","",""]
[{"$f":"IF(ISBLANK('Control Sheet'!D833),\"\",'Control Sheet'!D833)","v":""},{"$f":"IF(ISBLANK('Control Sheet'!E833),\"\",'Control Sheet'!E833&\" (\"&'Control Sheet'!F833&\")\")","v":""},"","","","","","","","","","","","",{"$f":"IF(A853=\"\",\"\",SUM(C853:N853))","v":""},{"$f":"IF(A853=\"\",\"\",IF($O$18=12,SUM(C853:N853),AVERAGE(C853:O853)*(12-$O$18)))","v":""},{"$f":"IF(A853=\"\",\"\",IF(P853<=400,\"No\",\"Yes\"))","v":""},{"$f":"IF(A853=\"\",\"\",MURMonthsPop-(COUNTA(C853:N853)-COUNTBLANK(C853:N853)))","v":""},{"$f":"IF(C$18=1,IF(ISNA(VLOOKUP($A853,INDIRECT(C$20),MIS_Count_col,FALSE)),\"\",VLOOKUP($A853,INDIRECT(C$20),MIS_Count_col,FALSE)),\"\")","v":""},{"$f":"IF(D$18=1,IF(ISNA(VLOOKUP($A853,INDIRECT(D$20),MIS_Count_col,FALSE)),\"\",VLOOKUP($A853,INDIRECT(D$20),MIS_Count_col,FALSE)),\"\")","v":""},{"$f":"IF(E$18=1,IF(ISNA(VLOOKUP($A853,INDIRECT(E$20),MIS_Count_col,FALSE)),\"\",VLOOKUP($A853,INDIRECT(E$20),MIS_Count_col,FALSE)),\"\")","v":""},{"$f":"IF(F$18=1,IF(ISNA(VLOOKUP($A853,INDIRECT(F$20),MIS_Count_col,FALSE)),\"\",VLOOKUP($A853,INDIRECT(F$20),MIS_Count_col,FALSE)),\"\")","v":""},{"$f":"IF(G$18=1,IF(ISNA(VLOOKUP($A853,INDIRECT(G$20),MIS_Count_col,FALSE)),\"\",VLOOKUP($A853,INDIRECT(G$20),MIS_Count_col,FALSE)),\"\")","v":""},{"$f":"IF(H$18=1,IF(ISNA(VLOOKUP($A853,INDIRECT(H$20),MIS_Count_col,FALSE)),\"\",VLOOKUP($A853,INDIRECT(H$20),MIS_Count_col,FALSE)),\"\")","v":""},{"$f":"IF(I$18=1,IF(ISNA(VLOOKUP($A853,INDIRECT(I$20),MIS_Count_col,FALSE)),\"\",VLOOKUP($A853,INDIRECT(I$20),MIS_Count_col,FALSE)),\"\")","v":""},{"$f":"IF(J$18=1,IF(ISNA(VLOOKUP($A853,INDIRECT(J$20),MIS_Count_col,FALSE)),\"\",VLOOKUP($A853,INDIRECT(J$20),MIS_Count_col,FALSE)),\"\")","v":""},{"$f":"IF(K$18=1,IF(ISNA(VLOOKUP($A853,INDIRECT(K$20),MIS_Count_col,FALSE)),\"\",VLOOKUP($A853,INDIRECT(K$20),MIS_Count_col,FALSE)),\"\")","v":""},{"$f":"IF(L$18=1,IF(ISNA(VLOOKUP($A853,INDIRECT(L$20),MIS_Count_col,FALSE)),\"\",VLOOKUP($A853,INDIRECT(L$20),MIS_Count_col,FALSE)),\"\")","v":""},{"$f":"IF(M$18=1,IF(ISNA(VLOOKUP($A853,INDIRECT(M$20),MIS_Count_col,FALSE)),\"\",VLOOKUP($A853,INDIRECT(M$20),MIS_Count_col,FALSE)),\"\")","v":""},{"$f":"IF(N$18=1,IF(ISNA(VLOOKUP($A853,INDIRECT(N$20),MIS_Count_col,FALSE)),\"\",VLOOKUP($A853,INDIRECT(N$20),MIS_Count_col,FALSE)),\"\")","v":""},"","","","","","","","","","","","","","","",{"$f":"IF(A853=\"\",\"\",MAX(AH853:AS853))","v":""},{"$f":"IF(C$18=1,IF(ISNA(VLOOKUP($A853,INDIRECT(C$20),LPC_Stat_col,FALSE)),\"\",VLOOKUP($A853,INDIRECT(C$20),LPC_Stat_col,FALSE)),\"\")","v":""},{"$f":"IF(D$18=1,IF(ISNA(VLOOKUP($A853,INDIRECT(D$20),LPC_Stat_col,FALSE)),\"\",VLOOKUP($A853,INDIRECT(D$20),LPC_Stat_col,FALSE)),\"\")","v":""},{"$f":"IF(E$18=1,IF(ISNA(VLOOKUP($A853,INDIRECT(E$20),LPC_Stat_col,FALSE)),\"\",VLOOKUP($A853,INDIRECT(E$20),LPC_Stat_col,FALSE)),\"\")","v":""},{"$f":"IF(F$18=1,IF(ISNA(VLOOKUP($A853,INDIRECT(F$20),LPC_Stat_col,FALSE)),\"\",VLOOKUP($A853,INDIRECT(F$20),LPC_Stat_col,FALSE)),\"\")","v":""},{"$f":"IF(G$18=1,IF(ISNA(VLOOKUP($A853,INDIRECT(G$20),LPC_Stat_col,FALSE)),\"\",VLOOKUP($A853,INDIRECT(G$20),LPC_Stat_col,FALSE)),\"\")","v":""},{"$f":"IF(H$18=1,IF(ISNA(VLOOKUP($A853,INDIRECT(H$20),LPC_Stat_col,FALSE)),\"\",VLOOKUP($A853,INDIRECT(H$20),LPC_Stat_col,FALSE)),\"\")","v":""},{"$f":"IF(I$18=1,IF(ISNA(VLOOKUP($A853,INDIRECT(I$20),LPC_Stat_col,FALSE)),\"\",VLOOKUP($A853,INDIRECT(I$20),LPC_Stat_col,FALSE)),\"\")","v":""},{"$f":"IF(J$18=1,IF(ISNA(VLOOKUP($A853,INDIRECT(J$20),LPC_Stat_col,FALSE)),\"\",VLOOKUP($A853,INDIRECT(J$20),LPC_Stat_col,FALSE)),\"\")","v":""},{"$f":"IF(K$18=1,IF(ISNA(VLOOKUP($A853,INDIRECT(K$20),LPC_Stat_col,FALSE)),\"\",VLOOKUP($A853,INDIRECT(K$20),LPC_Stat_col,FALSE)),\"\")","v":""},{"$f":"IF(L$18=1,IF(ISNA(VLOOKUP($A853,INDIRECT(L$20),LPC_Stat_col,FALSE)),\"\",VLOOKUP($A853,INDIRECT(L$20),LPC_Stat_col,FALSE)),\"\")","v":""},{"$f":"IF(M$18=1,IF(ISNA(VLOOKUP($A853,INDIRECT(M$20),LPC_Stat_col,FALSE)),\"\",VLOOKUP($A853,INDIRECT(M$20),LPC_Stat_col,FALSE)),\"\")","v":""},{"$f":"IF(N$18=1,IF(ISNA(VLOOKUP($A853,INDIRECT(N$20),LPC_Stat_col,FALSE)),\"\",VLOOKUP($A853,INDIRECT(N$20),LPC_Stat_col,FALSE)),\"\")","v":""},{"$f":"IF(A853=\"\",\"\",MAX(IF(ISERROR(AU853:BF853),0,AU853:BF853)))","v":""},{"$f":"IF(C$18=1,IF(ISNA(VLOOKUP($A853,INDIRECT(C$20),LPC_Vol_col,FALSE)),\"\",VLOOKUP($A853,INDIRECT(C$20),LPC_Vol_col,FALSE)),\"\")","v":""},{"$f":"IF(D$18=1,IF(ISNA(VLOOKUP($A853,INDIRECT(D$20),LPC_Vol_col,FALSE)),\"\",VLOOKUP($A853,INDIRECT(D$20),LPC_Vol_col,FALSE)),\"\")","v":""},{"$f":"IF(E$18=1,IF(ISNA(VLOOKUP($A853,INDIRECT(E$20),LPC_Vol_col,FALSE)),\"\",VLOOKUP($A853,INDIRECT(E$20),LPC_Vol_col,FALSE)),\"\")","v":""},{"$f":"IF(F$18=1,IF(ISNA(VLOOKUP($A853,INDIRECT(F$20),LPC_Vol_col,FALSE)),\"\",VLOOKUP($A853,INDIRECT(F$20),LPC_Vol_col,FALSE)),\"\")","v":""},{"$f":"IF(G$18=1,IF(ISNA(VLOOKUP($A853,INDIRECT(G$20),LPC_Vol_col,FALSE)),\"\",VLOOKUP($A853,INDIRECT(G$20),LPC_Vol_col,FALSE)),\"\")","v":""},{"$f":"IF(H$18=1,IF(ISNA(VLOOKUP($A853,INDIRECT(H$20),LPC_Vol_col,FALSE)),\"\",VLOOKUP($A853,INDIRECT(H$20),LPC_Vol_col,FALSE)),\"\")","v":""},{"$f":"IF(I$18=1,IF(ISNA(VLOOKUP($A853,INDIRECT(I$20),LPC_Vol_col,FALSE)),\"\",VLOOKUP($A853,INDIRECT(I$20),LPC_Vol_col,FALSE)),\"\")","v":""},{"$f":"IF(J$18=1,IF(ISNA(VLOOKUP($A853,INDIRECT(J$20),LPC_Vol_col,FALSE)),\"\",VLOOKUP($A853,INDIRECT(J$20),LPC_Vol_col,FALSE)),\"\")","v":""},{"$f":"IF(K$18=1,IF(ISNA(VLOOKUP($A853,INDIRECT(K$20),LPC_Vol_col,FALSE)),\"\",VLOOKUP($A853,INDIRECT(K$20),LPC_Vol_col,FALSE)),\"\")","v":""},{"$f":"IF(L$18=1,IF(ISNA(VLOOKUP($A853,INDIRECT(L$20),LPC_Vol_col,FALSE)),\"\",VLOOKUP($A853,INDIRECT(L$20),LPC_Vol_col,FALSE)),\"\")","v":""},{"$f":"IF(M$18=1,IF(ISNA(VLOOKUP($A853,INDIRECT(M$20),LPC_Vol_col,FALSE)),\"\",VLOOKUP($A853,INDIRECT(M$20),LPC_Vol_col,FALSE)),\"\")","v":""},{"$f":"IF(N$18=1,IF(ISNA(VLOOKUP($A853,INDIRECT(N$20),LPC_Vol_col,FALSE)),\"\",VLOOKUP($A853,INDIRECT(N$20),LPC_Vol_col,FALSE)),\"\")","v":""},{"$f":"IF(A853=\"\",\"\",SUM(BH853:BS853))","v":""},{"$f":"IF(A853=\"\",\"\",MIN(B853:M853))","v":""},{"$f":"IF(A853=\"\",\"\",MAX(B853:M853))","v":""},{"$f":"IF(A853=\"\",\"\",BV853-BU853)","v":""},{"$f":"IF(A853=\"\",\"\",IF(BW853>$BW$11,\"Yes\",\"No\"))","v":""},{"$f":"IF(A853=\"\",\"\",(COUNTA(C853:N853)-COUNTBLANK(C853:N853)))","v":""},{"$f":"IF(A853=\"\",\"\",BY853-COUNTIF(C853:N853,\"=0\"))","v":""},"","","","","","","","","","","","",{"$f":"IF(A853=\"\",\"\",SUM(CA853:CL853))","v":""},"","","","","","","","","","","","",{"$f":"IF(A853=\"\",\"\",SUM(CN853:CY853))","v":""}]
[{"$f":"IF(ISBLANK('Control Sheet'!D836),\"\",'Control Sheet'!D836)","v":""},{"$f":"IF(ISBLANK('Control Sheet'!E836),\"\",'Control Sheet'!E836&\" (\"&'Control Sheet'!F836&\")\")","v":""},"","","","","","","","","","","","","","","","","","","","","","","","","","","","","","","","","","","","","","","","","","","","","","","","","","","","","","","","",{"$f":"IF(A856=\"\",\"\",MAX(IF(ISERROR(AU856:BF856),0,AU856:BF856)))","v":""},"","","","","","","","","","","","","","","","","","","","","","","","","","","","","","","","","","","","","","","","","","","","",""]
[{"$f":"IF(ISBLANK('Control Sheet'!D838),\"\",'Control Sheet'!D838)","v":""},{"$f":"IF(ISBLANK('Control Sheet'!E838),\"\",'Control Sheet'!E838&\" (\"&'Control Sheet'!F838&\")\")","v":""},"","","","","","","","","","","","","","","","","","","","","","","","","","","","","","","","","","","","","","","","","","","","","","","","","","","","","","","","",{"$f":"IF(A858=\"\",\"\",MAX(IF(ISERROR(AU858:BF858),0,AU858:BF858)))","v":""},"","","","","","","","","","","","","","","","","","","","","","","","","","","","","","","","","","","","","","","","","","","","",""]
[{"$f":"IF(ISBLANK('Control Sheet'!D842),\"\",'Control Sheet'!D842)","v":""},{"$f":"IF(ISBLANK('Control Sheet'!E842),\"\",'Control Sheet'!E842&\" (\"&'Control Sheet'!F842&\")\")","v":""},"","","","","","","","","","","","","","","","","","","","","","","","","","","","","","","","","","","","","","","","","","","","","","","","","","","","","","","","",{"$f":"IF(A862=\"\",\"\",MAX(IF(ISERROR(AU862:BF862),0,AU862:BF862)))","v":""},"","","","","","","","","","","","","","","","","","","","","","","","","","","","","","","","","","","","","","","","","","","","",""]
[{"$f":"IF(ISBLANK('Control Sheet'!D845),\"\",'Control Sheet'!D845)","v":""},{"$f":"IF(ISBLANK('Control Sheet'!E845),\"\",'Control Sheet'!E845&\" (\"&'Control Sheet'!F845&\")\")","v":""},"","","","","","","","","","","","","","","","","","","","","","","","","","","","","","","","","","","","","","","","","","","","","","","","","","","","","","","","",{"$f":"IF(A865=\"\",\"\",MAX(IF(ISERROR(AU865:BF865),0,AU865:BF865)))","v":""},"","","","","","","","","","","","","","","","","","","","","","","","","","","","","","","","","","","","","","","","","","","","",""]
[{"$f":"IF(ISBLANK('Control Sheet'!D846),\"\",'Control Sheet'!D846)","v":""},{"$f":"IF(ISBLANK('Control Sheet'!E846),\"\",'Control Sheet'!E846&\" (\"&'Control Sheet'!F846&\")\")","v":""},"","","","","","","","","","","","","","","","","","","","","","","","","","","","","","","","","","","","","","","","","","","","","","","","","","","","","","","","",{"$f":"IF(A866=\"\",\"\",MAX(IF(ISERROR(AU866:BF866),0,AU866:BF866)))","v":""},"","","","","","","","","","","","","","","","","","","","","","","","","","","","","","","","","","","","","","","","","","","","",""]
[{"$f":"IF(ISBLANK('Control Sheet'!D849),\"\",'Control Sheet'!D849)","v":""},{"$f":"IF(ISBLANK('Control Sheet'!E849),\"\",'Control Sheet'!E849&\" (\"&'Control Sheet'!F849&\")\")","v":""},"","","","","","","","","","","","","","","","","","","","","","","","","","","","","","","","","","","","","","","","","","","","","","","","","","","","","","","","",{"$f":"IF(A869=\"\",\"\",MAX(IF(ISERROR(AU869:BF869),0,AU869:BF869)))","v":""},"","","","","","","","","","","","","","","","","","","","","","","","","","","","","","","","","","","","","","","","","","","","",""]
[{"$f":"IF(ISBLANK('Control Sheet'!D853),\"\",'Control Sheet'!D853)","v":""},{"$f":"IF(ISBLANK('Control Sheet'!E853),\"\",'Control Sheet'!E853&\" (\"&'Control Sheet'!F853&\")\")","v":""},"","","","","","","","","","","","","","","","","","","","","","","","","","","","","","","","","","","","","","","","","","","","","","","","","","","","","","","","",{"$f":"IF(A873=\"\",\"\",MAX(IF(ISERROR(AU873:BF873),0,AU873:BF873)))","v":""},"","","","","","","","","","","","","","","","","","","","","","",{"$f":"IF(F$18=1,IF(ISNA(VLOOKUP($A873,INDIRECT(F$20),MUR_fee_col,FALSE)),\"\",VLOOKUP($A873,INDIRECT(F$20),MUR_fee_col,FALSE)),\"\")","v":""},"","","","","","","","","","","","",{"$f":"IF(F$18=1,IF(ISNA(VLOOKUP($A873,INDIRECT(F$20),MUR_Fee_adj_col,FALSE)),\"\",VLOOKUP($A873,INDIRECT(F$20),MUR_Fee_adj_col,FALSE)),\"\")","v":""},"","","","","","","","",""]
[{"$f":"IF(ISBLANK('Control Sheet'!D855),\"\",'Control Sheet'!D855)","v":""},{"$f":"IF(ISBLANK('Control Sheet'!E855),\"\",'Control Sheet'!E855&\" (\"&'Control Sheet'!F855&\")\")","v":""},"","","","","","","","","","","","","","","","","","","","","","","","","","","","","","","","","","","","","","","","","","","","","","","","","","","","","","","","",{"$f":"IF(A875=\"\",\"\",MAX(IF(ISERROR(AU875:BF875),0,AU875:BF875)))","v":""},"","","","","","","","","","","","","","","","","","","","","","","","","","","","","","","","","","","","","","","","","","","","",""]
[{"$f":"IF(ISBLANK('Control Sheet'!D858),\"\",'Control Sheet'!D858)","v":""},{"$f":"IF(ISBLANK('Control Sheet'!E858),\"\",'Control Sheet'!E858&\" (\"&'Control Sheet'!F858&\")\")","v":""},"","","","","","","","","","","","","","","","","","","","","","","","","","","","","","","","","","","","","","","","","","","","","","","","","","","","","","","","",{"$f":"IF(A878=\"\",\"\",MAX(IF(ISERROR(AU878:BF878),0,AU878:BF878)))","v":""},"","","","","","","","","","","","","","","","","","","","","","","","","","","","","","","","","","","","","","","","","","","","",""]
[{"$f":"IF(ISBLANK('Control Sheet'!D862),\"\",'Control Sheet'!D862)","v":""},{"$f":"IF(ISBLANK('Control Sheet'!E862),\"\",'Control Sheet'!E862&\" (\"&'Control Sheet'!F862&\")\")","v":""},"","","","","","","","","","","","","","","","","","","","","","","","","","","","","","","","","","","","","","","","","","","","","","","","","","","","","","","","",{"$f":"IF(A882=\"\",\"\",MAX(IF(ISERROR(AU882:BF882),0,AU882:BF882)))","v":""},"","","","","","","","","","","","","","","","","","","","","","","","","","","","","","","","","","","","","","","","","","","","",""]
[{"$f":"IF(ISBLANK('Control Sheet'!D865),\"\",'Control Sheet'!D865)","v":""},{"$f":"IF(ISBLANK('Control Sheet'!E865),\"\",'Control Sheet'!E865&\" (\"&'Control Sheet'!F865&\")\")","v":""},"","","","","","","","","","","","","","","","","","","","","","","","","","","","","","","","","","","","","","","","","","","","","","","","","","","","","","","","",{"$f":"IF(A885=\"\",\"\",MAX(IF(ISERROR(AU885:BF885),0,AU885:BF885)))","v":""},"","","","","","","","","","","","","","","","","","","","","","","","","","","","","","","","","","","","","","","","","","","","",""]
[{"$f":"IF(ISBLANK('Control Sheet'!D868),\"\",'Control Sheet'!D868)","v":""},{"$f":"IF(ISBLANK('Control Sheet'!E868),\"\",'Control Sheet'!E868&\" (\"&'Control Sheet'!F868&\")\")","v":""},"","","","","","","","","","","","","","","","","","","","","","","","","","","","","","","","","","","","","","","","","","","","","","","","","","","","","","","","",{"$f":"IF(A888=\"\",\"\",MAX(IF(ISERROR(AU888:BF888),0,AU888:BF888)))","v":""},"","","","","","","","","","","","","","","","","","","","","","","","","","","","","","","","","","","","","","","","","","","","",""]
[{"$f":"IF(ISBLANK('Control Sheet'!D869),\"\",'Control Sheet'!D869)","v":""},{"$f":"IF(ISBLANK('Control Sheet'!E869),\"\",'Control Sheet'!E869&\" (\"&'Control Sheet'!F869&\")\")","v":""},"","","","","","","","","","","","","","","","","","","","","","","","","","","","","","","","","","","","","","","","","","","","","","","","","","","","","","","","",{"$f":"IF(A889=\"\",\"\",MAX(IF(ISERROR(AU889:BF889),0,AU889:BF889)))","v":""},"","","","","","","","","","","","","","","","","","","","","","","","","","","","","","","","","","","","","","","","","","","","",""]
[{"$f":"IF(ISBLANK('Control Sheet'!D872),\"\",'Control Sheet'!D872)","v":""},{"$f":"IF(ISBLANK('Control Sheet'!E872),\"\",'Control Sheet'!E872&\" (\"&'Control Sheet'!F872&\")\")","v":""},"","","","","","","","","","","","","","","","","","","","","","","","","","","","","","","","","","","","","","","","","","","","","","","","","","","","","","","","",{"$f":"IF(A892=\"\",\"\",MAX(IF(ISERROR(AU892:BF892),0,AU892:BF892)))","v":""},"","","","","","","","","","","","","","","","","","","","","","","","","","","","","","","","","","","","","","","","","","","","",""]
[{"$f":"IF(ISBLANK('Control Sheet'!D875),\"\",'Control Sheet'!D875)","v":""},{"$f":"IF(ISBLANK('Control Sheet'!E875),\"\",'Control Sheet'!E875&\" (\"&'Control Sheet'!F875&\")\")","v":""},"","","","","","","","","","","","","","","","","","","","","","","","","","","","","","","","","","","","","","","","","","","","","","","","","","","","","","","","",{"$f":"IF(A895=\"\",\"\",MAX(IF(ISERROR(AU895:BF895),0,AU895:BF895)))","v":""},"","","","","","","","","","","","","","","","","","","","","","","","","","","","","","","","","","","","","","","","","","","","",""]
[{"$f":"IF(ISBLANK('Control Sheet'!D878),\"\",'Control Sheet'!D878)","v":""},{"$f":"IF(ISBLANK('Control Sheet'!E878),\"\",'Control Sheet'!E878&\" (\"&'Control Sheet'!F878&\")\")","v":""},"","","","","","","","","","","","","","","","","","","","","","","","","","","","","","","","","","","","","","","","","","","","","","","","","","","","","","","","",{"$f":"IF(A898=\"\",\"\",MAX(IF(ISERROR(AU898:BF898),0,AU898:BF898)))","v":""},"","","","","","","","","","","","","","","","","","","","","","","","","","","","","","","","","","","","","","","","","","","","",""]
[{"$f":"IF(ISBLANK('Control Sheet'!D881),\"\",'Control Sheet'!D881)","v":""},{"$f":"IF(ISBLANK('Control Sheet'!E881),\"\",'Control Sheet'!E881&\" (\"&'Control Sheet'!F881&\")\")","v":""},{"$f":"IF(C$18=1,IF(ISNA(VLOOKUP($A901,INDIRECT(C$20),Abated_col,FALSE)),\"\",VLOOKUP($A901,INDIRECT(C$20),Abated_col,FALSE)),\"\")","v":""},"","","","","","","","","","","","","","","","","","","","","","","","","","","","","","","","","","","","","","","","","","","","","","","","","","","","","","","",{"$f":"IF(A901=\"\",\"\",MAX(IF(ISERROR(AU901:BF901),0,AU901:BF901)))","v":""},"","","","","","","","","","","","","","","","","","","","","","","","","","","","","","","","","","","","","","","","","","","","",""]
[{"$f":"IF(ISBLANK('Control Sheet'!D885),\"\",'Control Sheet'!D885)","v":""},{"$f":"IF(ISBLANK('Control Sheet'!E885),\"\",'Control Sheet'!E885&\" (\"&'Control Sheet'!F885&\")\")","v":""},"","","","","","","","","","","","","","","","","","","","","","","","","","","","","","","","","","","","","","","","","","","","","","","","","","","","","","","","",{"$f":"IF(A905=\"\",\"\",MAX(IF(ISERROR(AU905:BF905),0,AU905:BF905)))","v":""},"","","","","","","","","","","","","","","","","","","","","","","","","","","","","","","","","","","","","","","","","","","","",""]
[{"$f":"IF(ISBLANK('Control Sheet'!D887),\"\",'Control Sheet'!D887)","v":""},{"$f":"IF(ISBLANK('Control Sheet'!E887),\"\",'Control Sheet'!E887&\" (\"&'Control Sheet'!F887&\")\")","v":""},"","","","","","","","","","","","","","","","","","","","","","","","","","","","","","","","","","","","","","","","","","","","","","","","","","","","","","","","",{"$f":"IF(A907=\"\",\"\",MAX(IF(ISERROR(AU907:BF907),0,AU907:BF907)))","v":""},"","","","","","","","","","","","","","","","","","","","","","","","","","","","","","","","","","","","","","","","","","","","",""]
[{"$f":"IF(ISBLANK('Control Sheet'!D890),\"\",'Control Sheet'!D890)","v":""},{"$f":"IF(ISBLANK('Control Sheet'!E890),\"\",'Control Sheet'!E890&\" (\"&'Control Sheet'!F890&\")\")","v":""},"","","","","","","","","","","","","","","","","","","","","","","","","","","","","","","","","","","","","","","","","","","","","","","","","","","","","","","","",{"$f":"IF(A910=\"\",\"\",MAX(IF(ISERROR(AU910:BF910),0,AU910:BF910)))","v":""},"","","","","","","","","","","","","","","","","","","","","","","","","","","","","","","","","","","","","","","","","","","","",""]
[{"$f":"IF(ISBLANK('Control Sheet'!D891),\"\",'Control Sheet'!D891)","v":""},{"$f":"IF(ISBLANK('Control Sheet'!E891),\"\",'Control Sheet'!E891&\" (\"&'Control Sheet'!F891&\")\")","v":""},{"$f":"IF(C$18=1,IF(ISNA(VLOOKUP($A911,INDIRECT(C$20),Abated_col,FALSE)),\"\",VLOOKUP($A911,INDIRECT(C$20),Abated_col,FALSE)),\"\")","v":""},"","","","","","","","","","","","","","","","","","","","","","","","","","","","","","","","","","","","","","","","","","","","","","","","","","","","","","","",{"$f":"IF(A911=\"\",\"\",MAX(IF(ISERROR(AU911:BF911),0,AU911:BF911)))","v":""},"","","","","","","","","","","","","","","","","","","","","","","","","","","","","","","","","","","","","","","","","","","","",""]
[{"$f":"IF(ISBLANK('Control Sheet'!D894),\"\",'Control Sheet'!D894)","v":""},{"$f":"IF(ISBLANK('Control Sheet'!E894),\"\",'Control Sheet'!E894&\" (\"&'Control Sheet'!F894&\")\")","v":""},"","","","","","","","","","","","","","","","","","","","","","","","","","","","","","","","","","","","","","","","","","","","","","","","","","","","","","","","",{"$f":"IF(A914=\"\",\"\",MAX(IF(ISERROR(AU914:BF914),0,AU914:BF914)))","v":""},"","","","","","","","","","","","","","","","","","","","","","","","","","","","","","","","","","","","","","","","","","","","",""]
[{"$f":"IF(ISBLANK('Control Sheet'!D898),\"\",'Control Sheet'!D898)","v":""},{"$f":"IF(ISBLANK('Control Sheet'!E898),\"\",'Control Sheet'!E898&\" (\"&'Control Sheet'!F898&\")\")","v":""},"","","","","","","","","","","","","","","","","","","","","","","","","","","","","","","",{"$f":"IF(C918=\"\",\"\",IF(AND(C918=0,S918=1),\"Normal\",IF(AND(C918=1,S918=1),\"Abated-1\",IF(C918=S918,\"Abated-n\",\"Mixed\"))))","v":""},{"$f":"IF(D918=\"\",\"\",IF(AND(D918=0,T918=1),\"Normal\",IF(AND(D918=1,T918=1),\"Abated-1\",IF(D918=T918,\"Abated-n\",\"Mixed\"))))","v":""},{"$f":"IF(E918=\"\",\"\",IF(AND(E918=0,U918=1),\"Normal\",IF(AND(E918=1,U918=1),\"Abated-1\",IF(E918=U918,\"Abated-n\",\"Mixed\"))))","v":""},{"$f":"IF(F918=\"\",\"\",IF(AND(F918=0,V918=1),\"Normal\",IF(AND(F918=1,V918=1),\"Abated-1\",IF(F918=V918,\"Abated-n\",\"Mixed\"))))","v":""},{"$f":"IF(G918=\"\",\"\",IF(AND(G918=0,W918=1),\"Normal\",IF(AND(G918=1,W918=1),\"Abated-1\",IF(G918=W918,\"Abated-n\",\"Mixed\"))))","v":""},{"$f":"IF(H918=\"\",\"\",IF(AND(H918=0,X918=1),\"Normal\",IF(AND(H918=1,X918=1),\"Abated-1\",IF(H918=X918,\"Abated-n\",\"Mixed\"))))","v":""},{"$f":"IF(I918=\"\",\"\",IF(AND(I918=0,Y918=1),\"Normal\",IF(AND(I918=1,Y918=1),\"Abated-1\",IF(I918=Y918,\"Abated-n\",\"Mixed\"))))","v":""},{"$f":"IF(J918=\"\",\"\",IF(AND(J918=0,Z918=1),\"Normal\",IF(AND(J918=1,Z918=1),\"Abated-1\",IF(J918=Z918,\"Abated-n\",\"Mixed\"))))","v":""},{"$f":"IF(K918=\"\",\"\",IF(AND(K918=0,AA918=1),\"Normal\",IF(AND(K918=1,AA918=1),\"Abated-1\",IF(K918=AA918,\"Abated-n\",\"Mixed\"))))","v":""},{"$f":"IF(L918=\"\",\"\",IF(AND(L918=0,AB918=1),\"Normal\",IF(AND(L918=1,AB918=1),\"Abated-1\",IF(L918=AB918,\"Abated-n\",\"Mixed\"))))","v":""},{"$f":"IF(M918=\"\",\"\",IF(AND(M918=0,AC918=1),\"Normal\",IF(AND(M918=1,AC918=1),\"Abated-1\",IF(M918=AC918,\"Abated-n\",\"Mixed\"))))","v":""},{"$f":"IF(N918=\"\",\"\",IF(AND(N918=0,AD918=1),\"Normal\",IF(AND(N918=1,AD918=1),\"Abated-1\",IF(N918=AD918,\"Abated-n\",\"Mixed\"))))","v":""},"","","","","","","","","","","","","",{"$f":"IF(A918=\"\",\"\",MAX(IF(ISERROR(AU918:BF918),0,AU918:BF918)))","v":""},"","","","","","","","","","","","","","","","","","","","","","","","","","","","","","","","","","","","","","","","","","","","",""]
[{"$f":"IF(ISBLANK('Control Sheet'!D901),\"\",'Control Sheet'!D901)","v":""},{"$f":"IF(ISBLANK('Control Sheet'!E901),\"\",'Control Sheet'!E901&\" (\"&'Control Sheet'!F901&\")\")","v":""},{"$f":"IF(C$18=1,IF(ISNA(VLOOKUP($A921,INDIRECT(C$20),Abated_col,FALSE)),\"\",VLOOKUP($A921,INDIRECT(C$20),Abated_col,FALSE)),\"\")","v":""},"","","","","","","","","","","","","","","","","","","","","","","","","","","","","","","","","","","","","","","","","","","","","","","","","","","","","","","",{"$f":"IF(A921=\"\",\"\",MAX(IF(ISERROR(AU921:BF921),0,AU921:BF921)))","v":""},"","","","","","","","","","","","","","","","","","","","","","","","","","","","","","","","","","","","","","","","","","","","",""]
[{"$f":"IF(ISBLANK('Control Sheet'!D904),\"\",'Control Sheet'!D904)","v":""},{"$f":"IF(ISBLANK('Control Sheet'!E904),\"\",'Control Sheet'!E904&\" (\"&'Control Sheet'!F904&\")\")","v":""},"","","","","","","","","","","","","","","","","","","","","","","","","","","","","","","","","","","","","","","","","","","","","","","","","","","","","","","","",{"$f":"IF(A924=\"\",\"\",MAX(IF(ISERROR(AU924:BF924),0,AU924:BF924)))","v":""},"","","","","","","","","","","","","","","","","","","","","","","","","","","","","","","","","","","","","","","","","","","","",""]
[{"$f":"IF(ISBLANK('Control Sheet'!D907),\"\",'Control Sheet'!D907)","v":""},{"$f":"IF(ISBLANK('Control Sheet'!E907),\"\",'Control Sheet'!E907&\" (\"&'Control Sheet'!F907&\")\")","v":""},"","","","","","","","","","","","","","","","","","","","","","","","","","","","","","","","","","","","","","","","","","","","","","","","","","","","","","","","",{"$f":"IF(A927=\"\",\"\",MAX(IF(ISERROR(AU927:BF927),0,AU927:BF927)))","v":""},"","","","","","","","","","","","","","","","","","","","","","","","","","","","","","","","","","","","","","","","","","","","",""]
[{"$f":"IF(ISBLANK('Control Sheet'!D910),\"\",'Control Sheet'!D910)","v":""},{"$f":"IF(ISBLANK('Control Sheet'!E910),\"\",'Control Sheet'!E910&\" (\"&'Control Sheet'!F910&\")\")","v":""},"","","","","","","","","","","","","","","","","","","","","","","","","","","","","","","","","","","","","","","","","","","","","","","","","","","","","","","","",{"$f":"IF(A930=\"\",\"\",MAX(IF(ISERROR(AU930:BF930),0,AU930:BF930)))","v":""},"","","","","","","","","","","","","","","","","","","","","","","","","","","","","","","","","","","","","","","","","","","","",""]
[{"$f":"IF(ISBLANK('Control Sheet'!D911),\"\",'Control Sheet'!D911)","v":""},{"$f":"IF(ISBLANK('Control Sheet'!E911),\"\",'Control Sheet'!E911&\" (\"&'Control Sheet'!F911&\")\")","v":""},{"$f":"IF(C$18=1,IF(ISNA(VLOOKUP($A931,INDIRECT(C$20),Abated_col,FALSE)),\"\",VLOOKUP($A931,INDIRECT(C$20),Abated_col,FALSE)),\"\")","v":""},"","","","","","","","","","","","","","","","","","","","","","","","","","","",{"$f":"IF(A931=\"\",\"\",SUM(S931:AD931))","v":""},{"$f":"IF(OR(A931=\"\",AE931=0),\"\",AE931/(O$18-R931))","v":""},{"$f":"IF(AF931=\"\",\"\",IF(AF931<=1,\"Lower Outlier\",IF(AF931<=2,\"Below Average\",IF(AF931<=3,\"Lower Quartile\",IF(AF931<=4,\"Upper Quartile\",IF(AF931<=5, \"Above Average\", \"Upper Outlier\"))))))","v":""},"","","","","","","","","","","","","","","","","","","","","","","","","",{"$f":"IF(A931=\"\",\"\",MAX(IF(ISERROR(AU931:BF931),0,AU931:BF931)))","v":""},"","","","","","","","","","","","","","","","","","","","","","","","","","","","","","","","","","","","","","","","","","","","",""]
[{"$f":"IF(ISBLANK('Control Sheet'!D914),\"\",'Control Sheet'!D914)","v":""},{"$f":"IF(ISBLANK('Control Sheet'!E914),\"\",'Control Sheet'!E914&\" (\"&'Control Sheet'!F914&\")\")","v":""},"","","","","","","","","","","","","","","","","","","","","","","","","","","","","","","","","","","","","","","","","","","","","","","","","","","","","","","","",{"$f":"IF(A934=\"\",\"\",MAX(IF(ISERROR(AU934:BF934),0,AU934:BF934)))","v":""},"","","","","","","","","","","","","","","","","","","","","","","","","","","","","","","","","","","","","","","","","","","","",""]
[{"$f":"IF(ISBLANK('Control Sheet'!D917),\"\",'Control Sheet'!D917)","v":""},{"$f":"IF(ISBLANK('Control Sheet'!E917),\"\",'Control Sheet'!E917&\" (\"&'Control Sheet'!F917&\")\")","v":""},"","","","","","","","","","","","","","","","","","","","","","","","","","","","","","","","","","","","","","","","","","","","","","","","","","","","","","","","",{"$f":"IF(A937=\"\",\"\",MAX(IF(ISERROR(AU937:BF937),0,AU937:BF937)))","v":""},"","","","","","","","","","","","","","","","","","","","","","",{"$f":"IF(F$18=1,IF(ISNA(VLOOKUP($A937,INDIRECT(F$20),MUR_fee_col,FALSE)),\"\",VLOOKUP($A937,INDIRECT(F$20),MUR_fee_col,FALSE)),\"\")","v":""},"","","","","","","","","","","","",{"$f":"IF(F$18=1,IF(ISNA(VLOOKUP($A937,INDIRECT(F$20),MUR_Fee_adj_col,FALSE)),\"\",VLOOKUP($A937,INDIRECT(F$20),MUR_Fee_adj_col,FALSE)),\"\")","v":""},"","","","","","","","",""]
[{"$f":"IF(ISBLANK('Control Sheet'!D921),\"\",'Control Sheet'!D921)","v":""},{"$f":"IF(ISBLANK('Control Sheet'!E921),\"\",'Control Sheet'!E921&\" (\"&'Control Sheet'!F921&\")\")","v":""},{"$f":"IF(C$18=1,IF(ISNA(VLOOKUP($A941,INDIRECT(C$20),Abated_col,FALSE)),\"\",VLOOKUP($A941,INDIRECT(C$20),Abated_col,FALSE)),\"\")","v":""},"","","","","","","","","","","","","","","","","","","","","","","","","","","","","","","","","","","","","","","","","","","","","","","","","","","","","","","",{"$f":"IF(A941=\"\",\"\",MAX(IF(ISERROR(AU941:BF941),0,AU941:BF941)))","v":""},"","","","","","","","","","","","","","","","","","","","","","","","","","","","","","","","","","","","","","","","","","","","",""]
[{"$f":"IF(ISBLANK('Control Sheet'!D923),\"\",'Control Sheet'!D923)","v":""},{"$f":"IF(ISBLANK('Control Sheet'!E923),\"\",'Control Sheet'!E923&\" (\"&'Control Sheet'!F923&\")\")","v":""},"","","","","","","","","","","","","","","","","","","","","","","","","","","","","","","","","","","","","","","","","","","","","","","","","","","","","","","","",{"$f":"IF(A943=\"\",\"\",MAX(IF(ISERROR(AU943:BF943),0,AU943:BF943)))","v":""},"","","","","","","","","","","","","","","","","","","","","","","","","","","","","","","","","","","","","","","","","","","","",""]
[{"$f":"IF(ISBLANK('Control Sheet'!D926),\"\",'Control Sheet'!D926)","v":""},{"$f":"IF(ISBLANK('Control Sheet'!E926),\"\",'Control Sheet'!E926&\" (\"&'Control Sheet'!F926&\")\")","v":""},"","","","","","","","","","","","","","","","","","","","","","","","","","","","","","","","","","","","","","","","","","","","","","","","","","","","","","","","",{"$f":"IF(A946=\"\",\"\",MAX(IF(ISERROR(AU946:BF946),0,AU946:BF946)))","v":""},"","","","","","","","","","","","","","","","","","","","","","","","","","","","","","","","","","","","","","","","","","","","",""]
[{"$f":"IF(ISBLANK('Control Sheet'!D930),\"\",'Control Sheet'!D930)","v":""},{"$f":"IF(ISBLANK('Control Sheet'!E930),\"\",'Control Sheet'!E930&\" (\"&'Control Sheet'!F930&\")\")","v":""},"","","","","","","","","","","","","","","","","","","","","","","","","","","","","","","","","","","","","","","","","","","","","","","","","","","","","","","","",{"$f":"IF(A950=\"\",\"\",MAX(IF(ISERROR(AU950:BF950),0,AU950:BF950)))","v":""},"","","","","","","","","","","","","","","","","","","","","","","","","","","","","","","","","","","","","","","","","","","","",""]
[{"$f":"IF(ISBLANK('Control Sheet'!D933),\"\",'Control Sheet'!D933)","v":""},{"$f":"IF(ISBLANK('Control Sheet'!E933),\"\",'Control Sheet'!E933&\" (\"&'Control Sheet'!F933&\")\")","v":""},"","","","","","","","","","","","","","","","","","","","","","","","","","","","","","","","","","","","","","","","","","","","","","","","","","","","","","","","",{"$f":"IF(A953=\"\",\"\",MAX(IF(ISERROR(AU953:BF953),0,AU953:BF953)))","v":""},"","","","","","","","","","","","","","","","","","","","","","","","","","","","","","","","","","","","","","","","","","","","",""]
[{"$f":"IF(ISBLANK('Control Sheet'!D934),\"\",'Control Sheet'!D934)","v":""},{"$f":"IF(ISBLANK('Control Sheet'!E934),\"\",'Control Sheet'!E934&\" (\"&'Control Sheet'!F934&\")\")","v":""},"","","","","","","","","","","","","","","","","","","","","","","","","","","","","","","","","","","","","","","","","","","","","","","","","","","","","","","","",{"$f":"IF(A954=\"\",\"\",MAX(IF(ISERROR(AU954:BF954),0,AU954:BF954)))","v":""},"","","","","","","","","","","","","","","","","","","","","","","","","","","","","","","","","","","","","","","","","","","","",""]
[{"$f":"IF(ISBLANK('Control Sheet'!D937),\"\",'Control Sheet'!D937)","v":""},{"$f":"IF(ISBLANK('Control Sheet'!E937),\"\",'Control Sheet'!E937&\" (\"&'Control Sheet'!F937&\")\")","v":""},"","","","","","","","","","","","","","","","","","","","","","","","","","","","","","","","","","","","","","","","","","","","","","","","","","","","","","","","",{"$f":"IF(A957=\"\",\"\",MAX(IF(ISERROR(AU957:BF957),0,AU957:BF957)))","v":""},"","","","","","","","","","","","","","","","","","","","","","","","","","","","","","","","","","","","","","","","","","","","",""]
[{"$f":"IF(ISBLANK('Control Sheet'!D938),\"\",'Control Sheet'!D938)","v":""},{"$f":"IF(ISBLANK('Control Sheet'!E938),\"\",'Control Sheet'!E938&\" (\"&'Control Sheet'!F938&\")\")","v":""},"","","","","","","","","","","","","","","","","","","","","","","","","","","","","","","","","","","","","","","","","","","","","","","","","","","","","","","","",{"$f":"IF(A958=\"\",\"\",MAX(IF(ISERROR(AU958:BF958),0,AU958:BF958)))","v":""},"","","","","","","","","","","","","","","","","","","","","","","","","","","","","","","","","","","","","","","","","","","","",""]
[{"$f":"IF(ISBLANK('Control Sheet'!D939),\"\",'Control Sheet'!D939)","v":""},{"$f":"IF(ISBLANK('Control Sheet'!E939),\"\",'Control Sheet'!E939&\" (\"&'Control Sheet'!F939&\")\")","v":""},"","","","","","","","","","","","","","","","","","","","","","","","","","","","","","","","","","","","","","","","","","","","","","","","","","","","","","","","",{"$f":"IF(A959=\"\",\"\",MAX(IF(ISERROR(AU959:BF959),0,AU959:BF959)))","v":""},"","","","","","","","","","","","","","","","","","","","","","","","","","","","","","","","","","","","","","","","","","","","",""]
[{"$f":"IF(ISBLANK('Control Sheet'!D940),\"\",'Control Sheet'!D940)","v":""},{"$f":"IF(ISBLANK('Control Sheet'!E940),\"\",'Control Sheet'!E940&\" (\"&'Control Sheet'!F940&\")\")","v":""},"","","","","","","","","","","","","","","","","","","","","","","","","","","","","","","","","","","","","","","","","","","","","","","","","","","","","","","","",{"$f":"IF(A960=\"\",\"\",MAX(IF(ISERROR(AU960:BF960),0,AU960:BF960)))","v":""},"","","","","","","","","","","","","","","","","","","","","","","","","","","","",{"$f":"IF(L$18=1,IF(ISNA(VLOOKUP($A960,INDIRECT(L$20),MUR_fee_col,FALSE)),\"\",VLOOKUP($A960,INDIRECT(L$20),MUR_fee_col,FALSE)),\"\")","v":""},"","","","","","","","","","","","",{"$f":"IF(L$18=1,IF(ISNA(VLOOKUP($A960,INDIRECT(L$20),MUR_Fee_adj_col,FALSE)),\"\",VLOOKUP($A960,INDIRECT(L$20),MUR_Fee_adj_col,FALSE)),\"\")","v":""},"","",""]
[{"$f":"IF(ISBLANK('Control Sheet'!D941),\"\",'Control Sheet'!D941)","v":""},{"$f":"IF(ISBLANK('Control Sheet'!E941),\"\",'Control Sheet'!E941&\" (\"&'Control Sheet'!F941&\")\")","v":""},{"$f":"IF(C$18=1,IF(ISNA(VLOOKUP($A961,INDIRECT(C$20),Abated_col,FALSE)),\"\",VLOOKUP($A961,INDIRECT(C$20),Abated_col,FALSE)),\"\")","v":""},"","","","","","","","","","","","","","","","","","","","","","","","","","","","","","","","","","","","","","","","","","","","","","","","","","","","","","","",{"$f":"IF(A961=\"\",\"\",MAX(IF(ISERROR(AU961:BF961),0,AU961:BF961)))","v":""},"","","","","","","","","","","","","","","","","","","","","","","","","","","","","","","","","","","","","","","","","","","","",""]
[{"$f":"IF(ISBLANK('Control Sheet'!D942),\"\",'Control Sheet'!D942)","v":""},{"$f":"IF(ISBLANK('Control Sheet'!E942),\"\",'Control Sheet'!E942&\" (\"&'Control Sheet'!F942&\")\")","v":""},"","","","","","","","","","","","","","","","","","","","","","","","","","","","","","","","","","","","","","","","","","","","","","","","","","","","","","","","",{"$f":"IF(A962=\"\",\"\",MAX(IF(ISERROR(AU962:BF962),0,AU962:BF962)))","v":""},"","","","","","","","","","","","","","","","","","","","","","","","","","","","","","","","","","","","","","","","","","","","",""]
[{"$f":"IF(ISBLANK('Control Sheet'!D943),\"\",'Control Sheet'!D943)","v":""},{"$f":"IF(ISBLANK('Control Sheet'!E943),\"\",'Control Sheet'!E943&\" (\"&'Control Sheet'!F943&\")\")","v":""},"","","","","","","","","","","","","","","","","","","","","","","","","","","","","","","","","","","","","","","","","","","","","","","","","","","","","","","","",{"$f":"IF(A963=\"\",\"\",MAX(IF(ISERROR(AU963:BF963),0,AU963:BF963)))","v":""},"","","","","","","","","","","","","","","","","","","","","","","","","","","","","","","","","","","","","","","","","","","","",""]
[{"$f":"IF(ISBLANK('Control Sheet'!D944),\"\",'Control Sheet'!D944)","v":""},{"$f":"IF(ISBLANK('Control Sheet'!E944),\"\",'Control Sheet'!E944&\" (\"&'Control Sheet'!F944&\")\")","v":""},"","","","","","","","","","","","","","","","","","","","","","","","","","","","","","","","","","","","","","","","","","","","","","","","","","","","","","","","",{"$f":"IF(A964=\"\",\"\",MAX(IF(ISERROR(AU964:BF964),0,AU964:BF964)))","v":""},"","","","","","","","","","","","","","","","","","","","","","","","","","","","","","","","","","","","","","","","","","","","",""]
[{"$f":"IF(ISBLANK('Control Sheet'!D945),\"\",'Control Sheet'!D945)","v":""},{"$f":"IF(ISBLANK('Control Sheet'!E945),\"\",'Control Sheet'!E945&\" (\"&'Control Sheet'!F945&\")\")","v":""},"","","","","","","","","","","","","","","","","","","","","","","","","","","","","","","","","","","","","","","","","","","","","","","","","","","","","","","","",{"$f":"IF(A965=\"\",\"\",MAX(IF(ISERROR(AU965:BF965),0,AU965:BF965)))","v":""},"","","","","","","","","","","","","","","","","","","","","","","","","","","","","","","","","","","","","","","","","","","","",""]
[{"$f":"IF(ISBLANK('Control Sheet'!D946),\"\",'Control Sheet'!D946)","v":""},{"$f":"IF(ISBLANK('Control Sheet'!E946),\"\",'Control Sheet'!E946&\" (\"&'Control Sheet'!F946&\")\")","v":""},"","","","","","","","","","","","","","","","","","","","","","","","","","","","","","","","","","","","","","","","","","","","","","","","","","","","","","","","",{"$f":"IF(A966=\"\",\"\",MAX(IF(ISERROR(AU966:BF966),0,AU966:BF966)))","v":""},"","","","","","","","","","","","","","","","","","","","","","","","","","","","","","","","","","","","","","","","","","","","",""]
[{"$f":"IF(ISBLANK('Control Sheet'!D947),\"\",'Control Sheet'!D947)","v":""},{"$f":"IF(ISBLANK('Control Sheet'!E947),\"\",'Control Sheet'!E947&\" (\"&'Control Sheet'!F947&\")\")","v":""},"","","","","","","","","","","","","","","","","","","","","","","","","","","","","","","","","","","","","","","","","","","","","","","","","","","","","","","","",{"$f":"IF(A967=\"\",\"\",MAX(IF(ISERROR(AU967:BF967),0,AU967:BF967)))","v":""},"","","","","","","","","","","","","","","","","","","","","","","","","","","","","","","","","","","","","","","","","","","","",""]
[{"$f":"IF(ISBLANK('Control Sheet'!D948),\"\",'Control Sheet'!D948)","v":""},{"$f":"IF(ISBLANK('Control Sheet'!E948),\"\",'Control Sheet'!E948&\" (\"&'Control Sheet'!F948&\")\")","v":""},"","","","","","","","","","","","","","","","","","","","","","","","","","","","","","","","","","","","","","","","","","","","","","","","","","","","","","","","",{"$f":"IF(A968=\"\",\"\",MAX(IF(ISERROR(AU968:BF968),0,AU968:BF968)))","v":""},"","","","","","","","","","","","","","","","","","","","","","","","","","","","","","","","","","","","","","","","","","","","",""]
[{"$f":"IF(ISBLANK('Control Sheet'!D949),\"\",'Control Sheet'!D949)","v":""},{"$f":"IF(ISBLANK('Control Sheet'!E949),\"\",'Control Sheet'!E949&\" (\"&'Control Sheet'!F949&\")\")","v":""},"","","","","","","","","","","","","","","","","","","","","","","","","","","","","","","","","","","","","","","","","","","","","","","","","","","","","","","","",{"$f":"IF(A969=\"\",\"\",MAX(IF(ISERROR(AU969:BF969),0,AU969:BF969)))","v":""},"","","","","","","","","","","","","","","","","","","","","","","","","","","","","","","","","","","","","","","","","","","","",""]
[{"$f":"IF(ISBLANK('Control Sheet'!D950),\"\",'Control Sheet'!D950)","v":""},{"$f":"IF(ISBLANK('Control Sheet'!E950),\"\",'Control Sheet'!E950&\" (\"&'Control Sheet'!F950&\")\")","v":""},"","","","","","","","","","","","","","","","","","","","","","","","","","","","","","","","","","","","","","","","","","","","","","","","","","","","","","","","",{"$f":"IF(A970=\"\",\"\",MAX(IF(ISERROR(AU970:BF970),0,AU970:BF970)))","v":""},"","","","","","","","","","","","","","","","","","","","","","","","","","","","","","","","","","","","","","","","","","","","",""]
[{"$f":"IF(ISBLANK('Control Sheet'!D951),\"\",'Control Sheet'!D951)","v":""},{"$f":"IF(ISBLANK('Control Sheet'!E951),\"\",'Control Sheet'!E951&\" (\"&'Control Sheet'!F951&\")\")","v":""},{"$f":"IF(C$18=1,IF(ISNA(VLOOKUP($A971,INDIRECT(C$20),Abated_col,FALSE)),\"\",VLOOKUP($A971,INDIRECT(C$20),Abated_col,FALSE)),\"\")","v":""},"","","","","","","","","","","","","","","","","","","","","","","","","","","","","","","","","","","","","","","","","","","","","","","","","","","","","","","",{"$f":"IF(A971=\"\",\"\",MAX(IF(ISERROR(AU971:BF971),0,AU971:BF971)))","v":""},"","","","","","","","","","","","","","","","","","","","","","","","","","","","","","","","","","","","","","","","","","","","",""]
[{"$f":"IF(ISBLANK('Control Sheet'!D952),\"\",'Control Sheet'!D952)","v":""},{"$f":"IF(ISBLANK('Control Sheet'!E952),\"\",'Control Sheet'!E952&\" (\"&'Control Sheet'!F952&\")\")","v":""},"","","","","","","","","","","","","","","","","","","","","","","","","","","","","","","","","","","","","","","","","","","","","","","","","","","","","","","","",{"$f":"IF(A972=\"\",\"\",MAX(IF(ISERROR(AU972:BF972),0,AU972:BF972)))","v":""},"","","","","","","","","","","","","","","","","","","","","","","","","","","","","","","","","","","","","","","","","","","","",""]
[{"$f":"IF(ISBLANK('Control Sheet'!D953),\"\",'Control Sheet'!D953)","v":""},{"$f":"IF(ISBLANK('Control Sheet'!E953),\"\",'Control Sheet'!E953&\" (\"&'Control Sheet'!F953&\")\")","v":""},"","","","","","","","","","","","","","","","","","","","","","","","","","","","","","","","","","","","","","","","","","","","","","","","","","","","","","","","",{"$f":"IF(A973=\"\",\"\",MAX(IF(ISERROR(AU973:BF973),0,AU973:BF973)))","v":""},"","","","","","","","","","","","","","","","","","","","","","","","","","","","","","","","","","","","","","","","","","","","",""]
[{"$f":"IF(ISBLANK('Control Sheet'!D954),\"\",'Control Sheet'!D954)","v":""},{"$f":"IF(ISBLANK('Control Sheet'!E954),\"\",'Control Sheet'!E954&\" (\"&'Control Sheet'!F954&\")\")","v":""},"","","","","","","","","","","","","","","","","","","","","","","","","","","","","","","","","","","","","","","","","","","","","","","","","","","","","","","","",{"$f":"IF(A974=\"\",\"\",MAX(IF(ISERROR(AU974:BF974),0,AU974:BF974)))","v":""},"","","","","","","","","","","","","","","","","","","","","","","","","","","","","","","","","","","","","","","","","","","","",""]
[{"$f":"IF(ISBLANK('Control Sheet'!D955),\"\",'Control Sheet'!D955)","v":""},{"$f":"IF(ISBLANK('Control Sheet'!E955),\"\",'Control Sheet'!E955&\" (\"&'Control Sheet'!F955&\")\")","v":""},"","","","","","","","","","","","","","","","","","","","","","","","","","","","","","","","","","","","","","","","","","","","","","","","","","","","","","","","",{"$f":"IF(A975=\"\",\"\",MAX(IF(ISERROR(AU975:BF975),0,AU975:BF975)))","v":""},"","","","","","","","","","","","","","","","","","","","","","","","","","","","","","","","","","","","","","","","","","","","",""]
[{"$f":"IF(ISBLANK('Control Sheet'!D956),\"\",'Control Sheet'!D956)","v":""},{"$f":"IF(ISBLANK('Control Sheet'!E956),\"\",'Control Sheet'!E956&\" (\"&'Control Sheet'!F956&\")\")","v":""},"","","","","","","","","","","","","","","","","","","","","","","","","","","","","","","","","","","","","","","","","","","","","","","","","","","","","","","","",{"$f":"IF(A976=\"\",\"\",MAX(IF(ISERROR(AU976:BF976),0,AU976:BF976)))","v":""},"","","","","","","","","","","","","","","","","","","","","","","","","","","","","","","","","","","","","","","","","","","","",""]
[{"$f":"IF(ISBLANK('Control Sheet'!D957),\"\",'Control Sheet'!D957)","v":""},{"$f":"IF(ISBLANK('Control Sheet'!E957),\"\",'Control Sheet'!E957&\" (\"&'Control Sheet'!F957&\")\")","v":""},"","","","","","","","","","","","","","","","","","","","","","","","","","","","","","","","","","","","","","","","","","","","","","","","","","","","","","","","",{"$f":"IF(A977=\"\",\"\",MAX(IF(ISERROR(AU977:BF977),0,AU977:BF977)))","v":""},"","","","","","","","","","","","","","","","","","","","","","","","","","","","","","","","","","","","","","","","","","","","",""]
[{"$f":"IF(ISBLANK('Control Sheet'!D958),\"\",'Control Sheet'!D958)","v":""},{"$f":"IF(ISBLANK('Control Sheet'!E958),\"\",'Control Sheet'!E958&\" (\"&'Control Sheet'!F958&\")\")","v":""},"","","","","","","","","","","","","","","","","","","","","","","","","","","","","","","","","","","","","","","","","","","","","","","","","","","","","","","","",{"$f":"IF(A978=\"\",\"\",MAX(IF(ISERROR(AU978:BF978),0,AU978:BF978)))","v":""},"","","","","","","","","","","","","","","","","","","","","","","","","","","","","","","","","","","","","","","","","","","","",""]
[{"$f":"IF(ISBLANK('Control Sheet'!D959),\"\",'Control Sheet'!D959)","v":""},{"$f":"IF(ISBLANK('Control Sheet'!E959),\"\",'Control Sheet'!E959&\" (\"&'Control Sheet'!F959&\")\")","v":""},"","","","","","","","","","","","","","","","","","","","","","","","","","","","","","","","","","","","","","","","","","","","","","","","","","","","","","","","",{"$f":"IF(A979=\"\",\"\",MAX(IF(ISERROR(AU979:BF979),0,AU979:BF979)))","v":""},"","","","","","","","","","","","","","","","","","","","","","","","","","","","","","","","","","","","","","","","","","","","",""]
[{"$f":"IF(ISBLANK('Control Sheet'!D960),\"\",'Control Sheet'!D960)","v":""},{"$f":"IF(ISBLANK('Control Sheet'!E960),\"\",'Control Sheet'!E960&\" (\"&'Control Sheet'!F960&\")\")","v":""},"","","","","","","","","","","","","","","","","","","","","","","","","","","","","","","","","","","","","","","","","","","","","","","","","","","","","","","","",{"$f":"IF(A980=\"\",\"\",MAX(IF(ISERROR(AU980:BF980),0,AU980:BF980)))","v":""},"","","","","","","","","","","","","","","","","","","","","","","","","","","","","","","","","","","","","","","","","","","","",""]
[{"$f":"IF(ISBLANK('Control Sheet'!D961),\"\",'Control Sheet'!D961)","v":""},{"$f":"IF(ISBLANK('Control Sheet'!E961),\"\",'Control Sheet'!E961&\" (\"&'Control Sheet'!F961&\")\")","v":""},{"$f":"IF(C$18=1,IF(ISNA(VLOOKUP($A981,INDIRECT(C$20),Abated_col,FALSE)),\"\",VLOOKUP($A981,INDIRECT(C$20),Abated_col,FALSE)),\"\")","v":""},"","","","","","","","","","","",{"$f":"IF(A981=\"\",\"\",SUM(C981:N981))","v":""},{"$f":"IF(A981=\"\",\"\",IF($O$18=12,SUM(C981:N981),AVERAGE(C981:O981)*(12-$O$18)))","v":""},{"$f":"IF(A981=\"\",\"\",IF(P981<=400,\"No\",\"Yes\"))","v":""},{"$f":"IF(A981=\"\",\"\",MURMonthsPop-(COUNTA(C981:N981)-COUNTBLANK(C981:N981)))","v":""},{"$f":"IF(C$18=1,IF(ISNA(VLOOKUP($A981,INDIRECT(C$20),MIS_Count_col,FALSE)),\"\",VLOOKUP($A981,INDIRECT(C$20),MIS_Count_col,FALSE)),\"\")","v":""},{"$f":"IF(D$18=1,IF(ISNA(VLOOKUP($A981,INDIRECT(D$20),MIS_Count_col,FALSE)),\"\",VLOOKUP($A981,INDIRECT(D$20),MIS_Count_col,FALSE)),\"\")","v":""},{"$f":"IF(E$18=1,IF(ISNA(VLOOKUP($A981,INDIRECT(E$20),MIS_Count_col,FALSE)),\"\",VLOOKUP($A981,INDIRECT(E$20),MIS_Count_col,FALSE)),\"\")","v":""},{"$f":"IF(F$18=1,IF(ISNA(VLOOKUP($A981,INDIRECT(F$20),MIS_Count_col,FALSE)),\"\",VLOOKUP($A981,INDIRECT(F$20),MIS_Count_col,FALSE)),\"\")","v":""},{"$f":"IF(G$18=1,IF(ISNA(VLOOKUP($A981,INDIRECT(G$20),MIS_Count_col,FALSE)),\"\",VLOOKUP($A981,INDIRECT(G$20),MIS_Count_col,FALSE)),\"\")","v":""},{"$f":"IF(H$18=1,IF(ISNA(VLOOKUP($A981,INDIRECT(H$20),MIS_Count_col,FALSE)),\"\",VLOOKUP($A981,INDIRECT(H$20),MIS_Count_col,FALSE)),\"\")","v":""},{"$f":"IF(I$18=1,IF(ISNA(VLOOKUP($A981,INDIRECT(I$20),MIS_Count_col,FALSE)),\"\",VLOOKUP($A981,INDIRECT(I$20),MIS_Count_col,FALSE)),\"\")","v":""},{"$f":"IF(J$18=1,IF(ISNA(VLOOKUP($A981,INDIRECT(J$20),MIS_Count_col,FALSE)),\"\",VLOOKUP($A981,INDIRECT(J$20),MIS_Count_col,FALSE)),\"\")","v":""},{"$f":"IF(K$18=1,IF(ISNA(VLOOKUP($A981,INDIRECT(K$20),MIS_Count_col,FALSE)),\"\",VLOOKUP($A981,INDIRECT(K$20),MIS_Count_col,FALSE)),\"\")","v":""},{"$f":"IF(L$18=1,IF(ISNA(VLOOKUP($A981,INDIRECT(L$20),MIS_Count_col,FALSE)),\"\",VLOOKUP($A981,INDIRECT(L$20),MIS_Count_col,FALSE)),\"\")","v":""},{"$f":"IF(M$18=1,IF(ISNA(VLOOKUP($A981,INDIRECT(M$20),MIS_Count_col,FALSE)),\"\",VLOOKUP($A981,INDIRECT(M$20),MIS_Count_col,FALSE)),\"\")","v":""},{"$f":"IF(N$18=1,IF(ISNA(VLOOKUP($A981,INDIRECT(N$20),MIS_Count_col,FALSE)),\"\",VLOOKUP($A981,INDIRECT(N$20),MIS_Count_col,FALSE)),\"\")","v":""},"","","","","","","","","","","","","","","",{"$f":"IF(A981=\"\",\"\",MAX(AH981:AS981))","v":""},{"$f":"IF(C$18=1,IF(ISNA(VLOOKUP($A981,INDIRECT(C$20),LPC_Stat_col,FALSE)),\"\",VLOOKUP($A981,INDIRECT(C$20),LPC_Stat_col,FALSE)),\"\")","v":""},{"$f":"IF(D$18=1,IF(ISNA(VLOOKUP($A981,INDIRECT(D$20),LPC_Stat_col,FALSE)),\"\",VLOOKUP($A981,INDIRECT(D$20),LPC_Stat_col,FALSE)),\"\")","v":""},{"$f":"IF(E$18=1,IF(ISNA(VLOOKUP($A981,INDIRECT(E$20),LPC_Stat_col,FALSE)),\"\",VLOOKUP($A981,INDIRECT(E$20),LPC_Stat_col,FALSE)),\"\")","v":""},{"$f":"IF(F$18=1,IF(ISNA(VLOOKUP($A981,INDIRECT(F$20),LPC_Stat_col,FALSE)),\"\",VLOOKUP($A981,INDIRECT(F$20),LPC_Stat_col,FALSE)),\"\")","v":""},{"$f":"IF(G$18=1,IF(ISNA(VLOOKUP($A981,INDIRECT(G$20),LPC_Stat_col,FALSE)),\"\",VLOOKUP($A981,INDIRECT(G$20),LPC_Stat_col,FALSE)),\"\")","v":""},{"$f":"IF(H$18=1,IF(ISNA(VLOOKUP($A981,INDIRECT(H$20),LPC_Stat_col,FALSE)),\"\",VLOOKUP($A981,INDIRECT(H$20),LPC_Stat_col,FALSE)),\"\")","v":""},{"$f":"IF(I$18=1,IF(ISNA(VLOOKUP($A981,INDIRECT(I$20),LPC_Stat_col,FALSE)),\"\",VLOOKUP($A981,INDIRECT(I$20),LPC_Stat_col,FALSE)),\"\")","v":""},{"$f":"IF(J$18=1,IF(ISNA(VLOOKUP($A981,INDIRECT(J$20),LPC_Stat_col,FALSE)),\"\",VLOOKUP($A981,INDIRECT(J$20),LPC_Stat_col,FALSE)),\"\")","v":""},{"$f":"IF(K$18=1,IF(ISNA(VLOOKUP($A981,INDIRECT(K$20),LPC_Stat_col,FALSE)),\"\",VLOOKUP($A981,INDIRECT(K$20),LPC_Stat_col,FALSE)),\"\")","v":""},{"$f":"IF(L$18=1,IF(ISNA(VLOOKUP($A981,INDIRECT(L$20),LPC_Stat_col,FALSE)),\"\",VLOOKUP($A981,INDIRECT(L$20),LPC_Stat_col,FALSE)),\"\")","v":""},{"$f":"IF(M$18=1,IF(ISNA(VLOOKUP($A981,INDIRECT(M$20),LPC_Stat_col,FALSE)),\"\",VLOOKUP($A981,INDIRECT(M$20),LPC_Stat_col,FALSE)),\"\")","v":""},{"$f":"IF(N$18=1,IF(ISNA(VLOOKUP($A981,INDIRECT(N$20),LPC_Stat_col,FALSE)),\"\",VLOOKUP($A981,INDIRECT(N$20),LPC_Stat_col,FALSE)),\"\")","v":""},{"$f":"IF(A981=\"\",\"\",MAX(IF(ISERROR(AU981:BF981),0,AU981:BF981)))","v":""},{"$f":"IF(C$18=1,IF(ISNA(VLOOKUP($A981,INDIRECT(C$20),LPC_Vol_col,FALSE)),\"\",VLOOKUP($A981,INDIRECT(C$20),LPC_Vol_col,FALSE)),\"\")","v":""},{"$f":"IF(D$18=1,IF(ISNA(VLOOKUP($A981,INDIRECT(D$20),LPC_Vol_col,FALSE)),\"\",VLOOKUP($A981,INDIRECT(D$20),LPC_Vol_col,FALSE)),\"\")","v":""},{"$f":"IF(E$18=1,IF(ISNA(VLOOKUP($A981,INDIRECT(E$20),LPC_Vol_col,FALSE)),\"\",VLOOKUP($A981,INDIRECT(E$20),LPC_Vol_col,FALSE)),\"\")","v":""},{"$f":"IF(F$18=1,IF(ISNA(VLOOKUP($A981,INDIRECT(F$20),LPC_Vol_col,FALSE)),\"\",VLOOKUP($A981,INDIRECT(F$20),LPC_Vol_col,FALSE)),\"\")","v":""},{"$f":"IF(G$18=1,IF(ISNA(VLOOKUP($A981,INDIRECT(G$20),LPC_Vol_col,FALSE)),\"\",VLOOKUP($A981,INDIRECT(G$20),LPC_Vol_col,FALSE)),\"\")","v":""},{"$f":"IF(H$18=1,IF(ISNA(VLOOKUP($A981,INDIRECT(H$20),LPC_Vol_col,FALSE)),\"\",VLOOKUP($A981,INDIRECT(H$20),LPC_Vol_col,FALSE)),\"\")","v":""},{"$f":"IF(I$18=1,IF(ISNA(VLOOKUP($A981,INDIRECT(I$20),LPC_Vol_col,FALSE)),\"\",VLOOKUP($A981,INDIRECT(I$20),LPC_Vol_col,FALSE)),\"\")","v":""},{"$f":"IF(J$18=1,IF(ISNA(VLOOKUP($A981,INDIRECT(J$20),LPC_Vol_col,FALSE)),\"\",VLOOKUP($A981,INDIRECT(J$20),LPC_Vol_col,FALSE)),\"\")","v":""},{"$f":"IF(K$18=1,IF(ISNA(VLOOKUP($A981,INDIRECT(K$20),LPC_Vol_col,FALSE)),\"\",VLOOKUP($A981,INDIRECT(K$20),LPC_Vol_col,FALSE)),\"\")","v":""},{"$f":"IF(L$18=1,IF(ISNA(VLOOKUP($A981,INDIRECT(L$20),LPC_Vol_col,FALSE)),\"\",VLOOKUP($A981,INDIRECT(L$20),LPC_Vol_col,FALSE)),\"\")","v":""},{"$f":"IF(M$18=1,IF(ISNA(VLOOKUP($A981,INDIRECT(M$20),LPC_Vol_col,FALSE)),\"\",VLOOKUP($A981,INDIRECT(M$20),LPC_Vol_col,FALSE)),\"\")","v":""},{"$f":"IF(N$18=1,IF(ISNA(VLOOKUP($A981,INDIRECT(N$20),LPC_Vol_col,FALSE)),\"\",VLOOKUP($A981,INDIRECT(N$20),LPC_Vol_col,FALSE)),\"\")","v":""},{"$f":"IF(A981=\"\",\"\",SUM(BH981:BS981))","v":""},{"$f":"IF(A981=\"\",\"\",MIN(B981:M981))","v":""},{"$f":"IF(A981=\"\",\"\",MAX(B981:M981))","v":""},{"$f":"IF(A981=\"\",\"\",BV981-BU981)","v":""},{"$f":"IF(A981=\"\",\"\",IF(BW981>$BW$11,\"Yes\",\"No\"))","v":""},{"$f":"IF(A981=\"\",\"\",(COUNTA(C981:N981)-COUNTBLANK(C981:N981)))","v":""},{"$f":"IF(A981=\"\",\"\",BY981-COUNTIF(C981:N981,\"=0\"))","v":""},"","","","","","","","","","","","",{"$f":"IF(A981=\"\",\"\",SUM(CA981:CL981))","v":""},"","","","","","","","","","","","",{"$f":"IF(A981=\"\",\"\",SUM(CN981:CY981))","v":""}]
[{"$f":"IF(ISBLANK('Control Sheet'!D962),\"\",'Control Sheet'!D962)","v":""},{"$f":"IF(ISBLANK('Control Sheet'!E962),\"\",'Control Sheet'!E962&\" (\"&'Control Sheet'!F962&\")\")","v":""},"","","","","","","","","","","","","","","","","","","","","","","","","","","","","","","",{"$f":"IF(C982=\"\",\"\",IF(AND(C982=0,S982=1),\"Normal\",IF(AND(C982=1,S982=1),\"Abated-1\",IF(C982=S982,\"Abated-n\",\"Mixed\"))))","v":""},{"$f":"IF(D982=\"\",\"\",IF(AND(D982=0,T982=1),\"Normal\",IF(AND(D982=1,T982=1),\"Abated-1\",IF(D982=T982,\"Abated-n\",\"Mixed\"))))","v":""},{"$f":"IF(E982=\"\",\"\",IF(AND(E982=0,U982=1),\"Normal\",IF(AND(E982=1,U982=1),\"Abated-1\",IF(E982=U982,\"Abated-n\",\"Mixed\"))))","v":""},{"$f":"IF(F982=\"\",\"\",IF(AND(F982=0,V982=1),\"Normal\",IF(AND(F982=1,V982=1),\"Abated-1\",IF(F982=V982,\"Abated-n\",\"Mixed\"))))","v":""},{"$f":"IF(G982=\"\",\"\",IF(AND(G982=0,W982=1),\"Normal\",IF(AND(G982=1,W982=1),\"Abated-1\",IF(G982=W982,\"Abated-n\",\"Mixed\"))))","v":""},{"$f":"IF(H982=\"\",\"\",IF(AND(H982=0,X982=1),\"Normal\",IF(AND(H982=1,X982=1),\"Abated-1\",IF(H982=X982,\"Abated-n\",\"Mixed\"))))","v":""},{"$f":"IF(I982=\"\",\"\",IF(AND(I982=0,Y982=1),\"Normal\",IF(AND(I982=1,Y982=1),\"Abated-1\",IF(I982=Y982,\"Abated-n\",\"Mixed\"))))","v":""},{"$f":"IF(J982=\"\",\"\",IF(AND(J982=0,Z982=1),\"Normal\",IF(AND(J982=1,Z982=1),\"Abated-1\",IF(J982=Z982,\"Abated-n\",\"Mixed\"))))","v":""},{"$f":"IF(K982=\"\",\"\",IF(AND(K982=0,AA982=1),\"Normal\",IF(AND(K982=1,AA982=1),\"Abated-1\",IF(K982=AA982,\"Abated-n\",\"Mixed\"))))","v":""},{"$f":"IF(L982=\"\",\"\",IF(AND(L982=0,AB982=1),\"Normal\",IF(AND(L982=1,AB982=1),\"Abated-1\",IF(L982=AB982,\"Abated-n\",\"Mixed\"))))","v":""},{"$f":"IF(M982=\"\",\"\",IF(AND(M982=0,AC982=1),\"Normal\",IF(AND(M982=1,AC982=1),\"Abated-1\",IF(M982=AC982,\"Abated-n\",\"Mixed\"))))","v":""},{"$f":"IF(N982=\"\",\"\",IF(AND(N982=0,AD982=1),\"Normal\",IF(AND(N982=1,AD982=1),\"Abated-1\",IF(N982=AD982,\"Abated-n\",\"Mixed\"))))","v":""},"","","","","","","","","","","","","",{"$f":"IF(A982=\"\",\"\",MAX(IF(ISERROR(AU982:BF982),0,AU982:BF982)))","v":""},"","","","","","","","","","","","","","","","","","","","","","","","","","","","","","","","","","","","","","","","","","","","",""]
[{"$f":"IF(ISBLANK('Control Sheet'!D963),\"\",'Control Sheet'!D963)","v":""},{"$f":"IF(ISBLANK('Control Sheet'!E963),\"\",'Control Sheet'!E963&\" (\"&'Control Sheet'!F963&\")\")","v":""},"","","","","","","","","","","","","","","","","","","","","","","","","","","","","","","","","","","","","","","","","","","","","","","","","","","","","","","","",{"$f":"IF(A983=\"\",\"\",MAX(IF(ISERROR(AU983:BF983),0,AU983:BF983)))","v":""},"","","","","","","","","","","","","","","","","","","","","","","","","","","","","","","","","","","","","","","","","","","","",""]
[{"$f":"IF(ISBLANK('Control Sheet'!D964),\"\",'Control Sheet'!D964)","v":""},{"$f":"IF(ISBLANK('Control Sheet'!E964),\"\",'Control Sheet'!E964&\" (\"&'Control Sheet'!F964&\")\")","v":""},"","","","","","","","","","","","","","","","","","","","","","","","","","","","","","","","","","","","","","","","","","","","","","","","","","","","","","","","",{"$f":"IF(A984=\"\",\"\",MAX(IF(ISERROR(AU984:BF984),0,AU984:BF984)))","v":""},"","","","","","","","","","","","","","","","","","","","","","","","","","","","","","","","","","","","","","","","","","","","",""]
[{"$f":"IF(ISBLANK('Control Sheet'!D965),\"\",'Control Sheet'!D965)","v":""},{"$f":"IF(ISBLANK('Control Sheet'!E965),\"\",'Control Sheet'!E965&\" (\"&'Control Sheet'!F965&\")\")","v":""},"","","","","","","","","","","","","","","","","","","","","","","","","","","","","","","","","","","","","","","","","","","","","","","","","","","","","","","","",{"$f":"IF(A985=\"\",\"\",MAX(IF(ISERROR(AU985:BF985),0,AU985:BF985)))","v":""},"","","","","","","","","","","","","","","","","","","","","","","","","","","","","","","","","","","","","","","","","","","","",""]
[{"$f":"IF(ISBLANK('Control Sheet'!D966),\"\",'Control Sheet'!D966)","v":""},{"$f":"IF(ISBLANK('Control Sheet'!E966),\"\",'Control Sheet'!E966&\" (\"&'Control Sheet'!F966&\")\")","v":""},"","","","","","","","","","","","","","","","","","","","","","","","","","","","","","","","","","","","","","","","","","","","","","","","","","","","","","","","",{"$f":"IF(A986=\"\",\"\",MAX(IF(ISERROR(AU986:BF986),0,AU986:BF986)))","v":""},"","","","","","","","","","","","","","","","","","","","","","","","","","","","","","","","","","","","","","","","","","","","",""]
[{"$f":"IF(ISBLANK('Control Sheet'!D967),\"\",'Control Sheet'!D967)","v":""},{"$f":"IF(ISBLANK('Control Sheet'!E967),\"\",'Control Sheet'!E967&\" (\"&'Control Sheet'!F967&\")\")","v":""},"","","","","","","","","","","","","","","","","","","","","","","","","","","","","","","","","","","","","","","","","","","","","","","","","","","","","","","","",{"$f":"IF(A987=\"\",\"\",MAX(IF(ISERROR(AU987:BF987),0,AU987:BF987)))","v":""},"","","","","","","","","","","","","","","","","","","","","","","","","","","","","","","","","","","","","","","","","","","","",""]
[{"$f":"IF(ISBLANK('Control Sheet'!D968),\"\",'Control Sheet'!D968)","v":""},{"$f":"IF(ISBLANK('Control Sheet'!E968),\"\",'Control Sheet'!E968&\" (\"&'Control Sheet'!F968&\")\")","v":""},"","","","","","","","","","","","","","","","","","","","","","","","","","","","","","","","","","","","","","","","","","","","","","","","","","","","","","","","",{"$f":"IF(A988=\"\",\"\",MAX(IF(ISERROR(AU988:BF988),0,AU988:BF988)))","v":""},"","","","","","","","","","","","","","","","","","","","","","","","","","","","","","","","","","","","","","","","","","","","",""]
[{"$f":"IF(ISBLANK('Control Sheet'!D969),\"\",'Control Sheet'!D969)","v":""},{"$f":"IF(ISBLANK('Control Sheet'!E969),\"\",'Control Sheet'!E969&\" (\"&'Control Sheet'!F969&\")\")","v":""},"","","","","","","","","","","","","","","","","","","","","","","","","","","","","","","","","","","","","","","","","","","","","","","","","","","","","","","","",{"$f":"IF(A989=\"\",\"\",MAX(IF(ISERROR(AU989:BF989),0,AU989:BF989)))","v":""},"","","","","","","","","","","","","","","","","","","","","","","","","","","","","","","","","","","","","","","","","","","","",""]
[{"$f":"IF(ISBLANK('Control Sheet'!D970),\"\",'Control Sheet'!D970)","v":""},{"$f":"IF(ISBLANK('Control Sheet'!E970),\"\",'Control Sheet'!E970&\" (\"&'Control Sheet'!F970&\")\")","v":""},"","","","","","","","","","","","","","","","","","","","","","","","","","","","","","","","","","","","","","","","","","","","","","","","","","","","","","","","",{"$f":"IF(A990=\"\",\"\",MAX(IF(ISERROR(AU990:BF990),0,AU990:BF990)))","v":""},"","","","","","","","","","","","","","","","","","","","","","","","","","","","","","","","","","","","","","","","","","","","",""]
[{"$f":"IF(ISBLANK('Control Sheet'!D971),\"\",'Control Sheet'!D971)","v":""},{"$f":"IF(ISBLANK('Control Sheet'!E971),\"\",'Control Sheet'!E971&\" (\"&'Control Sheet'!F971&\")\")","v":""},{"$f":"IF(C$18=1,IF(ISNA(VLOOKUP($A991,INDIRECT(C$20),Abated_col,FALSE)),\"\",VLOOKUP($A991,INDIRECT(C$20),Abated_col,FALSE)),\"\")","v":""},"","","","","","","","","","","","","","","","","","","","","","","","","","","","","","","","","","","","","","","","","","","","","","","","","","","","","","","",{"$f":"IF(A991=\"\",\"\",MAX(IF(ISERROR(AU991:BF991),0,AU991:BF991)))","v":""},"","","","","","","","","","","","","","","","","","","","","","","","","",{"$f":"IF(I$18=1,IF(ISNA(VLOOKUP($A991,INDIRECT(I$20),MUR_fee_col,FALSE)),\"\",VLOOKUP($A991,INDIRECT(I$20),MUR_fee_col,FALSE)),\"\")","v":""},"","","","","","","","","","","","",{"$f":"IF(I$18=1,IF(ISNA(VLOOKUP($A991,INDIRECT(I$20),MUR_Fee_adj_col,FALSE)),\"\",VLOOKUP($A991,INDIRECT(I$20),MUR_Fee_adj_col,FALSE)),\"\")","v":""},"","","","","",""]
[{"$f":"IF(ISBLANK('Control Sheet'!D972),\"\",'Control Sheet'!D972)","v":""},{"$f":"IF(ISBLANK('Control Sheet'!E972),\"\",'Control Sheet'!E972&\" (\"&'Control Sheet'!F972&\")\")","v":""},"","","","","","","","","","","","","","","","","","","","","","","","","","","","","","","","","","","","","","","","","","","","","","","","","","","","","","","","",{"$f":"IF(A992=\"\",\"\",MAX(IF(ISERROR(AU992:BF992),0,AU992:BF992)))","v":""},"","","","","","","","","","","","","","","","","","","","","","","","","","","","","","","","","","","","","","","","","","","","",""]
[{"$f":"IF(ISBLANK('Control Sheet'!D973),\"\",'Control Sheet'!D973)","v":""},{"$f":"IF(ISBLANK('Control Sheet'!E973),\"\",'Control Sheet'!E973&\" (\"&'Control Sheet'!F973&\")\")","v":""},"","","","","","","","","","","","","","","","","","","","","","","","","","","","","","","","","","","","","","","","","","","","","","","","","","","","","","","","",{"$f":"IF(A993=\"\",\"\",MAX(IF(ISERROR(AU993:BF993),0,AU993:BF993)))","v":""},"","","","","","","","","","","","","","","","","","","","","","","","","","","","","","","","","","","","","","","","","","","","",""]
[{"$f":"IF(ISBLANK('Control Sheet'!D974),\"\",'Control Sheet'!D974)","v":""},{"$f":"IF(ISBLANK('Control Sheet'!E974),\"\",'Control Sheet'!E974&\" (\"&'Control Sheet'!F974&\")\")","v":""},"","","","","","","","","","","","","","","","","","","","","","","","","","","","","","","","","","","","","","","","","","","","","","","","","","","","","","","","",{"$f":"IF(A994=\"\",\"\",MAX(IF(ISERROR(AU994:BF994),0,AU994:BF994)))","v":""},"","","","","","","","","","","","","","","","","","","","","","","","","","","","","","","","","","","","","","","","","","","","",""]
[{"$f":"IF(ISBLANK('Control Sheet'!D975),\"\",'Control Sheet'!D975)","v":""},{"$f":"IF(ISBLANK('Control Sheet'!E975),\"\",'Control Sheet'!E975&\" (\"&'Control Sheet'!F975&\")\")","v":""},"","","","","","","","","","","","","","","","","","","","","","","","","","","","",{"$f":"IF(A995=\"\",\"\",SUM(S995:AD995))","v":""},{"$f":"IF(OR(A995=\"\",AE995=0),\"\",AE995/(O$18-R995))","v":""},{"$f":"IF(AF995=\"\",\"\",IF(AF995<=1,\"Lower Outlier\",IF(AF995<=2,\"Below Average\",IF(AF995<=3,\"Lower Quartile\",IF(AF995<=4,\"Upper Quartile\",IF(AF995<=5, \"Above Average\", \"Upper Outlier\"))))))","v":""},"","","","","","","","","","","","","","","","","","","","","","","","","",{"$f":"IF(A995=\"\",\"\",MAX(IF(ISERROR(AU995:BF995),0,AU995:BF995)))","v":""},"","","","","","","","","","","","","","","","","","","","","","","","","","","","","","","","","","","","","","","","","","","","",""]
[{"$f":"IF(ISBLANK('Control Sheet'!D976),\"\",'Control Sheet'!D976)","v":""},{"$f":"IF(ISBLANK('Control Sheet'!E976),\"\",'Control Sheet'!E976&\" (\"&'Control Sheet'!F976&\")\")","v":""},"","","","","","","","","","","","","","","","","","","","","","","","","","","","","","","","","","","","","","","","","","","","","","","","","","","","","","","","",{"$f":"IF(A996=\"\",\"\",MAX(IF(ISERROR(AU996:BF996),0,AU996:BF996)))","v":""},"","","","","","","","","","","","","","","","","","","","","","","","","","","","","","","","","","","","","","","","","","","","",""]
[{"$f":"IF(ISBLANK('Control Sheet'!D977),\"\",'Control Sheet'!D977)","v":""},{"$f":"IF(ISBLANK('Control Sheet'!E977),\"\",'Control Sheet'!E977&\" (\"&'Control Sheet'!F977&\")\")","v":""},"","","","","","","","","","","","","","","","","","","","","","","","","","","","","","","","","","","","","","","","","","","","","","","","","","","","","","","","",{"$f":"IF(A997=\"\",\"\",MAX(IF(ISERROR(AU997:BF997),0,AU997:BF997)))","v":""},"","","","","","","","","","","","","","","","","","","","","","","","","","","","","","","","","","","","","","","","","","","","",""]
[{"$f":"IF(ISBLANK('Control Sheet'!D978),\"\",'Control Sheet'!D978)","v":""},{"$f":"IF(ISBLANK('Control Sheet'!E978),\"\",'Control Sheet'!E978&\" (\"&'Control Sheet'!F978&\")\")","v":""},"","","","","","","","","","","","","","","","","","","","","","","","","","","","","","","","","","","","","","","","","","","","","","","","","","","","","","","","",{"$f":"IF(A998=\"\",\"\",MAX(IF(ISERROR(AU998:BF998),0,AU998:BF998)))","v":""},"","","","","","","","","","","","","","","","","","","","","","","","","","","","","","","","","","","","","","","","","","","","",""]
[{"$f":"IF(ISBLANK('Control Sheet'!D979),\"\",'Control Sheet'!D979)","v":""},{"$f":"IF(ISBLANK('Control Sheet'!E979),\"\",'Control Sheet'!E979&\" (\"&'Control Sheet'!F979&\")\")","v":""},"","","","","","","","","","","","","","","","","","","","","","","","","","","","","","","","","","","","","","","","","","","","","","","","","","","","","","","","",{"$f":"IF(A999=\"\",\"\",MAX(IF(ISERROR(AU999:BF999),0,AU999:BF999)))","v":""},"","","","","","","","","","","","","","","","","","","","","","","","","","","","","","","","","","","","","","","","","","","","",""]
[{"$f":"IF(ISBLANK('Control Sheet'!D980),\"\",'Control Sheet'!D980)","v":""},{"$f":"IF(ISBLANK('Control Sheet'!E980),\"\",'Control Sheet'!E980&\" (\"&'Control Sheet'!F980&\")\")","v":""},"","","","","","","","","","","","","","","","","","","","","","","","","","","","","","","","","","","","","","","","","","","","","","","","","","","","","","","","",{"$f":"IF(A1000=\"\",\"\",MAX(IF(ISERROR(AU1000:BF1000),0,AU1000:BF1000)))","v":""},"","","","","","","","","","","","","","","","","","","","","","","","","","","","","","","","","","","","","","","","","","","","",""]
[{"$f":"IF(ISBLANK('Control Sheet'!D981),\"\",'Control Sheet'!D981)","v":""},{"$f":"IF(ISBLANK('Control Sheet'!E981),\"\",'Control Sheet'!E981&\" (\"&'Control Sheet'!F981&\")\")","v":""},{"$f":"IF(C$18=1,IF(ISNA(VLOOKUP($A1001,INDIRECT(C$20),Abated_col,FALSE)),\"\",VLOOKUP($A1001,INDIRECT(C$20),Abated_col,FALSE)),\"\")","v":""},"","","","","","","","","","","","","","","","","","","","","","","","","","","","","","","","","","","","","","","","","","","","","","","","","","","","","","","",{"$f":"IF(A1001=\"\",\"\",MAX(IF(ISERROR(AU1001:BF1001),0,AU1001:BF1001)))","v":""},"","","","","","","","","","","","","","","","","","","","","","","","","","","","","","","","","","","","","","","","","","","","",""]
[{"$f":"IF(ISBLANK('Control Sheet'!D982),\"\",'Control Sheet'!D982)","v":""},{"$f":"IF(ISBLANK('Control Sheet'!E982),\"\",'Control Sheet'!E982&\" (\"&'Control Sheet'!F982&\")\")","v":""},"","","","","","","","","","","","","","","","","","","","","","","","","","","","","","","","","","","","","","","","","","","","","","","","","","","","","","","","",{"$f":"IF(A1002=\"\",\"\",MAX(IF(ISERROR(AU1002:BF1002),0,AU1002:BF1002)))","v":""},"","","","","","","","","","","","","","","","","","","",{"$f":"IF(C$18=1,IF(ISNA(VLOOKUP($A1002,INDIRECT(C$20),MUR_fee_col,FALSE)),\"\",VLOOKUP($A1002,INDIRECT(C$20),MUR_fee_col,FALSE)),\"\")","v":""},"","","","","","","","","","","","",{"$f":"IF(C$18=1,IF(ISNA(VLOOKUP($A1002,INDIRECT(C$20),MUR_Fee_adj_col,FALSE)),\"\",VLOOKUP($A1002,INDIRECT(C$20),MUR_Fee_adj_col,FALSE)),\"\")","v":""},"","","","","","","","","","","",""]
[{"$f":"IF(ISBLANK('Control Sheet'!D983),\"\",'Control Sheet'!D983)","v":""},{"$f":"IF(ISBLANK('Control Sheet'!E983),\"\",'Control Sheet'!E983&\" (\"&'Control Sheet'!F983&\")\")","v":""},"","","","","","","","","","","","","","","","","","","","","","","","","","","","","","","","","","","","","","","","","","","","","","","","","","","","","","","","",{"$f":"IF(A1003=\"\",\"\",MAX(IF(ISERROR(AU1003:BF1003),0,AU1003:BF1003)))","v":""},"","","","","","","","","","","","","","","","","","","","","","","","","","","","","","","","","","","","","","","","","","","","",""]
[{"$f":"IF(ISBLANK('Control Sheet'!D984),\"\",'Control Sheet'!D984)","v":""},{"$f":"IF(ISBLANK('Control Sheet'!E984),\"\",'Control Sheet'!E984&\" (\"&'Control Sheet'!F984&\")\")","v":""},"","","","","","","","","","","","","","","","","","","","","","","","","","","","","","","","","","","","","","","","","","","","","","","","","","","","","","","","",{"$f":"IF(A1004=\"\",\"\",MAX(IF(ISERROR(AU1004:BF1004),0,AU1004:BF1004)))","v":""},"","","","","","","","","","","","","","","","","","","","","","","","","","","","","","","","","","","","","","","","","","","","",""]
[{"$f":"IF(ISBLANK('Control Sheet'!D985),\"\",'Control Sheet'!D985)","v":""},{"$f":"IF(ISBLANK('Control Sheet'!E985),\"\",'Control Sheet'!E985&\" (\"&'Control Sheet'!F985&\")\")","v":""},"","","","","","","","","","","","","","","","","","","","","","","","","","","","","","","","","","","","","","","","","","","","","","","","","","","","","","","","",{"$f":"IF(A1005=\"\",\"\",MAX(IF(ISERROR(AU1005:BF1005),0,AU1005:BF1005)))","v":""},"","","","","","","","","","","","","","","","","","","","","","","","","","","","","","","","","","","","","","","","","","","","",""]
[{"$f":"IF(ISBLANK('Control Sheet'!D986),\"\",'Control Sheet'!D986)","v":""},{"$f":"IF(ISBLANK('Control Sheet'!E986),\"\",'Control Sheet'!E986&\" (\"&'Control Sheet'!F986&\")\")","v":""},"","","","","","","","","","","","","","","","","","","","","","","","","","","","","","","","","","","","","","","","","","","","","","","","","","","","","","","","",{"$f":"IF(A1006=\"\",\"\",MAX(IF(ISERROR(AU1006:BF1006),0,AU1006:BF1006)))","v":""},"","","","","","","","","","","","","","","","","","","","","","","","","","","","","","","","","","","","","","","","","","","","",""]
[{"$f":"IF(ISBLANK('Control Sheet'!D987),\"\",'Control Sheet'!D987)","v":""},{"$f":"IF(ISBLANK('Control Sheet'!E987),\"\",'Control Sheet'!E987&\" (\"&'Control Sheet'!F987&\")\")","v":""},"","","","","","","","","","","","","","","","","","","","","","","","","","","","","","","","","","","","","","","","","","","","","","","","","","","","","","","","",{"$f":"IF(A1007=\"\",\"\",MAX(IF(ISERROR(AU1007:BF1007),0,AU1007:BF1007)))","v":""},"","","","","","","","","","","","","","","","","","","","","","","","","","","","","","","","","","","","","","","","","","","","",""]
[{"$f":"IF(ISBLANK('Control Sheet'!D988),\"\",'Control Sheet'!D988)","v":""},{"$f":"IF(ISBLANK('Control Sheet'!E988),\"\",'Control Sheet'!E988&\" (\"&'Control Sheet'!F988&\")\")","v":""},"","","","","","","","","","","","","","","","","","","","","","","","","","","","","","","","","","","","","","","","","","","","","","","","","","","","","","","","",{"$f":"IF(A1008=\"\",\"\",MAX(IF(ISERROR(AU1008:BF1008),0,AU1008:BF1008)))","v":""},"","","","","","","","","","","","","","","","","","","","","","","","","","","","","","","","","","","","","","","","","","","","",""]
[{"$f":"IF(ISBLANK('Control Sheet'!D989),\"\",'Control Sheet'!D989)","v":""},{"$f":"IF(ISBLANK('Control Sheet'!E989),\"\",'Control Sheet'!E989&\" (\"&'Control Sheet'!F989&\")\")","v":""},"","","","","","","","","","","","","","","","","","","","","","","","","","","","","","","","","","","","","","","","","","","","","","","","","","","","","","","","",{"$f":"IF(A1009=\"\",\"\",MAX(IF(ISERROR(AU1009:BF1009),0,AU1009:BF1009)))","v":""},"","","","","","","","","","","","","","","","","","","","","","","","","","","","","","","","","","","","","","","","","","","","",""]
[{"$f":"IF(ISBLANK('Control Sheet'!D990),\"\",'Control Sheet'!D990)","v":""},{"$f":"IF(ISBLANK('Control Sheet'!E990),\"\",'Control Sheet'!E990&\" (\"&'Control Sheet'!F990&\")\")","v":""},"","","","","","","","","","","","","","","","","","","","","","","","","","","","","","","","","","","","","","","","","","","","","","","","","","","","","","","","",{"$f":"IF(A1010=\"\",\"\",MAX(IF(ISERROR(AU1010:BF1010),0,AU1010:BF1010)))","v":""},"","","","","","","","","","","","","","","","","","","","","","","","","","","","","","","","","","","","","","","","","","","","",""]
[{"$f":"IF(ISBLANK('Control Sheet'!D991),\"\",'Control Sheet'!D991)","v":""},{"$f":"IF(ISBLANK('Control Sheet'!E991),\"\",'Control Sheet'!E991&\" (\"&'Control Sheet'!F991&\")\")","v":""},{"$f":"IF(C$18=1,IF(ISNA(VLOOKUP($A1011,INDIRECT(C$20),Abated_col,FALSE)),\"\",VLOOKUP($A1011,INDIRECT(C$20),Abated_col,FALSE)),\"\")","v":""},"","","","","","","","","","","","","","","","","","","","","","","","","","","","","","","","","","","","","","","","","","","","","","","","","","","","","","","",{"$f":"IF(A1011=\"\",\"\",MAX(IF(ISERROR(AU1011:BF1011),0,AU1011:BF1011)))","v":""},"","","","","","","","","","","","","","","","","","","","","","","","","","","","","","","","","","","","","","","","","","","","",""]
[{"$f":"IF(ISBLANK('Control Sheet'!D992),\"\",'Control Sheet'!D992)","v":""},{"$f":"IF(ISBLANK('Control Sheet'!E992),\"\",'Control Sheet'!E992&\" (\"&'Control Sheet'!F992&\")\")","v":""},"","","","","","","","","","","","","","","","","","","","","","","","","","","","","","","","","","","","","","","","","","","","","","","","","","","","","","","","",{"$f":"IF(A1012=\"\",\"\",MAX(IF(ISERROR(AU1012:BF1012),0,AU1012:BF1012)))","v":""},"","","","","","","","","","","","","","","","","","","","","","","","","","","","","","","","","","","","","","","","","","","","",""]
[{"$f":"IF(ISBLANK('Control Sheet'!D993),\"\",'Control Sheet'!D993)","v":""},{"$f":"IF(ISBLANK('Control Sheet'!E993),\"\",'Control Sheet'!E993&\" (\"&'Control Sheet'!F993&\")\")","v":""},"","","","","","","","","","","","","","","","","","","","","","","","","","","","","","","","","","","","","","","","","","","","","","","","","","","","","","","","",{"$f":"IF(A1013=\"\",\"\",MAX(IF(ISERROR(AU1013:BF1013),0,AU1013:BF1013)))","v":""},"","","","","","","","","","","","","","","","","","","","","","","","","","","","","","","","","","","","","","","","","","","","",""]
[{"$f":"IF(ISBLANK('Control Sheet'!D994),\"\",'Control Sheet'!D994)","v":""},{"$f":"IF(ISBLANK('Control Sheet'!E994),\"\",'Control Sheet'!E994&\" (\"&'Control Sheet'!F994&\")\")","v":""},"","","","","","","","","","","","","","","","","","","","","","","","","","","","","","","","","","","","","","","","","","","","","","","","","","","","","","","","",{"$f":"IF(A1014=\"\",\"\",MAX(IF(ISERROR(AU1014:BF1014),0,AU1014:BF1014)))","v":""},"","","","","","","","","","","","","","","","","","","","","","","","","","","","","","","","","","","","","","","","","","","","",""]
[{"$f":"IF(ISBLANK('Control Sheet'!D995),\"\",'Control Sheet'!D995)","v":""},{"$f":"IF(ISBLANK('Control Sheet'!E995),\"\",'Control Sheet'!E995&\" (\"&'Control Sheet'!F995&\")\")","v":""},"","","","","","","","","","","","","","","","","","","","","","","","","","","","","","","","","","","","","","","","","","","","","","","","","","","","","","","","",{"$f":"IF(A1015=\"\",\"\",MAX(IF(ISERROR(AU1015:BF1015),0,AU1015:BF1015)))","v":""},"","","","","","","","","","","","","","","","","","","","","","","","","","","","","","","","","","","","","","","","","","","","",""]
[{"$f":"IF(ISBLANK('Control Sheet'!D996),\"\",'Control Sheet'!D996)","v":""},{"$f":"IF(ISBLANK('Control Sheet'!E996),\"\",'Control Sheet'!E996&\" (\"&'Control Sheet'!F996&\")\")","v":""},"","","","","","","","","","","","","","","","","","","","","","","","","","","","","","","","","","","","","","","","","","","","","","","","","","","","","","","","",{"$f":"IF(A1016=\"\",\"\",MAX(IF(ISERROR(AU1016:BF1016),0,AU1016:BF1016)))","v":""},"","","","","","","","","","","","","","","","","","","","","","","","","","","","","","","","","","","","","","","","","","","","",""]
[{"$f":"IF(ISBLANK('Control Sheet'!D997),\"\",'Control Sheet'!D997)","v":""},{"$f":"IF(ISBLANK('Control Sheet'!E997),\"\",'Control Sheet'!E997&\" (\"&'Control Sheet'!F997&\")\")","v":""},"","","","","","","","","","","","","","","","","","","","","","","","","","","","","","",{"$f":"IF(AF1017=\"\",\"\",IF(AF1017<=1,\"Lower Outlier\",IF(AF1017<=2,\"Below Average\",IF(AF1017<=3,\"Lower Quartile\",IF(AF1017<=4,\"Upper Quartile\",IF(AF1017<=5, \"Above Average\", \"Upper Outlier\"))))))","v":""},"","","","","","","","","","","","","","","","","","","","","","","","","",{"$f":"IF(A1017=\"\",\"\",MAX(IF(ISERROR(AU1017:BF1017),0,AU1017:BF1017)))","v":""},"","","","","","","","","","","","","","","","","","","","","","","","","","","","","","","","","","","","","","","","","","","","",""]
[{"$f":"IF(ISBLANK('Control Sheet'!D998),\"\",'Control Sheet'!D998)","v":""},{"$f":"IF(ISBLANK('Control Sheet'!E998),\"\",'Control Sheet'!E998&\" (\"&'Control Sheet'!F998&\")\")","v":""},"","","","","","","","","","","","","","","","","","","","","","","","","","","","","","",{"$f":"IF(AF1018=\"\",\"\",IF(AF1018<=1,\"Lower Outlier\",IF(AF1018<=2,\"Below Average\",IF(AF1018<=3,\"Lower Quartile\",IF(AF1018<=4,\"Upper Quartile\",IF(AF1018<=5, \"Above Average\", \"Upper Outlier\"))))))","v":""},"","","","","","","","","","","","","","","","","","","","","","","","","",{"$f":"IF(A1018=\"\",\"\",MAX(IF(ISERROR(AU1018:BF1018),0,AU1018:BF1018)))","v":""},"","","","","","","","","","","","","","","","","","","","","","","","","","","","","","","","","","","","","","","","","","","","",""]

{"sheet":"Abated Analysis","index":41,"n_rows":38,"n_cols":20,"rows_kept":38,"cut":false,"hidden":true,"merged":[[4,3,4,4],[5,3,5,4],[3,3,3,4]]}
[]
[]
[null,null,"Indicator",null,"Activity"]
[null,null,"Metric",{"$f":"'Abated Workings'!C1","v":"Abated"}]
[null,null,"Area Team",{"$f":"MID('Control Sheet'!L1,1,FIND(\"|\",'Control Sheet'!L1,1)-1)","v":{"$error":"#VALUE!"}}]
[null,null,null,{"$f":"MID('Control Sheet'!L1,FIND(\"|\",'Control Sheet'!L1,1)+1,10000)","v":{"$error":"#VALUE!"}}]
[null,null,"Total Contractors within Area Team",null,{"$f":"'Abated Workings'!I1","v":1}]
[null,null,"Total Abated Entries",null,{"$f":"'Abated Workings'!O3","v":0}]
[null,null,"Contractors with Abated Data",null,{"$f":"'Abated Workings'!O2","v":0}]
[]
[]
[]
[]
[]
[]
[]
[]
[]
[]
[]
[]
[]
[]
[]
[]
[]
[]
[]
[]
[]
[]
[null,null,null,null,null,null,"Contractor","Name","MIS_Apr","MIS_May","MIS_Jun","MIS_Jul","MIS_Aug","MIS_Sep","MIS_Oct","MIS_Nov","MIS_Dec","MIS_Jan","MIS_Feb","MIS_Mar"]
[null,null,null,null,null,null,"Blank"]
[null,null,"Mis Month","(All)",null,null,null,null,null,null,null,null,null,null,null,null,null,null,null,"Normal"]
[null,null,null,null,null,null,"Averages"]
[null,null,"Contractor","Abated Entries"]
[null,null,"(blank)"]
[null,null,"Grand Total"]

{"sheet":"Abated Dynamic","index":42,"n_rows":3,"n_cols":8,"rows_kept":3,"cut":false,"hidden":true,"merged":[]}
["MIS Month","Count of Contractor",null,"Dispensed Month","Count of Contractor",null,"Dispensed Month","Count of Mis Month"]
["(blank)",null,null,"(blank)",null,null,"(blank)",1]
["Grand Total",null,null,"Grand Total",null,null,"Grand Total",1]

{"sheet":"Sheet1","index":43,"n_rows":0,"n_cols":0,"rows_kept":0,"cut":false,"hidden":true,"merged":[]}