{"text_format":"1","workbook":"xlsx","n_sheets":3,"sheets":["Add and Annualise","Add and Annualise Calcs","Add and Annualise Total Days"],"not_rendered":{"charts":0,"images":1,"macros":1,"external_links":0,"defined_names":1,"comments":1,"pivot_tables":0},"unopened":[],"bounds":{"document_bytes":16777216,"sheet_cells":100000,"rows_first":2000,"rows_last":500,"rows_between":2000,"halvings":0,"cell_chars":16384,"cell_head_chars":4096},"cells_cut":0,"cells_raw":0,"read":"whole","date_system":"1900"}

{"sheet":"Add and Annualise","index":0,"n_rows":25,"n_cols":9,"rows_kept":25,"cut":false,"hidden":false,"merged":[[0,1,0,7],[2,1,2,7],[24,7,24,8],[7,6,7,7],[9,6,9,7],[22,7,22,8],[23,7,23,8]]}
[null,"NHS Pension Scheme annualisation calculator 2020/2021"]
[]
[null,"Please only enter details of 2015 Scheme membership"]
[]
[null,"Period (YE)",2021,{"$f":"IF(C5=\"\",\"\",DATE(C5-1,4,1))","v":"2020-04-01"},{"$f":"IF(C5=\"\",\"\",DATE(C5,3,31))","v":"2021-03-31"}]
[]
[null,"Type","Start Date","End Date","Pensionable Pay"]
[null,null,null,null,null,null,{"$f":"IF('Add and Annualise Total Days'!F3<365,\"Annualised Pay\",\"Total Pay\")","v":"Annualised Pay"},null,{"$f":"'Add and Annualise Calcs'!H2","v":""}]
[]
[null,null,null,null,null,null,"Contribution Rate",null,{"$f":"IF(I8=0,\"\",VLOOKUP(I8,G12:I19,3,TRUE))","v":{"$error":"#N/A"}}]
[]
[null,null,null,null,null,null,"From","To","Tier"]
[null,null,null,null,null,null,0,15431.99,0.05]
[null,null,null,null,null,null,15432,21477.99,5.6000000000000001E-2]
[null,null,null,null,null,null,21478,26823.99,7.0999999999999994E-2]
[null,null,null,null,null,null,26824,47845.99,9.2999999999999999E-2]
[null,null,null,null,null,null,47846,70630.990000000005,0.125]
[null,null,null,null,null,null,70631,111376.99,0.13500000000000001]
[null,null,null,null,null,null,111377,"and over",0.14499999999999999]
[]
[]
[]
[null,null,null,null,null,null,"Name"]
[null,null,null,null,null,null,"SD Number"]
[null,null,null,null,null,null,"NI Number"]

{"sheet":"Add and Annualise Calcs","index":1,"n_rows":100,"n_cols":8,"rows_kept":100,"cut":false,"hidden":true,"merged":[]}
["Service"]
["Type","Start Date","End Date","Pensionable Pay","Days in Period",null,{"$f":"IF('Add and Annualise Total Days'!F3<365,\"Total Annualised Pay\",\"Total Pay - Annualisation not Required\")","v":"Total Annualised Pay"},{"$f":"IF(A3=\"\",\"\",IF(G2=\"Total Annualised Pay\",(SUM(D:D)/'Add and Annualise Total Days'!F3)*365,IF(G2=\"Total Pay - Annualisation not Required\",SUM(D:D),\"\")))","v":""}]
[null,null,null,null,{"$f":"IF(C3=\"\",\"\",IF(AND(MONTH(B3)=2,DAY(B3)=29),C3-B3-SUMPRODUCT((MONTH(ROW( INDIRECT(B3&\":\"&C3)))=2)*(DAY(ROW( INDIRECT(B3&\":\"&C3)))=29))+2,C3-B3-SUMPRODUCT((MONTH(ROW( INDIRECT(B3&\":\"&C3)))=2)*(DAY(ROW( INDIRECT(B3&\":\"&C3)))=29))+1))","v":""}]
[null,null,null,null,""]
[null,null,null,null,""]
[null,null,null,null,""]
[null,null,null,null,""]
[null,null,null,null,""]
[null,null,null,null,""]
[null,null,null,null,""]
[null,null,null,null,""]
[null,null,null,null,""]
[null,null,null,null,""]
[null,null,null,null,""]
[null,null,null,null,""]
[null,null,null,null,""]
[null,null,null,null,""]
[null,null,null,null,""]
[null,null,null,null,""]
[null,null,null,null,""]
[null,null,null,null,""]
[null,null,null,null,""]
[null,null,null,null,""]
[null,null,null,null,""]
[null,null,null,null,""]
[null,null,null,null,""]
[null,null,null,null,""]
[null,null,null,null,""]
[null,null,null,null,""]
[null,null,null,null,""]
[null,null,null,null,""]
[null,null,null,null,""]
[null,null,null,null,""]
[null,null,null,null,""]
[null,null,null,null,{"$f":"IF(C35=\"\",\"\",IF(AND(MONTH(B35)=2,DAY(B35)=29),C35-B35-SUMPRODUCT((MONTH(ROW( INDIRECT(B35&\":\"&C35)))=2)*(DAY(ROW( INDIRECT(B35&\":\"&C35)))=29))+2,C35-B35-SUMPRODUCT((MONTH(ROW( INDIRECT(B35&\":\"&C35)))=2)*(DAY(ROW( INDIRECT(B35&\":\"&C35)))=29))+1))","v":""}]
[null,null,null,null,""]
[null,null,null,null,""]
[null,null,null,null,""]
[null,null,null,null,""]
[null,null,null,null,""]
[null,null,null,null,""]
[null,null,null,null,""]
[null,null,null,null,""]
[null,null,null,null,""]
[null,null,null,null,""]
[null,null,null,null,""]
[null,null,null,null,""]
[null,null,null,null,""]
[null,null,null,null,""]
[null,null,null,null,""]
[null,null,null,null,""]
[null,null,null,null,""]
[null,null,null,null,""]
[null,null,null,null,""]
[null,null,null,null,""]
[null,null,null,null,""]
[null,null,null,null,""]
[null,null,null,null,""]
[null,null,null,null,""]
[null,null,null,null,""]
[null,null,null,null,""]
[null,null,null,null,""]
[null,null,null,null,""]
[null,null,null,null,""]
[null,null,null,null,""]
[null,null,null,null,""]
[null,null,null,null,{"$f":"IF(C67=\"\",\"\",IF(AND(MONTH(B67)=2,DAY(B67)=29),C67-B67-SUMPRODUCT((MONTH(ROW( INDIRECT(B67&\":\"&C67)))=2)*(DAY(ROW( INDIRECT(B67&\":\"&C67)))=29))+2,C67-B67-SUMPRODUCT((MONTH(ROW( INDIRECT(B67&\":\"&C67)))=2)*(DAY(ROW( INDIRECT(B67&\":\"&C67)))=29))+1))","v":""}]
[null,null,null,null,""]
[null,null,null,null,""]
[null,null,null,null,""]
[null,null,null,null,""]
[null,null,null,null,""]
[null,null,null,null,""]
[null,null,null,null,""]
[null,null,null,null,""]
[null,null,null,null,""]
[null,null,null,null,""]
[null,null,null,null,""]
[null,null,null,null,""]
[null,null,null,null,""]
[null,null,null,null,""]
[null,null,null,null,""]
[null,null,null,null,""]
[null,null,null,null,""]
[null,null,null,null,""]
[null,null,null,null,""]
[null,null,null,null,""]
[null,null,null,null,""]
[null,null,null,null,""]
[null,null,null,null,""]
[null,null,null,null,""]
[null,null,null,null,""]
[null,null,null,null,""]
[null,null,null,null,""]
[null,null,null,null,""]
[null,null,null,null,""]
[null,null,null,null,""]
[null,null,null,null,""]
[null,null,null,null,""]
[null,null,null,null,""]

{"sheet":"Add and Annualise Total Days","index":2,"n_rows":102,"n_cols":373,"rows_kept":102,"cut":false,"hidden":true,"merged":[]}
["Type","Start Date","End Date",null,"Start 29/02",{"$f":"IFERROR(MATCH(DATE('Add and Annualise'!C5,2,29),B:B,0),\"\")","v":""},null,{"$f":"DATE('Add and Annualise'!$C$5-1,4,1)","v":"2020-04-01"},{"$f":"H1+1","v":"2020-04-02"},"2020-04-03","2020-04-04","2020-04-05","2020-04-06","2020-04-07","2020-04-08","2020-04-09","2020-04-10","2020-04-11","2020-04-12","2020-04-13","2020-04-14","2020-04-15","2020-04-16","2020-04-17","2020-04-18","2020-04-19","2020-04-20","2020-04-21","2020-04-22","2020-04-23","2020-04-24","2020-04-25","2020-04-26","2020-04-27","2020-04-28","2020-04-29","2020-04-30","2020-05-01","2020-05-02","2020-05-03","2020-05-04","2020-05-05","2020-05-06","2020-05-07","2020-05-08","2020-05-09","2020-05-10","2020-05-11","2020-05-12","2020-05-13","2020-05-14","2020-05-15","2020-05-16","2020-05-17","2020-05-18","2020-05-19","2020-05-20","2020-05-21","2020-05-22","2020-05-23","2020-05-24","2020-05-25","2020-05-26","2020-05-27","2020-05-28","2020-05-29","2020-05-30","2020-05-31","2020-06-01","2020-06-02","2020-06-03","2020-06-04",{"$f":"BT1+1","v":"2020-06-05"},"2020-06-06","2020-06-07","2020-06-08","2020-06-09","2020-06-10","2020-06-11","2020-06-12","2020-06-13","2020-06-14","2020-06-15","2020-06-16","2020-06-17","2020-06-18","2020-06-19","2020-06-20","2020-06-21","2020-06-22","2020-06-23","2020-06-24","2020-06-25","2020-06-26","2020-06-27","2020-06-28","2020-06-29","2020-06-30","2020-07-01","2020-07-02","2020-07-03","2020-07-04","2020-07-05","2020-07-06","2020-07-07","2020-07-08","2020-07-09","2020-07-10","2020-07-11","2020-07-12","2020-07-13","2020-07-14","2020-07-15","2020-07-16","2020-07-17","2020-07-18","2020-07-19","2020-07-20","2020-07-21","2020-07-22","2020-07-23","2020-07-24","2020-07-25","2020-07-26","2020-07-27","2020-07-28","2020-07-29","2020-07-30","2020-07-31","2020-08-01","2020-08-02","2020-08-03","2020-08-04","2020-08-05","2020-08-06","2020-08-07",{"$f":"EF1+1","v":"2020-08-08"},"2020-08-09","2020-08-10","2020-08-11","2020-08-12","2020-08-13","2020-08-14","2020-08-15","2020-08-16","2020-08-17","2020-08-18","2020-08-19","2020-08-20","2020-08-21","2020-08-22","2020-08-23","2020-08-24","2020-08-25","2020-08-26","2020-08-27","2020-08-28","2020-08-29","2020-08-30","2020-08-31","2020-09-01","2020-09-02","2020-09-03","2020-09-04","2020-09-05","2020-09-06","2020-09-07","2020-09-08","2020-09-09","2020-09-10","2020-09-11","2020-09-12","2020-09-13","2020-09-14","2020-09-15","2020-09-16","2020-09-17","2020-09-18","2020-09-19","2020-09-20","2020-09-21","2020-09-22","2020-09-23","2020-09-24","2020-09-25","2020-09-26","2020-09-27","2020-09-28","2020-09-29","2020-09-30","2020-10-01","2020-10-02","2020-10-03","2020-10-04","2020-10-05","2020-10-06","2020-10-07","2020-10-08","2020-10-09","2020-10-10",{"$f":"GR1+1","v":"2020-10-11"},"2020-10-12","2020-10-13","2020-10-14","2020-10-15","2020-10-16","2020-10-17","2020-10-18","2020-10-19","2020-10-20","2020-10-21","2020-10-22","2020-10-23","2020-10-24","2020-10-25","2020-10-26","2020-10-27","2020-10-28","2020-10-29","2020-10-30","2020-10-31","2020-11-01","2020-11-02","2020-11-03","2020-11-04","2020-11-05","2020-11-06","2020-11-07","2020-11-08","2020-11-09","2020-11-10","2020-11-11","2020-11-12","2020-11-13","2020-11-14","2020-11-15","2020-11-16","2020-11-17","2020-11-18","2020-11-19","2020-11-20","2020-11-21","2020-11-22","2020-11-23","2020-11-24","2020-11-25","2020-11-26","2020-11-27","2020-11-28","2020-11-29","2020-11-30","2020-12-01","2020-12-02","2020-12-03","2020-12-04","2020-12-05","2020-12-06","2020-12-07","2020-12-08","2020-12-09","2020-12-10","2020-12-11","2020-12-12","2020-12-13",{"$f":"JD1+1","v":"2020-12-14"},"2020-12-15","2020-12-16","2020-12-17","2020-12-18","2020-12-19","2020-12-20","2020-12-21","2020-12-22","2020-12-23","2020-12-24","2020-12-25","2020-12-26","2020-12-27","2020-12-28","2020-12-29","2020-12-30","2020-12-31","2021-01-01","2021-01-02","2021-01-03","2021-01-04","2021-01-05","2021-01-06","2021-01-07","2021-01-08","2021-01-09","2021-01-10","2021-01-11","2021-01-12","2021-01-13","2021-01-14","2021-01-15","2021-01-16","2021-01-17","2021-01-18","2021-01-19","2021-01-20","2021-01-21","2021-01-22","2021-01-23","2021-01-24","2021-01-25","2021-01-26","2021-01-27","2021-01-28","2021-01-29","2021-01-30","2021-01-31","2021-02-01","2021-02-02","2021-02-03","2021-02-04","2021-02-05","2021-02-06","2021-02-07","2021-02-08","2021-02-09","2021-02-10","2021-02-11","2021-02-12","2021-02-13","2021-02-14","2021-02-15",{"$f":"LP1+1","v":"2021-02-16"},"2021-02-17","2021-02-18","2021-02-19","2021-02-20","2021-02-21","2021-02-22","2021-02-23","2021-02-24","2021-02-25","2021-02-26","2021-02-27","2021-02-28",{"$f":"IF(OR(F1<>\"\",F2<>\"\"),MC1+1,DATE('Add and Annualise'!C5,3,1))","v":"2021-03-01"},{"$f":"MD1+1","v":"2021-03-02"},"2021-03-03","2021-03-04","2021-03-05","2021-03-06","2021-03-07","2021-03-08","2021-03-09","2021-03-10","2021-03-11","2021-03-12","2021-03-13","2021-03-14","2021-03-15","2021-03-16","2021-03-17","2021-03-18","2021-03-19","2021-03-20","2021-03-21","2021-03-22","2021-03-23","2021-03-24","2021-03-25","2021-03-26","2021-03-27","2021-03-28","2021-03-29","2021-03-30","2021-03-31",{"$f":"IF(AND(MONTH(MD1)=2,DAY(MD1)=29),NH1+1,\"\")","v":""}]
[null,null,null,null,"End 29/02",{"$f":"IFERROR(MATCH(DATE('Add and Annualise'!C5,2,29),C:C,0),\"\")","v":""},null,{"$f":"IF(AND($H$1>=B2,$H$1<=C2),1,\"\")","v":""},{"$f":"IF(AND($I$1>=B2,$I$1<=C2),1,\"\")","v":""},{"$f":"IF(AND($J$1>=B2,$J$1<=C2),1,\"\")","v":""},{"$f":"IF(AND($K$1>=B2,$K$1<=C2),1,\"\")","v":""},{"$f":"IF(AND($L$1>=B2,$L$1<=C2),1,\"\")","v":""},{"$f":"IF(AND($M$1>=B2,$M$1<=C2),1,\"\")","v":""},{"$f":"IF(AND($N$1>=B2,$N$1<=C2),1,\"\")","v":""},{"$f":"IF(AND($O$1>=B2,$O$1<=C2),1,\"\")","v":""},{"$f":"IF(AND($P$1>=B2,$P$1<=C2),1,\"\")","v":""},{"$f":"IF(AND($Q$1>=B2,$Q$1<=C2),1,\"\")","v":""},{"$f":"IF(AND($R$1>=B2,$R$1<=C2),1,\"\")","v":""},{"$f":"IF(AND($S$1>=B2,$S$1<=C2),1,\"\")","v":""},{"$f":"IF(AND($T$1>=B2,$T$1<=C2),1,\"\")","v":""},{"$f":"IF(AND($U$1>=B2,$U$1<=C2),1,\"\")","v":""},{"$f":"IF(AND($V$1>=B2,$V$1<=C2),1,\"\")","v":""},{"$f":"IF(AND($W$1>=B2,$W$1<=C2),1,\"\")","v":""},{"$f":"IF(AND($X$1>=B2,$X$1<=C2),1,\"\")","v":""},{"$f":"IF(AND($Y$1>=B2,$Y$1<=C2),1,\"\")","v":""},{"$f":"IF(AND($Z$1>=B2,$Z$1<=C2),1,\"\")","v":""},{"$f":"IF(AND($AA$1>=B2,$AA$1<=C2),1,\"\")","v":""},{"$f":"IF(AND($AB$1>=B2,$AB$1<=C2),1,\"\")","v":""},{"$f":"IF(AND($AC$1>=B2,$AC$1<=C2),1,\"\")","v":""},{"$f":"IF(AND($AD$1>=B2,$AD$1<=C2),1,\"\")","v":""},{"$f":"IF(AND($AE$1>=B2,$AE$1<=C2),1,\"\")","v":""},{"$f":"IF(AND($AF$1>=B2,$AF$1<=C2),1,\"\")","v":""},{"$f":"IF(AND($AG$1>=B2,$AG$1<=C2),1,\"\")","v":""},{"$f":"IF(AND($AH$1>=B2,$AH$1<=C2),1,\"\")","v":""},{"$f":"IF(AND($AI$1>=B2,$AI$1<=C2),1,\"\")","v":""},{"$f":"IF(AND($AJ$1>=B2,$AJ$1<=C2),1,\"\")","v":""},{"$f":"IF(AND($AK$1>=B2,$AK$1<=C2),1,\"\")","v":""},{"$f":"IF(AND($AL$1>=B2,$AL$1<=C2),1,\"\")","v":""},{"$f":"IF(AND($AM$1>=B2,$AM$1<=C2),1,\"\")","v":""},{"$f":"IF(AND($AN$1>=B2,$AN$1<=C2),1,\"\")","v":""},{"$f":"IF(AND($AO$1>=B2,$AO$1<=C2),1,\"\")","v":""},{"$f":"IF(AND($AP$1>=B2,$AP$1<=C2),1,\"\")","v":""},{"$f":"IF(AND($AQ$1>=B2,$AQ$1<=C2),1,\"\")","v":""},{"$f":"IF(AND($AR$1>=B2,$AR$1<=C2),1,\"\")","v":""},{"$f":"IF(AND($AS$1>=B2,$AS$1<=C2),1,\"\")","v":""},{"$f":"IF(AND($AT$1>=B2,$AT$1<=C2),1,\"\")","v":""},{"$f":"IF(AND($AU$1>=B2,$AU$1<=C2),1,\"\")","v":""},{"$f":"IF(AND($AV$1>=B2,$AV$1<=C2),1,\"\")","v":""},{"$f":"IF(AND($AW$1>=B2,$AW$1<=C2),1,\"\")","v":""},{"$f":"IF(AND($AX$1>=B2,$AX$1<=C2),1,\"\")","v":""},{"$f":"IF(AND($AY$1>=B2,$AY$1<=C2),1,\"\")","v":""},{"$f":"IF(AND($AZ$1>=B2,$AZ$1<=C2),1,\"\")","v":""},{"$f":"IF(AND($BA$1>=B2,$BA$1<=C2),1,\"\")","v":""},{"$f":"IF(AND($BB$1>=B2,$BB$1<=C2),1,\"\")","v":""},{"$f":"IF(AND($BC$1>=B2,$BC$1<=C2),1,\"\")","v":""},{"$f":"IF(AND($BD$1>=B2,$BD$1<=C2),1,\"\")","v":""},{"$f":"IF(AND($BE$1>=B2,$BE$1<=C2),1,\"\")","v":""},{"$f":"IF(AND($BF$1>=B2,$BF$1<=C2),1,\"\")","v":""},{"$f":"IF(AND($BG$1>=B2,$BG$1<=C2),1,\"\")","v":""},{"$f":"IF(AND($BH$1>=B2,$BH$1<=C2),1,\"\")","v":""},{"$f":"IF(AND($BI$1>=B2,$BI$1<=C2),1,\"\")","v":""},{"$f":"IF(AND($BJ$1>=B2,$BJ$1<=C2),1,\"\")","v":""},{"$f":"IF(AND($BK$1>=B2,$BK$1<=C2),1,\"\")","v":""},{"$f":"IF(AND($BL$1>=B2,$BL$1<=C2),1,\"\")","v":""},{"$f":"IF(AND($BM$1>=B2,$BM$1<=C2),1,\"\")","v":""},{"$f":"IF(AND($BN$1>=B2,$BN$1<=C2),1,\"\")","v":""},{"$f":"IF(AND($BO$1>=B2,$BO$1<=C2),1,\"\")","v":""},{"$f":"IF(AND($BP$1>=B2,$BP$1<=C2),1,\"\")","v":""},{"$f":"IF(AND($BQ$1>=B2,$BQ$1<=C2),1,\"\")","v":""},{"$f":"IF(AND($BR$1>=B2,$BR$1<=C2),1,\"\")","v":""},{"$f":"IF(AND($BS$1>=B2,$BS$1<=C2),1,\"\")","v":""},{"$f":"IF(AND($BT$1>=B2,$BT$1<=C2),1,\"\")","v":""},{"$f":"IF(AND($BU$1>=B2,$BU$1<=C2),1,\"\")","v":""},{"$f":"IF(AND($BV$1>=B2,$BV$1<=C2),1,\"\")","v":""},{"$f":"IF(AND($BW$1>=B2,$BW$1<=C2),1,\"\")","v":""},{"$f":"IF(AND($BX$1>=B2,$BX$1<=C2),1,\"\")","v":""},{"$f":"IF(AND($BY$1>=B2,$BY$1<=C2),1,\"\")","v":""},{"$f":"IF(AND($BZ$1>=B2,$BZ$1<=C2),1,\"\")","v":""},{"$f":"IF(AND($CA$1>=B2,$CA$1<=C2),1,\"\")","v":""},{"$f":"IF(AND($CB$1>=B2,$CB$1<=C2),1,\"\")","v":""},{"$f":"IF(AND($CC$1>=B2,$CC$1<=C2),1,\"\")","v":""},{"$f":"IF(AND($CD$1>=B2,$CD$1<=C2),1,\"\")","v":""},{"$f":"IF(AND($CE$1>=B2,$CE$1<=C2),1,\"\")","v":""},{"$f":"IF(AND($CF$1>=B2,$CF$1<=C2),1,\"\")","v":""},{"$f":"IF(AND($CG$1>=B2,$CG$1<=C2),1,\"\")","v":""},{"$f":"IF(AND($CH$1>=B2,$CH$1<=C2),1,\"\")","v":""},{"$f":"IF(AND($CI$1>=B2,$CI$1<=C2),1,\"\")","v":""},{"$f":"IF(AND($CJ$1>=B2,$CJ$1<=C2),1,\"\")","v":""},{"$f":"IF(AND($CK$1>=B2,$CK$1<=C2),1,\"\")","v":""},{"$f":"IF(AND($CL$1>=B2,$CL$1<=C2),1,\"\")","v":""},{"$f":"IF(AND($CM$1>=B2,$CM$1<=C2),1,\"\")","v":""},{"$f":"IF(AND($CN$1>=B2,$CN$1<=C2),1,\"\")","v":""},{"$f":"IF(AND($CO$1>=B2,$CO$1<=C2),1,\"\")","v":""},{"$f":"IF(AND($CP$1>=B2,$CP$1<=C2),1,\"\")","v":""},{"$f":"IF(AND($CQ$1>=B2,$CQ$1<=C2),1,\"\")","v":""},{"$f":"IF(AND($CR$1>=B2,$CR$1<=C2),1,\"\")","v":""},{"$f":"IF(AND($CS$1>=B2,$CS$1<=C2),1,\"\")","v":""},{"$f":"IF(AND($CT$1>=B2,$CT$1<=C2),1,\"\")","v":""},{"$f":"IF(AND($CU$1>=B2,$CU$1<=C2),1,\"\")","v":""},{"$f":"IF(AND($CV$1>=B2,$CV$1<=C2),1,\"\")","v":""},{"$f":"IF(AND($CW$1>=B2,$CW$1<=C2),1,\"\")","v":""},{"$f":"IF(AND($CX$1>=B2,$CX$1<=C2),1,\"\")","v":""},{"$f":"IF(AND($CY$1>=B2,$CY$1<=C2),1,\"\")","v":""},{"$f":"IF(AND($CZ$1>=B2,$CZ$1<=C2),1,\"\")","v":""},{"$f":"IF(AND($DA$1>=B2,$DA$1<=C2),1,\"\")","v":""},{"$f":"IF(AND($DB$1>=B2,$DB$1<=C2),1,\"\")","v":""},{"$f":"IF(AND($DC$1>=B2,$DC$1<=C2),1,\"\")","v":""},{"$f":"IF(AND($DD$1>=B2,$DD$1<=C2),1,\"\")","v":""},{"$f":"IF(AND($DE$1>=B2,$DE$1<=C2),1,\"\")","v":""},{"$f":"IF(AND($DF$1>=B2,$DF$1<=C2),1,\"\")","v":""},{"$f":"IF(AND($DG$1>=B2,$DG$1<=C2),1,\"\")","v":""},{"$f":"IF(AND($DH$1>=B2,$DH$1<=C2),1,\"\")","v":""},{"$f":"IF(AND($DI$1>=B2,$DI$1<=C2),1,\"\")","v":""},{"$f":"IF(AND($DJ$1>=B2,$DJ$1<=C2),1,\"\")","v":""},{"$f":"IF(AND($DK$1>=B2,$DK$1<=C2),1,\"\")","v":""},{"$f":"IF(AND($DL$1>=B2,$DL$1<=C2),1,\"\")","v":""},{"$f":"IF(AND($DM$1>=B2,$DM$1<=C2),1,\"\")","v":""},{"$f":"IF(AND($DN$1>=B2,$DN$1<=C2),1,\"\")","v":""},{"$f":"IF(AND($DO$1>=B2,$DO$1<=C2),1,\"\")","v":""},{"$f":"IF(AND($DP$1>=B2,$DP$1<=C2),1,\"\")","v":""},{"$f":"IF(AND($DQ$1>=B2,$DQ$1<=C2),1,\"\")","v":""},{"$f":"IF(AND($DR$1>=B2,$DR$1<=C2),1,\"\")","v":""},{"$f":"IF(AND($DS$1>=B2,$DS$1<=C2),1,\"\")","v":""},{"$f":"IF(AND($DT$1>=B2,$DT$1<=C2),1,\"\")","v":""},{"$f":"IF(AND($DU$1>=B2,$DU$1<=C2),1,\"\")","v":""},{"$f":"IF(AND($DV$1>=B2,$DV$1<=C2),1,\"\")","v":""},{"$f":"IF(AND($DW$1>=B2,$DW$1<=C2),1,\"\")","v":""},{"$f":"IF(AND($DX$1>=B2,$DX$1<=C2),1,\"\")","v":""},{"$f":"IF(AND($DY$1>=B2,$DY$1<=C2),1,\"\")","v":""},{"$f":"IF(AND($DZ$1>=B2,$DZ$1<=C2),1,\"\")","v":""},{"$f":"IF(AND($EA$1>=B2,$EA$1<=C2),1,\"\")","v":""},{"$f":"IF(AND($EB$1>=B2,$EB$1<=C2),1,\"\")","v":""},{"$f":"IF(AND($EC$1>=B2,$EC$1<=C2),1,\"\")","v":""},{"$f":"IF(AND($ED$1>=B2,$ED$1<=C2),1,\"\")","v":""},{"$f":"IF(AND($EE$1>=B2,$EE$1<=C2),1,\"\")","v":""},{"$f":"IF(AND($EF$1>=B2,$EF$1<=C2),1,\"\")","v":""},{"$f":"IF(AND($EG$1>=B2,$EG$1<=C2),1,\"\")","v":""},{"$f":"IF(AND($EH$1>=B2,$EH$1<=C2),1,\"\")","v":""},{"$f":"IF(AND($EI$1>=B2,$EI$1<=C2),1,\"\")","v":""},{"$f":"IF(AND($EJ$1>=B2,$EJ$1<=C2),1,\"\")","v":""},{"$f":"IF(AND($EK$1>=B2,$EK$1<=C2),1,\"\")","v":""},{"$f":"IF(AND($EL$1>=B2,$EL$1<=C2),1,\"\")","v":""},{"$f":"IF(AND($EM$1>=B2,$EM$1<=C2),1,\"\")","v":""},{"$f":"IF(AND($EN$1>=B2,$EN$1<=C2),1,\"\")","v":""},{"$f":"IF(AND($EO$1>=B2,$EO$1<=C2),1,\"\")","v":""},{"$f":"IF(AND($EP$1>=B2,$EP$1<=C2),1,\"\")","v":""},{"$f":"IF(AND($EQ$1>=B2,$EQ$1<=C2),1,\"\")","v":""},{"$f":"IF(AND($ER$1>=B2,$ER$1<=C2),1,\"\")","v":""},{"$f":"IF(AND($ES$1>=B2,$ES$1<=C2),1,\"\")","v":""},{"$f":"IF(AND($ET$1>=B2,$ET$1<=C2),1,\"\")","v":""},{"$f":"IF(AND($EU$1>=B2,$EU$1<=C2),1,\"\")","v":""},{"$f":"IF(AND($EV$1>=B2,$EV$1<=C2),1,\"\")","v":""},{"$f":"IF(AND($EW$1>=B2,$EW$1<=C2),1,\"\")","v":""},{"$f":"IF(AND($EX$1>=B2,$EX$1<=C2),1,\"\")","v":""},{"$f":"IF(AND($EY$1>=B2,$EY$1<=C2),1,\"\")","v":""},{"$f":"IF(AND($EZ$1>=B2,$EZ$1<=C2),1,\"\")","v":""},{"$f":"IF(AND($FA$1>=B2,$FA$1<=C2),1,\"\")","v":""},{"$f":"IF(AND($FB$1>=B2,$FB$1<=C2),1,\"\")","v":""},{"$f":"IF(AND($FC$1>=B2,$FC$1<=C2),1,\"\")","v":""},{"$f":"IF(AND($FD$1>=B2,$FD$1<=C2),1,\"\")","v":""},{"$f":"IF(AND($FE$1>=B2,$FE$1<=C2),1,\"\")","v":""},{"$f":"IF(AND($FF$1>=B2,$FF$1<=C2),1,\"\")","v":""},{"$f":"IF(AND($FG$1>=B2,$FG$1<=C2),1,\"\")","v":""},{"$f":"IF(AND($FH$1>=B2,$FH$1<=C2),1,\"\")","v":""},{"$f":"IF(AND($FI$1>=B2,$FI$1<=C2),1,\"\")","v":""},{"$f":"IF(AND($FJ$1>=B2,$FJ$1<=C2),1,\"\")","v":""},{"$f":"IF(AND($FK$1>=B2,$FK$1<=C2),1,\"\")","v":""},{"$f":"IF(AND($FL$1>=B2,$FL$1<=C2),1,\"\")","v":""},{"$f":"IF(AND($FM$1>=B2,$FM$1<=C2),1,\"\")","v":""},{"$f":"IF(AND($FN$1>=B2,$FN$1<=C2),1,\"\")","v":""},{"$f":"IF(AND($FO$1>=B2,$FO$1<=C2),1,\"\")","v":""},{"$f":"IF(AND($FP$1>=B2,$FP$1<=C2),1,\"\")","v":""},{"$f":"IF(AND($FQ$1>=B2,$FQ$1<=C2),1,\"\")","v":""},{"$f":"IF(AND($FR$1>=B2,$FR$1<=C2),1,\"\")","v":""},{"$f":"IF(AND($FS$1>=B2,$FS$1<=C2),1,\"\")","v":""},{"$f":"IF(AND($FT$1>=B2,$FT$1<=C2),1,\"\")","v":""},{"$f":"IF(AND($FU$1>=B2,$FU$1<=C2),1,\"\")","v":""},{"$f":"IF(AND($FV$1>=B2,$FV$1<=C2),1,\"\")","v":""},{"$f":"IF(AND($FW$1>=B2,$FW$1<=C2),1,\"\")","v":""},{"$f":"IF(AND($FX$1>=B2,$FX$1<=C2),1,\"\")","v":""},{"$f":"IF(AND($FY$1>=B2,$FY$1<=C2),1,\"\")","v":""},{"$f":"IF(AND($FZ$1>=B2,$FZ$1<=C2),1,\"\")","v":""},{"$f":"IF(AND($GA$1>=B2,$GA$1<=C2),1,\"\")","v":""},{"$f":"IF(AND($GB$1>=B2,$GB$1<=C2),1,\"\")","v":""},{"$f":"IF(AND($GC$1>=B2,$GC$1<=C2),1,\"\")","v":""},{"$f":"IF(AND($GD$1>=B2,$GD$1<=C2),1,\"\")","v":""},{"$f":"IF(AND($GE$1>=B2,$GE$1<=C2),1,\"\")","v":""},{"$f":"IF(AND($GF$1>=B2,$GF$1<=C2),1,\"\")","v":""},{"$f":"IF(AND($GG$1>=B2,$GG$1<=C2),1,\"\")","v":""},{"$f":"IF(AND($GH$1>=B2,$GH$1<=C2),1,\"\")","v":""},{"$f":"IF(AND($GI$1>=B2,$GI$1<=C2),1,\"\")","v":""},{"$f":"IF(AND($GJ$1>=B2,$GJ$1<=C2),1,\"\")","v":""},{"$f":"IF(AND($GK$1>=B2,$GK$1<=C2),1,\"\")","v":""},{"$f":"IF(AND($GL$1>=B2,$GL$1<=C2),1,\"\")","v":""},{"$f":"IF(AND($GM$1>=B2,$GM$1<=C2),1,\"\")","v":""},{"$f":"IF(AND($GN$1>=B2,$GN$1<=C2),1,\"\")","v":""},{"$f":"IF(AND($GO$1>=B2,$GO$1<=C2),1,\"\")","v":""},{"$f":"IF(AND($GP$1>=B2,$GP$1<=C2),1,\"\")","v":""},{"$f":"IF(AND($GQ$1>=B2,$GQ$1<=C2),1,\"\")","v":""},{"$f":"IF(AND($GR$1>=B2,$GR$1<=C2),1,\"\")","v":""},{"$f":"IF(AND($GS$1>=B2,$GS$1<=C2),1,\"\")","v":""},{"$f":"IF(AND($GT$1>=B2,$GT$1<=C2),1,\"\")","v":""},{"$f":"IF(AND($GU$1>=B2,$GU$1<=C2),1,\"\")","v":""},{"$f":"IF(AND($GV$1>=B2,$GV$1<=C2),1,\"\")","v":""},{"$f":"IF(AND($GW$1>=B2,$GW$1<=C2),1,\"\")","v":""},{"$f":"IF(AND($GX$1>=B2,$GX$1<=C2),1,\"\")","v":""},{"$f":"IF(AND($GY$1>=B2,$GY$1<=C2),1,\"\")","v":""},{"$f":"IF(AND($GZ$1>=B2,$GZ$1<=C2),1,\"\")","v":""},{"$f":"IF(AND($HA$1>=B2,$HA$1<=C2),1,\"\")","v":""},{"$f":"IF(AND($HB$1>=B2,$HB$1<=C2),1,\"\")","v":""},{"$f":"IF(AND($HC$1>=B2,$HC$1<=C2),1,\"\")","v":""},{"$f":"IF(AND($HD$1>=B2,$HD$1<=C2),1,\"\")","v":""},{"$f":"IF(AND($HE$1>=B2,$HE$1<=C2),1,\"\")","v":""},{"$f":"IF(AND($HF$1>=B2,$HF$1<=C2),1,\"\")","v":""},{"$f":"IF(AND($HG$1>=B2,$HG$1<=C2),1,\"\")","v":""},{"$f":"IF(AND($HH$1>=B2,$HH$1<=C2),1,\"\")","v":""},{"$f":"IF(AND($HI$1>=B2,$HI$1<=C2),1,\"\")","v":""},{"$f":"IF(AND($HJ$1>=B2,$HJ$1<=C2),1,\"\")","v":""},{"$f":"IF(AND($HK$1>=B2,$HK$1<=C2),1,\"\")","v":""},{"$f":"IF(AND($HL$1>=B2,$HL$1<=C2),1,\"\")","v":""},{"$f":"IF(AND($HM$1>=B2,$HM$1<=C2),1,\"\")","v":""},{"$f":"IF(AND($HN$1>=B2,$HN$1<=C2),1,\"\")","v":""},{"$f":"IF(AND($HO$1>=B2,$HO$1<=C2),1,\"\")","v":""},{"$f":"IF(AND($HP$1>=B2,$HP$1<=C2),1,\"\")","v":""},{"$f":"IF(AND($HQ$1>=B2,$HQ$1<=C2),1,\"\")","v":""},{"$f":"IF(AND($HR$1>=B2,$HR$1<=C2),1,\"\")","v":""},{"$f":"IF(AND($HS$1>=B2,$HS$1<=C2),1,\"\")","v":""},{"$f":"IF(AND($HT$1>=B2,$HT$1<=C2),1,\"\")","v":""},{"$f":"IF(AND($HU$1>=B2,$HU$1<=C2),1,\"\")","v":""},{"$f":"IF(AND($HV$1>=B2,$HV$1<=C2),1,\"\")","v":""},{"$f":"IF(AND($HW$1>=B2,$HW$1<=C2),1,\"\")","v":""},{"$f":"IF(AND($HX$1>=B2,$HX$1<=C2),1,\"\")","v":""},{"$f":"IF(AND($HY$1>=B2,$HY$1<=C2),1,\"\")","v":""},{"$f":"IF(AND($HZ$1>=B2,$HZ$1<=C2),1,\"\")","v":""},{"$f":"IF(AND($IA$1>=B2,$IA$1<=C2),1,\"\")","v":""},{"$f":"IF(AND($IB$1>=B2,$IB$1<=C2),1,\"\")","v":""},{"$f":"IF(AND($IC$1>=B2,$IC$1<=C2),1,\"\")","v":""},{"$f":"IF(AND($ID$1>=B2,$ID$1<=C2),1,\"\")","v":""},{"$f":"IF(AND($IE$1>=B2,$IE$1<=C2),1,\"\")","v":""},{"$f":"IF(AND($IF$1>=B2,$IF$1<=C2),1,\"\")","v":""},{"$f":"IF(AND($IG$1>=B2,$IG$1<=C2),1,\"\")","v":""},{"$f":"IF(AND($IH$1>=B2,$IH$1<=C2),1,\"\")","v":""},{"$f":"IF(AND($II$1>=B2,$II$1<=C2),1,\"\")","v":""},{"$f":"IF(AND($IJ$1>=B2,$IJ$1<=C2),1,\"\")","v":""},{"$f":"IF(AND($IK$1>=B2,$IK$1<=C2),1,\"\")","v":""},{"$f":"IF(AND($IL$1>=B2,$IL$1<=C2),1,\"\")","v":""},{"$f":"IF(AND($IM$1>=B2,$IM$1<=C2),1,\"\")","v":""},{"$f":"IF(AND($IN$1>=B2,$IN$1<=C2),1,\"\")","v":""},{"$f":"IF(AND($IO$1>=B2,$IO$1<=C2),1,\"\")","v":""},{"$f":"IF(AND($IP$1>=B2,$IP$1<=C2),1,\"\")","v":""},{"$f":"IF(AND($IQ$1>=B2,$IQ$1<=C2),1,\"\")","v":""},{"$f":"IF(AND($IR$1>=B2,$IR$1<=C2),1,\"\")","v":""},{"$f":"IF(AND($IS$1>=B2,$IS$1<=C2),1,\"\")","v":""},{"$f":"IF(AND($IT$1>=B2,$IT$1<=C2),1,\"\")","v":""},{"$f":"IF(AND($IU$1>=B2,$IU$1<=C2),1,\"\")","v":""},{"$f":"IF(AND($IV$1>=B2,$IV$1<=C2),1,\"\")","v":""},{"$f":"IF(AND($IW$1>=B2,$IW$1<=C2),1,\"\")","v":""},{"$f":"IF(AND($IX$1>=B2,$IX$1<=C2),1,\"\")","v":""},{"$f":"IF(AND($IY$1>=B2,$IY$1<=C2),1,\"\")","v":""},{"$f":"IF(AND($IZ$1>=B2,$IZ$1<=C2),1,\"\")","v":""},{"$f":"IF(AND($JA$1>=B2,$JA$1<=C2),1,\"\")","v":""},{"$f":"IF(AND($JB$1>=B2,$JB$1<=C2),1,\"\")","v":""},{"$f":"IF(AND($JC$1>=B2,$JC$1<=C2),1,\"\")","v":""},{"$f":"IF(AND($JD$1>=B2,$JD$1<=C2),1,\"\")","v":""},{"$f":"IF(AND($JE$1>=B2,$JE$1<=C2),1,\"\")","v":""},{"$f":"IF(AND($JF$1>=B2,$JF$1<=C2),1,\"\")","v":""},{"$f":"IF(AND($JG$1>=B2,$JG$1<=C2),1,\"\")","v":""},{"$f":"IF(AND($JH$1>=B2,$JH$1<=C2),1,\"\")","v":""},{"$f":"IF(AND($JI$1>=B2,$JI$1<=C2),1,\"\")","v":""},{"$f":"IF(AND($JJ$1>=B2,$JJ$1<=C2),1,\"\")","v":""},{"$f":"IF(AND($JK$1>=B2,$JK$1<=C2),1,\"\")","v":""},{"$f":"IF(AND($JL$1>=B2,$JL$1<=C2),1,\"\")","v":""},{"$f":"IF(AND($JM$1>=B2,$JM$1<=C2),1,\"\")","v":""},{"$f":"IF(AND($JN$1>=B2,$JN$1<=C2),1,\"\")","v":""},{"$f":"IF(AND($JO$1>=B2,$JO$1<=C2),1,\"\")","v":""},{"$f":"IF(AND($JP$1>=B2,$JP$1<=C2),1,\"\")","v":""},{"$f":"IF(AND($JQ$1>=B2,$JQ$1<=C2),1,\"\")","v":""},{"$f":"IF(AND($JR$1>=B2,$JR$1<=C2),1,\"\")","v":""},{"$f":"IF(AND($JS$1>=B2,$JS$1<=C2),1,\"\")","v":""},{"$f":"IF(AND($JT$1>=B2,$JT$1<=C2),1,\"\")","v":""},{"$f":"IF(AND($JU$1>=B2,$JU$1<=C2),1,\"\")","v":""},{"$f":"IF(AND($JV$1>=B2,$JV$1<=C2),1,\"\")","v":""},{"$f":"IF(AND($JW$1>=B2,$JW$1<=C2),1,\"\")","v":""},{"$f":"IF(AND($JX$1>=B2,$JX$1<=C2),1,\"\")","v":""},{"$f":"IF(AND($JY$1>=B2,$JY$1<=C2),1,\"\")","v":""},{"$f":"IF(AND($JZ$1>=B2,$JZ$1<=C2),1,\"\")","v":""},{"$f":"IF(AND($KA$1>=B2,$KA$1<=C2),1,\"\")","v":""},{"$f":"IF(AND($KB$1>=B2,$KB$1<=C2),1,\"\")","v":""},{"$f":"IF(AND($KC$1>=B2,$KC$1<=C2),1,\"\")","v":""},{"$f":"IF(AND($KD$1>=B2,$KD$1<=C2),1,\"\")","v":""},{"$f":"IF(AND($KE$1>=B2,$KE$1<=C2),1,\"\")","v":""},{"$f":"IF(AND($KF$1>=B2,$KF$1<=C2),1,\"\")","v":""},{"$f":"IF(AND($KG$1>=B2,$KG$1<=C2),1,\"\")","v":""},{"$f":"IF(AND($KH$1>=B2,$KH$1<=C2),1,\"\")","v":""},{"$f":"IF(AND($KI$1>=B2,$KI$1<=C2),1,\"\")","v":""},{"$f":"IF(AND($KJ$1>=B2,$KJ$1<=C2),1,\"\")","v":""},{"$f":"IF(AND($KK$1>=B2,$KK$1<=C2),1,\"\")","v":""},{"$f":"IF(AND($KL$1>=B2,$KL$1<=C2),1,\"\")","v":""},{"$f":"IF(AND($KM$1>=B2,$KM$1<=C2),1,\"\")","v":""},{"$f":"IF(AND($KN$1>=B2,$KN$1<=C2),1,\"\")","v":""},{"$f":"IF(AND($KO$1>=B2,$KO$1<=C2),1,\"\")","v":""},{"$f":"IF(AND($KP$1>=B2,$KP$1<=C2),1,\"\")","v":""},{"$f":"IF(AND($KQ$1>=B2,$KQ$1<=C2),1,\"\")","v":""},{"$f":"IF(AND($KR$1>=B2,$KR$1<=C2),1,\"\")","v":""},{"$f":"IF(AND($KS$1>=B2,$KS$1<=C2),1,\"\")","v":""},{"$f":"IF(AND($KT$1>=B2,$KT$1<=C2),1,\"\")","v":""},{"$f":"IF(AND($KU$1>=B2,$KU$1<=C2),1,\"\")","v":""},{"$f":"IF(AND($KV$1>=B2,$KV$1<=C2),1,\"\")","v":""},{"$f":"IF(AND($KW$1>=B2,$KW$1<=C2),1,\"\")","v":""},{"$f":"IF(AND($KX$1>=B2,$KX$1<=C2),1,\"\")","v":""},{"$f":"IF(AND($KY$1>=B2,$KY$1<=C2),1,\"\")","v":""},{"$f":"IF(AND($KZ$1>=B2,$KZ$1<=C2),1,\"\")","v":""},{"$f":"IF(AND($LA$1>=B2,$LA$1<=C2),1,\"\")","v":""},{"$f":"IF(AND($LB$1>=B2,$LB$1<=C2),1,\"\")","v":""},{"$f":"IF(AND($LC$1>=B2,$LC$1<=C2),1,\"\")","v":""},{"$f":"IF(AND($LD$1>=B2,$LD$1<=C2),1,\"\")","v":""},{"$f":"IF(AND($LE$1>=B2,$LE$1<=C2),1,\"\")","v":""},{"$f":"IF(AND($LF$1>=B2,$LF$1<=C2),1,\"\")","v":""},{"$f":"IF(AND($LG$1>=B2,$LG$1<=C2),1,\"\")","v":""},{"$f":"IF(AND($LH$1>=B2,$LH$1<=C2),1,\"\")","v":""},{"$f":"IF(AND($LI$1>=B2,$LI$1<=C2),1,\"\")","v":""},{"$f":"IF(AND($LJ$1>=B2,$LJ$1<=C2),1,\"\")","v":""},{"$f":"IF(AND($LK$1>=B2,$LK$1<=C2),1,\"\")","v":""},{"$f":"IF(AND($LL$1>=B2,$LL$1<=C2),1,\"\")","v":""},{"$f":"IF(AND($LM$1>=B2,$LM$1<=C2),1,\"\")","v":""},{"$f":"IF(AND($LN$1>=B2,$LN$1<=C2),1,\"\")","v":""},{"$f":"IF(AND($LO$1>=B2,$LO$1<=C2),1,\"\")","v":""},{"$f":"IF(AND($LP$1>=B2,$LP$1<=C2),1,\"\")","v":""},{"$f":"IF(AND($LQ$1>=B2,$LQ$1<=C2),1,\"\")","v":""},{"$f":"IF(AND($LR$1>=B2,$LR$1<=C2),1,\"\")","v":""},{"$f":"IF(AND($LS$1>=B2,$LS$1<=C2),1,\"\")","v":""},{"$f":"IF(AND($LT$1>=B2,$LT$1<=C2),1,\"\")","v":""},{"$f":"IF(AND($LU$1>=B2,$LU$1<=C2),1,\"\")","v":""},{"$f":"IF(AND($LV$1>=B2,$LV$1<=C2),1,\"\")","v":""},{"$f":"IF(AND($LW$1>=B2,$LW$1<=C2),1,\"\")","v":""},{"$f":"IF(AND($LX$1>=B2,$LX$1<=C2),1,\"\")","v":""},{"$f":"IF(AND($LY$1>=B2,$LY$1<=C2),1,\"\")","v":""},{"$f":"IF(AND($LZ$1>=B2,$LZ$1<=C2),1,\"\")","v":""},{"$f":"IF(AND($MA$1>=B2,$MA$1<=C2),1,\"\")","v":""},{"$f":"IF(AND($MB$1>=B2,$MB$1<=C2),1,\"\")","v":""},{"$f":"IF(AND($MC$1>=B2,$MC$1<=C2),1,\"\")","v":""},{"$f":"IF(AND($MD$1>=B2,$MD$1<=C2),1,\"\")","v":""},{"$f":"IF(AND($ME$1>=B2,$ME$1<=C2),1,\"\")","v":""},{"$f":"IF(AND($MF$1>=B2,$MF$1<=C2),1,\"\")","v":""},{"$f":"IF(AND($MG$1>=B2,$MG$1<=C2),1,\"\")","v":""},{"$f":"IF(AND($MH$1>=B2,$MH$1<=C2),1,\"\")","v":""},{"$f":"IF(AND($MI$1>=B2,$MI$1<=C2),1,\"\")","v":""},{"$f":"IF(AND($MJ$1>=B2,$MJ$1<=C2),1,\"\")","v":""},{"$f":"IF(AND($MK$1>=B2,$MK$1<=C2),1,\"\")","v":""},{"$f":"IF(AND($ML$1>=B2,$ML$1<=C2),1,\"\")","v":""},{"$f":"IF(AND($MM$1>=B2,$MM$1<=C2),1,\"\")","v":""},{"$f":"IF(AND($MN$1>=B2,$MN$1<=C2),1,\"\")","v":""},{"$f":"IF(AND($MO$1>=B2,$MO$1<=C2),1,\"\")","v":""},{"$f":"IF(AND($MP$1>=B2,$MP$1<=C2),1,\"\")","v":""},{"$f":"IF(AND($MQ$1>=B2,$MQ$1<=C2),1,\"\")","v":""},{"$f":"IF(AND($MR$1>=B2,$MR$1<=C2),1,\"\")","v":""},{"$f":"IF(AND($MS$1>=B2,$MS$1<=C2),1,\"\")","v":""},{"$f":"IF(AND($MT$1>=B2,$MT$1<=C2),1,\"\")","v":""},{"$f":"IF(AND($MU$1>=B2,$MU$1<=C2),1,\"\")","v":""},{"$f":"IF(AND($MV$1>=B2,$MV$1<=C2),1,\"\")","v":""},{"$f":"IF(AND($MW$1>=B2,$MW$1<=C2),1,\"\")","v":""},{"$f":"IF(AND($MX$1>=B2,$MX$1<=C2),1,\"\")","v":""},{"$f":"IF(AND($MY$1>=B2,$MY$1<=C2),1,\"\")","v":""},{"$f":"IF(AND($MZ$1>=B2,$MZ$1<=C2),1,\"\")","v":""},{"$f":"IF(AND($NA$1>=B2,$NA$1<=C2),1,\"\")","v":""},{"$f":"IF(AND($NB$1>=B2,$NB$1<=C2),1,\"\")","v":""},{"$f":"IF(AND($NC$1>=B2,$NC$1<=C2),1,\"\")","v":""},{"$f":"IF(AND($ND$1>=B2,$ND$1<=C2),1,\"\")","v":""},{"$f":"IF(AND($NE$1>=B2,$NE$1<=C2),1,\"\")","v":""},{"$f":"IF(AND($NF$1>=B2,$NF$1<=C2),1,\"\")","v":""},{"$f":"IF(AND($NG$1>=B2,$NG$1<=C2),1,\"\")","v":""},{"$f":"IF(AND($NH$1>=B2,$NH$1<=C2),1,\"\")","v":""},{"$f":"IF($NI$1=\"\",\"\",IF(AND($NI$1>=B2,$NI$1<=C2),1,\"\"))","v":""}]
[null,null,null,null,"Days Worked",{"$f":"IF(ISERROR(H1),\"\",SUM(H101:NI101))","v":0},null,{"$f":"IF(AND($H$1>=B3,$H$1<=C3),1,\"\")","v":""},{"$f":"IF(AND($I$1>=B3,$I$1<=C3),1,\"\")","v":""},{"$f":"IF(AND($J$1>=B3,$J$1<=C3),1,\"\")","v":""},{"$f":"IF(AND($K$1>=B3,$K$1<=C3),1,\"\")","v":""},{"$f":"IF(AND($L$1>=B3,$L$1<=C3),1,\"\")","v":""},{"$f":"IF(AND($M$1>=B3,$M$1<=C3),1,\"\")","v":""},{"$f":"IF(AND($N$1>=B3,$N$1<=C3),1,\"\")","v":""},{"$f":"IF(AND($O$1>=B3,$O$1<=C3),1,\"\")","v":""},{"$f":"IF(AND($P$1>=B3,$P$1<=C3),1,\"\")","v":""},{"$f":"IF(AND($Q$1>=B3,$Q$1<=C3),1,\"\")","v":""},{"$f":"IF(AND($R$1>=B3,$R$1<=C3),1,\"\")","v":""},{"$f":"IF(AND($S$1>=B3,$S$1<=C3),1,\"\")","v":""},{"$f":"IF(AND($T$1>=B3,$T$1<=C3),1,\"\")","v":""},{"$f":"IF(AND($U$1>=B3,$U$1<=C3),1,\"\")","v":""},{"$f":"IF(AND($V$1>=B3,$V$1<=C3),1,\"\")","v":""},{"$f":"IF(AND($W$1>=B3,$W$1<=C3),1,\"\")","v":""},{"$f":"IF(AND($X$1>=B3,$X$1<=C3),1,\"\")","v":""},{"$f":"IF(AND($Y$1>=B3,$Y$1<=C3),1,\"\")","v":""},{"$f":"IF(AND($Z$1>=B3,$Z$1<=C3),1,\"\")","v":""},{"$f":"IF(AND($AA$1>=B3,$AA$1<=C3),1,\"\")","v":""},{"$f":"IF(AND($AB$1>=B3,$AB$1<=C3),1,\"\")","v":""},{"$f":"IF(AND($AC$1>=B3,$AC$1<=C3),1,\"\")","v":""},{"$f":"IF(AND($AD$1>=B3,$AD$1<=C3),1,\"\")","v":""},{"$f":"IF(AND($AE$1>=B3,$AE$1<=C3),1,\"\")","v":""},{"$f":"IF(AND($AF$1>=B3,$AF$1<=C3),1,\"\")","v":""},{"$f":"IF(AND($AG$1>=B3,$AG$1<=C3),1,\"\")","v":""},{"$f":"IF(AND($AH$1>=B3,$AH$1<=C3),1,\"\")","v":""},{"$f":"IF(AND($AI$1>=B3,$AI$1<=C3),1,\"\")","v":""},{"$f":"IF(AND($AJ$1>=B3,$AJ$1<=C3),1,\"\")","v":""},{"$f":"IF(AND($AK$1>=B3,$AK$1<=C3),1,\"\")","v":""},{"$f":"IF(AND($AL$1>=B3,$AL$1<=C3),1,\"\")","v":""},{"$f":"IF(AND($AM$1>=B3,$AM$1<=C3),1,\"\")","v":""},{"$f":"IF(AND($AN$1>=B3,$AN$1<=C3),1,\"\")","v":""},{"$f":"IF(AND($AO$1>=B3,$AO$1<=C3),1,\"\")","v":""},{"$f":"IF(AND($AP$1>=B3,$AP$1<=C3),1,\"\")","v":""},{"$f":"IF(AND($AQ$1>=B3,$AQ$1<=C3),1,\"\")","v":""},{"$f":"IF(AND($AR$1>=B3,$AR$1<=C3),1,\"\")","v":""},{"$f":"IF(AND($AS$1>=B3,$AS$1<=C3),1,\"\")","v":""},{"$f":"IF(AND($AT$1>=B3,$AT$1<=C3),1,\"\")","v":""},{"$f":"IF(AND($AU$1>=B3,$AU$1<=C3),1,\"\")","v":""},{"$f":"IF(AND($AV$1>=B3,$AV$1<=C3),1,\"\")","v":""},{"$f":"IF(AND($AW$1>=B3,$AW$1<=C3),1,\"\")","v":""},{"$f":"IF(AND($AX$1>=B3,$AX$1<=C3),1,\"\")","v":""},{"$f":"IF(AND($AY$1>=B3,$AY$1<=C3),1,\"\")","v":""},{"$f":"IF(AND($AZ$1>=B3,$AZ$1<=C3),1,\"\")","v":""},{"$f":"IF(AND($BA$1>=B3,$BA$1<=C3),1,\"\")","v":""},{"$f":"IF(AND($BB$1>=B3,$BB$1<=C3),1,\"\")","v":""},{"$f":"IF(AND($BC$1>=B3,$BC$1<=C3),1,\"\")","v":""},{"$f":"IF(AND($BD$1>=B3,$BD$1<=C3),1,\"\")","v":""},{"$f":"IF(AND($BE$1>=B3,$BE$1<=C3),1,\"\")","v":""},{"$f":"IF(AND($BF$1>=B3,$BF$1<=C3),1,\"\")","v":""},{"$f":"IF(AND($BG$1>=B3,$BG$1<=C3),1,\"\")","v":""},{"$f":"IF(AND($BH$1>=B3,$BH$1<=C3),1,\"\")","v":""},{"$f":"IF(AND($BI$1>=B3,$BI$1<=C3),1,\"\")","v":""},{"$f":"IF(AND($BJ$1>=B3,$BJ$1<=C3),1,\"\")","v":""},{"$f":"IF(AND($BK$1>=B3,$BK$1<=C3),1,\"\")","v":""},{"$f":"IF(AND($BL$1>=B3,$BL$1<=C3),1,\"\")","v":""},{"$f":"IF(AND($BM$1>=B3,$BM$1<=C3),1,\"\")","v":""},{"$f":"IF(AND($BN$1>=B3,$BN$1<=C3),1,\"\")","v":""},{"$f":"IF(AND($BO$1>=B3,$BO$1<=C3),1,\"\")","v":""},{"$f":"IF(AND($BP$1>=B3,$BP$1<=C3),1,\"\")","v":""},{"$f":"IF(AND($BQ$1>=B3,$BQ$1<=C3),1,\"\")","v":""},{"$f":"IF(AND($BR$1>=B3,$BR$1<=C3),1,\"\")","v":""},{"$f":"IF(AND($BS$1>=B3,$BS$1<=C3),1,\"\")","v":""},{"$f":"IF(AND($BT$1>=B3,$BT$1<=C3),1,\"\")","v":""},{"$f":"IF(AND($BU$1>=B3,$BU$1<=C3),1,\"\")","v":""},{"$f":"IF(AND($BV$1>=B3,$BV$1<=C3),1,\"\")","v":""},{"$f":"IF(AND($BW$1>=B3,$BW$1<=C3),1,\"\")","v":""},{"$f":"IF(AND($BX$1>=B3,$BX$1<=C3),1,\"\")","v":""},{"$f":"IF(AND($BY$1>=B3,$BY$1<=C3),1,\"\")","v":""},{"$f":"IF(AND($BZ$1>=B3,$BZ$1<=C3),1,\"\")","v":""},{"$f":"IF(AND($CA$1>=B3,$CA$1<=C3),1,\"\")","v":""},{"$f":"IF(AND($CB$1>=B3,$CB$1<=C3),1,\"\")","v":""},{"$f":"IF(AND($CC$1>=B3,$CC$1<=C3),1,\"\")","v":""},{"$f":"IF(AND($CD$1>=B3,$CD$1<=C3),1,\"\")","v":""},{"$f":"IF(AND($CE$1>=B3,$CE$1<=C3),1,\"\")","v":""},{"$f":"IF(AND($CF$1>=B3,$CF$1<=C3),1,\"\")","v":""},{"$f":"IF(AND($CG$1>=B3,$CG$1<=C3),1,\"\")","v":""},{"$f":"IF(AND($CH$1>=B3,$CH$1<=C3),1,\"\")","v":""},{"$f":"IF(AND($CI$1>=B3,$CI$1<=C3),1,\"\")","v":""},{"$f":"IF(AND($CJ$1>=B3,$CJ$1<=C3),1,\"\")","v":""},{"$f":"IF(AND($CK$1>=B3,$CK$1<=C3),1,\"\")","v":""},{"$f":"IF(AND($CL$1>=B3,$CL$1<=C3),1,\"\")","v":""},{"$f":"IF(AND($CM$1>=B3,$CM$1<=C3),1,\"\")","v":""},{"$f":"IF(AND($CN$1>=B3,$CN$1<=C3),1,\"\")","v":""},{"$f":"IF(AND($CO$1>=B3,$CO$1<=C3),1,\"\")","v":""},{"$f":"IF(AND($CP$1>=B3,$CP$1<=C3),1,\"\")","v":""},{"$f":"IF(AND($CQ$1>=B3,$CQ$1<=C3),1,\"\")","v":""},{"$f":"IF(AND($CR$1>=B3,$CR$1<=C3),1,\"\")","v":""},{"$f":"IF(AND($CS$1>=B3,$CS$1<=C3),1,\"\")","v":""},{"$f":"IF(AND($CT$1>=B3,$CT$1<=C3),1,\"\")","v":""},{"$f":"IF(AND($CU$1>=B3,$CU$1<=C3),1,\"\")","v":""},{"$f":"IF(AND($CV$1>=B3,$CV$1<=C3),1,\"\")","v":""},{"$f":"IF(AND($CW$1>=B3,$CW$1<=C3),1,\"\")","v":""},{"$f":"IF(AND($CX$1>=B3,$CX$1<=C3),1,\"\")","v":""},{"$f":"IF(AND($CY$1>=B3,$CY$1<=C3),1,\"\")","v":""},{"$f":"IF(AND($CZ$1>=B3,$CZ$1<=C3),1,\"\")","v":""},{"$f":"IF(AND($DA$1>=B3,$DA$1<=C3),1,\"\")","v":""},{"$f":"IF(AND($DB$1>=B3,$DB$1<=C3),1,\"\")","v":""},{"$f":"IF(AND($DC$1>=B3,$DC$1<=C3),1,\"\")","v":""},{"$f":"IF(AND($DD$1>=B3,$DD$1<=C3),1,\"\")","v":""},{"$f":"IF(AND($DE$1>=B3,$DE$1<=C3),1,\"\")","v":""},{"$f":"IF(AND($DF$1>=B3,$DF$1<=C3),1,\"\")","v":""},{"$f":"IF(AND($DG$1>=B3,$DG$1<=C3),1,\"\")","v":""},{"$f":"IF(AND($DH$1>=B3,$DH$1<=C3),1,\"\")","v":""},{"$f":"IF(AND($DI$1>=B3,$DI$1<=C3),1,\"\")","v":""},{"$f":"IF(AND($DJ$1>=B3,$DJ$1<=C3),1,\"\")","v":""},{"$f":"IF(AND($DK$1>=B3,$DK$1<=C3),1,\"\")","v":""},{"$f":"IF(AND($DL$1>=B3,$DL$1<=C3),1,\"\")","v":""},{"$f":"IF(AND($DM$1>=B3,$DM$1<=C3),1,\"\")","v":""},{"$f":"IF(AND($DN$1>=B3,$DN$1<=C3),1,\"\")","v":""},{"$f":"IF(AND($DO$1>=B3,$DO$1<=C3),1,\"\")","v":""},{"$f":"IF(AND($DP$1>=B3,$DP$1<=C3),1,\"\")","v":""},{"$f":"IF(AND($DQ$1>=B3,$DQ$1<=C3),1,\"\")","v":""},{"$f":"IF(AND($DR$1>=B3,$DR$1<=C3),1,\"\")","v":""},{"$f":"IF(AND($DS$1>=B3,$DS$1<=C3),1,\"\")","v":""},{"$f":"IF(AND($DT$1>=B3,$DT$1<=C3),1,\"\")","v":""},{"$f":"IF(AND($DU$1>=B3,$DU$1<=C3),1,\"\")","v":""},{"$f":"IF(AND($DV$1>=B3,$DV$1<=C3),1,\"\")","v":""},{"$f":"IF(AND($DW$1>=B3,$DW$1<=C3),1,\"\")","v":""},{"$f":"IF(AND($DX$1>=B3,$DX$1<=C3),1,\"\")","v":""},{"$f":"IF(AND($DY$1>=B3,$DY$1<=C3),1,\"\")","v":""},{"$f":"IF(AND($DZ$1>=B3,$DZ$1<=C3),1,\"\")","v":""},{"$f":"IF(AND($EA$1>=B3,$EA$1<=C3),1,\"\")","v":""},{"$f":"IF(AND($EB$1>=B3,$EB$1<=C3),1,\"\")","v":""},{"$f":"IF(AND($EC$1>=B3,$EC$1<=C3),1,\"\")","v":""},{"$f":"IF(AND($ED$1>=B3,$ED$1<=C3),1,\"\")","v":""},{"$f":"IF(AND($EE$1>=B3,$EE$1<=C3),1,\"\")","v":""},{"$f":"IF(AND($EF$1>=B3,$EF$1<=C3),1,\"\")","v":""},{"$f":"IF(AND($EG$1>=B3,$EG$1<=C3),1,\"\")","v":""},{"$f":"IF(AND($EH$1>=B3,$EH$1<=C3),1,\"\")","v":""},{"$f":"IF(AND($EI$1>=B3,$EI$1<=C3),1,\"\")","v":""},{"$f":"IF(AND($EJ$1>=B3,$EJ$1<=C3),1,\"\")","v":""},{"$f":"IF(AND($EK$1>=B3,$EK$1<=C3),1,\"\")","v":""},{"$f":"IF(AND($EL$1>=B3,$EL$1<=C3),1,\"\")","v":""},{"$f":"IF(AND($EM$1>=B3,$EM$1<=C3),1,\"\")","v":""},{"$f":"IF(AND($EN$1>=B3,$EN$1<=C3),1,\"\")","v":""},{"$f":"IF(AND($EO$1>=B3,$EO$1<=C3),1,\"\")","v":""},{"$f":"IF(AND($EP$1>=B3,$EP$1<=C3),1,\"\")","v":""},{"$f":"IF(AND($EQ$1>=B3,$EQ$1<=C3),1,\"\")","v":""},{"$f":"IF(AND($ER$1>=B3,$ER$1<=C3),1,\"\")","v":""},{"$f":"IF(AND($ES$1>=B3,$ES$1<=C3),1,\"\")","v":""},{"$f":"IF(AND($ET$1>=B3,$ET$1<=C3),1,\"\")","v":""},{"$f":"IF(AND($EU$1>=B3,$EU$1<=C3),1,\"\")","v":""},{"$f":"IF(AND($EV$1>=B3,$EV$1<=C3),1,\"\")","v":""},{"$f":"IF(AND($EW$1>=B3,$EW$1<=C3),1,\"\")","v":""},{"$f":"IF(AND($EX$1>=B3,$EX$1<=C3),1,\"\")","v":""},{"$f":"IF(AND($EY$1>=B3,$EY$1<=C3),1,\"\")","v":""},{"$f":"IF(AND($EZ$1>=B3,$EZ$1<=C3),1,\"\")","v":""},{"$f":"IF(AND($FA$1>=B3,$FA$1<=C3),1,\"\")","v":""},{"$f":"IF(AND($FB$1>=B3,$FB$1<=C3),1,\"\")","v":""},{"$f":"IF(AND($FC$1>=B3,$FC$1<=C3),1,\"\")","v":""},{"$f":"IF(AND($FD$1>=B3,$FD$1<=C3),1,\"\")","v":""},{"$f":"IF(AND($FE$1>=B3,$FE$1<=C3),1,\"\")","v":""},{"$f":"IF(AND($FF$1>=B3,$FF$1<=C3),1,\"\")","v":""},{"$f":"IF(AND($FG$1>=B3,$FG$1<=C3),1,\"\")","v":""},{"$f":"IF(AND($FH$1>=B3,$FH$1<=C3),1,\"\")","v":""},{"$f":"IF(AND($FI$1>=B3,$FI$1<=C3),1,\"\")","v":""},{"$f":"IF(AND($FJ$1>=B3,$FJ$1<=C3),1,\"\")","v":""},{"$f":"IF(AND($FK$1>=B3,$FK$1<=C3),1,\"\")","v":""},{"$f":"IF(AND($FL$1>=B3,$FL$1<=C3),1,\"\")","v":""},{"$f":"IF(AND($FM$1>=B3,$FM$1<=C3),1,\"\")","v":""},{"$f":"IF(AND($FN$1>=B3,$FN$1<=C3),1,\"\")","v":""},{"$f":"IF(AND($FO$1>=B3,$FO$1<=C3),1,\"\")","v":""},{"$f":"IF(AND($FP$1>=B3,$FP$1<=C3),1,\"\")","v":""},{"$f":"IF(AND($FQ$1>=B3,$FQ$1<=C3),1,\"\")","v":""},{"$f":"IF(AND($FR$1>=B3,$FR$1<=C3),1,\"\")","v":""},{"$f":"IF(AND($FS$1>=B3,$FS$1<=C3),1,\"\")","v":""},{"$f":"IF(AND($FT$1>=B3,$FT$1<=C3),1,\"\")","v":""},{"$f":"IF(AND($FU$1>=B3,$FU$1<=C3),1,\"\")","v":""},{"$f":"IF(AND($FV$1>=B3,$FV$1<=C3),1,\"\")","v":""},{"$f":"IF(AND($FW$1>=B3,$FW$1<=C3),1,\"\")","v":""},{"$f":"IF(AND($FX$1>=B3,$FX$1<=C3),1,\"\")","v":""},{"$f":"IF(AND($FY$1>=B3,$FY$1<=C3),1,\"\")","v":""},{"$f":"IF(AND($FZ$1>=B3,$FZ$1<=C3),1,\"\")","v":""},{"$f":"IF(AND($GA$1>=B3,$GA$1<=C3),1,\"\")","v":""},{"$f":"IF(AND($GB$1>=B3,$GB$1<=C3),1,\"\")","v":""},{"$f":"IF(AND($GC$1>=B3,$GC$1<=C3),1,\"\")","v":""},{"$f":"IF(AND($GD$1>=B3,$GD$1<=C3),1,\"\")","v":""},{"$f":"IF(AND($GE$1>=B3,$GE$1<=C3),1,\"\")","v":""},{"$f":"IF(AND($GF$1>=B3,$GF$1<=C3),1,\"\")","v":""},{"$f":"IF(AND($GG$1>=B3,$GG$1<=C3),1,\"\")","v":""},{"$f":"IF(AND($GH$1>=B3,$GH$1<=C3),1,\"\")","v":""},{"$f":"IF(AND($GI$1>=B3,$GI$1<=C3),1,\"\")","v":""},{"$f":"IF(AND($GJ$1>=B3,$GJ$1<=C3),1,\"\")","v":""},{"$f":"IF(AND($GK$1>=B3,$GK$1<=C3),1,\"\")","v":""},{"$f":"IF(AND($GL$1>=B3,$GL$1<=C3),1,\"\")","v":""},{"$f":"IF(AND($GM$1>=B3,$GM$1<=C3),1,\"\")","v":""},{"$f":"IF(AND($GN$1>=B3,$GN$1<=C3),1,\"\")","v":""},{"$f":"IF(AND($GO$1>=B3,$GO$1<=C3),1,\"\")","v":""},{"$f":"IF(AND($GP$1>=B3,$GP$1<=C3),1,\"\")","v":""},{"$f":"IF(AND($GQ$1>=B3,$GQ$1<=C3),1,\"\")","v":""},{"$f":"IF(AND($GR$1>=B3,$GR$1<=C3),1,\"\")","v":""},{"$f":"IF(AND($GS$1>=B3,$GS$1<=C3),1,\"\")","v":""},{"$f":"IF(AND($GT$1>=B3,$GT$1<=C3),1,\"\")","v":""},{"$f":"IF(AND($GU$1>=B3,$GU$1<=C3),1,\"\")","v":""},{"$f":"IF(AND($GV$1>=B3,$GV$1<=C3),1,\"\")","v":""},{"$f":"IF(AND($GW$1>=B3,$GW$1<=C3),1,\"\")","v":""},{"$f":"IF(AND($GX$1>=B3,$GX$1<=C3),1,\"\")","v":""},{"$f":"IF(AND($GY$1>=B3,$GY$1<=C3),1,\"\")","v":""},{"$f":"IF(AND($GZ$1>=B3,$GZ$1<=C3),1,\"\")","v":""},{"$f":"IF(AND($HA$1>=B3,$HA$1<=C3),1,\"\")","v":""},{"$f":"IF(AND($HB$1>=B3,$HB$1<=C3),1,\"\")","v":""},{"$f":"IF(AND($HC$1>=B3,$HC$1<=C3),1,\"\")","v":""},{"$f":"IF(AND($HD$1>=B3,$HD$1<=C3),1,\"\")","v":""},{"$f":"IF(AND($HE$1>=B3,$HE$1<=C3),1,\"\")","v":""},{"$f":"IF(AND($HF$1>=B3,$HF$1<=C3),1,\"\")","v":""},{"$f":"IF(AND($HG$1>=B3,$HG$1<=C3),1,\"\")","v":""},{"$f":"IF(AND($HH$1>=B3,$HH$1<=C3),1,\"\")","v":""},{"$f":"IF(AND($HI$1>=B3,$HI$1<=C3),1,\"\")","v":""},{"$f":"IF(AND($HJ$1>=B3,$HJ$1<=C3),1,\"\")","v":""},{"$f":"IF(AND($HK$1>=B3,$HK$1<=C3),1,\"\")","v":""},{"$f":"IF(AND($HL$1>=B3,$HL$1<=C3),1,\"\")","v":""},{"$f":"IF(AND($HM$1>=B3,$HM$1<=C3),1,\"\")","v":""},{"$f":"IF(AND($HN$1>=B3,$HN$1<=C3),1,\"\")","v":""},{"$f":"IF(AND($HO$1>=B3,$HO$1<=C3),1,\"\")","v":""},{"$f":"IF(AND($HP$1>=B3,$HP$1<=C3),1,\"\")","v":""},{"$f":"IF(AND($HQ$1>=B3,$HQ$1<=C3),1,\"\")","v":""},{"$f":"IF(AND($HR$1>=B3,$HR$1<=C3),1,\"\")","v":""},{"$f":"IF(AND($HS$1>=B3,$HS$1<=C3),1,\"\")","v":""},{"$f":"IF(AND($HT$1>=B3,$HT$1<=C3),1,\"\")","v":""},{"$f":"IF(AND($HU$1>=B3,$HU$1<=C3),1,\"\")","v":""},{"$f":"IF(AND($HV$1>=B3,$HV$1<=C3),1,\"\")","v":""},{"$f":"IF(AND($HW$1>=B3,$HW$1<=C3),1,\"\")","v":""},{"$f":"IF(AND($HX$1>=B3,$HX$1<=C3),1,\"\")","v":""},{"$f":"IF(AND($HY$1>=B3,$HY$1<=C3),1,\"\")","v":""},{"$f":"IF(AND($HZ$1>=B3,$HZ$1<=C3),1,\"\")","v":""},{"$f":"IF(AND($IA$1>=B3,$IA$1<=C3),1,\"\")","v":""},{"$f":"IF(AND($IB$1>=B3,$IB$1<=C3),1,\"\")","v":""},{"$f":"IF(AND($IC$1>=B3,$IC$1<=C3),1,\"\")","v":""},{"$f":"IF(AND($ID$1>=B3,$ID$1<=C3),1,\"\")","v":""},{"$f":"IF(AND($IE$1>=B3,$IE$1<=C3),1,\"\")","v":""},{"$f":"IF(AND($IF$1>=B3,$IF$1<=C3),1,\"\")","v":""},{"$f":"IF(AND($IG$1>=B3,$IG$1<=C3),1,\"\")","v":""},{"$f":"IF(AND($IH$1>=B3,$IH$1<=C3),1,\"\")","v":""},{"$f":"IF(AND($II$1>=B3,$II$1<=C3),1,\"\")","v":""},{"$f":"IF(AND($IJ$1>=B3,$IJ$1<=C3),1,\"\")","v":""},{"$f":"IF(AND($IK$1>=B3,$IK$1<=C3),1,\"\")","v":""},{"$f":"IF(AND($IL$1>=B3,$IL$1<=C3),1,\"\")","v":""},{"$f":"IF(AND($IM$1>=B3,$IM$1<=C3),1,\"\")","v":""},{"$f":"IF(AND($IN$1>=B3,$IN$1<=C3),1,\"\")","v":""},{"$f":"IF(AND($IO$1>=B3,$IO$1<=C3),1,\"\")","v":""},{"$f":"IF(AND($IP$1>=B3,$IP$1<=C3),1,\"\")","v":""},{"$f":"IF(AND($IQ$1>=B3,$IQ$1<=C3),1,\"\")","v":""},{"$f":"IF(AND($IR$1>=B3,$IR$1<=C3),1,\"\")","v":""},{"$f":"IF(AND($IS$1>=B3,$IS$1<=C3),1,\"\")","v":""},{"$f":"IF(AND($IT$1>=B3,$IT$1<=C3),1,\"\")","v":""},{"$f":"IF(AND($IU$1>=B3,$IU$1<=C3),1,\"\")","v":""},{"$f":"IF(AND($IV$1>=B3,$IV$1<=C3),1,\"\")","v":""},{"$f":"IF(AND($IW$1>=B3,$IW$1<=C3),1,\"\")","v":""},{"$f":"IF(AND($IX$1>=B3,$IX$1<=C3),1,\"\")","v":""},{"$f":"IF(AND($IY$1>=B3,$IY$1<=C3),1,\"\")","v":""},{"$f":"IF(AND($IZ$1>=B3,$IZ$1<=C3),1,\"\")","v":""},{"$f":"IF(AND($JA$1>=B3,$JA$1<=C3),1,\"\")","v":""},{"$f":"IF(AND($JB$1>=B3,$JB$1<=C3),1,\"\")","v":""},{"$f":"IF(AND($JC$1>=B3,$JC$1<=C3),1,\"\")","v":""},{"$f":"IF(AND($JD$1>=B3,$JD$1<=C3),1,\"\")","v":""},{"$f":"IF(AND($JE$1>=B3,$JE$1<=C3),1,\"\")","v":""},{"$f":"IF(AND($JF$1>=B3,$JF$1<=C3),1,\"\")","v":""},{"$f":"IF(AND($JG$1>=B3,$JG$1<=C3),1,\"\")","v":""},{"$f":"IF(AND($JH$1>=B3,$JH$1<=C3),1,\"\")","v":""},{"$f":"IF(AND($JI$1>=B3,$JI$1<=C3),1,\"\")","v":""},{"$f":"IF(AND($JJ$1>=B3,$JJ$1<=C3),1,\"\")","v":""},{"$f":"IF(AND($JK$1>=B3,$JK$1<=C3),1,\"\")","v":""},{"$f":"IF(AND($JL$1>=B3,$JL$1<=C3),1,\"\")","v":""},{"$f":"IF(AND($JM$1>=B3,$JM$1<=C3),1,\"\")","v":""},{"$f":"IF(AND($JN$1>=B3,$JN$1<=C3),1,\"\")","v":""},{"$f":"IF(AND($JO$1>=B3,$JO$1<=C3),1,\"\")","v":""},{"$f":"IF(AND($JP$1>=B3,$JP$1<=C3),1,\"\")","v":""},{"$f":"IF(AND($JQ$1>=B3,$JQ$1<=C3),1,\"\")","v":""},{"$f":"IF(AND($JR$1>=B3,$JR$1<=C3),1,\"\")","v":""},{"$f":"IF(AND($JS$1>=B3,$JS$1<=C3),1,\"\")","v":""},{"$f":"IF(AND($JT$1>=B3,$JT$1<=C3),1,\"\")","v":""},{"$f":"IF(AND($JU$1>=B3,$JU$1<=C3),1,\"\")","v":""},{"$f":"IF(AND($JV$1>=B3,$JV$1<=C3),1,\"\")","v":""},{"$f":"IF(AND($JW$1>=B3,$JW$1<=C3),1,\"\")","v":""},{"$f":"IF(AND($JX$1>=B3,$JX$1<=C3),1,\"\")","v":""},{"$f":"IF(AND($JY$1>=B3,$JY$1<=C3),1,\"\")","v":""},{"$f":"IF(AND($JZ$1>=B3,$JZ$1<=C3),1,\"\")","v":""},{"$f":"IF(AND($KA$1>=B3,$KA$1<=C3),1,\"\")","v":""},{"$f":"IF(AND($KB$1>=B3,$KB$1<=C3),1,\"\")","v":""},{"$f":"IF(AND($KC$1>=B3,$KC$1<=C3),1,\"\")","v":""},{"$f":"IF(AND($KD$1>=B3,$KD$1<=C3),1,\"\")","v":""},{"$f":"IF(AND($KE$1>=B3,$KE$1<=C3),1,\"\")","v":""},{"$f":"IF(AND($KF$1>=B3,$KF$1<=C3),1,\"\")","v":""},{"$f":"IF(AND($KG$1>=B3,$KG$1<=C3),1,\"\")","v":""},{"$f":"IF(AND($KH$1>=B3,$KH$1<=C3),1,\"\")","v":""},{"$f":"IF(AND($KI$1>=B3,$KI$1<=C3),1,\"\")","v":""},{"$f":"IF(AND($KJ$1>=B3,$KJ$1<=C3),1,\"\")","v":""},{"$f":"IF(AND($KK$1>=B3,$KK$1<=C3),1,\"\")","v":""},{"$f":"IF(AND($KL$1>=B3,$KL$1<=C3),1,\"\")","v":""},{"$f":"IF(AND($KM$1>=B3,$KM$1<=C3),1,\"\")","v":""},{"$f":"IF(AND($KN$1>=B3,$KN$1<=C3),1,\"\")","v":""},{"$f":"IF(AND($KO$1>=B3,$KO$1<=C3),1,\"\")","v":""},{"$f":"IF(AND($KP$1>=B3,$KP$1<=C3),1,\"\")","v":""},{"$f":"IF(AND($KQ$1>=B3,$KQ$1<=C3),1,\"\")","v":""},{"$f":"IF(AND($KR$1>=B3,$KR$1<=C3),1,\"\")","v":""},{"$f":"IF(AND($KS$1>=B3,$KS$1<=C3),1,\"\")","v":""},{"$f":"IF(AND($KT$1>=B3,$KT$1<=C3),1,\"\")","v":""},{"$f":"IF(AND($KU$1>=B3,$KU$1<=C3),1,\"\")","v":""},{"$f":"IF(AND($KV$1>=B3,$KV$1<=C3),1,\"\")","v":""},{"$f":"IF(AND($KW$1>=B3,$KW$1<=C3),1,\"\")","v":""},{"$f":"IF(AND($KX$1>=B3,$KX$1<=C3),1,\"\")","v":""},{"$f":"IF(AND($KY$1>=B3,$KY$1<=C3),1,\"\")","v":""},{"$f":"IF(AND($KZ$1>=B3,$KZ$1<=C3),1,\"\")","v":""},{"$f":"IF(AND($LA$1>=B3,$LA$1<=C3),1,\"\")","v":""},{"$f":"IF(AND($LB$1>=B3,$LB$1<=C3),1,\"\")","v":""},{"$f":"IF(AND($LC$1>=B3,$LC$1<=C3),1,\"\")","v":""},{"$f":"IF(AND($LD$1>=B3,$LD$1<=C3),1,\"\")","v":""},{"$f":"IF(AND($LE$1>=B3,$LE$1<=C3),1,\"\")","v":""},{"$f":"IF(AND($LF$1>=B3,$LF$1<=C3),1,\"\")","v":""},{"$f":"IF(AND($LG$1>=B3,$LG$1<=C3),1,\"\")","v":""},{"$f":"IF(AND($LH$1>=B3,$LH$1<=C3),1,\"\")","v":""},{"$f":"IF(AND($LI$1>=B3,$LI$1<=C3),1,\"\")","v":""},{"$f":"IF(AND($LJ$1>=B3,$LJ$1<=C3),1,\"\")","v":""},{"$f":"IF(AND($LK$1>=B3,$LK$1<=C3),1,\"\")","v":""},{"$f":"IF(AND($LL$1>=B3,$LL$1<=C3),1,\"\")","v":""},{"$f":"IF(AND($LM$1>=B3,$LM$1<=C3),1,\"\")","v":""},{"$f":"IF(AND($LN$1>=B3,$LN$1<=C3),1,\"\")","v":""},{"$f":"IF(AND($LO$1>=B3,$LO$1<=C3),1,\"\")","v":""},{"$f":"IF(AND($LP$1>=B3,$LP$1<=C3),1,\"\")","v":""},{"$f":"IF(AND($LQ$1>=B3,$LQ$1<=C3),1,\"\")","v":""},{"$f":"IF(AND($LR$1>=B3,$LR$1<=C3),1,\"\")","v":""},{"$f":"IF(AND($LS$1>=B3,$LS$1<=C3),1,\"\")","v":""},{"$f":"IF(AND($LT$1>=B3,$LT$1<=C3),1,\"\")","v":""},{"$f":"IF(AND($LU$1>=B3,$LU$1<=C3),1,\"\")","v":""},{"$f":"IF(AND($LV$1>=B3,$LV$1<=C3),1,\"\")","v":""},{"$f":"IF(AND($LW$1>=B3,$LW$1<=C3),1,\"\")","v":""},{"$f":"IF(AND($LX$1>=B3,$LX$1<=C3),1,\"\")","v":""},{"$f":"IF(AND($LY$1>=B3,$LY$1<=C3),1,\"\")","v":""},{"$f":"IF(AND($LZ$1>=B3,$LZ$1<=C3),1,\"\")","v":""},{"$f":"IF(AND($MA$1>=B3,$MA$1<=C3),1,\"\")","v":""},{"$f":"IF(AND($MB$1>=B3,$MB$1<=C3),1,\"\")","v":""},{"$f":"IF(AND($MC$1>=B3,$MC$1<=C3),1,\"\")","v":""},{"$f":"IF(AND($MD$1>=B3,$MD$1<=C3),1,\"\")","v":""},{"$f":"IF(AND($ME$1>=B3,$ME$1<=C3),1,\"\")","v":""},{"$f":"IF(AND($MF$1>=B3,$MF$1<=C3),1,\"\")","v":""},{"$f":"IF(AND($MG$1>=B3,$MG$1<=C3),1,\"\")","v":""},{"$f":"IF(AND($MH$1>=B3,$MH$1<=C3),1,\"\")","v":""},{"$f":"IF(AND($MI$1>=B3,$MI$1<=C3),1,\"\")","v":""},{"$f":"IF(AND($MJ$1>=B3,$MJ$1<=C3),1,\"\")","v":""},{"$f":"IF(AND($MK$1>=B3,$MK$1<=C3),1,\"\")","v":""},{"$f":"IF(AND($ML$1>=B3,$ML$1<=C3),1,\"\")","v":""},{"$f":"IF(AND($MM$1>=B3,$MM$1<=C3),1,\"\")","v":""},{"$f":"IF(AND($MN$1>=B3,$MN$1<=C3),1,\"\")","v":""},{"$f":"IF(AND($MO$1>=B3,$MO$1<=C3),1,\"\")","v":""},{"$f":"IF(AND($MP$1>=B3,$MP$1<=C3),1,\"\")","v":""},{"$f":"IF(AND($MQ$1>=B3,$MQ$1<=C3),1,\"\")","v":""},{"$f":"IF(AND($MR$1>=B3,$MR$1<=C3),1,\"\")","v":""},{"$f":"IF(AND($MS$1>=B3,$MS$1<=C3),1,\"\")","v":""},{"$f":"IF(AND($MT$1>=B3,$MT$1<=C3),1,\"\")","v":""},{"$f":"IF(AND($MU$1>=B3,$MU$1<=C3),1,\"\")","v":""},{"$f":"IF(AND($MV$1>=B3,$MV$1<=C3),1,\"\")","v":""},{"$f":"IF(AND($MW$1>=B3,$MW$1<=C3),1,\"\")","v":""},{"$f":"IF(AND($MX$1>=B3,$MX$1<=C3),1,\"\")","v":""},{"$f":"IF(AND($MY$1>=B3,$MY$1<=C3),1,\"\")","v":""},{"$f":"IF(AND($MZ$1>=B3,$MZ$1<=C3),1,\"\")","v":""},{"$f":"IF(AND($NA$1>=B3,$NA$1<=C3),1,\"\")","v":""},{"$f":"IF(AND($NB$1>=B3,$NB$1<=C3),1,\"\")","v":""},{"$f":"IF(AND($NC$1>=B3,$NC$1<=C3),1,\"\")","v":""},{"$f":"IF(AND($ND$1>=B3,$ND$1<=C3),1,\"\")","v":""},{"$f":"IF(AND($NE$1>=B3,$NE$1<=C3),1,\"\")","v":""},{"$f":"IF(AND($NF$1>=B3,$NF$1<=C3),1,\"\")","v":""},{"$f":"IF(AND($NG$1>=B3,$NG$1<=C3),1,\"\")","v":""},{"$f":"IF(AND($NH$1>=B3,$NH$1<=C3),1,\"\")","v":""},{"$f":"IF($NI$1=\"\",\"\",IF(AND($NI$1>=B3,$NI$1<=C3),1,\"\"))","v":""}]
[null,null,null,null,"Total Overlapping Days",{"$f":"IF(ISERROR(H1),\"\",SUM(H102:NI102))","v":0},null,"","","","","","","","","","","","","","","","","","","","","","","","","","","","","","","","","","","","","","","","","","","","","","","","","","","","","","","","","","","","","","","","","","","","","","","","","","","","","","","","","","","","","","","","","","","","","","","","","","","","","","","","","","","","","","","","","","","","","","","","","","","","","","","","","","","","","","","","","","","","","","","","","","","","","","","","","","","","","","","","","","","","","","","","","","","","","","","","","","","","","","","","","","","","","","","","","","","","","","","","","","","","","","","","","","","","","","","","","","","","","","","","","","","","","","","","","","","","","","","","","","","","","","","","","","","","","","","","","","","","","","","","","","","","","","","","","","","","","","","","","","","","","","","","","","","","","","","","","","","","","","","","","","","","","","","","","","","","","","","","","","","","","","","","","","","","","","","","","","","","","","","","","","","","","","","","","","","","","","","","","","","","","",""]
[null,null,null,null,null,null,null,"","","","","","","","","","","","","","","","","","","","","","","","","","","","","","","","","","","","","","","","","","","","","","","","","","","","","","","","","","","","","","","","","","","","","","","","","","","","","","","","","","","","","","","","","","","","","","","","","","","","","","","","","","","","","","","","","","","","","","","","","","","","","","","","","","","","","","","","","","","","","","","","","","","","","","","","","","","","","","","","","","","","","","","","","","","","","","","","","","","","","","","","","","","","","","","","","","","","","","","","","","","","","","","","","","","","","","","","","","","","","","","","","","","","","","","","","","","","","","","","","","","","","","","","","","","","","","","","","","","","","","","","","","","","","","","","","","","","","","","","","","","","","","","","","","","","","","","","","","","","","","","","","","","","","","","","","","","","","","","","","","","","","","","","","","","","","","","","","","","","","","","","","","","","","","","","","","","","","","","","","","","","","",""]
[null,null,null,null,null,null,null,"","","","","","","","","","","","","","","","","","","","","","","","","","","","","","","","","","","","","","","","","","","","","","","","","","","","","","","","","","","","","","","","","","","","","","","","","","","","","","","","","","","","","","","","","","","","","","","","","","","","","","","","","","","","","","","","","","","","","","","","","","","","","","","","","","","","","","","","","","","","","","","","","","","","","","","","","","","","","","","","","","","","","","","","","","","","","","","","","","","","","","","","","","","","","","","","","","","","","","","","","","","","","","","","","","","","","","","","","","","","","","","","","","","","","","","","","","","","","","","","","","","","","","","","","","","","","","","","","","","","","","","","","","","","","","","","","","","","","","","","","","","","","","","","","","","","","","","","","","","","","","","","","","","","","","","","","","","","","","","","","","","","","","","","","","","","","","","","","","","","","","","","","","","","","","","","","","","","","","","","","","","","","",""]
[null,null,null,null,null,null,null,"","","","","","","","","","","","","","","","","","","","","","","","","","","","","","","","","","","","","","","","","","","","","","","","","","","","","","","","","","","","","","","","","","","","","","","","","","","","","","","","","","","","","","","","","","","","","","","","","","","","","","","","","","","","","","","","","","","","","","","","","","","","","","","","","","","","","","","","","","","","","","","","","","","","","","","","","","","","","","","","","","","","","","","","","","","","","","","","","","","","","","","","","","","","","","","","","","","","","","","","","","","","","","","","","","","","","","","","","","","","","","","","","","","","","","","","","","","","","","","","","","","","","","","","","","","","","","","","","","","","","","","","","","","","","","","","","","","","","","","","","","","","","","","","","","","","","","","","","","","","","","","","","","","","","","","","","","","","","","","","","","","","","","","","","","","","","","","","","","","","","","","","","","","","","","","","","","","","","","","","","","","","","",""]
[null,null,null,null,null,null,null,"","","","","","","","","","","","","","","","","","","","","","","","","","","","","","","","","","","","","","","","","","","","","","","","","","","","","","","","","","","","","","","","","","","","","","","","","","","","","","","","","","","","","","","","","","","","","","","","","","","","","","","","","","","","","","","","","","","","","","","","","","","","","","","","","","","","","","","","","","","","","","","","","","","","","","","","","","","","","","","","","","","","","","","","","","","","","","","","","","","","","","","","","","","","","","","","","","","","","","","","","","","","","","","","","","","","","","","","","","","","","","","","","","","","","","","","","","","","","","","","","","","","","","","","","","","","","","","","","","","","","","","","","","","","","","","","","","","","","","","","","","","","","","","","","","","","","","","","","","","","","","","","","","","","","","","","","","","","","","","","","","","","","","","","","","","","","","","","","","","","","","","","","","","","","","","","","","","","","","","","","","","","","",""]
[null,null,null,null,null,null,null,"","","","","","","","","","","","","","","","","","","","","","","","","","","","","","","","","","","","","","","","","","","","","","","","","","","","","","","","","","","","","","","","","","","","","","","","","","","","","","","","","","","","","","","","","","","","","","","","","","","","","","","","","","","","","","","","","","","","","","","","","","","","","","","","","","","","","","","","","","","","","","","","","","","","","","","","","","","","","","","","","","","","","","","","","","","","","","","","","","","","","","","","","","","","","","","","","","","","","","","","","","","","","","","","","","","","","","","","","","","","","","","","","","","","","","","","","","","","","","","","","","","","","","","","","","","","","","","","","","","","","","","","","","","","","","","","","","","","","","","","","","","","","","","","","","","","","","","","","","","","","","","","","","","","","","","","","","","","","","","","","","","","","","","","","","","","","","","","","","","","","","","","","","","","","","","","","","","","","","","","","","","","","",""]
[null,null,null,null,null,null,null,"","","","","","","","","","","","","","","","","","","","","","","","","","","","","","","","","","","","","","","","","","","","","","","","","","","","","","","","","","","","","","","","","","","","","","","","","","","","","","","","","","","","","","","","","","","","","","","","","","","","","","","","","","","","","","","","","","","","","","","","","","","","","","","","","","","","","","","","","","","","","","","","","","","","","","","","","","","","","","","","","","","","","","","","","","","","","","","","","","","","","","","","","","","","","","","","","","","","","","","","","","","","","","","","","","","","","","","","","","","","","","","","","","","","","","","","","","","","","","","","","","","","","","","","","","","","","","","","","","","","","","","","","","","","","","","","","","","","","","","","","","","","","","","","","","","","","","","","","","","","","","","","","","","","","","","","","","","","","","","","","","","","","","","","","","","","","","","","","","","","","","","","","","","","","","","","","","","","","","","","","","","","","",""]
[null,null,null,null,null,null,null,"","","","","","","","","","","","","","","","","","","","","","","","","","","","","","","","","","","","","","","","","","","","","","","","","","","","","","","","","","","","","","","","","","","","","","","","","","","","","","","","","","","","","","","","","","","","","","","","","","","","","","","","","","","","","","","","","","","","","","","","","","","","","","","","","","","","","","","","","","","","","","","","","","","","","","","","","","","","","","","","","","","","","","","","","","","","","","","","","","","","","","","","","","","","","","","","","","","","","","","","","","","","","","","","","","","","","","","","","","","","","","","","","","","","","","","","","","","","","","","","","","","","","","","","","","","","","","","","","","","","","","","","","","","","","","","","","","","","","","","","","","","","","","","","","","","","","","","","","","","","","","","","","","","","","","","","","","","","","","","","","","","","","","","","","","","","","","","","","","","","","","","","","","","","","","","","","","","","","","","","","","","","","",""]
[null,null,null,null,null,null,null,"","","","","","","","","","","","","","","","","","","","","","","","","","","","","","","","","","","","","","","","","","","","","","","","","","","","","","","","","","","","","","","","","","","","","","","","","","","","","","","","","","","","","","","","","","","","","","","","","","","","","","","","","","","","","","","","","","","","","","","","","","","","","","","","","","","","","","","","","","","","","","","","","","","","","","","","","","","","","","","","","","","","","","","","","","","","","","","","","","","","","","","","","","","","","","","","","","","","","","","","","","","","","","","","","","","","","","","","","","","","","","","","","","","","","","","","","","","","","","","","","","","","","","","","","","","","","","","","","","","","","","","","","","","","","","","","","","","","","","","","","","","","","","","","","","","","","","","","","","","","","","","","","","","","","","","","","","","","","","","","","","","","","","","","","","","","","","","","","","","","","","","","","","","","","","","","","","","","","","","","","","","","","",""]
[null,null,null,null,null,null,null,"","","","","","","","","","","","","","","","","","","","","","","","","","","","","","","","","","","","","","","","","","","","","","","","","","","","","","","","","","","","","","","","","","","","","","","","","","","","","","","","","","","","","","","","","","","","","","","","","","","","","","","","","","","","","","","","","","","","","","","","","","","","","","","","","","","","","","","","","","","","","","","","","","","","","","","","","","","","","","","","","","","","","","","","","","","","","","","","","","","","","","","","","","","","","","","","","","","","","","","","","","","","","","","","","","","","","","","","","","","","","","","","","","","","","","","","","","","","","","","","","","","","","","","","","","","","","","","","","","","","","","","","","","","","","","","","","","","","","","","","","","","","","","","","","","","","","","","","","","","","","","","","","","","","","","","","","","","","","","","","","","","","","","","","","","","","","","","","","","","","","","","","","","","","","","","","","","","","","","","","","","","","","",""]
[null,null,null,null,null,null,null,"","","","","","","","","","","","","","","","","","","","","","","","","","","","","","","","","","","","","","","","","","","","","","","","","","","","","","","","","","","","","","","","","","","","","","","","","","","","","","","","","","","","","","","","","","","","","","","","","","","","","","","","","","","","","","","","","","","","","","","","","","","","","","","","","","","","","","","","","","","","","","","","","","","","","","","","","","","","","","","","","","","","","","","","","","","","","","","","","","","","","","","","","","","","","","","","","","","","","","","","","","","","","","","","","","","","","","","","","","","","","","","","","","","","","","","","","","","","","","","","","","","","","","","","","","","","","","","","","","","","","","","","","","","","","","","","","","","","","","","","","","","","","","","","","","","","","","","","","","","","","","","","","","","","","","","","","","","","","","","","","","","","","","","","","","","","","","","","","","","","","","","","","","","","","","","","","","","","","","","","","","","","","",""]
[null,null,null,null,null,null,null,"","","","","","","","","","","","","","","","","","","","","","","","","","","","","","","","","","","","","","","","","","","","","","","","","","","","","","","","","","","","","","","","","","","","","","","","","","","","","","","","","","","","","","","","","","","","","","","","","","","","","","","","","","","","","","","","","","","","","","","","","","","","","","","","","","","","","","","","","","","","","","","","","","","","","","","","","","","","","","","","","","","","","","","","","","","","","","","","","","","","","","","","","","","","","","","","","","","","","","","","","","","","","","","","","","","","","","","","","","","","","","","","","","","","","","","","","","","","","","","","","","","","","","","","","","","","","","","","","","","","","","","","","","","","","","","","","","","","","","","","","","","","","","","","","","","","","","","","","","","","","","","","","","","","","","","","","","","","","","","","","","","","","","","","","","","","","","","","","","","","","","","","","","","","","","","","","","","","","","","","","","","","","",""]
[null,null,null,null,null,null,null,"","","","","","","","","","","","","","","","","","","","","","","","","","","","","","","","","","","","","","","","","","","","","","","","","","","","","","","","","","","","","","","","","","","","","","","","","","","","","","","","","","","","","","","","","","","","","","","","","","","","","","","","","","","","","","","","","","","","","","","","","","","","","","","","","","","","","","","","","","","","","","","","","","","","","","","","","","","","","","","","","","","","","","","","","","","","","","","","","","","","","","","","","","","","","","","","","","","","","","","","","","","","","","","","","","","","","","","","","","","","","","","","","","","","","","","","","","","","","","","","","","","","","","","","","","","","","","","","","","","","","","","","","","","","","","","","","","","","","","","","","","","","","","","","","","","","","","","","","","","","","","","","","","","","","","","","","","","","","","","","","","","","","","","","","","","","","","","","","","","","","","","","","","","","","","","","","","","","","","","","","","","","","",""]
[null,null,null,null,null,null,null,"","","","","","","","","","","","","","","","","","","","","","","","","","","","","","","","","","","","","","","","","","","","","","","","","","","","","","","","","","","","","","","","","","","","","","","","","","","","","","","","","","","","","","","","","","","","","","","","","","","","","","","","","","","","","","","","","","","","","","","","","","","","","","","","","","","","","","","","","","","","","","","","","","","","","","","","","","","","","","","","","","","","","","","","","","","","","","","","","","","","","","","","","","","","","","","","","","","","","","","","","","","","","","","","","","","","","","","","","","","","","","","","","","","","","","","","","","","","","","","","","","","","","","","","","","","","","","","","","","","","","","","","","","","","","","","","","","","","","","","","","","","","","","","","","","","","","","","","","","","","","","","","","","","","","","","","","","","","","","","","","","","","","","","","","","","","","","","","","","","","","","","","","","","","","","","","","","","","","","","","","","","","","",""]
[null,null,null,null,null,null,null,"","","","","","","","","","","","","","","","","","","","","","","","","","","","","","","","","","","","","","","","","","","","","","","","","","","","","","","","","","","","","","","","","","","","","","","","","","","","","","","","","","","","","","","","","","","","","","","","","","","","","","","","","","","","","","","","","","","","","","","","","","","","","","","","","","","","","","","","","","","","","","","","","","","","","","","","","","","","","","","","","","","","","","","","","","","","","","","","","","","","","","","","","","","","","","","","","","","","","","","","","","","","","","","","","","","","","","","","","","","","","","","","","","","","","","","","","","","","","","","","","","","","","","","","","","","","","","","","","","","","","","","","","","","","","","","","","","","","","","","","","","","","","","","","","","","","","","","","","","","","","","","","","","","","","","","","","","","","","","","","","","","","","","","","","","","","","","","","","","","","","","","","","","","","","","","","","","","","","","","","","","","","","",""]
[null,null,null,null,null,null,null,"","","","","","","","","","","","","","","","","","","","","","","","","","","","","","","","","","","","","","","","","","","","","","","","","","","","","","","","","","","","","","","","","","","","","","","","","","","","","","","","","","","","","","","","","","","","","","","","","","","","","","","","","","","","","","","","","","","","","","","","","","","","","","","","","","","","","","","","","","","","","","","","","","","","","","","","","","","","","","","","","","","","","","","","","","","","","","","","","","","","","","","","","","","","","","","","","","","","","","","","","","","","","","","","","","","","","","","","","","","","","","","","","","","","","","","","","","","","","","","","","","","","","","","","","","","","","","","","","","","","","","","","","","","","","","","","","","","","","","","","","","","","","","","","","","","","","","","","","","","","","","","","","","","","","","","","","","","","","","","","","","","","","","","","","","","","","","","","","","","","","","","","","","","","","","","","","","","","","","","","","","","","","",""]
[null,null,null,null,null,null,null,"","","","","","","","","","","","","","","","","","","","","","","","","","","","","","","","","","","","","","","","","","","","","","","","","","","","","","","","","","","","","","","","","","","","","","","","","","","","","","","","","","","","","","","","","","","","","","","","","","","","","","","","","","","","","","","","","","","","","","","","","","","","","","","","","","","","","","","","","","","","","","","","","","","","","","","","","","","","","","","","","","","","","","","","","","","","","","","","","","","","","","","","","","","","","","","","","","","","","","","","","","","","","","","","","","","","","","","","","","","","","","","","","","","","","","","","","","","","","","","","","","","","","","","","","","","","","","","","","","","","","","","","","","","","","","","","","","","","","","","","","","","","","","","","","","","","","","","","","","","","","","","","","","","","","","","","","","","","","","","","","","","","","","","","","","","","","","","","","","","","","","","","","","","","","","","","","","","","","","","","","","","","","",""]
[null,null,null,null,null,null,null,"","","","","","","","","","","","","","","","","","","","","","","","","","","","","","","","","","","","","","","","","","","","","","","","","","","","","","","","","","","","","","","","","","","","","","","","","","","","","","","","","","","","","","","","","","","","","","","","","","","","","","","","","","","","","","","","","","","","","","","","","","","","","","","","","","","","","","","","","","","","","","","","","","","","","","","","","","","","","","","","","","","","","","","","","","","","","","","","","","","","","","","","","","","","","","","","","","","","","","","","","","","","","","","","","","","","","","","","","","","","","","","","","","","","","","","","","","","","","","","","","","","","","","","","","","","","","","","","","","","","","","","","","","","","","","","","","","","","","","","","","","","","","","","","","","","","","","","","","","","","","","","","","","","","","","","","","","","","","","","","","","","","","","","","","","","","","","","","","","","","","","","","","","","","","","","","","","","","","","","","","","","","","",""]
[null,null,null,null,null,null,null,"","","","","","","","","","","","","","","","","","","","","","","","","","","","","","","","","","","","","","","","","","","","","","","","","","","","","","","","","","","","","","","","","","","","","","","","","","","","","","","","","","","","","","","","","","","","","","","","","","","","","","","","","","","","","","","","","","","","","","","","","","","","","","","","","","","","","","","","","","","","","","","","","","","","","","","","","","","","","","","","","","","","","","","","","","","","","","","","","","","","","","","","","","","","","","","","","","","","","","","","","","","","","","","","","","","","","","","","","","","","","","","","","","","","","","","","","","","","","","","","","","","","","","","","","","","","","","","","","","","","","","","","","","","","","","","","","","","","","","","","","","","","","","","","","","","","","","","","","","","","","","","","","","","","","","","","","","","","","","","","","","","","","","","","","","","","","","","","","","","","","","","","","","","","","","","","","","","","","","","","","","","","","",""]
[null,null,null,null,null,null,null,"","","","","","","","","","","","","","","","","","","","","","","","","","","","","","","","","","","","","","","","","","","","","","","","","","","","","","","","","","","","","","","","","","","","","","","","","","","","","","","","","","","","","","","","","","","","","","","","","","","","","","","","","","","","","","","","","","","","","","","","","","","","","","","","","","","","","","","","","","","","","","","","","","","","","","","","","","","","","","","","","","","","","","","","","","","","","","","","","","","","","","","","","","","","","","","","","","","","","","","","","","","","","","","","","","","","","","","","","","","","","","","","","","","","","","","","","","","","","","","","","","","","","","","","","","","","","","","","","","","","","","","","","","","","","","","","","","","","","","","","","","","","","","","","","","","","","","","","","","","","","","","","","","","","","","","","","","","","","","","","","","","","","","","","","","","","","","","","","","","","","","","","","","","","","","","","","","","","","","","","","","","","","",""]
[null,null,null,null,null,null,null,"","","","","","","","","","","","","","","","","","","","","","","","","","","","","","","","","","","","","","","","","","","","","","","","","","","","","","","","","","","","","","","","","","","","","","","","","","","","","","","","","","","","","","","","","","","","","","","","","","","","","","","","","","","","","","","","","","","","","","","","","","","","","","","","","","","","","","","","","","","","","","","","","","","","","","","","","","","","","","","","","","","","","","","","","","","","","","","","","","","","","","","","","","","","","","","","","","","","","","","","","","","","","","","","","","","","","","","","","","","","","","","","","","","","","","","","","","","","","","","","","","","","","","","","","","","","","","","","","","","","","","","","","","","","","","","","","","","","","","","","","","","","","","","","","","","","","","","","","","","","","","","","","","","","","","","","","","","","","","","","","","","","","","","","","","","","","","","","","","","","","","","","","","","","","","","","","","","","","","","","","","","","","",""]
[null,null,null,null,null,null,null,"","","","","","","","","","","","","","","","","","","","","","","","","","","","","","","","","","","","","","","","","","","","","","","","","","","","","","","","","","","","","","","","","","","","","","","","","","","","","","","","","","","","","","","","","","","","","","","","","","","","","","","","","","","","","","","","","","","","","","","","","","","","","","","","","","","","","","","","","","","","","","","","","","","","","","","","","","","","","","","","","","","","","","","","","","","","","","","","","","","","","","","","","","","","","","","","","","","","","","","","","","","","","","","","","","","","","","","","","","","","","","","","","","","","","","","","","","","","","","","","","","","","","","","","","","","","","","","","","","","","","","","","","","","","","","","","","","","","","","","","","","","","","","","","","","","","","","","","","","","","","","","","","","","","","","","","","","","","","","","","","","","","","","","","","","","","","","","","","","","","","","","","","","","","","","","","","","","","","","","","","","","","","",""]
[null,null,null,null,null,null,null,"","","","","","","","","","","","","","","","","","","","","","","","","","","","","","","","","","","","","","","","","","","","","","","","","","","","","","","","","","","","","","","","","","","","","","","","","","","","","","","","","","","","","","","","","","","","","","","","","","","","","","","","","","","","","","","","","","","","","","","","","","","","","","","","","","","","","","","","","","","","","","","","","","","","","","","","","","","","","","","","","","","","","","","","","","","","","","","","","","","","","","","","","","","","","","","","","","","","","","","","","","","","","","","","","","","","","","","","","","","","","","","","","","","","","","","","","","","","","","","","","","","","","","","","","","","","","","","","","","","","","","","","","","","","","","","","","","","","","","","","","","","","","","","","","","","","","","","","","","","","","","","","","","","","","","","","","","","","","","","","","","","","","","","","","","","","","","","","","","","","","","","","","","","","","","","","","","","","","","","","","","","","","",""]
[null,null,null,null,null,null,null,"","","","","","","","","","","","","","","","","","","","","","","","","","","","","","","","","","","","","","","","","","","","","","","","","","","","","","","","","","","","","","","","","","","","","","","","","","","","","","","","","","","","","","","","","","","","","","","","","","","","","","","","","","","","","","","","","","","","","","","","","","","","","","","","","","","","","","","","","","","","","","","","","","","","","","","","","","","","","","","","","","","","","","","","","","","","","","","","","","","","","","","","","","","","","","","","","","","","","","","","","","","","","","","","","","","","","","","","","","","","","","","","","","","","","","","","","","","","","","","","","","","","","","","","","","","","","","","","","","","","","","","","","","","","","","","","","","","","","","","","","","","","","","","","","","","","","","","","","","","","","","","","","","","","","","","","","","","","","","","","","","","","","","","","","","","","","","","","","","","","","","","","","","","","","","","","","","","","","","","","","","","","","",""]
[null,null,null,null,null,null,null,"","","","","","","","","","","","","","","","","","","","","","","","","","","","","","","","","","","","","","","","","","","","","","","","","","","","","","","","","","","","","","","","","","","","","","","","","","","","","","","","","","","","","","","","","","","","","","","","","","","","","","","","","","","","","","","","","","","","","","","","","","","","","","","","","","","","","","","","","","","","","","","","","","","","","","","","","","","","","","","","","","","","","","","","","","","","","","","","","","","","","","","","","","","","","","","","","","","","","","","","","","","","","","","","","","","","","","","","","","","","","","","","","","","","","","","","","","","","","","","","","","","","","","","","","","","","","","","","","","","","","","","","","","","","","","","","","","","","","","","","","","","","","","","","","","","","","","","","","","","","","","","","","","","","","","","","","","","","","","","","","","","","","","","","","","","","","","","","","","","","","","","","","","","","","","","","","","","","","","","","","","","","","",""]
[null,null,null,null,null,null,null,"","","","","","","","","","","","","","","","","","","","","","","","","","","","","","","","","","","","","","","","","","","","","","","","","","","","","","","","","","","","","","","","","","","","","","","","","","","","","","","","","","","","","","","","","","","","","","","","","","","","","","","","","","","","","","","","","","","","","","","","","","","","","","","","","","","","","","","","","","","","","","","","","","","","","","","","","","","","","","","","","","","","","","","","","","","","","","","","","","","","","","","","","","","","","","","","","","","","","","","","","","","","","","","","","","","","","","","","","","","","","","","","","","","","","","","","","","","","","","","","","","","","","","","","","","","","","","","","","","","","","","","","","","","","","","","","","","","","","","","","","","","","","","","","","","","","","","","","","","","","","","","","","","","","","","","","","","","","","","","","","","","","","","","","","","","","","","","","","","","","","","","","","","","","","","","","","","","","","","","","","","","","","",""]
[null,null,null,null,null,null,null,"","","","","","","","","","","","","","","","","","","","","","","","","","","","","","","","","","","","","","","","","","","","","","","","","","","","","","","","","","","","","","","","","","","","","","","","","","","","","","","","","","","","","","","","","","","","","","","","","","","","","","","","","","","","","","","","","","","","","","","","","","","","","","","","","","","","","","","","","","","","","","","","","","","","","","","","","","","","","","","","","","","","","","","","","","","","","","","","","","","","","","","","","","","","","","","","","","","","","","","","","","","","","","","","","","","","","","","","","","","","","","","","","","","","","","","","","","","","","","","","","","","","","","","","","","","","","","","","","","","","","","","","","","","","","","","","","","","","","","","","","","","","","","","","","","","","","","","","","","","","","","","","","","","","","","","","","","","","","","","","","","","","","","","","","","","","","","","","","","","","","","","","","","","","","","","","","","","","","","","","","","","","","",""]
[null,null,null,null,null,null,null,"","","","","","","","","","","","","","","","","","","","","","","","","","","","","","","","","","","","","","","","","","","","","","","","","","","","","","","","","","","","","","","","","","","","","","","","","","","","","","","","","","","","","","","","","","","","","","","","","","","","","","","","","","","","","","","","","","","","","","","","","","","","","","","","","","","","","","","","","","","","","","","","","","","","","","","","","","","","","","","","","","","","","","","","","","","","","","","","","","","","","","","","","","","","","","","","","","","","","","","","","","","","","","","","","","","","","","","","","","","","","","","","","","","","","","","","","","","","","","","","","","","","","","","","","","","","","","","","","","","","","","","","","","","","","","","","","","","","","","","","","","","","","","","","","","","","","","","","","","","","","","","","","","","","","","","","","","","","","","","","","","","","","","","","","","","","","","","","","","","","","","","","","","","","","","","","","","","","","","","","","","","","","",""]
[null,null,null,null,null,null,null,"","","","","","","","","","","","","","","","","","","","","","","","","","","","","","","","","","","","","","","","","","","","","","","","","","","","","","","","","","","","","","","","","","","","","","","","","","","","","","","","","","","","","","","","","","","","","","","","","","","","","","","","","","","","","","","","","","","","","","","","","","","","","","","","","","","","","","","","","","","","","","","","","","","","","","","","","","","","","","","","","","","","","","","","","","","","","","","","","","","","","","","","","","","","","","","","","","","","","","","","","","","","","","","","","","","","","","","","","","","","","","","","","","","","","","","","","","","","","","","","","","","","","","","","","","","","","","","","","","","","","","","","","","","","","","","","","","","","","","","","","","","","","","","","","","","","","","","","","","","","","","","","","","","","","","","","","","","","","","","","","","","","","","","","","","","","","","","","","","","","","","","","","","","","","","","","","","","","","","","","","","","","","",""]
[null,null,null,null,null,null,null,"","","","","","","","","","","","","","","","","","","","","","","","","","","","","","","","","","","","","","","","","","","","","","","","","","","","","","","","","","","","","","","","","","","","","","","","","","","","","","","","","","","","","","","","","","","","","","","","","","","","","","","","","","","","","","","","","","","","","","","","","","","","","","","","","","","","","","","","","","","","","","","","","","","","","","","","","","","","","","","","","","","","","","","","","","","","","","","","","","","","","","","","","","","","","","","","","","","","","","","","","","","","","","","","","","","","","","","","","","","","","","","","","","","","","","","","","","","","","","","","","","","","","","","","","","","","","","","","","","","","","","","","","","","","","","","","","","","","","","","","","","","","","","","","","","","","","","","","","","","","","","","","","","","","","","","","","","","","","","","","","","","","","","","","","","","","","","","","","","","","","","","","","","","","","","","","","","","","","","","","","","","","","",""]
[null,null,null,null,null,null,null,"","","","","","","","","","","","","","","","","","","","","","","","","","","","","","","","","","","","","","","","","","","","","","","","","","","","","","","","","","","","","","","","","","","","","","","","","","","","","","","","","","","","","","","","","","","","","","","","","","","","","","","","","","","","","","","","","","","","","","","","","","","","","","","","","","","","","","","","","","","","","","","","","","","","","","","","","","","","","","","","","","","","","","","","","","","","","","","","","","","","","","","","","","","","","","","","","","","","","","","","","","","","","","","","","","","","","","","","","","","","","","","","","","","","","","","","","","","","","","","","","","","","","","","","","","","","","","","","","","","","","","","","","","","","","","","","","","","","","","","","","","","","","","","","","","","","","","","","","","","","","","","","","","","","","","","","","","","","","","","","","","","","","","","","","","","","","","","","","","","","","","","","","","","","","","","","","","","","","","","","","","","","","",""]
[null,null,null,null,null,null,null,"","","","","","","","","","","","","","","","","","","","","","","","","","","","","","","","","","","","","","","","","","","","","","","","","","","","","","","","","","","","","","","","","","","","","","","","","","","","","","","","","","","","","","","","","","","","","","","","","","","","","","","","","","","","","","","","","","","","","","","","","","","","","","","","","","","","","","","","","","","","","","","","","","","","","","","","","","","","","","","","","","","","","","","","","","","","","","","","","","","","","","","","","","","","","","","","","","","","","","","","","","","","","","","","","","","","","","","","","","","","","","","","","","","","","","","","","","","","","","","","","","","","","","","","","","","","","","","","","","","","","","","","","","","","","","","","","","","","","","","","","","","","","","","","","","","","","","","","","","","","","","","","","","","","","","","","","","","","","","","","","","","","","","","","","","","","","","","","","","","","","","","","","","","","","","","","","","","","","","","","","","","","","",""]
[null,null,null,null,null,null,null,"","","","","","","","","","","","","","","","","","","","","","","","","","","","","","","","","","","","","","","","","","","","","","","","","","","","","","","","","","","","","","","","","","","","","","","","","","","","","","","","","","","","","","","","","","","","","","","","","","","","","","","","","","","","","","","","","","","","","","","","","","","","","","","","","","","","","","","","","","","","","","","","","","","","","","","","","","","","","","","","","","","","","","","","","","","","","","","","","","","","","","","","","","","","","","","","","","","","","","","","","","","","","","","","","","","","","","","","","","","","","","","","","","","","","","","","","","","","","","","","","","","","","","","","","","","","","","","","","","","","","","","","","","","","","","","","","","","","","","","","","","","","","","","","","","","","","","","","","","","","","","","","","","","","","","","","","","","","","","","","","","","","","","","","","","","","","","","","","","","","","","","","","","","","","","","","","","","","","","","","","","","","","",""]
[null,null,null,null,null,null,null,"","","","","","","","","","","","","","","","","","","","","","","","","","","","","","","","","","","","","","","","","","","","","","","","","","","","","","","","","","","","","","","","","","","","","","","","","","","","","","","","","","","","","","","","","","","","","","","","","","","","","","","","","","","","","","","","","","","","","","","","","","","","","","","","","","","","","","","","","","","","","","","","","","","","","","","","","","","","","","","","","","","","","","","","","","","","","","","","","","","","","","","","","","","","","","","","","","","","","","","","","","","","","","","","","","","","","","","","","","","","","","","","","","","","","","","","","","","","","","","","","","","","","","","","","","","","","","","","","","","","","","","","","","","","","","","","","","","","","","","","","","","","","","","","","","","","","","","","","","","","","","","","","","","","","","","","","","","","","","","","","","","","","","","","","","","","","","","","","","","","","","","","","","","","","","","","","","","","","","","","","","","","","",""]
[null,null,null,null,null,null,null,"","","","","","","","","","","","","","","","","","","","","","","","","","","","","","","","","","","","","","","","","","","","","","","","","","","","","","","","","","","","","","","","","","","","","","","","","","","","","","","","","","","","","","","","","","","","","","","","","","","","","","","","","","","","","","","","","","","","","","","","","","","","","","","","","","","","","","","","","","","","","","","","","","","","","","","","","","","","","","","","","","","","","","","","","","","","","","","","","","","","","","","","","","","","","","","","","","","","","","","","","","","","","","","","","","","","","","","","","","","","","","","","","","","","","","","","","","","","","","","","","","","","","","","","","","","","","","","","","","","","","","","","","","","","","","","","","","","","","","","","","","","","","","","","","","","","","","","","","","","","","","","","","","","","","","","","","","","","","","","","","","","","","","","","","","","","","","","","","","","","","","","","","","","","","","","","","","","","","","","","","","","","","",""]
[null,null,null,null,null,null,null,"","","","","","","","","","","","","","","","","","","","","","","","","","","","","","","","","","","","","","","","","","","","","","","","","","","","","","","","","","","","","","","","","","","","","","","","","","","","","","","","","","","","","","","","","","","","","","","","","","","","","","","","","","","","","","","","","","","","","","","","","","","","","","","","","","","","","","","","","","","","","","","","","","","","","","","","","","","","","","","","","","","","","","","","","","","","","","","","","","","","","","","","","","","","","","","","","","","","","","","","","","","","","","","","","","","","","","","","","","","","","","","","","","","","","","","","","","","","","","","","","","","","","","","","","","","","","","","","","","","","","","","","","","","","","","","","","","","","","","","","","","","","","","","","","","","","","","","","","","","","","","","","","","","","","","","","","","","","","","","","","","","","","","","","","","","","","","","","","","","","","","","","","","","","","","","","","","","","","","","","","","","","","",""]
[null,null,null,null,null,null,null,"","","","","","","","","","","","","","","","","","","","","","","","","","","","","","","","","","","","","","","","","","","","","","","","","","","","","","","","","","","","","","","","","","","","","","","","","","","","","","","","","","","","","","","","","","","","","","","","","","","","","","","","","","","","","","","","","","","","","","","","","","","","","","","","","","","","","","","","","","","","","","","","","","","","","","","","","","","","","","","","","","","","","","","","","","","","","","","","","","","","","","","","","","","","","","","","","","","","","","","","","","","","","","","","","","","","","","","","","","","","","","","","","","","","","","","","","","","","","","","","","","","","","","","","","","","","","","","","","","","","","","","","","","","","","","","","","","","","","","","","","","","","","","","","","","","","","","","","","","","","","","","","","","","","","","","","","","","","","","","","","","","","","","","","","","","","","","","","","","","","","","","","","","","","","","","","","","","","","","","","","","","","","",""]
[null,null,null,null,null,null,null,"","","","","","","","","","","","","","","","","","","","","","","","","","","","","","","","","","","","","","","","","","","","","","","","","","","","","","","","","","","","","","","","","","","","","","","","","","","","","","","","","","","","","","","","","","","","","","","","","","","","","","","","","","","","","","","","","","","","","","","","","","","","","","","","","","","","","","","","","","","","","","","","","","","","","","","","","","","","","","","","","","","","","","","","","","","","","","","","","","","","","","","","","","","","","","","","","","","","","","","","","","","","","","","","","","","","","","","","","","","","","","","","","","","","","","","","","","","","","","","","","","","","","","","","","","","","","","","","","","","","","","","","","","","","","","","","","","","","","","","","","","","","","","","","","","","","","","","","","","","","","","","","","","","","","","","","","","","","","","","","","","","","","","","","","","","","","","","","","","","","","","","","","","","","","","","","","","","","","","","","","","","","","",""]
[null,null,null,null,null,null,null,"","","","","","","","","","","","","","","","","","","","","","","","","","","","","","","","","","","","","","","","","","","","","","","","","","","","","","","","","","","","","","","","","","","","","","","","","","","","","","","","","","","","","","","","","","","","","","","","","","","","","","","","","","","","","","","","","","","","","","","","","","","","","","","","","","","","","","","","","","","","","","","","","","","","","","","","","","","","","","","","","","","","","","","","","","","","","","","","","","","","","","","","","","","","","","","","","","","","","","","","","","","","","","","","","","","","","","","","","","","","","","","","","","","","","","","","","","","","","","","","","","","","","","","","","","","","","","","","","","","","","","","","","","","","","","","","","","","","","","","","","","","","","","","","","","","","","","","","","","","","","","","","","","","","","","","","","","","","","","","","","","","","","","","","","","","","","","","","","","","","","","","","","","","","","","","","","","","","","","","","","","","","","",""]
[null,null,null,null,null,null,null,"","","","","","","","","","","","","","","","","","","","","","","","","","","","","","","","","","","","","","","","","","","","","","","","","","","","","","","","","","","","","","","","","","","","","","","","","","","","","","","","","","","","","","","","","","","","","","","","","","","","","","","","","","","","","","","","","","","","","","","","","","","","","","","","","","","","","","","","","","","","","","","","","","","","","","","","","","","","","","","","","","","","","","","","","","","","","","","","","","","","","","","","","","","","","","","","","","","","","","","","","","","","","","","","","","","","","","","","","","","","","","","","","","","","","","","","","","","","","","","","","","","","","","","","","","","","","","","","","","","","","","","","","","","","","","","","","","","","","","","","","","","","","","","","","","","","","","","","","","","","","","","","","","","","","","","","","","","","","","","","","","","","","","","","","","","","","","","","","","","","","","","","","","","","","","","","","","","","","","","","","","","","","",""]
[null,null,null,null,null,null,null,"","","","","","","","","","","","","","","","","","","","","","","","","","","","","","","","","","","","","","","","","","","","","","","","","","","","","","","","","","","","","","","","","","","","","","","","","","","","","","","","","","","","","","","","","","","","","","","","","","","","","","","","","","","","","","","","","","","","","","","","","","","","","","","","","","","","","","","","","","","","","","","","","","","","","","","","","","","","","","","","","","","","","","","","","","","","","","","","","","","","","","","","","","","","","","","","","","","","","","","","","","","","","","","","","","","","","","","","","","","","","","","","","","","","","","","","","","","","","","","","","","","","","","","","","","","","","","","","","","","","","","","","","","","","","","","","","","","","","","","","","","","","","","","","","","","","","","","","","","","","","","","","","","","","","","","","","","","","","","","","","","","","","","","","","","","","","","","","","","","","","","","","","","","","","","","","","","","","","","","","","","","","","",""]
[null,null,null,null,null,null,null,"","","","","","","","","","","","","","","","","","","","","","","","","","","","","","","","","","","","","","","","","","","","","","","","","","","","","","","","","","","","","","","","","","","","","","","","","","","","","","","","","","","","","","","","","","","","","","","","","","","","","","","","","","","","","","","","","","","","","","","","","","","","","","","","","","","","","","","","","","","","","","","","","","","","","","","","","","","","","","","","","","","","","","","","","","","","","","","","","","","","","","","","","","","","","","","","","","","","","","","","","","","","","","","","","","","","","","","","","","","","","","","","","","","","","","","","","","","","","","","","","","","","","","","","","","","","","","","","","","","","","","","","","","","","","","","","","","","","","","","","","","","","","","","","","","","","","","","","","","","","","","","","","","","","","","","","","","","","","","","","","","","","","","","","","","","","","","","","","","","","","","","","","","","","","","","","","","","","","","","","","","","","","",""]
[null,null,null,null,null,null,null,"","","","","","","","","","","","","","","","","","","","","","","","","","","","","","","","","","","","","","","","","","","","","","","","","","","","","","","","","","","","","","","","","","","","","","","","","","","","","","","","","","","","","","","","","","","","","","","","","","","","","","","","","","","","","","","","","","","","","","","","","","","","","","","","","","","","","","","","","","","","","","","","","","","","","","","","","","","","","","","","","","","","","","","","","","","","","","","","","","","","","","","","","","","","","","","","","","","","","","","","","","","","","","","","","","","","","","","","","","","","","","","","","","","","","","","","","","","","","","","","","","","","","","","","","","","","","","","","","","","","","","","","","","","","","","","","","","","","","","","","","","","","","","","","","","","","","","","","","","","","","","","","","","","","","","","","","","","","","","","","","","","","","","","","","","","","","","","","","","","","","","","","","","","","","","","","","","","","","","","","","","","","","",""]
[null,null,null,null,null,null,null,"","","","","","","","","","","","","","","","","","","","","","","","","","","","","","","","","","","","","","","","","","","","","","","","","","","","","","","","","","","","","","","","","","","","","","","","","","","","","","","","","","","","","","","","","","","","","","","","","","","","","","","","","","","","","","","","","","","","","","","","","","","","","","","","","","","","","","","","","","","","","","","","","","","","","","","","","","","","","","","","","","","","","","","","","","","","","","","","","","","","","","","","","","","","","","","","","","","","","","","","","","","","","","","","","","","","","","","","","","","","","","","","","","","","","","","","","","","","","","","","","","","","","","","","","","","","","","","","","","","","","","","","","","","","","","","","","","","","","","","","","","","","","","","","","","","","","","","","","","","","","","","","","","","","","","","","","","","","","","","","","","","","","","","","","","","","","","","","","","","","","","","","","","","","","","","","","","","","","","","","","","","","","",""]
[null,null,null,null,null,null,null,"","","","","","","","","","","","","","","","","","","","","","","","","","","","","","","","","","","","","","","","","","","","","","","","","","","","","","","","","","","","","","","","","","","","","","","","","","","","","","","","","","","","","","","","","","","","","","","","","","","","","","","","","","","","","","","","","","","","","","","","","","","","","","","","","","","","","","","","","","","","","","","","","","","","","","","","","","","","","","","","","","","","","","","","","","","","","","","","","","","","","","","","","","","","","","","","","","","","","","","","","","","","","","","","","","","","","","","","","","","","","","","","","","","","","","","","","","","","","","","","","","","","","","","","","","","","","","","","","","","","","","","","","","","","","","","","","","","","","","","","","","","","","","","","","","","","","","","","","","","","","","","","","","","","","","","","","","","","","","","","","","","","","","","","","","","","","","","","","","","","","","","","","","","","","","","","","","","","","","","","","","","","","",""]
[null,null,null,null,null,null,null,"","","","","","","","","","","","","","","","","","","","","","","","","","","","","","","","","","","","","","","","","","","","","","","","","","","","","","","","","","","","","","","","","","","","","","","","","","","","","","","","","","","","","","","","","","","","","","","","","","","","","","","","","","","","","","","","","","","","","","","","","","","","","","","","","","","","","","","","","","","","","","","","","","","","","","","","","","","","","","","","","","","","","","","","","","","","","","","","","","","","","","","","","","","","","","","","","","","","","","","","","","","","","","","","","","","","","","","","","","","","","","","","","","","","","","","","","","","","","","","","","","","","","","","","","","","","","","","","","","","","","","","","","","","","","","","","","","","","","","","","","","","","","","","","","","","","","","","","","","","","","","","","","","","","","","","","","","","","","","","","","","","","","","","","","","","","","","","","","","","","","","","","","","","","","","","","","","","","","","","","","","","","","",""]
[null,null,null,null,null,null,null,"","","","","","","","","","","","","","","","","","","","","","","","","","","","","","","","","","","","","","","","","","","","","","","","","","","","","","","","","","","","","","","","","","","","","","","","","","","","","","","","","","","","","","","","","","","","","","","","","","","","","","","","","","","","","","","","","","","","","","","","","","","","","","","","","","","","","","","","","","","","","","","","","","","","","","","","","","","","","","","","","","","","","","","","","","","","","","","","","","","","","","","","","","","","","","","","","","","","","","","","","","","","","","","","","","","","","","","","","","","","","","","","","","","","","","","","","","","","","","","","","","","","","","","","","","","","","","","","","","","","","","","","","","","","","","","","","","","","","","","","","","","","","","","","","","","","","","","","","","","","","","","","","","","","","","","","","","","","","","","","","","","","","","","","","","","","","","","","","","","","","","","","","","","","","","","","","","","","","","","","","","","","","",""]
[null,null,null,null,null,null,null,"","","","","","","","","","","","","","","","","","","","","","","","","","","","","","","","","","","","","","","","","","","","","","","","","","","","","","","","","","","","","","","","","","","","","","","","","","","","","","","","","","","","","","","","","","","","","","","","","","","","","","","","","","","","","","","","","","","","","","","","","","","","","","","","","","","","","","","","","","","","","","","","","","","","","","","","","","","","","","","","","","","","","","","","","","","","","","","","","","","","","","","","","","","","","","","","","","","","","","","","","","","","","","","","","","","","","","","","","","","","","","","","","","","","","","","","","","","","","","","","","","","","","","","","","","","","","","","","","","","","","","","","","","","","","","","","","","","","","","","","","","","","","","","","","","","","","","","","","","","","","","","","","","","","","","","","","","","","","","","","","","","","","","","","","","","","","","","","","","","","","","","","","","","","","","","","","","","","","","","","","","","","","",""]
[null,null,null,null,null,null,null,"","","","","","","","","","","","","","","","","","","","","","","","","","","","","","","","","","","","","","","","","","","","","","","","","","","","","","","","","","","","","","","","","","","","","","","","","","","","","","","","","","","","","","","","","","","","","","","","","","","","","","","","","","","","","","","","","","","","","","","","","","","","","","","","","","","","","","","","","","","","","","","","","","","","","","","","","","","","","","","","","","","","","","","","","","","","","","","","","","","","","","","","","","","","","","","","","","","","","","","","","","","","","","","","","","","","","","","","","","","","","","","","","","","","","","","","","","","","","","","","","","","","","","","","","","","","","","","","","","","","","","","","","","","","","","","","","","","","","","","","","","","","","","","","","","","","","","","","","","","","","","","","","","","","","","","","","","","","","","","","","","","","","","","","","","","","","","","","","","","","","","","","","","","","","","","","","","","","","","","","","","","","","",""]
[null,null,null,null,null,null,null,"","","","","","","","","","","","","","","","","","","","","","","","","","","","","","","","","","","","","","","","","","","","","","","","","","","","","","","","","","","","","","","","","","","","","","","","","","","","","","","","","","","","","","","","","","","","","","","","","","","","","","","","","","","","","","","","","","","","","","","","","","","","","","","","","","","","","","","","","","","","","","","","","","","","","","","","","","","","","","","","","","","","","","","","","","","","","","","","","","","","","","","","","","","","","","","","","","","","","","","","","","","","","","","","","","","","","","","","","","","","","","","","","","","","","","","","","","","","","","","","","","","","","","","","","","","","","","","","","","","","","","","","","","","","","","","","","","","","","","","","","","","","","","","","","","","","","","","","","","","","","","","","","","","","","","","","","","","","","","","","","","","","","","","","","","","","","","","","","","","","","","","","","","","","","","","","","","","","","","","","","","","","","",""]
[null,null,null,null,null,null,null,"","","","","","","","","","","","","","","","","","","","","","","","","","","","","","","","","","","","","","","","","","","","","","","","","","","","","","","","","","","","","","","","","","","","","","","","","","","","","","","","","","","","","","","","","","","","","","","","","","","","","","","","","","","","","","","","","","","","","","","","","","","","","","","","","","","","","","","","","","","","","","","","","","","","","","","","","","","","","","","","","","","","","","","","","","","","","","","","","","","","","","","","","","","","","","","","","","","","","","","","","","","","","","","","","","","","","","","","","","","","","","","","","","","","","","","","","","","","","","","","","","","","","","","","","","","","","","","","","","","","","","","","","","","","","","","","","","","","","","","","","","","","","","","","","","","","","","","","","","","","","","","","","","","","","","","","","","","","","","","","","","","","","","","","","","","","","","","","","","","","","","","","","","","","","","","","","","","","","","","","","","","","","",""]
[null,null,null,null,null,null,null,"","","","","","","","","","","","","","","","","","","","","","","","","","","","","","","","","","","","","","","","","","","","","","","","","","","","","","","","","","","","","","","","","","","","","","","","","","","","","","","","","","","","","","","","","","","","","","","","","","","","","","","","","","","","","","","","","","","","","","","","","","","","","","","","","","","","","","","","","","","","","","","","","","","","","","","","","","","","","","","","","","","","","","","","","","","","","","","","","","","","","","","","","","","","","","","","","","","","","","","","","","","","","","","","","","","","","","","","","","","","","","","","","","","","","","","","","","","","","","","","","","","","","","","","","","","","","","","","","","","","","","","","","","","","","","","","","","","","","","","","","","","","","","","","","","","","","","","","","","","","","","","","","","","","","","","","","","","","","","","","","","","","","","","","","","","","","","","","","","","","","","","","","","","","","","","","","","","","","","","","","","","","","",""]
[null,null,null,null,null,null,null,"","","","","","","","","","","","","","","","","","","","","","","","","","","","","","","","","","","","","","","","","","","","","","","","","","","","","","","","","","","","","","","","","","","","","","","","","","","","","","","","","","","","","","","","","","","","","","","","","","","","","","","","","","","","","","","","","","","","","","","","","","","","","","","","","","","","","","","","","","","","","","","","","","","","","","","","","","","","","","","","","","","","","","","","","","","","","","","","","","","","","","","","","","","","","","","","","","","","","","","","","","","","","","","","","","","","","","","","","","","","","","","","","","","","","","","","","","","","","","","","","","","","","","","","","","","","","","","","","","","","","","","","","","","","","","","","","","","","","","","","","","","","","","","","","","","","","","","","","","","","","","","","","","","","","","","","","","","","","","","","","","","","","","","","","","","","","","","","","","","","","","","","","","","","","","","","","","","","","","","","","","","","","",""]
[null,null,null,null,null,null,null,"","","","","","","","","","","","","","","","","","","","","","","","","","","","","","","","","","","","","","","","","","","","","","","","","","","","","","","","","","","","","","","","","","","","","","","","","","","","","","","","","","","","","","","","","","","","","","","","","","","","","","","","","","","","","","","","","","","","","","","","","","","","","","","","","","","","","","","","","","","","","","","","","","","","","","","","","","","","","","","","","","","","","","","","","","","","","","","","","","","","","","","","","","","","","","","","","","","","","","","","","","","","","","","","","","","","","","","","","","","","","","","","","","","","","","","","","","","","","","","","","","","","","","","","","","","","","","","","","","","","","","","","","","","","","","","","","","","","","","","","","","","","","","","","","","","","","","","","","","","","","","","","","","","","","","","","","","","","","","","","","","","","","","","","","","","","","","","","","","","","","","","","","","","","","","","","","","","","","","","","","","","","","",""]
[null,null,null,null,null,null,null,"","","","","","","","","","","","","","","","","","","","","","","","","","","","","","","","","","","","","","","","","","","","","","","","","","","","","","","","","","","","","","","","","","","","","","","","","","","","","","","","","","","","","","","","","","","","","","","","","","","","","","","","","","","","","","","","","","","","","","","","","","","","","","","","","","","","","","","","","","","","","","","","","","","","","","","","","","","","","","","","","","","","","","","","","","","","","","","","","","","","","","","","","","","","","","","","","","","","","","","","","","","","","","","","","","","","","","","","","","","","","","","","","","","","","","","","","","","","","","","","","","","","","","","","","","","","","","","","","","","","","","","","","","","","","","","","","","","","","","","","","","","","","","","","","","","","","","","","","","","","","","","","","","","","","","","","","","","","","","","","","","","","","","","","","","","","","","","","","","","","","","","","","","","","","","","","","","","","","","","","","","","","","",""]
[null,null,null,null,null,null,null,"","","","","","","","","","","","","","","","","","","","","","","","","","","","","","","","","","","","","","","","","","","","","","","","","","","","","","","","","","","","","","","","","","","","","","","","","","","","","","","","","","","","","","","","","","","","","","","","","","","","","","","","","","","","","","","","","","","","","","","","","","","","","","","","","","","","","","","","","","","","","","","","","","","","","","","","","","","","","","","","","","","","","","","","","","","","","","","","","","","","","","","","","","","","","","","","","","","","","","","","","","","","","","","","","","","","","","","","","","","","","","","","","","","","","","","","","","","","","","","","","","","","","","","","","","","","","","","","","","","","","","","","","","","","","","","","","","","","","","","","","","","","","","","","","","","","","","","","","","","","","","","","","","","","","","","","","","","","","","","","","","","","","","","","","","","","","","","","","","","","","","","","","","","","","","","","","","","","","","","","","","","","","",""]
[null,null,null,null,null,null,null,"","","","","","","","","","","","","","","","","","","","","","","","","","","","","","","","","","","","","","","","","","","","","","","","","","","","","","","","","","","","","","","","","","","","","","","","","","","","","","","","","","","","","","","","","","","","","","","","","","","","","","","","","","","","","","","","","","","","","","","","","","","","","","","","","","","","","","","","","","","","","","","","","","","","","","","","","","","","","","","","","","","","","","","","","","","","","","","","","","","","","","","","","","","","","","","","","","","","","","","","","","","","","","","","","","","","","","","","","","","","","","","","","","","","","","","","","","","","","","","","","","","","","","","","","","","","","","","","","","","","","","","","","","","","","","","","","","","","","","","","","","","","","","","","","","","","","","","","","","","","","","","","","","","","","","","","","","","","","","","","","","","","","","","","","","","","","","","","","","","","","","","","","","","","","","","","","","","","","","","","","","","","","",""]
[null,null,null,null,null,null,null,"","","","","","","","","","","","","","","","","","","","","","","","","","","","","","","","","","","","","","","","","","","","","","","","","","","","","","","","","","","","","","","","","","","","","","","","","","","","","","","","","","","","","","","","","","","","","","","","","","","","","","","","","","","","","","","","","","","","","","","","","","","","","","","","","","","","","","","","","","","","","","","","","","","","","","","","","","","","","","","","","","","","","","","","","","","","","","","","","","","","","","","","","","","","","","","","","","","","","","","","","","","","","","","","","","","","","","","","","","","","","","","","","","","","","","","","","","","","","","","","","","","","","","","","","","","","","","","","","","","","","","","","","","","","","","","","","","","","","","","","","","","","","","","","","","","","","","","","","","","","","","","","","","","","","","","","","","","","","","","","","","","","","","","","","","","","","","","","","","","","","","","","","","","","","","","","","","","","","","","","","","","","","",""]
[null,null,null,null,null,null,null,"","","","","","","","","","","","","","","","","","","","","","","","","","","","","","","","","","","","","","","","","","","","","","","","","","","","","","","","","","","","","","","","","","","","","","","","","","","","","","","","","","","","","","","","","","","","","","","","","","","","","","","","","","","","","","","","","","","","","","","","","","","","","","","","","","","","","","","","","","","","","","","","","","","","","","","","","","","","","","","","","","","","","","","","","","","","","","","","","","","","","","","","","","","","","","","","","","","","","","","","","","","","","","","","","","","","","","","","","","","","","","","","","","","","","","","","","","","","","","","","","","","","","","","","","","","","","","","","","","","","","","","","","","","","","","","","","","","","","","","","","","","","","","","","","","","","","","","","","","","","","","","","","","","","","","","","","","","","","","","","","","","","","","","","","","","","","","","","","","","","","","","","","","","","","","","","","","","","","","","","","","","","","",""]
[null,null,null,null,null,null,null,"","","","","","","","","","","","","","","","","","","","","","","","","","","","","","","","","","","","","","","","","","","","","","","","","","","","","","","","","","","","","","","","","","","","","","","","","","","","","","","","","","","","","","","","","","","","","","","","","","","","","","","","","","","","","","","","","","","","","","","","","","","","","","","","","","","","","","","","","","","","","","","","","","","","","","","","","","","","","","","","","","","","","","","","","","","","","","","","","","","","","","","","","","","","","","","","","","","","","","","","","","","","","","","","","","","","","","","","","","","","","","","","","","","","","","","","","","","","","","","","","","","","","","","","","","","","","","","","","","","","","","","","","","","","","","","","","","","","","","","","","","","","","","","","","","","","","","","","","","","","","","","","","","","","","","","","","","","","","","","","","","","","","","","","","","","","","","","","","","","","","","","","","","","","","","","","","","","","","","","","","","","","","",""]
[null,null,null,null,null,null,null,"","","","","","","","","","","","","","","","","","","","","","","","","","","","","","","","","","","","","","","","","","","","","","","","","","","","","","","","","","","","","","","","","","","","","","","","","","","","","","","","","","","","","","","","","","","","","","","","","","","","","","","","","","","","","","","","","","","","","","","","","","","","","","","","","","","","","","","","","","","","","","","","","","","","","","","","","","","","","","","","","","","","","","","","","","","","","","","","","","","","","","","","","","","","","","","","","","","","","","","","","","","","","","","","","","","","","","","","","","","","","","","","","","","","","","","","","","","","","","","","","","","","","","","","","","","","","","","","","","","","","","","","","","","","","","","","","","","","","","","","","","","","","","","","","","","","","","","","","","","","","","","","","","","","","","","","","","","","","","","","","","","","","","","","","","","","","","","","","","","","","","","","","","","","","","","","","","","","","","","","","","","","","",""]
[null,null,null,null,null,null,null,"","","","","","","","","","","","","","","","","","","","","","","","","","","","","","","","","","","","","","","","","","","","","","","","","","","","","","","","","","","","","","","","","","","","","","","","","","","","","","","","","","","","","","","","","","","","","","","","","","","","","","","","","","","","","","","","","","","","","","","","","","","","","","","","","","","","","","","","","","","","","","","","","","","","","","","","","","","","","","","","","","","","","","","","","","","","","","","","","","","","","","","","","","","","","","","","","","","","","","","","","","","","","","","","","","","","","","","","","","","","","","","","","","","","","","","","","","","","","","","","","","","","","","","","","","","","","","","","","","","","","","","","","","","","","","","","","","","","","","","","","","","","","","","","","","","","","","","","","","","","","","","","","","","","","","","","","","","","","","","","","","","","","","","","","","","","","","","","","","","","","","","","","","","","","","","","","","","","","","","","","","","","","",""]
[null,null,null,null,null,null,null,"","","","","","","","","","","","","","","","","","","","","","","","","","","","","","","","","","","","","","","","","","","","","","","","","","","","","","","","","","","","","","","","","","","","","","","","","","","","","","","","","","","","","","","","","","","","","","","","","","","","","","","","","","","","","","","","","","","","","","","","","","","","","","","","","","","","","","","","","","","","","","","","","","","","","","","","","","","","","","","","","","","","","","","","","","","","","","","","","","","","","","","","","","","","","","","","","","","","","","","","","","","","","","","","","","","","","","","","","","","","","","","","","","","","","","","","","","","","","","","","","","","","","","","","","","","","","","","","","","","","","","","","","","","","","","","","","","","","","","","","","","","","","","","","","","","","","","","","","","","","","","","","","","","","","","","","","","","","","","","","","","","","","","","","","","","","","","","","","","","","","","","","","","","","","","","","","","","","","","","","","","","","","",""]
[null,null,null,null,null,null,null,{"$f":"IF(AND($H$1>=B67,$H$1<=C67),1,\"\")","v":""},{"$f":"IF(AND($I$1>=B67,$I$1<=C67),1,\"\")","v":""},{"$f":"IF(AND($J$1>=B67,$J$1<=C67),1,\"\")","v":""},{"$f":"IF(AND($K$1>=B67,$K$1<=C67),1,\"\")","v":""},{"$f":"IF(AND($L$1>=B67,$L$1<=C67),1,\"\")","v":""},{"$f":"IF(AND($M$1>=B67,$M$1<=C67),1,\"\")","v":""},{"$f":"IF(AND($N$1>=B67,$N$1<=C67),1,\"\")","v":""},{"$f":"IF(AND($O$1>=B67,$O$1<=C67),1,\"\")","v":""},{"$f":"IF(AND($P$1>=B67,$P$1<=C67),1,\"\")","v":""},{"$f":"IF(AND($Q$1>=B67,$Q$1<=C67),1,\"\")","v":""},{"$f":"IF(AND($R$1>=B67,$R$1<=C67),1,\"\")","v":""},{"$f":"IF(AND($S$1>=B67,$S$1<=C67),1,\"\")","v":""},{"$f":"IF(AND($T$1>=B67,$T$1<=C67),1,\"\")","v":""},{"$f":"IF(AND($U$1>=B67,$U$1<=C67),1,\"\")","v":""},{"$f":"IF(AND($V$1>=B67,$V$1<=C67),1,\"\")","v":""},{"$f":"IF(AND($W$1>=B67,$W$1<=C67),1,\"\")","v":""},{"$f":"IF(AND($X$1>=B67,$X$1<=C67),1,\"\")","v":""},{"$f":"IF(AND($Y$1>=B67,$Y$1<=C67),1,\"\")","v":""},{"$f":"IF(AND($Z$1>=B67,$Z$1<=C67),1,\"\")","v":""},{"$f":"IF(AND($AA$1>=B67,$AA$1<=C67),1,\"\")","v":""},{"$f":"IF(AND($AB$1>=B67,$AB$1<=C67),1,\"\")","v":""},{"$f":"IF(AND($AC$1>=B67,$AC$1<=C67),1,\"\")","v":""},{"$f":"IF(AND($AD$1>=B67,$AD$1<=C67),1,\"\")","v":""},{"$f":"IF(AND($AE$1>=B67,$AE$1<=C67),1,\"\")","v":""},{"$f":"IF(AND($AF$1>=B67,$AF$1<=C67),1,\"\")","v":""},{"$f":"IF(AND($AG$1>=B67,$AG$1<=C67),1,\"\")","v":""},{"$f":"IF(AND($AH$1>=B67,$AH$1<=C67),1,\"\")","v":""},{"$f":"IF(AND($AI$1>=B67,$AI$1<=C67),1,\"\")","v":""},{"$f":"IF(AND($AJ$1>=B67,$AJ$1<=C67),1,\"\")","v":""},{"$f":"IF(AND($AK$1>=B67,$AK$1<=C67),1,\"\")","v":""},{"$f":"IF(AND($AL$1>=B67,$AL$1<=C67),1,\"\")","v":""},{"$f":"IF(AND($AM$1>=B67,$AM$1<=C67),1,\"\")","v":""},{"$f":"IF(AND($AN$1>=B67,$AN$1<=C67),1,\"\")","v":""},{"$f":"IF(AND($AO$1>=B67,$AO$1<=C67),1,\"\")","v":""},{"$f":"IF(AND($AP$1>=B67,$AP$1<=C67),1,\"\")","v":""},{"$f":"IF(AND($AQ$1>=B67,$AQ$1<=C67),1,\"\")","v":""},{"$f":"IF(AND($AR$1>=B67,$AR$1<=C67),1,\"\")","v":""},{"$f":"IF(AND($AS$1>=B67,$AS$1<=C67),1,\"\")","v":""},{"$f":"IF(AND($AT$1>=B67,$AT$1<=C67),1,\"\")","v":""},{"$f":"IF(AND($AU$1>=B67,$AU$1<=C67),1,\"\")","v":""},{"$f":"IF(AND($AV$1>=B67,$AV$1<=C67),1,\"\")","v":""},{"$f":"IF(AND($AW$1>=B67,$AW$1<=C67),1,\"\")","v":""},{"$f":"IF(AND($AX$1>=B67,$AX$1<=C67),1,\"\")","v":""},{"$f":"IF(AND($AY$1>=B67,$AY$1<=C67),1,\"\")","v":""},{"$f":"IF(AND($AZ$1>=B67,$AZ$1<=C67),1,\"\")","v":""},{"$f":"IF(AND($BA$1>=B67,$BA$1<=C67),1,\"\")","v":""},{"$f":"IF(AND($BB$1>=B67,$BB$1<=C67),1,\"\")","v":""},{"$f":"IF(AND($BC$1>=B67,$BC$1<=C67),1,\"\")","v":""},{"$f":"IF(AND($BD$1>=B67,$BD$1<=C67),1,\"\")","v":""},{"$f":"IF(AND($BE$1>=B67,$BE$1<=C67),1,\"\")","v":""},{"$f":"IF(AND($BF$1>=B67,$BF$1<=C67),1,\"\")","v":""},{"$f":"IF(AND($BG$1>=B67,$BG$1<=C67),1,\"\")","v":""},{"$f":"IF(AND($BH$1>=B67,$BH$1<=C67),1,\"\")","v":""},{"$f":"IF(AND($BI$1>=B67,$BI$1<=C67),1,\"\")","v":""},{"$f":"IF(AND($BJ$1>=B67,$BJ$1<=C67),1,\"\")","v":""},{"$f":"IF(AND($BK$1>=B67,$BK$1<=C67),1,\"\")","v":""},{"$f":"IF(AND($BL$1>=B67,$BL$1<=C67),1,\"\")","v":""},{"$f":"IF(AND($BM$1>=B67,$BM$1<=C67),1,\"\")","v":""},{"$f":"IF(AND($BN$1>=B67,$BN$1<=C67),1,\"\")","v":""},{"$f":"IF(AND($BO$1>=B67,$BO$1<=C67),1,\"\")","v":""},{"$f":"IF(AND($BP$1>=B67,$BP$1<=C67),1,\"\")","v":""},{"$f":"IF(AND($BQ$1>=B67,$BQ$1<=C67),1,\"\")","v":""},{"$f":"IF(AND($BR$1>=B67,$BR$1<=C67),1,\"\")","v":""},{"$f":"IF(AND($BS$1>=B67,$BS$1<=C67),1,\"\")","v":""},{"$f":"IF(AND($BT$1>=B67,$BT$1<=C67),1,\"\")","v":""},{"$f":"IF(AND($BU$1>=B67,$BU$1<=C67),1,\"\")","v":""},{"$f":"IF(AND($BV$1>=B67,$BV$1<=C67),1,\"\")","v":""},{"$f":"IF(AND($BW$1>=B67,$BW$1<=C67),1,\"\")","v":""},{"$f":"IF(AND($BX$1>=B67,$BX$1<=C67),1,\"\")","v":""},{"$f":"IF(AND($BY$1>=B67,$BY$1<=C67),1,\"\")","v":""},{"$f":"IF(AND($BZ$1>=B67,$BZ$1<=C67),1,\"\")","v":""},{"$f":"IF(AND($CA$1>=B67,$CA$1<=C67),1,\"\")","v":""},{"$f":"IF(AND($CB$1>=B67,$CB$1<=C67),1,\"\")","v":""},{"$f":"IF(AND($CC$1>=B67,$CC$1<=C67),1,\"\")","v":""},{"$f":"IF(AND($CD$1>=B67,$CD$1<=C67),1,\"\")","v":""},{"$f":"IF(AND($CE$1>=B67,$CE$1<=C67),1,\"\")","v":""},{"$f":"IF(AND($CF$1>=B67,$CF$1<=C67),1,\"\")","v":""},{"$f":"IF(AND($CG$1>=B67,$CG$1<=C67),1,\"\")","v":""},{"$f":"IF(AND($CH$1>=B67,$CH$1<=C67),1,\"\")","v":""},{"$f":"IF(AND($CI$1>=B67,$CI$1<=C67),1,\"\")","v":""},{"$f":"IF(AND($CJ$1>=B67,$CJ$1<=C67),1,\"\")","v":""},{"$f":"IF(AND($CK$1>=B67,$CK$1<=C67),1,\"\")","v":""},{"$f":"IF(AND($CL$1>=B67,$CL$1<=C67),1,\"\")","v":""},{"$f":"IF(AND($CM$1>=B67,$CM$1<=C67),1,\"\")","v":""},{"$f":"IF(AND($CN$1>=B67,$CN$1<=C67),1,\"\")","v":""},{"$f":"IF(AND($CO$1>=B67,$CO$1<=C67),1,\"\")","v":""},{"$f":"IF(AND($CP$1>=B67,$CP$1<=C67),1,\"\")","v":""},{"$f":"IF(AND($CQ$1>=B67,$CQ$1<=C67),1,\"\")","v":""},{"$f":"IF(AND($CR$1>=B67,$CR$1<=C67),1,\"\")","v":""},{"$f":"IF(AND($CS$1>=B67,$CS$1<=C67),1,\"\")","v":""},{"$f":"IF(AND($CT$1>=B67,$CT$1<=C67),1,\"\")","v":""},{"$f":"IF(AND($CU$1>=B67,$CU$1<=C67),1,\"\")","v":""},{"$f":"IF(AND($CV$1>=B67,$CV$1<=C67),1,\"\")","v":""},{"$f":"IF(AND($CW$1>=B67,$CW$1<=C67),1,\"\")","v":""},{"$f":"IF(AND($CX$1>=B67,$CX$1<=C67),1,\"\")","v":""},{"$f":"IF(AND($CY$1>=B67,$CY$1<=C67),1,\"\")","v":""},{"$f":"IF(AND($CZ$1>=B67,$CZ$1<=C67),1,\"\")","v":""},{"$f":"IF(AND($DA$1>=B67,$DA$1<=C67),1,\"\")","v":""},{"$f":"IF(AND($DB$1>=B67,$DB$1<=C67),1,\"\")","v":""},{"$f":"IF(AND($DC$1>=B67,$DC$1<=C67),1,\"\")","v":""},{"$f":"IF(AND($DD$1>=B67,$DD$1<=C67),1,\"\")","v":""},{"$f":"IF(AND($DE$1>=B67,$DE$1<=C67),1,\"\")","v":""},{"$f":"IF(AND($DF$1>=B67,$DF$1<=C67),1,\"\")","v":""},{"$f":"IF(AND($DG$1>=B67,$DG$1<=C67),1,\"\")","v":""},{"$f":"IF(AND($DH$1>=B67,$DH$1<=C67),1,\"\")","v":""},{"$f":"IF(AND($DI$1>=B67,$DI$1<=C67),1,\"\")","v":""},{"$f":"IF(AND($DJ$1>=B67,$DJ$1<=C67),1,\"\")","v":""},{"$f":"IF(AND($DK$1>=B67,$DK$1<=C67),1,\"\")","v":""},{"$f":"IF(AND($DL$1>=B67,$DL$1<=C67),1,\"\")","v":""},{"$f":"IF(AND($DM$1>=B67,$DM$1<=C67),1,\"\")","v":""},{"$f":"IF(AND($DN$1>=B67,$DN$1<=C67),1,\"\")","v":""},{"$f":"IF(AND($DO$1>=B67,$DO$1<=C67),1,\"\")","v":""},{"$f":"IF(AND($DP$1>=B67,$DP$1<=C67),1,\"\")","v":""},{"$f":"IF(AND($DQ$1>=B67,$DQ$1<=C67),1,\"\")","v":""},{"$f":"IF(AND($DR$1>=B67,$DR$1<=C67),1,\"\")","v":""},{"$f":"IF(AND($DS$1>=B67,$DS$1<=C67),1,\"\")","v":""},{"$f":"IF(AND($DT$1>=B67,$DT$1<=C67),1,\"\")","v":""},{"$f":"IF(AND($DU$1>=B67,$DU$1<=C67),1,\"\")","v":""},{"$f":"IF(AND($DV$1>=B67,$DV$1<=C67),1,\"\")","v":""},{"$f":"IF(AND($DW$1>=B67,$DW$1<=C67),1,\"\")","v":""},{"$f":"IF(AND($DX$1>=B67,$DX$1<=C67),1,\"\")","v":""},{"$f":"IF(AND($DY$1>=B67,$DY$1<=C67),1,\"\")","v":""},{"$f":"IF(AND($DZ$1>=B67,$DZ$1<=C67),1,\"\")","v":""},{"$f":"IF(AND($EA$1>=B67,$EA$1<=C67),1,\"\")","v":""},{"$f":"IF(AND($EB$1>=B67,$EB$1<=C67),1,\"\")","v":""},{"$f":"IF(AND($EC$1>=B67,$EC$1<=C67),1,\"\")","v":""},{"$f":"IF(AND($ED$1>=B67,$ED$1<=C67),1,\"\")","v":""},{"$f":"IF(AND($EE$1>=B67,$EE$1<=C67),1,\"\")","v":""},{"$f":"IF(AND($EF$1>=B67,$EF$1<=C67),1,\"\")","v":""},{"$f":"IF(AND($EG$1>=B67,$EG$1<=C67),1,\"\")","v":""},{"$f":"IF(AND($EH$1>=B67,$EH$1<=C67),1,\"\")","v":""},{"$f":"IF(AND($EI$1>=B67,$EI$1<=C67),1,\"\")","v":""},{"$f":"IF(AND($EJ$1>=B67,$EJ$1<=C67),1,\"\")","v":""},{"$f":"IF(AND($EK$1>=B67,$EK$1<=C67),1,\"\")","v":""},{"$f":"IF(AND($EL$1>=B67,$EL$1<=C67),1,\"\")","v":""},{"$f":"IF(AND($EM$1>=B67,$EM$1<=C67),1,\"\")","v":""},{"$f":"IF(AND($EN$1>=B67,$EN$1<=C67),1,\"\")","v":""},{"$f":"IF(AND($EO$1>=B67,$EO$1<=C67),1,\"\")","v":""},{"$f":"IF(AND($EP$1>=B67,$EP$1<=C67),1,\"\")","v":""},{"$f":"IF(AND($EQ$1>=B67,$EQ$1<=C67),1,\"\")","v":""},{"$f":"IF(AND($ER$1>=B67,$ER$1<=C67),1,\"\")","v":""},{"$f":"IF(AND($ES$1>=B67,$ES$1<=C67),1,\"\")","v":""},{"$f":"IF(AND($ET$1>=B67,$ET$1<=C67),1,\"\")","v":""},{"$f":"IF(AND($EU$1>=B67,$EU$1<=C67),1,\"\")","v":""},{"$f":"IF(AND($EV$1>=B67,$EV$1<=C67),1,\"\")","v":""},{"$f":"IF(AND($EW$1>=B67,$EW$1<=C67),1,\"\")","v":""},{"$f":"IF(AND($EX$1>=B67,$EX$1<=C67),1,\"\")","v":""},{"$f":"IF(AND($EY$1>=B67,$EY$1<=C67),1,\"\")","v":""},{"$f":"IF(AND($EZ$1>=B67,$EZ$1<=C67),1,\"\")","v":""},{"$f":"IF(AND($FA$1>=B67,$FA$1<=C67),1,\"\")","v":""},{"$f":"IF(AND($FB$1>=B67,$FB$1<=C67),1,\"\")","v":""},{"$f":"IF(AND($FC$1>=B67,$FC$1<=C67),1,\"\")","v":""},{"$f":"IF(AND($FD$1>=B67,$FD$1<=C67),1,\"\")","v":""},{"$f":"IF(AND($FE$1>=B67,$FE$1<=C67),1,\"\")","v":""},{"$f":"IF(AND($FF$1>=B67,$FF$1<=C67),1,\"\")","v":""},{"$f":"IF(AND($FG$1>=B67,$FG$1<=C67),1,\"\")","v":""},{"$f":"IF(AND($FH$1>=B67,$FH$1<=C67),1,\"\")","v":""},{"$f":"IF(AND($FI$1>=B67,$FI$1<=C67),1,\"\")","v":""},{"$f":"IF(AND($FJ$1>=B67,$FJ$1<=C67),1,\"\")","v":""},{"$f":"IF(AND($FK$1>=B67,$FK$1<=C67),1,\"\")","v":""},{"$f":"IF(AND($FL$1>=B67,$FL$1<=C67),1,\"\")","v":""},{"$f":"IF(AND($FM$1>=B67,$FM$1<=C67),1,\"\")","v":""},{"$f":"IF(AND($FN$1>=B67,$FN$1<=C67),1,\"\")","v":""},{"$f":"IF(AND($FO$1>=B67,$FO$1<=C67),1,\"\")","v":""},{"$f":"IF(AND($FP$1>=B67,$FP$1<=C67),1,\"\")","v":""},{"$f":"IF(AND($FQ$1>=B67,$FQ$1<=C67),1,\"\")","v":""},{"$f":"IF(AND($FR$1>=B67,$FR$1<=C67),1,\"\")","v":""},{"$f":"IF(AND($FS$1>=B67,$FS$1<=C67),1,\"\")","v":""},{"$f":"IF(AND($FT$1>=B67,$FT$1<=C67),1,\"\")","v":""},{"$f":"IF(AND($FU$1>=B67,$FU$1<=C67),1,\"\")","v":""},{"$f":"IF(AND($FV$1>=B67,$FV$1<=C67),1,\"\")","v":""},{"$f":"IF(AND($FW$1>=B67,$FW$1<=C67),1,\"\")","v":""},{"$f":"IF(AND($FX$1>=B67,$FX$1<=C67),1,\"\")","v":""},{"$f":"IF(AND($FY$1>=B67,$FY$1<=C67),1,\"\")","v":""},{"$f":"IF(AND($FZ$1>=B67,$FZ$1<=C67),1,\"\")","v":""},{"$f":"IF(AND($GA$1>=B67,$GA$1<=C67),1,\"\")","v":""},{"$f":"IF(AND($GB$1>=B67,$GB$1<=C67),1,\"\")","v":""},{"$f":"IF(AND($GC$1>=B67,$GC$1<=C67),1,\"\")","v":""},{"$f":"IF(AND($GD$1>=B67,$GD$1<=C67),1,\"\")","v":""},{"$f":"IF(AND($GE$1>=B67,$GE$1<=C67),1,\"\")","v":""},{"$f":"IF(AND($GF$1>=B67,$GF$1<=C67),1,\"\")","v":""},{"$f":"IF(AND($GG$1>=B67,$GG$1<=C67),1,\"\")","v":""},{"$f":"IF(AND($GH$1>=B67,$GH$1<=C67),1,\"\")","v":""},{"$f":"IF(AND($GI$1>=B67,$GI$1<=C67),1,\"\")","v":""},{"$f":"IF(AND($GJ$1>=B67,$GJ$1<=C67),1,\"\")","v":""},{"$f":"IF(AND($GK$1>=B67,$GK$1<=C67),1,\"\")","v":""},{"$f":"IF(AND($GL$1>=B67,$GL$1<=C67),1,\"\")","v":""},{"$f":"IF(AND($GM$1>=B67,$GM$1<=C67),1,\"\")","v":""},{"$f":"IF(AND($GN$1>=B67,$GN$1<=C67),1,\"\")","v":""},{"$f":"IF(AND($GO$1>=B67,$GO$1<=C67),1,\"\")","v":""},{"$f":"IF(AND($GP$1>=B67,$GP$1<=C67),1,\"\")","v":""},{"$f":"IF(AND($GQ$1>=B67,$GQ$1<=C67),1,\"\")","v":""},{"$f":"IF(AND($GR$1>=B67,$GR$1<=C67),1,\"\")","v":""},{"$f":"IF(AND($GS$1>=B67,$GS$1<=C67),1,\"\")","v":""},{"$f":"IF(AND($GT$1>=B67,$GT$1<=C67),1,\"\")","v":""},{"$f":"IF(AND($GU$1>=B67,$GU$1<=C67),1,\"\")","v":""},{"$f":"IF(AND($GV$1>=B67,$GV$1<=C67),1,\"\")","v":""},{"$f":"IF(AND($GW$1>=B67,$GW$1<=C67),1,\"\")","v":""},{"$f":"IF(AND($GX$1>=B67,$GX$1<=C67),1,\"\")","v":""},{"$f":"IF(AND($GY$1>=B67,$GY$1<=C67),1,\"\")","v":""},{"$f":"IF(AND($GZ$1>=B67,$GZ$1<=C67),1,\"\")","v":""},{"$f":"IF(AND($HA$1>=B67,$HA$1<=C67),1,\"\")","v":""},{"$f":"IF(AND($HB$1>=B67,$HB$1<=C67),1,\"\")","v":""},{"$f":"IF(AND($HC$1>=B67,$HC$1<=C67),1,\"\")","v":""},{"$f":"IF(AND($HD$1>=B67,$HD$1<=C67),1,\"\")","v":""},{"$f":"IF(AND($HE$1>=B67,$HE$1<=C67),1,\"\")","v":""},{"$f":"IF(AND($HF$1>=B67,$HF$1<=C67),1,\"\")","v":""},{"$f":"IF(AND($HG$1>=B67,$HG$1<=C67),1,\"\")","v":""},{"$f":"IF(AND($HH$1>=B67,$HH$1<=C67),1,\"\")","v":""},{"$f":"IF(AND($HI$1>=B67,$HI$1<=C67),1,\"\")","v":""},{"$f":"IF(AND($HJ$1>=B67,$HJ$1<=C67),1,\"\")","v":""},{"$f":"IF(AND($HK$1>=B67,$HK$1<=C67),1,\"\")","v":""},{"$f":"IF(AND($HL$1>=B67,$HL$1<=C67),1,\"\")","v":""},{"$f":"IF(AND($HM$1>=B67,$HM$1<=C67),1,\"\")","v":""},{"$f":"IF(AND($HN$1>=B67,$HN$1<=C67),1,\"\")","v":""},{"$f":"IF(AND($HO$1>=B67,$HO$1<=C67),1,\"\")","v":""},{"$f":"IF(AND($HP$1>=B67,$HP$1<=C67),1,\"\")","v":""},{"$f":"IF(AND($HQ$1>=B67,$HQ$1<=C67),1,\"\")","v":""},{"$f":"IF(AND($HR$1>=B67,$HR$1<=C67),1,\"\")","v":""},{"$f":"IF(AND($HS$1>=B67,$HS$1<=C67),1,\"\")","v":""},{"$f":"IF(AND($HT$1>=B67,$HT$1<=C67),1,\"\")","v":""},{"$f":"IF(AND($HU$1>=B67,$HU$1<=C67),1,\"\")","v":""},{"$f":"IF(AND($HV$1>=B67,$HV$1<=C67),1,\"\")","v":""},{"$f":"IF(AND($HW$1>=B67,$HW$1<=C67),1,\"\")","v":""},{"$f":"IF(AND($HX$1>=B67,$HX$1<=C67),1,\"\")","v":""},{"$f":"IF(AND($HY$1>=B67,$HY$1<=C67),1,\"\")","v":""},{"$f":"IF(AND($HZ$1>=B67,$HZ$1<=C67),1,\"\")","v":""},{"$f":"IF(AND($IA$1>=B67,$IA$1<=C67),1,\"\")","v":""},{"$f":"IF(AND($IB$1>=B67,$IB$1<=C67),1,\"\")","v":""},{"$f":"IF(AND($IC$1>=B67,$IC$1<=C67),1,\"\")","v":""},{"$f":"IF(AND($ID$1>=B67,$ID$1<=C67),1,\"\")","v":""},{"$f":"IF(AND($IE$1>=B67,$IE$1<=C67),1,\"\")","v":""},{"$f":"IF(AND($IF$1>=B67,$IF$1<=C67),1,\"\")","v":""},{"$f":"IF(AND($IG$1>=B67,$IG$1<=C67),1,\"\")","v":""},{"$f":"IF(AND($IH$1>=B67,$IH$1<=C67),1,\"\")","v":""},{"$f":"IF(AND($II$1>=B67,$II$1<=C67),1,\"\")","v":""},{"$f":"IF(AND($IJ$1>=B67,$IJ$1<=C67),1,\"\")","v":""},{"$f":"IF(AND($IK$1>=B67,$IK$1<=C67),1,\"\")","v":""},{"$f":"IF(AND($IL$1>=B67,$IL$1<=C67),1,\"\")","v":""},{"$f":"IF(AND($IM$1>=B67,$IM$1<=C67),1,\"\")","v":""},{"$f":"IF(AND($IN$1>=B67,$IN$1<=C67),1,\"\")","v":""},{"$f":"IF(AND($IO$1>=B67,$IO$1<=C67),1,\"\")","v":""},{"$f":"IF(AND($IP$1>=B67,$IP$1<=C67),1,\"\")","v":""},{"$f":"IF(AND($IQ$1>=B67,$IQ$1<=C67),1,\"\")","v":""},{"$f":"IF(AND($IR$1>=B67,$IR$1<=C67),1,\"\")","v":""},{"$f":"IF(AND($IS$1>=B67,$IS$1<=C67),1,\"\")","v":""},{"$f":"IF(AND($IT$1>=B67,$IT$1<=C67),1,\"\")","v":""},{"$f":"IF(AND($IU$1>=B67,$IU$1<=C67),1,\"\")","v":""},{"$f":"IF(AND($IV$1>=B67,$IV$1<=C67),1,\"\")","v":""},{"$f":"IF(AND($IW$1>=B67,$IW$1<=C67),1,\"\")","v":""},{"$f":"IF(AND($IX$1>=B67,$IX$1<=C67),1,\"\")","v":""},{"$f":"IF(AND($IY$1>=B67,$IY$1<=C67),1,\"\")","v":""},{"$f":"IF(AND($IZ$1>=B67,$IZ$1<=C67),1,\"\")","v":""},{"$f":"IF(AND($JA$1>=B67,$JA$1<=C67),1,\"\")","v":""},{"$f":"IF(AND($JB$1>=B67,$JB$1<=C67),1,\"\")","v":""},{"$f":"IF(AND($JC$1>=B67,$JC$1<=C67),1,\"\")","v":""},{"$f":"IF(AND($JD$1>=B67,$JD$1<=C67),1,\"\")","v":""},{"$f":"IF(AND($JE$1>=B67,$JE$1<=C67),1,\"\")","v":""},{"$f":"IF(AND($JF$1>=B67,$JF$1<=C67),1,\"\")","v":""},{"$f":"IF(AND($JG$1>=B67,$JG$1<=C67),1,\"\")","v":""},{"$f":"IF(AND($JH$1>=B67,$JH$1<=C67),1,\"\")","v":""},{"$f":"IF(AND($JI$1>=B67,$JI$1<=C67),1,\"\")","v":""},{"$f":"IF(AND($JJ$1>=B67,$JJ$1<=C67),1,\"\")","v":""},{"$f":"IF(AND($JK$1>=B67,$JK$1<=C67),1,\"\")","v":""},{"$f":"IF(AND($JL$1>=B67,$JL$1<=C67),1,\"\")","v":""},{"$f":"IF(AND($JM$1>=B67,$JM$1<=C67),1,\"\")","v":""},{"$f":"IF(AND($JN$1>=B67,$JN$1<=C67),1,\"\")","v":""},{"$f":"IF(AND($JO$1>=B67,$JO$1<=C67),1,\"\")","v":""},{"$f":"IF(AND($JP$1>=B67,$JP$1<=C67),1,\"\")","v":""},{"$f":"IF(AND($JQ$1>=B67,$JQ$1<=C67),1,\"\")","v":""},{"$f":"IF(AND($JR$1>=B67,$JR$1<=C67),1,\"\")","v":""},{"$f":"IF(AND($JS$1>=B67,$JS$1<=C67),1,\"\")","v":""},{"$f":"IF(AND($JT$1>=B67,$JT$1<=C67),1,\"\")","v":""},{"$f":"IF(AND($JU$1>=B67,$JU$1<=C67),1,\"\")","v":""},{"$f":"IF(AND($JV$1>=B67,$JV$1<=C67),1,\"\")","v":""},{"$f":"IF(AND($JW$1>=B67,$JW$1<=C67),1,\"\")","v":""},{"$f":"IF(AND($JX$1>=B67,$JX$1<=C67),1,\"\")","v":""},{"$f":"IF(AND($JY$1>=B67,$JY$1<=C67),1,\"\")","v":""},{"$f":"IF(AND($JZ$1>=B67,$JZ$1<=C67),1,\"\")","v":""},{"$f":"IF(AND($KA$1>=B67,$KA$1<=C67),1,\"\")","v":""},{"$f":"IF(AND($KB$1>=B67,$KB$1<=C67),1,\"\")","v":""},{"$f":"IF(AND($KC$1>=B67,$KC$1<=C67),1,\"\")","v":""},{"$f":"IF(AND($KD$1>=B67,$KD$1<=C67),1,\"\")","v":""},{"$f":"IF(AND($KE$1>=B67,$KE$1<=C67),1,\"\")","v":""},{"$f":"IF(AND($KF$1>=B67,$KF$1<=C67),1,\"\")","v":""},{"$f":"IF(AND($KG$1>=B67,$KG$1<=C67),1,\"\")","v":""},{"$f":"IF(AND($KH$1>=B67,$KH$1<=C67),1,\"\")","v":""},{"$f":"IF(AND($KI$1>=B67,$KI$1<=C67),1,\"\")","v":""},{"$f":"IF(AND($KJ$1>=B67,$KJ$1<=C67),1,\"\")","v":""},{"$f":"IF(AND($KK$1>=B67,$KK$1<=C67),1,\"\")","v":""},{"$f":"IF(AND($KL$1>=B67,$KL$1<=C67),1,\"\")","v":""},{"$f":"IF(AND($KM$1>=B67,$KM$1<=C67),1,\"\")","v":""},{"$f":"IF(AND($KN$1>=B67,$KN$1<=C67),1,\"\")","v":""},{"$f":"IF(AND($KO$1>=B67,$KO$1<=C67),1,\"\")","v":""},{"$f":"IF(AND($KP$1>=B67,$KP$1<=C67),1,\"\")","v":""},{"$f":"IF(AND($KQ$1>=B67,$KQ$1<=C67),1,\"\")","v":""},{"$f":"IF(AND($KR$1>=B67,$KR$1<=C67),1,\"\")","v":""},{"$f":"IF(AND($KS$1>=B67,$KS$1<=C67),1,\"\")","v":""},{"$f":"IF(AND($KT$1>=B67,$KT$1<=C67),1,\"\")","v":""},{"$f":"IF(AND($KU$1>=B67,$KU$1<=C67),1,\"\")","v":""},{"$f":"IF(AND($KV$1>=B67,$KV$1<=C67),1,\"\")","v":""},{"$f":"IF(AND($KW$1>=B67,$KW$1<=C67),1,\"\")","v":""},{"$f":"IF(AND($KX$1>=B67,$KX$1<=C67),1,\"\")","v":""},{"$f":"IF(AND($KY$1>=B67,$KY$1<=C67),1,\"\")","v":""},{"$f":"IF(AND($KZ$1>=B67,$KZ$1<=C67),1,\"\")","v":""},{"$f":"IF(AND($LA$1>=B67,$LA$1<=C67),1,\"\")","v":""},{"$f":"IF(AND($LB$1>=B67,$LB$1<=C67),1,\"\")","v":""},{"$f":"IF(AND($LC$1>=B67,$LC$1<=C67),1,\"\")","v":""},{"$f":"IF(AND($LD$1>=B67,$LD$1<=C67),1,\"\")","v":""},{"$f":"IF(AND($LE$1>=B67,$LE$1<=C67),1,\"\")","v":""},{"$f":"IF(AND($LF$1>=B67,$LF$1<=C67),1,\"\")","v":""},{"$f":"IF(AND($LG$1>=B67,$LG$1<=C67),1,\"\")","v":""},{"$f":"IF(AND($LH$1>=B67,$LH$1<=C67),1,\"\")","v":""},{"$f":"IF(AND($LI$1>=B67,$LI$1<=C67),1,\"\")","v":""},{"$f":"IF(AND($LJ$1>=B67,$LJ$1<=C67),1,\"\")","v":""},{"$f":"IF(AND($LK$1>=B67,$LK$1<=C67),1,\"\")","v":""},{"$f":"IF(AND($LL$1>=B67,$LL$1<=C67),1,\"\")","v":""},{"$f":"IF(AND($LM$1>=B67,$LM$1<=C67),1,\"\")","v":""},{"$f":"IF(AND($LN$1>=B67,$LN$1<=C67),1,\"\")","v":""},{"$f":"IF(AND($LO$1>=B67,$LO$1<=C67),1,\"\")","v":""},{"$f":"IF(AND($LP$1>=B67,$LP$1<=C67),1,\"\")","v":""},{"$f":"IF(AND($LQ$1>=B67,$LQ$1<=C67),1,\"\")","v":""},{"$f":"IF(AND($LR$1>=B67,$LR$1<=C67),1,\"\")","v":""},{"$f":"IF(AND($LS$1>=B67,$LS$1<=C67),1,\"\")","v":""},{"$f":"IF(AND($LT$1>=B67,$LT$1<=C67),1,\"\")","v":""},{"$f":"IF(AND($LU$1>=B67,$LU$1<=C67),1,\"\")","v":""},{"$f":"IF(AND($LV$1>=B67,$LV$1<=C67),1,\"\")","v":""},{"$f":"IF(AND($LW$1>=B67,$LW$1<=C67),1,\"\")","v":""},{"$f":"IF(AND($LX$1>=B67,$LX$1<=C67),1,\"\")","v":""},{"$f":"IF(AND($LY$1>=B67,$LY$1<=C67),1,\"\")","v":""},{"$f":"IF(AND($LZ$1>=B67,$LZ$1<=C67),1,\"\")","v":""},{"$f":"IF(AND($MA$1>=B67,$MA$1<=C67),1,\"\")","v":""},{"$f":"IF(AND($MB$1>=B67,$MB$1<=C67),1,\"\")","v":""},{"$f":"IF(AND($MC$1>=B67,$MC$1<=C67),1,\"\")","v":""},{"$f":"IF(AND($MD$1>=B67,$MD$1<=C67),1,\"\")","v":""},{"$f":"IF(AND($ME$1>=B67,$ME$1<=C67),1,\"\")","v":""},{"$f":"IF(AND($MF$1>=B67,$MF$1<=C67),1,\"\")","v":""},{"$f":"IF(AND($MG$1>=B67,$MG$1<=C67),1,\"\")","v":""},{"$f":"IF(AND($MH$1>=B67,$MH$1<=C67),1,\"\")","v":""},{"$f":"IF(AND($MI$1>=B67,$MI$1<=C67),1,\"\")","v":""},{"$f":"IF(AND($MJ$1>=B67,$MJ$1<=C67),1,\"\")","v":""},{"$f":"IF(AND($MK$1>=B67,$MK$1<=C67),1,\"\")","v":""},{"$f":"IF(AND($ML$1>=B67,$ML$1<=C67),1,\"\")","v":""},{"$f":"IF(AND($MM$1>=B67,$MM$1<=C67),1,\"\")","v":""},{"$f":"IF(AND($MN$1>=B67,$MN$1<=C67),1,\"\")","v":""},{"$f":"IF(AND($MO$1>=B67,$MO$1<=C67),1,\"\")","v":""},{"$f":"IF(AND($MP$1>=B67,$MP$1<=C67),1,\"\")","v":""},{"$f":"IF(AND($MQ$1>=B67,$MQ$1<=C67),1,\"\")","v":""},{"$f":"IF(AND($MR$1>=B67,$MR$1<=C67),1,\"\")","v":""},{"$f":"IF(AND($MS$1>=B67,$MS$1<=C67),1,\"\")","v":""},{"$f":"IF(AND($MT$1>=B67,$MT$1<=C67),1,\"\")","v":""},{"$f":"IF(AND($MU$1>=B67,$MU$1<=C67),1,\"\")","v":""},{"$f":"IF(AND($MV$1>=B67,$MV$1<=C67),1,\"\")","v":""},{"$f":"IF(AND($MW$1>=B67,$MW$1<=C67),1,\"\")","v":""},{"$f":"IF(AND($MX$1>=B67,$MX$1<=C67),1,\"\")","v":""},{"$f":"IF(AND($MY$1>=B67,$MY$1<=C67),1,\"\")","v":""},{"$f":"IF(AND($MZ$1>=B67,$MZ$1<=C67),1,\"\")","v":""},{"$f":"IF(AND($NA$1>=B67,$NA$1<=C67),1,\"\")","v":""},{"$f":"IF(AND($NB$1>=B67,$NB$1<=C67),1,\"\")","v":""},{"$f":"IF(AND($NC$1>=B67,$NC$1<=C67),1,\"\")","v":""},{"$f":"IF(AND($ND$1>=B67,$ND$1<=C67),1,\"\")","v":""},{"$f":"IF(AND($NE$1>=B67,$NE$1<=C67),1,\"\")","v":""},{"$f":"IF(AND($NF$1>=B67,$NF$1<=C67),1,\"\")","v":""},{"$f":"IF(AND($NG$1>=B67,$NG$1<=C67),1,\"\")","v":""},{"$f":"IF(AND($NH$1>=B67,$NH$1<=C67),1,\"\")","v":""},{"$f":"IF($NI$1=\"\",\"\",IF(AND($NI$1>=B67,$NI$1<=C67),1,\"\"))","v":""}]
[null,null,null,null,null,null,null,"","","","","","","","","","","","","","","","","","","","","","","","","","","","","","","","","","","","","","","","","","","","","","","","","","","","","","","","","","","","","","","","","","","","","","","","","","","","","","","","","","","","","","","","","","","","","","","","","","","","","","","","","","","","","","","","","","","","","","","","","","","","","","","","","","","","","","","","","","","","","","","","","","","","","","","","","","","","","","","","","","","","","","","","","","","","","","","","","","","","","","","","","","","","","","","","","","","","","","","","","","","","","","","","","","","","","","","","","","","","","","","","","","","","","","","","","","","","","","","","","","","","","","","","","","","","","","","","","","","","","","","","","","","","","","","","","","","","","","","","","","","","","","","","","","","","","","","","","","","","","","","","","","","","","","","","","","","","","","","","","","","","","","","","","","","","","","","","","","","","","","","","","","","","","","","","","","","","","","","","","","","","","",""]
[null,null,null,null,null,null,null,"","","","","","","","","","","","","","","","","","","","","","","","","","","","","","","","","","","","","","","","","","","","","","","","","","","","","","","","","","","","","","","","","","","","","","","","","","","","","","","","","","","","","","","","","","","","","","","","","","","","","","","","","","","","","","","","","","","","","","","","","","","","","","","","","","","","","","","","","","","","","","","","","","","","","","","","","","","","","","","","","","","","","","","","","","","","","","","","","","","","","","","","","","","","","","","","","","","","","","","","","","","","","","","","","","","","","","","","","","","","","","","","","","","","","","","","","","","","","","","","","","","","","","","","","","","","","","","","","","","","","","","","","","","","","","","","","","","","","","","","","","","","","","","","","","","","","","","","","","","","","","","","","","","","","","","","","","","","","","","","","","","","","","","","","","","","","","","","","","","","","","","","","","","","","","","","","","","","","","","","","","","","","",""]
[null,null,null,null,null,null,null,"","","","","","","","","","","","","","","","","","","","","","","","","","","","","","","","","","","","","","","","","","","","","","","","","","","","","","","","","","","","","","","","","","","","","","","","","","","","","","","","","","","","","","","","","","","","","","","","","","","","","","","","","","","","","","","","","","","","","","","","","","","","","","","","","","","","","","","","","","","","","","","","","","","","","","","","","","","","","","","","","","","","","","","","","","","","","","","","","","","","","","","","","","","","","","","","","","","","","","","","","","","","","","","","","","","","","","","","","","","","","","","","","","","","","","","","","","","","","","","","","","","","","","","","","","","","","","","","","","","","","","","","","","","","","","","","","","","","","","","","","","","","","","","","","","","","","","","","","","","","","","","","","","","","","","","","","","","","","","","","","","","","","","","","","","","","","","","","","","","","","","","","","","","","","","","","","","","","","","","","","","","","","",""]
[null,null,null,null,null,null,null,"","","","","","","","","","","","","","","","","","","","","","","","","","","","","","","","","","","","","","","","","","","","","","","","","","","","","","","","","","","","","","","","","","","","","","","","","","","","","","","","","","","","","","","","","","","","","","","","","","","","","","","","","","","","","","","","","","","","","","","","","","","","","","","","","","","","","","","","","","","","","","","","","","","","","","","","","","","","","","","","","","","","","","","","","","","","","","","","","","","","","","","","","","","","","","","","","","","","","","","","","","","","","","","","","","","","","","","","","","","","","","","","","","","","","","","","","","","","","","","","","","","","","","","","","","","","","","","","","","","","","","","","","","","","","","","","","","","","","","","","","","","","","","","","","","","","","","","","","","","","","","","","","","","","","","","","","","","","","","","","","","","","","","","","","","","","","","","","","","","","","","","","","","","","","","","","","","","","","","","","","","","","","",""]
[null,null,null,null,null,null,null,"","","","","","","","","","","","","","","","","","","","","","","","","","","","","","","","","","","","","","","","","","","","","","","","","","","","","","","","","","","","","","","","","","","","","","","","","","","","","","","","","","","","","","","","","","","","","","","","","","","","","","","","","","","","","","","","","","","","","","","","","","","","","","","","","","","","","","","","","","","","","","","","","","","","","","","","","","","","","","","","","","","","","","","","","","","","","","","","","","","","","","","","","","","","","","","","","","","","","","","","","","","","","","","","","","","","","","","","","","","","","","","","","","","","","","","","","","","","","","","","","","","","","","","","","","","","","","","","","","","","","","","","","","","","","","","","","","","","","","","","","","","","","","","","","","","","","","","","","","","","","","","","","","","","","","","","","","","","","","","","","","","","","","","","","","","","","","","","","","","","","","","","","","","","","","","","","","","","","","","","","","","","","",""]
[null,null,null,null,null,null,null,"","","","","","","","","","","","","","","","","","","","","","","","","","","","","","","","","","","","","","","","","","","","","","","","","","","","","","","","","","","","","","","","","","","","","","","","","","","","","","","","","","","","","","","","","","","","","","","","","","","","","","","","","","","","","","","","","","","","","","","","","","","","","","","","","","","","","","","","","","","","","","","","","","","","","","","","","","","","","","","","","","","","","","","","","","","","","","","","","","","","","","","","","","","","","","","","","","","","","","","","","","","","","","","","","","","","","","","","","","","","","","","","","","","","","","","","","","","","","","","","","","","","","","","","","","","","","","","","","","","","","","","","","","","","","","","","","","","","","","","","","","","","","","","","","","","","","","","","","","","","","","","","","","","","","","","","","","","","","","","","","","","","","","","","","","","","","","","","","","","","","","","","","","","","","","","","","","","","","","","","","","","","","",""]
[null,null,null,null,null,null,null,"","","","","","","","","","","","","","","","","","","","","","","","","","","","","","","","","","","","","","","","","","","","","","","","","","","","","","","","","","","","","","","","","","","","","","","","","","","","","","","","","","","","","","","","","","","","","","","","","","","","","","","","","","","","","","","","","","","","","","","","","","","","","","","","","","","","","","","","","","","","","","","","","","","","","","","","","","","","","","","","","","","","","","","","","","","","","","","","","","","","","","","","","","","","","","","","","","","","","","","","","","","","","","","","","","","","","","","","","","","","","","","","","","","","","","","","","","","","","","","","","","","","","","","","","","","","","","","","","","","","","","","","","","","","","","","","","","","","","","","","","","","","","","","","","","","","","","","","","","","","","","","","","","","","","","","","","","","","","","","","","","","","","","","","","","","","","","","","","","","","","","","","","","","","","","","","","","","","","","","","","","","","","",""]
[null,null,null,null,null,null,null,"","","","","","","","","","","","","","","","","","","","","","","","","","","","","","","","","","","","","","","","","","","","","","","","","","","","","","","","","","","","","","","","","","","","","","","","","","","","","","","","","","","","","","","","","","","","","","","","","","","","","","","","","","","","","","","","","","","","","","","","","","","","","","","","","","","","","","","","","","","","","","","","","","","","","","","","","","","","","","","","","","","","","","","","","","","","","","","","","","","","","","","","","","","","","","","","","","","","","","","","","","","","","","","","","","","","","","","","","","","","","","","","","","","","","","","","","","","","","","","","","","","","","","","","","","","","","","","","","","","","","","","","","","","","","","","","","","","","","","","","","","","","","","","","","","","","","","","","","","","","","","","","","","","","","","","","","","","","","","","","","","","","","","","","","","","","","","","","","","","","","","","","","","","","","","","","","","","","","","","","","","","","","",""]
[null,null,null,null,null,null,null,"","","","","","","","","","","","","","","","","","","","","","","","","","","","","","","","","","","","","","","","","","","","","","","","","","","","","","","","","","","","","","","","","","","","","","","","","","","","","","","","","","","","","","","","","","","","","","","","","","","","","","","","","","","","","","","","","","","","","","","","","","","","","","","","","","","","","","","","","","","","","","","","","","","","","","","","","","","","","","","","","","","","","","","","","","","","","","","","","","","","","","","","","","","","","","","","","","","","","","","","","","","","","","","","","","","","","","","","","","","","","","","","","","","","","","","","","","","","","","","","","","","","","","","","","","","","","","","","","","","","","","","","","","","","","","","","","","","","","","","","","","","","","","","","","","","","","","","","","","","","","","","","","","","","","","","","","","","","","","","","","","","","","","","","","","","","","","","","","","","","","","","","","","","","","","","","","","","","","","","","","","","","","",""]
[null,null,null,null,null,null,null,"","","","","","","","","","","","","","","","","","","","","","","","","","","","","","","","","","","","","","","","","","","","","","","","","","","","","","","","","","","","","","","","","","","","","","","","","","","","","","","","","","","","","","","","","","","","","","","","","","","","","","","","","","","","","","","","","","","","","","","","","","","","","","","","","","","","","","","","","","","","","","","","","","","","","","","","","","","","","","","","","","","","","","","","","","","","","","","","","","","","","","","","","","","","","","","","","","","","","","","","","","","","","","","","","","","","","","","","","","","","","","","","","","","","","","","","","","","","","","","","","","","","","","","","","","","","","","","","","","","","","","","","","","","","","","","","","","","","","","","","","","","","","","","","","","","","","","","","","","","","","","","","","","","","","","","","","","","","","","","","","","","","","","","","","","","","","","","","","","","","","","","","","","","","","","","","","","","","","","","","","","","","","",""]
[null,null,null,null,null,null,null,"","","","","","","","","","","","","","","","","","","","","","","","","","","","","","","","","","","","","","","","","","","","","","","","","","","","","","","","","","","","","","","","","","","","","","","","","","","","","","","","","","","","","","","","","","","","","","","","","","","","","","","","","","","","","","","","","","","","","","","","","","","","","","","","","","","","","","","","","","","","","","","","","","","","","","","","","","","","","","","","","","","","","","","","","","","","","","","","","","","","","","","","","","","","","","","","","","","","","","","","","","","","","","","","","","","","","","","","","","","","","","","","","","","","","","","","","","","","","","","","","","","","","","","","","","","","","","","","","","","","","","","","","","","","","","","","","","","","","","","","","","","","","","","","","","","","","","","","","","","","","","","","","","","","","","","","","","","","","","","","","","","","","","","","","","","","","","","","","","","","","","","","","","","","","","","","","","","","","","","","","","","","","",""]
[null,null,null,null,null,null,null,"","","","","","","","","","","","","","","","","","","","","","","","","","","","","","","","","","","","","","","","","","","","","","","","","","","","","","","","","","","","","","","","","","","","","","","","","","","","","","","","","","","","","","","","","","","","","","","","","","","","","","","","","","","","","","","","","","","","","","","","","","","","","","","","","","","","","","","","","","","","","","","","","","","","","","","","","","","","","","","","","","","","","","","","","","","","","","","","","","","","","","","","","","","","","","","","","","","","","","","","","","","","","","","","","","","","","","","","","","","","","","","","","","","","","","","","","","","","","","","","","","","","","","","","","","","","","","","","","","","","","","","","","","","","","","","","","","","","","","","","","","","","","","","","","","","","","","","","","","","","","","","","","","","","","","","","","","","","","","","","","","","","","","","","","","","","","","","","","","","","","","","","","","","","","","","","","","","","","","","","","","","","","",""]
[null,null,null,null,null,null,null,"","","","","","","","","","","","","","","","","","","","","","","","","","","","","","","","","","","","","","","","","","","","","","","","","","","","","","","","","","","","","","","","","","","","","","","","","","","","","","","","","","","","","","","","","","","","","","","","","","","","","","","","","","","","","","","","","","","","","","","","","","","","","","","","","","","","","","","","","","","","","","","","","","","","","","","","","","","","","","","","","","","","","","","","","","","","","","","","","","","","","","","","","","","","","","","","","","","","","","","","","","","","","","","","","","","","","","","","","","","","","","","","","","","","","","","","","","","","","","","","","","","","","","","","","","","","","","","","","","","","","","","","","","","","","","","","","","","","","","","","","","","","","","","","","","","","","","","","","","","","","","","","","","","","","","","","","","","","","","","","","","","","","","","","","","","","","","","","","","","","","","","","","","","","","","","","","","","","","","","","","","","","","",""]
[null,null,null,null,null,null,null,"","","","","","","","","","","","","","","","","","","","","","","","","","","","","","","","","","","","","","","","","","","","","","","","","","","","","","","","","","","","","","","","","","","","","","","","","","","","","","","","","","","","","","","","","","","","","","","","","","","","","","","","","","","","","","","","","","","","","","","","","","","","","","","","","","","","","","","","","","","","","","","","","","","","","","","","","","","","","","","","","","","","","","","","","","","","","","","","","","","","","","","","","","","","","","","","","","","","","","","","","","","","","","","","","","","","","","","","","","","","","","","","","","","","","","","","","","","","","","","","","","","","","","","","","","","","","","","","","","","","","","","","","","","","","","","","","","","","","","","","","","","","","","","","","","","","","","","","","","","","","","","","","","","","","","","","","","","","","","","","","","","","","","","","","","","","","","","","","","","","","","","","","","","","","","","","","","","","","","","","","","","","","",""]
[null,null,null,null,null,null,null,"","","","","","","","","","","","","","","","","","","","","","","","","","","","","","","","","","","","","","","","","","","","","","","","","","","","","","","","","","","","","","","","","","","","","","","","","","","","","","","","","","","","","","","","","","","","","","","","","","","","","","","","","","","","","","","","","","","","","","","","","","","","","","","","","","","","","","","","","","","","","","","","","","","","","","","","","","","","","","","","","","","","","","","","","","","","","","","","","","","","","","","","","","","","","","","","","","","","","","","","","","","","","","","","","","","","","","","","","","","","","","","","","","","","","","","","","","","","","","","","","","","","","","","","","","","","","","","","","","","","","","","","","","","","","","","","","","","","","","","","","","","","","","","","","","","","","","","","","","","","","","","","","","","","","","","","","","","","","","","","","","","","","","","","","","","","","","","","","","","","","","","","","","","","","","","","","","","","","","","","","","","","","",""]
[null,null,null,null,null,null,null,"","","","","","","","","","","","","","","","","","","","","","","","","","","","","","","","","","","","","","","","","","","","","","","","","","","","","","","","","","","","","","","","","","","","","","","","","","","","","","","","","","","","","","","","","","","","","","","","","","","","","","","","","","","","","","","","","","","","","","","","","","","","","","","","","","","","","","","","","","","","","","","","","","","","","","","","","","","","","","","","","","","","","","","","","","","","","","","","","","","","","","","","","","","","","","","","","","","","","","","","","","","","","","","","","","","","","","","","","","","","","","","","","","","","","","","","","","","","","","","","","","","","","","","","","","","","","","","","","","","","","","","","","","","","","","","","","","","","","","","","","","","","","","","","","","","","","","","","","","","","","","","","","","","","","","","","","","","","","","","","","","","","","","","","","","","","","","","","","","","","","","","","","","","","","","","","","","","","","","","","","","","","","",""]
[null,null,null,null,null,null,null,"","","","","","","","","","","","","","","","","","","","","","","","","","","","","","","","","","","","","","","","","","","","","","","","","","","","","","","","","","","","","","","","","","","","","","","","","","","","","","","","","","","","","","","","","","","","","","","","","","","","","","","","","","","","","","","","","","","","","","","","","","","","","","","","","","","","","","","","","","","","","","","","","","","","","","","","","","","","","","","","","","","","","","","","","","","","","","","","","","","","","","","","","","","","","","","","","","","","","","","","","","","","","","","","","","","","","","","","","","","","","","","","","","","","","","","","","","","","","","","","","","","","","","","","","","","","","","","","","","","","","","","","","","","","","","","","","","","","","","","","","","","","","","","","","","","","","","","","","","","","","","","","","","","","","","","","","","","","","","","","","","","","","","","","","","","","","","","","","","","","","","","","","","","","","","","","","","","","","","","","","","","","","",""]
[null,null,null,null,null,null,null,"","","","","","","","","","","","","","","","","","","","","","","","","","","","","","","","","","","","","","","","","","","","","","","","","","","","","","","","","","","","","","","","","","","","","","","","","","","","","","","","","","","","","","","","","","","","","","","","","","","","","","","","","","","","","","","","","","","","","","","","","","","","","","","","","","","","","","","","","","","","","","","","","","","","","","","","","","","","","","","","","","","","","","","","","","","","","","","","","","","","","","","","","","","","","","","","","","","","","","","","","","","","","","","","","","","","","","","","","","","","","","","","","","","","","","","","","","","","","","","","","","","","","","","","","","","","","","","","","","","","","","","","","","","","","","","","","","","","","","","","","","","","","","","","","","","","","","","","","","","","","","","","","","","","","","","","","","","","","","","","","","","","","","","","","","","","","","","","","","","","","","","","","","","","","","","","","","","","","","","","","","","","","",""]
[null,null,null,null,null,null,null,"","","","","","","","","","","","","","","","","","","","","","","","","","","","","","","","","","","","","","","","","","","","","","","","","","","","","","","","","","","","","","","","","","","","","","","","","","","","","","","","","","","","","","","","","","","","","","","","","","","","","","","","","","","","","","","","","","","","","","","","","","","","","","","","","","","","","","","","","","","","","","","","","","","","","","","","","","","","","","","","","","","","","","","","","","","","","","","","","","","","","","","","","","","","","","","","","","","","","","","","","","","","","","","","","","","","","","","","","","","","","","","","","","","","","","","","","","","","","","","","","","","","","","","","","","","","","","","","","","","","","","","","","","","","","","","","","","","","","","","","","","","","","","","","","","","","","","","","","","","","","","","","","","","","","","","","","","","","","","","","","","","","","","","","","","","","","","","","","","","","","","","","","","","","","","","","","","","","","","","","","","","","","",""]
[null,null,null,null,null,null,null,"","","","","","","","","","","","","","","","","","","","","","","","","","","","","","","","","","","","","","","","","","","","","","","","","","","","","","","","","","","","","","","","","","","","","","","","","","","","","","","","","","","","","","","","","","","","","","","","","","","","","","","","","","","","","","","","","","","","","","","","","","","","","","","","","","","","","","","","","","","","","","","","","","","","","","","","","","","","","","","","","","","","","","","","","","","","","","","","","","","","","","","","","","","","","","","","","","","","","","","","","","","","","","","","","","","","","","","","","","","","","","","","","","","","","","","","","","","","","","","","","","","","","","","","","","","","","","","","","","","","","","","","","","","","","","","","","","","","","","","","","","","","","","","","","","","","","","","","","","","","","","","","","","","","","","","","","","","","","","","","","","","","","","","","","","","","","","","","","","","","","","","","","","","","","","","","","","","","","","","","","","","","","",""]
[null,null,null,null,null,null,null,"","","","","","","","","","","","","","","","","","","","","","","","","","","","","","","","","","","","","","","","","","","","","","","","","","","","","","","","","","","","","","","","","","","","","","","","","","","","","","","","","","","","","","","","","","","","","","","","","","","","","","","","","","","","","","","","","","","","","","","","","","","","","","","","","","","","","","","","","","","","","","","","","","","","","","","","","","","","","","","","","","","","","","","","","","","","","","","","","","","","","","","","","","","","","","","","","","","","","","","","","","","","","","","","","","","","","","","","","","","","","","","","","","","","","","","","","","","","","","","","","","","","","","","","","","","","","","","","","","","","","","","","","","","","","","","","","","","","","","","","","","","","","","","","","","","","","","","","","","","","","","","","","","","","","","","","","","","","","","","","","","","","","","","","","","","","","","","","","","","","","","","","","","","","","","","","","","","","","","","","","","","","","",""]
[null,null,null,null,null,null,null,"","","","","","","","","","","","","","","","","","","","","","","","","","","","","","","","","","","","","","","","","","","","","","","","","","","","","","","","","","","","","","","","","","","","","","","","","","","","","","","","","","","","","","","","","","","","","","","","","","","","","","","","","","","","","","","","","","","","","","","","","","","","","","","","","","","","","","","","","","","","","","","","","","","","","","","","","","","","","","","","","","","","","","","","","","","","","","","","","","","","","","","","","","","","","","","","","","","","","","","","","","","","","","","","","","","","","","","","","","","","","","","","","","","","","","","","","","","","","","","","","","","","","","","","","","","","","","","","","","","","","","","","","","","","","","","","","","","","","","","","","","","","","","","","","","","","","","","","","","","","","","","","","","","","","","","","","","","","","","","","","","","","","","","","","","","","","","","","","","","","","","","","","","","","","","","","","","","","","","","","","","","","","",""]
[null,null,null,null,null,null,null,"","","","","","","","","","","","","","","","","","","","","","","","","","","","","","","","","","","","","","","","","","","","","","","","","","","","","","","","","","","","","","","","","","","","","","","","","","","","","","","","","","","","","","","","","","","","","","","","","","","","","","","","","","","","","","","","","","","","","","","","","","","","","","","","","","","","","","","","","","","","","","","","","","","","","","","","","","","","","","","","","","","","","","","","","","","","","","","","","","","","","","","","","","","","","","","","","","","","","","","","","","","","","","","","","","","","","","","","","","","","","","","","","","","","","","","","","","","","","","","","","","","","","","","","","","","","","","","","","","","","","","","","","","","","","","","","","","","","","","","","","","","","","","","","","","","","","","","","","","","","","","","","","","","","","","","","","","","","","","","","","","","","","","","","","","","","","","","","","","","","","","","","","","","","","","","","","","","","","","","","","","","","","",""]
[null,null,null,null,null,null,null,"","","","","","","","","","","","","","","","","","","","","","","","","","","","","","","","","","","","","","","","","","","","","","","","","","","","","","","","","","","","","","","","","","","","","","","","","","","","","","","","","","","","","","","","","","","","","","","","","","","","","","","","","","","","","","","","","","","","","","","","","","","","","","","","","","","","","","","","","","","","","","","","","","","","","","","","","","","","","","","","","","","","","","","","","","","","","","","","","","","","","","","","","","","","","","","","","","","","","","","","","","","","","","","","","","","","","","","","","","","","","","","","","","","","","","","","","","","","","","","","","","","","","","","","","","","","","","","","","","","","","","","","","","","","","","","","","","","","","","","","","","","","","","","","","","","","","","","","","","","","","","","","","","","","","","","","","","","","","","","","","","","","","","","","","","","","","","","","","","","","","","","","","","","","","","","","","","","","","","","","","","","","","",""]
[null,null,null,null,null,null,null,"","","","","","","","","","","","","","","","","","","","","","","","","","","","","","","","","","","","","","","","","","","","","","","","","","","","","","","","","","","","","","","","","","","","","","","","","","","","","","","","","","","","","","","","","","","","","","","","","","","","","","","","","","","","","","","","","","","","","","","","","","","","","","","","","","","","","","","","","","","","","","","","","","","","","","","","","","","","","","","","","","","","","","","","","","","","","","","","","","","","","","","","","","","","","","","","","","","","","","","","","","","","","","","","","","","","","","","","","","","","","","","","","","","","","","","","","","","","","","","","","","","","","","","","","","","","","","","","","","","","","","","","","","","","","","","","","","","","","","","","","","","","","","","","","","","","","","","","","","","","","","","","","","","","","","","","","","","","","","","","","","","","","","","","","","","","","","","","","","","","","","","","","","","","","","","","","","","","","","","","","","","","","",""]
[null,null,null,null,null,null,null,"","","","","","","","","","","","","","","","","","","","","","","","","","","","","","","","","","","","","","","","","","","","","","","","","","","","","","","","","","","","","","","","","","","","","","","","","","","","","","","","","","","","","","","","","","","","","","","","","","","","","","","","","","","","","","","","","","","","","","","","","","","","","","","","","","","","","","","","","","","","","","","","","","","","","","","","","","","","","","","","","","","","","","","","","","","","","","","","","","","","","","","","","","","","","","","","","","","","","","","","","","","","","","","","","","","","","","","","","","","","","","","","","","","","","","","","","","","","","","","","","","","","","","","","","","","","","","","","","","","","","","","","","","","","","","","","","","","","","","","","","","","","","","","","","","","","","","","","","","","","","","","","","","","","","","","","","","","","","","","","","","","","","","","","","","","","","","","","","","","","","","","","","","","","","","","","","","","","","","","","","","","","","",""]
[null,null,null,null,null,null,null,"","","","","","","","","","","","","","","","","","","","","","","","","","","","","","","","","","","","","","","","","","","","","","","","","","","","","","","","","","","","","","","","","","","","","","","","","","","","","","","","","","","","","","","","","","","","","","","","","","","","","","","","","","","","","","","","","","","","","","","","","","","","","","","","","","","","","","","","","","","","","","","","","","","","","","","","","","","","","","","","","","","","","","","","","","","","","","","","","","","","","","","","","","","","","","","","","","","","","","","","","","","","","","","","","","","","","","","","","","","","","","","","","","","","","","","","","","","","","","","","","","","","","","","","","","","","","","","","","","","","","","","","","","","","","","","","","","","","","","","","","","","","","","","","","","","","","","","","","","","","","","","","","","","","","","","","","","","","","","","","","","","","","","","","","","","","","","","","","","","","","","","","","","","","","","","","","","","","","","","","","","","","","",""]
[null,null,null,null,null,null,null,"","","","","","","","","","","","","","","","","","","","","","","","","","","","","","","","","","","","","","","","","","","","","","","","","","","","","","","","","","","","","","","","","","","","","","","","","","","","","","","","","","","","","","","","","","","","","","","","","","","","","","","","","","","","","","","","","","","","","","","","","","","","","","","","","","","","","","","","","","","","","","","","","","","","","","","","","","","","","","","","","","","","","","","","","","","","","","","","","","","","","","","","","","","","","","","","","","","","","","","","","","","","","","","","","","","","","","","","","","","","","","","","","","","","","","","","","","","","","","","","","","","","","","","","","","","","","","","","","","","","","","","","","","","","","","","","","","","","","","","","","","","","","","","","","","","","","","","","","","","","","","","","","","","","","","","","","","","","","","","","","","","","","","","","","","","","","","","","","","","","","","","","","","","","","","","","","","","","","","","","","","","","","",""]
[null,null,null,null,null,null,null,"","","","","","","","","","","","","","","","","","","","","","","","","","","","","","","","","","","","","","","","","","","","","","","","","","","","","","","","","","","","","","","","","","","","","","","","","","","","","","","","","","","","","","","","","","","","","","","","","","","","","","","","","","","","","","","","","","","","","","","","","","","","","","","","","","","","","","","","","","","","","","","","","","","","","","","","","","","","","","","","","","","","","","","","","","","","","","","","","","","","","","","","","","","","","","","","","","","","","","","","","","","","","","","","","","","","","","","","","","","","","","","","","","","","","","","","","","","","","","","","","","","","","","","","","","","","","","","","","","","","","","","","","","","","","","","","","","","","","","","","","","","","","","","","","","","","","","","","","","","","","","","","","","","","","","","","","","","","","","","","","","","","","","","","","","","","","","","","","","","","","","","","","","","","","","","","","","","","","","","","","","","","","",""]
[null,null,null,null,null,null,null,"","","","","","","","","","","","","","","","","","","","","","","","","","","","","","","","","","","","","","","","","","","","","","","","","","","","","","","","","","","","","","","","","","","","","","","","","","","","","","","","","","","","","","","","","","","","","","","","","","","","","","","","","","","","","","","","","","","","","","","","","","","","","","","","","","","","","","","","","","","","","","","","","","","","","","","","","","","","","","","","","","","","","","","","","","","","","","","","","","","","","","","","","","","","","","","","","","","","","","","","","","","","","","","","","","","","","","","","","","","","","","","","","","","","","","","","","","","","","","","","","","","","","","","","","","","","","","","","","","","","","","","","","","","","","","","","","","","","","","","","","","","","","","","","","","","","","","","","","","","","","","","","","","","","","","","","","","","","","","","","","","","","","","","","","","","","","","","","","","","","","","","","","","","","","","","","","","","","","","","","","","","","","",""]
[null,null,null,null,null,null,null,"","","","","","","","","","","","","","","","","","","","","","","","","","","","","","","","","","","","","","","","","","","","","","","","","","","","","","","","","","","","","","","","","","","","","","","","","","","","","","","","","","","","","","","","","","","","","","","","","","","","","","","","","","","","","","","","","","","","","","","","","","","","","","","","","","","","","","","","","","","","","","","","","","","","","","","","","","","","","","","","","","","","","","","","","","","","","","","","","","","","","","","","","","","","","","","","","","","","","","","","","","","","","","","","","","","","","","","","","","","","","","","","","","","","","","","","","","","","","","","","","","","","","","","","","","","","","","","","","","","","","","","","","","","","","","","","","","","","","","","","","","","","","","","","","","","","","","","","","","","","","","","","","","","","","","","","","","","","","","","","","","","","","","","","","","","","","","","","","","","","","","","","","","","","","","","","","","","","","","","","","","","","","",""]
[null,null,null,null,null,null,null,"","","","","","","","","","","","","","","","","","","","","","","","","","","","","","","","","","","","","","","","","","","","","","","","","","","","","","","","","","","","","","","","","","","","","","","","","","","","","","","","","","","","","","","","","","","","","","","","","","","","","","","","","","","","","","","","","","","","","","","","","","","","","","","","","","","","","","","","","","","","","","","","","","","","","","","","","","","","","","","","","","","","","","","","","","","","","","","","","","","","","","","","","","","","","","","","","","","","","","","","","","","","","","","","","","","","","","","","","","","","","","","","","","","","","","","","","","","","","","","","","","","","","","","","","","","","","","","","","","","","","","","","","","","","","","","","","","","","","","","","","","","","","","","","","","","","","","","","","","","","","","","","","","","","","","","","","","","","","","","","","","","","","","","","","","","","","","","","","","","","","","","","","","","","","","","","","","","","","","","","","","","","","",""]
[null,null,null,null,null,null,null,"","","","","","","","","","","","","","","","","","","","","","","","","","","","","","","","","","","","","","","","","","","","","","","","","","","","","","","","","","","","","","","","","","","","","","","","","","","","","","","","","","","","","","","","","","","","","","","","","","","","","","","","","","","","","","","","","","","","","","","","","","","","","","","","","","","","","","","","","","","","","","","","","","","","","","","","","","","","","","","","","","","","","","","","","","","","","","","","","","","","","","","","","","","","","","","","","","","","","","","","","","","","","","","","","","","","","","","","","","","","","","","","","","","","","","","","","","","","","","","","","","","","","","","","","","","","","","","","","","","","","","","","","","","","","","","","","","","","","","","","","","","","","","","","","","","","","","","","","","","","","","","","","","","","","","","","","","","","","","","","","","","","","","","","","","","","","","","","","","","","","","","","","","","","","","","","","","","","","","","","","","","","","",""]
[null,null,null,null,"Day worked",null,null,{"$f":"IF(SUM(H2:H100)>0,1,0)","v":0},{"$f":"IF(SUM(I2:I100)>0,1,0)","v":0},{"$f":"IF(SUM(J2:J100)>0,1,0)","v":0},0,0,0,0,0,0,0,0,0,0,0,0,0,0,0,0,0,0,0,0,0,0,0,0,0,0,0,0,0,0,0,0,0,0,0,0,0,0,0,0,0,0,0,0,0,0,0,0,0,0,0,0,0,0,0,0,0,0,0,0,0,0,0,{"$f":"IF(SUM(BV2:BV100)>0,1,0)","v":0},0,0,0,0,0,0,0,0,0,0,0,0,0,0,0,0,0,0,0,0,0,0,0,0,0,0,0,0,0,0,0,0,0,0,0,0,0,0,0,0,0,0,0,0,0,0,0,0,0,0,0,0,0,0,0,0,0,0,0,0,0,0,0,{"$f":"IF(SUM(EH2:EH100)>0,1,0)","v":0},0,0,0,0,0,0,0,0,0,0,0,0,0,0,0,0,0,0,0,0,0,0,0,0,0,0,0,0,0,0,0,0,0,0,0,0,0,0,0,0,0,0,0,0,0,0,0,0,0,0,0,0,0,0,0,0,0,0,0,0,0,0,0,{"$f":"IF(SUM(GT2:GT100)>0,1,0)","v":0},0,0,0,0,0,0,0,0,0,0,0,0,0,0,0,0,0,0,0,0,0,0,0,0,0,0,0,0,0,0,0,0,0,0,0,0,0,0,0,0,0,0,0,0,0,0,0,0,0,0,0,0,0,0,0,0,0,0,0,0,0,0,0,{"$f":"IF(SUM(JF2:JF100)>0,1,0)","v":0},0,0,0,0,0,0,0,0,0,0,0,0,0,0,0,0,0,0,0,0,0,0,0,0,0,0,0,0,0,0,0,0,0,0,0,0,0,0,0,0,0,0,0,0,0,0,0,0,0,0,0,0,0,0,0,0,0,0,0,0,0,0,0,{"$f":"IF(SUM(LR2:LR100)>0,1,0)","v":0},0,0,0,0,0,0,0,0,0,0,0,0,0,0,0,0,0,0,0,0,0,0,0,0,0,0,0,0,0,0,0,0,0,0,0,0,0,0,0,0,0,0,0]
[null,null,null,null,"Overlapping Days",null,null,{"$f":"IF(SUM(H2:H100)>1,1,0)","v":0},{"$f":"IF(SUM(I2:I100)>1,1,0)","v":0},0,0,0,0,0,0,0,0,0,0,0,0,0,0,0,0,0,0,0,0,0,0,0,0,0,0,0,0,0,0,0,0,0,0,0,0,0,0,0,0,0,0,0,0,0,0,0,0,0,0,0,0,0,0,0,0,0,0,0,0,0,0,0,{"$f":"IF(SUM(BU2:BU100)>1,1,0)","v":0},0,0,0,0,0,0,0,0,0,0,0,0,0,0,0,0,0,0,0,0,0,0,0,0,0,0,0,0,0,0,0,0,0,0,0,0,0,0,0,0,0,0,0,0,0,0,0,0,0,0,0,0,0,0,0,0,0,0,0,0,0,0,0,{"$f":"IF(SUM(EG2:EG100)>1,1,0)","v":0},0,0,0,0,0,0,0,0,0,0,0,0,0,0,0,0,0,0,0,0,0,0,0,0,0,0,0,0,0,0,0,0,0,0,0,0,0,0,0,0,0,0,0,0,0,0,0,0,0,0,0,0,0,0,0,0,0,0,0,0,0,0,0,{"$f":"IF(SUM(GS2:GS100)>1,1,0)","v":0},0,0,0,0,0,0,0,0,0,0,0,0,0,0,0,0,0,0,0,0,0,0,0,0,0,0,0,0,0,0,0,0,0,0,0,0,0,0,0,0,0,0,0,0,0,0,0,0,0,0,0,0,0,0,0,0,0,0,0,0,0,0,0,{"$f":"IF(SUM(JE2:JE100)>1,1,0)","v":0},0,0,0,0,0,0,0,0,0,0,0,0,0,0,0,0,0,0,0,0,0,0,0,0,0,0,0,0,0,0,0,0,0,0,0,0,0,0,0,0,0,0,0,0,0,0,0,0,0,0,0,0,0,0,0,0,0,0,0,0,0,0,0,{"$f":"IF(SUM(LQ2:LQ100)>1,1,0)","v":0},0,0,0,0,0,0,0,0,0,0,0,0,0,0,0,0,0,0,0,0,0,0,0,0,0,0,0,0,0,0,0,0,0,0,0,0,0,0,0,0,0,0,0,0]